Workbook

Sheet RESUMEN
A1: TARIFAS SERVICIO DE VIGILANCIA AÑO 2026 01 DE ENERO AL 30 DE JUNIO 2026
P3: 24 Hrs Permanentes Sin Arma | Q3: 4
A4: HORARIO | B4: SMMLV 2026 | C4: BASE A.I.U. | D4: SEGURO DE VIDA | E4: TARIFA BASE MAS SEGURO DE VIDA | F4: AYS | G4: SUBTOTAL | H4: A.I.U. PARA EL IVA | I4: IVA (AIU*19%) | J4: VALOR TOTAL | K4: CANTIDAD PUESTOS | L4: VALOR TOTAL | P4: 24 Hrs Fines De Semana (Sabados, Domingos, Festivos) Sin Arma | Q4: 4
P5: 12 Hrs Diurnas L-V sin Arma | Q5: 1
A6: 24 Hrs Permanentes Sin Arma | B6: 1750905 | C6: 17106342 | D6: 2700 | E6: =C6+D6 -> 17109042 | F6: =E6*8/100 -> 1368723.4 | G6: =E6+F6 -> 18477765 | H6: =G6*10/100 -> 1847776.5 | I6: =H6*19/100 -> 351077.54 | J6: =G6+I6 -> 18828843 | K6: 4 | L6: =J6*K6 -> 75315372 | P6: 12 Hrs Nocturnas L-V Sin Arma | Q6: 4
A7: 24 Hrs Fines De Semana (Sabados, Domingos, Festivos) Sin Arma | B7: 1750905 | C7: 5702114 | D7: 2700 | E7: =C7+D7 -> 5704814 | F7: =E7*8/100 -> 456385.12 | G7: =E7+F7 -> 6161199.1 | H7: =G7*10/100 -> 616119.91 | I7: =H7*19/100 -> 117062.78 | J7: =G7+I7 -> 6278261.9 | K7: 4 | L7: =J7*K7 -> 25113048 | P7: 12 Hrs Nocturnas Permanente Sin Arma | Q7: 9
A8: 12 Hrs Diurnas L-V sin Arma | B8: 512773 | C8: 5009790 | D8: 900 | E8: =C8+D8 -> 5010690 | F8: =E8*8/100 -> 400855.2 | G8: =E8+F8 -> 5411545.2 | H8: =G8*10/100 -> 541154.52 | I8: =H8*19/100 -> 102819.36 | J8: =G8+I8 -> 5514364.6 | K8: 1 | L8: =J8*K8 -> 5514364.6 | P8: Servicio de supérvisión 24 horas permanentes con armas | Q8: 2
A9: 12 Hrs Nocturnas L-V Sin Arma | B9: 654497 | C9: 6394438 | D9: 900 | E9: =C9+D9 -> 6395338 | F9: =E9*8/100 -> 511627.04 | G9: =E9+F9 -> 6906965 | H9: =G9*10/100 -> 690696.5 | I9: =H9*19/100 -> 131232.34 | J9: =G9+I9 -> 7038197.4 | K9: 4 | L9: =J9*K9 -> 28152790 | P9: Total Servicios | Q9: =SUM(Q3:Q8) -> 24
A10: 12 Hrs Nocturnas Permanente Sin Arma | B10: 981746 | C10: 9591657 | D10: 1800 | E10: =C10+D10 -> 9593457 | F10: =E10*8/100 -> 767476.56 | G10: =E10+F10 -> 10360934 | H10: =G10*10/100 -> 1036093.4 | I10: =H10*19/100 -> 196857.74 | J10: =G10+I10 -> 10557791 | K10: 9 | L10: =J10*K10 -> 95020122 | P10: Alarma y monitoreo | Q10: 32
A12: GRAN TOTAL | L12: =SUM(L6:L10) -> 2.2911569e+08
A14: TARIFAS SERVICIO DE VIGILANCIA AÑO 2026 01 DE JULIO AL 14 DE JULIO 2026 | N14: =L12*5 -> 1.1455785e+09
N15: =(I43+L48)*5 -> 9.5341368e+08
A17: HORARIO | B17: SMMLV 2026 | C17: BASE A.I.U. | D17: SEGURO DE VIDA | E17: TARIFA BASE MAS SEGURO DE VIDA | F17: AYS | G17: SUBTOTAL | H17: A.I.U. PARA EL IVA | I17: IVA (AIU*19%) | J17: VALOR TOTAL | K17: CANTIDAD PUESTOS | L17: VALOR TOTAL
A19: 24 Hrs Permanentes Sin Arma | B19: 1750905 | C19: 17246414 | D19: 2700 | E19: =C19+D19 -> 17249114 | F19: =E19*8/100 -> 1379929.1 | G19: =F19+E19 -> 18629043 | H19: =G19*10/100 -> 1862904.3 | I19: =H19*19/100 -> 353951.82 | J19: =G19+I19 -> 18982995 | K19: 4 | L19: =J19*K19 -> 75931980
A20: 24 Hrs Fines De Semana (Sabados, Domingos, Festivos) Sin Arma | B20: 1750905 | C20: 5748805 | D20: 2700 | E20: =C20+D20 -> 5751505 | F20: =E20*8/100 -> 460120.4 | G20: =F20+E20 -> 6211625.4 | H20: =G20*10/100 -> 621162.54 | I20: =H20*19/100 -> 118020.88 | J20: =G20+I20 -> 6329646.3 | K20: 4 | L20: =J20*K20 -> 25318585
A21: 12 Hrs Diurnas L-V sin Arma | B21: 512772.73 | C21: 5050811.4 | D21: 900 | E21: =C21+D21 -> 5051711.4 | F21: =E21*8/100 -> 404136.91 | G21: =F21+E21 -> 5455848.3 | H21: =G21*10/100 -> 545584.83 | I21: =H21*19/100 -> 103661.12 | J21: =G21+I21 -> 5559509.4 | K21: 1 | L21: =J21*K21 -> 5559509.4
A22: 12 Hrs Nocturnas L-V Sin Arma | B22: 654497.27 | C22: 6446798.1 | D22: 900 | E22: =C22+D22 -> 6447698.1 | F22: =E22*8/100 -> 515815.85 | G22: =F22+E22 -> 6963513.9 | H22: =G22*10/100 -> 696351.39 | I22: =H22*19/100 -> 132306.76 | J22: =G22+I22 -> 7095820.7 | K22: 4 | L22: =J22*K22 -> 28383283
A23: 12 Hrs Nocturnas Permanente Sin Arma | B23: 981745.9 | C23: 9670197.1 | D23: 1800 | E23: =C23+D23 -> 9671997.1 | F23: =E23*8/100 -> 773759.77 | G23: =F23+E23 -> 10445757 | H23: =G23*10/100 -> 1044575.7 | I23: =H23*19/100 -> 198469.38 | J23: =G23+I23 -> 10644226 | K23: 9 | L23: =J23*K23 -> 95798037
A25: GRAN TOTAL | L25: =SUM(L19:L23) -> 2.3099139e+08 | N25: =L25/30*14 -> 1.0779598e+08
N26: =(I43+L50)/30*14 -> 89131816
A28: TARIFAS SERVICIO DE VIGILANCIA AÑO 2026 DEL 15 DE JULIO AL 31 DE DICIEMBRE DE 2026
A31: HORARIO | B31: SMMLV 2026 | C31: BASE A.I.U. | D31: SEGURO DE VIDA | E31: TARIFA BASE MAS SEGURO DE VIDA | F31: AYS | G31: SUBTOTAL | H31: A.I.U. PARA EL IVA | I31: IVA (AIU*19%) | J31: VALOR TOTAL | K31: CANTIDAD PUESTOS | L31: VALOR TOTAL
A33: 24 Hrs Permanentes Sin Arma | B33: 1750905 | C33: 17876740 | D33: 2700 | E33: =C33+D33 -> 17879440 | F33: =+E33*8% -> 1430355.2 | G33: =E33+F33 -> 19309795 | H33: =+G33*10% -> 1930979.5 | I33: =H33*19/100 -> 366886.11 | J33: =G33+I33 -> 19676681 | K33: 4 | L33: =J33*K33 -> 78706725
A34: 24 Hrs Fines De Semana (Sabados, Domingos, Festivos) Sin Arma | B34: 1750905 | C34: 5958913 | D34: 2700 | E34: =C34+D34 -> 5961613 | F34: =+E34*8% -> 476929.04 | G34: =E34+F34 -> 6438542 | H34: =+G34*10% -> 643854.2 | I34: =H34*19/100 -> 122332.3 | J34: =G34+I34 -> 6560874.3 | K34: 4 | L34: =J34*K34 -> 26243497
A35: 12 Hrs Diurnas L-V sin Arma | B35: 512772.73 | C35: 5235409.6 | D35: 900 | E35: =C35+D35 -> 5236309.6 | F35: =+E35*8% -> 418904.77 | G35: =E35+F35 -> 5655214.4 | H35: =+G35*10% -> 565521.44 | I35: =H35*19/100 -> 107449.07 | J35: =G35+I35 -> 5762663.4 | K35: 1 | L35: =J35*K35 -> 5762663.4
A36: 12 Hrs Nocturnas Permanente Sin Arma | B36: 981745.9 | C36: 10023626 | D36: 1800 | E36: =C36+D36 -> 10025426 | F36: =+E36*8% -> 802034.05 | G36: =E36+F36 -> 10827460 | H36: =+G36*10% -> 1082746 | I36: =H36*19/100 -> 205721.73 | J36: =G36+I36 -> 11033181 | K36: 9 | L36: =J36*K36 -> 99298633
A37: 12 Hrs Nocturnas De L-V Sin Arma | B37: 675862.8 | C37: 6900559.2 | D37: 900 | E37: =C37+D37 -> 6901459.2 | F37: =+E37*8% -> 552116.73 | G37: =E37+F37 -> 7453575.9 | H37: =+G37*10% -> 745357.59 | I37: =H37*19/100 -> 141617.94 | J37: =G37+I37 -> 7595193.8 | K37: 4 | L37: =J37*K37 -> 30380775
A39: GRAN TOTAL | L39: =SUM(L33:L37) -> 2.4039229e+08 | N39: =L39/30*9 -> 72117688
N40: =(I43+L52)/30*9 -> 57722944
A41: TARIFAS DE SERVICIOS ALARMA Y MONITOREO DEL 01 DE ENERO DE 2026 AL 31 DE DICIEMBRE DE 2026
A42: HORARIO | B42: SERVICIO | C42: Cantidad de sedes | D42: BASE | E42: SUBTOTAL | F42: AIU | G42: IVA | H42: VALOR UNITARIO MENSUAL | I42: VALOR TOTAL 32 SEDES EDUCATIVAS
A43: 24/7 Alarma y monitoreo | B43: Servicio de vigilancia y seguridad electrónica | C43: 32 | D43: 4671482 | E43: 4671482 | F43: =E43*10/100 -> 467148.2 | G43: =F43*19/100 -> 88758.158 | H43: =G43+E43 -> 4760240.2 | I43: =H43*C43 -> 1.5232769e+08
A44: REFUERZO PARA SERVICIO CON MEDIOS TÈCNOLÒGICOS
A45: TARIFAS SERVICIO DE VIGILANCIA AÑO 2026 01 DE ENERO AL 30 DE JUNIO 2026
A46: HORARIO | B46: SMMLV 2026 | C46: BASE A.I.U. | D46: SEGURO DE VIDA | E46: TARIFA BASE MAS SEGURO DE VIDA | F46: AYS | G46: SUBTOTAL | H46: A.I.U. PARA EL IVA | I46: IVA (AIU*19%) | J46: VALOR TOTAL | K46: CANTIDAD PUESTOS | L46: VALOR TOTAL
A48: Supervisores 24 Hrs Permanentes Con Arma | B48: 1750905 | C48: 17106342 | D48: 2700 | E48: =C48+D48 -> 17109042 | F48: =E48*10/100 -> 1710904.2 | G48: =E48+F48 -> 18819946 | H48: =G48*10/100 -> 1881994.6 | I48: =H48*19/100 -> 357578.98 | J48: =G48+I48 -> 19177525 | K48: 2 | L48: =J48*K48 -> 38355050
A49: TARIFAS SERVICIO DE VIGILANCIA AÑO 2026 01 DE JULIO AL 14 DE JULIO 2026
A50: Supervisores 24 Hrs Permanentes Con Arma | B50: 1750905 | C50: 17246414 | D50: 2700 | E50: =C50+D50 -> 17249114 | F50: =E50*10/100 -> 1724911.4 | G50: =F50+E50 -> 18974025 | H50: =G50*10/100 -> 1897402.5 | I50: =H50*19/100 -> 360506.48 | J50: =G50+I50 -> 19334532 | K50: 2 | L50: =J50*K50 -> 38669064
A51: TARIFAS SERVICIO DE VIGILANCIA AÑO 2026 DEL 15 DE JULIO AL 31 DE DICIEMBRE DE 2026
A52: Supervisores 24 Hrs Permanentes Con Arma | B52: 1750905 | C52: 17876740 | D52: 2700 | E52: =C52+D52 -> 17879440 | F52: =+E52*10% -> 1787944 | G52: =E52+F52 -> 19667384 | H52: =+G52*10% -> 1966738.4 | I52: =H52*19/100 -> 373680.3 | J52: =G52+I52 -> 20041064 | K52: 2 | L52: =J52*K52 -> 40082129
...

Sheet DEL01 ENERO AL 30JUNIO2026
A1: TARIFAS DE SERVICIOS DE VIGILANCIA FISICA TARIFA VIGENTE - DEL 01 DE ENERO DE 2026 AL 30 DE JUNIO DE 2026.
A2: SERVICIO DE VIGILANCIA FISICA
A3: NOMBRE DE LA INSTITUCION | B3: SEDE | C3: TURNOS DE VIGILANCIA | D3: Cantidad | E3: COSTO DIRECTO | F3: PRIMA DE SEGURO COLECTI-VO DE VIDA | G3: COSTO DIRECTO +PRIMA | H3: A&S | I3: TOTAL COSTO DIRECTO | J3: AIU | K3: IVA | L3: VALOR UNITARIO MENSUAL
A5: ANDRES ROJAS I.PC | B5: LA GAITANA | C5: 24 horas permanentes (Sin arma) | D5: 1 | E5: 17106342 | F5: =900*3 -> 2700 | G5: =E5+F5 -> 17109042 | H5: =G5*8/100 -> 1368723.4 | I5: =+H5+G5 -> 18477765 | J5: =I5*10/100 -> 1847776.5 | K5: =J5*19/100 -> 351077.54 | L5: =+(K5+I5) -> 18828843
B6: JARDIN PICARDIAS | C6: 12 horas Nocturnas permanentes (Sin arma) | D6: 1 | E6: 9591657 | F6: =900*2 -> 1800 | G6: =E6+F6 -> 9593457 | H6: =G6*8/100 -> 767476.56 | I6: =+H6+G6 -> 10360934 | J6: =I6*10/100 -> 1036093.4 | K6: =J6*19/100 -> 196857.74 | L6: =+(K6+I6) -> 10557791
A7: AGUSTIN CODAZZI | B7: ROSARIO | C7: 12 horas Nocturnas permanentes (Sin arma) | D7: 1 | E7: 9591657 | F7: =900*2 -> 1800 | G7: =E7+F7 -> 9593457 | H7: =G7*8/100 -> 767476.56 | I7: =+H7+G7 -> 10360934 | J7: =I7*10/100 -> 1036093.4 | K7: =J7*19/100 -> 196857.74 | L7: =+(K7+I7) -> 10557791
A8: ANGEL MARIA PAREDES | B8: PRINCIPAL | C8: 12 horas Nocturnas permanentes (Sin arma) | D8: 1 | E8: 9591657 | F8: =900*2 -> 1800 | G8: =E8+F8 -> 9593457 | H8: =G8*8/100 -> 767476.56 | I8: =+H8+G8 -> 10360934 | J8: =I8*10/100 -> 1036093.4 | K8: =J8*19/100 -> 196857.74 | L8: =+(K8+I8) -> 10557791
A9: ATANASIO GIRARDOT | B9: GUILLERMO MONTENEGRO | C9: 12 horas Nocturnas permanentes (Sin arma) | D9: 1 | E9: 9591657 | F9: =900*2 -> 1800 | G9: =E9+F9 -> 9593457 | H9: =G9*8/100 -> 767476.56 | I9: =+H9+G9 -> 10360934 | J9: =I9*10/100 -> 1036093.4 | K9: =J9*19/100 -> 196857.74 | L9: =+(K9+I9) -> 10557791
A10: ENRIQUE OLAYA HERRERA | B10: PRINCIPAL | C10: 12 horas Nocturnas permanentes (Sin arma) | D10: 1 | E10: 9591657 | F10: =900*2 -> 1800 | G10: =E10+F10 -> 9593457 | H10: =G10*8/100 -> 767476.56 | I10: =+H10+G10 -> 10360934 | J10: =I10*10/100 -> 1036093.4 | K10: =J10*19/100 -> 196857.74 | L10: =+(K10+I10) -> 10557791
A11: DEPARTAMENTAL | B11: EFRAIN ROJAS TRUJILLO | C11: 12 horas Nocturnas permanentes (Sin arma) | D11: 1 | E11: 9591657 | F11: =900*2 -> 1800 | G11: =E11+F11 -> 9593457 | H11: =G11*8/100 -> 767476.56 | I11: =+H11+G11 -> 10360934 | J11: =I11*10/100 -> 1036093.4 | K11: =J11*19/100 -> 196857.74 | L11: =+(K11+I11) -> 10557791
A12: EDUARDO SANTOS | B12: ALBERTO ROSERO CONCHA | C12: 12 horas Nocturnas permanentes (Sin arma) | D12: 1 | E12: 9591657 | F12: =900*2 -> 1800 | G12: =E12+F12 -> 9593457 | H12: =G12*8/100 -> 767476.56 | I12: =+H12+G12 -> 10360934 | J12: =I12*10/100 -> 1036093.4 | K12: =J12*19/100 -> 196857.74 | L12: =+(K12+I12) -> 10557791
A13: EL CAGUAN | B13: PRINCIPAL | C13: 12 horas Nocturnas permanentes (Sin arma) | D13: 1 | E13: 9591657 | F13: =900*2 -> 1800 | G13: =E13+F13 -> 9593457 | H13: =G13*8/100 -> 767476.56 | I13: =+H13+G13 -> 10360934 | J13: =I13*10/100 -> 1036093.4 | K13: =J13*19/100 -> 196857.74 | L13: =+(K13+I13) -> 10557791
A14: FORTALECILLAS | B14: PRINCIPAL | C14: 24 horas permanentes (Sin arma) | D14: 1 | E14: 17106342 | F14: =900*3 -> 2700 | G14: =E14+F14 -> 17109042 | H14: =G14*8/100 -> 1368723.4 | I14: =+H14+G14 -> 18477765 | J14: =I14*10/100 -> 1847776.5 | K14: =J14*19/100 -> 351077.54 | L14: =+(K14+I14) -> 18828843
A15: JAIRO MORERA LIZCANO | B15: PANORAMA FUNDACION VIDA | C15: 12 horas Nocturnas permanentes (Sin arma) | D15: 1 | E15: 9591657 | F15: =900*2 -> 1800 | G15: =E15+F15 -> 9593457 | H15: =G15*8/100 -> 767476.56 | I15: =+H15+G15 -> 10360934 | J15: =I15*10/100 -> 1036093.4 | K15: =J15*19/100 -> 196857.74 | L15: =+(K15+I15) -> 10557791
A16: RODRIGO LARA BONILLA | B16: IV CENTENARIO | C16: 24 horas permanentes (Sin arma) | D16: 1 | E16: 17106342 | F16: =900*3 -> 2700 | G16: =E16+F16 -> 17109042 | H16: =G16*8/100 -> 1368723.4 | I16: =+H16+G16 -> 18477765 | J16: =I16*10/100 -> 1847776.5 | K16: =J16*19/100 -> 351077.54 | L16: =+(K16+I16) -> 18828843
A17: PROMOCION SOCIAL | B17: CONTRALORIA | C17: 12 horas Nocturnas de lunes a viernes (Sin arma) | D17: 1 | E17: 6394438 | F17: 900 | G17: =E17+F17 -> 6395338 | H17: =G17*8/100 -> 511627.04 | I17: =+H17+G17 -> 6906965 | J17: =I17*10/100 -> 690696.5 | K17: =J17*19/100 -> 131232.34 | L17: =+(K17+I17) -> 7038197.4
A18: PROMOCION SOCIAL | B18: CONTRALORIA | C18: 24 horas sábados, domingos y festivos (Sin arma) | D18: 1 | E18: 5702114 | F18: =900*3 -> 2700 | G18: =E18+F18 -> 5704814 | H18: =G18*8/100 -> 456385.12 | I18: =+H18+G18 -> 6161199.1 | J18: =I18*10/100 -> 616119.91 | K18: =J18*19/100 -> 117062.78 | L18: =+(K18+I18) -> 6278261.9
A19: TECNICO SUPERIOR | B19: TECNICO SUPERIOR | C19: 12 horas Nocturnas de lunes a viernes (Sin arma) | D19: 1 | E19: 6394438 | F19: 900 | G19: =E19+F19 -> 6395338 | H19: =G19*8/100 -> 511627.04 | I19: =+H19+G19 -> 6906965 | J19: =I19*10/100 -> 690696.5 | K19: =J19*19/100 -> 131232.34 | L19: =+(K19+I19) -> 7038197.4
A20: TECNICO SUPERIOR | B20: TECNICO SUPERIOR | C20: 24 horas sábados, domingos y festivos (Sin arma) | D20: 1 | E20: 5702114 | F20: =900*3 -> 2700 | G20: =E20+F20 -> 5704814 | H20: =G20*8/100 -> 456385.12 | I20: =+H20+G20 -> 6161199.1 | J20: =I20*10/100 -> 616119.91 | K20: =J20*19/100 -> 117062.78 | L20: =+(K20+I20) -> 6278261.9
A21: DEPARTAMENTAL TIERRA DE PROMISIÓN | B21: EL LAGO | C21: 12 horas Nocturnas de lunes a viernes (Sin arma) | D21: 1 | E21: 6394438 | F21: 900 | G21: =E21+F21 -> 6395338 | H21: =G21*8/100 -> 511627.04 | I21: =+H21+G21 -> 6906965 | J21: =I21*10/100 -> 690696.5 | K21: =J21*19/100 -> 131232.34 | L21: =+(K21+I21) -> 7038197.4
A22: DEPARTAMENTAL TIERRA DE PROMISIÓN | B22: EL LAGO | C22: 24 horas sábados, domingos y festivos (Sin arma) | D22: 1 | E22: 5702114 | F22: =900*3 -> 2700 | G22: =E22+F22 -> 5704814 | H22: =G22*8/100 -> 456385.12 | I22: =+H22+G22 -> 6161199.1 | J22: =I22*10/100 -> 616119.91 | K22: =J22*19/100 -> 117062.78 | L22: =+(K22+I22) -> 6278261.9
A23: AGUSTIN CODAZZI | B23: Emaya | C23: 12 horas Nocturnas de lunes a viernes (Sin arma) | D23: 1 | E23: 6394438 | F23: 900 | G23: =E23+F23 -> 6395338 | H23: =G23*8/100 -> 511627.04 | I23: =+H23+G23 -> 6906965 | J23: =I23*10/100 -> 690696.5 | K23: =J23*19/100 -> 131232.34 | L23: =+(K23+I23) -> 7038197.4
A24: AGUSTIN CODAZZI | B24: Emaya | C24: 24 horas sábados, domingos y festivos (Sin arma) | D24: 1 | E24: 5702114 | F24: =900*3 -> 2700 | G24: =E24+F24 -> 5704814 | H24: =G24*8/100 -> 456385.12 | I24: =+H24+G24 -> 6161199.1 | J24: =I24*10/100 -> 616119.91 | K24: =J24*19/100 -> 117062.78 | L24: =+(K24+I24) -> 6278261.9
A25: JAIRO MORERA LIZCANO | B25: PRINCIPAL | C25: 12 horas Diurnas de Lunes a Viernes (Sin arma) | D25: 1 | E25: 5009790 | F25: 900 | G25: =E25+F25 -> 5010690 | H25: =G25*8/100 -> 400855.2 | I25: =+H25+G25 -> 5411545.2 | J25: =I25*10/100 -> 541154.52 | K25: =J25*19/100 -> 102819.36 | L25: =+(K25+I25) -> 5514364.6
A26: INEM JULIAM MOTTA SALAS | B26: CANDIDO LEGUIZAMO | C26: 24 horas permanentes (Sin arma) | D26: 1 | E26: 17106342 | F26: =900*3 -> 2700 | G26: =E26+F26 -> 17109042 | H26: =G26*8/100 -> 1368723.4 | I26: =+H26+G26 -> 18477765 | J26: =I26*10/100 -> 1847776.5 | K26: =J26*19/100 -> 351077.54 | L26: =+(K26+I26) -> 18828843
A27: TOTAL MENSUAL | G27: =SUM(G5:G26) -> 208188579 | H27: =SUM(H5:H26) -> 16655086 | I27: =SUM(I5:I26) -> 2.2484367e+08 | J27: =I27*10/100 -> 22484367 | K27: =J27*19/100 -> 4272029.6 | L27: =+(K27+I27) -> 2.2911569e+08
J28: TOTAL MENSUALIDAD | L28: =SUM(L5:L26) -> 2.2911569e+08
A30: TARIFAS DE SERVICIOS ALARMA Y MONITOREO
A31: NOMBRE DE LA INSTITUCION | B31: SEDE | C31: SERVICIO | D31: Cantidad de sedes | E31: BASE | F31: SUBTOTAL | G31: AIU | H31: IVA | I31: VALOR UNITARIO MENSUAL
A33: GUACIRCO - Jairo Mosquera Moreno | B33: PRINCIPAL | C33: Servicio de vigilancia y seguridad electrónica mediante: 1. Alarma monitoreada. 2. Protección perimetral. 3. Conectividad de internet con fibra óptica (Cámaras de vigilancia 24/7) 4. Reacción 24/7 para realizar rondas preventivas y reacción inmediata según la generación de alarmas. 5. Sistema de disuasión mediante parlantes IP con generación de voz en tiempo real | D33: 1 | E33: 4671482 | F33: =E33 -> 4671482 | G33: =F33*10/100 -> 467148.2 | H33: =G33*19/100 -> 88758.158 | I33: =F33+H33 -> 4760240.2
A34: HUMBERTO TAFUR CHARRY | B34: PALMAS | D34: 1 | E34: 4671482 | F34: =E34 -> 4671482 | G34: =F34*10/100 -> 467148.2 | H34: =G34*19/100 -> 88758.158 | I34: =F34+H34 -> 4760240.2
B35: PALMITAS | D35: 1 | E35: 4671482 | F35: =E35 -> 4671482 | G35: =F35*10/100 -> 467148.2 | H35: =G35*19/100 -> 88758.158 | I35: =F35+H35 -> 4760240.2
A36: INEM JUJIAN MOTTA SALAS | B36: LA GRANJA | D36: 1 | E36: 4671482 | F36: =E36 -> 4671482 | G36: =F36*10/100 -> 467148.2 | H36: =G36*19/100 -> 88758.158 | I36: =F36+H36 -> 4760240.2
A37: JAIRO MORERA LIZCANO | B37: PRINCIPAL | D37: 1 | E37: 4671482 | F37: =E37 -> 4671482 | G37: =F37*10/100 -> 467148.2 | H37: =G37*19/100 -> 88758.158 | I37: =F37+H37 -> 4760240.2
B38: PANORAMA FUNDACION VIDA | D38: 1 | E38: 4671482 | F38: =E38 -> 4671482 | G38: =F38*10/100 -> 467148.2 | H38: =G38*19/100 -> 88758.158 | I38: =F38+H38 -> 4760240.2
A39: JOSE EUSTACIO RIVERA | B39: ELISEO CABRERA | D39: 1 | E39: 4671482 | F39: =E39 -> 4671482 | G39: =F39*10/100 -> 467148.2 | H39: =G39*19/100 -> 88758.158 | I39: =F39+H39 -> 4760240.2
A40: JUAN DE CABRERA | B40: ALFONSO LOPEZ | D40: 1 | E40: 4671482 | F40: =E40 -> 4671482 | G40: =F40*10/100 -> 467148.2 | H40: =G40*19/100 -> 88758.158 | I40: =F40+H40 -> 4760240.2
A41: MARIA CRISTINA ARANGO | B41: LOS PINOS | D41: 1 | E41: 4671482 | F41: =E41 -> 4671482 | G41: =F41*10/100 -> 467148.2 | H41: =G41*19/100 -> 88758.158 | I41: =F41+H41 -> 4760240.2
A42: MISAEL PASTRANA BORRERO | B42: LA RIOJA | D42: 1 | E42: 4671482 | F42: =E42 -> 4671482 | G42: =F42*10/100 -> 467148.2 | H42: =G42*19/100 -> 88758.158 | I42: =F42+H42 -> 4760240.2
A43: OLIVERIO LARA BORRERO | B43: TIMANCO | D43: 1 | E43: 4671482 | F43: =E43 -> 4671482 | G43: =F43*10/100 -> 467148.2 | H43: =G43*19/100 -> 88758.158 | I43: =F43+H43 -> 4760240.2
...

Sheet DEL 01 JULIO AL 14 JULIO
A1: TARIFAS DE SERVICIOS DE VIGILANCIA FISICA TARIFA VIGENTE - DEL 01 DE JULIO DE 2026 AL 14 DE JULIO DE 2026.
A2: SERVICIO DE VIGILANCIA FISICA
A3: NOMBRE DE LA INSTITUCION | B3: SEDE | C3: TURNOS DE VIGILANCIA | D3: Cantidad | E3: COSTO DIRECTO | F3: PRIMA DE SEGURO COLECTI-VO DE VIDA | G3: COSTO DIRECTO +PRIMA | H3: A&S | I3: TOTAL COSTO DIRECTO | J3: AIU | K3: IVA | L3: VALOR UNITARIO MENSUAL
M4: 14 DIAS JULIO 2026
A5: ANDRES ROJAS I.PC | B5: LA GAITANA | C5: 24 horas permanentes (Sin arma) | D5: 1 | E5: 17246414 | F5: =900*3 -> 2700 | G5: =E5+F5 -> 17249114 | H5: =G5*8/100 -> 1379929.1 | I5: =+H5+G5 -> 18629043 | J5: =I5*10/100 -> 1862904.3 | K5: =J5*19/100 -> 353951.82 | L5: =+(K5+I5) -> 18982995 | M5: =L5/30*14 -> 8858731
B6: JARDIN PICARDIAS | C6: 12 horas Nocturnas permanentes (Sin arma) | D6: 1 | E6: 9670197.1 | F6: =900*2 -> 1800 | G6: =E6+F6 -> 9671997.1 | H6: =G6*8/100 -> 773759.77 | I6: =+H6+G6 -> 10445757 | J6: =I6*10/100 -> 1044575.7 | K6: =J6*19/100 -> 198469.38 | L6: =+(K6+I6) -> 10644226 | M6: =L6/30*14 -> 4967305.6
A7: AGUSTIN CODAZZI | B7: ROSARIO | C7: 12 horas Nocturnas permanentes (Sin arma) | D7: 1 | E7: 9670197.1 | F7: =900*2 -> 1800 | G7: =E7+F7 -> 9671997.1 | H7: =G7*8/100 -> 773759.77 | I7: =+H7+G7 -> 10445757 | J7: =I7*10/100 -> 1044575.7 | K7: =J7*19/100 -> 198469.38 | L7: =+(K7+I7) -> 10644226 | M7: =L7/30*14 -> 4967305.6
A8: ANGEL MARIA PAREDES | B8: PRINCIPAL | C8: 12 horas Nocturnas permanentes (Sin arma) | D8: 1 | E8: 9670197.1 | F8: =900*2 -> 1800 | G8: =E8+F8 -> 9671997.1 | H8: =G8*8/100 -> 773759.77 | I8: =+H8+G8 -> 10445757 | J8: =I8*10/100 -> 1044575.7 | K8: =J8*19/100 -> 198469.38 | L8: =+(K8+I8) -> 10644226 | M8: =L8/30*14 -> 4967305.6
A9: ATANASIO GIRARDOT | B9: GUILLERMO MONTENEGRO | C9: 12 horas Nocturnas permanentes (Sin arma) | D9: 1 | E9: 9670197.1 | F9: =900*2 -> 1800 | G9: =E9+F9 -> 9671997.1 | H9: =G9*8/100 -> 773759.77 | I9: =+H9+G9 -> 10445757 | J9: =I9*10/100 -> 1044575.7 | K9: =J9*19/100 -> 198469.38 | L9: =+(K9+I9) -> 10644226 | M9: =L9/30*14 -> 4967305.6
A10: ENRIQUE OLAYA HERRERA | B10: PRINCIPAL | C10: 12 horas Nocturnas permanentes (Sin arma) | D10: 1 | E10: 9670197.1 | F10: =900*2 -> 1800 | G10: =E10+F10 -> 9671997.1 | H10: =G10*8/100 -> 773759.77 | I10: =+H10+G10 -> 10445757 | J10: =I10*10/100 -> 1044575.7 | K10: =J10*19/100 -> 198469.38 | L10: =+(K10+I10) -> 10644226 | M10: =L10/30*14 -> 4967305.6
A11: DEPARTAMENTAL | B11: EFRAIN ROJAS TRUJILLO | C11: 12 horas Nocturnas permanentes (Sin arma) | D11: 1 | E11: 9670197.1 | F11: =900*2 -> 1800 | G11: =E11+F11 -> 9671997.1 | H11: =G11*8/100 -> 773759.77 | I11: =+H11+G11 -> 10445757 | J11: =I11*10/100 -> 1044575.7 | K11: =J11*19/100 -> 198469.38 | L11: =+(K11+I11) -> 10644226 | M11: =L11/30*14 -> 4967305.6
A12: EDUARDO SANTOS | B12: ALBERTO ROSERO CONCHA | C12: 12 horas Nocturnas permanentes (Sin arma) | D12: 1 | E12: 9670197.1 | F12: =900*2 -> 1800 | G12: =E12+F12 -> 9671997.1 | H12: =G12*8/100 -> 773759.77 | I12: =+H12+G12 -> 10445757 | J12: =I12*10/100 -> 1044575.7 | K12: =J12*19/100 -> 198469.38 | L12: =+(K12+I12) -> 10644226 | M12: =L12/30*14 -> 4967305.6
A13: EL CAGUAN | B13: PRINCIPAL | C13: 12 horas Nocturnas permanentes (Sin arma) | D13: 1 | E13: 9670197.1 | F13: =900*2 -> 1800 | G13: =E13+F13 -> 9671997.1 | H13: =G13*8/100 -> 773759.77 | I13: =+H13+G13 -> 10445757 | J13: =I13*10/100 -> 1044575.7 | K13: =J13*19/100 -> 198469.38 | L13: =+(K13+I13) -> 10644226 | M13: =L13/30*14 -> 4967305.6
A14: FORTALECILLAS | B14: PRINCIPAL | C14: 24 horas permanentes (Sin arma) | D14: 1 | E14: 17246414 | F14: =900*3 -> 2700 | G14: =E14+F14 -> 17249114 | H14: =G14*8/100 -> 1379929.1 | I14: =+H14+G14 -> 18629043 | J14: =I14*10/100 -> 1862904.3 | K14: =J14*19/100 -> 353951.82 | L14: =+(K14+I14) -> 18982995 | M14: =L14/30*14 -> 8858731
A15: JAIRO MORERA LIZCANO | B15: PANORAMA FUNDACION VIDA | C15: 12 horas Nocturnas permanentes (Sin arma) | D15: 1 | E15: 9670197.1 | F15: =900*2 -> 1800 | G15: =E15+F15 -> 9671997.1 | H15: =G15*8/100 -> 773759.77 | I15: =+H15+G15 -> 10445757 | J15: =I15*10/100 -> 1044575.7 | K15: =J15*19/100 -> 198469.38 | L15: =+(K15+I15) -> 10644226 | M15: =L15/30*14 -> 4967305.6
A16: RODRIGO LARA BONILLA | B16: IV CENTENARIO | C16: 24 horas permanentes (Sin arma) | D16: 1 | E16: 17246414 | F16: =900*3 -> 2700 | G16: =E16+F16 -> 17249114 | H16: =G16*8/100 -> 1379929.1 | I16: =+H16+G16 -> 18629043 | J16: =I16*10/100 -> 1862904.3 | K16: =J16*19/100 -> 353951.82 | L16: =+(K16+I16) -> 18982995 | M16: =L16/30*14 -> 8858731
A17: PROMOCION SOCIAL | B17: CONTRALORIA | C17: 12 horas Nocturnas de lunes a viernes (Sin arma) | D17: 1 | E17: 6446798.1 | F17: 900 | G17: =E17+F17 -> 6447698.1 | H17: =G17*8/100 -> 515815.85 | I17: =+H17+G17 -> 6963513.9 | J17: =I17*10/100 -> 696351.39 | K17: =J17*19/100 -> 132306.76 | L17: =+(K17+I17) -> 7095820.7 | M17: =L17/30*14 -> 3311383
A18: PROMOCION SOCIAL | B18: CONTRALORIA | C18: 24 horas sábados, domingos y festivos (Sin arma) | D18: 1 | E18: 5748805 | F18: =900*3 -> 2700 | G18: =E18+F18 -> 5751505 | H18: =G18*8/100 -> 460120.4 | I18: =+H18+G18 -> 6211625.4 | J18: =I18*10/100 -> 621162.54 | K18: =J18*19/100 -> 118020.88 | L18: =+(K18+I18) -> 6329646.3 | M18: =L18/30*14 -> 2953834.9
A19: TECNICO SUPERIOR | B19: TECNICO SUPERIOR | C19: 12 horas Nocturnas de lunes a viernes (Sin arma) | D19: 1 | E19: 6446798.1 | F19: 900 | G19: =E19+F19 -> 6447698.1 | H19: =G19*8/100 -> 515815.85 | I19: =+H19+G19 -> 6963513.9 | J19: =I19*10/100 -> 696351.39 | K19: =J19*19/100 -> 132306.76 | L19: =+(K19+I19) -> 7095820.7 | M19: =L19/30*14 -> 3311383
A20: TECNICO SUPERIOR | B20: TECNICO SUPERIOR | C20: 24 horas sábados, domingos y festivos (Sin arma) | D20: 1 | E20: 5748805 | F20: =900*3 -> 2700 | G20: =E20+F20 -> 5751505 | H20: =G20*8/100 -> 460120.4 | I20: =+H20+G20 -> 6211625.4 | J20: =I20*10/100 -> 621162.54 | K20: =J20*19/100 -> 118020.88 | L20: =+(K20+I20) -> 6329646.3 | M20: =L20/30*14 -> 2953834.9
A21: DEPARTAMENTAL TIERRA DE PROMISIÓN | B21: EL LAGO | C21: 12 horas Nocturnas de lunes a viernes (Sin arma) | D21: 1 | E21: 6446798.1 | F21: 900 | G21: =E21+F21 -> 6447698.1 | H21: =G21*8/100 -> 515815.85 | I21: =+H21+G21 -> 6963513.9 | J21: =I21*10/100 -> 696351.39 | K21: =J21*19/100 -> 132306.76 | L21: =+(K21+I21) -> 7095820.7 | M21: =L21/30*14 -> 3311383
A22: DEPARTAMENTAL TIERRA DE PROMISIÓN | B22: EL LAGO | C22: 24 horas sábados, domingos y festivos (Sin arma) | D22: 1 | E22: 5748805 | F22: =900*3 -> 2700 | G22: =E22+F22 -> 5751505 | H22: =G22*8/100 -> 460120.4 | I22: =+H22+G22 -> 6211625.4 | J22: =I22*10/100 -> 621162.54 | K22: =J22*19/100 -> 118020.88 | L22: =+(K22+I22) -> 6329646.3 | M22: =L22/30*14 -> 2953834.9
A23: AGUSTIN CODAZZI | B23: Emaya | C23: 12 horas Nocturnas de lunes a viernes (Sin arma) | D23: 1 | E23: 6446798.1 | F23: 900 | G23: =E23+F23 -> 6447698.1 | H23: =G23*8/100 -> 515815.85 | I23: =+H23+G23 -> 6963513.9 | J23: =I23*10/100 -> 696351.39 | K23: =J23*19/100 -> 132306.76 | L23: =+(K23+I23) -> 7095820.7 | M23: =L23/30*14 -> 3311383
A24: AGUSTIN CODAZZI | B24: Emaya | C24: 24 horas sábados, domingos y festivos (Sin arma) | D24: 1 | E24: 5748805 | F24: =900*3 -> 2700 | G24: =E24+F24 -> 5751505 | H24: =G24*8/100 -> 460120.4 | I24: =+H24+G24 -> 6211625.4 | J24: =I24*10/100 -> 621162.54 | K24: =J24*19/100 -> 118020.88 | L24: =+(K24+I24) -> 6329646.3 | M24: =L24/30*14 -> 2953834.9
A25: JAIRO MORERA LIZCANO | B25: PRINCIPAL | C25: 12 horas Diurnas de Lunes a Viernes (Sin arma) | D25: 1 | E25: 5050811.4 | F25: 900 | G25: =E25+F25 -> 5051711.4 | H25: =G25*8/100 -> 404136.91 | I25: =+H25+G25 -> 5455848.3 | J25: =I25*10/100 -> 545584.83 | K25: =J25*19/100 -> 103661.12 | L25: =+(K25+I25) -> 5559509.4 | M25: =L25/30*14 -> 2594437.7
A26: INEM JULIAM MOTTA SALAS | B26: CANDIDO LEGUIZAMO | C26: 24 horas permanentes (Sin arma) | D26: 1 | E26: 17246414 | F26: =900*3 -> 2700 | G26: =E26+F26 -> 17249114 | H26: =G26*8/100 -> 1379929.1 | I26: =+H26+G26 -> 18629043 | J26: =I26*10/100 -> 1862904.3 | K26: =J26*19/100 -> 353951.82 | L26: =+(K26+I26) -> 18982995 | M26: =L26/30*14 -> 8858731
A27: TOTAL MENSUAL | G27: =SUM(G5:G26) -> 2.0989295e+08 | H27: =SUM(H5:H26) -> 16791436 | I27: =SUM(I5:I26) -> 2.2668439e+08 | J27: =I27*10/100 -> 22668439 | K27: =J27*19/100 -> 4307003.4 | L27: =+(K27+I27) -> 2.3099139e+08
J28: TOTAL MENSUALIDAD | L28: =SUM(L5:L26) -> 2.3099139e+08 | M28: =SUM(M5:M26) -> 1.0779598e+08 | N28: =SUM(N5:N26) -> 0 | O28: =SUM(O5:O26) -> 0 | P28: =SUM(P5:P26) -> 0 | Q28: =SUM(Q5:Q26) -> 0 | R28: =SUM(R5:R26) -> 0
A30: TARIFAS DE SERVICIOS ALARMA Y MONITOREO
A31: NOMBRE DE LA INSTITUCION | B31: SEDE | C31: SERVICIO | D31: Cantidad de sedes | E31: BASE | F31: SUBTOTAL | G31: AIU | H31: IVA | I31: VALOR UNITARIO MENSUAL | M31: 14 DIAS JULIO 2026
A33: GUACIRCO - Jairo Mosquera Moreno | B33: PRINCIPAL | C33: Servicio de vigilancia y seguridad electrónica mediante: 1. Alarma monitoreada. 2. Protección perimetral. 3. Conectividad de internet con fibra óptica (Cámaras de vigilancia 24/7) 4. Reacción 24/7 para realizar rondas preventivas y reacción inmediata según la generación de alarmas. 5. Sistema de disuasión mediante parlantes IP con generación de voz en tiempo real | D33: 1 | E33: 4671482 | F33: =E33 -> 4671482 | G33: =F33*10/100 -> 467148.2 | H33: =G33*19/100 -> 88758.158 | I33: =F33+H33 -> 4760240.2 | M33: =I33/30*14 -> 2221445.4
A34: HUMBERTO TAFUR CHARRY | B34: PALMAS | D34: 1 | E34: 4671482 | F34: =E34 -> 4671482 | G34: =F34*10/100 -> 467148.2 | H34: =G34*19/100 -> 88758.158 | I34: =F34+H34 -> 4760240.2 | M34: =I34/30*14 -> 2221445.4
B35: PALMITAS | D35: 1 | E35: 4671482 | F35: =E35 -> 4671482 | G35: =F35*10/100 -> 467148.2 | H35: =G35*19/100 -> 88758.158 | I35: =F35+H35 -> 4760240.2 | M35: =I35/30*14 -> 2221445.4
A36: INEM JUJIAN MOTTA SALAS | B36: LA GRANJA | D36: 1 | E36: 4671482 | F36: =E36 -> 4671482 | G36: =F36*10/100 -> 467148.2 | H36: =G36*19/100 -> 88758.158 | I36: =F36+H36 -> 4760240.2 | M36: =I36/30*14 -> 2221445.4
A37: JAIRO MORERA LIZCANO | B37: PRINCIPAL | D37: 1 | E37: 4671482 | F37: =E37 -> 4671482 | G37: =F37*10/100 -> 467148.2 | H37: =G37*19/100 -> 88758.158 | I37: =F37+H37 -> 4760240.2 | M37: =I37/30*14 -> 2221445.4
B38: PANORAMA FUNDACION VIDA | D38: 1 | E38: 4671482 | F38: =E38 -> 4671482 | G38: =F38*10/100 -> 467148.2 | H38: =G38*19/100 -> 88758.158 | I38: =F38+H38 -> 4760240.2 | M38: =I38/30*14 -> 2221445.4
A39: JOSE EUSTACIO RIVERA | B39: ELISEO CABRERA | D39: 1 | E39: 4671482 | F39: =E39 -> 4671482 | G39: =F39*10/100 -> 467148.2 | H39: =G39*19/100 -> 88758.158 | I39: =F39+H39 -> 4760240.2 | M39: =I39/30*14 -> 2221445.4
A40: JUAN DE CABRERA | B40: ALFONSO LOPEZ | D40: 1 | E40: 4671482 | F40: =E40 -> 4671482 | G40: =F40*10/100 -> 467148.2 | H40: =G40*19/100 -> 88758.158 | I40: =F40+H40 -> 4760240.2 | M40: =I40/30*14 -> 2221445.4
A41: MARIA CRISTINA ARANGO | B41: LOS PINOS | D41: 1 | E41: 4671482 | F41: =E41 -> 4671482 | G41: =F41*10/100 -> 467148.2 | H41: =G41*19/100 -> 88758.158 | I41: =F41+H41 -> 4760240.2 | M41: =I41/30*14 -> 2221445.4
A42: MISAEL PASTRANA BORRERO | B42: LA RIOJA | D42: 1 | E42: 4671482 | F42: =E42 -> 4671482 | G42: =F42*10/100 -> 467148.2 | H42: =G42*19/100 -> 88758.158 | I42: =F42+H42 -> 4760240.2 | M42: =I42/30*14 -> 2221445.4
...

Sheet DEL 15 JULIO AL 31 DICIEMBRE 26
A1: TARIFAS DE SERVICIOS DE VIGILANCIA FISICA TARIFA VIGENTE - DEL 15 DE JULIO DE 2026 AL 31 DE DICIEMBRE DE 2026.
A2: SERVICIO DE VIGILANCIA FISICA
A3: NOMBRE DE LA INSTITUCION | B3: SEDE | C3: TURNOS DE VIGILANCIA | D3: Cantidad | E3: COSTO DIRECTO | F3: PRIMA DE SEGURO COLECTI-VO DE VIDA | G3: COSTO DIRECTO +PRIMA | H3: A&S | I3: TOTAL COSTO DIRECTO | J3: AIU | K3: IVA | L3: VALOR UNITARIO MENSUAL
A5: ANDRES ROJAS I.PC | B5: LA GAITANA | C5: 24 horas permanentes (Sin arma) | D5: 1 | E5: 17876740 | F5: =900*3 -> 2700 | G5: =E5+F5 -> 17879440 | H5: =G5*8/100 -> 1430355.2 | I5: =+H5+G5 -> 19309795 | J5: =I5*10/100 -> 1930979.5 | K5: =J5*19/100 -> 366886.11 | L5: =+(K5+I5) -> 19676681
B6: JARDIN PICARDIAS | C6: 12 horas Nocturnas permanentes (Sin arma) | D6: 1 | E6: 10023626 | F6: =900*2 -> 1800 | G6: =E6+F6 -> 10025426 | H6: =G6*8/100 -> 802034.05 | I6: =+H6+G6 -> 10827460 | J6: =I6*10/100 -> 1082746 | K6: =J6*19/100 -> 205721.73 | L6: =+(K6+I6) -> 11033181
A7: AGUSTIN CODAZZI | B7: ROSARIO | C7: 12 horas Nocturnas permanentes (Sin arma) | D7: 1 | E7: 10023626 | F7: =900*2 -> 1800 | G7: =E7+F7 -> 10025426 | H7: =G7*8/100 -> 802034.05 | I7: =+H7+G7 -> 10827460 | J7: =I7*10/100 -> 1082746 | K7: =J7*19/100 -> 205721.73 | L7: =+(K7+I7) -> 11033181
A8: ANGEL MARIA PAREDES | B8: PRINCIPAL | C8: 12 horas Nocturnas permanentes (Sin arma) | D8: 1 | E8: 10023626 | F8: =900*2 -> 1800 | G8: =E8+F8 -> 10025426 | H8: =G8*8/100 -> 802034.05 | I8: =+H8+G8 -> 10827460 | J8: =I8*10/100 -> 1082746 | K8: =J8*19/100 -> 205721.73 | L8: =+(K8+I8) -> 11033181
A9: ATANASIO GIRARDOT | B9: GUILLERMO MONTENEGRO | C9: 12 horas Nocturnas permanentes (Sin arma) | D9: 1 | E9: 10023626 | F9: =900*2 -> 1800 | G9: =E9+F9 -> 10025426 | H9: =G9*8/100 -> 802034.05 | I9: =+H9+G9 -> 10827460 | J9: =I9*10/100 -> 1082746 | K9: =J9*19/100 -> 205721.73 | L9: =+(K9+I9) -> 11033181
A10: ENRIQUE OLAYA HERRERA | B10: PRINCIPAL | C10: 12 horas Nocturnas permanentes (Sin arma) | D10: 1 | E10: 10023626 | F10: =900*2 -> 1800 | G10: =E10+F10 -> 10025426 | H10: =G10*8/100 -> 802034.05 | I10: =+H10+G10 -> 10827460 | J10: =I10*10/100 -> 1082746 | K10: =J10*19/100 -> 205721.73 | L10: =+(K10+I10) -> 11033181
A11: DEPARTAMENTAL | B11: EFRAIN ROJAS TRUJILLO | C11: 12 horas Nocturnas permanentes (Sin arma) | D11: 1 | E11: 10023626 | F11: =900*2 -> 1800 | G11: =E11+F11 -> 10025426 | H11: =G11*8/100 -> 802034.05 | I11: =+H11+G11 -> 10827460 | J11: =I11*10/100 -> 1082746 | K11: =J11*19/100 -> 205721.73 | L11: =+(K11+I11) -> 11033181
A12: EDUARDO SANTOS | B12: ALBERTO ROSERO CONCHA | C12: 12 horas Nocturnas permanentes (Sin arma) | D12: 1 | E12: 10023626 | F12: =900*2 -> 1800 | G12: =E12+F12 -> 10025426 | H12: =G12*8/100 -> 802034.05 | I12: =+H12+G12 -> 10827460 | J12: =I12*10/100 -> 1082746 | K12: =J12*19/100 -> 205721.73 | L12: =+(K12+I12) -> 11033181
A13: EL CAGUAN | B13: PRINCIPAL | C13: 12 horas Nocturnas permanentes (Sin arma) | D13: 1 | E13: 10023626 | F13: =900*2 -> 1800 | G13: =E13+F13 -> 10025426 | H13: =G13*8/100 -> 802034.05 | I13: =+H13+G13 -> 10827460 | J13: =I13*10/100 -> 1082746 | K13: =J13*19/100 -> 205721.73 | L13: =+(K13+I13) -> 11033181
A14: FORTALECILLAS | B14: PRINCIPAL | C14: 24 horas permanentes (Sin arma) | D14: 1 | E14: 17876740 | F14: =900*3 -> 2700 | G14: =E14+F14 -> 17879440 | H14: =G14*8/100 -> 1430355.2 | I14: =+H14+G14 -> 19309795 | J14: =I14*10/100 -> 1930979.5 | K14: =J14*19/100 -> 366886.11 | L14: =+(K14+I14) -> 19676681
A15: JAIRO MORERA LIZCANO | B15: PANORAMA FUNDACION VIDA | C15: 12 horas Nocturnas permanentes (Sin arma) | D15: 1 | E15: 10023626 | F15: =900*2 -> 1800 | G15: =E15+F15 -> 10025426 | H15: =G15*8/100 -> 802034.05 | I15: =+H15+G15 -> 10827460 | J15: =I15*10/100 -> 1082746 | K15: =J15*19/100 -> 205721.73 | L15: =+(K15+I15) -> 11033181
A16: RODRIGO LARA BONILLA | B16: IV CENTENARIO | C16: 24 horas permanentes (Sin arma) | D16: 1 | E16: 17876740 | F16: =900*3 -> 2700 | G16: =E16+F16 -> 17879440 | H16: =G16*8/100 -> 1430355.2 | I16: =+H16+G16 -> 19309795 | J16: =I16*10/100 -> 1930979.5 | K16: =J16*19/100 -> 366886.11 | L16: =+(K16+I16) -> 19676681
A17: PROMOCION SOCIAL | B17: CONTRALORIA | C17: 12 horas Nocturnas de lunes a viernes (Sin arma) | D17: 1 | E17: 6900559.2 | F17: 900 | G17: =E17+F17 -> 6901459.2 | H17: =G17*8/100 -> 552116.73 | I17: =+H17+G17 -> 7453575.9 | J17: =I17*10/100 -> 745357.59 | K17: =J17*19/100 -> 141617.94 | L17: =+(K17+I17) -> 7595193.8
A18: PROMOCION SOCIAL | B18: CONTRALORIA | C18: 24 horas sábados, domingos y festivos (Sin arma) | D18: 1 | E18: 5958913 | F18: =900*3 -> 2700 | G18: =E18+F18 -> 5961613 | H18: =G18*8/100 -> 476929.04 | I18: =+H18+G18 -> 6438542 | J18: =I18*10/100 -> 643854.2 | K18: =J18*19/100 -> 122332.3 | L18: =+(K18+I18) -> 6560874.3
A19: TECNICO SUPERIOR | B19: TECNICO SUPERIOR | C19: 12 horas Nocturnas de lunes a viernes (Sin arma) | D19: 1 | E19: 6900559.2 | F19: 900 | G19: =E19+F19 -> 6901459.2 | H19: =G19*8/100 -> 552116.73 | I19: =+H19+G19 -> 7453575.9 | J19: =I19*10/100 -> 745357.59 | K19: =J19*19/100 -> 141617.94 | L19: =+(K19+I19) -> 7595193.8
A20: TECNICO SUPERIOR | B20: TECNICO SUPERIOR | C20: 24 horas sábados, domingos y festivos (Sin arma) | D20: 1 | E20: 5958913 | F20: =900*3 -> 2700 | G20: =E20+F20 -> 5961613 | H20: =G20*8/100 -> 476929.04 | I20: =+H20+G20 -> 6438542 | J20: =I20*10/100 -> 643854.2 | K20: =J20*19/100 -> 122332.3 | L20: =+(K20+I20) -> 6560874.3
A21: DEPARTAMENTAL TIERRA DE PROMISIÓN | B21: EL LAGO | C21: 12 horas Nocturnas de lunes a viernes (Sin arma) | D21: 1 | E21: 6900559.2 | F21: 900 | G21: =E21+F21 -> 6901459.2 | H21: =G21*8/100 -> 552116.73 | I21: =+H21+G21 -> 7453575.9 | J21: =I21*10/100 -> 745357.59 | K21: =J21*19/100 -> 141617.94 | L21: =+(K21+I21) -> 7595193.8
A22: DEPARTAMENTAL TIERRA DE PROMISIÓN | B22: EL LAGO | C22: 24 horas sábados, domingos y festivos (Sin arma) | D22: 1 | E22: 5958913 | F22: =900*3 -> 2700 | G22: =E22+F22 -> 5961613 | H22: =G22*8/100 -> 476929.04 | I22: =+H22+G22 -> 6438542 | J22: =I22*10/100 -> 643854.2 | K22: =J22*19/100 -> 122332.3 | L22: =+(K22+I22) -> 6560874.3
A23: AGUSTIN CODAZZI | B23: Emaya | C23: 12 horas Nocturnas de lunes a viernes (Sin arma) | D23: 1 | E23: 6900559.2 | F23: 900 | G23: =E23+F23 -> 6901459.2 | H23: =G23*8/100 -> 552116.73 | I23: =+H23+G23 -> 7453575.9 | J23: =I23*10/100 -> 745357.59 | K23: =J23*19/100 -> 141617.94 | L23: =+(K23+I23) -> 7595193.8
A24: AGUSTIN CODAZZI | B24: Emaya | C24: 24 horas sábados, domingos y festivos (Sin arma) | D24: 1 | E24: 5958913 | F24: =900*3 -> 2700 | G24: =E24+F24 -> 5961613 | H24: =G24*8/100 -> 476929.04 | I24: =+H24+G24 -> 6438542 | J24: =I24*10/100 -> 643854.2 | K24: =J24*19/100 -> 122332.3 | L24: =+(K24+I24) -> 6560874.3
A25: JAIRO MORERA LIZCANO | B25: PRINCIPAL | C25: 12 horas Diurnas de Lunes a Viernes (Sin arma) | D25: 1 | E25: 5235409.6 | F25: 900 | G25: =E25+F25 -> 5236309.6 | H25: =G25*8/100 -> 418904.77 | I25: =+H25+G25 -> 5655214.4 | J25: =I25*10/100 -> 565521.44 | K25: =J25*19/100 -> 107449.07 | L25: =+(K25+I25) -> 5762663.4
A26: INEM JULIAM MOTTA SALAS | B26: CANDIDO LEGUIZAMO | C26: 24 horas permanentes (Sin arma) | D26: 1 | E26: 17876740 | F26: =900*3 -> 2700 | G26: =E26+F26 -> 17879440 | H26: =G26*8/100 -> 1430355.2 | I26: =+H26+G26 -> 19309795 | J26: =I26*10/100 -> 1930979.5 | K26: =J26*19/100 -> 366886.11 | L26: =+(K26+I26) -> 19676681
A27: TOTAL MENSUAL | G27: =SUM(G5:G26) -> 2.1843519e+08 | H27: =SUM(H5:H26) -> 17474815 | I27: =SUM(I5:I26) -> 2.3591e+08 | J27: =I27*10/100 -> 23591000 | K27: =J27*19/100 -> 4482290.1 | L27: =+(K27+I27) -> 2.4039229e+08
J28: TOTAL MENSUALIDAD | L28: =SUM(L5:L26) -> 2.4039229e+08
A30: TARIFAS DE SERVICIOS ALARMA Y MONITOREO
A31: NOMBRE DE LA INSTITUCION | B31: SEDE | C31: SERVICIO | D31: Cantidad de sedes | E31: BASE | F31: SUBTOTAL | G31: AIU | H31: IVA | I31: VALOR UNITARIO MENSUAL
A33: GUACIRCO - Jairo Mosquera Moreno | B33: PRINCIPAL | C33: Servicio de vigilancia y seguridad electrónica mediante: 1. Alarma monitoreada. 2. Protección perimetral. 3. Conectividad de internet con fibra óptica (Cámaras de vigilancia 24/7) 4. Reacción 24/7 para realizar rondas preventivas y reacción inmediata según la generación de alarmas. 5. Sistema de disuasión mediante parlantes IP con generación de voz en tiempo real | D33: 1 | E33: 4671482 | F33: =E33 -> 4671482 | G33: =F33*10/100 -> 467148.2 | H33: =G33*19/100 -> 88758.158 | I33: =F33+H33 -> 4760240.2
A34: HUMBERTO TAFUR CHARRY | B34: PALMAS | D34: 1 | E34: 4671482 | F34: =E34 -> 4671482 | G34: =F34*10/100 -> 467148.2 | H34: =G34*19/100 -> 88758.158 | I34: =F34+H34 -> 4760240.2
B35: PALMITAS | D35: 1 | E35: 4671482 | F35: =E35 -> 4671482 | G35: =F35*10/100 -> 467148.2 | H35: =G35*19/100 -> 88758.158 | I35: =F35+H35 -> 4760240.2
A36: INEM JUJIAN MOTTA SALAS | B36: LA GRANJA | D36: 1 | E36: 4671482 | F36: =E36 -> 4671482 | G36: =F36*10/100 -> 467148.2 | H36: =G36*19/100 -> 88758.158 | I36: =F36+H36 -> 4760240.2
A37: JAIRO MORERA LIZCANO | B37: PRINCIPAL | D37: 1 | E37: 4671482 | F37: =E37 -> 4671482 | G37: =F37*10/100 -> 467148.2 | H37: =G37*19/100 -> 88758.158 | I37: =F37+H37 -> 4760240.2
B38: PANORAMA FUNDACION VIDA | D38: 1 | E38: 4671482 | F38: =E38 -> 4671482 | G38: =F38*10/100 -> 467148.2 | H38: =G38*19/100 -> 88758.158 | I38: =F38+H38 -> 4760240.2
A39: JOSE EUSTACIO RIVERA | B39: ELISEO CABRERA | D39: 1 | E39: 4671482 | F39: =E39 -> 4671482 | G39: =F39*10/100 -> 467148.2 | H39: =G39*19/100 -> 88758.158 | I39: =F39+H39 -> 4760240.2
A40: JUAN DE CABRERA | B40: ALFONSO LOPEZ | D40: 1 | E40: 4671482 | F40: =E40 -> 4671482 | G40: =F40*10/100 -> 467148.2 | H40: =G40*19/100 -> 88758.158 | I40: =F40+H40 -> 4760240.2
A41: MARIA CRISTINA ARANGO | B41: LOS PINOS | D41: 1 | E41: 4671482 | F41: =E41 -> 4671482 | G41: =F41*10/100 -> 467148.2 | H41: =G41*19/100 -> 88758.158 | I41: =F41+H41 -> 4760240.2
A42: MISAEL PASTRANA BORRERO | B42: LA RIOJA | D42: 1 | E42: 4671482 | F42: =E42 -> 4671482 | G42: =F42*10/100 -> 467148.2 | H42: =G42*19/100 -> 88758.158 | I42: =F42+H42 -> 4760240.2
A43: OLIVERIO LARA BORRERO | B43: TIMANCO | D43: 1 | E43: 4671482 | F43: =E43 -> 4671482 | G43: =F43*10/100 -> 467148.2 | H43: =G43*19/100 -> 88758.158 | I43: =F43+H43 -> 4760240.2
...

Sheet RESUMEN NOTA1
A1: TOTAL DE SERVICIO VIGILANCIA FISICA + VIGILANCIA CON MEDIOS TECNOLÓGICOS (ALARMA Y MONITOREO) MAS REFUERZO SUPERVISORES
A2: TIEMPO | C2: TARIFA DEL 01 DE ENERO DE 2026 AL 30 DE JUNIO DE 2026
A4: VALOR POR MES VIGILANCIA FISICA | C4: ='DEL01 ENERO AL 30JUNIO2026'!L28 -> 2.2911569e+08
A5: VALOR PROMEDIO VIGILANCIA CON MEDIOS TECNOLÓGICOS (ALARMA Y MONITOREO) MAS REFUERZO SUPERVISORES | C5: ='DEL01 ENERO AL 30JUNIO2026'!I66+'DEL01 ENERO AL 30JUNIO2026'!J70 -> 1.9068274e+08
A6: TOTAL VALOR MENSUAL PROMEDIO | C6: =C4+C5 -> 4.1979843e+08
A7: VALOR POR DÍA PROMEDIO CONFORME CORTE JUNIO 2026 | C7: =C8/141 -> 14886469
A8: VALOR TOTAL PRESUPUESTO PARA CINCO (05) MESES CORTE JUNIO 2026 | C8: =(C4+C5)*5 -> 2.0989922e+09
C12: =C8+C11 -> 2.0989922e+09
A13: Carolina Quintero Polanco Profesional Universitario Administrativa y Financiera SEM | C13: Cesar Augusto Coqueco Profesional Universitario Bienes y servicios SEM

Sheet RESUMEN NOTA2
A1: TOTAL DE SERVICIO VIGILANCIA FISICA + VIGILANCIA CON MEDIOS TECNOLÓGICOS (ALARMA Y MONITOREO) MAS REFUERZO SUPERVISORES
A2: TIEMPO | C2: TARIFA DEL 01 DE JULIO DE 2026 AL 14 DE JULIO DE 2026
A4: VALOR PROMEDIO VIGILANCIA FÍSICA CONFORME OTROSI 3 | C4: ='DEL 01 JULIO AL 14 JULIO'!L28 -> 2.3099139e+08
A5: VALOR PROMEDIO VIGILANCIA CON MEDIOS TECNOLÓGICOS (ALARMA Y MONITOREO) MAS REFUERZO SUPERVISORES | C5: ='DEL 01 JULIO AL 14 JULIO'!I66+'DEL 01 JULIO AL 14 JULIO'!J71 -> 1.9099675e+08
A6: TOTAL VALOR MENSUAL | C6: =C4+C5 -> 4.2198814e+08
A7: VALOR POR DÍA APROXIMADO SEGÚN PROYECCION ESTIMADA DEL 01 DEJULIO AL 14 DE JULIO 2026 | C7: =C6/30 -> 14066271
A8: TOTAL 14 DIAS | C8: =C6/30*14 -> 1.969278e+08
A12: Carolina Quintero Polanco Profesional Universitario Administrativa y Financiera SEM | C12: Cesar Augusto Coqueco Profesional Universitario Bienes y servicios SEM

Sheet RESUMEN NOTA3
A1: TOTAL DE SERVICIO VIGILANCIA FISICA + VIGILANCIA CON MEDIOS TECNOLÓGICOS (ALARMA Y MONITOREO) MAS REFUERZO SUPERVISORES
A2: TIEMPO | C2: TARIFA DEL 15 DE JULIO DE 2026 AL 31 DE DICIEMBRE DE 2026
A4: VALOR PROMEDIO VIGILANCIA FÍSICA CONFORME OTROSI 3 | C4: ='DEL 15 JULIO AL 31 DICIEMBRE 26'!L28 -> 2.4039229e+08
A5: VALOR PROMEDIO VIGILANCIA CON MEDIOS TECNOLÓGICOS (ALARMA Y MONITOREO) MAS REFUERZO SUPERVISORES | C5: ='DEL 15 JULIO AL 31 DICIEMBRE 26'!I66+'DEL 15 JULIO AL 31 DICIEMBRE 26'!J71 -> 1.9240981e+08
A6: TOTAL VALOR MENSUAL | C6: =C4+C5 -> 4.3280211e+08
A7: VALOR POR DÍA APROXIMADO SEGÚN PROYECCION ESTIMADA DEL 15 DE JULIO AL 31 DE DICIEMBRE 2026 | C7: =C6/30 -> 14426737
A8: TOTAL 9 DIAS | C8: =C6/30*9 -> 1.2984063e+08
A12: Carolina Quintero Polanco Profesional Universitario Administrativa y Financiera SEM | C12: Cesar Augusto Coqueco Profesional Universitario Bienes y servicios SEM

Sheet GRAN TOTAL
B5: VALOR PRESTACION DEL SERVICIO DE VIGILANCIA 18 SEDES CON VIGILANCIA FISICA Y Y 32 CON VIGILANCIA CON MEDIOS TECNOLOGICOS MAS SUPERVISORES
B6: VALOR PRESTACION DEL SERVICIO DE VIGILANCIA FISICA Y VIGILANCIA CON MEDIOS TENCOLOGICOS (CAMARA Y ALARMA CON MONITOREO) MAS SUPERVISORES | C6: TARIFAS DEL 1 DE ENERO AL 30 DE JUNIO DE 2026 CINCO (05)MESES | D6: TARIFAS DEL 1 AL 14 DE JULIO DE 2026 (14 DIAS) | E6: TARIFAS DEL 15 DE JULIO AL 31 DE DICIEMBRE DE 2026 09 DIAS | F6: GRAN TOTAL CINCO MESES Y VEINTITRES (23) DIAS
B7: IVA | C7: 39137243 | D7: 3671862.8 | E7: 2420973.5 | F7: =C7+D7+E7 -> 45230080
B8: SUBTOITAL | C8: 2.0598549e+09 | D8: 1.9325594e+08 | E8: 1.2741966e+08 | F8: =C8+D8+E8 -> 2.3805305e+09
B9: GRAN TOTAL | C9: =C7+C8 -> 2.0989922e+09 | D9: =D7+D8 -> 1.969278e+08 | E9: =E7+E8 -> 1.2984063e+08 | F9: =C9+D9+E9 -> 2.4257606e+09
B12: PRESUPUESTO ASIGNADO | C12: 2437551020
C13: =C12-F9 -> 11790436

Sheet CANTIDAD SERVI
A1: SERVICIOS | B1: CANTIDAD
A3: 24 Hrs Permanentes Sin Arma | B3: 4
A4: 24 Hrs Fines De Semana (Sabados, Domingos, Festivos) Sin Arma | B4: 4
A5: 12 Hrs Diurnas L-V sin Arma | B5: 1
A6: 12 Hrs Nocturnas L-V Sin Arma | B6: 4
A7: 12 Hrs Nocturnas Permanente Sin Arma | B7: 9
A8: Total Servicios fisicos | B8: 22
A9: Servicio con medios tecnológicos (Alarma y monitoreo) | B9: 32
A10: REFUERZO VIGILANCIA Servicio de supervisión 24 horas permanentes con armas | B10: 2
A11: TOTAL, SERVICIOS CON MEDIOS TECNOLOGICOS MAS SUPERVISORES | B11: 34

Sheet PUESTOS DE TRABAJO
A1: NOMBRE DE LA INSTITUCION | B1: SEDE | C1: TURNOS DE VIGILANCIA | D1: Cantidad
A3: ANDRES ROJAS I.PC | B3: LA GAITANA | C3: 24 horas permanentes (Sin arma) | D3: 1
B4: JARDIN PICARDIAS | C4: 12 horas Nocturnas permanentes (Sin arma) | D4: 1
A5: AGUSTIN CODAZZI | B5: ROSARIO | C5: 12 horas Nocturnas permanentes (Sin arma) | D5: 1
A6: ANGEL MARIA PAREDES | B6: PRINCIPAL | C6: 12 horas Nocturnas permanentes (Sin arma) | D6: 1
A7: ATANASIO GIRARDOT | B7: GUILLERMO MONTENEGRO | C7: 12 horas Nocturnas permanentes (Sin arma) | D7: 1
A8: ENRIQUE OLAYA HERRERA | B8: PRINCIPAL | C8: 12 horas Nocturnas permanentes (Sin arma) | D8: 1
A9: DEPARTAMENTAL | B9: EFRAIN ROJAS TRUJILLO | C9: 12 horas Nocturnas permanentes (Sin arma) | D9: 1
A10: EDUARDO SANTOS | B10: ALBERTO ROSERO CONCHA | C10: 12 horas Nocturnas permanentes (Sin arma) | D10: 1
A11: EL CAGUAN | B11: PRINCIPAL | C11: 12 horas Nocturnas permanentes (Sin arma) | D11: 1
A12: FORTALECILLAS | B12: PRINCIPAL | C12: 24 horas permanentes (Sin arma) | D12: 1
A13: JAIRO MORERA LIZCANO | B13: PANORAMA FUNDACION VIDA | C13: 12 horas Nocturnas permanentes (Sin arma) | D13: 1
A14: RODRIGO LARA BONILLA | B14: IV CENTENARIO | C14: 24 horas permanentes (Sin arma) | D14: 1
A15: PROMOCION SOCIAL | B15: CONTRALORIA | C15: 12 horas Nocturnas de lunes a viernes (Sin arma) | D15: 1
A16: PROMOCION SOCIAL | B16: CONTRALORIA | C16: 24 horas sábados, domingos y festivos (Sin arma) | D16: 1
... A24: INEM JULIAM MOTTA SALAS | B24: CANDIDO LEGUIZAMO | C24: 24 horas permanentes (Sin arma) | D24: 1
A34: NOMBRE DE LA INSTITUCION | B34: SEDE | C34: SERVICIO
A36: GUACIRCO - Jairo Mosquera Moreno | B36: PRINCIPAL | C36: ALARMA Y MONITOREO
A37: HUMBERTO TAFUR CHARRY | B37: PALMAS | C37: ALARMA Y MONITOREO
B38: PALMITAS | C38: ALARMA Y MONITOREO
A39: INEM JUJIAN MOTTA SALAS | B39: LA GRANJA | C39: ALARMA Y MONITOREO
A40: JAIRO MORERA LIZCANO | B40: PRINCIPAL | C40: ALARMA Y MONITOREO
B41: PANORAMA FUNDACION VIDA | C41: ALARMA Y MONITOREO
A42: JOSE EUSTACIO RIVERA | B42: ELISEO CABRERA | C42: ALARMA Y MONITOREO
A43: JUAN DE CABRERA | B43: ALFONSO LOPEZ | C43: ALARMA Y MONITOREO
A44: MARIA CRISTINA ARANGO | B44: LOS PINOS | C44: ALARMA Y MONITOREO
A45: MISAEL PASTRANA BORRERO | B45: LA RIOJA | C45: ALARMA Y MONITOREO
A46: OLIVERIO LARA BORRERO | B46: TIMANCO | C46: ALARMA Y MONITOREO
B47: SANTA ISABEL | C47: ALARMA Y MONITOREO
A48: RICARDO BORRERO ALVAREZ | B48: JARDIN INFANTIL NACIONAL | C48: ALARMA Y MONITOREO
A49: RODRIGO LARA BONILLA | B49: MEGACOLEGIO | C49: ALARMA Y MONITOREO
A50: SANTA TERESA | B50: JORGE VILLAMIL | C50: ALARMA Y MONITOREO
B51: PRINCIPAL | C51: ALARMA Y MONITOREO
A52: RODRIGO LARA BONILLA | B52: IV CENTENARIO | C52: ALARMA Y MONITOREO
A53: INEM JULIAM MOTTA SALAS | B53: MAURICIO SANCHEZ GARCIA | C53: ALARMA Y MONITOREO
A54: SANTA LIBRADA | B54: GABINO CHARRY | C54: ALARMA Y MONITOREO
A55: INSTITUTO TECNICO IPC ANDRES ROSA | B55: PICARDIAS PRIMARIA | C55: ALARMA Y MONITOREO
A56: ESCUELA NORMAL SUPERIOR | B56: LAS BRISAS | C56: ALARMA Y MONITOREO
A57: ANGEL MARIA PAREDES | B57: LUIS CALIXTO LEIVA | C57: ALARMA Y MONITOREO
A58: MARIA CRISTINA ARANGO DE PASTRANA. | B58: MI PEQUEÑO MUNDO | C58: ALARMA Y MONITOREO
...

Sheet COTIZACIONES
A1: NOMBRE DE LA EMPRESA DE VIGILANCIA | B1: VALOR MENSUAL DE VIGILANCIA FISICA | C1: VALOR SERVICIO DE ALARMA Y MONITOREO | D1: TOTAL, MENSUAL
A2: PUMA | B2: 2.6747075e+08 | C2: 1.5232769e+08 | D2: =B2+C2 -> 4.1979843e+08
A3: NOMBRE DE LA EMPRESA DE VIGILANCIA | B3: VALOR MENSUAL DE VIGILANCIA FISICA | C3: VALOR SERVICIO DE ALARMA Y MONITOREO | D3: TOTAL, MENSUAL
A4: LAOS | B4: 2.6747075e+08 | C4: 1.5232769e+08 | D4: =B4+C4 -> 4.1979843e+08
A10: NOMBRE DE LA EMPRESA DE VIGILANCIA | B10: VALOR MENSUAL DE VIGILANCIA FISICA | C10: VALOR SERVICIO DE ALARMA Y MONITOREO | D10: TOTAL, MENSUAL
A11: PUMA | B11: 2.6966046e+08 | C11: 1.5232769e+08 | D11: =B11+C11 -> 4.2198814e+08
A12: NOMBRE DE LA EMPRESA DE VIGILANCIA | B12: VALOR MENSUAL DE VIGILANCIA FISICA | C12: VALOR SERVICIO DE ALARMA Y MONITOREO | D12: TOTAL, MENSUAL
A13: LAOS | B13: 2.6966046e+08 | C13: 1.5232769e+08 | D13: =B13+C13 -> 4.2198814e+08
A17: NOMBRE DE LA EMPRESA DE VIGILANCIA | B17: VALOR MENSUAL DE VIGILANCIA FISICA | C17: VALOR SERVICIO DE ALARMA Y MONITOREO | D17: TOTAL, MENSUAL
A18: PUMA | B18: 2.8047442e+08 | C18: 1.5232769e+08 | D18: =B18+C18 -> 4.3280211e+08
A19: NOMBRE DE LA EMPRESA DE VIGILANCIA | B19: VALOR MENSUAL DE VIGILANCIA FISICA | C19: VALOR SERVICIO DE ALARMA Y MONITOREO | D19: TOTAL, MENSUAL
A20: LAOS | B20: 2.8047442e+08 | C20: 1.5232769e+08 | D20: =B20+C20 -> 4.3280211e+08
