Workbook
Name RIESGO: 'Matriz de Riesgo'!$A$11:$N$61

Sheet Matriz de Riesgo
A1: MATRIZ DE RIESGO PARA LOS PROCESOS DE CONTRATACIÓN
A2: OBJETIVO | C2: CONSTRUCCIÓN DEL CONJUNTO RESIDENCIAL “CASA DE LA CULTURA” DE LA SUBREGION SUROESTE DEL DEPARTAMENTO DE ANTIOQUIA, PARA REUBICACION DE LA POBLACION DAMNIFICADA POR LA OLA INVERNAL
A3: ALCANCE | C3: CONSTRUCCIÓN COMPLETA DEL CONJUNTO RESIDENCIAL "CASA DE LA CULTURA" DE HASTA 22 UNIDADES DE VIVIENDA NUEVA LAS CUALES INCLUYE EL URBANISMO ASOCIADO Y LAS ÁREAS COMUNES. ESTRUCTURA: DOS TORRES DE APARTAMENTOS, TORRE 1 CUENTA CON 5 NIVELES + SÓTANO, TORRE 2 CUENTA CON 5 NIVELES. VIVIENDAS: 22 UNIDADES DE VIVIENDA EN TOTAL, DISTRIBUIDAS EN 2 APARTAMENTOS POR PISO.
A4: RESPONSABLE | C4: DIRECCION DE PROYECTOS.
A5: CONTROL DE DOCUMENTOS | C5: ELABORÓ | D5: GUSTAVO GARCÍA URÁN APOYO PROFESIONAL DE GESTIÓN ORGANIZACIONAL | F5: REVISÓ | G5: ANA LUCIA CABALLERO DIRECCIONAMIENTO DEL SIG | I5: APROBÓ | K5: ALEJNDRA HOYOS DIRECTORA DE PLANEACIÓN
C6: CODIGO | D6: GEO-MT-16 | E6: VERSIÓN | F6: 04
A7: Contexto del proceso de contratación
A8: Objeto contractual | C8: CONSTRUCCIÓN DEL CONJUNTO RESIDENCIAL “CASA DE LA CULTURA” DE LA SUBREGION SUROESTE DEL DEPARTAMENTO DE ANTIOQUIA, PARA REUBICACION DE LA POBLACION DAMNIFICADA POR LA OLA INVERNAL
A9: Presupuesto oficial | C9: ($4.399.927.888,00) Incluido AU
A10: Lugar de ejecución | C10: MONTEBELLO ANTIOQUIA
A11: N | B11: Clase | C11: Fuente | D11: Etapa | E11: Clasificación | F11: Descripción | G11: Consecuencia de la ocurrencia del evento | H11: Probabilidad | I11: Impacto | J11: Valoración | K11: Categoría | L11: Responsable del riesgo | M11: Tratamiento | N11: Control a ser implementado | O11: Impacto después del tratamiento | S11: ¿Afecta la ejecución del contrato? | T11: Responsable por implementar el tratamiento | U11: Fecha estimada en que se inicia el tratamiento | V11: Fecha estimada en que se completa el tratamiento | W11: Monitoreo y revisión
O12: Probabilidad | P12: Impacto | Q12: Valoración | R12: Categoría | W12: ¿Cómo se realiza el monitoreo? | X12: Periodicidad
A13: 1 | B13: General | C13: Interno | D13: Planeación | E13: Operacional | F13: Estructuración incorrecta, inadecuada o incompleta del estudio previo. Condiciones de contratación y en sí de todos los documentos que hacen parte de la invitación abierta. | G13: Información insuficiente para la selección del contratista | H13: 1 | I13: 5 | J13: =+H13+I13 -> 6 | K13: {=+_xlfn.IFS(J13=2,"Riesgo bajo",J13=3,"Riesgo bajo",J13=4,"Riesgo bajo",J13=5,"Riesgo medio",J13=6,"Riesgo alto",J13=7,"Riesgo alto",J13=8,"Riesgo estremo",J13=9,"Riesgo estremo",J13=10,"Riesgo estremo")} -> Riesgo alto | L13: Contratante | M13: Planeación, revisión, ajuste y seguimiento en la fase precontractual. | N13: El CTE debe elaborar todos los documentos previos a la contratación, con el fin de garantizar una buena selección del contratista, contando con la información necesaria para esto. | O13: 1 | P13: 5 | Q13: =+O13+P13 -> 6 | R13: {=+_xlfn.IFS(Q13=2,"Riesgo bajo",Q13=3,"Riesgo bajo",Q13=4,"Riesgo bajo",Q13=5,"Riesgo medio",Q13=6,"Riesgo alto",Q13=7,"Riesgo alto",Q13=8,"Riesgo estremo",Q13=9,"Riesgo estremo",Q13=10,"Riesgo estremo")} -> Riesgo alto | S13: SI | T13: Comité Tecnico Estructurador | U13: Desde el inicio mismo del proceso de planeación de la contratación | V13: En la presentación ante el Comité de Contratación | W13: Acompañamiento jurídico, técnico, financiero y de gestión de Talento Humano durante el proceso de estructuración de la etapa de planeación | X13: Inmediata
A14: 2 | B14: General | C14: Interno | D14: Planeación | E14: Operacional | F14: Deficiencia en la identificación y descripción de las acciones, obligaciones, especificaciones técnicas y compromisos para la prestación adecuada del servicio . | G14: La empresa temporal no logra identificar con claridad, las acciones, obligaciones, especificaciones técnicas y compromisos a que hay lugar con la ejecución del contrato | H14: 1 | I14: 3 | J14: =+H14+I14 -> 4 | K14: {=+_xlfn.IFS(J14=2,"Riesgo bajo",J14=3,"Riesgo bajo",J14=4,"Riesgo bajo",J14=5,"Riesgo medio",J14=6,"Riesgo alto",J14=7,"Riesgo alto",J14=8,"Riesgo estremo",J14=9,"Riesgo estremo",J14=10,"Riesgo estremo")} -> Riesgo bajo | L14: Contratante | M14: Hacer debido control y seguimiento a las actividades del contrato. | N14: Identificar con suficiente detalle, en lenguaje pertinente y conforme al objeto del contrato, las acciones, obligaciones, especificaciones técnicas y compromisos a que haya lugar. | O14: 1 | P14: 1 | Q14: =+O14+P14 -> 2 | R14: {=+_xlfn.IFS(Q14=2,"Riesgo bajo",Q14=3,"Riesgo bajo",Q14=4,"Riesgo bajo",Q14=5,"Riesgo medio",Q14=6,"Riesgo alto",Q14=7,"Riesgo alto",Q14=8,"Riesgo estremo",Q14=9,"Riesgo estremo",Q14=10,"Riesgo estremo")} -> Riesgo bajo | S14: No | T14: Comité Tecnico Estructurador | U14: Desde el proceso de planeación de la contratación | V14: En la presentación ante el Comité de Contratación | W14: Acompañamiento jurídico, técnico, financiero y de gestión de Talento Humano durante el proceso de estructuración de la etapa de planeación | X14: Inmediata
A15: 3 | B15: General | C15: Interno | D15: Selección | E15: Operacional | F15: fallas en el Procedimientos de contratación | G15: 1. Error en la selección del contratista 2. Retrasos en el proceso de selección 3. Sanciones Penales y Disciplinarios 4.. Hallazgos de fiscales | H15: 2 | I15: 2 | J15: =+H15+I15 -> 4 | K15: {=+_xlfn.IFS(J15=2,"Riesgo bajo",J15=3,"Riesgo bajo",J15=4,"Riesgo bajo",J15=5,"Riesgo medio",J15=6,"Riesgo alto",J15=7,"Riesgo alto",J15=8,"Riesgo estremo",J15=9,"Riesgo estremo",J15=10,"Riesgo estremo")} -> Riesgo bajo | L15: Contratante | M15: Contar con los acuerdos y contratos con terceros que le garanticen la estabilidad de sus costos. | N15: Seguir los manuales y procedimientos específicos dependiendo del proceso de selección a utilizar. Generar grupos de estudio y acompañamiento jurídico previo y durante la estructuración del estudio previo | O15: 1 | P15: 1 | Q15: =+O15+P15 -> 2 | R15: {=+_xlfn.IFS(Q15=2,"Riesgo bajo",Q15=3,"Riesgo bajo",Q15=4,"Riesgo bajo",Q15=5,"Riesgo medio",Q15=6,"Riesgo alto",Q15=7,"Riesgo alto",Q15=8,"Riesgo estremo",Q15=9,"Riesgo estremo",Q15=10,"Riesgo estremo")} -> Riesgo bajo | S15: No | T15: Comité Tecnico Estructurador | U15: Desde el proceso de planeación de la contratación | V15: Firma del contrato | W15: Acompañamiento jurídico previo y durante el proceso de planeación de la contratación. | X15: Inmediata
A16: 4 | B16: General | C16: Interno | D16: Contratación | E16: Operacional | F16: Celebración de contratos sin el lleno de los requisitos legales | G16: Posible nulidad del contrato con sus posibles consecuencias patrimoniales; investigaciones disciplinarias y penales. | H16: 2 | I16: 5 | J16: =+H16+I16 -> 7 | K16: {=+_xlfn.IFS(J16=2,"Riesgo bajo",J16=3,"Riesgo bajo",J16=4,"Riesgo bajo",J16=5,"Riesgo medio",J16=6,"Riesgo alto",J16=7,"Riesgo alto",J16=8,"Riesgo estremo",J16=9,"Riesgo estremo",J16=10,"Riesgo estremo")} -> Riesgo alto | L16: Contratante | M16: Constitución de Pólizas de cumplimiento de las obligaciones por parte del contratista. Inclusión de cláusula penal y multas en caso de incumplimiento de las obligaciones por parte de EL CONTRATISTA, por una suma equivalente al Informe diez por ciento mensual (10%) del valor del contrato. | N16: Reducir el riesgo con la revisión oportuna de las normas aplicables en contratación | O16: 1 | P16: 2 | Q16: =+O16+P16 -> 3 | R16: {=+_xlfn.IFS(Q16=2,"Riesgo bajo",Q16=3,"Riesgo bajo",Q16=4,"Riesgo bajo",Q16=5,"Riesgo medio",Q16=6,"Riesgo alto",Q16=7,"Riesgo alto",Q16=8,"Riesgo estremo",Q16=9,"Riesgo estremo",Q16=10,"Riesgo estremo")} -> Riesgo bajo | S16: No | T16: Dirección Jurídica | U16: Desde el proceso previo y durante la elaboración de los estudios previos. | V16: Firma del contrato | W16: acompañamiento juridico en la suscripcion del contrato | X16: Inmediata
A17: 5 | B17: General | C17: Externo | D17: Contratación | E17: Operacional | F17: No firma del contrato | G17: Obstruye la ejecución del contrato | H17: 1 | I17: 3 | J17: =+H17+I17 -> 4 | K17: {=+_xlfn.IFS(J17=2,"Riesgo bajo",J17=3,"Riesgo bajo",J17=4,"Riesgo bajo",J17=5,"Riesgo medio",J17=6,"Riesgo alto",J17=7,"Riesgo alto",J17=8,"Riesgo estremo",J17=9,"Riesgo estremo",J17=10,"Riesgo estremo")} -> Riesgo bajo | L17: Contratista | M17: Seguimiento de los plazos establecidos desde la etapa de selección | N17: Solicitud de la poliza de seriedad de la oferta Seguimiento pormenorizado a la suscripción del contrato | O17: 1 | P17: 2 | Q17: =+O17+P17 -> 3 | R17: {=+_xlfn.IFS(Q17=2,"Riesgo bajo",Q17=3,"Riesgo bajo",Q17=4,"Riesgo bajo",Q17=5,"Riesgo medio",Q17=6,"Riesgo alto",Q17=7,"Riesgo alto",Q17=8,"Riesgo estremo",Q17=9,"Riesgo estremo",Q17=10,"Riesgo estremo")} -> Riesgo bajo | S17: Si | T17: Ordenador del gasto - Área competente. Supervisor del contrato | U17: Desde el Comité de Contratación | V17: Con la suscripción del acta de inicio | W17: Información clara y específica al contratista sobre el contenido del contrato con el fin de resolver sus inquietudes. Celeridad en el proceso de elaboración del contrato por parte del área Jurídica. Solicitud dentro de proceso contractual de la poliza de seriedad de la oferta | X17: Inmediata
A18: 6 | B18: General | C18: Externo | D18: Contratación | E18: Operacional | F18: No se legalice el contrato (expedición de garantías solicitadas) | G18: No es posible dar inicio a la ejecución del contrato. Retraso en la subsanación de la necesidad establecida por la entidad contratante | H18: 2 | I18: 3 | J18: =+H18+I18 -> 5 | K18: {=+_xlfn.IFS(J18=2,"Riesgo bajo",J18=3,"Riesgo bajo",J18=4,"Riesgo bajo",J18=5,"Riesgo medio",J18=6,"Riesgo alto",J18=7,"Riesgo alto",J18=8,"Riesgo estremo",J18=9,"Riesgo estremo",J18=10,"Riesgo estremo")} -> Riesgo medio | L18: Contratista | M18: Establecimiento de plan de contingencia para la ejecución de las actividades. Ajuste de cronograma | N18: Notificacion al ordenador del gasto. Requerimiento al contratista y a la aseguradora que expidio la poliza de sereidad de la oferta. | O18: 1 | P18: 2 | Q18: =+O18+P18 -> 3 | R18: {=+_xlfn.IFS(Q18=2,"Riesgo bajo",Q18=3,"Riesgo bajo",Q18=4,"Riesgo bajo",Q18=5,"Riesgo medio",Q18=6,"Riesgo alto",Q18=7,"Riesgo alto",Q18=8,"Riesgo estremo",Q18=9,"Riesgo estremo",Q18=10,"Riesgo estremo")} -> Riesgo bajo | S18: Si | T18: Ordenador del gasto - Área competente. Supervisor del contrato | U18: Desde el Comité de Contratación | V18: Con la legalización del contrato - presentación de póliza(s) requerida(s) con los amparos y suficiencia exigida | W18: Información clara y específica al contratista sobre el contenido del contrato con el fin de resolver sus inquietudes. Celeridad en el proceso de elaboración del contrato por parte del área Jurídica | X18: Inmediata
A19: 7 | B19: Especifico | C19: Externo | D19: Ejecución | E19: Operacional | F19: El contratista no cumple con las acciones, obligaciones, especificaciones técnicas y compromisos establecidas en el contrato. | G19: Afectación en la gestión propia contratante e inclusive terceros que pueden repetir en contra de la entidad. | H19: 2 | I19: 3 | J19: =+H19+I19 -> 5 | K19: {=+_xlfn.IFS(J19=2,"Riesgo bajo",J19=3,"Riesgo bajo",J19=4,"Riesgo bajo",J19=5,"Riesgo medio",J19=6,"Riesgo alto",J19=7,"Riesgo alto",J19=8,"Riesgo estremo",J19=9,"Riesgo estremo",J19=10,"Riesgo estremo")} -> Riesgo medio | L19: Contratista | M19: Implementación de correctivos ante un evento natural no imputabl e a las partes. Ajuste de cronograma | N19: Requerimientos al contratista, la Empresa podra dar por terminado el contrato, hacer efectivas las pólizas respectivas, adelantar las acciones administrativas y judiciales pertinentes ante las respectivas autoridades, para exigir el cumplimiento del contrato, la resolusión de éste y el pago de los perjuicios segun el caso. conforme al clausulado del contrato | O19: 1 | P19: 2 | Q19: =+O19+P19 -> 3 | R19: {=+_xlfn.IFS(Q19=2,"Riesgo bajo",Q19=3,"Riesgo bajo",Q19=4,"Riesgo bajo",Q19=5,"Riesgo medio",Q19=6,"Riesgo alto",Q19=7,"Riesgo alto",Q19=8,"Riesgo estremo",Q19=9,"Riesgo estremo",Q19=10,"Riesgo estremo")} -> Riesgo bajo | S19: Sí | T19: Supervisor del contrato - Dirección jurídica | U19: Desde la firma del acta de inicio | V19: Finalización del termino del contrato. | W19: Informes de seguimiento a la contratación estatal expedidos por el supervisor del contrato | X19: Mensual
A20: 8 | B20: General | C20: Interno | D20: Ejecución | E20: Operacional | F20: La entidad contratante no realiza los pagos de forma oportuna y por el valor pactado, pese a que el contratista entrega los productos según condiciones establecidas en el contrato y los mismos fueron recibidos a satisfacción | G20: 1. Incumplimiento de obligaciones contractuales; 2. Posible disminución de la eficacia del contratista para el suministro del personal. 3. Demandas, perjucios a población, pérdidas económicas, pérdida de reputación o credibilidad del proyecto y de la institución que lo opera y contrata. | H20: 1 | I20: 2 | J20: =+H20+I20 -> 3 | K20: {=+_xlfn.IFS(J20=2,"Riesgo bajo",J20=3,"Riesgo bajo",J20=4,"Riesgo bajo",J20=5,"Riesgo medio",J20=6,"Riesgo alto",J20=7,"Riesgo alto",J20=8,"Riesgo estremo",J20=9,"Riesgo estremo",J20=10,"Riesgo estremo")} -> Riesgo bajo | L20: Contratante | M20: Implementación de correctivos ante un evento social no imputable a las partes | N20: Elaboración adecuada del la forma de pago, identificación de alternativas de solución para posibles dificultades de solvencia financiera, establecer procedimientos adecuados para el recibo y causación de la facturación | O20: 1 | P20: 2 | Q20: =+O20+P20 -> 3 | R20: {=+_xlfn.IFS(Q20=2,"Riesgo bajo",Q20=3,"Riesgo bajo",Q20=4,"Riesgo bajo",Q20=5,"Riesgo medio",Q20=6,"Riesgo alto",Q20=7,"Riesgo alto",Q20=8,"Riesgo estremo",Q20=9,"Riesgo estremo",Q20=10,"Riesgo estremo")} -> Riesgo bajo | S20: Sí | T20: Supervisor del contrato - Dirección Adminsitrativa y Financiera | U20: Desde la firma del acta de inicio | V20: Finalización del término de ejecución del contrato | W20: Revisión financiera periódica conforme a las obligaciones adquiridas por la entidad contratante | X20: Mensual
A21: 9 | B21: General | C21: Interno | D21: Ejecución | E21: Operacional | F21: Presentación de información falsa por parte del futuro contratista para cumplir con el perfil exigido y poder celebrar el contrato o que el contratista suscriba el contrato pese a encontrase en causal de inhabilidad | G21: Contratación sin el lleno de los requisitos legales; nulidad del contrato, con sus posibles consecuencias patrimoniales; investigaciones disciplinarias y penales | H21: 3 | I21: 4 | J21: =+H21+I21 -> 7 | K21: {=+_xlfn.IFS(J21=2,"Riesgo bajo",J21=3,"Riesgo bajo",J21=4,"Riesgo bajo",J21=5,"Riesgo medio",J21=6,"Riesgo alto",J21=7,"Riesgo alto",J21=8,"Riesgo estremo",J21=9,"Riesgo estremo",J21=10,"Riesgo estremo")} -> Riesgo alto | L21: Contratista-contratante | M21: Verificar periodicamente el pago de los aportes según la normatividad en materia de seguridad social | N21: Revisión y verificación oportuna de documentación aportada y antecedentes fiscales, disciplinarios, judiciales y contravencionales o correctivas | O21: 1 | P21: 2 | Q21: =+O21+P21 -> 3 | R21: {=+_xlfn.IFS(Q21=2,"Riesgo bajo",Q21=3,"Riesgo bajo",Q21=4,"Riesgo bajo",Q21=5,"Riesgo medio",Q21=6,"Riesgo alto",Q21=7,"Riesgo alto",Q21=8,"Riesgo estremo",Q21=9,"Riesgo estremo",Q21=10,"Riesgo estremo")} -> Riesgo bajo | S21: No | T21: Dirección Administrativa y Financiera, a través del equipo de Talento Humano y Dirección jurídica | U21: Desde la presentación de documentación para legalización del contrato. | V21: Revisión de la documentación para la legalización del contrato. | W21: Revisión en comité de contratación | X21: Durante la elaboracion de cada contrato.
A22: 10 | B22: Especifico | C22: Externo | D22: Ejecución | E22: Operacional | F22: Que el contratista no entregue con calidad los servicios a los operadores en mision | G22: Al detectar deficiencia en el servicio contratado, se debe exigir el cumplimiento de los requisitos so pena de no aprobar el informe respectivo ni el pago de los honorarios correspondientes. | H22: 2 | I22: 5 | J22: =+H22+I22 -> 7 | K22: {=+_xlfn.IFS(J22=2,"Riesgo bajo",J22=3,"Riesgo bajo",J22=4,"Riesgo bajo",J22=5,"Riesgo medio",J22=6,"Riesgo alto",J22=7,"Riesgo alto",J22=8,"Riesgo estremo",J22=9,"Riesgo estremo",J22=10,"Riesgo estremo")} -> Riesgo alto | L22: Contratista | M22: Realizar monitorio constante al cumplimiento de las obligaciones del contrato. | N22: Notificacion al ordenador del gasto y solicitud de aplicación de garantías. | O22: 1 | P22: 2 | Q22: =+O22+P22 -> 3 | R22: {=+_xlfn.IFS(Q22=2,"Riesgo bajo",Q22=3,"Riesgo bajo",Q22=4,"Riesgo bajo",Q22=5,"Riesgo medio",Q22=6,"Riesgo alto",Q22=7,"Riesgo alto",Q22=8,"Riesgo estremo",Q22=9,"Riesgo estremo",Q22=10,"Riesgo estremo")} -> Riesgo bajo | S22: No | T22: Dirección Administrativa y Financiera, a través del equipo de Talento Humano y Dirección jurídica | U22: Desde la firma del acta de inicio | V22: Finalización del término del contrato. | W22: Informes de seguimiento a la contratación expedidos por el supervisor del contrato | X22: Al momento de la ocurrencia del evento.
A23: 11 | B23: General | C23: Interno | D23: Ejecución | E23: Regulatorio | F23: Variaciones en la legislación tributaria y/o laboral, la creación de nuevos impuestos, la supresión o modificación de los existentes, el cambio en los aportes de seguridad social y parafiscales, los incrementos en valores de prestaciones sociales, prestaciones sociales nuevas y en general cualquier evento que modifique las condiciones tributarias o laborales existentes al momento de la presentación de la propuesta | G23: Afecta el valor del contrato entre las partes | H23: 2 | I23: 3 | J23: =+H23+I23 -> 5 | K23: {=+_xlfn.IFS(J23=2,"Riesgo bajo",J23=3,"Riesgo bajo",J23=4,"Riesgo bajo",J23=5,"Riesgo medio",J23=6,"Riesgo alto",J23=7,"Riesgo alto",J23=8,"Riesgo estremo",J23=9,"Riesgo estremo",J23=10,"Riesgo estremo")} -> Riesgo medio | L23: Contratista-contratante | M23: Continuo estudio de la normatividad contractual.Capacitación en cuanto a los cambios que se presenten en la normatividad contractual. | N23: Verificación y aplicación del clausulado del contrato | O23: 2 | P23: 3 | Q23: =+O23+P23 -> 5 | R23: {=+_xlfn.IFS(Q23=2,"Riesgo bajo",Q23=3,"Riesgo bajo",Q23=4,"Riesgo bajo",Q23=5,"Riesgo medio",Q23=6,"Riesgo alto",Q23=7,"Riesgo alto",Q23=8,"Riesgo estremo",Q23=9,"Riesgo estremo",Q23=10,"Riesgo estremo")} -> Riesgo medio | S23: Si | T23: Dirección Administrativa y Financiera, y Dirección jurídica | U23: Desde la firma del acta de inicio | V23: Finalización del término del contrato. | W23: 1, Informes de seguimiento a la contratación expedidos por el supervisor del contrato 2, Realizar comité tecnico trimestral con el contratistata con el fin de evaluar los cambio en las legislaciones. | X23: Al momento de la ocurrencia del evento.
A24: 12 | B24: General | C24: Interno | D24: Ejecución | E24: Operacional | F24: Retardo o Incumplimiento de las fechaspara el suministro del personal por parte del contratista. | G24: Deficiencia en el servicio contratado e incumplimiento de las acciones, obligaciones, especificaciones técnicas y compromisos, lo cual originaria la no aprobación de los informes presentados y consecuencialmente el no pago de las facturas correspondientes. | H24: 2 | I24: 5 | J24: =+H24+I24 -> 7 | K24: {=+_xlfn.IFS(J24=2,"Riesgo bajo",J24=3,"Riesgo bajo",J24=4,"Riesgo bajo",J24=5,"Riesgo medio",J24=6,"Riesgo alto",J24=7,"Riesgo alto",J24=8,"Riesgo estremo",J24=9,"Riesgo estremo",J24=10,"Riesgo estremo")} -> Riesgo alto | L24: Contratista | M24: Aplicación de Manuales de Seguridad y Salud en el Trabajo; afiliación e EPS de todos los empleados; riguroso cumplimiento por las partes contractuales de los protocolos de bioseguridad aprobados por el Ministerio de Salud e implementados por las partes. | N24: Notificación al ordenador del gasto y solicitud de aplicación de garantías. | O24: 2 | P24: 3 | Q24: =+O24+P24 -> 5 | R24: {=+_xlfn.IFS(Q24=2,"Riesgo bajo",Q24=3,"Riesgo bajo",Q24=4,"Riesgo bajo",Q24=5,"Riesgo medio",Q24=6,"Riesgo alto",Q24=7,"Riesgo alto",Q24=8,"Riesgo estremo",Q24=9,"Riesgo estremo",Q24=10,"Riesgo estremo")} -> Riesgo medio | S24: No | T24: Supervisor del contrato | U24: Desde la firma del acta de inicio | V24: Finalización del término del contrato. | W24: Informes de seguimiento a la contrataciónexpedidos por el supervisor del contrato | X24: Al momento de la ocurrencia del evento.
... A26: 14 | B26: General | C26: Externo | D26: Ejecución | E26: Físico | F26: Desastre o afectación natural que ponga en riesgo el normal funcionamiento de la empresa temporal, los pagos, contrataciones u otras actividades, por imposibilidad de uso de la sede administrativa | G26: afecta la prestacion del servicio | H26: 1 | I26: 3 | J26: =+H26+I26 -> 4 | K26: {=+_xlfn.IFS(J26=2,"Riesgo bajo",J26=3,"Riesgo bajo",J26=4,"Riesgo bajo",J26=5,"Riesgo medio",J26=6,"Riesgo alto",J26=7,"Riesgo alto",J26=8,"Riesgo estremo",J26=9,"Riesgo estremo",J26=10,"Riesgo estremo")} -> Riesgo bajo | L26: Contratista | M26: Seguimiento a solicitud | N26: Solicitud de pólizas que cubran cualquier tipo de siniestro Solicitud de plataforma tecnológica de respaldo en medios no físicos | O26: 1 | P26: 1 | Q26: =+O26+P26 -> 2 | R26: {=+_xlfn.IFS(Q26=2,"Riesgo bajo",Q26=3,"Riesgo bajo",Q26=4,"Riesgo bajo",Q26=5,"Riesgo medio",Q26=6,"Riesgo alto",Q26=7,"Riesgo alto",Q26=8,"Riesgo estremo",Q26=9,"Riesgo estremo",Q26=10,"Riesgo estremo")} -> Riesgo bajo | S26: No | T26: Comité Tecnico Estructurador Rol Técnico | U26: Desde el inicio mismo del proceso de planeación de la contratación | V26: En la presentación ante el Comité de Contratación | W26: Acompañamiento jurídico, técnico, financiero y de gestión de Talento Humano durante el proceso de estructuración de la etapa de planeación. Revisión de las pólizas | X26: Inmediata
A27: =+A26+1 -> 15 | B27: General | C27: Externo | D27: Ejecución | E27: De mercado | F27: Fluctuación de precios en los costos y materiales, cuyos precios están regulados por el Gobierno. | G27: El efecto producido por la variación atípica de los precios, determinados por el Departamento Nacional de Estadística Dane a través del Índice de Costos de la Construcción Pesada (ICCP). | H27: 3 | I27: 4 | J27: 7 | K27: {=+_xlfn.IFS(J27=2,"Riesgo bajo",J27=3,"Riesgo bajo",J27=4,"Riesgo bajo",J27=5,"Riesgo medio",J27=6,"Riesgo alto",J27=7,"Riesgo alto",J27=8,"Riesgo estremo",J27=9,"Riesgo estremo",J27=10,"Riesgo estremo")} -> Riesgo alto | L27: Contratista-contratante | M27: Manejar precios de listas de mercado de las empresas y cadenas distribuidoras sin descuentos | N27: Verificación de precios según el DANE, en el momento del incremento y utilización de factores de reversión. | O27: 2 | P27: 2 | Q27: 4 | R27: {=+_xlfn.IFS(Q27=2,"Riesgo bajo",Q27=3,"Riesgo bajo",Q27=4,"Riesgo bajo",Q27=5,"Riesgo medio",Q27=6,"Riesgo alto",Q27=7,"Riesgo alto",Q27=8,"Riesgo estremo",Q27=9,"Riesgo estremo",Q27=10,"Riesgo estremo")} -> Riesgo bajo | S27: SI | T27: Comité Tecnico Estructurador Rol Técnico | U27: Desde el inicio mismo del proceso de planeación de la contratación | V27: Una vez se surta un proceso de reversión de los incrementos generados | W27: El supervisor asignado monitorea el avance de obra y los porcentajes de ejecución tanto física como financiera, alertando si se genera una variación significativa entre ambos. | X27: Según lo estipule el supervisor del convenio
A28: =+A27+1 -> 16 | B28: Específico | C28: Externo | D28: Ejecución | E28: Operacionales | F28: Se construyen los mejoramientos sin contar con todas las normas técnicas asociadas al proyecto afectando la calidad final de las obras | G28: Baja calidad de la ejecución del mejoramiento | H28: 5 | I28: 5 | J28: 7 | K28: {=+_xlfn.IFS(J28=2,"Riesgo bajo",J28=3,"Riesgo bajo",J28=4,"Riesgo bajo",J28=5,"Riesgo medio",J28=6,"Riesgo alto",J28=7,"Riesgo alto",J28=8,"Riesgo estremo",J28=9,"Riesgo estremo",J28=10,"Riesgo estremo")} -> Riesgo alto | L28: Contratista-contratante | M28: Reducir la probabilidad de la ocurrencia del evento. | N28: Definir las especificaciones constructivas con base en la norma y realizar seguimiento continuo al proceso. | O28: 1 | P28: 3 | Q28: 4 | R28: {=+_xlfn.IFS(Q28=2,"Riesgo bajo",Q28=3,"Riesgo bajo",Q28=4,"Riesgo bajo",Q28=5,"Riesgo medio",Q28=6,"Riesgo alto",Q28=7,"Riesgo alto",Q28=8,"Riesgo estremo",Q28=9,"Riesgo estremo",Q28=10,"Riesgo estremo")} -> Riesgo bajo | S28: SI | T28: Contratante-contratista | U28: La revisión normativa la lleva a cabo VIVA y el Municipio desde la etapa de formulación y estructuración del proyecto. El seguimiento del proceso se da en el momento de la Ejecución de los diferentes mejoramientos. | V28: Al momento de la liquidación del contrato | W28: Se tienen considerados múltiples momentos de revisión y verificación por parte de las dos entidades. | X28: Según lo estipule el supervisor del convenio
A29: =+A28+1 -> 17 | B29: General | C29: Externo | D29: Ejecución | E29: De mercado | F29: Salida o escasez en el mercado de insumos o materias primas para la ejecución de las obras objeto del contrato. | G29: Aumento en los costos directos de ejecución del proyecto | H29: 1 | I29: 3 | J29: 4 | K29: {=+_xlfn.IFS(J29=2,"Riesgo bajo",J29=3,"Riesgo bajo",J29=4,"Riesgo bajo",J29=5,"Riesgo medio",J29=6,"Riesgo alto",J29=7,"Riesgo alto",J29=8,"Riesgo estremo",J29=9,"Riesgo estremo",J29=10,"Riesgo estremo")} -> Riesgo bajo | L29: Contratista-contratante | M29: Probabilidad de cambiar tipos de materiales durante la ejecucion | N29: Utilizar materiales de alta rotación y permanencia en el mercado. Verificación de precios y reversión de los mismos, con el Dane, para el momento en que se genera el riesgo. | O29: 1 | P29: 2 | Q29: 3 | R29: {=+_xlfn.IFS(Q29=2,"Riesgo bajo",Q29=3,"Riesgo bajo",Q29=4,"Riesgo bajo",Q29=5,"Riesgo medio",Q29=6,"Riesgo alto",Q29=7,"Riesgo alto",Q29=8,"Riesgo estremo",Q29=9,"Riesgo estremo",Q29=10,"Riesgo estremo")} -> Riesgo bajo | S29: SI | T29: Contratante-contratista | U29: La elección de los materiales se da desde la etapa de formulación y estructuración. Los planes de mitigación se implementaran al momento de presentarse un desabastecimiento. | V29: Una vez surta un proceso de reversión del desabastecimiento generado. | W29: El supervisor asignado monitorea el avance de obra y los porcentajes de ejecución tanto física como financiera, alertando si se genera una variación significativa entre ambos. | X29: Según lo estipule el supervisor del convenio
A30: =+A29+1 -> 18 | B30: General | C30: Externo | D30: Ejecución | E30: De mercado | F30: Salida o escasez en el mercado de insumos o materias primas para la ejecución de las obras objeto del contrato. | G30: Aumento en los costos directos de ejecución del proyecto | H30: 1 | I30: 3 | J30: 4 | K30: {=+_xlfn.IFS(J30=2,"Riesgo bajo",J30=3,"Riesgo bajo",J30=4,"Riesgo bajo",J30=5,"Riesgo medio",J30=6,"Riesgo alto",J30=7,"Riesgo alto",J30=8,"Riesgo estremo",J30=9,"Riesgo estremo",J30=10,"Riesgo estremo")} -> Riesgo bajo | L30: Contratista-contratante | M30: Evitar el Riesgo | N30: Utilizar materiales de alta rotación y permanencia en el mercado. Verificación de precios y reversión de los mismos, con el Dane, para el momento en que se genera el riesgo. | O30: 1 | P30: 2 | Q30: 3 | R30: {=+_xlfn.IFS(Q30=2,"Riesgo bajo",Q30=3,"Riesgo bajo",Q30=4,"Riesgo bajo",Q30=5,"Riesgo medio",Q30=6,"Riesgo alto",Q30=7,"Riesgo alto",Q30=8,"Riesgo estremo",Q30=9,"Riesgo estremo",Q30=10,"Riesgo estremo")} -> Riesgo bajo | S30: SI | T30: Supervisor del contrato | U30: La elección de los materiales se da desde la etapa de formulación y estructuración. Los planes de mitigación se implementaran al momento de presentarse un desabastecimiento. | V30: Una vez surta un proceso de reversión del desabastecimiento generado. | W30: El supervisor asignado monitorea el avance de obra y los porcentajes de ejecución tanto física como financiera, alertando si se genera una variación significativa entre ambos. | X30: Según lo estipule el supervisor del convenio
A31: =+A30+1 -> 19 | B31: General | C31: Externo | D31: Ejecución | E31: De costos | F31: Déficit en el valor por unidad de los mejoramientos construidos | G31: Se derivan de un análisis insuficiente de los precios unitarios realizados por VIVA, en cuanto equipos, transporte, materiales, mano de obra, etc. que se refleja en una obra inconclusa y a posibles reclamaciones | H31: 3 | I31: 4 | J31: 7 | K31: {=+_xlfn.IFS(J31=2,"Riesgo bajo",J31=3,"Riesgo bajo",J31=4,"Riesgo bajo",J31=5,"Riesgo medio",J31=6,"Riesgo alto",J31=7,"Riesgo alto",J31=8,"Riesgo estremo",J31=9,"Riesgo estremo",J31=10,"Riesgo estremo")} -> Riesgo alto | L31: Contratista-contratante | M31: Evitar el Riesgo | N31: Revisión detallada de todos los aspectos concernientes al presupuesto. | O31: 1 | P31: 2 | Q31: 3 | R31: {=+_xlfn.IFS(Q31=2,"Riesgo bajo",Q31=3,"Riesgo bajo",Q31=4,"Riesgo bajo",Q31=5,"Riesgo medio",Q31=6,"Riesgo alto",Q31=7,"Riesgo alto",Q31=8,"Riesgo estremo",Q31=9,"Riesgo estremo",Q31=10,"Riesgo estremo")} -> Riesgo bajo | S31: SI | T31: Supervisor del contrato | U31: El presupuesto se revisará en la etapa precontractual y se hará control en la etapa de ejecución. | V31: Según lo establecido en el cronograma de obra como momento proyectado para su culminación | W31: Avance físico y financiero vs plazos iniciales establecidos en el cronograma de ejecución. | X31: Según lo estipule el supervisor del convenio
A32: =+A31+1 -> 20 | B32: General | C32: Externo | D32: Ejecución | E32: De costos | F32: Mayores cantidades de obra, por procedimientos constructivos inadecuados. | G32: Retrasos de obra y reprocesos en los métodos constructivos, que conllevan a sobrecostos en la ejecución. | H32: 2 | I32: 4 | J32: 6 | K32: {=+_xlfn.IFS(J32=2,"Riesgo bajo",J32=3,"Riesgo bajo",J32=4,"Riesgo bajo",J32=5,"Riesgo medio",J32=6,"Riesgo alto",J32=7,"Riesgo alto",J32=8,"Riesgo estremo",J32=9,"Riesgo estremo",J32=10,"Riesgo estremo")} -> Riesgo alto | L32: Contratista | M32: Reducir la probabilidad de la ocurrencia del evento, cuando el Riesgo debe ser aceptado. | N32: Cumplimiento por parte del Municipio, con los tiempos establecidos en la ejecución de las actividades preliminares en los mejoramientos. Supervisión permanente en la ejecución por parte de VIVA y la interventoría de obra en la ejecución de las actividades de los mejoramientos. | O32: 1 | P32: 2 | Q32: 3 | R32: {=+_xlfn.IFS(Q32=2,"Riesgo bajo",Q32=3,"Riesgo bajo",Q32=4,"Riesgo bajo",Q32=5,"Riesgo medio",Q32=6,"Riesgo alto",Q32=7,"Riesgo alto",Q32=8,"Riesgo estremo",Q32=9,"Riesgo estremo",Q32=10,"Riesgo estremo")} -> Riesgo bajo | S32: SI | T32: Supervisor del contrato | U32: Al momento del inicio de la ejecución de los mejoramientos | V32: Según lo establecido en el cronograma de obra como momento proyectado para su culminación de los mejoramientos | W32: Avance físico y financiero vs plazos iniciales establecidos en el cronograma de ejecución. | X32: Según lo estipule el supervisor del convenio
A33: =+A32+1 -> 21 | B33: Específico | C33: Externo | D33: Planeación | E33: Operacionales | F33: Modificación y ajustes de los diseños y/o estudios, falta de documentación | G33: Incumplimiento de requisitos para gestionar el proyecto | H33: 3 | I33: 4 | J33: 7 | K33: {=+_xlfn.IFS(J33=2,"Riesgo bajo",J33=3,"Riesgo bajo",J33=4,"Riesgo bajo",J33=5,"Riesgo medio",J33=6,"Riesgo alto",J33=7,"Riesgo alto",J33=8,"Riesgo estremo",J33=9,"Riesgo estremo",J33=10,"Riesgo estremo")} -> Riesgo alto | L33: Contratista | M33: Evitar el Riesgo | N33: Trabajo conjunto con los entes involucrados en la formulación y revisión del proyecto. | O33: 1 | P33: 2 | Q33: 3 | R33: {=+_xlfn.IFS(Q33=2,"Riesgo bajo",Q33=3,"Riesgo bajo",Q33=4,"Riesgo bajo",Q33=5,"Riesgo medio",Q33=6,"Riesgo alto",Q33=7,"Riesgo alto",Q33=8,"Riesgo estremo",Q33=9,"Riesgo estremo",Q33=10,"Riesgo estremo")} -> Riesgo bajo | S33: SI | T33: Supervisor del contrato | U33: Previo a la ejecución de obra, en la etapa de formulación y estructuración del proyecto | V33: Según lo establecido en el cronograma de obra como momento proyectado para la culminación de los mejoramientos | W33: Reporte de avances en la ejecución de obra | X33: Según lo estipule el supervisor del convenio
A34: =+A33+1 -> 22 | B34: General | C34: Externo | D34: Ejecución | E34: De calendario | F34: Atrasos en la ejecución de las obras | G34: Incumplimiento de plazos y sobrecostos administrativos | H34: 4 | I34: 4 | J34: 8 | K34: {=+_xlfn.IFS(J34=2,"Riesgo bajo",J34=3,"Riesgo bajo",J34=4,"Riesgo bajo",J34=5,"Riesgo medio",J34=6,"Riesgo alto",J34=7,"Riesgo alto",J34=8,"Riesgo estremo",J34=9,"Riesgo estremo",J34=10,"Riesgo estremo")} -> Riesgo estremo | L34: Contratista-contratante | M34: Reducir la probabilidad de la ocurrencia del evento. | N34: Cumplimiento por parte del Municipio, con los tiempos establecidos en la ejecución de las actividades preliminares en los mejoramientos. Supervisión permanente en la ejecución y cumplimiento de los cronogramas por parte de VIVA y la interventoría de obra en la ejecución de las actividades de los mejoramientos. | O34: 1 | P34: 2 | Q34: 3 | R34: {=+_xlfn.IFS(Q34=2,"Riesgo bajo",Q34=3,"Riesgo bajo",Q34=4,"Riesgo bajo",Q34=5,"Riesgo medio",Q34=6,"Riesgo alto",Q34=7,"Riesgo alto",Q34=8,"Riesgo estremo",Q34=9,"Riesgo estremo",Q34=10,"Riesgo estremo")} -> Riesgo bajo | S34: SI | T34: Supervisor del contrato | U34: El cronograma de obra se revisará en la etapa precontractual y se hará control en la ejecución del contrato, para cumplimiento de todas las partes. | V34: Según lo establecido en el cronograma de obra como momento proyectado para su culminación | W34: Avance físico y financiero vs plazos contractuales establecidos en el cronograma de ejecución. | X34: Según lo estipule el supervisor del convenio
A35: =+A34+1 -> 23 | B35: General | C35: Externo | D35: Ejecución | E35: Operacionales | F35: Problemas de la calidad de los materiales y equipos en la ejecución del proyecto. | G35: Reprocesos en los métodos constructivos para suplir las deficiencias. | H35: 2 | I35: 3 | J35: 5 | K35: {=+_xlfn.IFS(J35=2,"Riesgo bajo",J35=3,"Riesgo bajo",J35=4,"Riesgo bajo",J35=5,"Riesgo medio",J35=6,"Riesgo alto",J35=7,"Riesgo alto",J35=8,"Riesgo estremo",J35=9,"Riesgo estremo",J35=10,"Riesgo estremo")} -> Riesgo medio | L35: Contratista | M35: Evitar el Riesgo | N35: Exigencia de certificados de calidad y revisión de materiales | O35: 1 | P35: 2 | Q35: 3 | R35: {=+_xlfn.IFS(Q35=2,"Riesgo bajo",Q35=3,"Riesgo bajo",Q35=4,"Riesgo bajo",Q35=5,"Riesgo medio",Q35=6,"Riesgo alto",Q35=7,"Riesgo alto",Q35=8,"Riesgo estremo",Q35=9,"Riesgo estremo",Q35=10,"Riesgo estremo")} -> Riesgo bajo | S35: SI | T35: Supervisor del contrato | U35: La elección de los materiales se da desde la etapa de formulación y estructuración. Se implementarán planes para garantizar la elección adecuada de materiales y maquinaria. | V35: Hasta culminar la ejecución de la obra. | W35: El municipio deberá presentar los certificados de calidad y de ejecución de las actividades preliminares realizadas en los mejoramientos. Se debe solicitar al contratista de obra a través de la interventoría, las certificaciones de los materiales y certificado de la calibración de los equipos en el caso que aplique. | X35: Según lo estipule el supervisor del convenio
A36: =+A35+1 -> 24 | B36: General | C36: Externo | D36: Ejecución | E36: Administrativos | F36: Contratar personal no idóneo para la realización de las obras | G36: Ejecutar de forma inadecuada las obras objeto del contrato | H36: 4 | I36: 4 | J36: 8 | K36: {=+_xlfn.IFS(J36=2,"Riesgo bajo",J36=3,"Riesgo bajo",J36=4,"Riesgo bajo",J36=5,"Riesgo medio",J36=6,"Riesgo alto",J36=7,"Riesgo alto",J36=8,"Riesgo estremo",J36=9,"Riesgo estremo",J36=10,"Riesgo estremo")} -> Riesgo estremo | L36: Contratista-contratante | M36: Evitar el Riesgo | N36: Contratar personal con experiencia en la realización de este tipo de obras. El Municipio Y VIVA deberán contar con el acompañamiento permanente del profesional experto en la obra para que pueda dirigir los trabajadores paso a paso según los diseños. El Municipio Y VIVA deberán realizar la supervisión permanente sobre el avance de las obras. Se deben expedir las pólizas necesarias para blindar la Entidad de una posible afectación de este tipo de riesgo. | O36: 1 | P36: 2 | Q36: 3 | R36: {=+_xlfn.IFS(Q36=2,"Riesgo bajo",Q36=3,"Riesgo bajo",Q36=4,"Riesgo bajo",Q36=5,"Riesgo medio",Q36=6,"Riesgo alto",Q36=7,"Riesgo alto",Q36=8,"Riesgo estremo",Q36=9,"Riesgo estremo",Q36=10,"Riesgo estremo")} -> Riesgo bajo | S36: SI | T36: Contratante-contratista | U36: Previo a la ejecución de obra en la etapa preliminar y de alistamiento se llevarán a cabo los procesos de selección de personal para la ejecución de la misma. De igual manera se hará la contratación de los procesos de interventoría y obra, que deben garantizar la idoneidad de su personal. | V36: Hasta culminar la ejecución de la obra. | W36: El supervisor asignado verificará las hojas de vida del personal de la supervisión contratado y del personal de la interventoría garantizando la idoneidad de los mimos. La interventoría deberá revisar las hojas de vida del personal de obra garantizando la idoneidad y experiencia en la ejecución de obras de mejoramientos. El Municipio debe garantizar la idoneidad del personal a cargo de las obras preliminares a ejecutar en los mejoramientos de cocinas. | X36: Según lo estipule el supervisor del convenio
A37: =+A36+1 -> 25 | B37: General | C37: Externo | D37: Ejecución | E37: Administrativos | F37: Contratar personal no idóneo para la supervisión del proyecto | G37: Supervisar de forma inadecuada las actividades objeto del proyecto | H37: 3 | I37: 4 | J37: 7 | K37: {=+_xlfn.IFS(J37=2,"Riesgo bajo",J37=3,"Riesgo bajo",J37=4,"Riesgo bajo",J37=5,"Riesgo medio",J37=6,"Riesgo alto",J37=7,"Riesgo alto",J37=8,"Riesgo estremo",J37=9,"Riesgo estremo",J37=10,"Riesgo estremo")} -> Riesgo alto | L37: Contratante | M37: Reducir las consecuencias o el impacto del Riesgo | N37: Contratar personal con experiencia en la supervisión de este tipo de obras y realizar seguimiento continuo a su desempeño. | O37: 1 | P37: 2 | Q37: 3 | R37: BAJO | S37: SI | T37: Contratante | U37: Previo a la ejecución de obra en la etapa preliminar y de alistamiento se llevarán a cabo los procesos de selección de personal para la supervisión de la misma. | V37: Hasta culminar y liquidar la obra. | W37: VIVA verificará las hojas de vida del personal contratado y la idoneidad de los mimos. | X37: Según lo estipule el supervisor del convenio
A38: =+A37+1 -> 26 | B38: General | C38: Externo | D38: Ejecución | E38: Operacionales | F38: Accidentes o incidentes ocurridos durante la ejecución de las actividades de los Mejoramientos | G38: Posibles daños físicos y/o lesiones en el personal operacional | H38: 4 | I38: 4 | J38: 8 | K38: {=+_xlfn.IFS(J38=2,"Riesgo bajo",J38=3,"Riesgo bajo",J38=4,"Riesgo bajo",J38=5,"Riesgo medio",J38=6,"Riesgo alto",J38=7,"Riesgo alto",J38=8,"Riesgo estremo",J38=9,"Riesgo estremo",J38=10,"Riesgo estremo")} -> Riesgo estremo | L38: Contratista-contratante | M38: Reducir la probabilidad de la ocurrencia del evento. | N38: Capacitaciones permanentes de Seguridad y salud en el trabajo. Otorgando al personal de campo los elementos de Seguridad y salud en el Trabajo. | O38: 1 | P38: 2 | Q38: 3 | R38: BAJO | S38: SI | T38: Contratante-contratista | U38: Al momento del inicio de la ejecución de los mejoramientos | V38: Al momento de la culminación de la ejecución de los mejoramientos y entrega a satisfacción a quien corresponda. | W38: Evidenciando la asistencia del personal operativo y administrativo a las capacitaciones programadas de seguridad y salud en el trabajo | X38: Según lo estipule el personal designado por VIVA para realizar las capacitaciones
A39: =+A38+1 -> 27 | B39: General | C39: Externo | D39: Ejecución | E39: Operacionales | F39: Alteraciones del orden público | G39: Retraso en el cumplimiento del contrato | H39: 4 | I39: 4 | J39: 8 | K39: {=+_xlfn.IFS(J39=2,"Riesgo bajo",J39=3,"Riesgo bajo",J39=4,"Riesgo bajo",J39=5,"Riesgo medio",J39=6,"Riesgo alto",J39=7,"Riesgo alto",J39=8,"Riesgo estremo",J39=9,"Riesgo estremo",J39=10,"Riesgo estremo")} -> Riesgo estremo | L39: Contratista-contratante | M39: Aceptar el Riesgo | N39: Intervenciones coordinadas con las autoridades correspondientes | O39: 1 | P39: 2 | Q39: 3 | R39: BAJO | S39: SI | T39: Contratante-contratista | U39: Al momento del inicio de la ejecución de los mejoramientos | V39: Al momento de la culminación de la ejecución de los mejoramientos y entrega a satisfacción a quien corresponda. | W39: Teniendo conversaciones permanentes con el personal de la Administración de los diferentes Municipios y las autoridades locales | X39: Según lo estipule el supervisor del convenio
A40: =+A39+1 -> 28 | B40: General | C40: Externo | D40: Ejecución | E40: Operacionales | F40: Condiciones climáticas adversas | G40: Eventos climáticos, certificados por la autoridad competente, y que generan retrasos y sobrecostos en la ejecución del contrato. | H40: 3 | I40: 4 | J40: 7 | K40: {=+_xlfn.IFS(J40=2,"Riesgo bajo",J40=3,"Riesgo bajo",J40=4,"Riesgo bajo",J40=5,"Riesgo medio",J40=6,"Riesgo alto",J40=7,"Riesgo alto",J40=8,"Riesgo estremo",J40=9,"Riesgo estremo",J40=10,"Riesgo estremo")} -> Riesgo alto | L40: Contratista-contratante | M40: Aceptar el Riesgo | N40: Métodos e instrumentos que permitan disminuir los efectos derivados del clima. | O40: 1 | P40: 2 | Q40: 3 | R40: BAJO | S40: SI | T40: Contratante-contratista | U40: Al momento del inicio de la ejecución de los mejoramientos | V40: Al momento de la culminación de la ejecución de los mejoramientos y entrega a satisfacción a quien corresponda. | W40: Consultando las condiciones climáticas del sector | X40: Según lo estipule el supervisor del convenio
A41: =+A40+1 -> 29 | B41: General | C41: Externo | D41: Ejecución | E41: Operacionales | F41: Hurto y vandalismo | G41: Efectos desfavorables o cualquier daño, perjuicio o pérdida de los bienes a cargo del Contratista, Municipio y VIVA; según sea el caso. Evento causado por terceros | H41: 4 | I41: 4 | J41: 8 | K41: {=+_xlfn.IFS(J41=2,"Riesgo bajo",J41=3,"Riesgo bajo",J41=4,"Riesgo bajo",J41=5,"Riesgo medio",J41=6,"Riesgo alto",J41=7,"Riesgo alto",J41=8,"Riesgo estremo",J41=9,"Riesgo estremo",J41=10,"Riesgo estremo")} -> Riesgo estremo | L41: Contratista-contratante | M41: Reducir la probabilidad de la ocurrencia del evento. | N41: El Municipio deberá disponer de una bodega para el acopio de los materiales, que cumpla con las condiciones adecuadas que garanticen la custodia de los mismos. | O41: 1 | P41: 2 | Q41: 3 | R41: BAJO | S41: SI | T41: Contratante-contratista | U41: Al momento del inicio de la ejecución de los mejoramientos | V41: Al momento de la culminación de la ejecución de los mejoramientos. | W41: Mediante inspección previa de las bodegas por parte de VIVA, corroborando el estado y la seguridad de los espacios. | X41: Según lo estipule el supervisor del convenio
...

Sheet Instructivo 
A3: Instructivo
A4: Contexto | B4: Es identificar el contexto en el cual interactúa la Entidad Estatal para conocer el ambiente social, económico y político, e identificar (i) sus propios Riesgos; (ii) los Riesgos comunes a sus Procesos de Contratación; y (iii) los Riesgos del Proceso de Contratación en particular. Para mayor claridad remitirse a la hoja denominada "Contexto"
A5: Etapa | B5: Para el desarrollo de las diferentes etapas de los procesos de contratación, en la hoja denominada "Etapa", se encuentra definidas cada una de las fases que se adelantan en los procesos de contratación
A6: Clasificación | B6: En la hoja denominada "Clasificación", se encuentran clasificados los riesgos de acuerdo con el Documento Conpes 3714 de 2011
A7: Probabilidad | B7: Se debe asignar una categoría a cada Riesgo de acuerdo con la probabilidad de ocurrencia, para mayor claridad, remitirse a la hoja denominada "Probabilidad"
A8: Impacto | B8: Determinar el impacto del Riesgo, utilizando la tabla de la Hoja denominada "Impacto"
A9: Categoria | B9: Para cada Riesgo se deben sumar las valoraciones de probabilidad e impacto. Para mayor claridad remitirse a la hoja denominada "Categoria"
A10: Responsable | B10: Se debe seleccionar la opción descrita en la hoja denominada "Responsable"
A11: Tratamiento | B11: Se debe seleccionar la opción apropiada teniendo en cuenta el costo y el beneficio de cualquiera de las acciones identificadas para el tratamiento del Riesgo, enumeradas en la hoja denominada "Tratamiento"

Sheet Contexto
B4: Contexto
B5: Clase | C5: General | D5: Es un riesgo de todos los Procesos de Contratación adelantados por la Entidad Estatal, por lo cual está presente en toda su actividad contractual.
C6: Específico | D6: Es un Riesgo propio del Proceso de Contratación objeto de análisis.
B7: Fuente | C7: Interno | D7: Es un Riesgo asociado a la operación, capacidad, o situación particular de la Entidad Estatal (reputacional, tecnológico).
C8: Externo | D8: Es un Riesgo del sector del objeto del Proceso de Contratación, o asociado a asuntos no referidos a la Entidad Estatal (desastres económicos, existencia de monopolios, circunstancias electorales).

Sheet Etapa
B3: Tabla de etapas de la contratación
B4: Planeación | C4: La etapa de planeación está comprendida entre la elaboración del Plan Anual de Adquisiciones y la fecha en la cual se decide continuar o no con el Proceso de Contratación. Durante esta etapa, la Entidad Estatal elabora los estudios previos y el proyecto de pliegos de condiciones o sus equivalentes. Dentro de las preguntas que la Entidad Estatal debe hacerse para identificar los Riesgos de la etapa de planeación se encuentran las siguientes: (i) La modalidad de contratación es adecuada para el bien servicio u obra necesitado. (ii) Los requisitos habilitantes son los apropiados para el Proceso de Contratación y es posible encontrar proponentes que los cumplan incluyendo los Riesgos relacionados con la habilidad para determinar requisitos habilitantes consistentes con el Proceso de Contratación y con el sector económico en el que actúan los posibles oferentes. (iii) El valor del contrato corresponde a los precios del mercado. (iv) La descripción del bien o servicio requerido es claro. (v) El Proceso de Contratación cuenta con las condiciones que garanticen la transparencia, equidad y competencia entre los proponentes. (vi) El estudio de mercado permite identificar los aspectos de oferta y demanda del mercado respectivo. (vii) El diseño del Proceso de Contratación permite satisfacer las necesidades de la Entidad Estatal, cumplir su misión y si es coherente con el cumplimiento de sus objetivos y metas.
B5: Selección | C5: La etapa de selección está comprendida entre el acto de Apertura del Proceso de Contratación y la Adjudicación o la declaración de desierto del Proceso de Contratación. En la etapa de selección la Entidad Estatal selecciona al contratista. En esta etapa los Riesgos frecuentes son los siguientes: (i) Falta de capacidad de la Entidad Estatal para promover y adelantar la selección del contratista, incluyendo el riesgo de seleccionar aquellos que no cumplan con la totalidad de los requisitos habilitantes o se encuentren incursos en alguna inhabilidad o incompatibilidad. (ii) Riesgo de colusión. (iii) Riesgo de ofertas artificialmente bajas.
B6: Contratación | C6: Una vez adjudicado el contrato objeto del Proceso de Contratación, inicia la etapa de contratación en la cual se debe cumplir con el cronograma previsto para la celebración del contrato, el registro presupuestal, la publicación en el SECOP y el cumplimiento de los requisitos para el perfeccionamiento, ejecución y pago. En esta etapa los Riesgos frecuentes son los siguientes: (i) Riesgo de que no se firme el contrato. (ii) Riesgo de que no se presenten las garantías requeridas en los Documentos del Proceso de Contratación o que su presentación sea tardía. (iii) Riesgos asociados al incumplimiento de la publicación o el registro presupuestal del contrato. (iv) Riesgos asociados a los reclamos de terceros sobre la selección del oferente que retrasen el perfeccionamiento del contrato.
B7: Ejecución | C7: La etapa de ejecución inicia una vez cumplidos los requisitos previstos para iniciar la ejecución del contrato respectivo y termina con el vencimiento del plazo del contrato o la fecha de liquidación si hay lugar a ella. Esta etapa puede extenderse cuando hay lugar a garantías de calidad, estabilidad y mantenimiento, o a condiciones de disposición final o recuperación ambiental de las obras o bienes. En esta etapa se cumplen con las obligaciones previstas en el contrato, permitiendo el logro del objeto del Proceso de Contratación; en consecuencia los Riesgos frecuentes son los asociados al cumplimiento del contrato y el logro del objeto propuesto, el rompimiento del equilibrio económico del contrato, los asociados a la liquidación y terminación del contrato y aquellos relacionados con el incumplimiento de la normativa posconsumo.

Sheet Clasificación
B5: Clasificación del riesgo
B6: Económico: | C6: Son los derivados del comportamiento del mercado, tales como la ﬂuctuación de los precios de los insumos, desabastecimiento y especulación de los mismos, entre otros.
B8: Social o Político: | C8: Son los derivados de los cambios de las políticas gubernamentales y de cambios en las condiciones sociales que tengan impacto en la ejecución del contrato.
B9: Operacionales: | C9: Son los asociados a la operatividad del contrato, tales como la suficiencia del presupuesto oficial, del plazo o los derivados de procesos, procedimientos, parámetros, sistemas de información y tecnológicos, equipos humanos o técnicos inadecuados o insuficientes.
B12: Financiero: Son: | C12: (i) el riesgo de consecución de financiación o riesgo de liquidez para obtener recursos para cumplir con el objeto del contrato, y (ii) el riesgo de las condiciones financieras establecidas para la obtención de los recursos, tales como plazos, tasas, garantías, contragarantías, y refinanciaciones, entre otros
B13: Regulatorio: | C13: Derivados de cambios regulatorios o reglamentarios que afecten la ecuación económica del contrato.
B14: De la Naturaleza: | C14: Son los eventos naturales previsibles en los cuales no hay intervención humana que puedan tener impacto en la ejecución del contrato, por ejemplo los temblores, inundaciones, lluvias, sequías, entre otros.
B16: Ambiental: | C16: Son los derivados de las obligaciones legales o reglamentarias de carácter ambiental, así como de las licencias, planes de manejo o de permisos y autorizaciones ambientales, incluyendo tasas retributivas y compensatorias, obligaciones de mitigación, tareas de monitoreo y control, entre otras.
B17: Tecnológico: | C17: Son los derivados de fallas en los sistemas de comunicación de voz y de datos, suspensión de servicios públicos, nuevos desarrollos tecnológicos o estándares que deben ser tenidos en cuenta para la ejecución del contrato, obsolescencia tecnológica.
B19: Nota: Las definiciones de los tipos de riesgos se han tomado textualmente del documento Conpes 3714 de 2011.

Sheet Probabilidad
B5: Tabla de probabilidad
B6: Probabilidad | C6: 1 | D6: Raro, puede ocurrir excepcionalmente
C7: 2 | D7: Improbable, puede ocurrir ocasionalmente
C8: 3 | D8: Moderado, puede ocurrir en cualquier momento futuro
C9: 4 | D9: Probable, probablemente va a ocurrir
C10: 5 | D10: Casi seguro, ocurre en la mayoría de las circunstancias

Sheet Impacto 
B2: Tabla de impacto
B3: Nivel | C3: Ponderación | D3: Impacto (Calificación Cualitativa) | E3: Impacto (Calificación Monetaria) | F3: Cuantia
B4: 1 | C4: Insignificante: | D4: Obstruye la ejecución del contrato de manera intrascendente | E4: Los sobrecostos no representan más del uno por ciento (1%) del valor del contrato. | F4: =ROUND(('Matriz de Riesgo'!C9*0.01),0) -> #VALUE!
B5: 2 | C5: Menor: | D5: Dificulta la ejecución del contrato de manera baja. Aplicando medidas mínimas se puede lograr el objeto contractual | E5: Los sobrecostos no representan más del cinco por ciento (5%) del valor del contrato. | F5: =ROUND(('Matriz de Riesgo'!C9*0.05),0) -> #VALUE!
B6: 3 | C6: Moderado: | D6: Afecta la ejecución del contrato sin alterar el beneficio de las partes. | E6: Genera un impacto sobre el valor del contrato entre el cinco (5%) y el quince por ciento (15%) | F6: =ROUND(('Matriz de Riesgo'!C9*0.15),0) -> #VALUE!
B7: 4 | C7: Mayor: | D7: Obstruye la ejecución del contrato sustancialmente pero aún así permite la consecución del objeto contractual | E7: Incrementa el valor del contrato entre el quince (15%) y el treinta por ciento (30%) | F7: =ROUND(('Matriz de Riesgo'!C9*0.31),0) -> #VALUE!
B8: 5 | C8: Catastrófico: | D8: Perturba la ejecución del contrato de manera grave imposibilitando la consecución del objeto contractual. | E8: Impacto sobre el valor del contrato por más del treinta por ciento (30%) | F8: =ROUND(('Matriz de Riesgo'!C9*0.31),0) -> #VALUE!

Sheet Categoria
B5: Tabla de categoria
B6: Valoración | C6: Probabilidad + Impacto | D6: Es la suma de la valoración que se hace de probabilidad e impacto
B7: Categoría | C7: 8,9 y 10 | D7: Riesgo extremo
C8: 6 y 7 | D8: Riesgo alto
C9: 5 | D9: Riesgo medio
C10: 2,3 y 4 | D10: Riesgo bajo

Sheet Responsable
B9: Responsable
B10: ¿A quién se le asigna? | C10: Entidad Estatal | D10: Cada una las (a) a las que se refiere el artículo 2 de Ley 80 1993; (b) a que se los artículos 10, 14 Y 24 de la Ley 11 de 2007 y (c) aquellas entidades que por disposición de ley deban aplicar la Ley 80 1993 Y la1150 2007, o las normas que las modifiquen, aclaren, adicionen o sustituyan.
C11: Contratista | D11: Aquel que, por contrato, ejecuta una obra material o está encargada de un servicio para el gobierno, una corporación o un particular.

Sheet Tratamiento
B5: Opciones de tratamiento
B6: Tratamiento de los Riesgos | C6: Evitar el Riesgo | D6: Para lo cual debe decidir no proceder con la actividad que causa el Riesgo o buscar alternativas para obtener el beneficio del Proceso de Contratación.
C7: Transferir el Riesgo | D7: Haciendo responsable a otra entidad quien asume las consecuencias de la materialización del Riesgo, típicamente se transfiere el Riesgo a través de las garantías previstas en el Proceso de Contratación o en las condiciones del contrato estableciendo con claridad quien es el responsable. El principio general es que el Riesgo debe asumirlo la parte que pueda enfrentarlo en mejor forma, bien sea por su experiencia, conocimiento o papel dentro de la ecuación contractual, entre otras.
C8: Aceptar el Riesgo | D8: Cuando no puede ser evitado ni ser transferido o el costo de evitarlo o transferirlo es muy alto. En este caso se recomiendan medidas para reducir el Riesgo o mitigar su impacto, así como el monitoreo.
C9: Reducir la probabilidad de la ocurrencia del evento, cuando el Riesgo debe ser aceptado. | D9: Para el efecto se sugieren medidas como: (i) aclarar los requisitos, requerimientos y especificaciones y productos del contrato; (ii) revisar procesos; (iii) establecer sistemas de aseguramiento de calidad en los contratos; (iv) especificar estándares de los bienes y servicios; (v) hacer pruebas e inspecciones de los bienes; (vi) establecer sistemas de acreditación profesional; (vii) incluir declaraciones y garantías del contratista; (viii) administrar la relación entre proveedores y compradores.
C10: Reducir las consecuencias o el impacto del Riesgo | D10: A través de planes de contingencia, en los términos y condiciones del contrato, inspecciones y revisiones para revisar el cumplimiento del contrato y programas de apremio para lograr el cumplimiento del contrato.

Sheet Definiciones
B2: El riesgo | C2: es una medida de la variabilidad de los posibles resultados que se pueden esperar de un evento
B3: riesgo contractual | C3: todas aquellas circunstancias que pueden presentarse durante el desarrollo o ejecución de un contrato y que pueden alterar el equilibrio financiero del mismo y ha tenido una regulación desde cinco ópticas, asociadas con el proceso de gestión que se requiere en cada caso.
B4: cinco ópticas | C4: Riesgos previsibles
C5: Riesgos imprevisibles
C6: riesgos cubiertos bajo el Régimen de Garantías”
C7: obligaciones contingentes
C8: riesgos generados por malas prácticas
B9: Riesgos previsibles | C9: son todas aquellas circunstancias que de presentarse durante el desarrollo y ejecución del contrato, tienen la potencialidad de alterar el equilibrio financiero del mismo, siempre que sean identificables y cuantificables en condiciones normales | D9: no son riesgos previsibles | E9: El incumplimiento total o parcial del contrato,
B10: riesgos cubiertos bajo el Régimen de Garantías” | C10: son aquellos relacionados con la seriedad de la oferta, el cumplimiento de las obligaciones contractuales, la responsabilidad extracontractual que pueda surgir para la administración por las actuaciones, hechos u omisiones de sus contratistas o subcontratistas; y de forma general, los demás riesgos a que se encuentre expuesta la Administración según el tipo de contrato y de acuerdo a lo dispuesto en el artículo 7 de la Ley 1150 de 2007. | E10: Los hechos derivados de la responsabilidad extracontractual, que se encuentren cubiertos mediante garantías especiales
B11: Riesgos imprevisibles | C11: la teoría de la imprevisión es aquella que “regula los efectos de tres situaciones que se pueden presentar al ejecutar un contrato: un suceso que se produce después de celebrado el contrato cuya ocurrencia no era previsible al momento de suscribirlo, una situación preexistente al contrato pero que se desconocía por las partes sin culpa de ninguna de ellas, y un suceso previsto, cuyos efectos dañinos para el contrato resultan ser tan diferentes de los planeados, que se vuelve irresistible | E11: Los que corresponden a la teoría de la imprevisión
B12: obligaciones contingentes | C12: son entendidas como aquellas obligaciones en virtud de las cuales una entidad, estipula contractualmente a favor de su contratista el pago de una suma de dinero, determinada o determinable a partir de factores identificados, por la ocurrencia de un evento futuro e incierto. A diferencia de los riesgos antes enunciados, tienen un proceso de gestión especial, desde la identificación y valoración, hasta la mitigación y el seguimiento. En todo caso se aclara que puede haber riesgos previsibles que correspondan a obligaciones contingentes pero no todas las obligaciones contingentes son riesgos previsibles | E12: Las inhabilidades e incompatibilidades
B13: riesgos generados por malas prácticas | C13: son aquellos sucesos que pueden ocasionarse por acciones negativas en la contratación o por riesgos operacionales que se manifiestan durante el proceso precontractual y que afectan la ejecución del contrato. Por su proceso de gestión y su relevancia en la contratación colombiana, este tipo de riesgos se abordan en el Manual de las Buenas Prácticas de la Contratación Estatal.

Sheet Hoja2
G3: Económico
C4: Asociados a fenómenos de origen biólogico: plagas, epidemias | D4: Ambiental | G4: Social o Político
C5: Asociados a fenómenos de origen humano no intencionales: aglomeración de público | D5: Social o Político | G5: Operacionales
C6: Asociados a fenómenos de origen natural: atmosféricos, hidrológicos, geológicos, otros | D6: De la Naturaleza | G6: Financiero
C7: Asociados a fenómenos de origen socio-natural: inundaciones, movimientos de masa, incendios forestales | D7: De la Naturaleza | G7: Regulatorio
