Workbook
Name _________________________________________________i1: #REF!
Name ________________________________________________i1: #REF!
Name _______________________________________________i1: #REF!
Name ______________________________________________i1: #REF!
Name _____________________________________________i1: #REF!
Name ____________________________________________i1: #REF!
Name ___________________________________________i1: #REF!
Name __________________________________________i1: #REF!
Name _________________________________________i1: #REF!
Name ________________________________________i1: #REF!
Name _______________________________________i1: #REF!
Name ______________________________________i1: #REF!
Name _____________________________________i1: #REF!
Name ____________________________________i1: #REF!
Name ___________________________________i1: #REF!
Name __________________________________i1: #REF!
Name _________________________________i1: #REF!
Name ________________________________i1: #REF!
Name _______________________________i1: #REF!
Name ______________________________i1: #REF!
Name _____________________________i1: #REF!
Name ____________________________i1: #REF!
Name ___________________________i1: #REF!
Name __________________________i1: #REF!
Name _________________________i1: #REF!
Name ________________________i1: #REF!
Name _______________________i1: #REF!
Name ______________________i1: #REF!
Name _____________________i1: #REF!
Name ____________________i1: #REF!
Name ___________________i1: #REF!
Name __________________A1: IF([0]!Values_Entered,[0]!Header_Row+[0]!Number_of_Payments,[0]!Header_Row)
Name __________________A17000: #REF!
Name __________________A20000: #REF!
Name __________________A30000: #REF!
Name __________________AFC1: [1]INV!$A$25:$D$28
Name __________________AFC3: [1]INV!$F$25:$I$28
Name __________________AFC5: [1]INV!$K$25:$N$28
Name __________________BGC1: [1]INV!$A$5:$D$8
Name __________________BGC3: [1]INV!$F$5:$I$8
Name __________________BGC5: [1]INV!$K$5:$N$8
Name __________________CAC1: [1]INV!$A$19:$D$22
Name __________________CAC3: [1]INV!$F$19:$I$22
Name __________________CAC5: [1]INV!$K$19:$N$22
Name __________________G1: #N/A
Name __________________i1: #REF!
Name __________________MA2: #REF!
Name __________________PJ50: #REF!
Name __________________SBC1: [1]INV!$A$12:$D$15
Name __________________SBC3: [1]INV!$F$12:$I$15
Name __________________SBC5: [1]INV!$K$12:$N$15
Name __________________v1: IF(__________________v8,[0]!Header_Row+__________________v4,[0]!Header_Row)
Name __________________v2: IF(__________________v8,[0]!Header_Row+__________________v4,[0]!Header_Row)
Name __________________v4: #N/A
Name __________________v5: #N/A
Name __________________v6: #N/A
Name __________________v7: Scheduled_Payment+Extra_Payment
Name __________________v7: Scheduled_Payment+Extra_Payment
Name __________________v7: Scheduled_Payment+Extra_Payment
Name __________________v8: #N/A

Sheet FASE 1
B3: ALCALDIA MAYOR DE CARTAGENA DE INDIAS
B6: «INTERVENTORIA INTEGRAL AL PROYECTO “COMPLEMENTACIÓN, AJUSTE, ELABORACIÓN DE ESTUDIOS Y DISEÑOS DEFINITIVOS Y EJECUCIÓN DE LA OBRA DE CONSTRUCCIÓN Y DOTACION DE CASAS DE JUSTICIA” EN EL DISTRITO DE CARTAGENA»
B10: PRESUPUESTO OFICIAL
B13: COSTOS DIRECTOS DE PERSONAL
B14: Número Puestos | C14: Cargos | D14: Salario Mensual | E14: F.M. | F14: No. Meses | G14: Dedicación x Mes | H14: Valor Parcial
B15: PERSONAL PROFESIONAL
B16: 1 | C16: Director de Interventoría | D16: 7000000 | E16: =+'FACTOR MULTIPLICADOR'!$D$50 -> 2.25 | F16: 5 | G16: 0.5 | H16: =B16*D16*E16*F16*G16 -> 39375000
B17: 2 | C17: Residente de Interventoría | D17: 4000000 | E17: =+'FACTOR MULTIPLICADOR'!$D$50 -> 2.25 | F17: =+F16 -> 5 | G17: 1 | H17: =B17*D17*E17*F17*G17 -> 90000000
B18: 1 | C18: Asesor estructural | D18: 5000000 | E18: =+'FACTOR MULTIPLICADOR'!$D$50 -> 2.25 | F18: =+F17 -> 5 | G18: 0.5 | H18: =B18*D18*E18*F18*G18 -> 28125000
B19: 1 | C19: Asesor Hidraulico | D19: 5000000 | E19: =+'FACTOR MULTIPLICADOR'!$D$50 -> 2.25 | F19: =+F17 -> 5 | G19: 0.5 | H19: =B19*D19*E19*F19*G19 -> 28125000
B20: 1 | C20: Asesor en Geotécnia | D20: =+D18 -> 5000000 | E20: =+'FACTOR MULTIPLICADOR'!$D$50 -> 2.25 | F20: =+F18 -> 5 | G20: 0.5 | H20: =B20*D20*E20*F20*G20 -> 28125000
B21: 2 | C21: Ingeniero Ambiental | D21: 4000000 | E21: =+'FACTOR MULTIPLICADOR'!$D$50 -> 2.25 | F21: =+F19 -> 5 | G21: 1 | H21: =B21*D21*E21*F21*G21 -> 90000000
B22: =+B17 -> 2 | C22: Asesor SST | D22: 3500000 | E22: =+'FACTOR MULTIPLICADOR'!$D$50 -> 2.25 | F22: =+F20 -> 5 | G22: 1 | H22: =B22*D22*E22*F22*G22 -> 78750000
B23: 2 | C23: Trabajador(a) Social | D23: 3500000 | E23: =+'FACTOR MULTIPLICADOR'!$D$50 -> 2.25 | F23: =+F22 -> 5 | G23: 1 | H23: =B23*D23*E23*F23*G23 -> 78750000
B24: PERSONAL TECNICO-ADMINISTRATIVO
B25: 1 | C25: Secretaria | D25: 2000000 | E25: =+'FACTOR MULTIPLICADOR'!$D$50 -> 2.25 | F25: =F23 -> 5 | G25: 1 | H25: =B25*D25*E25*F25*G25 -> 22500000
B26: 1 | C26: Laboratorista | D26: 2800000 | E26: =+'FACTOR MULTIPLICADOR'!$D$50 -> 2.25 | F26: =+F25 -> 5 | G26: 1 | H26: =B26*D26*E26*F26*G26 -> 31500000
B27: 1 | C27: Topografo | D27: 3000000 | E27: =+'FACTOR MULTIPLICADOR'!$D$50 -> 2.25 | F27: =+F26 -> 5 | G27: 1 | H27: =B27*D27*E27*F27*G27 -> 33750000
B28: 2 | C28: Cadenero | D28: 2000000 | E28: =+'FACTOR MULTIPLICADOR'!$D$50 -> 2.25 | F28: =+F27 -> 5 | G28: 1 | H28: =B28*D28*E28*F28*G28 -> 45000000
E29: SUB TOTAL COSTO DE PERSONAL | H29: =SUM(H16:H28) -> 5.94e+08
B30: GASTOS REEMBOLSABLES
B31: Cantidad | C31: Descripcion | D31: Mensualidad | F31: No. Meses | H31: Valor Parcial
B32: 1 | C32: Alquiler de equipos y software técnico | D32: 20000000 | F32: =F28 -> 5 | H32: =B32*D32*F32 -> 100000000
B33: 2 | C33: Ensayos de laboratorio, control de calidad y toma de muestras | D33: 11000000 | F33: =+F32 -> 5 | H33: =B33*D33*F33 -> 110000000
B34: 1 | C34: Oficina (incluye servicios, comunicaciones y suministros) | D34: 4000000 | F34: =+F33 -> 5 | H34: =B34*D34*F34 -> 20000000
B35: 1 | C35: Gastos generales (papelería, planos, transporte local, periféricos) | D35: 3412862.8 | F35: =+F34 -> 5 | H35: =B35*D35*F35 -> 17064314
B36: 2 | C36: Alquiler de vehículo (incluye conductor, combustible y mantenimiento) | D36: 9000000 | F36: =+F35 -> 5 | H36: =B36*D36*F36 -> 90000000
E37: SUB TOTAL GASTOS REEMBOLSABLES | H37: =SUM(H32:H36) -> 3.3706431e+08
F39: SUBTOTAL COSTOS INTERVENTORIA | H39: =+H29+H37 -> 9.3106431e+08
F40: IVA (19%) | H40: =H39*0.19 -> 1.7690222e+08
F41: VALOR TOTAL SERVICIO FASE 1 | H41: =H39+H40 -> 1.1079665e+09

Sheet FASE 2
B3: ALCALDIA MAYOR DE CARTAGENA DE INDIAS
B6: «INTERVENTORIA INTEGRAL AL PROYECTO “COMPLEMENTACIÓN, AJUSTE, ELABORACIÓN DE ESTUDIOS Y DISEÑOS DEFINITIVOS Y EJECUCIÓN DE LA OBRA DE CONSTRUCCIÓN Y DOTACION DE CASAS DE JUSTICIA” EN EL DISTRITO DE CARTAGENA»
B10: PRESUPUESTO OFICIAL
B13: COSTOS DIRECTOS DE PERSONAL
B14: Número Puestos | C14: Cargos | D14: Salario Mensual | E14: F.M. | F14: No. Meses | G14: Dedicación x Mes | H14: Valor Parcial
B15: PERSONAL PROFESIONAL
B16: 1 | C16: Director de Interventoría | D16: 7000000 | E16: =+'FACTOR MULTIPLICADOR'!$D$50 -> 2.25 | F16: 10 | G16: 0.5 | H16: =B16*D16*E16*F16*G16 -> 78750000
B17: 2 | C17: Residente de Interventoría | D17: 4000000 | E17: =+'FACTOR MULTIPLICADOR'!$D$50 -> 2.25 | F17: =+F16 -> 10 | G17: 1 | H17: =B17*D17*E17*F17*G17 -> 1.8e+08
B18: 1 | C18: Asesor estructural | D18: 5000000 | E18: =+'FACTOR MULTIPLICADOR'!$D$50 -> 2.25 | F18: =+F17 -> 10 | G18: 0.5 | H18: =B18*D18*E18*F18*G18 -> 56250000
B19: 1 | C19: Asesor Hidraulico | D19: 5000000 | E19: =+'FACTOR MULTIPLICADOR'!$D$50 -> 2.25 | F19: =+F17 -> 10 | G19: 0.5 | H19: =B19*D19*E19*F19*G19 -> 56250000
B20: 1 | C20: Asesor en Geotécnia | D20: =+D18 -> 5000000 | E20: =+'FACTOR MULTIPLICADOR'!$D$50 -> 2.25 | F20: =+F18 -> 10 | G20: 0.5 | H20: =B20*D20*E20*F20*G20 -> 56250000
B21: 2 | C21: Ingeniero Ambiental | D21: 4000000 | E21: =+'FACTOR MULTIPLICADOR'!$D$50 -> 2.25 | F21: =+F19 -> 10 | G21: 1 | H21: =B21*D21*E21*F21*G21 -> 1.8e+08
B22: =+B17 -> 2 | C22: Asesor SST | D22: 3500000 | E22: =+'FACTOR MULTIPLICADOR'!$D$50 -> 2.25 | F22: =+F20 -> 10 | G22: 1 | H22: =B22*D22*E22*F22*G22 -> 1.575e+08
B23: 2 | C23: Trabajador(a) Social | D23: 3500000 | E23: =+'FACTOR MULTIPLICADOR'!$D$50 -> 2.25 | F23: =+F22 -> 10 | G23: 1 | H23: =B23*D23*E23*F23*G23 -> 1.575e+08
B24: PERSONAL TECNICO-ADMINISTRATIVO
B25: 1 | C25: Secretaria | D25: 2000000 | E25: =+'FACTOR MULTIPLICADOR'!$D$50 -> 2.25 | F25: =F23 -> 10 | G25: 1 | H25: =B25*D25*E25*F25*G25 -> 45000000
B26: 1 | C26: Laboratorista | D26: 2800000 | E26: =+'FACTOR MULTIPLICADOR'!$D$50 -> 2.25 | F26: =+F25 -> 10 | G26: 1 | H26: =B26*D26*E26*F26*G26 -> 63000000
B27: 1 | C27: Topografo | D27: 3000000 | E27: =+'FACTOR MULTIPLICADOR'!$D$50 -> 2.25 | F27: =+F26 -> 10 | G27: 1 | H27: =B27*D27*E27*F27*G27 -> 67500000
B28: 2 | C28: Cadenero | D28: 2000000 | E28: =+'FACTOR MULTIPLICADOR'!$D$50 -> 2.25 | F28: =+F27 -> 10 | G28: 1 | H28: =B28*D28*E28*F28*G28 -> 90000000
E29: SUB TOTAL COSTO DE PERSONAL | H29: =SUM(H16:H28) -> 1.188e+09
B30: GASTOS REEMBOLSABLES
B31: Cantidad | C31: Descripcion | D31: Mensualidad | F31: No. Meses | H31: Valor Parcial
B32: 1 | C32: Alquiler de equipos y software técnico | D32: 20000000 | F32: =F28 -> 10 | H32: =B32*D32*F32 -> 200000000
B33: 2 | C33: Ensayos de laboratorio, control de calidad y toma de muestras | D33: 11000000 | F33: =+F32 -> 10 | H33: =B33*D33*F33 -> 220000000
B34: 1 | C34: Oficina (incluye servicios, comunicaciones y suministros) | D34: 4000000 | F34: =+F33 -> 10 | H34: =B34*D34*F34 -> 40000000
B35: 1 | C35: Gastos generales (papelería, planos, transporte local, periféricos) | D35: 3412862.8 | F35: =+F34 -> 10 | H35: =B35*D35*F35 -> 34128628
B36: 2 | C36: Alquiler de vehículo (incluye conductor, combustible y mantenimiento) | D36: 9000000 | F36: =+F35 -> 10 | H36: =B36*D36*F36 -> 180000000
E37: SUB TOTAL GASTOS REEMBOLSABLES | H37: =SUM(H32:H36) -> 6.7412863e+08
F39: SUBTOTAL COSTOS INTERVENTORIA | H39: =+H29+H37 -> 1.8621286e+09
F40: IVA (19%) | H40: =H39*0.19 -> 3.5380444e+08
F41: VALOR TOTAL SERVICIO FASE 2 | H41: =H39+H40 -> 2.2159331e+09
F42: VALOR TOTAL SERVICIO FASE 1 | H42: ='FASE 1'!H41 -> 1.1079665e+09
F43: VALOR TOTAL DE LA INTERVENTORIA | H43: =H41+H42 -> 3.3238996e+09

Sheet FACTOR MULTIPLICADOR
B2: FACTOR MULTIPLICADOR
B4: 1 | C4: Salario Básico | D4: 1
B6: 2 | C6: Prestaciones Sociales
B7: 2.01 | C7: Prima Anual | D7: 0.0833
B8: =+B7+0.01 -> 2.02 | C8: Cesantía Anual | D8: 0.0833
B9: =+B8+0.01 -> 2.03 | C9: Intereses a las Cesantías | D9: 0.01
B10: =+B9+0.01 -> 2.04 | C10: Vacaciones | D10: 0.042
B11: =+B10+0.01 -> 2.05 | C11: Salud | D11: 0.165
B12: =+B11+0.01 -> 2.06 | C12: Pensión | D12: 0.12
B13: =+B12+0.01 -> 2.07 | C13: Subsidio familiar | D13: 0.04
B14: =+B13+0.01 -> 2.08 | C14: SENA | D14: 0.02
B15: =+B14+0.01 -> 2.09 | C15: ICBF | D15: 0.03
B16: =+B15+0.01 -> 2.1 | C16: ARP | D16: 0.025
B17: =+B16+0.01 -> 2.11 | C17: Dotacion (3 veces al año) incluye seguridad industrial y salud ocupacional | D17: 0.03
B18: SUBTOTAL 2 | D18: =+SUM(D7:D17) -> 0.6486
B20: 3 | C20: Costos Indirectos
B21: 3.01 | C21: Costos oficina (arrendamiento, administración y servicios públicos) | D21: 0
B22: =+B21+0.01 -> 3.02 | C22: Papelería, Fotocopias y Otros de oficina | D22: 0
B23: =+B22+0.01 -> 3.03 | C23: Personal administrativo, no facturable | D23: 0.01
B24: =+B23+0.01 -> 3.04 | C24: Asesoría legal, tributaria y Médica | D24: 0.0987
B25: =+B24+0.01 -> 3.05 | C25: Equipo de oficina para uso del proyecto y actualizaciones de software | D25: 0.05
B26: =+B25+0.01 -> 3.06 | C26: Seguridad industrial y ocupacional (incluye Protocolo de Bioseguridad) | D26: 0.07
B27: =+B26+0.01 -> 3.07 | C27: Costos de preparación de la propuesta | D27: 0.01
B28: SUBTOTAL 3 | D28: =+SUM(D21:D27) -> 0.2387
B30: 4 | C30: Honorarios
B31: 4.01 | C31: Honorarios o Utilidad | D31: 0.19186602
B32: SUBTOTAL 4 | D32: =+SUM(D31) -> 0.19186602
B34: 5 | C34: Costos de Perfeccionamiento
B35: 5.01 | C35: Poliza de calidad | D35: 0.0053
B36: =+B35+0.01 -> 5.02 | C36: Poliza de cumplimiento | D36: 0.0099
B37: =+B36+0.01 -> 5.03 | C37: Poliza de salarios y prestaciones sociales | D37: 0.0265
B38: =+B37+0.01 -> 5.04 | C38: Publicacion en Diario Oficial | D38: 0
B39: =+B38+0.01 -> 5.05 | C39: Retefuente | D39: 0.02
B40: =+B39+0.01 -> 5.06 | C40: ReteICA | D40: 0.011
B41: =+B40+0.01 -> 5.07 | C41: Estampilla | D41: 0.0286
B42: =+B41+0.01 -> 5.08 | C42: Gastos por intereses bancarios (4/1000) | D42: 0.004
B43: SUBTOTAL 5 | D43: =+SUM(D35:D42) -> 0.1053
B45: 6 | C45: Imprevistos
B46: 6.01 | C46: Imprevistos (3%) | D46: =+(D4+D18+D28+D32+D43)*0.03 -> 0.065533981
B47: SUBTOTAL 6 | D47: =+SUM(D46) -> 0.065533981
...
