Workbook
Name _: #REF!
Name _: #REF!
Name _____________INF1: #REF!
Name _____________INF1: #REF!
Name ____________INF1: #REF!
Name ____________INF1: #REF!
Name ___________INF1: #REF!
Name ___________INF1: #REF!
Name __________AIU1: #REF!
Name __________AIU1: #REF!
Name __________AIU2: [4]BASE!$C$5
Name __________Cod1: #REF!
Name __________Cod1: #REF!
Name __________Cod1: #REF!
Name __________Cod1: #REF!
Name __________Cod1: #REF!
Name __________Cod1: #REF!
Name __________INF1: #REF!
Name __________INF1: #REF!
Name __________Pa2: '[5]Paral. 2'!$E:$E
Name __________Pa3: '[5]Paral. 3'!$E:$E
Name __________Pa4: [5]Paral.4!$E:$E
Name __________Po2: [6]REAJUSTESACTA1PROVI!#REF!
Name __________Po2: [6]REAJUSTESACTA1PROVI!#REF!
Name __________Po2: [6]REAJUSTESACTA1PROVI!#REF!
Name __________Po2: [6]REAJUSTESACTA1PROVI!#REF!
Name __________Po2: [6]REAJUSTESACTA1PROVI!#REF!
Name __________Po2: [6]REAJUSTESACTA1PROVI!#REF!
Name __________ST166: [7]BASE!$D$248
Name __________TPE8016: [7]BASE!$D$146
Name __________TPE8020: [7]BASE!$D$147
Name __________TPE8025: [7]BASE!$D$148
Name __________TPN1002: [7]BASE!$D$150
Name __________TPN1003: [7]BASE!$D$151
Name __________TPN1004: [7]BASE!$D$152
Name __________TPN1006: [7]BASE!$D$153
Name __________TPN1008: [7]BASE!$D$154
Name __________TPN1202: [7]BASE!$D$160
Name __________TPN1203: [7]BASE!$D$161
Name __________TPN1204: [7]BASE!$D$162
Name __________TPN1206: [7]BASE!$D$163
Name __________TPN1208: [7]BASE!$D$164
Name __________TPN16012: [7]BASE!$D$167
Name __________TPN1602: [7]BASE!$D$168
Name __________TPN1603: [7]BASE!$D$169
Name __________TPN1604: [7]BASE!$D$170
Name __________TPN1606: [7]BASE!$D$171
Name __________TPN1608: [7]BASE!$D$172
Name __________TUZ22: [8]BASE!#REF!
Name __________TUZ22: [8]BASE!#REF!
Name __________TUZ22: [8]BASE!#REF!
Name __________TUZ22: [8]BASE!#REF!
Name __________TUZ22: [8]BASE!#REF!
Name __________TUZ22: [8]BASE!#REF!
Name __________TUZ36: [8]BASE!#REF!
Name __________TUZ36: [8]BASE!#REF!
Name __________TUZ36: [8]BASE!#REF!
Name __________TUZ36: [8]BASE!#REF!
Name __________TUZ36: [8]BASE!#REF!
Name __________TZ323: [8]BASE!#REF!

Sheet Consolidado Ppto. Oficial
A1: FORMULARIO DE OFERTA ECONOMICA GRUPO 3.2. LOTE 2
A2: INTERVENTORÍA INTEGRAL A LOS ESTUDIOS Y DISEÑOS PARA LA FORMULACIÓN Y ESTRUCTURACIÓN DE PLANES MAESTROS DE ACUEDUCTO Y ALCANTARILLADO PARA LA CONSTRUCCIÓN DE OBRAS DE AGUA POTABLE Y SANEAMIENTO BÁSICO EN EL DEPARTAMENTO DE CUNDINAMARCA - GRUPO 3
A5: PRODUCTOS | B5: VALORES PARCIALES DE CADA PROYECTO
B6: PACHO | C6: UBATE | D6: VILLAPINZON | E6: SUTATAUSA
A7: PRODUCTOS ENTREGABLES:
A8: Producto 1: DIAGNÓSTICO Y ALTERNATIVAS | B8: =+PACHO!H8 -> 0 | C8: =+UBATE!H8 -> 0 | D8: =+VILLAPINZON!H8 -> 0 | E8: =+SUTATAUSA!H8 -> 0
A9: Producto No. 2 DISEÑOS DE DETALLE Producto No. 3 INFORME RESUMEN Y DOCUMENTOS REQUISITO PARA LA ENTIDAD VIABILIZADORA | B9: =+PACHO!H9 -> 0 | C9: =+UBATE!H9 -> 0 | D9: =+VILLAPINZON!H9 -> 0 | E9: =+SUTATAUSA!H9 -> 0
A10: Producto No.4 CONCEPTO TÉCNICO O VIABILIDAD | B10: =+PACHO!H10 -> 0 | C10: =+UBATE!H10 -> 0 | D10: =+VILLAPINZON!H10 -> 0 | E10: =+SUTATAUSA!H10 -> 0
A11: SUBTOTAL COSTO POR PRODUCTOS | B11: =SUM(B8:B10) -> 0 | C11: =SUM(C8:C10) -> 0 | D11: =SUM(D8:D10) -> 0 | E11: =SUM(E8:E10) -> 0
A12: OTROS COSTOS
A13: Topografía | B13: =+PACHO!H16 -> 0 | C13: =+UBATE!H16 -> 0 | D13: =+VILLAPINZON!H16 -> 0 | E13: =+SUTATAUSA!H16 -> 0
A14: Viaticos y Transportes | B14: =+PACHO!H19 -> 0 | C14: =+UBATE!H19 -> 0 | D14: =+VILLAPINZON!H19 -> 0 | E14: =+SUTATAUSA!H19 -> 0
A15: Subtotal otros costos: | B15: =SUM(B13:B14) -> 0 | C15: =SUM(C13:C14) -> 0 | D15: =SUM(D13:D14) -> 0 | E15: =SUM(E13:E14) -> 0
A16: Costos por productos + Otros costos | B16: =+PACHO!H22 -> 0 | C16: =+UBATE!H22 -> 0 | D16: =+VILLAPINZON!H22 -> 0 | E16: =+SUTATAUSA!H22 -> 0
A17: IVA (19%) | B17: =+PACHO!H23 -> 0 | C17: =+UBATE!H23 -> 0 | D17: =+VILLAPINZON!H23 -> 0 | E17: =+SUTATAUSA!H23 -> 0
A18: VALOR TOTAL INTERVENTORÍA | B18: =+PACHO!H24 -> 0 | C18: =+UBATE!H24 -> 0 | D18: =+VILLAPINZON!H24 -> 0 | E18: =+SUTATAUSA!H24 -> 0

Sheet PACHO
A2: FORMULARIO DE OFERTA ECONOMICA
A3: INTERVENTORÍA A LA ESTUDIOS Y DISEÑOS PARA LA OPTIMIZACIÓN DE LA PLANTA DE TRATAMIENTO DE AGUA POTABLE Y TANQUE DE ALMACENAMIENTO DEL MUNICIPIO DE PACHO
A6: I. PRODUCTOS
A7: DESCRIPCIÓN | D7: UNIDAD | F7: CANTIDAD | H7: VALOR TOTAL
A8: Producto 1: DIAGNÓSTICO Y ALTERNATIVAS | D8: UND | F8: 1
A9: Producto 2: DISEÑOS DE DETALLE Producto 3: INFORME RESUMEN Y DOCUMENTOS REQUISITO PARA LA ENTIDAD VIABILIZADORA | D9: UND | F9: 1
A10: Producto 4: CONCEPTO TÉCNICO Y/O VIABILIDAD DEL PROYECTO. | D10: UND | F10: 1
A11: SUBTOTAL COSTO POR PRODUCTOS
A13: II. OTROS COSTOS
A14: DESCRIPCIÓN | B14: UNIDAD | E14: CANTIDAD | G14: TARIFA | H14: VALOR TOTAL
A15: II.1. TOPOGRAFIA
A16: Levantamiento topográfico de lotes | B16: Ha | E16: 1
A17: II.2. VIÁTICOS Y TRANSPORTES
A18: DESCRIPCIÓN | B18: UNIDAD | D18: DEDICACIÓN MENSUAL (%) | E18: DURACIÓN TOTAL (MESES) | G18: TARIFA | H18: VALOR TOTAL
A19: Campero, Pick - Up, Camioneta, Camión o similar < 2000 c.c. | B19: UND | D19: 0.16 | E19: 8
A20: SUBTOTAL OTROS COSTOS
A22: COSTOS POR PRODUCTO + OTROS COSTOS
A23: IVA (19%)
A24: VALOR TOTAL CONSULTORÍA

Sheet UBATE
A2: FORMULARIO DE OFERTA ECONOMICA
A3: INTERVENTORÍA A LOS ESTUDIOS Y DISEÑOS PARA LA OPTIMIZACIÓN DEL ACUEDUCTO INTERVEREDAL SUCUNCHOQUE - FASE 1 (BOCATOMA - DESARENADOR - ESTACIÓN DE BOMBEO - PTAP - 7 KM ADUCCIÓN).
A6: I. PRODUCTOS
A7: DESCRIPCIÓN | D7: UNIDAD | F7: CANTIDAD | H7: VALOR TOTAL
A8: Producto 1: DIAGNÓSTICO Y ALTERNATIVAS | D8: UND | F8: 1
A9: Producto 2: DISEÑOS DE DETALLE Producto 3: INFORME RESUMEN Y DOCUMENTOS REQUISITO PARA LA ENTIDAD VIABILIZADORA | D9: UND | F9: 1
A10: Producto 4: CONCEPTO TÉCNICO Y/O VIABILIDAD DEL PROYECTO. | D10: UND | F10: 1
A11: SUBTOTAL COSTO POR PRODUCTOS
A13: II. OTROS COSTOS
A14: DESCRIPCIÓN | B14: UNIDAD | E14: CANTIDAD | G14: TARIFA | H14: VALOR TOTAL
A15: II.1. TOPOGRAFIA
A16: Levantamiento topográfico georeferenciado (redes, estructuras y demás zonas requeridas para la ejecucción de los estudios y diseños) Incluye topógrafo, 2 cadeneros, equipo de topografía, desplazamientos, vehículo, alojamiento, comida y demás gastos que se requierean para realizar las actividades. | B16: km | E16: 1
A17: II.2. VIÁTICOS Y TRANSPORTES
A18: DESCRIPCIÓN | B18: UNIDAD | D18: DEDICACIÓN MENSUAL (%) | E18: DURACIÓN TOTAL (MESES) | G18: TARIFA | H18: VALOR TOTAL
A19: Campero, Pick - Up, Camioneta, Camión o similar < 2000 c.c. | B19: UND | D19: 0.15 | E19: 8
A20: SUBTOTAL OTROS COSTOS
A22: COSTOS POR PRODUCTO + OTROS COSTOS
A23: IVA (19%)
A24: VALOR TOTAL CONSULTORÍA

Sheet VILLAPINZON
A2: FORMULARIO DE OFERTA ECONOMICA
A3: INTERVENTORÍA A LOS ESTUDIOS Y DISEÑOS PARA LA ACTUALIZACIÓN DE LA CONSTRUCCIÓN DEL PLAN MAESTRO DE ACUEDUCTO Y ALCANTARILLADO DEL CASCO URBANO DEL MUNICIPIO DE VILLAPINZÓN, CUNDINAMARCA.
A6: I. PRODUCTOS
A7: DESCRIPCIÓN | D7: UNIDAD | F7: CANTIDAD | H7: VALOR TOTAL
A8: Producto 1: DIAGNÓSTICO Y ALTERNATIVAS | D8: UND | F8: 1
A9: Producto 2: DISEÑOS DE DETALLE Producto 3: INFORME RESUMEN Y DOCUMENTOS REQUISITO PARA LA ENTIDAD VIABILIZADORA | D9: UND | F9: 1
A10: Producto 4: CONCEPTO TÉCNICO Y/O VIABILIDAD DEL PROYECTO. | D10: UND | F10: 1
A11: SUBTOTAL COSTO POR PRODUCTOS
A13: II. OTROS COSTOS
A14: DESCRIPCIÓN | B14: UNIDAD | E14: CANTIDAD | G14: TARIFA | H14: VALOR TOTAL
A15: II.1. TOPOGRAFIA
A16: Levantamiento topográfico georeferenciado (redes, estructuras y demás zonas requeridas para la ejecucción de los estudios y diseños) con el catastro según criterios técnicos. Incluye topógrafo, 2 cadeneros, equipo de topografía, desplazamientos, vehículo, alojamiento, comida y demás gastos que se requierean para realizar las actividades. | B16: km | E16: 2
A17: II.2. VIÁTICOS Y TRANSPORTES
A18: DESCRIPCIÓN | B18: UNIDAD | D18: DEDICACIÓN MENSUAL (%) | E18: DURACIÓN TOTAL (MESES) | G18: TARIFA | H18: VALOR TOTAL
A19: Campero, Pick - Up, Camioneta, Camión o similar < 2000 c.c. | B19: UND | D19: 0.14 | E19: 7
A20: SUBTOTAL OTROS COSTOS
A22: COSTOS POR PRODUCTO + OTROS COSTOS
A23: IVA (19%)
A24: VALOR TOTAL CONSULTORÍA

Sheet SUTATAUSA
A2: FORMULARIO DE OFERTA ECONOMICA
A3: INTERVENTORÍA A LOS ESTUDIOS Y DISEÑOS PARA LA CONSTRUCCIÓN DE LAS PLANTAS DE TRATAMIENTO DE AGUAS RESIDUALES (PTAR) DEL CASCO URBANO Y EL CENTRO POBLADO PEÑAS DE BOQUERÓN, DEL MUNICIPIO DE SUTATAUSA, INCLUYE COLECTORES.
A6: I. PRODUCTOS
A7: DESCRIPCIÓN | D7: UNIDAD | F7: CANTIDAD | H7: VALOR TOTAL
A8: Producto 1: DIAGNÓSTICO Y ALTERNATIVAS | D8: UND | F8: 1
A9: Producto 2: DISEÑOS DE DETALLE Producto 3: INFORME RESUMEN Y DOCUMENTOS REQUISITO PARA LA ENTIDAD VIABILIZADORA | D9: UND | F9: 1
A10: Producto 4: CONCEPTO TÉCNICO Y/O VIABILIDAD DEL PROYECTO. | D10: UND | F10: 1
A11: SUBTOTAL COSTO POR PRODUCTOS
A13: II. OTROS COSTOS
A14: DESCRIPCIÓN | B14: UNIDAD | E14: CANTIDAD | G14: TARIFA | H14: VALOR TOTAL
A15: II.1. TOPOGRAFIA
A16: Levantamiento topográfico georeferenciado (redes, estructuras y demás zonas requeridas para la ejecucción de los estudios y diseños) Incluye topógrafo, 2 cadeneros, equipo de topografía, desplazamientos, vehículo, alojamiento, comida y demás gastos que se requierean para realizar las actividades. | B16: km | E16: 2.5
A17: II.2. VIÁTICOS Y TRANSPORTES
A18: DESCRIPCIÓN | B18: UNIDAD | D18: DEDICACIÓN MENSUAL (%) | E18: DURACIÓN TOTAL (MESES) | G18: TARIFA | H18: VALOR TOTAL
A19: Campero, Pick - Up, Camioneta, Camión o similar < 2000 c.c. | B19: UND | D19: 0.28 | E19: 6
A20: SUBTOTAL OTROS COSTOS
A22: COSTOS POR PRODUCTO + OTROS COSTOS
A23: IVA (19%)
A24: VALOR TOTAL CONSULTORÍA
