Workbook

Sheet COINSA
D1: FORMATO COTIZACION
B8: JUSTIFICACION:
B9: El DNP en aras de garantizar su funcionamiento como Entidad Estatal, atiende sus necesidades y requerimientos en materia de TIC a través de la Oficina de Tecnología y Sistemas de Información. Dicha dependencia es la encargada de garantizar la disponibilidad y cobertura de servicios de TIC, los cuales se encuentran soportados sobre una infraestructura tecnológica estable, escalable y flexible, y dados los avances que se presentan constantemente en la materia, se ha propendido para que este siempre alineada en cuanto a la evolución que se vaya dando en cada uno de sus componentes. En ese orden de ideas, la Oficina de Tecnología y Sistemas de Información es la responsable de la infraestructura tecnológica, la cual se ha ido implementando y manteniendo a lo largo de los años, permitiendo que a través de los servicios de TIC que ella brinda, se pueda seguir optimizando la ejecución de procesos y procedimientos que se llevan a cabo por las dependencias y por ende aportando al cumplimiento de los objetivos estratégicos de la Entidad. Basados en lo anterior y dado el crecimiento constante de los últimos años a nivel tecnológico y de usuarios del DNP, la Entidad desde el año 2007 y hasta la fecha, efectúa tanto la recepción, atención, solución y cierre de solicitudes asociadas con servicios de TIC, como la gestión, administración, mantenimiento y soporte técnico de la infraestructura tecnológica que provee dichos servicios de TIC, a través del modelo de tercerización, mediante la contratación de un Centro de Servicios para la atención de requerimientos TIC a nivel 1 y 2. Para mantener la disponibilidad de los servicios tecnológicos y asegurar la protección de la información, se debe realizar un monitoreo 7X24 de la infraestructura tecnológica con los servicios de: Servicio Centro de Operaciones de Seguridad (SOC), sus herramientas y actividades asociadas a los análisis de vulnerabilidades, y Servicio Centro de Operaciones de Red (NOC)
B10: CLASIFICADOR DE BIENES Y SERVICIOS: (Nota. El proveedor podrá sugerir otros códigos que se relacionen con el bien y/o servicio a contratar)
B11: De acuerdo con la clasificación del Código Estándar de Productos y Servicios de Naciones Unidas, (UNSPSC), el servicio requerido por el Departamento Nacional de Planeación, identificados con los códigos: 81111800, 81111900, 81112000, 81112200, 43233200
B12: OBJETO:
B13: Prestar los servicios al Departamento Nacional de Planeación (DNP) y al Sistema General de Regalías (SGR) de Centro de Servicios de Soporte Tecnológico y Centro de Operación de Seguridad y de red (SOC/NOC), los cuales comprenden soporte técnico, mantenimiento preventivo y correctivo, monitoreo continuo de la seguridad informática, así como la administración y operación de la infraestructura tecnológica.
B14: ACTIVIDADES ESPECÍFICAS ESTIMADAS A DESARROLLAR: (Nota. En la publicacion del proceso la entidad podrá incluir actividades adicionales que tengan relacion directa con el objeto a contractual)
B15: * Servicio Centro de Operaciones de Seguridad (SOC), sus herramientas y actividades asociadas a los análisis de vulnerabilidades * Servicio Centro de Operaciones de Red (NOC) * Soporte y administración de servidores, Hardware y Software * Soporte, administración de la infraestructura tecnológica de los 2 Centros de Datos del DNP (soporte nivel 2) * Servicio de mesa de ayuda y Soporte mesa de servicios nivel 1 * Gestión de sistema operativo y de actualizaciones * Soporte y administración de plataforma de backup * Soporte y administración redes y seguridad * Soporte y administración correo electrónico * Soporte y administración de Directorio Activo * Soporte y administración de servicios de apoyo (DHCP, DNS, Proxy) * Bolsa de Recursos TIC
B16: DOCUMENTOS Y/O REQUERIMIENTOS TÉCNICOS ADICIONALES:
B17: REQUISITOS TÉCNICOS Los especificados en el Anexo Técnico y matriz de roles que se adjuntan
B18: MECANISMOS MÍNIMOS DE COBERTURA DEL CONTRATO. (Nota. Las garantías pueden ser modificadas de acuerdo al análisis del estudio sector y afinidad con el objeto a desarrollar)
B19: Riesgo | D19: Porcentaje | E19: Valor | F19: Vigencia
B20: Cumplimiento | D20: 0.2 | E20: Del contrato | F20: El plazo de ejecución del contrato y seis (6) meses más.
B21: Calidad del Servicio | D21: 0.2 | E21: Del contrato | F21: El plazo de ejecución del contrato y doce (12) meses más.
B22: Calidad y correcto funcionamiento de los bienes suministrados | D22: 0.2 | E22: Del contrato | F22: El plazo de ejecución del contrato y un (1) año más, contado a partir del recibo a satisfacción de los bienes suministrados
B23: Pago de salarios, prestaciones sociales e indemnizaciones laborales | D23: 0.1 | E23: Del contrato | F23: El plazo de ejecución del contrato y tres (3) meses más.
B24: Responsabilidad Civil Extracontractual | D24: 400 SMMLV | E24: Del contrato | F24: El plazo de ejecución del contrato
B25: ESPECIFICACIONES TÉCNICAS REQUERIDAS
B26: ITEM | C26: COMPONENTE | D26: DESCRIPCION | E26: UNIDAD | F26: CANTIDAD X MES | G26: TIEMPO MES | H26: VALOR MES | I26: IVA 19% | J26: VALOR TOTAL
B28: 1 | C28: Gestión de mesa de servicios | D28: Provisión de Recurso humano, recursos para la prestación de servicios y gestión para la atencion de la mesa de Servicios Nivel 1 | E28: GLOBAL | F28: 1 | G28: 9 | H28: 1.758448e+08 | I28: =+H28*0.19 -> 33410512 | J28: =(H28+I28)*G28 -> 1.8832978e+09
B29: 2 | C29: Gestión de Infraestructura Tecnológica | D29: Provisión de Recurso humano, recursos para la prestación de servicios y gestión de la infraestructura tecnológica Nivel 2 | F29: 1 | H29: 2.6747649e+08 | I29: =+H29*0.19 -> 50820534 | J29: =(H29+I29)*G28 -> 2.8646733e+09
B30: 3 | C30: Centro de Operaciones de Seguridad (SOC) y Centro de Operaciones de Red (NOC) | D30: Servicios de SOC y Servicios de NOC Se deben sumar los valores de servicios de SOC Y NOC | F30: 1 | H30: 1.2916602e+08 | I30: =+H30*0.19 -> 24541543 | J30: =(H30+I30)*G28 -> 1.3833681e+09
B31: 4 | C31: SIEM (Security Information and Event Management) para correlación de eventos | D31: Correlación de eventos, debe tener la capacidad de 8000 EPS y 550 Licencias, que deben ser suministradas por el contratista | F31: 1 | H31: 62145375 | I31: =+H31*0.19 -> 11807621 | J31: =(H31+I31)*G28 -> 6.6557697e+08
B32: 5 | C32: Herramienta de automatización y orquestación | D32: Solución de orquestación, automatización y remediación, licenciada que se integre con el SIEM Informar el nombre de la herramienta a utilizar | F32: 1 | H32: 38608369 | I32: =+H32*0.19 -> 7335590.2 | J32: =(H32+I32)*G28 -> 4.1349564e+08
B33: 6 | C33: Solución de emulación de adversarios. | D33: Una plataforma de emulación de amenazas y validación continua de seguridad, la cual deberá incluir como mínimo cinco (5) agentes de emulación licenciados y operativos Informar el nombre de la herramienta a utilizar | F33: 1 | H33: 43496526 | I33: =+H33*0.19 -> 8264339.9 | J33: =(H33+I33)*G28 -> 4.6584779e+08
B34: 7 | C34: Mantenimientos preventivos, Mantenimientos correctivos | D34: Mantenimiento preventivo de equipos sin garantía del inventario definidos en el anexo técnico Mantenimiento correctivos de los equipos sin garantía del inventario definidos en el anexo técnico, Debe cotizar de la siguiente forma: - El valor de los mantenimientros preventivos a realizar, es uno por año. - El valor de los mantenimientos correctivos, sin incluir repuestos, estos mantenimientos son por demanda durante la vigencía del contrato. - No es un valor mensualizado | F34: 1 | H34: 1.3864041e+08 | I34: =+H34*0.19 -> 26341679 | J34: =H34+I34 -> 1.6498209e+08
B35: SUBTOTAL SERVICIOS | J35: =SUM(H28:H33)*G28+H34 -> 6.5892786e+09
B36: IVA DE SERVICIOS | J36: =+J35*0.19 -> 1.2519629e+09
B37: TOTAL SERVICIOS | J37: =+J35+J36 -> 7.8412416e+09
B38: 8 | C38: Bolsa para recursos TIC | D38: Por demanda bolsa de horas especialistas Bolsa de repuesto | E38: GLOBAL | F38: 1 | G38: 9 | H38: 6000000 | J38: =+H38*G38 -> 54000000
B39: IVA DE BOLSA DE REPUESTOS | J39: =+J38*0.19 -> 10260000
B40: SUBTOTAL BOLSA DE REPUESTOS | J40: =+J38+J39 -> 64260000
B41: GRAN TOTAL SERVICIOS +BOLSA DE SERVICIOS E IMPUESTOS | J41: =+J37+J40 -> 7.9055016e+09
B42: FORMA DE PAGO Y PLAZO DE EJECUCIÓN: El DNP, pagará el valor del contrato a satisfacción de los soportes en mensualidades, el cual se efectuará dentro de los treinta (30) días hábiles siguientes a la radicación de la factura en el DNP, con el lleno de los requisitos legales y cumplimiento a satisfacción por parte del supervisor del contrato.
B43: IDENTIFICACIÓN DEL PROVEEDOR: Nombre: COINSA Nit: 800143512-5 Tamaño empresarial: Mediana Empresa
B44: OBSERVACIONES: (El proveedor podrá incluir en este campo las observaciones a la ficha técnica de las condiciones establecidas por el DNP, a fin de que la entidad pueda analizar y realizar los ajustes necesarios, si hay a lugar, del objeto a contratar)
B45: Coordinador OTSI GGU
B46: NOTA 1: El valor de la bolsa de recursos TIC es un valor fijo establecido por la entidad resultado de un análisis que comprende lo definido para el año 2025 y la necesidad adicional de recursos de horas de especialista NOTA 2: Tener en cuenta que para esta cotizacion el proveedor ha leido y entendido el anexo técnico, anexo de ANS y la matriz de roles y perfiles (documentos adjuntos al presente). La matriz de roles y perfiles contiene los valores salariales mínimos y respectiva carga prestacional de cada uno de los perfiles solicitados

Sheet TSG
D1: FORMATO COTIZACION
B8: JUSTIFICACION:
B9: El DNP en aras de garantizar su funcionamiento como Entidad Estatal, atiende sus necesidades y requerimientos en materia de TIC a través de la Oficina de Tecnología y Sistemas de Información. Dicha dependencia es la encargada de garantizar la disponibilidad y cobertura de servicios de TIC, los cuales se encuentran soportados sobre una infraestructura tecnológica estable, escalable y flexible, y dados los avances que se presentan constantemente en la materia, se ha propendido para que este siempre alineada en cuanto a la evolución que se vaya dando en cada uno de sus componentes. En ese orden de ideas, la Oficina de Tecnología y Sistemas de Información es la responsable de la infraestructura tecnológica, la cual se ha ido implementando y manteniendo a lo largo de los años, permitiendo que a través de los servicios de TIC que ella brinda, se pueda seguir optimizando la ejecución de procesos y procedimientos que se llevan a cabo por las dependencias y por ende aportando al cumplimiento de los objetivos estratégicos de la Entidad. Basados en lo anterior y dado el crecimiento constante de los últimos años a nivel tecnológico y de usuarios del DNP, la Entidad desde el año 2007 y hasta la fecha, efectúa tanto la recepción, atención, solución y cierre de solicitudes asociadas con servicios de TIC, como la gestión, administración, mantenimiento y soporte técnico de la infraestructura tecnológica que provee dichos servicios de TIC, a través del modelo de tercerización, mediante la contratación de un Centro de Servicios para la atención de requerimientos TIC a nivel 1 y 2. Para mantener la disponibilidad de los servicios tecnológicos y asegurar la protección de la información, se debe realizar un monitoreo 7X24 de la infraestructura tecnológica con los servicios de: Servicio Centro de Operaciones de Seguridad (SOC), sus herramientas y actividades asociadas a los análisis de vulnerabilidades, y Servicio Centro de Operaciones de Red (NOC)
B10: CLASIFICADOR DE BIENES Y SERVICIOS: (Nota. El proveedor podrá sugerir otros códigos que se relacionen con el bien y/o servicio a contratar)
B11: De acuerdo con la clasificación del Código Estándar de Productos y Servicios de Naciones Unidas, (UNSPSC), el servicio requerido por el Departamento Nacional de Planeación, identificados con los códigos: 81111800, 81111900, 81112000, 81112200, 43233200
B12: OBJETO:
B13: Prestar los servicios al Departamento Nacional de Planeación (DNP) y al Sistema General de Regalías (SGR) de Centro de Servicios de Soporte Tecnológico y Centro de Operación de Seguridad y de red (SOC/NOC), los cuales comprenden soporte técnico, mantenimiento preventivo y correctivo, monitoreo continuo de la seguridad informática, así como la administración y operación de la infraestructura tecnológica.
B14: ACTIVIDADES ESPECÍFICAS ESTIMADAS A DESARROLLAR: (Nota. En la publicacion del proceso la entidad podrá incluir actividades adicionales que tengan relacion directa con el objeto a contractual)
B15: * Servicio Centro de Operaciones de Seguridad (SOC), sus herramientas y actividades asociadas a los análisis de vulnerabilidades * Servicio Centro de Operaciones de Red (NOC) * Soporte y administración de servidores, Hardware y Software * Soporte, administración de la infraestructura tecnológica de los 2 Centros de Datos del DNP (soporte nivel 2) * Servicio de mesa de ayuda y Soporte mesa de servicios nivel 1 * Gestión de sistema operativo y de actualizaciones * Soporte y administración de plataforma de backup * Soporte y administración redes y seguridad * Soporte y administración correo electrónico * Soporte y administración de Directorio Activo * Soporte y administración de servicios de apoyo (DHCP, DNS, Proxy) * Bolsa de Recursos TIC
B16: DOCUMENTOS Y/O REQUERIMIENTOS TÉCNICOS ADICIONALES:
B17: REQUISITOS TÉCNICOS Los especificados en el Anexo Técnico y matriz de roles que se adjuntan
B18: MECANISMOS MÍNIMOS DE COBERTURA DEL CONTRATO. (Nota. Las garantías pueden ser modificadas de acuerdo al análisis del estudio sector y afinidad con el objeto a desarrollar)
B19: Riesgo | D19: Porcentaje | E19: Valor | F19: Vigencia
B20: Cumplimiento | D20: 0.2 | E20: Del contrato | F20: El plazo de ejecución del contrato y seis (6) meses más.
B21: Calidad del Servicio | D21: 0.2 | E21: Del contrato | F21: El plazo de ejecución del contrato y doce (12) meses más.
B22: Calidad y correcto funcionamiento de los bienes suministrados | D22: 0.2 | E22: Del contrato | F22: El plazo de ejecución del contrato y un (1) año más, contado a partir del recibo a satisfacción de los bienes suministrados
B23: Pago de salarios, prestaciones sociales e indemnizaciones laborales | D23: 0.1 | E23: Del contrato | F23: El plazo de ejecución del contrato y tres (3) meses más.
B24: Responsabilidad Civil Extracontractual | D24: 400 SMMLV | E24: Del contrato | F24: El plazo de ejecución del contrato
B25: ESPECIFICACIONES TÉCNICAS REQUERIDAS
B26: ITEM | C26: COMPONENTE | D26: DESCRIPCION | E26: UNIDAD | F26: CANTIDAD X MES | G26: TIEMPO MES | H26: VALOR MES | I26: IVA 19% | J26: VALOR TOTAL
B28: 1 | C28: Gestión de mesa de servicios | D28: Provisión de Recurso humano, recursos para la prestación de servicios y gestión para la atencion de la mesa de Servicios Nivel 1 | E28: GLOBAL | F28: 1 | G28: 9 | H28: 177931812 | I28: =+H28*0.19 -> 33807044 | J28: 1905649710
B29: 2 | C29: Gestión de Infraestructura Tecnológica | D29: Provisión de Recurso humano, recursos para la prestación de servicios y gestión de la infraestructura tecnológica Nivel 2 | F29: 1 | H29: 270651040 | I29: =+H29*0.19 -> 51423698 | J29: 2898672637
B30: 3 | C30: Centro de Operaciones de Seguridad (SOC) y Centro de Operaciones de Red (NOC) | D30: Servicios de SOC y Servicios de NOC Se deben sumar los valores de servicios de SOC Y NOC | F30: 1 | H30: 130699025 | I30: =+H30*0.19 -> 24832815 | J30: 1399786557
B31: 4 | C31: SIEM (Security Information and Event Management) para correlación de eventos | D31: Correlación de eventos, debe tener la capacidad de 8000 EPS y 550 Licencias, que deben ser suministradas por el contratista | F31: 1 | H31: 62882948 | I31: =+H31*0.19 -> 11947760 | J31: 673476371
B32: 5 | C32: Herramienta de automatización y orquestación | D32: Solución de orquestación, automatización y remediación, licenciada que se integre con el SIEM Informar el nombre de la herramienta a utilizar | F32: 1 | H32: 39066593 | I32: =+H32*0.19 -> 7422652.7 | J32: 418403209
B33: 6 | C33: Solución de emulación de adversarios. | D33: Una plataforma de emulación de amenazas y validación continua de seguridad, la cual deberá incluir como mínimo cinco (5) agentes de emulación licenciados y operativos Informar el nombre de la herramienta a utilizar | F33: 1 | H33: 44012764 | I33: =+H33*0.19 -> 8362425.2 | J33: 471376704
B34: 7 | C34: Mantenimientos preventivos, Mantenimientos correctivos | D34: Mantenimiento preventivo de equipos sin garantía del inventario definidos en el anexo técnico Mantenimiento correctivos de los equipos sin garantía del inventario definidos en el anexo técnico, Debe cotizar de la siguiente forma: - El valor de los mantenimientros preventivos a realizar, es uno por año. - El valor de los mantenimientos correctivos, sin incluir repuestos, estos mantenimientos son por demanda durante la vigencía del contrato. - No es un valor mensualizado | F34: 1 | H34: 140285868 | I34: =+H34*0.19 -> 26654315 | J34: =H34+I34 -> 1.6694018e+08
B35: SUBTOTAL SERVICIOS | J35: =SUM(H28:H33)*G28+H34 -> 6667483506
B36: IVA DE SERVICIOS | J36: =+J35*0.19 -> 1.2668219e+09
B37: TOTAL SERVICIOS | J37: =+J35+J36 -> 7.9343054e+09
B38: 8 | C38: Bolsa para recursos TIC | D38: Por demanda bolsa de horas especialistas Bolsa de repuesto | E38: GLOBAL | F38: 1 | G38: 9 | H38: 6000000 | J38: =+H38*G38 -> 54000000
B39: IVA DE BOLSA DE REPUESTOS | J39: =+J38*0.19 -> 10260000
B40: SUBTOTAL BOLSA DE REPUESTOS | J40: =+J38+J39 -> 64260000
B41: GRAN TOTAL SERVICIOS +BOLSA DE SERVICIOS E IMPUESTOS | J41: =+J37+J40 -> 7.9985654e+09
B42: FORMA DE PAGO Y PLAZO DE EJECUCIÓN: El DNP, pagará el valor del contrato a satisfacción de los soportes en mensualidades, el cual se efectuará dentro de los treinta (30) días hábiles siguientes a la radicación de la factura en el DNP, con el lleno de los requisitos legales y cumplimiento a satisfacción por parte del supervisor del contrato.
B43: IDENTIFICACIÓN DEL PROVEEDOR: NIT 900.994.724-3NOMBRE: TSG THE IT EXPERTS
B44: OBSERVACIONES: (El proveedor podrá incluir en este campo las observaciones a la ficha técnica de las condiciones establecidas por el DNP, a fin de que la entidad pueda analizar y realizar los ajustes necesarios, si hay a lugar, del objeto a contratar)
B45: Coordinador OTSI GGU
B46: NOTA 1: El valor de la bolsa de recursos TIC es un valor fijo establecido por la entidad resultado de un análisis que comprende lo definido para el año 2025 y la necesidad adicional de recursos de horas de especialista NOTA 2: Tener en cuenta que para esta cotizacion el proveedor ha leido y entendido el anexo técnico, anexo de ANS y la matriz de roles y perfiles (documentos adjuntos al presente). La matriz de roles y perfiles contiene los valores salariales mínimos y respectiva carga prestacional de cada uno de los perfiles solicitados

Sheet DATASEC
D1: FORMATO COTIZACION
B8: JUSTIFICACION:
B9: El DNP en aras de garantizar su funcionamiento como Entidad Estatal, atiende sus necesidades y requerimientos en materia de TIC a través de la Oficina de Tecnología y Sistemas de Información. Dicha dependencia es la encargada de garantizar la disponibilidad y cobertura de servicios de TIC, los cuales se encuentran soportados sobre una infraestructura tecnológica estable, escalable y flexible, y dados los avances que se presentan constantemente en la materia, se ha propendido para que este siempre alineada en cuanto a la evolución que se vaya dando en cada uno de sus componentes. En ese orden de ideas, la Oficina de Tecnología y Sistemas de Información es la responsable de la infraestructura tecnológica, la cual se ha ido implementando y manteniendo a lo largo de los años, permitiendo que a través de los servicios de TIC que ella brinda, se pueda seguir optimizando la ejecución de procesos y procedimientos que se llevan a cabo por las dependencias y por ende aportando al cumplimiento de los objetivos estratégicos de la Entidad. Basados en lo anterior y dado el crecimiento constante de los últimos años a nivel tecnológico y de usuarios del DNP, la Entidad desde el año 2007 y hasta la fecha, efectúa tanto la recepción, atención, solución y cierre de solicitudes asociadas con servicios de TIC, como la gestión, administración, mantenimiento y soporte técnico de la infraestructura tecnológica que provee dichos servicios de TIC, a través del modelo de tercerización, mediante la contratación de un Centro de Servicios para la atención de requerimientos TIC a nivel 1 y 2. Para mantener la disponibilidad de los servicios tecnológicos y asegurar la protección de la información, se debe realizar un monitoreo 7X24 de la infraestructura tecnológica con los servicios de: Servicio Centro de Operaciones de Seguridad (SOC), sus herramientas y actividades asociadas a los análisis de vulnerabilidades, y Servicio Centro de Operaciones de Red (NOC)
B10: CLASIFICADOR DE BIENES Y SERVICIOS: (Nota. El proveedor podrá sugerir otros códigos que se relacionen con el bien y/o servicio a contratar)
B11: De acuerdo con la clasificación del Código Estándar de Productos y Servicios de Naciones Unidas, (UNSPSC), el servicio requerido por el Departamento Nacional de Planeación, identificados con los códigos: 81111800, 81111900, 81112000, 81112200, 43233200
B12: OBJETO:
B13: Prestar los servicios al Departamento Nacional de Planeación (DNP) y al Sistema General de Regalías (SGR) de Centro de Servicios de Soporte Tecnológico y Centro de Operación de Seguridad y de red (SOC/NOC), los cuales comprenden soporte técnico, mantenimiento preventivo y correctivo, monitoreo continuo de la seguridad informática, así como la administración y operación de la infraestructura tecnológica.
B14: ACTIVIDADES ESPECÍFICAS ESTIMADAS A DESARROLLAR: (Nota. En la publicacion del proceso la entidad podrá incluir actividades adicionales que tengan relacion directa con el objeto a contractual)
B15: * Servicio Centro de Operaciones de Seguridad (SOC), sus herramientas y actividades asociadas a los análisis de vulnerabilidades * Servicio Centro de Operaciones de Red (NOC) * Soporte y administración de servidores, Hardware y Software * Soporte, administración de la infraestructura tecnológica de los 2 Centros de Datos del DNP (soporte nivel 2) * Servicio de mesa de ayuda y Soporte mesa de servicios nivel 1 * Gestión de sistema operativo y de actualizaciones * Soporte y administración de plataforma de backup * Soporte y administración redes y seguridad * Soporte y administración correo electrónico * Soporte y administración de Directorio Activo * Soporte y administración de servicios de apoyo (DHCP, DNS, Proxy) * Bolsa de Recursos TIC
B16: DOCUMENTOS Y/O REQUERIMIENTOS TÉCNICOS ADICIONALES:
B17: REQUISITOS TÉCNICOS Los especificados en el Anexo Técnico y matriz de roles que se adjuntan
B18: MECANISMOS MÍNIMOS DE COBERTURA DEL CONTRATO. (Nota. Las garantías pueden ser modificadas de acuerdo al análisis del estudio sector y afinidad con el objeto a desarrollar)
B19: Riesgo | D19: Porcentaje | E19: Valor | F19: Vigencia
B20: Cumplimiento | D20: 0.2 | E20: Del contrato | F20: El plazo de ejecución del contrato y seis (6) meses más.
B21: Calidad del Servicio | D21: 0.2 | E21: Del contrato | F21: El plazo de ejecución del contrato y doce (12) meses más.
B22: Calidad y correcto funcionamiento de los bienes suministrados | D22: 0.2 | E22: Del contrato | F22: El plazo de ejecución del contrato y un (1) año más, contado a partir del recibo a satisfacción de los bienes suministrados
B23: Pago de salarios, prestaciones sociales e indemnizaciones laborales | D23: 0.1 | E23: Del contrato | F23: El plazo de ejecución del contrato y tres (3) meses más.
B24: Responsabilidad Civil Extracontractual | D24: 400 SMMLV | E24: Del contrato | F24: El plazo de ejecución del contrato
B25: ESPECIFICACIONES TÉCNICAS REQUERIDAS
B26: ITEM | C26: COMPONENTE | D26: DESCRIPCION | E26: UNIDAD | F26: CANTIDAD X MES | G26: TIEMPO MES | H26: VALOR MES | I26: IVA 19% | J26: VALOR TOTAL
B28: 1 | C28: Gestión de mesa de servicios | D28: Provisión de Recurso humano, recursos para la prestación de servicios y gestión para la atencion de la mesa de Servicios Nivel 1 | E28: GLOBAL | F28: 1 | G28: 9 | H28: 1.7889221e+08 | I28: =+H28*0.19 -> 33989520 | J28: =(H28+I28)*G28 -> 1.9159356e+09
B29: 2 | C29: Gestión de Infraestructura Tecnológica | D29: Provisión de Recurso humano, recursos para la prestación de servicios y gestión de la infraestructura tecnológica Nivel 2 | F29: 1 | H29: 2.7211189e+08 | I29: =+H29*0.19 -> 51701260 | J29: =(H29+I29)*G28 -> 2.9143184e+09
B30: 3 | C30: Centro de Operaciones de Seguridad (SOC) y Centro de Operaciones de Red (NOC) | D30: Servicios de SOC y Servicios de NOC Se deben sumar los valores de servicios de SOC Y NOC | F30: 1 | H30: 1.3140448e+08 | I30: =+H30*0.19 -> 24966851 | J30: =(H30+I30)*G28 -> 1.407342e+09
B31: 4 | C31: SIEM (Security Information and Event Management) para correlación de eventos | D31: Correlación de eventos, debe tener la capacidad de 8000 EPS y 550 Licencias, que deben ser suministradas por el contratista | F31: 1 | H31: 63222362 | I31: =+H31*0.19 -> 12012249 | J31: =(H31+I31)*G28 -> 6.7711149e+08
B32: 5 | C32: Herramienta de automatización y orquestación | D32: Solución de orquestación, automatización y remediación, licenciada que se integre con el SIEM Informar el nombre de la herramienta a utilizar | F32: 1 | H32: 39277457 | I32: =+H32*0.19 -> 7462716.8 | J32: =(H32+I32)*G28 -> 4.2066156e+08
B33: 6 | C33: Solución de emulación de adversarios. | D33: Una plataforma de emulación de amenazas y validación continua de seguridad, la cual deberá incluir como mínimo cinco (5) agentes de emulación licenciados y operativos Informar el nombre de la herramienta a utilizar | F33: 1 | H33: 44250325 | I33: =+H33*0.19 -> 8407561.8 | J33: =(H33+I33)*G28 -> 4.7392098e+08
B34: 7 | C34: Mantenimientos preventivos, Mantenimientos correctivos | D34: Mantenimiento preventivo de equipos sin garantía del inventario definidos en el anexo técnico Mantenimiento correctivos de los equipos sin garantía del inventario definidos en el anexo técnico, Debe cotizar de la siguiente forma: - El valor de los mantenimientros preventivos a realizar, es uno por año. - El valor de los mantenimientos correctivos, sin incluir repuestos, estos mantenimientos son por demanda durante la vigencía del contrato. - No es un valor mensualizado | F34: 1 | H34: 1.4104307e+08 | I34: =+H34*0.19 -> 26798183 | J34: =H34+I34 -> 1.6784125e+08
B35: SUBTOTAL SERVICIOS | J35: =SUM(H28:H33)*G28+H34 -> 6.7034716e+09
B36: IVA DE SERVICIOS | J36: =+J35*0.19 -> 1.2736596e+09
B37: TOTAL SERVICIOS | J37: =+J35+J36 -> 7.9771312e+09
B38: 8 | C38: Bolsa para recursos TIC | D38: Por demanda bolsa de horas especialistas Bolsa de repuesto | E38: GLOBAL | F38: 1 | G38: 9 | H38: 6000000 | J38: =+H38*G38 -> 54000000
B39: IVA DE BOLSA DE REPUESTOS | J39: =+J38*0.19 -> 10260000
B40: SUBTOTAL BOLSA DE REPUESTOS | J40: =+J38+J39 -> 64260000
B41: GRAN TOTAL SERVICIOS +BOLSA DE SERVICIOS E IMPUESTOS | J41: =+J37+J40 -> 8.0413912e+09
B42: FORMA DE PAGO Y PLAZO DE EJECUCIÓN: El DNP, pagará el valor del contrato a satisfacción de los soportes en mensualidades, el cual se efectuará dentro de los treinta (30) días hábiles siguientes a la radicación de la factura en el DNP, con el lleno de los requisitos legales y cumplimiento a satisfacción por parte del supervisor del contrato.
B43: IDENTIFICACIÓN DEL PROVEEDOR: DATASEC - Mediana Empresa 901223827-1
B44: OBSERVACIONES: (El proveedor podrá incluir en este campo las observaciones a la ficha técnica de las condiciones establecidas por el DNP, a fin de que la entidad pueda analizar y realizar los ajustes necesarios, si hay a lugar, del objeto a contratar)
B45: Coordinador OTSI GGU
B46: NOTA 1: El valor de la bolsa de recursos TIC es un valor fijo establecido por la entidad resultado de un análisis que comprende lo definido para el año 2025 y la necesidad adicional de recursos de horas de especialista NOTA 2: Tener en cuenta que para esta cotizacion el proveedor ha leido y entendido el anexo técnico, anexo de ANS y la matriz de roles y perfiles (documentos adjuntos al presente). La matriz de roles y perfiles contiene los valores salariales mínimos y respectiva carga prestacional de cada uno de los perfiles solicitados

Sheet GROW DATA
D1: FORMATO COTIZACION
B8: JUSTIFICACION:
B9: El DNP en aras de garantizar su funcionamiento como Entidad Estatal, atiende sus necesidades y requerimientos en materia de TIC a través de la Oficina de Tecnología y Sistemas de Información. Dicha dependencia es la encargada de garantizar la disponibilidad y cobertura de servicios de TIC, los cuales se encuentran soportados sobre una infraestructura tecnológica estable, escalable y flexible, y dados los avances que se presentan constantemente en la materia, se ha propendido para que este siempre alineada en cuanto a la evolución que se vaya dando en cada uno de sus componentes. En ese orden de ideas, la Oficina de Tecnología y Sistemas de Información es la responsable de la infraestructura tecnológica, la cual se ha ido implementando y manteniendo a lo largo de los años, permitiendo que a través de los servicios de TIC que ella brinda, se pueda seguir optimizando la ejecución de procesos y procedimientos que se llevan a cabo por las dependencias y por ende aportando al cumplimiento de los objetivos estratégicos de la Entidad. Basados en lo anterior y dado el crecimiento constante de los últimos años a nivel tecnológico y de usuarios del DNP, la Entidad desde el año 2007 y hasta la fecha, efectúa tanto la recepción, atención, solución y cierre de solicitudes asociadas con servicios de TIC, como la gestión, administración, mantenimiento y soporte técnico de la infraestructura tecnológica que provee dichos servicios de TIC, a través del modelo de tercerización, mediante la contratación de un Centro de Servicios para la atención de requerimientos TIC a nivel 1 y 2. Para mantener la disponibilidad de los servicios tecnológicos y asegurar la protección de la información, se debe realizar un monitoreo 7X24 de la infraestructura tecnológica con los servicios de: Servicio Centro de Operaciones de Seguridad (SOC), sus herramientas y actividades asociadas a los análisis de vulnerabilidades, y Servicio Centro de Operaciones de Red (NOC)
B10: CLASIFICADOR DE BIENES Y SERVICIOS: (Nota. El proveedor podrá sugerir otros códigos que se relacionen con el bien y/o servicio a contratar)
B11: De acuerdo con la clasificación del Código Estándar de Productos y Servicios de Naciones Unidas, (UNSPSC), el servicio requerido por el Departamento Nacional de Planeación, identificados con los códigos: 81111800, 81111900, 81112000, 81112200, 43233200
B12: OBJETO:
B13: Prestar los servicios al Departamento Nacional de Planeación (DNP) y al Sistema General de Regalías (SGR) de Centro de Servicios de Soporte Tecnológico y Centro de Operación de Seguridad y de red (SOC/NOC), los cuales comprenden soporte técnico, mantenimiento preventivo y correctivo, monitoreo continuo de la seguridad informática, así como la administración y operación de la infraestructura tecnológica.
B14: ACTIVIDADES ESPECÍFICAS ESTIMADAS A DESARROLLAR: (Nota. En la publicacion del proceso la entidad podrá incluir actividades adicionales que tengan relacion directa con el objeto a contractual)
B15: * Servicio Centro de Operaciones de Seguridad (SOC), sus herramientas y actividades asociadas a los análisis de vulnerabilidades * Servicio Centro de Operaciones de Red (NOC) * Soporte y administración de servidores, Hardware y Software * Soporte, administración de la infraestructura tecnológica de los 2 Centros de Datos del DNP (soporte nivel 2) * Servicio de mesa de ayuda y Soporte mesa de servicios nivel 1 * Gestión de sistema operativo y de actualizaciones * Soporte y administración de plataforma de backup * Soporte y administración redes y seguridad * Soporte y administración correo electrónico * Soporte y administración de Directorio Activo * Soporte y administración de servicios de apoyo (DHCP, DNS, Proxy) * Bolsa de Recursos TIC
B16: DOCUMENTOS Y/O REQUERIMIENTOS TÉCNICOS ADICIONALES:
B17: REQUISITOS TÉCNICOS Los especificados en el Anexo Técnico y matriz de roles que se adjuntan
B18: MECANISMOS MÍNIMOS DE COBERTURA DEL CONTRATO. (Nota. Las garantías pueden ser modificadas de acuerdo al análisis del estudio sector y afinidad con el objeto a desarrollar)
B19: Riesgo | D19: Porcentaje | E19: Valor | F19: Vigencia
B20: Cumplimiento | D20: 0.2 | E20: Del contrato | F20: El plazo de ejecución del contrato y seis (6) meses más.
B21: Calidad del Servicio | D21: 0.2 | E21: Del contrato | F21: El plazo de ejecución del contrato y doce (12) meses más.
B22: Calidad y correcto funcionamiento de los bienes suministrados | D22: 0.2 | E22: Del contrato | F22: El plazo de ejecución del contrato y un (1) año más, contado a partir del recibo a satisfacción de los bienes suministrados
B23: Pago de salarios, prestaciones sociales e indemnizaciones laborales | D23: 0.1 | E23: Del contrato | F23: El plazo de ejecución del contrato y tres (3) meses más.
B24: Responsabilidad Civil Extracontractual | D24: 400 SMMLV | E24: Del contrato | F24: El plazo de ejecución del contrato
B25: ESPECIFICACIONES TÉCNICAS REQUERIDAS
B26: ITEM | C26: COMPONENTE | D26: DESCRIPCION | E26: UNIDAD | F26: CANTIDAD X MES | G26: TIEMPO MES | H26: VALOR MES | I26: IVA 19% | J26: VALOR TOTAL
B28: 1 | C28: Gestión de mesa de servicios | D28: Provisión de Recurso humano, recursos para la prestación de servicios y gestión para la atencion de la mesa de Servicios Nivel 1 | E28: GLOBAL | F28: 1 | G28: 9 | H28: 1.79317e+08 | I28: =+H28*0.19 -> 34070230 | J28: =(H28+I28)*G28 -> 1.9204851e+09
B29: 2 | C29: Gestión de Infraestructura Tecnológica | D29: Provisión de Recurso humano, recursos para la prestación de servicios y gestión de la infraestructura tecnológica Nivel 2 | F29: 1 | H29: 2.7275804e+08 | I29: =+H29*0.19 -> 51824027 | J29: =(H29+I29)*G28 -> 2.9212386e+09
B30: 3 | C30: Centro de Operaciones de Seguridad (SOC) y Centro de Operaciones de Red (NOC) | D30: Servicios de SOC y Servicios de NOC Se deben sumar los valores de servicios de SOC Y NOC | F30: 1 | H30: 1.3171651e+08 | I30: =+H30*0.19 -> 25026136 | J30: =(H30+I30)*G28 -> 1.4106838e+09
B31: 4 | C31: SIEM (Security Information and Event Management) para correlación de eventos | D31: Correlación de eventos, debe tener la capacidad de 8000 EPS y 550 Licencias, que deben ser suministradas por el contratista | F31: 1 | H31: 63372487 | I31: =+H31*0.19 -> 12040773 | J31: =(H31+I31)*G28 -> 6.7871934e+08
B32: 5 | C32: Herramienta de automatización y orquestación | D32: Solución de orquestación, automatización y remediación, licenciada que se integre con el SIEM Informar el nombre de la herramienta a utilizar | F32: 1 | H32: 39370723 | I32: =+H32*0.19 -> 7480437.4 | J32: =(H32+I32)*G28 -> 4.2166045e+08
B33: 6 | C33: Solución de emulación de adversarios. | D33: Una plataforma de emulación de amenazas y validación continua de seguridad, la cual deberá incluir como mínimo cinco (5) agentes de emulación licenciados y operativos Informar el nombre de la herramienta a utilizar | F33: 1 | H33: 44355400 | I33: =+H33*0.19 -> 8427526.1 | J33: =(H33+I33)*G28 -> 4.7504634e+08
B34: 7 | C34: Mantenimientos preventivos, Mantenimientos correctivos | D34: Mantenimiento preventivo de equipos sin garantía del inventario definidos en el anexo técnico Mantenimiento correctivos de los equipos sin garantía del inventario definidos en el anexo técnico, Debe cotizar de la siguiente forma: - El valor de los mantenimientros preventivos a realizar, es uno por año. - El valor de los mantenimientos correctivos, sin incluir repuestos, estos mantenimientos son por demanda durante la vigencía del contrato. - No es un valor mensualizado | F34: 1 | H34: 1.4137798e+08 | I34: =+H34*0.19 -> 26861817 | J34: =H34+I34 -> 1.682398e+08
B35: SUBTOTAL SERVICIOS | J35: =SUM(H28:H33)*G28+H34 -> 6.7193894e+09
B36: IVA DE SERVICIOS | J36: =+J35*0.19 -> 1.276684e+09
B37: TOTAL SERVICIOS | J37: =+J35+J36 -> 7.9960734e+09
B38: 8 | C38: Bolsa para recursos TIC | D38: Por demanda bolsa de horas especialistas Bolsa de repuesto | E38: GLOBAL | F38: 1 | G38: 9 | H38: 6000000 | J38: =+H38*G38 -> 54000000
B39: IVA DE BOLSA DE REPUESTOS | J39: =+J38*0.19 -> 10260000
B40: SUBTOTAL BOLSA DE REPUESTOS | J40: =+J38+J39 -> 64260000
B41: GRAN TOTAL SERVICIOS +BOLSA DE SERVICIOS E IMPUESTOS | J41: =+J37+J40 -> 8.0603334e+09
B42: FORMA DE PAGO Y PLAZO DE EJECUCIÓN: El DNP, pagará el valor del contrato a satisfacción de los soportes en mensualidades, el cual se efectuará dentro de los treinta (30) días hábiles siguientes a la radicación de la factura en el DNP, con el lleno de los requisitos legales y cumplimiento a satisfacción por parte del supervisor del contrato.
B43: IDENTIFICACIÓN DEL PROVEEDOR: GROW DATA S.A.S - NIT. 900.238.438-1 - GRAN EMPRESA
B44: OBSERVACIONES: (El proveedor podrá incluir en este campo las observaciones a la ficha técnica de las condiciones establecidas por el DNP, a fin de que la entidad pueda analizar y realizar los ajustes necesarios, si hay a lugar, del objeto a contratar)
B45: Coordinador OTSI GGU
B46: NOTA 1: El valor de la bolsa de recursos TIC es un valor fijo establecido por la entidad resultado de un análisis que comprende lo definido para el año 2025 y la necesidad adicional de recursos de horas de especialista NOTA 2: Tener en cuenta que para esta cotizacion el proveedor ha leido y entendido el anexo técnico, anexo de ANS y la matriz de roles y perfiles (documentos adjuntos al presente). La matriz de roles y perfiles contiene los valores salariales mínimos y respectiva carga prestacional de cada uno de los perfiles solicitados

Sheet EYC
D1: FORMATO COTIZACION
B8: JUSTIFICACION:
B9: El DNP en aras de garantizar su funcionamiento como Entidad Estatal, atiende sus necesidades y requerimientos en materia de TIC a través de la Oficina de Tecnología y Sistemas de Información. Dicha dependencia es la encargada de garantizar la disponibilidad y cobertura de servicios de TIC, los cuales se encuentran soportados sobre una infraestructura tecnológica estable, escalable y flexible, y dados los avances que se presentan constantemente en la materia, se ha propendido para que este siempre alineada en cuanto a la evolución que se vaya dando en cada uno de sus componentes. En ese orden de ideas, la Oficina de Tecnología y Sistemas de Información es la responsable de la infraestructura tecnológica, la cual se ha ido implementando y manteniendo a lo largo de los años, permitiendo que a través de los servicios de TIC que ella brinda, se pueda seguir optimizando la ejecución de procesos y procedimientos que se llevan a cabo por las dependencias y por ende aportando al cumplimiento de los objetivos estratégicos de la Entidad. Basados en lo anterior y dado el crecimiento constante de los últimos años a nivel tecnológico y de usuarios del DNP, la Entidad desde el año 2007 y hasta la fecha, efectúa tanto la recepción, atención, solución y cierre de solicitudes asociadas con servicios de TIC, como la gestión, administración, mantenimiento y soporte técnico de la infraestructura tecnológica que provee dichos servicios de TIC, a través del modelo de tercerización, mediante la contratación de un Centro de Servicios para la atención de requerimientos TIC a nivel 1 y 2. Para mantener la disponibilidad de los servicios tecnológicos y asegurar la protección de la información, se debe realizar un monitoreo 7X24 de la infraestructura tecnológica con los servicios de: Servicio Centro de Operaciones de Seguridad (SOC), sus herramientas y actividades asociadas a los análisis de vulnerabilidades, y Servicio Centro de Operaciones de Red (NOC)
B10: CLASIFICADOR DE BIENES Y SERVICIOS: (Nota. El proveedor podrá sugerir otros códigos que se relacionen con el bien y/o servicio a contratar)
B11: De acuerdo con la clasificación del Código Estándar de Productos y Servicios de Naciones Unidas, (UNSPSC), el servicio requerido por el Departamento Nacional de Planeación, identificados con los códigos: 81111800, 81111900, 81112000, 81112200, 43233200
B12: OBJETO:
B13: Prestar los servicios al Departamento Nacional de Planeación (DNP) y al Sistema General de Regalías (SGR) de Centro de Servicios de Soporte Tecnológico y Centro de Operación de Seguridad y de red (SOC/NOC), los cuales comprenden soporte técnico, mantenimiento preventivo y correctivo, monitoreo continuo de la seguridad informática, así como la administración y operación de la infraestructura tecnológica.
B14: ACTIVIDADES ESPECÍFICAS ESTIMADAS A DESARROLLAR: (Nota. En la publicacion del proceso la entidad podrá incluir actividades adicionales que tengan relacion directa con el objeto a contractual)
B15: * Servicio Centro de Operaciones de Seguridad (SOC), sus herramientas y actividades asociadas a los análisis de vulnerabilidades * Servicio Centro de Operaciones de Red (NOC) * Soporte y administración de servidores, Hardware y Software * Soporte, administración de la infraestructura tecnológica de los 2 Centros de Datos del DNP (soporte nivel 2) * Servicio de mesa de ayuda y Soporte mesa de servicios nivel 1 * Gestión de sistema operativo y de actualizaciones * Soporte y administración de plataforma de backup * Soporte y administración redes y seguridad * Soporte y administración correo electrónico * Soporte y administración de Directorio Activo * Soporte y administración de servicios de apoyo (DHCP, DNS, Proxy) * Bolsa de Recursos TIC
B16: DOCUMENTOS Y/O REQUERIMIENTOS TÉCNICOS ADICIONALES:
B17: REQUISITOS TÉCNICOS Los especificados en el Anexo Técnico y matriz de roles que se adjuntan
B18: MECANISMOS MÍNIMOS DE COBERTURA DEL CONTRATO. (Nota. Las garantías pueden ser modificadas de acuerdo al análisis del estudio sector y afinidad con el objeto a desarrollar)
B19: Riesgo | D19: Porcentaje | E19: Valor | F19: Vigencia
B20: Cumplimiento | D20: 0.2 | E20: Del contrato | F20: El plazo de ejecución del contrato y seis (6) meses más.
B21: Calidad del Servicio | D21: 0.2 | E21: Del contrato | F21: El plazo de ejecución del contrato y doce (12) meses más.
B22: Calidad y correcto funcionamiento de los bienes suministrados | D22: 0.2 | E22: Del contrato | F22: El plazo de ejecución del contrato y un (1) año más, contado a partir del recibo a satisfacción de los bienes suministrados
B23: Pago de salarios, prestaciones sociales e indemnizaciones laborales | D23: 0.1 | E23: Del contrato | F23: El plazo de ejecución del contrato y tres (3) meses más.
B24: Responsabilidad Civil Extracontractual | D24: 400 SMMLV | E24: Del contrato | F24: El plazo de ejecución del contrato
B25: ESPECIFICACIONES TÉCNICAS REQUERIDAS
B26: ITEM | C26: COMPONENTE | D26: DESCRIPCION | E26: UNIDAD | F26: CANTIDAD X MES | G26: TIEMPO MES | H26: VALOR MES | I26: IVA 19% | J26: VALOR TOTAL
B28: 1 | C28: Gestión de mesa de servicios | D28: Provisión de Recurso humano, recursos para la prestación de servicios y gestión para la atencion de la mesa de Servicios Nivel 1 | E28: GLOBAL | F28: 1 | G28: 9 | H28: 1.7935345e+08 | I28: =+H28*0.19 -> 34077155 | J28: =(H28+I28)*G28 -> 1.9208754e+09
B29: 2 | C29: Gestión de Infraestructura Tecnológica | D29: Provisión de Recurso humano, recursos para la prestación de servicios y gestión de la infraestructura tecnológica Nivel 2 | F29: 1 | H29: 2.7281348e+08 | I29: =+H29*0.19 -> 51834561 | J29: =(H29+I29)*G28 -> 2.9218324e+09
B30: 3 | C30: Centro de Operaciones de Seguridad (SOC) y Centro de Operaciones de Red (NOC) | D30: Servicios de SOC y Servicios de NOC Se deben sumar los valores de servicios de SOC Y NOC | F30: 1 | H30: 131743280 | I30: =+H30*0.19 -> 25031223 | J30: =(H30+I30)*G28 -> 1.4109705e+09
B31: 4 | C31: SIEM (Security Information and Event Management) para correlación de eventos | D31: Correlación de eventos, debe tener la capacidad de 8000 EPS y 550 Licencias, que deben ser suministradas por el contratista | F31: 1 | H31: 63385368 | I31: =+H31*0.19 -> 12043220 | J31: =(H31+I31)*G28 -> 6.7885729e+08
B32: 5 | C32: Herramienta de automatización y orquestación | D32: Solución de orquestación, automatización y remediación, licenciada que se integre con el SIEM Informar el nombre de la herramienta a utilizar | F32: 1 | H32: 39378726 | I32: =+H32*0.19 -> 7481957.9 | J32: =(H32+I32)*G28 -> 4.2174615e+08
B33: 6 | C33: Solución de emulación de adversarios. | D33: Una plataforma de emulación de amenazas y validación continua de seguridad, la cual deberá incluir como mínimo cinco (5) agentes de emulación licenciados y operativos Informar el nombre de la herramienta a utilizar | F33: 1 | H33: 44364416 | I33: =+H33*0.19 -> 8429239 | J33: =(H33+I33)*G28 -> 4.751429e+08
B34: 7 | C34: Mantenimientos preventivos, Mantenimientos correctivos | D34: Mantenimiento preventivo de equipos sin garantía del inventario definidos en el anexo técnico Mantenimiento correctivos de los equipos sin garantía del inventario definidos en el anexo técnico, Debe cotizar de la siguiente forma: - El valor de los mantenimientros preventivos a realizar, es uno por año. - El valor de los mantenimientos correctivos, sin incluir repuestos, estos mantenimientos son por demanda durante la vigencía del contrato. - No es un valor mensualizado | F34: 1 | H34: 141406720 | I34: =+H34*0.19 -> 26867277 | J34: =H34+I34 -> 1.68274e+08
B35: SUBTOTAL SERVICIOS | J35: =SUM(H28:H33)*G28+H34 -> 6.7207552e+09
B36: IVA DE SERVICIOS | J36: =+J35*0.19 -> 1.2769435e+09
B37: TOTAL SERVICIOS | J37: =+J35+J36 -> 7.9976986e+09
B38: 8 | C38: Bolsa para recursos TIC | D38: Por demanda bolsa de horas especialistas Bolsa de repuesto | E38: GLOBAL | F38: 1 | G38: 9 | H38: 6000000 | J38: =+H38*G38 -> 54000000
B39: IVA DE BOLSA DE REPUESTOS | J39: =+J38*0.19 -> 10260000
B40: SUBTOTAL BOLSA DE REPUESTOS | J40: =+J38+J39 -> 64260000
B41: GRAN TOTAL SERVICIOS +BOLSA DE SERVICIOS E IMPUESTOS | J41: =+J37+J40 -> 8.0619586e+09
B42: FORMA DE PAGO Y PLAZO DE EJECUCIÓN: El DNP, pagará el valor del contrato a satisfacción de los soportes en mensualidades, el cual se efectuará dentro de los treinta (30) días hábiles siguientes a la radicación de la factura en el DNP, con el lleno de los requisitos legales y cumplimiento a satisfacción por parte del supervisor del contrato.
B43: IDENTIFICACIÓN DEL PROVEEDOR: MEDIANA EMPRESA, E&C INGENIEROS SAS NIT 900024202-1 (El proveedor deberá indicar el tamaño empresarial al cual pertenece, es decir, si es micro, pequeña, mediana o gran empresa. Opcional: De ser posible remitir una copia del certificado de existencia y representacion legal).
B44: OBSERVACIONES: N/A (El proveedor podrá incluir en este campo las observaciones a la ficha técnica de las condiciones establecidas por el DNP, a fin de que la entidad pueda analizar y realizar los ajustes necesarios, si hay a lugar, del objeto a contratar)
B45: Coordinador OTSI GGU
B46: NOTA 1: El valor de la bolsa de recursos TIC es un valor fijo establecido por la entidad resultado de un análisis que comprende lo definido para el año 2025 y la necesidad adicional de recursos de horas de especialista NOTA 2: Tener en cuenta que para esta cotizacion el proveedor ha leido y entendido el anexo técnico, anexo de ANS y la matriz de roles y perfiles (documentos adjuntos al presente). La matriz de roles y perfiles contiene los valores salariales mínimos y respectiva carga prestacional de cada uno de los perfiles solicitados

Sheet HEIMCORE
D1: FORMATO COTIZACION
B8: JUSTIFICACION:
B9: El DNP en aras de garantizar su funcionamiento como Entidad Estatal, atiende sus necesidades y requerimientos en materia de TIC a través de la Oficina de Tecnología y Sistemas de Información. Dicha dependencia es la encargada de garantizar la disponibilidad y cobertura de servicios de TIC, los cuales se encuentran soportados sobre una infraestructura tecnológica estable, escalable y flexible, y dados los avances que se presentan constantemente en la materia, se ha propendido para que este siempre alineada en cuanto a la evolución que se vaya dando en cada uno de sus componentes. En ese orden de ideas, la Oficina de Tecnología y Sistemas de Información es la responsable de la infraestructura tecnológica, la cual se ha ido implementando y manteniendo a lo largo de los años, permitiendo que a través de los servicios de TIC que ella brinda, se pueda seguir optimizando la ejecución de procesos y procedimientos que se llevan a cabo por las dependencias y por ende aportando al cumplimiento de los objetivos estratégicos de la Entidad. Basados en lo anterior y dado el crecimiento constante de los últimos años a nivel tecnológico y de usuarios del DNP, la Entidad desde el año 2007 y hasta la fecha, efectúa tanto la recepción, atención, solución y cierre de solicitudes asociadas con servicios de TIC, como la gestión, administración, mantenimiento y soporte técnico de la infraestructura tecnológica que provee dichos servicios de TIC, a través del modelo de tercerización, mediante la contratación de un Centro de Servicios para la atención de requerimientos TIC a nivel 1 y 2. Para mantener la disponibilidad de los servicios tecnológicos y asegurar la protección de la información, se debe realizar un monitoreo 7X24 de la infraestructura tecnológica con los servicios de: Servicio Centro de Operaciones de Seguridad (SOC), sus herramientas y actividades asociadas a los análisis de vulnerabilidades, y Servicio Centro de Operaciones de Red (NOC)
B10: CLASIFICADOR DE BIENES Y SERVICIOS: (Nota. El proveedor podrá sugerir otros códigos que se relacionen con el bien y/o servicio a contratar)
B11: De acuerdo con la clasificación del Código Estándar de Productos y Servicios de Naciones Unidas, (UNSPSC), el servicio requerido por el Departamento Nacional de Planeación, identificados con los códigos: 81111800, 81111900, 81112000, 81112200, 43233200
B12: OBJETO:
B13: Prestar los servicios al Departamento Nacional de Planeación (DNP) y al Sistema General de Regalías (SGR) de Centro de Servicios de Soporte Tecnológico y Centro de Operación de Seguridad y de red (SOC/NOC), los cuales comprenden soporte técnico, mantenimiento preventivo y correctivo, monitoreo continuo de la seguridad informática, así como la administración y operación de la infraestructura tecnológica.
B14: ACTIVIDADES ESPECÍFICAS ESTIMADAS A DESARROLLAR: (Nota. En la publicacion del proceso la entidad podrá incluir actividades adicionales que tengan relacion directa con el objeto a contractual)
B15: * Servicio Centro de Operaciones de Seguridad (SOC), sus herramientas y actividades asociadas a los análisis de vulnerabilidades * Servicio Centro de Operaciones de Red (NOC) * Soporte y administración de servidores, Hardware y Software * Soporte, administración de la infraestructura tecnológica de los 2 Centros de Datos del DNP (soporte nivel 2) * Servicio de mesa de ayuda y Soporte mesa de servicios nivel 1 * Gestión de sistema operativo y de actualizaciones * Soporte y administración de plataforma de backup * Soporte y administración redes y seguridad * Soporte y administración correo electrónico * Soporte y administración de Directorio Activo * Soporte y administración de servicios de apoyo (DHCP, DNS, Proxy) * Bolsa de Recursos TIC
B16: DOCUMENTOS Y/O REQUERIMIENTOS TÉCNICOS ADICIONALES:
B17: REQUISITOS TÉCNICOS Los especificados en el Anexo Técnico y matriz de roles que se adjuntan
B18: MECANISMOS MÍNIMOS DE COBERTURA DEL CONTRATO. (Nota. Las garantías pueden ser modificadas de acuerdo al análisis del estudio sector y afinidad con el objeto a desarrollar)
B19: Riesgo | D19: Porcentaje | E19: Valor | F19: Vigencia
B20: Cumplimiento | D20: 0.2 | E20: Del contrato | F20: El plazo de ejecución del contrato y seis (6) meses más.
B21: Calidad del Servicio | D21: 0.2 | E21: Del contrato | F21: El plazo de ejecución del contrato y doce (12) meses más.
B22: Calidad y correcto funcionamiento de los bienes suministrados | D22: 0.2 | E22: Del contrato | F22: El plazo de ejecución del contrato y un (1) año más, contado a partir del recibo a satisfacción de los bienes suministrados
B23: Pago de salarios, prestaciones sociales e indemnizaciones laborales | D23: 0.1 | E23: Del contrato | F23: El plazo de ejecución del contrato y tres (3) meses más.
B24: Responsabilidad Civil Extracontractual | D24: 400 SMMLV | E24: Del contrato | F24: El plazo de ejecución del contrato
B25: ESPECIFICACIONES TÉCNICAS REQUERIDAS
B26: ITEM | C26: COMPONENTE | D26: DESCRIPCION | E26: UNIDAD | F26: CANTIDAD X MES | G26: TIEMPO MES | H26: VALOR MES | I26: IVA 19% | J26: VALOR TOTAL
B28: 1 | C28: Gestión de mesa de servicios | D28: Provisión de Recurso humano, recursos para la prestación de servicios y gestión para la atencion de la mesa de Servicios Nivel 1 | E28: GLOBAL | F28: 1 | G28: 9 | H28: 1.9139582e+08 | I28: =+H28*0.19 -> 36365207 | J28: =(H28+I28)*G28 -> 2.0498493e+09
B29: 2 | C29: Gestión de Infraestructura Tecnológica | D29: Provisión de Recurso humano, recursos para la prestación de servicios y gestión de la infraestructura tecnológica Nivel 2 | F29: 1 | H29: 2.9113107e+08 | I29: =+H29*0.19 -> 55314903 | J29: =(H29+I29)*G28 -> 3.1180138e+09
B30: 3 | C30: Centro de Operaciones de Seguridad (SOC) y Centro de Operaciones de Red (NOC) | D30: Servicios de SOC y Servicios de NOC Se deben sumar los valores de servicios de SOC Y NOC | F30: 1 | H30: 1.4058896e+08 | I30: =+H30*0.19 -> 26711902 | J30: =(H30+I30)*G28 -> 1.5057077e+09
B31: 4 | C31: SIEM (Security Information and Event Management) para correlación de eventos | D31: Correlación de eventos, debe tener la capacidad de 8000 EPS y 550 Licencias, que deben ser suministradas por el contratista | F31: 1 | H31: 67641269 | I31: =+H31*0.19 -> 12851841 | J31: =(H31+I31)*G28 -> 7.2443799e+08
B32: 5 | C32: Herramienta de automatización y orquestación | D32: Solución de orquestación, automatización y remediación, licenciada que se integre con el SIEM Informar el nombre de la herramienta a utilizar | F32: 1 | H32: 42022742 | I32: =+H32*0.19 -> 7984321.1 | J32: =(H32+I32)*G28 -> 4.5006357e+08
B33: 6 | C33: Solución de emulación de adversarios. | D33: Una plataforma de emulación de amenazas y validación continua de seguridad, la cual deberá incluir como mínimo cinco (5) agentes de emulación licenciados y operativos Informar el nombre de la herramienta a utilizar | F33: 1 | H33: 47343188 | I33: =+H33*0.19 -> 8995205.8 | J33: =(H33+I33)*G28 -> 5.0704555e+08
B34: 7 | C34: Mantenimientos preventivos, Mantenimientos correctivos | D34: Mantenimiento preventivo de equipos sin garantía del inventario definidos en el anexo técnico Mantenimiento correctivos de los equipos sin garantía del inventario definidos en el anexo técnico, Debe cotizar de la siguiente forma: - El valor de los mantenimientros preventivos a realizar, es uno por año. - El valor de los mantenimientos correctivos, sin incluir repuestos, estos mantenimientos son por demanda durante la vigencía del contrato. - No es un valor mensualizado | F34: 1 | H34: 1.5090123e+08 | I34: =+H34*0.19 -> 28671234 | J34: =H34+I34 -> 1.7957246e+08
B35: SUBTOTAL SERVICIOS | J35: =SUM(H28:H33)*G28+H34 -> 7.1720087e+09
B36: IVA DE SERVICIOS | J36: =+J35*0.19 -> 1.3626816e+09
B37: TOTAL SERVICIOS | J37: =+J35+J36 -> 8.5346903e+09
B38: 8 | C38: Bolsa para recursos TIC | D38: Por demanda bolsa de horas especialistas Bolsa de repuesto | E38: GLOBAL | F38: 1 | G38: 9 | H38: 6000000 | J38: =+H38*G38 -> 54000000
B39: IVA DE BOLSA DE REPUESTOS | J39: =+J38*0.19 -> 10260000
B40: SUBTOTAL BOLSA DE REPUESTOS | J40: =+J38+J39 -> 64260000
B41: GRAN TOTAL SERVICIOS +BOLSA DE SERVICIOS E IMPUESTOS | J41: =+J37+J40 -> 8.5989503e+09
B42: FORMA DE PAGO Y PLAZO DE EJECUCIÓN: El DNP, pagará el valor del contrato a satisfacción de los soportes en mensualidades, el cual se efectuará dentro de los treinta (30) días hábiles siguientes a la radicación de la factura en el DNP, con el lleno de los requisitos legales y cumplimiento a satisfacción por parte del supervisor del contrato.
B43: IDENTIFICACIÓN DEL PROVEEDOR: HEIMCORE SAS - NIT 900.425.697-2
B44: OBSERVACIONES: (El proveedor podrá incluir en este campo las observaciones a la ficha técnica de las condiciones establecidas por el DNP, a fin de que la entidad pueda analizar y realizar los ajustes necesarios, si hay a lugar, del objeto a contratar)
B45: Coordinador OTSI GGU
B46: NOTA 1: El valor de la bolsa de recursos TIC es un valor fijo establecido por la entidad resultado de un análisis que comprende lo definido para el año 2025 y la necesidad adicional de recursos de horas de especialista NOTA 2: Tener en cuenta que para esta cotizacion el proveedor ha leido y entendido el anexo técnico, anexo de ANS y la matriz de roles y perfiles (documentos adjuntos al presente). La matriz de roles y perfiles contiene los valores salariales mínimos y respectiva carga prestacional de cada uno de los perfiles solicitados

Sheet WEXLER
D1: FORMATO COTIZACION
B8: JUSTIFICACION:
B9: El DNP en aras de garantizar su funcionamiento como Entidad Estatal, atiende sus necesidades y requerimientos en materia de TIC a través de la Oficina de Tecnología y Sistemas de Información. Dicha dependencia es la encargada de garantizar la disponibilidad y cobertura de servicios de TIC, los cuales se encuentran soportados sobre una infraestructura tecnológica estable, escalable y flexible, y dados los avances que se presentan constantemente en la materia, se ha propendido para que este siempre alineada en cuanto a la evolución que se vaya dando en cada uno de sus componentes. En ese orden de ideas, la Oficina de Tecnología y Sistemas de Información es la responsable de la infraestructura tecnológica, la cual se ha ido implementando y manteniendo a lo largo de los años, permitiendo que a través de los servicios de TIC que ella brinda, se pueda seguir optimizando la ejecución de procesos y procedimientos que se llevan a cabo por las dependencias y por ende aportando al cumplimiento de los objetivos estratégicos de la Entidad. Basados en lo anterior y dado el crecimiento constante de los últimos años a nivel tecnológico y de usuarios del DNP, la Entidad desde el año 2007 y hasta la fecha, efectúa tanto la recepción, atención, solución y cierre de solicitudes asociadas con servicios de TIC, como la gestión, administración, mantenimiento y soporte técnico de la infraestructura tecnológica que provee dichos servicios de TIC, a través del modelo de tercerización, mediante la contratación de un Centro de Servicios para la atención de requerimientos TIC a nivel 1 y 2. Para mantener la disponibilidad de los servicios tecnológicos y asegurar la protección de la información, se debe realizar un monitoreo 7X24 de la infraestructura tecnológica con los servicios de: Servicio Centro de Operaciones de Seguridad (SOC), sus herramientas y actividades asociadas a los análisis de vulnerabilidades, y Servicio Centro de Operaciones de Red (NOC)
B10: CLASIFICADOR DE BIENES Y SERVICIOS: (Nota. El proveedor podrá sugerir otros códigos que se relacionen con el bien y/o servicio a contratar)
B11: De acuerdo con la clasificación del Código Estándar de Productos y Servicios de Naciones Unidas, (UNSPSC), el servicio requerido por el Departamento Nacional de Planeación, identificados con los códigos: 81111800, 81111900, 81112000, 81112200, 43233200
B12: OBJETO:
B13: Prestar los servicios al Departamento Nacional de Planeación (DNP) y al Sistema General de Regalías (SGR) de Centro de Servicios de Soporte Tecnológico y Centro de Operación de Seguridad y de red (SOC/NOC), los cuales comprenden soporte técnico, mantenimiento preventivo y correctivo, monitoreo continuo de la seguridad informática, así como la administración y operación de la infraestructura tecnológica.
B14: ACTIVIDADES ESPECÍFICAS ESTIMADAS A DESARROLLAR: (Nota. En la publicacion del proceso la entidad podrá incluir actividades adicionales que tengan relacion directa con el objeto a contractual)
