Workbook

Sheet OCUPACIONAL IPSO
C3: CENTRO CLINICO VERUTTI
C4: ITEM | D4: EXAMEN | E4: UNIDAD | F4: CANTIDAD | G4: VALOR UNITARIO
C5: 1 | D5: Ingreso | E5: UND | F5: 1 | G5: 35000
C6: 2 | D6: Periódico | E6: UND | F6: 1 | G6: 35000
C7: 3 | D7: Retiro | E7: UND | F7: 1 | G7: 35000
C8: 4 | D8: Post Incapacidad | E8: UND | F8: 1 | G8: 80000
C9: 5 | D9: Cambio de Ocupación | E9: UND | F9: 1 | G9: 80000
C10: 6 | D10: Atención de medicina laboral con recomendaciones | E10: UND | F10: 1 | G10: 80000
C11: AYUDAS DIAGNOSTICAS
C12: 1 | D12: Paquete optométrico | E12: UND | F12: 1 | G12: 25000
C13: 2 | D13: Audiometría | E13: UND | F13: 1 | G13: 25000
C14: 3 | D14: Prueba psicotécnica para magistrados y jueces | E14: UND | F14: 1 | G14: 50000
C15: 4 | D15: prueba psicotécnica trabajo en alturas | E15: UND | F15: 1 | G15: 50000
C16: 5 | D16: prueba psicotécnica conductores | E16: UND | F16: 1 | G16: 55000
C17: PARACLÍNICOS
C18: 1 | D18: Perfil lipídico | E18: UND | F18: 1 | G18: 35000
C19: 2 | D19: Cuadro Hemático | E19: UND | F19: 1 | G19: 15000
C20: 3 | D20: Glicemia Basal | E20: UND | F20: 1 | G20: 15000
C21: 4 | D21: Electrocardiograma | E21: UND | F21: 1 | G21: 50000
C22: TOTAL | G22: =SUM(G5:G10) -> 345000

Sheet IPS COMFACAUCA
B3: COTIZACIÓN IPS COMFACAUCA
B4: ITEM | C4: EXAMEN | D4: UNIDAD | E4: CANTIDAD | F4: VALOR UNITARIO
B5: 1 | C5: Ingreso | D5: UND | E5: 1 | F5: 44900
B6: 2 | C6: Periódico | D6: UND | E6: 1 | F6: 44900
B7: 3 | C7: Retiro | D7: UND | E7: 1 | F7: 44900
B8: 4 | C8: Post Incapacidad | D8: UND | E8: 1 | F8: 72200
B9: 5 | C9: Cambio de Ocupación | D9: UND | E9: 1 | F9: 35200
B10: 6 | C10: Atención de medicina laboral con recomendaciones | D10: UND | E10: 1 | F10: 72200
B11: AYUDAS DIAGNOSTICAS
B12: 1 | C12: Paquete optométrico | D12: UND | E12: 1 | F12: 34000
B13: 2 | C13: Audiometría | D13: UND | E13: 1 | F13: 24600
B14: 3 | C14: Prueba psicotécnica para magistrados y jueces | D14: UND | E14: 1 | F14: 46500
B15: 4 | C15: prueba psicotécnica trabajo en alturas | D15: UND | E15: 1 | F15: 83800
B16: 5 | C16: prueba psicotécnica conductores | D16: UND | E16: 1 | F16: 39900
B17: PARACLÍNICOS
B18: 1 | C18: Perfil lipídico | D18: UND | E18: 1 | F18: 35900
B19: 2 | C19: Cuadro Hemático | D19: UND | E19: 1 | F19: 21000
B20: 3 | C20: Glicemia Basal | D20: UND | E20: 1 | F20: 6300
B21: 4 | C21: Electrocardiograma | D21: UND | E21: 1 | F21: 40000
B22: TOTAL | F22: =SUM(F5:F10) -> 314300

Sheet PROMEDIO
B4: ITEM | C4: EXAMEN | D4: UNIDAD | E4: CANTIDAD | F4: OCUPACIONAL SALUD IPSO | G4: COMFACAUCA | H4: PROMEDIO
B5: 1 | C5: Ingreso | D5: UND | E5: 1 | F5: ='OCUPACIONAL IPSO'!G5 -> 35000 | G5: ='IPS COMFACAUCA'!F5 -> 44900 | H5: =+AVERAGE(F5,G5) -> 39950
B6: 2 | C6: Periódico | D6: UND | E6: 1 | F6: ='OCUPACIONAL IPSO'!G6 -> 35000 | G6: ='IPS COMFACAUCA'!F6 -> 44900 | H6: =+AVERAGE(F6,G6) -> 39950
B7: 3 | C7: Retiro | D7: UND | E7: 1 | F7: ='OCUPACIONAL IPSO'!G7 -> 35000 | G7: ='IPS COMFACAUCA'!F7 -> 44900 | H7: =+AVERAGE(F7,G7) -> 39950
B8: 4 | C8: Post Incapacidad | D8: UND | E8: 1 | F8: ='OCUPACIONAL IPSO'!G8 -> 80000 | G8: ='IPS COMFACAUCA'!F8 -> 72200 | H8: =+AVERAGE(F8,G8) -> 76100
B9: 5 | C9: Cambio de Ocupación | D9: UND | E9: 1 | F9: ='OCUPACIONAL IPSO'!G9 -> 80000 | G9: ='IPS COMFACAUCA'!F9 -> 35200 | H9: =+AVERAGE(F9,G9) -> 57600
B10: 6 | C10: Atención de medicina laboral con recomendaciones | D10: UND | E10: 1 | F10: ='OCUPACIONAL IPSO'!G10 -> 80000 | G10: ='IPS COMFACAUCA'!F10 -> 72200 | H10: =+AVERAGE(F10,G10) -> 76100
B11: AYUDAS DIAGNOSTICAS
B12: 1 | C12: Paquete optométrico | D12: UND | E12: 1 | F12: ='OCUPACIONAL IPSO'!G12 -> 25000 | G12: ='IPS COMFACAUCA'!F12 -> 34000 | H12: =+AVERAGE(F12,G12) -> 29500
B13: 2 | C13: Audiometría | D13: UND | E13: 1 | F13: ='OCUPACIONAL IPSO'!G13 -> 25000 | G13: ='IPS COMFACAUCA'!F13 -> 24600 | H13: =+AVERAGE(F13,G13) -> 24800
B14: 3 | C14: Prueba psicotécnica para magistrados y jueces | D14: UND | E14: 1 | F14: ='OCUPACIONAL IPSO'!G14 -> 50000 | G14: ='IPS COMFACAUCA'!F14 -> 46500 | H14: =+AVERAGE(F14,G14) -> 48250
B15: 4 | C15: prueba psicotécnica trabajo en alturas | D15: UND | E15: 1 | F15: ='OCUPACIONAL IPSO'!G15 -> 50000 | G15: ='IPS COMFACAUCA'!F15 -> 83800 | H15: =+AVERAGE(F15,G15) -> 66900
B16: 5 | C16: prueba psicotécnica conductores | D16: UND | E16: 1 | F16: ='OCUPACIONAL IPSO'!G16 -> 55000 | G16: ='IPS COMFACAUCA'!F16 -> 39900 | H16: =+AVERAGE(F16,G16) -> 47450
B17: PARACLÍNICOS
B18: 1 | C18: Perfil lipídico | D18: UND | E18: 1 | F18: ='OCUPACIONAL IPSO'!G18 -> 35000 | G18: ='IPS COMFACAUCA'!F18 -> 35900 | H18: =+AVERAGE(F18,G18) -> 35450
B19: 2 | C19: Cuadro Hemático | D19: UND | E19: 1 | F19: ='OCUPACIONAL IPSO'!G19 -> 15000 | G19: ='IPS COMFACAUCA'!F19 -> 21000 | H19: =+AVERAGE(F19,G19) -> 18000
B20: 3 | C20: Glicemia Basal | D20: UND | E20: 1 | F20: ='OCUPACIONAL IPSO'!G20 -> 15000 | G20: ='IPS COMFACAUCA'!F20 -> 6300 | H20: =+AVERAGE(F20,G20) -> 10650
B21: 4 | C21: Electrocardiograma | D21: UND | E21: 1 | F21: ='OCUPACIONAL IPSO'!G21 -> 50000 | G21: ='IPS COMFACAUCA'!F21 -> 40000 | H21: =+AVERAGE(F21,G21) -> 45000
B22: TOTAL | F22: =SUM(F5:F10) -> 345000 | G22: =SUM(G5:G10) -> 314300 | H22: =+AVERAGE(F22,G22) -> 329650
