Workbook
Name \0: #REF!
Name \0: #REF!
Name \00: #REF!
Name \00: #REF!
Name \1: #REF!
Name \1: #REF!
Name \a: #REF!
Name \a: #REF!
Name \AA: #REF!
Name \AA: #REF!
Name \b: #REF!
Name \b: #REF!
Name \bb: #REF!
Name \bb: #REF!
Name \c: #REF!
Name \c: #REF!
Name \d: #REF!
Name \d: #REF!
Name \E: #REF!
Name \E: #REF!
Name \EE: #REF!
Name \EE: #REF!
Name \f: #REF!
Name \f: #REF!
Name \G: #REF!
Name \G: #REF!
Name \h: #REF!
Name \h: #REF!
Name \i: #REF!
Name \i: #REF!
Name \k: #REF!
Name \k: #REF!
Name \l: #REF!
Name \l: #REF!
Name \LL: #REF!
Name \LL: #REF!
Name \M: #REF!
Name \M: #REF!
Name \n: #REF!
Name \n: #REF!
Name \ñ: #REF!
Name \ñ: #REF!
Name \O: #REF!
Name \O: #REF!
Name \P: #REF!
Name \P: #REF!
Name \PP: #N/A
Name \R: #REF!
Name \R: #REF!
Name \s: #REF!
Name \s: #REF!
Name \t: #REF!
Name \t: #REF!
Name \u: #REF!
Name \u: #REF!
Name \V: #REF!
Name \V: #REF!
Name \w: #N/A
Name \X: #REF!
Name \X: [0]!ERR

Sheet MO
B2: LISTADO DE MANO DE OBRA
B3: unidad | D3: Ítem | F3: VALOR ($ COP)
B4: mes | D4: Salario mínimo legal mensual vigente - SMLMV básico 2023 | F4: 1423500
B5: mes | D5: Subsidio de transporte 2024 | F5: 162000
B6: mes | D6: Salario mínimo legal mensual vigente - SMLMV 2023 + Subsidio de transporte 2023 | F6: =F4+F5 -> 1585500
B7: día | D7: Jornal + subsidio de transporte 2024 | F7: =F6/30 -> 52850
B8: % | D8: Factor prestacional INVIAS vigente | F8: 0.85
B9: día | D9: Jornal básico | F9: =(F4/30) -> 47450
B10: día | D10: Jornal básico con factor prestacional | F10: =(F4/30)+((F4/30)*F8) -> 87782.5
B11: mes | D11: salario basico SMLMV 2024 con factor prestacional | F11: =F4+(F8*F4) -> 2633475
B13: # | C13: unidad | D13: Insumo | E13: Precio ($ COP) | F13: Factor de Jornal 2024
B14: 1 | C14: día | D14: Oficial | E14: =$F$9*F14 -> 94900 | F14: 2
B15: 2 | C15: día | D15: Oficial (2) | E15: =$F$9*F15 -> 189800 | F15: =+F14*2 -> 4
B16: 3 | C16: día | D16: Rescatista | E16: =$F$9*F16 -> 94900 | F16: 2
B17: 4 | C17: día | D17: Almacenista | E17: =$F$9*F17 -> 47450 | F17: 1
B18: 5 | C18: día | D18: Ayudante | E18: =$F$9*F18 -> 47450 | F18: 1
B19: 6 | C19: día | D19: Ayudante (2) | E19: =$F$9*F19 -> 94900 | F19: 2
B20: 7 | C20: día | D20: Ayudante (3) | E20: =$F$9*F20 -> 142350 | F20: 3
B21: 8 | C21: día | D21: Ayudante (4) | E21: =$F$9*F21 -> 189800 | F21: 4
B22: 9 | C22: día | D22: Ayudante (5) | E22: =$F$9*F22 -> 237250 | F22: 5
B23: 10 | C23: día | D23: Ayudante (6) | E23: =$F$9*F23 -> 284700 | F23: 6
B24: 11 | C24: día | D24: Ayudante (7) | E24: =$F$9*F24 -> 332150 | F24: 7
B25: 12 | C25: día | D25: Ayudante (8) | E25: =$F$9*F25 -> 379600 | F25: 8
B26: 13 | C26: día | D26: Ayudante (9) | E26: =$F$9*F26 -> 427050 | F26: 9
B27: 14 | C27: día | D27: Ayudante (10) | E27: =$F$9*F27 -> 474500 | F27: 10
... B33: 20 | C33: día | D33: Oficial | E33: =$F$9*F33 -> 71175 | F33: 1.5
B34: 21 | C34: día | D34: Oficial (2) | E34: =$F$9*F34 -> 142350 | F34: =+F33*2 -> 3
B35: 22 | C35: día | D35: Oficial (3) | E35: =$F$9*F35 -> 213525 | F35: =+F33*3 -> 4.5
B36: 23 | C36: día | D36: Oficial + 3 Ayudantes (armado e inyección de anclajes) | E36: =$F$9*F36 -> 230132.5 | F36: 4.85
B37: 24 | C37: día | D37: Oficial experto en desmontaje | E37: =$F$9*F37 -> 94900 | F37: 2
B38: 25 | C38: día | D38: Oficial experto en explosivos | E38: =$F$9*F38 -> 97272.5 | F38: 2.05
B39: 26 | C39: día | D39: Oficial Obrero (3) Cuadrilla de un oficial y 3 Obreros. | E39: =$F$9*F39 -> 223015 | F39: 4.7
B40: 27 | C40: día | D40: 1 Oficial y 1 Obrero. | E40: =$F$9*F40 -> 128115 | F40: 2.7
B41: 28 | C41: día | D41: Cuadrilla de Un Oficial y (2) Obreros. | E41: =$F$9*F41 -> 175565 | F41: 3.7
B42: 29 | C42: día | D42: Cuadrilla de un oficial y (4) Obreros. | E42: =$F$9*F42 -> 270465 | F42: 5.7
B43: 30 | C43: día | D43: Cuadrilla de desmontaje (10 personas) | E43: =$F$9*F43 -> 444606.5 | F43: 9.37
B44: 31 | C44: día | D44: Cuadrilla de fabricación | E44: =$F$9*F44 -> 242469.5 | F44: 5.11
B45: 32 | C45: día | D45: Cadenero | E45: =$F$9*F45 -> 54567.5 | F45: 1.15
B46: 33 | C46: día | D46: Cadeneros (2) | E46: =$F$9*F46 -> 109135 | F46: =+F45*2 -> 2.3
B47: 34 | C47: día | D47: Carpintero | E47: =$F$9*F47 -> 94900 | F47: 2
...

Sheet PPTO POR OFICINA
B2: PRESUPUESTO DE OBRA CIVIL | L2: CODIGO: | M2: FT-TEC-01
L3: VESION: | M3: 2
L4: FECHA DE APROBACION: | M4: 44333
B6: OBJETO: | F6: OBRAS DE MANTENIMIENTO PREVENTIVO Y/O CORRECTIVO EN LAS SEDES EN PROPIEDAD DEL DISTRITO UBICADOS EN LA PLAZOLETA TELECOM LOCALES 107B SINTRAOFIPUCAR UNALDE FEDEJAC Y CERRAMIENTO DEL PREDIO UBICADO EN LA CALLE 49 CON VIA PERIMETRAL EN LA CIUDAD DE CARTAGENA
B8: Nº | C8: ÍTEM DE PAGO | D8: ESPECIFICACIONES | F8: DESCRIPCIÓN | G8: UND. | H8: SINTRAOFIPUCAR | I8: UNALDE | J8: FEDEJAC | K8: CANTIDAD | L8: VALOR UNITARIO | M8: VALOR TOTAL
D9: GENERAL | E9: PARTICULAR
F10: ADECUACIÓN LOCALES PROPIEDAD DEL DISTRITO (SINTRAOFIPUCAR, UNALDE Y FEDEJAC)
B11: =+PRESUPUESTO!B21 -> 2 | F11: DEMOLICIONES Y DESMONTES
B12: =B11+0.01 -> 2.01 | F12: Picada de Enchape de pisos y muros, bases de meson. (Incluye retiro de material sobrante y disposición final en R.S.) | G12: M2 | K12: =MEMORIAS!X329 -> 125.7 | L12: =APUS!H575 -> 15929 | M12: =K12*L12 -> 2002275.3
B13: =B12+0.01 -> 2.02 | F13: Desmonte de Elementos Sanitarios (Incluye retiro de material sobrante y disposición final en R.S.) | G13: UND | K13: =MEMORIAS!X366 -> 7 | L13: =APUS!H642 -> 113661 | M13: =K13*L13 -> 795627
B14: =B13+0.01 -> 2.03 | F14: DESMONTE PUERTAS CON MARCOS (INC. RETIRO DE SOBR.) | G14: UND | K14: =MEMORIAS!X403 -> 4 | L14: =APUS!H709 -> 80873 | M14: =K14*L14 -> 323492
B15: =B14+0.01 -> 2.04 | F15: Desmonte de Cielo raso (Incluye retiro y disposicion final de escombros en sitio autorizado por la autoridad ambiental) | G15: M2 | K15: =MEMORIAS!X440 -> 84.35 | L15: =APUS!H776 -> 21400 | M15: =K15*L15 -> 1805090
B16: =B15+0.01 -> 2.05 | F16: Demolicion de muro en drywall y divisiones (Incluye retiro de material sobrante y disposición final en R.S.) | G16: M2 | K16: =MEMORIAS!X477 -> 5.825 | L16: =APUS!H843 -> 23723 | M16: =K16*L16 -> 138186.48
B17: =B16+0.01 -> 2.06 | F17: DESMONTE DE LAMPARAS | G17: UND | K17: =MEMORIAS!X514 -> 18 | L17: =APUS!H910 -> 17792 | M17: =K17*L17 -> 320256
B18: =B17+0.01 -> 2.07 | F18: Desmonte Estructura Madera existente (Incluye retiro de material sobrante y disposición final en R.S.) | G18: M2 | K18: =MEMORIAS!X551 -> 12.22 | L18: =APUS!H977 -> 32045 | M18: =K18*L18 -> 391589.9
B19: =B18+0.01 -> 2.08 | F19: Desinstalacion de baranda metalica. Incluye disposicion en punto de acopio temporal, autorizado por la supervision. | G19: ML | K19: =MEMORIAS!X588 -> 6.65 | L19: =APUS!H1044 -> 42272 | M19: =K19*L19 -> 281108.8
B20: =B19+0.01 -> 2.09 | F20: Demolicion de muros e= 10-15cm, incluye desmonte de elementos ubicados en los vanos (marcos, puertas y ventanas) y desmonte de ductería embebida en los muros. (Incluye retiro y disposicion final de escombros en sitio autorizado por la autoridad ambiental). | G20: M2 | K20: =MEMORIAS!X625 -> 2.45 | L20: =APUS!H1111 -> 36441 | M20: =K20*L20 -> 89280.45
B21: =B11+1 -> 3 | F21: PISOS Y ENCHAPES
B22: =B21+0.01 -> 3.01 | F22: Suministro e instalacion de enchape pisos tipo porcelana formato 60x60 color gris claro | G22: M2 | K22: =MEMORIAS!X662 -> 92.76 | L22: =APUS!H1178 -> 106857 | M22: =K22*L22 -> 9912055.3
B23: =B22+0.01 -> 3.02 | F23: Suministro e instalacion de zocalo para pisos tipo porcelana Blanco o similar | G23: ML | K23: =MEMORIAS!X699 -> 95.52 | L23: =APUS!H1245 -> 22902 | M23: =K23*L23 -> 2187599
B24: =B21+1 -> 4 | F24: HIDROSANITARIOS
B25: =B24+0.01 -> 4.01 | F25: Suministro e instalación de sanitario institucional blanco tipo Acuacer o similar incluye Grifería y accesorios. | G25: UND | K25: =MEMORIAS!X736 -> 3 | L25: =APUS!H1312 -> 1475748 | M25: =K25*L25 -> 4427244
B26: =B25+0.01 -> 4.02 | F26: Suministro e instalación de orinal institucional con fluxometro blanco tipo Gotta o similar incluye Grifería y accesorios. | G26: UND | K26: =MEMORIAS!X773 -> 3 | L26: =APUS!H1379 -> 1281711 | M26: =K26*L26 -> 3845133
B27: =B26+0.01 -> 4.03 | F27: Suministro e instalación de espejos ovalados color negro (50x100cm) para baños de 6 mm flotado | G27: UND | K27: =MEMORIAS!X810 -> 3 | L27: =APUS!H1446 -> 219350 | M27: =K27*L27 -> 658050
B28: =B27+0.01 -> 4.04 | F28: Suministro e instalacion de Lavamanos de sobreponer redondo diametro 365mm alto 120mm , incluye griferia decorativa color negro, meson en piedra sinterizada color Bianco Rhino y mueble flortante en melamina de 18mm color Ceniza de 0.50 de fondo x 0.80 frente x 0.65 alto con dos puertas con un entrepaño interior y un entrepaño exterior (Incluye mantenimientos de tuberias sanitaria e hidraulicas) | G28: UND | K28: =MEMORIAS!X847 -> 3 | L28: =APUS!H1513 -> 2018848 | M28: =K28*L28 -> 6056544
B29: =B28+0.01 -> 4.05 | F29: Suministro e instalacion punto Hidraulico 1/2" | G29: UND | K29: =MEMORIAS!X884 -> 4 | L29: =APUS!H1579 -> 29623 | M29: =K29*L29 -> 118492
B30: =B29+0.01 -> 4.06 | F30: Suministro e instalacion punto sanitario 2" | G30: UND | K30: =MEMORIAS!X921 -> 4 | L30: =APUS!H1646 -> 38139 | M30: =K30*L30 -> 152556
B31: =B30+0.01 -> 4.07 | F31: SUMINSITRO E INSTALACION E TUBERIA HIDRAULICA 1/2". Incluye accesorios como codos, tee y tapones. | G31: ML | K31: =MEMORIAS!X958 -> 14 | L31: =APUS!H1713 -> 30529 | M31: =K31*L31 -> 427406
B32: =B31+0.01 -> 4.08 | F32: TUBERIA PVC SANITARIA DE 2" (incluye atraque en concreto). Incluye accesorios como codos, tee y tapones. | G32: ML | K32: =MEMORIAS!X995 -> 14 | L32: =APUS!H1780 -> 54927 | M32: =K32*L32 -> 768978
B33: =B24+1 -> 5 | F33: CIELO RASO, ESTUCO Y PINTURA
B34: =B33+0.01 -> 5.01 | F34: SUMINISTRO E INSTALACIÓN DE CIELO RASO EN DRYWALL de 1/2" (incluye pintura 2 manos, soporte perfileria metaliza y accesorios de sujecion) | G34: M2 | K34: =MEMORIAS!X1032 -> 73.7 | L34: =APUS!H1847 -> 78229 | M34: =K34*L34 -> 5765477.3
B35: =B34+0.01 -> 5.02 | F35: Pintura tipo 1 viniltex o similar de pintuco 2 manos en muros y cielo raso interior | G35: M2 | K35: =MEMORIAS!X1069 -> 309.24194 | L35: =APUS!H1914 -> 15216 | M35: =K35*L35 -> 4705425.3
B36: =B35+0.01 -> 5.03 | F36: Estuco plastico sobre muros interior y exterior | G36: M2 | K36: =MEMORIAS!X1106 -> 35.09 | L36: =APUS!H1981 -> 21574 | M36: =K36*L36 -> 757031.66
B37: =B33+1 -> 6 | F37: CARPINTERIA EN MADERA Y METALICA
B38: =B37+0.01 -> 6.01 | F38: Suministro e instalación de vidrio templado en ventana de oficia sintraofipucar | G38: M2 | K38: =MEMORIAS!X1143 -> 0.7 | L38: =APUS!H2048 -> 232794 | M38: =K38*L38 -> 162955.8
B39: =B38+0.01 -> 6.02 | F39: Mantenimiento y ajuste de puertas en aluminio y vidrio, incluye cambio de cerradura, ajuste de bisagras y lubricación. | G39: UND | K39: =MEMORIAS!X1180 -> 3 | L39: =APUS!H2115 -> 372791 | M39: =K39*L39 -> 1118373
B40: =B39+0.01 -> 6.03 | F40: Suministro e instalacion de Puertas entamboradad en RH color ceniza, abatible 0,70 x 2,2m, incluye cerradura tipo palanca cuadrada color negro, bisagras y demás elementos para su instalación | G40: UND | K40: =MEMORIAS!X1217 -> 6 | L40: =APUS!H2182 -> 895469 | M40: =K40*L40 -> 5372814
B41: =B40+0.01 -> 6.04 | F41: Suministro e instalación de puertas en vidrio templado de 12 mm, incluye cerradura con 2 llaves, herrajes en color negro y todo lo necesario para su correcto funcionamiento. | G41: M2 | K41: =MEMORIAS!X1254 -> 5.67 | L41: =APUS!H2249 -> 503582 | M41: =K41*L41 -> 2855309.9
B42: =B41+0.01 -> 6.05 | F42: Mantenimiento y pintura en anticorrosivo y esmalte de la escalera metalica. | G42: M2 | K42: =MEMORIAS!X1291 -> 9.945 | L42: =APUS!H2316 -> 94353 | M42: =K42*L42 -> 938340.59
B43: =B42+0.01 -> 6.06 | F43: SUMINISTRO E INSTALACION DE ESCALERA EN ESTRUCTURA METÁLICA, HUELLAS EN ACERO INOXIDABLE CON ACABADO LAGRIMADO DE 2MM, INCLUYE LIMPIEZA DE SUPERFICIE SSPC-SP 03, ANTICORROSIVO Y PINTURA EN POLIURETANO ESQUEMA DE e=6mils y e=6mils RESPECTIVAMENTE. Incluye todos los elementos de soporte y anclaje, como platinas y pernos. | G43: KG | K43: =MEMORIAS!X1328 -> 153.603 | L43: =APUS!H2383 -> 21249 | M43: =K43*L43 -> 3263910.1
...

Sheet PRESUPUESTO
B2: PRESUPUESTO DE OBRA CIVIL | I2: CODIGO: | J2: FT-TEC-01
I3: VESION: | J3: 2
I4: FECHA DE APROBACION: | J4: 44333
B6: OBJETO: | F6: OBRAS DE MANTENIMIENTO PREVENTIVO Y/O CORRECTIVO EN LAS SEDES EN PROPIEDAD DEL DISTRITO UBICADOS EN LA PLAZOLETA TELECOM LOCALES 107B SINTRAOFIPUCAR UNALDE FEDEJAC Y CERRAMIENTO DEL PREDIO UBICADO EN LA CALLE 49 CON VIA PERIMETRAL EN LA CIUDAD DE CARTAGENA
B8: Nº | C8: ÍTEM DE PAGO | D8: ESPECIFICACIONES | F8: DESCRIPCIÓN | G8: UND. | H8: CANTIDAD | I8: VALOR UNITARIO | J8: VALOR TOTAL
D9: GENERAL | E9: PARTICULAR
F10: CERRAMIENTO DEL PREDIO UBICADO EN LA MARIA
B11: 1 | F11: CERRAMIENTO EN POSTE DE CONCRETO Y ALAMBRE LISO
A12: 1 | B12: =B11+0.01 -> 1.01 | F12: LOCALIZACIÓN, TRAZADO, REPLANTEO Y NIVELACIÓN. INCLUYE ENTREGA DE PLANOS Y CARTERA. | G12: M2 | H12: =MEMORIAS!X36 -> 721.8777 | I12: =APUS!H42 -> 3253 | J12: =H12*I12 -> 2348268.2
A13: =A12+1 -> 2 | B13: =B12+0.01 -> 1.02 | F13: CERRAMIENTO (8 HILERAS DE ALAMBRE LISO CALIBRE 12, CON POSTE DE CONCRETO DE 10 CM X 10 CM Y 3 M DE ALTURA, CON BRAZO, 8 HUECOS. ENTERRADO COMO MIN. 0.60m, CON PEDESTAL EN CONCRETO 30X30, NTERCALADO CADA 1,2 M ENTRE POSTES Y CONTRAFUERTES AL INCIO Y FINAL DE CADA TRAMO Y ESQUINAS. CON AMARRE DE SEGURIDAD PARA CADA HILO DE ALAMBRE EN LOS POSTES | G13: ML | H13: =MEMORIAS!X73 -> 52.8 | I13: =APUS!H109 -> 166456 | J13: =H13*I13 -> 8788876.8
A14: =A13+1 -> 3 | B14: =B13+0.01 -> 1.03 | F14: Suministro e instalacion de Porton de acceso vehicular de doble hoja abatible en tuberia galvanizada estructural Ø2". Incluye soportes y Herrajes, esquema de pintura Anticorrosivo Esp=6 mils, acabado Poliuretano blanca Esp=12mils. Incluye marco, tensores, empotramiento y anclaje de tubería de soporte de giro a pedestal de 20cm x 20cm x 40cm fundido In Situ en concreto de 3500 PSI armado con acero de refuerzo corrugado grado 60, Fy = 4200 kg/cm², cuantía mínima de 80kg/m³. | G14: M2 | H14: =MEMORIAS!X110 -> 9.35 | I14: =APUS!H176 -> 529235 | J14: =H14*I14 -> 4948347.3
A15: =A14+1 -> 4 | B15: =B14+0.01 -> 1.04 | F15: Micropilote para soporte de postes metalicos de portones Ø 30cm x H = 0,8mt. Incluye acero de refuerzo, Q. Min = 120 Kg Incluyendo acero de anclaje y avance para transferencia de carga a cimentacion superior. | G15: UND | H15: =MEMORIAS!X147 -> 2 | I15: =APUS!H243 -> 390187 | J15: =H15*I15 -> 780374
A16: =A15+1 -> 5 | B16: =B15+0.01 -> 1.05 | F16: Viga de amarre en concreto reforzado de 3500 PSI H=0,20 x W=0,20. Incluye acero de refuerzo corrugado grado 60, Fy = 4200 kg/cm², cuantia minima de 95kg/m³. Incluye junta de dilatacion en ambas caras de viga con placa existente. | G16: ML | H16: =MEMORIAS!X183 -> 4.25 | I16: =APUS!H310 -> 135793 | J16: =H16*I16 -> 577120.25
A17: =A16+1 -> 6 | B17: =B16+0.01 -> 1.06 | F17: Perfilacion y poda con guadañadora de terreno natural, Incluye trasiego de material de residuo a punto de acopio temporal. | G17: M2 | H17: =MEMORIAS!X220 -> 814.56 | I17: =APUS!H376 -> 2372 | J17: =H17*I17 -> 1932136.3
A18: =A17+1 -> 7 | B18: =B17+0.01 -> 1.07 | F18: APLICACIÓN DE MATA MALEZA CON HERBICIDA NO SELECTIVO (GLIFOSATO - UNA APLICACIÓN 15 días despues de haber realizado el corte de maleza) | G18: M2 | H18: =MEMORIAS!X256 -> 814.56 | I18: =APUS!H442 -> 1039 | J18: =H18*I18 -> 846327.84
A19: =A18+1 -> 8 | B19: =B18+0.01 -> 1.08 | F19: SUMINISTRO E INSTALACION DE VALLA INFORMATIVA DE 1X 0.7 CON BASTIDOR EN MADERA. SEGÚN DISEÑO. | G19: UND | H19: =MEMORIAS!X292 -> 1 | I19: =APUS!H508 -> 384805 | J19: =H19*I19 -> 384805
F20: ADECUACIÓN LOCALES PROPIEDAD DEL DISTRITO (SINTRAOFIPUCAR, UNALDE Y FEDEJAC)
B21: =B11+1 -> 2 | F21: DEMOLICIONES Y DESMONTES
A22: =A19+1 -> 9 | B22: =B21+0.01 -> 2.01 | F22: Picada de Enchape de pisos y muros, bases de meson. (Incluye retiro de material sobrante y disposición final en R.S.) | G22: M2 | H22: =MEMORIAS!X329 -> 125.7 | I22: =APUS!H575 -> 15929 | J22: =H22*I22 -> 2002275.3
A23: =A22+1 -> 10 | B23: =B22+0.01 -> 2.02 | F23: Desmonte de Elementos Sanitarios (Incluye retiro de material sobrante y disposición final en R.S.) | G23: UND | H23: =MEMORIAS!X366 -> 7 | I23: =APUS!H642 -> 113661 | J23: =H23*I23 -> 795627
A24: =A23+1 -> 11 | B24: =B23+0.01 -> 2.03 | F24: DESMONTE PUERTAS CON MARCOS (INC. RETIRO DE SOBR.) | G24: UND | H24: =MEMORIAS!X403 -> 4 | I24: =APUS!H709 -> 80873 | J24: =H24*I24 -> 323492
A25: =A24+1 -> 12 | B25: =B24+0.01 -> 2.04 | F25: Desmonte de Cielo raso (Incluye retiro y disposicion final de escombros en sitio autorizado por la autoridad ambiental) | G25: M2 | H25: =MEMORIAS!X440 -> 84.35 | I25: =APUS!H776 -> 21400 | J25: =H25*I25 -> 1805090
A26: =A25+1 -> 13 | B26: =B25+0.01 -> 2.05 | F26: Demolicion de muro en drywall y divisiones (Incluye retiro de material sobrante y disposición final en R.S.) | G26: M2 | H26: =MEMORIAS!X477 -> 5.825 | I26: =APUS!H843 -> 23723 | J26: =H26*I26 -> 138186.48
A27: =A26+1 -> 14 | B27: =B26+0.01 -> 2.06 | F27: DESMONTE DE LAMPARAS | G27: UND | H27: =MEMORIAS!X514 -> 18 | I27: =APUS!H910 -> 17792 | J27: =H27*I27 -> 320256
A28: =A27+1 -> 15 | B28: =B27+0.01 -> 2.07 | F28: Desmonte Estructura Madera existente (Incluye retiro de material sobrante y disposición final en R.S.) | G28: M2 | H28: =MEMORIAS!X551 -> 12.22 | I28: =APUS!H977 -> 32045 | J28: =H28*I28 -> 391589.9
A29: =A28+1 -> 16 | B29: =B28+0.01 -> 2.08 | F29: Desinstalacion de baranda metalica. Incluye disposicion en punto de acopio temporal, autorizado por la supervision. | G29: ML | H29: =MEMORIAS!X588 -> 6.65 | I29: =APUS!H1044 -> 42272 | J29: =H29*I29 -> 281108.8
A30: =A29+1 -> 17 | B30: =B29+0.01 -> 2.09 | F30: Demolicion de muros e= 10-15cm, incluye desmonte de elementos ubicados en los vanos (marcos, puertas y ventanas) y desmonte de ductería embebida en los muros. (Incluye retiro y disposicion final de escombros en sitio autorizado por la autoridad ambiental). | G30: M2 | H30: =MEMORIAS!X625 -> 2.45 | I30: =APUS!H1111 -> 36441 | J30: =H30*I30 -> 89280.45
B31: =B21+1 -> 3 | F31: PISOS Y ENCHAPES
A32: =A30+1 -> 18 | B32: =B31+0.01 -> 3.01 | F32: Suministro e instalacion de enchape pisos tipo porcelana formato 60x60 color gris claro | G32: M2 | H32: =MEMORIAS!X662 -> 92.76 | I32: =APUS!H1178 -> 106857 | J32: =H32*I32 -> 9912055.3
A33: =A32+1 -> 19 | B33: =B32+0.01 -> 3.02 | F33: Suministro e instalacion de zocalo para pisos tipo porcelana Blanco o similar | G33: ML | H33: =MEMORIAS!X699 -> 95.52 | I33: =APUS!H1245 -> 22902 | J33: =H33*I33 -> 2187599
B34: =B31+1 -> 4 | F34: HIDROSANITARIOS
A35: =A33+1 -> 20 | B35: =B34+0.01 -> 4.01 | F35: Suministro e instalación de sanitario institucional blanco tipo Acuacer o similar incluye Grifería y accesorios. | G35: UND | H35: =MEMORIAS!X736 -> 3 | I35: =APUS!H1312 -> 1475748 | J35: =H35*I35 -> 4427244
A36: =A35+1 -> 21 | B36: =B35+0.01 -> 4.02 | F36: Suministro e instalación de orinal institucional con fluxometro blanco tipo Gotta o similar incluye Grifería y accesorios. | G36: UND | H36: =MEMORIAS!X773 -> 3 | I36: =APUS!H1379 -> 1281711 | J36: =H36*I36 -> 3845133
A37: =A36+1 -> 22 | B37: =B36+0.01 -> 4.03 | F37: Suministro e instalación de espejos ovalados color negro (50x100cm) para baños de 6 mm flotado | G37: UND | H37: =MEMORIAS!X810 -> 3 | I37: =APUS!H1446 -> 219350 | J37: =H37*I37 -> 658050
A38: =A37+1 -> 23 | B38: =B37+0.01 -> 4.04 | F38: Suministro e instalacion de Lavamanos de sobreponer redondo diametro 365mm alto 120mm , incluye griferia decorativa color negro, meson en piedra sinterizada color Bianco Rhino y mueble flortante en melamina de 18mm color Ceniza de 0.50 de fondo x 0.80 frente x 0.65 alto con dos puertas con un entrepaño interior y un entrepaño exterior (Incluye mantenimientos de tuberias sanitaria e hidraulicas) | G38: UND | H38: =MEMORIAS!X847 -> 3 | I38: =APUS!H1513 -> 2018848 | J38: =H38*I38 -> 6056544
A39: =A38+1 -> 24 | B39: =B38+0.01 -> 4.05 | F39: Suministro e instalacion punto Hidraulico 1/2" | G39: UND | H39: =MEMORIAS!X884 -> 4 | I39: =APUS!H1579 -> 29623 | J39: =H39*I39 -> 118492
A40: =A39+1 -> 25 | B40: =B39+0.01 -> 4.06 | F40: Suministro e instalacion punto sanitario 2" | G40: UND | H40: =MEMORIAS!X921 -> 4 | I40: =APUS!H1646 -> 38139 | J40: =H40*I40 -> 152556
A41: =A40+1 -> 26 | B41: =B40+0.01 -> 4.07 | F41: SUMINSITRO E INSTALACION E TUBERIA HIDRAULICA 1/2". Incluye accesorios como codos, tee y tapones. | G41: ML | H41: =MEMORIAS!X958 -> 14 | I41: =APUS!H1713 -> 30529 | J41: =H41*I41 -> 427406
A42: =A41+1 -> 27 | B42: =B41+0.01 -> 4.08 | F42: TUBERIA PVC SANITARIA DE 2" (incluye atraque en concreto). Incluye accesorios como codos, tee y tapones. | G42: ML | H42: =MEMORIAS!X995 -> 14 | I42: =APUS!H1780 -> 54927 | J42: =H42*I42 -> 768978
B43: =B34+1 -> 5 | F43: CIELO RASO, ESTUCO Y PINTURA
...

Sheet MEMORIAS
G2: MEMORIAS DE CANTIDADES | R2: CODIGO: | V2: FT-TEC-03
R3: VESION: | V3: 1
R4: FECHA DE APROBACION: | V4: 44236
B5: PROYECTO: | G5: OBRAS DE MANTENIMIENTO EN LOS CEMENTERIOS DISTRITALES DE CARTAGENA DE INDIAS
B7: CAPITULO | H7: ITEM | P7: DESCRIPCIÓN DE LA ACTIVIDAD:
B8: =PRESUPUESTO!$B$11 -> 1 | H8: =PRESUPUESTO!B12 -> 1.01 | J8: =PRESUPUESTO!F11 -> CERRAMIENTO EN POSTE DE CONCRETO Y ALAMBRE LISO | P8: =PRESUPUESTO!F12 -> LOCALIZACIÓN, TRAZADO, REPLANTEO Y NIVELACIÓN. INCLUYE ENTREGA DE PLANOS Y CARTERA.
B9: ESQUEMA O REGISTRO FOTOGRAFICO | P9: LOCALIZACION | Q9: DIMENSIONES | T9: UND | U9: CANT. | V9: TOTALES
Q10: LONG (m) | R10: ANCHO (m) | S10: ALTURA (m) | V10: ml | W10: m2 | X10: m3
P11: PREDIO LA MARIA | W11: 721.8777
P34: OBSERVACIONES | R34: TOTALES | X34: =SUM(W11:W33) -> 721.8777
B35: RESPONSABLE DE LOS CALCULOS: | J35: APRUEBA:
Q36: TOTAL | X36: =X34 -> 721.8777
G39: MEMORIAS DE CANTIDADES | R39: CODIGO: | V39: FT-TEC-03
R40: VESION: | V40: 1
R41: FECHA DE APROBACION: | V41: 44236
B42: PROYECTO: | G42: OBRAS DE MANTENIMIENTO EN LOS CEMENTERIOS DISTRITALES DE CARTAGENA DE INDIAS
B44: CAPITULO | H44: ITEM | P44: DESCRIPCIÓN DE LA ACTIVIDAD:
B45: =PRESUPUESTO!$B$11 -> 1 | H45: =PRESUPUESTO!B13 -> 1.02 | J45: =PRESUPUESTO!$F$11 -> CERRAMIENTO EN POSTE DE CONCRETO Y ALAMBRE LISO | P45: =PRESUPUESTO!F13 -> CERRAMIENTO (8 HILERAS DE ALAMBRE LISO CALIBRE 12, CON POSTE DE CONCRETO DE 10 CM X 10 CM Y 3 M DE ALTURA, CON BRAZO, 8 HUECOS. ENTERRADO COMO MIN. 0.60m, CON PEDESTAL EN CONCRETO 30X30, NTERCALADO CADA 1,2 M ENTRE POSTES Y CONTRAFUERTES AL INCIO Y FINAL DE CADA TRAMO Y ESQUINAS. CON AMARRE DE SEGURIDAD PARA CADA HILO DE ALAMBRE EN LOS POSTES
B46: ESQUEMA O REGISTRO FOTOGRAFICO | P46: LOCALIZACION | Q46: DIMENSIONES | T46: UND | U46: CANT. | V46: TOTALES
Q47: LONG (m) | R47: ANCHO (m) | S47: ALTURA (m) | V47: ml | W47: m2 | X47: m3
P48: PREDIO LA MARIA | Q48: =56.8-4 -> 52.8 | V48: =Q48 -> 52.8
P71: OBSERVACIONES | R71: TOTALES | X71: =SUM(V48:V70) -> 52.8
B72: RESPONSABLE DE LOS CALCULOS: | J72: APRUEBA:
Q73: TOTAL | X73: =X71 -> 52.8
G76: MEMORIAS DE CANTIDADES | R76: CODIGO: | V76: FT-TEC-03
R77: VESION: | V77: 1
R78: FECHA DE APROBACION: | V78: 44236
B79: PROYECTO: | G79: OBRAS DE MANTENIMIENTO EN LOS CEMENTERIOS DISTRITALES DE CARTAGENA DE INDIAS
B81: CAPITULO | H81: ITEM | P81: DESCRIPCIÓN DE LA ACTIVIDAD:
B82: =PRESUPUESTO!$B$11 -> 1 | H82: =PRESUPUESTO!B14 -> 1.03 | J82: =PRESUPUESTO!$F$11 -> CERRAMIENTO EN POSTE DE CONCRETO Y ALAMBRE LISO | P82: =PRESUPUESTO!F14 -> Suministro e instalacion de Porton de acceso vehicular de doble hoja abatible en tuberia galvanizada estructural Ø2". Incluye soportes y Herrajes, esquema de pintura Anticorrosivo Esp=6 mils, acabado Poliuretano blanca Esp=12mils. Incluye marco, tensores, empotramiento y anclaje de tubería de soporte de giro a pedestal de 20cm x 20cm x 40cm fundido In Situ en concreto de 3500 PSI armado con acero de refuerzo corrugado grado 60, Fy = 4200 kg/cm², cuantía mínima de 80kg/m³.
B83: ESQUEMA O REGISTRO FOTOGRAFICO | P83: LOCALIZACION | Q83: DIMENSIONES | T83: UND | U83: CANT. | V83: TOTALES
Q84: LONG (m) | R84: ANCHO (m) | S84: ALTURA (m) | V84: ml | W84: m2 | X84: m3
P85: PREDIO LA MARIA | Q85: 4.25 | S85: 2.2 | W85: =Q85*S85 -> 9.35
P108: OBSERVACIONES | R108: TOTALES | X108: =SUM(W85:W107) -> 9.35
B109: RESPONSABLE DE LOS CALCULOS: | J109: APRUEBA:
Q110: TOTAL | X110: =X108 -> 9.35
G113: MEMORIAS DE CANTIDADES | R113: CODIGO: | V113: FT-TEC-03
R114: VESION: | V114: 1
R115: FECHA DE APROBACION: | V115: 44236
B116: PROYECTO: | G116: OBRAS DE MANTENIMIENTO EN LOS CEMENTERIOS DISTRITALES DE CARTAGENA DE INDIAS
...

Sheet APUS
D1: ANALISIS DE PRECIOS UNITARIOS | G1: CODIGO | H1: FT-TEC-02
G2: VERSION
G3: FECHA DE APROBACION | H3: 44901
B6: ITEM: | C6: =PRESUPUESTO!F12 -> LOCALIZACIÓN, TRAZADO, REPLANTEO Y NIVELACIÓN. INCLUYE ENTREGA DE PLANOS Y CARTERA. | H6: UNIDAD
B7: =PRESUPUESTO!B12 -> 1.01 | H7: =PRESUPUESTO!G12 -> M2
B8: I. EQUIPO
B9: Descripción | D9: Unidad | E9: Cantidad | F9: Costo | G9: Vr. Unitario
B10: Herramientas menores | D10: Glb | E10: 0.05 | F10: =+H40 -> 1266.5761 | G10: =F10*E10 -> 63.328804
B11: Estacion total y Nivel | D11: DIA | E11: =1/(F37) -> 0.0028571429 | F11: 650000 | G11: =+F11*E11 -> 1857.1429
G12: =+F12*E12 -> 0
G13: =+F13*E13 -> 0
G14: SUB-TOTAL | H14: =+SUM(G10:G13) -> 1920.4717
B16: II. MATERIALES EN OBRA
B17: Descripción | D17: Unidad | E17: Cantidad | F17: Vr. Unitario | G17: Vr. Parcial
B18: CONSUMIBLES | D18: GLB | E18: =+E10 -> 0.05 | F18: =+F10*0.5 -> 633.28804 | G18: =F18*E18 -> 31.664402
B19: Listón de cativo de 2" x 4 " x 10' | D19: Und | E19: =1/(F37*3) -> 0.00095238095 | F19: =20700*1.04 -> 21528 | G19: =F19*E19 -> 20.502857
B20: Puntilla Con Cabeza 2-1/2Pg 500G | D20: Und | E20: =+E19*3 -> 0.0028571429 | F20: 4900 | G20: =F20*E20 -> 14
G21: =F21*E21 -> 0
G22: =F22*E22 -> 0
G23: =F23*E23 -> 0
G24: =F24*E24 -> 0
G25: =F25*E25 -> 0
G26: SUB-TOTAL | H26: =+SUM(G18:G25) -> 66.167259
B28: III. TRANSPORTE
B29: Descripción | D29: VOL. o PESO | E29: DISTANCIA | F29: M3 o Ton/Km | G29: TARIFA | H29: Vr. Unitario
G30: =F30*E30 -> 0 | H30: =+E30*F30*G30 -> 0
G31: =F31*E31 -> 0 | H31: =+E31*F31*G31 -> 0
G32: =F32*E32 -> 0 | H32: =+E32*F32*G32 -> 0
G33: SUB-TOTAL | H33: =+SUM(H30:H32) -> 0
B35: IV. MANO DE OBRA
B36: Trabajador | C36: Jornal | D36: Prest.Soc. | E36: Jornal Total | F36: Rendimiento | G36: Vr.Unitario
B37: Topografo | C37: =+VLOOKUP(B37,MO!$D$13:$E$80,2,FALSE) -> 113880 | D37: 0.85 | E37: =C37+(C37*D37) -> 210678 | F37: 350 | G37: =+E37/F37 -> 601.93714
B38: Cadenero | C38: =+VLOOKUP(B38,MO!$D$13:$E$80,2,FALSE) -> 54567.5 | D38: 0.85 | E38: =C38+(C38*D38) -> 100949.87 | F38: =+F37 -> 350 | G38: =+E38/F38 -> 288.42821
B39: Dibujante | C39: =+VLOOKUP(B39,MO!$D$13:$E$80,2,FALSE) -> 71175 | D39: 0.85 | E39: =C39+(C39*D39) -> 131673.75 | F39: =+F38 -> 350 | G39: =+E39/F39 -> 376.21071
G40: SUB-TOTAL | H40: =+SUM(G37:G39) -> 1266.5761
F42: TOTAL COSTO DIRECTO | H42: =ROUND(H40+H33+H26+H14,0) -> 3253
B44: V. COSTO INDIRECTO
B45: DESCRIPCION | F45: %
B46: ADMINISTRACION | F46: 0.2 | H46: =H42*F46 -> 650.6
B47: IMPREVISTO | F47: 0.05 | H47: =H42*F47 -> 162.65
...

Sheet BALANCE GENERAL
B2: ACTA PARCIAL N° 1 | I2: CODIGO: | J2: FT-TEC-01
I3: VESION: | J3: 2
I4: FECHA DE APROBACION: | J4: 44333
B6: OBJETO: | F6: OBRAS DE MANTENIMIENTO PREVENTIVO Y/O CORRECTIVO EN LAS SEDES EN PROPIEDAD DEL DISTRITO UBICADOS EN LA PLAZOLETA TELECOM LOCALES 107B SINTRAOFIPUCAR UNALDE FEDEJAC Y CERRAMIENTO DEL PREDIO UBICADO EN LA CALLE 49 CON VIA PERIMETRAL EN LA CIUDAD DE CARTAGENA
B8: CONDICIONES INICIALES | K8: MODIFICATORIO N° 1 | M8: CONDICIONES ACTUALIZADAS | O8: ACTA PARCIAL N° 1 | Q8: ACTA PARCIAL N° 2 | S8: ACUMULADO | U8: POR EJECUTAR
B9: Nº | C9: ÍTEM DE PAGO | D9: ESPECIFICACIONES | F9: DESCRIPCIÓN | G9: UND. | H9: CANTIDAD | I9: VALOR UNITARIO | J9: VALOR TOTAL | K9: CANTIDAD | M9: CANTIDAD | N9: VALOR TOTAL | O9: CANTIDAD | P9: VALOR TOTAL | Q9: CANTIDAD | R9: VALOR TOTAL | S9: CANTIDAD | T9: VALOR TOTAL | U9: CANTIDAD | V9: VALOR TOTAL
D10: GENERAL | E10: PARTICULAR | K10: MAYOR (+) | L10: MENOR (-)
F11: CERRAMIENTO DEL PREDIO UBICADO EN LA MARIA
B12: 1 | F12: CERRAMIENTO EN POSTE DE CONCRETO Y ALAMBRE LISO
A13: 1 | B13: =B12+0.01 -> 1.01 | F13: LOCALIZACIÓN, TRAZADO, REPLANTEO Y NIVELACIÓN. INCLUYE ENTREGA DE PLANOS Y CARTERA. | G13: M2 | H13: =MEMORIAS!X36 -> 721.8777 | I13: =APUS!H42 -> 3253 | J13: =H13*I13 -> 2348268.2 | K13: =IF(Hoja1!K13>0,Hoja1!K13,0) -> 0 | L13: =IF(Hoja1!K13<0,-Hoja1!K13,0) -> 0 | M13: =+H13+K13-L13 -> 721.8777 | N13: =+M13*I13 -> 2348268.2 | O13: =IF(X13="X",0,IFERROR(VLOOKUP(B13,'MEMORIAS ATP N° 1'!Q:AA,11,FALSE),0)) -> 0 | P13: =+I13*O13 -> 0 | R13: =+Q13*I13 -> 0 | S13: =+O13+Q13 -> 0 | T13: =+S13*I13 -> 0 | U13: =+M13-S13 -> 721.8777 | V13: =+U13*I13 -> 2348268.2
A14: =A13+1 -> 2 | B14: =B13+0.01 -> 1.02 | F14: CERRAMIENTO (8 HILERAS DE ALAMBRE LISO CALIBRE 12, CON POSTE DE CONCRETO DE 10 CM X 10 CM Y 3 M DE ALTURA, CON BRAZO, 8 HUECOS. ENTERRADO COMO MIN. 0.60m, CON PEDESTAL EN CONCRETO 30X30, NTERCALADO CADA 1,2 M ENTRE POSTES Y CONTRAFUERTES AL INCIO Y FINAL DE CADA TRAMO Y ESQUINAS. CON AMARRE DE SEGURIDAD PARA CADA HILO DE ALAMBRE EN LOS POSTES | G14: ML | H14: =MEMORIAS!X73 -> 52.8 | I14: =APUS!H109 -> 166456 | J14: =H14*I14 -> 8788876.8 | K14: =IF(Hoja1!K14>0,Hoja1!K14,0) -> 0 | L14: =IF(Hoja1!K14<0,-Hoja1!K14,0) -> 0 | M14: =+H14+K14-L14 -> 52.8 | N14: =+M14*I14 -> 8788876.8 | O14: =IF(X14="X",0,IFERROR(VLOOKUP(B14,'MEMORIAS ATP N° 1'!Q:AA,11,FALSE),0)) -> 0 | P14: =+I14*O14 -> 0 | R14: =+Q14*I14 -> 0 | S14: =+O14+Q14 -> 0 | T14: =+S14*I14 -> 0 | U14: =+M14-S14 -> 52.8 | V14: =+U14*I14 -> 8788876.8
A15: =A14+1 -> 3 | B15: =B14+0.01 -> 1.03 | F15: Suministro e instalacion de Porton de acceso vehicular de doble hoja abatible en tuberia galvanizada estructural Ø2". Incluye soportes y Herrajes, esquema de pintura Anticorrosivo Esp=6 mils, acabado Poliuretano blanca Esp=12mils. Incluye marco, tensores, empotramiento y anclaje de tubería de soporte de giro a pedestal de 20cm x 20cm x 40cm fundido In Situ en concreto de 3500 PSI armado con acero de refuerzo corrugado grado 60, Fy = 4200 kg/cm², cuantía mínima de 80kg/m³. | G15: M2 | H15: =MEMORIAS!X110 -> 9.35 | I15: =APUS!H176 -> 529235 | J15: =H15*I15 -> 4948347.3 | K15: =IF(Hoja1!K15>0,Hoja1!K15,0) -> 0 | L15: =IF(Hoja1!K15<0,-Hoja1!K15,0) -> 0 | M15: =+H15+K15-L15 -> 9.35 | N15: =+M15*I15 -> 4948347.3 | O15: =IF(X15="X",0,IFERROR(VLOOKUP(B15,'MEMORIAS ATP N° 1'!Q:AA,11,FALSE),0)) -> 0 | P15: =+I15*O15 -> 0 | R15: =+Q15*I15 -> 0 | S15: =+O15+Q15 -> 0 | T15: =+S15*I15 -> 0 | U15: =+M15-S15 -> 9.35 | V15: =+U15*I15 -> 4948347.3
A16: =A15+1 -> 4 | B16: =B15+0.01 -> 1.04 | F16: Micropilote para soporte de postes metalicos de portones Ø 30cm x H = 0,8mt. Incluye acero de refuerzo, Q. Min = 120 Kg Incluyendo acero de anclaje y avance para transferencia de carga a cimentacion superior. | G16: UND | H16: =MEMORIAS!X147 -> 2 | I16: =APUS!H243 -> 390187 | J16: =H16*I16 -> 780374 | K16: =IF(Hoja1!K16>0,Hoja1!K16,0) -> 0 | L16: =IF(Hoja1!K16<0,-Hoja1!K16,0) -> 0 | M16: =+H16+K16-L16 -> 2 | N16: =+M16*I16 -> 780374 | O16: =IF(X16="X",0,IFERROR(VLOOKUP(B16,'MEMORIAS ATP N° 1'!Q:AA,11,FALSE),0)) -> 0 | P16: =+I16*O16 -> 0 | R16: =+Q16*I16 -> 0 | S16: =+O16+Q16 -> 0 | T16: =+S16*I16 -> 0 | U16: =+M16-S16 -> 2 | V16: =+U16*I16 -> 780374
A17: =A16+1 -> 5 | B17: =B16+0.01 -> 1.05 | F17: Viga de amarre en concreto reforzado de 3500 PSI H=0,20 x W=0,20. Incluye acero de refuerzo corrugado grado 60, Fy = 4200 kg/cm², cuantia minima de 95kg/m³. Incluye junta de dilatacion en ambas caras de viga con placa existente. | G17: ML | H17: =MEMORIAS!X183 -> 4.25 | I17: =APUS!H310 -> 135793 | J17: =H17*I17 -> 577120.25 | K17: =IF(Hoja1!K17>0,Hoja1!K17,0) -> 0 | L17: =IF(Hoja1!K17<0,-Hoja1!K17,0) -> 0 | M17: =+H17+K17-L17 -> 4.25 | N17: =+M17*I17 -> 577120.25 | O17: =IF(X17="X",0,IFERROR(VLOOKUP(B17,'MEMORIAS ATP N° 1'!Q:AA,11,FALSE),0)) -> 0 | P17: =+I17*O17 -> 0 | R17: =+Q17*I17 -> 0 | S17: =+O17+Q17 -> 0 | T17: =+S17*I17 -> 0 | U17: =+M17-S17 -> 4.25 | V17: =+U17*I17 -> 577120.25
A18: =A17+1 -> 6 | B18: =B17+0.01 -> 1.06 | F18: Perfilacion y poda con guadañadora de terreno natural, Incluye trasiego de material de residuo a punto de acopio temporal. | G18: M2 | H18: =MEMORIAS!X220 -> 814.56 | I18: =APUS!H376 -> 2372 | J18: =H18*I18 -> 1932136.3 | K18: =IF(Hoja1!K18>0,Hoja1!K18,0) -> 0 | L18: =IF(Hoja1!K18<0,-Hoja1!K18,0) -> 0 | M18: =+H18+K18-L18 -> 814.56 | N18: =+M18*I18 -> 1932136.3 | O18: =IF(X18="X",0,IFERROR(VLOOKUP(B18,'MEMORIAS ATP N° 1'!Q:AA,11,FALSE),0)) -> 0 | P18: =+I18*O18 -> 0 | R18: =+Q18*I18 -> 0 | S18: =+O18+Q18 -> 0 | T18: =+S18*I18 -> 0 | U18: =+M18-S18 -> 814.56 | V18: =+U18*I18 -> 1932136.3
A19: =A18+1 -> 7 | B19: =B18+0.01 -> 1.07 | F19: APLICACIÓN DE MATA MALEZA CON HERBICIDA NO SELECTIVO (GLIFOSATO - UNA APLICACIÓN 15 días despues de haber realizado el corte de maleza) | G19: M2 | H19: =MEMORIAS!X256 -> 814.56 | I19: =APUS!H442 -> 1039 | J19: =H19*I19 -> 846327.84 | K19: =IF(Hoja1!K19>0,Hoja1!K19,0) -> 0 | L19: =IF(Hoja1!K19<0,-Hoja1!K19,0) -> 0 | M19: =+H19+K19-L19 -> 814.56 | N19: =+M19*I19 -> 846327.84 | O19: =IF(X19="X",0,IFERROR(VLOOKUP(B19,'MEMORIAS ATP N° 1'!Q:AA,11,FALSE),0)) -> 0 | P19: =+I19*O19 -> 0 | R19: =+Q19*I19 -> 0 | S19: =+O19+Q19 -> 0 | T19: =+S19*I19 -> 0 | U19: =+M19-S19 -> 814.56 | V19: =+U19*I19 -> 846327.84
A20: =A19+1 -> 8 | B20: =B19+0.01 -> 1.08 | F20: SUMINISTRO E INSTALACION DE VALLA INFORMATIVA DE 1X 0.7 CON BASTIDOR EN MADERA. SEGÚN DISEÑO. | G20: UND | H20: =MEMORIAS!X292 -> 1 | I20: =APUS!H508 -> 384805 | J20: =H20*I20 -> 384805 | K20: =IF(Hoja1!K20>0,Hoja1!K20,0) -> 0 | L20: =IF(Hoja1!K20<0,-Hoja1!K20,0) -> 0 | M20: =+H20+K20-L20 -> 1 | N20: =+M20*I20 -> 384805 | O20: =IF(X20="X",0,IFERROR(VLOOKUP(B20,'MEMORIAS ATP N° 1'!Q:AA,11,FALSE),0)) -> 0 | P20: =+I20*O20 -> 0 | R20: =+Q20*I20 -> 0 | S20: =+O20+Q20 -> 0 | T20: =+S20*I20 -> 0 | U20: =+M20-S20 -> 1 | V20: =+U20*I20 -> 384805
F21: ADECUACIÓN LOCALES PROPIEDAD DEL DISTRITO (SINTRAOFIPUCAR, UNALDE Y FEDEJAC)
B22: =B12+1 -> 2 | F22: DEMOLICIONES Y DESMONTES
A23: =A20+1 -> 9 | B23: =B22+0.01 -> 2.01 | F23: Picada de Enchape de pisos y muros, bases de meson. (Incluye retiro de material sobrante y disposición final en R.S.) | G23: M2 | H23: =MEMORIAS!X329 -> 125.7 | I23: =APUS!H575 -> 15929 | J23: =H23*I23 -> 2002275.3 | K23: =IF(Hoja1!K23>0,Hoja1!K23,0) -> 0 | L23: =IF(Hoja1!K23<0,-Hoja1!K23,0) -> 0 | M23: =+H23+K23-L23 -> 125.7 | N23: =+M23*I23 -> 2002275.3 | O23: =IF(X23="X",0,IFERROR(VLOOKUP(B23,'MEMORIAS ATP N° 1'!Q:AA,11,FALSE),0)) -> 116.1874 | P23: =+I23*O23 -> 1850749.1 | R23: =+Q23*I23 -> 0 | S23: =+O23 -> 116.1874 | T23: =+S23*I23 -> 1850749.1 | U23: =+M23-S23 -> 9.5126 | V23: =+U23*I23 -> 151526.21
A24: =A23+1 -> 10 | B24: =B23+0.01 -> 2.02 | F24: Desmonte de Elementos Sanitarios (Incluye retiro de material sobrante y disposición final en R.S.) | G24: UND | H24: =MEMORIAS!X366 -> 7 | I24: =APUS!H642 -> 113661 | J24: =H24*I24 -> 795627 | K24: =IF(Hoja1!K24>0,Hoja1!K24,0) -> 0 | L24: =IF(Hoja1!K24<0,-Hoja1!K24,0) -> 0 | M24: =+H24+K24-L24 -> 7 | N24: =+M24*I24 -> 795627 | O24: =IF(X24="X",0,IFERROR(VLOOKUP(B24,'MEMORIAS ATP N° 1'!Q:AA,11,FALSE),0)) -> 7 | P24: =+I24*O24 -> 795627 | R24: =+Q24*I24 -> 0 | S24: =+O24 -> 7 | T24: =+S24*I24 -> 795627 | U24: =+M24-S24 -> 0 | V24: =+U24*I24 -> 0
A25: =A24+1 -> 11 | B25: =B24+0.01 -> 2.03 | F25: DESMONTE PUERTAS CON MARCOS (INC. RETIRO DE SOBR.) | G25: UND | H25: =MEMORIAS!X403 -> 4 | I25: =APUS!H709 -> 80873 | J25: =H25*I25 -> 323492 | K25: =IF(Hoja1!K25>0,Hoja1!K25,0) -> 0 | L25: =IF(Hoja1!K25<0,-Hoja1!K25,0) -> 0 | M25: =+H25+K25-L25 -> 4 | N25: =+M25*I25 -> 323492 | O25: =IF(X25="X",0,IFERROR(VLOOKUP(B25,'MEMORIAS ATP N° 1'!Q:AA,11,FALSE),0)) -> 4 | P25: =+I25*O25 -> 323492 | R25: =+Q25*I25 -> 0 | S25: =+O25 -> 4 | T25: =+S25*I25 -> 323492 | U25: =+M25-S25 -> 0 | V25: =+U25*I25 -> 0
A26: =A25+1 -> 12 | B26: =B25+0.01 -> 2.04 | F26: Desmonte de Cielo raso (Incluye retiro y disposicion final de escombros en sitio autorizado por la autoridad ambiental) | G26: M2 | H26: =MEMORIAS!X440 -> 84.35 | I26: =APUS!H776 -> 21400 | J26: =H26*I26 -> 1805090 | K26: =IF(Hoja1!K26>0,Hoja1!K26,0) -> 0 | L26: =IF(Hoja1!K26<0,-Hoja1!K26,0) -> 0 | M26: =+H26+K26-L26 -> 84.35 | N26: =+M26*I26 -> 1805090 | O26: =IF(X26="X",0,IFERROR(VLOOKUP(B26,'MEMORIAS ATP N° 1'!Q:AA,11,FALSE),0)) -> 73.5739 | P26: =+I26*O26 -> 1574481.5 | R26: =+Q26*I26 -> 0 | S26: =+O26 -> 73.5739 | T26: =+S26*I26 -> 1574481.5 | U26: =+M26-S26 -> 10.7761 | V26: =+U26*I26 -> 230608.54
A27: =A26+1 -> 13 | B27: =B26+0.01 -> 2.05 | F27: Demolicion de muro en drywall y divisiones (Incluye retiro de material sobrante y disposición final en R.S.) | G27: M2 | H27: =MEMORIAS!X477 -> 5.825 | I27: =APUS!H843 -> 23723 | J27: =H27*I27 -> 138186.48 | K27: =IF(Hoja1!K27>0,Hoja1!K27,0) -> 0 | L27: =IF(Hoja1!K27<0,-Hoja1!K27,0) -> 0 | M27: =+H27+K27-L27 -> 5.825 | N27: =+M27*I27 -> 138186.48 | O27: =IF(X27="X",0,IFERROR(VLOOKUP(B27,'MEMORIAS ATP N° 1'!Q:AA,11,FALSE),0)) -> 0 | P27: =+I27*O27 -> 0 | R27: =+Q27*I27 -> 0 | S27: =+O27 -> 0 | T27: =+S27*I27 -> 0 | U27: =+M27-S27 -> 5.825 | V27: =+U27*I27 -> 138186.48
A28: =A27+1 -> 14 | B28: =B27+0.01 -> 2.06 | F28: DESMONTE DE LAMPARAS | G28: UND | H28: =MEMORIAS!X514 -> 18 | I28: =APUS!H910 -> 17792 | J28: =H28*I28 -> 320256 | K28: =IF(Hoja1!K28>0,Hoja1!K28,0) -> 0 | L28: =IF(Hoja1!K28<0,-Hoja1!K28,0) -> 0 | M28: =+H28+K28-L28 -> 18 | N28: =+M28*I28 -> 320256 | O28: =IF(X28="X",0,IFERROR(VLOOKUP(B28,'MEMORIAS ATP N° 1'!Q:AA,11,FALSE),0)) -> 18 | P28: =+I28*O28 -> 320256 | R28: =+Q28*I28 -> 0 | S28: =+O28 -> 18 | T28: =+S28*I28 -> 320256 | U28: =+M28-S28 -> 0 | V28: =+U28*I28 -> 0
A29: =A28+1 -> 15 | B29: =B28+0.01 -> 2.07 | F29: Desmonte Estructura Madera existente (Incluye retiro de material sobrante y disposición final en R.S.) | G29: M2 | H29: =MEMORIAS!X551 -> 12.22 | I29: =APUS!H977 -> 32045 | J29: =H29*I29 -> 391589.9 | K29: =IF(Hoja1!K29>0,Hoja1!K29,0) -> 0 | L29: =IF(Hoja1!K29<0,-Hoja1!K29,0) -> 0 | M29: =+H29+K29-L29 -> 12.22 | N29: =+M29*I29 -> 391589.9 | O29: =IF(X29="X",0,IFERROR(VLOOKUP(B29,'MEMORIAS ATP N° 1'!Q:AA,11,FALSE),0)) -> 5.825 | P29: =+I29*O29 -> 186662.12 | R29: =+Q29*I29 -> 0 | S29: =+O29 -> 5.825 | T29: =+S29*I29 -> 186662.12 | U29: =+M29-S29 -> 6.395 | V29: =+U29*I29 -> 204927.78
A30: =A29+1 -> 16 | B30: =B29+0.01 -> 2.08 | F30: Desinstalacion de baranda metalica. Incluye disposicion en punto de acopio temporal, autorizado por la supervision. | G30: ML | H30: =MEMORIAS!X588 -> 6.65 | I30: =APUS!H1044 -> 42272 | J30: =H30*I30 -> 281108.8 | K30: =IF(Hoja1!K30>0,Hoja1!K30,0) -> 0 | L30: =IF(Hoja1!K30<0,-Hoja1!K30,0) -> 0 | M30: =+H30+K30-L30 -> 6.65 | N30: =+M30*I30 -> 281108.8 | O30: =IF(X30="X",0,IFERROR(VLOOKUP(B30,'MEMORIAS ATP N° 1'!Q:AA,11,FALSE),0)) -> 6.65 | P30: =+I30*O30 -> 281108.8 | R30: =+Q30*I30 -> 0 | S30: =+O30 -> 6.65 | T30: =+S30*I30 -> 281108.8 | U30: =+M30-S30 -> 0 | V30: =+U30*I30 -> 0
A31: =A30+1 -> 17 | B31: =B30+0.01 -> 2.09 | F31: Demolicion de muros e= 10-15cm, incluye desmonte de elementos ubicados en los vanos (marcos, puertas y ventanas) y desmonte de ductería embebida en los muros. (Incluye retiro y disposicion final de escombros en sitio autorizado por la autoridad ambiental). | G31: M2 | H31: =MEMORIAS!X625 -> 2.45 | I31: =APUS!H1111 -> 36441 | J31: =H31*I31 -> 89280.45 | K31: =IF(Hoja1!K31>0,Hoja1!K31,0) -> 0 | L31: =IF(Hoja1!K31<0,-Hoja1!K31,0) -> 0 | M31: =+H31+K31-L31 -> 2.45 | N31: =+M31*I31 -> 89280.45 | O31: =IF(X31="X",0,IFERROR(VLOOKUP(B31,'MEMORIAS ATP N° 1'!Q:AA,11,FALSE),0)) -> 2.45 | P31: =+I31*O31 -> 89280.45 | R31: =+Q31*I31 -> 0 | S31: =+O31 -> 2.45 | T31: =+S31*I31 -> 89280.45 | U31: =+M31-S31 -> 0 | V31: =+U31*I31 -> 0
B32: =B22+1 -> 3 | F32: PISOS Y ENCHAPES
A33: =A31+1 -> 18 | B33: =B32+0.01 -> 3.01 | F33: Suministro e instalacion de enchape pisos tipo porcelana formato 60x60 color gris claro | G33: M2 | H33: =MEMORIAS!X662 -> 92.76 | I33: =APUS!H1178 -> 106857 | J33: =H33*I33 -> 9912055.3 | K33: =IF(Hoja1!K33>0,Hoja1!K33,0) -> 0 | L33: =IF(Hoja1!K33<0,-Hoja1!K33,0) -> 0 | M33: =+H33+K33-L33 -> 92.76 | N33: =+M33*I33 -> 9912055.3 | O33: =IF(X33="X",0,IFERROR(VLOOKUP(B33,'MEMORIAS ATP N° 1'!Q:AA,11,FALSE),0)) -> 0 | P33: =+I33*O33 -> 0 | R33: =+Q33*I33 -> 0 | S33: =+O33 -> 0 | T33: =+S33*I33 -> 0 | U33: =+M33-S33 -> 92.76 | V33: =+U33*I33 -> 9912055.3
A34: =A33+1 -> 19 | B34: =B33+0.01 -> 3.02 | F34: Suministro e instalacion de zocalo para pisos tipo porcelana Blanco o similar | G34: ML | H34: =MEMORIAS!X699 -> 95.52 | I34: =APUS!H1245 -> 22902 | J34: =H34*I34 -> 2187599 | K34: =IF(Hoja1!K34>0,Hoja1!K34,0) -> 0 | L34: =IF(Hoja1!K34<0,-Hoja1!K34,0) -> 0 | M34: =+H34+K34-L34 -> 95.52 | N34: =+M34*I34 -> 2187599 | O34: =IF(X34="X",0,IFERROR(VLOOKUP(B34,'MEMORIAS ATP N° 1'!Q:AA,11,FALSE),0)) -> 0 | P34: =+I34*O34 -> 0 | R34: =+Q34*I34 -> 0 | S34: =+O34 -> 0 | T34: =+S34*I34 -> 0 | U34: =+M34-S34 -> 95.52 | V34: =+U34*I34 -> 2187599
B35: =B32+1 -> 4 | F35: HIDROSANITARIOS
A36: =A34+1 -> 20 | B36: =B35+0.01 -> 4.01 | F36: Suministro e instalación de sanitario institucional blanco tipo Acuacer o similar incluye Grifería y accesorios. | G36: UND | H36: =MEMORIAS!X736 -> 3 | I36: =APUS!H1312 -> 1475748 | J36: =H36*I36 -> 4427244 | K36: =IF(Hoja1!K36>0,Hoja1!K36,0) -> 0 | L36: =IF(Hoja1!K36<0,-Hoja1!K36,0) -> 0 | M36: =+H36+K36-L36 -> 3 | N36: =+M36*I36 -> 4427244 | O36: =IF(X36="X",0,IFERROR(VLOOKUP(B36,'MEMORIAS ATP N° 1'!Q:AA,11,FALSE),0)) -> 3 | P36: =+I36*O36 -> 4427244 | R36: =+Q36*I36 -> 0 | S36: =+O36 -> 3 | T36: =+S36*I36 -> 4427244 | U36: =+M36-S36 -> 0 | V36: =+U36*I36 -> 0
A37: =A36+1 -> 21 | B37: =B36+0.01 -> 4.02 | F37: Suministro e instalación de orinal institucional con fluxometro blanco tipo Gotta o similar incluye Grifería y accesorios. | G37: UND | H37: =MEMORIAS!X773 -> 3 | I37: =APUS!H1379 -> 1281711 | J37: =H37*I37 -> 3845133 | K37: =IF(Hoja1!K37>0,Hoja1!K37,0) -> 0 | L37: =IF(Hoja1!K37<0,-Hoja1!K37,0) -> 0 | M37: =+H37+K37-L37 -> 3 | N37: =+M37*I37 -> 3845133 | O37: =IF(X37="X",0,IFERROR(VLOOKUP(B37,'MEMORIAS ATP N° 1'!Q:AA,11,FALSE),0)) -> 3 | P37: =+I37*O37 -> 3845133 | R37: =+Q37*I37 -> 0 | S37: =+O37 -> 3 | T37: =+S37*I37 -> 3845133 | U37: =+M37-S37 -> 0 | V37: =+U37*I37 -> 0
A38: =A37+1 -> 22 | B38: =B37+0.01 -> 4.03 | F38: Suministro e instalación de espejos ovalados color negro (50x100cm) para baños de 6 mm flotado | G38: UND | H38: =MEMORIAS!X810 -> 3 | I38: =APUS!H1446 -> 219350 | J38: =H38*I38 -> 658050 | K38: =IF(Hoja1!K38>0,Hoja1!K38,0) -> 0 | L38: =IF(Hoja1!K38<0,-Hoja1!K38,0) -> 0 | M38: =+H38+K38-L38 -> 3 | N38: =+M38*I38 -> 658050 | O38: =IF(X38="X",0,IFERROR(VLOOKUP(B38,'MEMORIAS ATP N° 1'!Q:AA,11,FALSE),0)) -> 3 | P38: =+I38*O38 -> 658050 | R38: =+Q38*I38 -> 0 | S38: =+O38 -> 3 | T38: =+S38*I38 -> 658050 | U38: =+M38-S38 -> 0 | V38: =+U38*I38 -> 0
A39: =A38+1 -> 23 | B39: =B38+0.01 -> 4.04 | F39: Suministro e instalacion de Lavamanos de sobreponer redondo diametro 365mm alto 120mm , incluye griferia decorativa color negro, meson en piedra sinterizada color Bianco Rhino y mueble flortante en melamina de 18mm color Ceniza de 0.50 de fondo x 0.80 frente x 0.65 alto con dos puertas con un entrepaño interior y un entrepaño exterior (Incluye mantenimientos de tuberias sanitaria e hidraulicas) | G39: UND | H39: =MEMORIAS!X847 -> 3 | I39: =APUS!H1513 -> 2018848 | J39: =H39*I39 -> 6056544 | K39: =IF(Hoja1!K39>0,Hoja1!K39,0) -> 0 | L39: =IF(Hoja1!K39<0,-Hoja1!K39,0) -> 0 | M39: =+H39+K39-L39 -> 3 | N39: =+M39*I39 -> 6056544 | O39: =IF(X39="X",0,IFERROR(VLOOKUP(B39,'MEMORIAS ATP N° 1'!Q:AA,11,FALSE),0)) -> 3 | P39: =+I39*O39 -> 6056544 | R39: =+Q39*I39 -> 0 | S39: =+O39 -> 3 | T39: =+S39*I39 -> 6056544 | U39: =+M39-S39 -> 0 | V39: =+U39*I39 -> 0
A40: =A39+1 -> 24 | B40: =B39+0.01 -> 4.05 | F40: Suministro e instalacion punto Hidraulico 1/2" | G40: UND | H40: =MEMORIAS!X884 -> 4 | I40: =APUS!H1579 -> 29623 | J40: =H40*I40 -> 118492 | K40: =IF(Hoja1!K40>0,Hoja1!K40,0) -> 0 | L40: =IF(Hoja1!K40<0,-Hoja1!K40,0) -> 0 | M40: =+H40+K40-L40 -> 4 | N40: =+M40*I40 -> 118492 | O40: =IF(X40="X",0,IFERROR(VLOOKUP(B40,'MEMORIAS ATP N° 1'!Q:AA,11,FALSE),0)) -> 4 | P40: =+I40*O40 -> 118492 | R40: =+Q40*I40 -> 0 | S40: =+O40 -> 4 | T40: =+S40*I40 -> 118492 | U40: =+M40-S40 -> 0 | V40: =+U40*I40 -> 0
A41: =A40+1 -> 25 | B41: =B40+0.01 -> 4.06 | F41: Suministro e instalacion punto sanitario 2" | G41: UND | H41: =MEMORIAS!X921 -> 4 | I41: =APUS!H1646 -> 38139 | J41: =H41*I41 -> 152556 | K41: =IF(Hoja1!K41>0,Hoja1!K41,0) -> 0 | L41: =IF(Hoja1!K41<0,-Hoja1!K41,0) -> 0 | M41: =+H41+K41-L41 -> 4 | N41: =+M41*I41 -> 152556 | O41: =IF(X41="X",0,IFERROR(VLOOKUP(B41,'MEMORIAS ATP N° 1'!Q:AA,11,FALSE),0)) -> 4 | P41: =+I41*O41 -> 152556 | R41: =+Q41*I41 -> 0 | S41: =+O41 -> 4 | T41: =+S41*I41 -> 152556 | U41: =+M41-S41 -> 0 | V41: =+U41*I41 -> 0
A42: =A41+1 -> 26 | B42: =B41+0.01 -> 4.07 | F42: SUMINSITRO E INSTALACION E TUBERIA HIDRAULICA 1/2". Incluye accesorios como codos, tee y tapones. | G42: ML | H42: =MEMORIAS!X958 -> 14 | I42: =APUS!H1713 -> 30529 | J42: =H42*I42 -> 427406 | K42: =IF(Hoja1!K42>0,Hoja1!K42,0) -> 0 | L42: =IF(Hoja1!K42<0,-Hoja1!K42,0) -> 0 | M42: =+H42+K42-L42 -> 14 | N42: =+M42*I42 -> 427406 | O42: =IF(X42="X",0,IFERROR(VLOOKUP(B42,'MEMORIAS ATP N° 1'!Q:AA,11,FALSE),0)) -> 6.45 | P42: =+I42*O42 -> 196912.05 | R42: =+Q42*I42 -> 0 | S42: =+O42 -> 6.45 | T42: =+S42*I42 -> 196912.05 | U42: =+M42-S42 -> 7.55 | V42: =+U42*I42 -> 230493.95
A43: =A42+1 -> 27 | B43: =B42+0.01 -> 4.08 | F43: TUBERIA PVC SANITARIA DE 2" (incluye atraque en concreto). Incluye accesorios como codos, tee y tapones. | G43: ML | H43: =MEMORIAS!X995 -> 14 | I43: =APUS!H1780 -> 54927 | J43: =H43*I43 -> 768978 | K43: =IF(Hoja1!K43>0,Hoja1!K43,0) -> 0 | L43: =IF(Hoja1!K43<0,-Hoja1!K43,0) -> 0 | M43: =+H43+K43-L43 -> 14 | N43: =+M43*I43 -> 768978 | O43: =IF(X43="X",0,IFERROR(VLOOKUP(B43,'MEMORIAS ATP N° 1'!Q:AA,11,FALSE),0)) -> 5.03 | P43: =+I43*O43 -> 276282.81 | R43: =+Q43*I43 -> 0 | S43: =+O43 -> 5.03 | T43: =+S43*I43 -> 276282.81 | U43: =+M43-S43 -> 8.97 | V43: =+U43*I43 -> 492695.19
...

Sheet Hoja1

Sheet MEMORIAS ATP N° 1
G296: MEMORIAS DE CANTIDADES | U296: CODIGO: | Y296: FT-TEC-03
U297: VESION: | Y297: 1
U298: FECHA DE APROBACION: | Y298: 44236
B299: PROYECTO: | G299: =+'BALANCE GENERAL'!$F$6 -> OBRAS DE MANTENIMIENTO PREVENTIVO Y/O CORRECTIVO EN LAS SEDES EN PROPIEDAD DEL DISTRITO UBICADOS EN LA PLAZOLETA TELECOM LOCALES 107B SINTRAOFIPUCAR UNALDE FEDEJAC Y CERRAMIENTO DEL PREDIO UBICADO EN LA CALLE 49 CON VIA PERIMETRAL EN LA CIUDAD DE CARTAGENA
B301: CAPITULO | H301: ITEM | R301: DESCRIPCIÓN DE LA ACTIVIDAD:
B302: =PRESUPUESTO!$B$21 -> 2 | H302: =PRESUPUESTO!B22 -> 2.01 | J302: =PRESUPUESTO!$F$21 -> DEMOLICIONES Y DESMONTES | R302: =PRESUPUESTO!F22 -> Picada de Enchape de pisos y muros, bases de meson. (Incluye retiro de material sobrante y disposición final en R.S.)
B303: ESQUEMA O REGISTRO FOTOGRAFICO | R303: LOCALIZACION | S303: ESPACIO | T303: DIMENSIONES | W303: UND | X303: CANT. | Y303: TOTALES
T304: LONG (m) | U304: ANCHO (m) | V304: ALTURA (m) | Y304: ml | Z304: m2 | AA304: m3
P305: =+H302 -> 2.01 | R305: SINTRAOFIPUCAR | S305: PISO 1 - OFICINA | T305: 5 | U305: 3.4 | W305: =IF(COUNT(T305:V305)=1,"m",IF(COUNT(T305:V305)=2,"m2",IF(COUNT(T305:V305)=3,"m3",""))) -> m2 | X305: =IF(S305="","",1) -> 1 | Y305: =IFERROR(IF(COUNT(T305:V305)=1,PRODUCT(T305:V305)*X305,""),"") | Z305: =IFERROR(IF(COUNT(T305:V305)=2,PRODUCT(T305:V305)*X305,""),"") -> 17 | AA305: =IFERROR(IF(COUNT(T305:V305)=3,PRODUCT(T305:V305)*X305,""),"")
P306: =+H302 -> 2.01 | R306: SINTRAOFIPUCAR | S306: PISO 1 - COCINETA | T306: 1.6 | U306: 1.65 | W306: =IF(COUNT(T306:V306)=1,"m",IF(COUNT(T306:V306)=2,"m2",IF(COUNT(T306:V306)=3,"m3",""))) -> m2 | X306: =IF(S306="","",1) -> 1 | Y306: =IFERROR(IF(COUNT(T306:V306)=1,PRODUCT(T306:V306)*X306,""),"") | Z306: =IFERROR(IF(COUNT(T306:V306)=2,PRODUCT(T306:V306)*X306,""),"") -> 2.64 | AA306: =IFERROR(IF(COUNT(T306:V306)=3,PRODUCT(T306:V306)*X306,""),"")
P307: =+H302 -> 2.01 | R307: SINTRAOFIPUCAR | S307: PISO 1 - BAÑO - PISO | T307: 1.62 | U307: 1.52 | W307: =IF(COUNT(T307:V307)=1,"m",IF(COUNT(T307:V307)=2,"m2",IF(COUNT(T307:V307)=3,"m3",""))) -> m2 | X307: =IF(S307="","",1) -> 1 | Y307: =IFERROR(IF(COUNT(T307:V307)=1,PRODUCT(T307:V307)*X307,""),"") | Z307: =IFERROR(IF(COUNT(T307:V307)=2,PRODUCT(T307:V307)*X307,""),"") -> 2.4624 | AA307: =IFERROR(IF(COUNT(T307:V307)=3,PRODUCT(T307:V307)*X307,""),"")
P308: =+H302 -> 2.01 | R308: SINTRAOFIPUCAR | S308: PISO 1 - BAÑO - PAREDES | T308: 5.6 | V308: 2.22 | W308: =IF(COUNT(T308:V308)=1,"m",IF(COUNT(T308:V308)=2,"m2",IF(COUNT(T308:V308)=3,"m3",""))) -> m2 | X308: =IF(S308="","",1) -> 1 | Y308: =IFERROR(IF(COUNT(T308:V308)=1,PRODUCT(T308:V308)*X308,""),"") | Z308: =IFERROR(IF(COUNT(T308:V308)=2,PRODUCT(T308:V308)*X308,""),"") -> 12.432 | AA308: =IFERROR(IF(COUNT(T308:V308)=3,PRODUCT(T308:V308)*X308,""),"")
P309: =+H302 -> 2.01 | AA309: =IFERROR(IF(COUNT(T309:V309)=3,PRODUCT(T309:V309)*X309,""),"")
P310: =+H302 -> 2.01 | R310: UNALDE | S310: PISO 1 - OFICINAS | T310: 5.07 | U310: 3.42 | W310: =IF(COUNT(T310:V310)=1,"m",IF(COUNT(T310:V310)=2,"m2",IF(COUNT(T310:V310)=3,"m3",""))) -> m2 | X310: =IF(S310="","",1) -> 1 | Y310: =IFERROR(IF(COUNT(T310:V310)=1,PRODUCT(T310:V310)*X310,""),"") | Z310: =IFERROR(IF(COUNT(T310:V310)=2,PRODUCT(T310:V310)*X310,""),"") -> 17.3394 | AA310: =IFERROR(IF(COUNT(T310:V310)=3,PRODUCT(T310:V310)*X310,""),"")
P311: =+H302 -> 2.01 | R311: UNALDE | S311: PISO 1 - COCINETA | T311: 0.45 | U311: 1.05 | W311: =IF(COUNT(T311:V311)=1,"m",IF(COUNT(T311:V311)=2,"m2",IF(COUNT(T311:V311)=3,"m3",""))) -> m2 | X311: =IF(S311="","",1) -> 1 | Y311: =IFERROR(IF(COUNT(T311:V311)=1,PRODUCT(T311:V311)*X311,""),"") | Z311: =IFERROR(IF(COUNT(T311:V311)=2,PRODUCT(T311:V311)*X311,""),"") -> 0.4725 | AA311: =IFERROR(IF(COUNT(T311:V311)=3,PRODUCT(T311:V311)*X311,""),"")
P312: =+H302 -> 2.01 | R312: UNALDE | S312: PISO 1 - BAÑO FONDO | T312: 0.94 | U312: 3.35 | W312: =IF(COUNT(T312:V312)=1,"m",IF(COUNT(T312:V312)=2,"m2",IF(COUNT(T312:V312)=3,"m3",""))) -> m2 | X312: =IF(S312="","",1) -> 1 | Y312: =IFERROR(IF(COUNT(T312:V312)=1,PRODUCT(T312:V312)*X312,""),"") | Z312: =IFERROR(IF(COUNT(T312:V312)=2,PRODUCT(T312:V312)*X312,""),"") -> 3.149 | AA312: =IFERROR(IF(COUNT(T312:V312)=3,PRODUCT(T312:V312)*X312,""),"")
P313: =+H302 -> 2.01 | R313: UNALDE | S313: PISO 1 - BAÑO - ENTRADA | T313: 0.5 | U313: 1 | W313: =IF(COUNT(T313:V313)=1,"m",IF(COUNT(T313:V313)=2,"m2",IF(COUNT(T313:V313)=3,"m3",""))) -> m2 | X313: =IF(S313="","",1) -> 1 | Y313: =IFERROR(IF(COUNT(T313:V313)=1,PRODUCT(T313:V313)*X313,""),"") | Z313: =IFERROR(IF(COUNT(T313:V313)=2,PRODUCT(T313:V313)*X313,""),"") -> 0.5 | AA313: =IFERROR(IF(COUNT(T313:V313)=3,PRODUCT(T313:V313)*X313,""),"")
P314: =+H302 -> 2.01 | R314: UNALDE | S314: PISO - BAÑO - DEBAJO DE ESCALERAS | T314: 0.5 | U314: 1 | W314: =IF(COUNT(T314:V314)=1,"m",IF(COUNT(T314:V314)=2,"m2",IF(COUNT(T314:V314)=3,"m3",""))) -> m2 | X314: =IF(S314="","",1) -> 1 | Y314: =IFERROR(IF(COUNT(T314:V314)=1,PRODUCT(T314:V314)*X314,""),"") | Z314: =IFERROR(IF(COUNT(T314:V314)=2,PRODUCT(T314:V314)*X314,""),"") -> 0.5 | AA314: =IFERROR(IF(COUNT(T314:V314)=3,PRODUCT(T314:V314)*X314,""),"")
P315: =+H302 -> 2.01 | R315: UNALDE | S315: PISO 2 - OFICINA | T315: 3.97 | U315: 3.36 | W315: =IF(COUNT(T315:V315)=1,"m",IF(COUNT(T315:V315)=2,"m2",IF(COUNT(T315:V315)=3,"m3",""))) -> m2 | X315: =IF(S315="","",1) -> 1 | Y315: =IFERROR(IF(COUNT(T315:V315)=1,PRODUCT(T315:V315)*X315,""),"") | Z315: =IFERROR(IF(COUNT(T315:V315)=2,PRODUCT(T315:V315)*X315,""),"") -> 13.3392 | AA315: =IFERROR(IF(COUNT(T315:V315)=3,PRODUCT(T315:V315)*X315,""),"")
P316: =+H302 -> 2.01 | R316: UNALDE | S316: PISO 2 - ESPACIO MURO | T316: 1.07 | U316: 0.43 | W316: =IF(COUNT(T316:V316)=1,"m",IF(COUNT(T316:V316)=2,"m2",IF(COUNT(T316:V316)=3,"m3",""))) -> m2 | X316: =IF(S316="","",1) -> 1 | Y316: =IFERROR(IF(COUNT(T316:V316)=1,PRODUCT(T316:V316)*X316,""),"") | Z316: =IFERROR(IF(COUNT(T316:V316)=2,PRODUCT(T316:V316)*X316,""),"") -> 0.4601 | AA316: =IFERROR(IF(COUNT(T316:V316)=3,PRODUCT(T316:V316)*X316,""),"")
P317: =+H302 -> 2.01 | AA317: =IFERROR(IF(COUNT(T317:V317)=3,PRODUCT(T317:V317)*X317,""),"")
P318: =+H302 -> 2.01 | R318: FEDEJAC | S318: PISO 1 - OFICINAS | T318: 3.66 | U318: 3.4 | W318: =IF(COUNT(T318:V318)=1,"m",IF(COUNT(T318:V318)=2,"m2",IF(COUNT(T318:V318)=3,"m3",""))) -> m2 | X318: =IF(S318="","",1) -> 1 | Y318: =IFERROR(IF(COUNT(T318:V318)=1,PRODUCT(T318:V318)*X318,""),"") | Z318: =IFERROR(IF(COUNT(T318:V318)=2,PRODUCT(T318:V318)*X318,""),"") -> 12.444 | AA318: =IFERROR(IF(COUNT(T318:V318)=3,PRODUCT(T318:V318)*X318,""),"")
P319: =+H302 -> 2.01 | R319: FEDEJAC | S319: PISO 1 - ESCALERAS | T319: 1.66 | U319: 1.62 | W319: =IF(COUNT(T319:V319)=1,"m",IF(COUNT(T319:V319)=2,"m2",IF(COUNT(T319:V319)=3,"m3",""))) -> m2 | X319: =IF(S319="","",1) -> 1 | Y319: =IFERROR(IF(COUNT(T319:V319)=1,PRODUCT(T319:V319)*X319,""),"") | Z319: =IFERROR(IF(COUNT(T319:V319)=2,PRODUCT(T319:V319)*X319,""),"") -> 2.6892 | AA319: =IFERROR(IF(COUNT(T319:V319)=3,PRODUCT(T319:V319)*X319,""),"")
P320: =+H302 -> 2.01 | R320: FEDEJAC | S320: PISO 1 - BAÑOS - PISO | T320: 1.65 | U320: 1.62 | W320: =IF(COUNT(T320:V320)=1,"m",IF(COUNT(T320:V320)=2,"m2",IF(COUNT(T320:V320)=3,"m3",""))) -> m2 | X320: =IF(S320="","",1) -> 1 | Y320: =IFERROR(IF(COUNT(T320:V320)=1,PRODUCT(T320:V320)*X320,""),"") | Z320: =IFERROR(IF(COUNT(T320:V320)=2,PRODUCT(T320:V320)*X320,""),"") -> 2.673 | AA320: =IFERROR(IF(COUNT(T320:V320)=3,PRODUCT(T320:V320)*X320,""),"")
P321: =+H302 -> 2.01 | R321: FEDEJAC | S321: PISO 1 - BAÑOS - PAREDES | T321: 5.62 | V321: 2.2 | W321: =IF(COUNT(T321:V321)=1,"m",IF(COUNT(T321:V321)=2,"m2",IF(COUNT(T321:V321)=3,"m3",""))) -> m2 | X321: =IF(S321="","",1) -> 1 | Y321: =IFERROR(IF(COUNT(T321:V321)=1,PRODUCT(T321:V321)*X321,""),"") | Z321: =IFERROR(IF(COUNT(T321:V321)=2,PRODUCT(T321:V321)*X321,""),"") -> 12.364 | AA321: =IFERROR(IF(COUNT(T321:V321)=3,PRODUCT(T321:V321)*X321,""),"")
P322: =+H302 -> 2.01 | R322: FEDEJAC | S322: PISO 2 - OFICINAS | T322: 3.86 | U322: 3.4 | W322: =IF(COUNT(T322:V322)=1,"m",IF(COUNT(T322:V322)=2,"m2",IF(COUNT(T322:V322)=3,"m3",""))) -> m2 | X322: =IF(S322="","",1) -> 1 | Y322: =IFERROR(IF(COUNT(T322:V322)=1,PRODUCT(T322:V322)*X322,""),"") | Z322: =IFERROR(IF(COUNT(T322:V322)=2,PRODUCT(T322:V322)*X322,""),"") -> 13.124 | AA322: =IFERROR(IF(COUNT(T322:V322)=3,PRODUCT(T322:V322)*X322,""),"")
P323: =+H302 -> 2.01 | R323: FEDEJAC | S323: PISO 2 - OFICINAS | T323: 1.42 | U323: 1.83 | W323: =IF(COUNT(T323:V323)=1,"m",IF(COUNT(T323:V323)=2,"m2",IF(COUNT(T323:V323)=3,"m3",""))) -> m2 | X323: =IF(S323="","",1) -> 1 | Y323: =IFERROR(IF(COUNT(T323:V323)=1,PRODUCT(T323:V323)*X323,""),"") | Z323: =IFERROR(IF(COUNT(T323:V323)=2,PRODUCT(T323:V323)*X323,""),"") -> 2.5986 | AA323: =IFERROR(IF(COUNT(T323:V323)=3,PRODUCT(T323:V323)*X323,""),"")
P324: =+H302 -> 2.01 | W324: =IF(COUNT(T324:V324)=1,"m",IF(COUNT(T324:V324)=2,"m2",IF(COUNT(T324:V324)=3,"m3",""))) | X324: =IF(S324="","",1) | Y324: =IFERROR(IF(COUNT(T324:V324)=1,PRODUCT(T324:V324)*X324,""),"") | Z324: =IFERROR(IF(COUNT(T324:V324)=2,PRODUCT(T324:V324)*X324,""),"") | AA324: =IFERROR(IF(COUNT(T324:V324)=3,PRODUCT(T324:V324)*X324,""),"")
P325: =+H302 -> 2.01 | W325: =IF(COUNT(T325:V325)=1,"m",IF(COUNT(T325:V325)=2,"m2",IF(COUNT(T325:V325)=3,"m3",""))) | X325: =IF(S325="","",1) | Y325: =IFERROR(IF(COUNT(T325:V325)=1,PRODUCT(T325:V325)*X325,""),"") | Z325: =IFERROR(IF(COUNT(T325:V325)=2,PRODUCT(T325:V325)*X325,""),"") | AA325: =IFERROR(IF(COUNT(T325:V325)=3,PRODUCT(T325:V325)*X325,""),"")
P326: =+H302 -> 2.01 | W326: =IF(COUNT(T326:V326)=1,"m",IF(COUNT(T326:V326)=2,"m2",IF(COUNT(T326:V326)=3,"m3",""))) | X326: =IF(S326="","",1) | Y326: =IFERROR(IF(COUNT(T326:V326)=1,PRODUCT(T326:V326)*X326,""),"") | Z326: =IFERROR(IF(COUNT(T326:V326)=2,PRODUCT(T326:V326)*X326,""),"") | AA326: =IFERROR(IF(COUNT(T326:V326)=3,PRODUCT(T326:V326)*X326,""),"")
P327: =+H302 -> 2.01 | W327: =IF(COUNT(T327:V327)=1,"m",IF(COUNT(T327:V327)=2,"m2",IF(COUNT(T327:V327)=3,"m3",""))) | X327: =IF(S327="","",1) | Y327: =IFERROR(IF(COUNT(T327:V327)=1,PRODUCT(T327:V327)*X327,""),"") | Z327: =IFERROR(IF(COUNT(T327:V327)=2,PRODUCT(T327:V327)*X327,""),"") | AA327: =IFERROR(IF(COUNT(T327:V327)=3,PRODUCT(T327:V327)*X327,""),"")
Q328: =+H302 -> 2.01 | R328: OBSERVACIONES | U328: TOTALES | AA328: =SUM(Z305:Z327) -> 116.1874
B329: RESPONSABLE DE LOS CALCULOS: | J329: APRUEBA:
T330: TOTAL | AA330: =AA328 -> 116.1874
G333: MEMORIAS DE CANTIDADES | U333: CODIGO: | Y333: FT-TEC-03
U334: VESION: | Y334: 1
U335: FECHA DE APROBACION: | Y335: 44236
B336: PROYECTO: | G336: =+'BALANCE GENERAL'!$F$6 -> OBRAS DE MANTENIMIENTO PREVENTIVO Y/O CORRECTIVO EN LAS SEDES EN PROPIEDAD DEL DISTRITO UBICADOS EN LA PLAZOLETA TELECOM LOCALES 107B SINTRAOFIPUCAR UNALDE FEDEJAC Y CERRAMIENTO DEL PREDIO UBICADO EN LA CALLE 49 CON VIA PERIMETRAL EN LA CIUDAD DE CARTAGENA
B338: CAPITULO | H338: ITEM | R338: DESCRIPCIÓN DE LA ACTIVIDAD:
B339: =PRESUPUESTO!$B$21 -> 2 | H339: =PRESUPUESTO!B23 -> 2.02 | J339: =PRESUPUESTO!$F$21 -> DEMOLICIONES Y DESMONTES | R339: =PRESUPUESTO!F23 -> Desmonte de Elementos Sanitarios (Incluye retiro de material sobrante y disposición final en R.S.)
...

Sheet MEMORIAS ATP N° 2
G3: MEMORIAS DE CANTIDADES | U3: CODIGO: | Y3: FT-TEC-03
U4: VESION: | Y4: 1
U5: FECHA DE APROBACION: | Y5: 44236
B6: PROYECTO: | G6: =+'BALANCE GENERAL'!$F$6 -> OBRAS DE MANTENIMIENTO PREVENTIVO Y/O CORRECTIVO EN LAS SEDES EN PROPIEDAD DEL DISTRITO UBICADOS EN LA PLAZOLETA TELECOM LOCALES 107B SINTRAOFIPUCAR UNALDE FEDEJAC Y CERRAMIENTO DEL PREDIO UBICADO EN LA CALLE 49 CON VIA PERIMETRAL EN LA CIUDAD DE CARTAGENA
B8: CAPITULO | H8: ITEM | R8: DESCRIPCIÓN DE LA ACTIVIDAD:
B9: =PRESUPUESTO!$B$11 -> 1 | H9: =PRESUPUESTO!B12 -> 1.01 | J9: =PRESUPUESTO!F11 -> CERRAMIENTO EN POSTE DE CONCRETO Y ALAMBRE LISO | R9: =PRESUPUESTO!F12 -> LOCALIZACIÓN, TRAZADO, REPLANTEO Y NIVELACIÓN. INCLUYE ENTREGA DE PLANOS Y CARTERA.
B10: ESQUEMA O REGISTRO FOTOGRAFICO | R10: LOCALIZACION | S10: ESPACIO | T10: DIMENSIONES | W10: UND | X10: CANT. | Y10: TOTALES
T11: LONG (m) | U11: ANCHO (m) | V11: ALTURA (m) | Y11: ml | Z11: m2 | AA11: m3
P12: =+H9 -> 1.01
P13: =+H9 -> 1.01
P14: =+H9 -> 1.01
P15: =+H9 -> 1.01
P16: =+H9 -> 1.01
P17: =+H9 -> 1.01
P18: =+H9 -> 1.01
P19: =+H9 -> 1.01
P20: =+H9 -> 1.01
P21: =+H9 -> 1.01
P22: =+H9 -> 1.01
P23: =+H9 -> 1.01
P24: =+H9 -> 1.01
P25: =+H9 -> 1.01
P26: =+H9 -> 1.01
P27: =+H9 -> 1.01
P28: =+H9 -> 1.01
P29: =+H9 -> 1.01
P30: =+H9 -> 1.01
P31: =+H9 -> 1.01
P32: =+H9 -> 1.01
P33: =+H9 -> 1.01
P34: =+H9 -> 1.01
Q35: =+H9 -> 1.01 | R35: OBSERVACIONES | U35: TOTALES | AA35: =SUM(Z12:Z34) -> 0
B36: RESPONSABLE DE LOS CALCULOS: | J36: APRUEBA:
T37: TOTAL | AA37: =AA35 -> 0
G40: MEMORIAS DE CANTIDADES | U40: CODIGO: | Y40: FT-TEC-03
U41: VESION: | Y41: 1
U42: FECHA DE APROBACION: | Y42: 44236
B43: PROYECTO: | G43: =+'BALANCE GENERAL'!$F$6 -> OBRAS DE MANTENIMIENTO PREVENTIVO Y/O CORRECTIVO EN LAS SEDES EN PROPIEDAD DEL DISTRITO UBICADOS EN LA PLAZOLETA TELECOM LOCALES 107B SINTRAOFIPUCAR UNALDE FEDEJAC Y CERRAMIENTO DEL PREDIO UBICADO EN LA CALLE 49 CON VIA PERIMETRAL EN LA CIUDAD DE CARTAGENA
B45: CAPITULO | H45: ITEM | R45: DESCRIPCIÓN DE LA ACTIVIDAD:
B46: =PRESUPUESTO!$B$11 -> 1 | H46: =PRESUPUESTO!B13 -> 1.02 | J46: =PRESUPUESTO!$F$11 -> CERRAMIENTO EN POSTE DE CONCRETO Y ALAMBRE LISO | R46: =PRESUPUESTO!F13 -> CERRAMIENTO (8 HILERAS DE ALAMBRE LISO CALIBRE 12, CON POSTE DE CONCRETO DE 10 CM X 10 CM Y 3 M DE ALTURA, CON BRAZO, 8 HUECOS. ENTERRADO COMO MIN. 0.60m, CON PEDESTAL EN CONCRETO 30X30, NTERCALADO CADA 1,2 M ENTRE POSTES Y CONTRAFUERTES AL INCIO Y FINAL DE CADA TRAMO Y ESQUINAS. CON AMARRE DE SEGURIDAD PARA CADA HILO DE ALAMBRE EN LOS POSTES
...

Sheet MEMORIAS ATP N° 1.
G2: MEMORIAS DE CANTIDADES | U2: CODIGO: | Y2: FT-TEC-03
U3: VESION: | Y3: 1
U4: FECHA DE APROBACION: | Y4: 44236
