Workbook
Name RESPUESTASINO: 'Hoja 1 variables'!$B$2:$B$3
Name unocero: '[1]Hoja 1 variables'!$C$2:$C$3

Sheet 1.Carta y exp habilitante
A1: PROPONENTE | B1: UNIDAD REGIONAL PARA EL DESARROLLO Y EXPERIENCIA DIGITAL U-RED UNION TEMPORAL
A4: CARTA DE PRESENTACIÓN DE LA PROPUESTA
A6: MIEMBROS DEL PROPONENTE PLURAL: | B6: PORCENTAJE DE PARTICIPACIÓN | D6: ACREDITA LA EXPERIENCIA
A7: PREPACOL TECHNOLOGY SAS | B7: 0.25 | D7: SI
A8: ERT-ESP | B8: 0.27 | D8: SI
A9: EMTEL SA | B9: 0.27 | D9: SI
A10: S3 SIMPLE SMART SPEEDY SAS | B10: 0.19 | D10: NO
A11: TIGLOBAL SAS | B11: 0.02 | D11: NO
A14: No. de contratos con los cuales se acredita la experiencia | C14: No. de contratos terminados | E14: No. máximo de contratos en ejecución | G14: Equivalencia entre contratos terminados y contratos en ejecución
A15: =+'2. Exp habilitante EJECUTADA'!A17+'3. Exp habilitante EN EJEC'!A18 -> 10 | C15: =+'2. Exp habilitante EJECUTADA'!A17 -> 10 | E15: =+'3. Exp habilitante EN EJEC'!A18 -> 0 | G15: =IF(AND(C15>=E15,A15<=10),1,0) -> 1
A17: 2. EXPERIENCIA COMO REQUISITO HABILITANTE
A18: Valor acreditado en SMMLV por los contratos válidos de acuerdo a los requisitos habilitantes del numeral 5.3. del Pliego de Condiciones | I18: =+'2. Exp habilitante EJECUTADA'!Q16+'3. Exp habilitante EN EJEC'!O17 -> 44676.08
A21: Requisito mínimo habilitante en SMMLV | H21: Cumple con el requisito mínimo habilitante?
A22: REGION | D22: SMMLV POR REGION | H22: =+IF($I$18>=$D$23,1,0) -> 0
A23: REGION B | D23: =VLOOKUP(A23,'Hoja 1 variables'!H4:K9,4,FALSE) -> 122186.13
A25: 3. REQUISITOS HABILITANTES
A26: CUMPLE CON LOS REQUISITOS HABILITANTES? | H26: =+IF(SUM(H22,G15)=2,1,0) -> 0

Sheet 2. Exp habilitante EJECUTADA
A1: PROPONENTE | C1: =+'1.Carta y exp habilitante'!B1 -> UNIDAD REGIONAL PARA EL DESARROLLO Y EXPERIENCIA DIGITAL U-RED UNION TEMPORAL
A4: # Contrato | B4: Miembro que reporta la Experiencia | C4: Contrato Nacional o extranjero | D4: Consecutivo RUP | E4: Clasificación UNSPSC 81161700 81112100 83111600 | F4: Entidad Contratante | G4: 1) instalación de infraestructura de telecomunicaciones* u; 2) operación de infraestructura de telecomunicaciones* o; 3) instalación y operación de infraestructura de telecomunicaciones* o; 4) prestación del servicio de acceso público a Internet mediante zonas WiFi o; 5) ejecución de contratos que abarquen una red compuesta de accesos conectados a Internet a través de tecnología satelital. * Entre la infraestructura de telecomunicaciones no se entenderán incluidos los circuitos cerrados de televisión. Para efectos del presente proceso de selección se entenderá por Infraestructura de Telecomunicaciones: “Los Soportes físicos y lógicos que permiten el transporte de los servicios de telecomunicaciones entre dos puntos de la red.” Definición Comisión Europea. | H4: Fecha de Inicio | I4: Fecha de terminación | J4: Forma de ejecución | L4: Moneda del contrato Contrato. Si la moneda del contrato es diferente al dólar https://www1.oanda.com/lang/es/currency/converter/. | M4: valor en dólares | N4: Valor del Contrato COP | O4: SMMLV del año de terminación del contrato | P4: Valor del Contrato en SMMLV | Q4: RUP | U4: CERTIFICACION | AA4: CONTRATO VÁLIDO PARA HABILITAR | AB4: OBSERVACIONES
J5: I, C, UT | K5: % | Q5: Valor del Contrato en SMMLV (RUP) con % de participación | R5: Nombre del contratista (RUP) | S5: Nombre del contratante (RUP) | T5: Porcentaje de participación en el valor ejecutado en caso de consorcios y uniones temporales (RUP) | U5: Objeto del Contrato. | V5: Actividades y /o obligaciones | W5: Identificación y cargo de la persona facultada para expedirla. | X5: Si la certificación incluye varios contratos, se debe identificar en forma precisa si se trata de adiciones, prórrogas u otrosíes al principal o son contratos diferentes, indicando en cada uno de ellos sus plazos y valor. | Y5: Fecha de suscripción o de iniciación del Contrato. | Z5: Fecha de terminación de los contratos ejecutados y terminados dentro de los diez (10) años anteriores a la fecha de cierre del presente proceso de selección
A6: 1 | B6: EMTEL SA ESP | C6: Nacional | D6: 92 | E6: 81161700 81112100 83111600 | F6: Fondo de Tecnologías de la Información y las Comunicaciones | G6: Habilitar y promover espacios de acceso gratuito a Internet a través de las zonas WI-Fi que integran las TIC, que se instalen a nivel Nacional en los departamentos de Arauca, Bolívar, Cauca, Cesar, Chocó, Córdoba, Cundinamarca, La Guajira, Guaviare, Norte de Santander, Nariño, Putumayo, Santander, Tolima y Valle, entre otros. | H6: 43046 | I6: 43555 | J6: I | K6: 1 | L6: Pesos | M6: NA | N6: 4330560667 | O6: 828116 | P6: =+N6/O6 -> 5229.4131 | Q6: 5229.41 | R6: Empresa de Telecomunicaciones de Popayán SA EMTEL ESP | S6: Fondo de Tecnologías de la Información y las Comunicaciones | T6: 1 | U6: 1 | V6: 1 | W6: 1 | X6: 1 | Y6: 1 | Z6: 1 | AA6: 1
A7: 1 | B7: EMTEL SA ESP | C7: Nacional | D7: 93 | E7: 81161700 81112100 83111600 | F7: Fondo de Tecnologías de la Información y las Comunicaciones | G7: Habilitar y promover espacios de acceso gratuito a Internet a través de las zonas WI-Fi que integran las TIC, que se instalen a nivel Nacional en los departamentos de Arauca, Bolívar, Cauca, Cesar, Chocó, Córdoba, Cundinamarca, La Guajira, Guaviare, Norte de Santander, Nariño, Sucre y Vichada, entre otros. | H7: 43046 | I7: 43555 | J7: I | K7: 1 | L7: Pesos | M7: NA | N7: 9064660005 | O7: =O6 -> 828116 | P7: =+N7/O7 -> 10946.123 | Q7: 10946.12 | R7: Empresa de Telecomunicaciones de Popayán SA EMTEL ESP | S7: Fondo de Tecnologías de la Información y las Comunicaciones | T7: 1 | U7: 1 | V7: 1 | W7: 1 | X7: 1 | Y7: 1 | Z7: 1 | AA7: 1
A8: 1 | B8: EMTEL SA ESP | C8: Nacional | D8: 94 | E8: 81161700 81112100 83111600 | F8: Fondo de Tecnologías de la Información y las Comunicaciones | G8: Habilitar y promover espacios de acceso gratuito a Internet a través de las zonas WI-Fi que integran las TIC, que se instalen a nivel Nacional en los departamentos de Caquetá, Meta, Atlántico, Bogotá D.C, Bolívar, Boyacá, Caldas, Cauca, Córdoba, Magdalena, Norte de Santander, Risaralda, Santander, Sucre, Valle del Cauca, entre otros. | H8: 43049 | I8: 43555 | J8: I | K8: 1 | L8: Pesos | M8: NA | N8: 5403446497 | O8: 828116 | P8: =+N8/O8 -> 6524.9874 | Q8: 6524.98 | R8: Empresa de Telecomunicaciones de Popayán SA EMTEL ESP | S8: Fondo de Tecnologías de la Información y las Comunicaciones | T8: 1 | U8: 1 | V8: 1 | W8: 1 | X8: 1 | Y8: 1 | Z8: 1 | AA8: 1
A9: 1 | B9: EMTEL SA ESP | C9: Nacional | D9: 98 | E9: 81161700 81112100 83111600 | F9: Fondo de Tecnologías de la Información y las Comunicaciones | G9: Aunar esfuerzos técnicos, administrativos y financieros tendientes a la habilitación y promoción de espacios de acceso gratuito a internet a través de las zonas Wi-Fi que integran las TIC para el uso de la comunidad en el departamento del Meta. | H9: 43055 | I9: 43465 | J9: I | K9: 1 | L9: Pesos | M9: NA | N9: =2264587024+2264587023 -> 4529174047 | O9: 781242 | P9: =+N9/O9 -> 5797.4021 | Q9: 5797.4 | R9: Empresa de Telecomunicaciones de Popayán SA EMTEL ESP | S9: Fondo de Tecnologías de la Información y las Comunicaciones y el Departametno del Meta | T9: 1 | U9: 1 | V9: 1 | W9: 1 | X9: 1 | Y9: 1 | Z9: 1 | AA9: 1
A10: 1 | B10: PREPACOL SAS | C10: Extranjero | D10: 10 | E10: 81161700 81112100 | F10: Dirección General de Centros Penales - DGCP San Salvador El Salvador | G10: Prestar el servicio de telefonía para todo el personal de internos recluidos al interior de once (11) establecimientos penitenciarios y carcelarios adscritos a la DGCP e implementación de sistemas de bloqueo, señales móviles y wifi al interior de los penales. El servicio involucra suministro de equipos de comunicación, software para administración de plataforma, recaudo de dineros, software para administración de sistemas de bloqueo, implementación de redes y data center así como centro de monitoreo centralizado en las instalaciones de la DGCP. | H10: 41333 | I10: 43524 | J10: I | K10: 1 | L10: Dólares | M10: 8966354 | N10: =M10*3072.01 -> 2.7544729e+10 | O10: 828116 | P10: =+N10/O10 -> 33261.921 | Q10: 33261.92 | R10: Prepago de Colombia SAS - PREPACOL SAS | S10: Dirección General de Centros Penales - DGCP San Salvador El Salvador | T10: 1 | U10: 0 | V10: 0 | W10: 1 | X10: 1 | Y10: 1 | Z10: 1 | AA10: 0 | AB10: No cumple con lo que exige el pliego de condiciones, en los requisitos habilitantes donde se solicita: "...El objeto o las obligaciones de los contratos aportados deberá contener actividades de: 1) instalación de infraestructura de telecomunicaciones* u; 2) operación de infraestructura de telecomunicaciones* o; 3) instalación y operación de infraestructura de telecomunicaciones* o; 4) prestación del servicio de acceso público a Internet mediante zonas WiFi o; 5) ejecución de contratos que abarquen una red compuesta de accesos conectados a Internet a través de tecnología satelital. * Entre la infraestructura de telecomunicaciones no se entenderán incluidos los circuitos cerrados de televisión. ..." Por otro lado la certificación no cumple con lo solicitado en el pliego de condiciones, de conformidad con lo establecido en el numeral 2.4. IDIOMA Y LEGALIZACIÓN DE DOCUMENTOS OTORGADOS EN EL EXTERIOR “ Para efectos del trámite de apostilla o legalización de documentos públicos otorgados en el exterior, debe estarse a lo establecido en la Resolución No. 1959 del 03 de agosto de 2020 “Por la cual se dictan disposiciones en materia de apostillas y de legalizaciones de documentos y se deroga la Resolución 10547 del 14 de diciembre de 2018” expedida por el Ministerio de Relaciones Exteriores (.)" por lo cual deberá aportarse la correspondiente traducción oficial en los términos planteados en los pliegos de condiciones.
A11: 1 | B11: PREPACOL SAS | C11: Nacional | D11: 1 | E11: 81161700 81112100 83111600 | F11: Instituto Nacional Penitenciario y Carcelario - INPEC | G11: Prestar el servicio de instalación y operación de infraestructura de telecomunicaciones para todo el personal de internos de los 41 establecimientos penitenciarios y carcelarios adscritos a la regional central | H11: 39258 | I11: 43465 | J11: I | K11: 1 | L11: Pesos | M11: NA | N11: 110306899717 | O11: =O9 -> 781242 | P11: =+N11/O11 -> 141194.28 | Q11: 141194.27 | R11: Prepago de Colombia SAS - PREPACOL SAS | S11: Instituto Nacional Penitenciario y Carcelario - INPEC | T11: 1 | U11: 1 | V11: 1 | W11: 1 | X11: 1 | Y11: 1 | Z11: 0 | AA11: 0 | AB11: La certificación fue expedida 3 meses antes de la finalización del contrato objeto de la certificación, por lo cual no se puede evidenciar que el contrato haya terminado cumpliendo a satisfacción todas las obligaciones del mismo.
A12: 1 | B12: ERT SA ESP | C12: Nacional | D12: 60 | E12: 81112100 | F12: Gobernación del Huila | G12: Prestar el servicio de acceso a Internet, fortalecimiento y mejoramiento de la infraestructura tecnológica y redes de datos en los establecimientos educativos del departamento del Huila señalados en el anexo 1 de este convenio, dentro del programa de Conexión Total - Red Educativa Nacional que lidera el Ministerio de Educación Nacional | H12: 41984 | I12: 42167 | J12: I | K12: 1 | L12: Pesos | M12: NA | N12: 2590347616 | O12: 644350 | P12: =+N12/O12 -> 4020.0941 | Q12: 4020.09 | R12: Empresa de Recursos Tecnológicos SA ESP | S12: Gobernación del Huila | T12: 1 | U12: 1 | V12: 1 | W12: 1 | X12: 1 | Y12: 1 | Z12: 1 | AA12: 1
A13: 1 | B13: ERT SA ESP | C13: Nacional | D13: 55 | E13: 81112100 | F13: Departamento del Valle del Cauca | G13: Instalación, implementación, puesta en funcionamiento, mantenimiento de los equipos para conectar a Internet y suministro del servicio de conectividad para 519 sedes educativas oficiales ubicadas en los municipios no certificados del departamento, de acuerdo con las especificcaciones técnicas establecidas por els Ministerio de Educación Nacional en la directiva ministerial #02 de 2014, en el marco del programa Conexión Total - Red Educativa Nacional. | H13: 41997 | I13: 42303 | J13: I | K13: 1 | L13: Pesos | M13: NA | N13: 3030335562 | O13: ='Hoja 1 variables'!E11 -> 644350 | P13: =+N13/O13 -> 4702.9341 | Q13: 4702.93 | R13: Empresa de Recursos Tecnológicos SA ESP | S13: Departamento del Valle del Cauca | T13: 1 | U13: 1 | V13: 1 | W13: 1 | X13: 1 | Y13: 1 | Z13: 1 | AA13: 1
A14: 1 | B14: ERT SA ESP | C14: Nacional | D14: 79 | E14: 81161700 81112100 | F14: Alcaldía de Santa Marta Distrito Turístico, Cultural e Histórico | G14: Prestación de Servicios de Conectividad a Internet dedicado en fibra óptica para establecimientos educativos ubicados en el área urbana y radio enlaces para las ubicadas en las estribaciones de la Sierra Nevada de Santa Marta para el mejoramiento de la calidad educativa en el Distrito de Santa Marta-Magdalena. | H14: 43556 | I14: 43830 | J14: I | K14: 1 | L14: Pesos | M14: NA | N14: 1657023826 | O14: ='Hoja 1 variables'!E15 -> 828116 | P14: =+N14/O14 -> 2000.9562 | Q14: 2000.96 | R14: Empresa de Recursos Tecnológicos SA ESP | S14: Alcaldía de Santa Marta Distrito Turístico, Cultural e Histórico | T14: 1 | U14: 1 | V14: 1 | W14: 1 | X14: 1 | Y14: 1 | Z14: 1 | AA14: 1
A15: 1 | B15: EMTEL SA ESP | C15: Nacional | D15: 23 | E15: 81161700 81112100 | F15: Gobernación del Cauca - Secretaría de Educación y Cultura | G15: Proveer el servicio de conectividad a Internet a través de canales dedicados a sedes educativas oficiales ubicadas en los municipios no certificados en educación del departamento del Cauca, en el marco del programa Conexión Total. | H15: 41908 | I15: 42003 | J15: I | K15: 1 | L15: Pesos | M15: NA | N15: 3359786880 | O15: ='Hoja 1 variables'!E10 -> 616000 | P15: =+N15/O15 -> 5454.1995 | Q15: 5454.19 | R15: Empresa de Telecomunicaciones de Popayán SA EMTEL ESP | S15: Gobernación del Cauca - Secretaría de Educación y Cultura | T15: 1 | U15: 1 | V15: 1 | W15: 1 | X15: 0 | Y15: 1 | Z15: 1 | AA15: 1
Q16: =+SUMPRODUCT($Q$6:$Q$15,$AA$6:$AA$15) -> 44676.08
A17: =SUM(A6:A15) -> 10

Sheet 3. Exp habilitante EN EJEC
A1: PROPONENTE | C1: =+'1.Carta y exp habilitante'!B1:K1 -> 0
A4: # Contrato | B4: Miembro que reporta la Experiencia | C4: Contrato Nacional o extranjero | D4: Entidad Contratante | E4: 1) instalación de infraestructura de telecomunicaciones* u; 2) operación de infraestructura de telecomunicaciones* o; 3) instalación y operación de infraestructura de telecomunicaciones* o; 4) prestación del servicio de acceso público a Internet mediante zonas WiFi o; 5) ejecución de contratos que abarquen una red compuesta de accesos conectados a Internet a través de tecnología satelital. * Entre la infraestructura de telecomunicaciones no se entenderán incluidos los circuitos cerrados de televisión. Para efectos del presente proceso de selección se entenderá por Infraestructura de Telecomunicaciones: “Los Soportes físicos y lógicos que permiten el transporte de los servicios de telecomunicaciones entre dos puntos de la red.” Definición Comisión Europea.ç | F4: Fecha de Inicio | G4: Tiempo de operación del contrato. | H4: Forma de ejecución | J4: Moneda del contrato Contrato. Si la moneda del contrato es diferente al dólar https://www1.oanda.com/lang/es/currency/converter/. | K4: valor en dolares | L4: Valor del Contrato COP | M4: Valor ejecutado por el Contratista. La fecha de corte para calcular el monto ejecutado deberá constar en la certificación y tendrá que ser anterior o coincidir con la fecha de expedición de dicha certificación. | N4: SMMLV | O4: Valor del Contrato en SMMLV | P4: CERTIFICACION | V4: CONTRATO VÁLIDO PARA HABILITAR | W4: OBSERVACIONES
H5: I, C, UT | I5: % | P5: Objeto del Contrato. | Q5: Actividades y /o obligaciones | R5: Identificación y cargo de la persona facultada para expedirla. La certificación debe venir suscrita por la persona que ejerza la representación legal del emisor, o por aquel que tenga las facultades para expedirla. Así mismo, debe venir acompañada de los datos de contacto de quien certifica (teléfono, correo electrónico y dirección) o en su defecto, el proponente podrá informar los datos de contacto en documento anexo a la propuesta. | S5: Si la certificación incluye varios contratos, se debe identificar en forma precisa si se trata de adiciones, prórrogas u otrosíes al principal o son contratos diferentes, indicando en cada uno de ellos sus plazos (fecha de suscripción y/o de inicio del contrato y, tiempo de operación del contrato) y valor. Si la certificación incluye el Contrato principal con sus adiciones, prórrogas u otrosíes, se entenderá como un solo Contrato certificado. | T5: Fecha de suscripción o de iniciación del Contrato. | U5: Indicar expresamente que los tres (3) años de operación a cargo del contratista, de acuerdo con el concepto del contratante, ha sido satisfactoria en cuanto al cumplimiento de los indicadores de calidad y niveles de servicio.
A6: 0 | N6: =+'Hoja 1 variables'!E$16 -> 877802 | O6: =+M6/N6 -> 0 | V6: 1
A7: 0 | N7: =+'Hoja 1 variables'!E$16 -> 877802 | O7: =+M7/N7 -> 0
A8: 0 | N8: =+'Hoja 1 variables'!E$16 -> 877802 | O8: =+M8/N8 -> 0
A9: 0 | N9: =+'Hoja 1 variables'!E$16 -> 877802 | O9: =+M9/N9 -> 0
A10: 0 | N10: =+'Hoja 1 variables'!E$16 -> 877802 | O10: =+M10/N10 -> 0
A11: 0 | N11: =+'Hoja 1 variables'!E$16 -> 877802 | O11: =+M11/N11 -> 0
A12: 0 | N12: =+'Hoja 1 variables'!E$16 -> 877802 | O12: =+M12/N12 -> 0
A13: 0 | N13: =+'Hoja 1 variables'!E$16 -> 877802 | O13: =+M13/N13 -> 0
A14: 0 | N14: =+'Hoja 1 variables'!E$16 -> 877802 | O14: =+M14/N14 -> 0
N15: =+'Hoja 1 variables'!E$16 -> 877802 | O15: =+M15/N15 -> 0
O17: =+SUMPRODUCT($O$6:$O$15,$V$6:$V$15) -> 0
A18: =SUM(A6:A15) -> 0

Sheet Hoja 1 variables
B2: SI | C2: 1 | D2: Año | E2: SMMLV
B3: NO | C3: 0 | D3: 2008 | E3: 461500 | H3: Region | I3: Presupuesto | J3: En SMMLV | K3: 0.1
D4: 2009 | E4: 496900 | H4: REGION A | I4: 1065474968972 | J4: =+I4/E$16 -> 1213798.7 | K4: =+J4*K$3 -> 121379.87
B5: 100 | D5: 2010 | E5: 515000 | H5: REGION B | I5: 1072552301475 | J5: =+I5/E$16 -> 1221861.3 | K5: =+J5*K$3 -> 122186.13
B6: 0 | D6: 2011 | E6: 535600 | H6: • Presentar propuesta por un mismo proponente para ambas regiones (Región A y Región B), con la opción de ser adjudicatario sólo de una región, | I6: 1072552301475 | J6: =+I6/E$16 -> 1221861.3 | K6: =+J6*K$3 -> 122186.13 | M6: 2138117270447
D7: 2012 | E7: 566700 | H7: • Presentar propuesta por un mismo proponente para ambas regiones (Región A y Región B), con la opción excepcional de ser adjudicatario de las dos regiones, | I7: 2138117270447 | J7: =+I7/E$16 -> 2435762.6 | K7: =+J7*K$3 -> 243576.26
D8: 2013 | E8: 589500 | H8: • Presentarse en dos proponentes diferentes para ambas regiones (Región A y Región B), con la opción excepcional de ser adjudicatario de las dos regiones REGION A | I8: 1065474968972 | J8: =+I8/E$16 -> 1213798.7 | K8: =+J8*K$3 -> 121379.87
H9: • Presentarse en dos proponentes diferentes para ambas regiones (Región A y Región B), con la opción excepcional de ser adjudicatario de las dos regiones REGION B | I9: 1072552301475 | J9: =+I9/E$16 -> 1221861.3 | K9: =+J9*K$3 -> 122186.13
D10: 2014 | E10: 616000
D11: 2015 | E11: 644350 | H11: Región | I11: Puntaje | K11: Puntaje
D12: 2016 | E12: 689454 | H12: Antioquia | I12: 15 puntos: 93 accesos | K12: 15 puntos: 93 accesos
D13: 2017 | E13: 737717
D14: 2018 | E14: 781242 | I14: 30 puntos: 154 accesos | K14: 30 puntos: 154 accesos
D15: 2019 | E15: 828116 | H15: Cundinamarca | I15: 15 puntos: 56 accesos | K15: 15 puntos: 56 accesos
D16: 2020 | E16: 877802
I17: 30 puntos: 93 accesos | K17: 30 puntos: 93 accesos
H18: Sur | I18: 15 puntos: 43 accesos | K18: 15 puntos: 43 accesos
I20: 30 puntos: 71 accesos | K20: 30 puntos: 71 accesos
H21: Eje cafetero | I21: 15 puntos: 36 accesos | K21: 15 puntos: 36 accesos
I23: 30 puntos: 61 accesos | K23: 30 puntos: 61 accesos
H24: Centro-occidente | I24: 15 puntos: 42 accesos | K24: 15 puntos: 42 accesos
I26: 30 puntos: 54 accesos | K26: 30 puntos: 54 accesos
H27: Pacífico | I27: 15 puntos: 31 accesos | K27: 15 puntos: 31 accesos
I29: 30 puntos: 52 accesos | K29: 30 puntos: 52 accesos
H30: Norte | I30: 15 puntos: 42 accesos | K30: 15 puntos: 42 accesos
I32: 30 puntos: 70 accesos | K32: 30 puntos: 70 accesos
H33: Centro-oriente | I33: 15 puntos: 31 accesos | K33: 15 puntos: 31 accesos
I35: 30 puntos: 52 accesos | K35: 30 puntos: 52 accesos
H36: Oriente | I36: 15 puntos: 27 accesos | K36: 15 puntos: 27 accesos
I38: 30 puntos: 45 accesos | K38: 30 puntos: 45 accesos
