Workbook
Name RESPUESTASINO: 'Hoja 1 variables'!$B$2:$B$3
Name unocero: '[1]Hoja 1 variables'!$C$2:$C$3

Sheet 1.Carta y exp habilitante
A1: PROPONENTE | B1: UT CONEXO TIC
A4: CARTA DE PRESENTACIÓN DE LA PROPUESTA
A6: MIEMBROS DEL PROPONENTE PLURAL: | B6: PORCENTAJE DE PARTICIPACIÓN | D6: ACREDITA LA EXPERIENCIA
A7: Energía Integral Andina S.A. | B7: 0.7 | D7: SI
A8: Archivos Procesos y Tecnología S.A. | B8: 0.25 | D8: NO
A9: Panamproject S.A.S. | B9: 0.05 | D9: NO
A11: 1. CONSIDERACIONES PARA LA ACREDITACIÓN DE LA EXPERIENCIA CON CONTRATOS EN EJECUCIÓN
A12: No. de contratos con los cuales se acredita la experiencia | C12: No. de contratos terminados | E12: No. máximo de contratos en ejecución | G12: Equivalencia entre contratos terminados y contratos en ejecución
A13: =+'2. Exp habilitante EJECUTADA'!A17+'3. Exp habilitante EN EJEC'!A18 -> 5 | C13: =+'2. Exp habilitante EJECUTADA'!A17 -> 3 | E13: =+'3. Exp habilitante EN EJEC'!A18 -> 2 | G13: =IF(AND(C13>=E13,A13<=10),1,0) -> 1
A15: 2. EXPERIENCIA COMO REQUISITO HABILITANTE
A16: Valor acreditado en SMMLV por los contratos válidos de acuerdo a los requisitos habilitantes del numeral 5.3. del Pliego de Condiciones | I16: =+'2. Exp habilitante EJECUTADA'!Q16+'3. Exp habilitante EN EJEC'!O17 -> 491010.38
A19: Requisito mínimo habilitante en SMMLV | H19: Cumple con el requisito mínimo habilitante?
A20: REGION | D20: SMMLV POR REGION | H20: =+IF($I$16>=$D$21,1,0) -> 1
A21: • Presentar propuesta por un mismo proponente para ambas regiones (Región A y Región B), con la opción de ser adjudicatario sólo de una región, | D21: =VLOOKUP(A21,'Hoja 1 variables'!H4:K9,4,FALSE) -> 122186.13
A23: 3. REQUISITOS HABILITANTES
A24: CUMPLE CON LOS REQUISITOS HABILITANTES? | H24: =+IF(SUM(H20,G13)=2,1,0) -> 1

Sheet 2. Exp habilitante EJECUTADA
A1: PROPONENTE | C1: =+'1.Carta y exp habilitante'!B1 -> UT CONEXO TIC
A4: # Contrato | B4: Miembro que reporta la Experiencia | C4: Contrato Nacional o extranjero | D4: Consecutivo RUP | E4: Clasificación UNSPSC 81161700 81112100 83111600 | F4: Entidad Contratante | G4: 1) instalación de infraestructura de telecomunicaciones* u; 2) operación de infraestructura de telecomunicaciones* o; 3) instalación y operación de infraestructura de telecomunicaciones* o; 4) prestación del servicio de acceso público a Internet mediante zonas WiFi o; 5) ejecución de contratos que abarquen una red compuesta de accesos conectados a Internet a través de tecnología satelital. * Entre la infraestructura de telecomunicaciones no se entenderán incluidos los circuitos cerrados de televisión. Para efectos del presente proceso de selección se entenderá por Infraestructura de Telecomunicaciones: “Los Soportes físicos y lógicos que permiten el transporte de los servicios de telecomunicaciones entre dos puntos de la red.” Definición Comisión Europea. | H4: Fecha de Inicio | I4: Fecha de terminación | J4: Forma de ejecución | L4: Moneda del contrato Contrato. Si la moneda del contrato es diferente al dólar https://www1.oanda.com/lang/es/currency/converter/. | M4: valor en dolares | N4: Valor del Contrato COP | O4: SMMLV del año de terminación del contrato | P4: Valor del Contrato en SMMLV | Q4: RUP | U4: CERTIFICACION | AA4: CONTRATO VÁLIDO PARA HABILITAR | AB4: OBSERVACIONES
J5: I, C, UT | K5: % | Q5: Valor del Contrato en SMMLV (RUP) con % de participación | R5: Nombre del contratista (RUP) | S5: Nombre del contratante (RUP) | T5: Porcentaje de participación en el valor ejecutado en caso de consorcios y uniones temporales (RUP) | U5: Objeto del Contrato. | V5: Actividades y /o obligaciones | W5: Identificación y cargo de la persona facultada para expedirla. | X5: Si la certificación incluye varios contratos, se debe identificar en forma precisa si se trata de adiciones, prórrogas u otrosíes al principal o son contratos diferentes, indicando en cada uno de ellos sus plazos y valor. | Y5: Fecha de suscripción o de iniciación del Contrato. | Z5: Fecha de terminación de los contratos ejecutados y terminados dentro de los diez (10) años anteriores a la fecha de cierre del presente proceso de selección
A6: 1 | B6: Energía Integral Andina S.A. | C6: Nacional | D6: 44 | E6: 81161700 81112100 83111600 | F6: UNE EPM TELECOMUNICACIONES S.A. | G6: Desarrollar las actividades requeridas para satisfacer las necesidades de los clientes, soportadas en las infraestructuras dispuestas para el uso de las tecnologías de la información y comunicaciones (TIC) enfocadas en calidad y productividad, correspondiente al Grupo 2: Provisión y Soporte de servicios de telecomunicaciones, principalmente en los departamentos de Antioquia ( Medellín correspondiente a las centrales telefónicas y/o CDI de: América, Nutibara, Otrabanda, San Bernardo , Buenos Aires , Centro , Colón , San Javier , Villa Hermosa , Miraflores y sus correspondientes concentradores)Arauca, Amazonas, Caquetá, Guaviare, Guainía, Meta, Vichada, Huila, Tolima, Quindío, Caldas, Risaralda, Cundinamarca, Boyacá y Casanare. | H6: 40252 | I6: 42415 | J6: I | K6: 1 | L6: N/A | M6: N/A | N6: 284435117339 | O6: =+'Hoja 1 variables'!E12 -> 689454 | P6: =+N6/O6 -> 412551.26 | Q6: 412550.66 | R6: Energía Integral Andina S.A. | S6: UNE EPM Telelecomunicaciones | T6: N.A | U6: 1 | V6: 1 | W6: 1 | X6: 1 | Y6: 1 | Z6: 1 | AA6: 1
A7: 1 | B7: Energía Integral Andina S.A. | C7: Nacional | D7: 68 | E7: 81161700 81112100 83111600 | F7: Edatel SA ESP | G7: Tercerización de la operación técnica en el área de cobertura de EDATEL, que comprende todas las actividades relacionadas con atención en premisas de clientes urbanos y rurales, gestión de torre de control, operación y mantenimiento de las redes de cobre, HFC y fibra óptica; atención de órdenes de trabajo y mantenimiento en las plataformas de energía y aire acondicionado, nodos de inalámbrica, conmutación, datos, transmisión, y la atención de las estaciones base repetidoras. | H7: 41470 | I7: 42460 | J7: I | K7: 1 | L7: N/A | M7: N/A | N7: 54094447155 | O7: =+'Hoja 1 variables'!E12 -> 689454 | P7: =+N7/O7 -> 78459.835 | Q7: 78459.72 | R7: Energía Integral Andina S.A. | S7: Edatel SA ESP | T7: N.A | U7: 1 | V7: 1 | W7: 1 | X7: 0 | Y7: 1 | Z7: 1 | AA7: 1 | AB7: El oferente adjunta comunicado indicando que las certificaciones de experiencia aportadas en nuestra oferta que fueron suscritas por la empresa EDATEL SA han sido emitidas por UNE EPM TELECOMUNICACIONES S.A en virtud a que desde el 14 de agosto de 2014, como consecuencia del acuerdo de fusión entre las sociedades UNE EPM Telecomunicaciones S.A. y Millicom Spain Cable S.L, EDATEL pasó a ser parte del grupo empresarial conjunto controlado por las sociedades: Millicom Spain SL, Peak Record S.L., Peak Five S.L., Global Albion S.L., los cuales ejercen control indirecto a través de UNE EPM Telecomunicaciones s.a.
A8: 1 | B8: Energía Integral Andina S.A. | C8: Nacional | D8: 36 | E8: 83111600 | F8: Ministerio de Tecnologías de la Información y las Comunicaciones | G8: Diseñar, instalar, poner en servicio, operar y mantener una Red de Cable submarino de Fibra Óptica para la isla de San Andres. | H8: 40000 | I8: 45993 | J8: I | K8: 1 | L8: N/A | M8: N/A | N8: 46801809500 | O8: =+'Hoja 1 variables'!E5 -> 515000 | P8: =+N8/O8 -> 90877.3 | Q8: 90877.3 | R8: Energía Integral Andina S.A. | S8: Ministerio de Tecnologías de la Información y las Comunicaciones | T8: N.A | U8: 1 | V8: 1 | W8: 1 | X8: 1 | Y8: 1 | Z8: 0 | AA8: 0 | AB8: La Entidad informa que este contrato se encuentra en ejecución. Sin embargo el oferente lo relaciona en el Anexo 7 como un contrato terminado. Por lo cual, se solicita al oferente que aclare el anexo 7 y la certificación presentada.
A9: 0 | P9: =+N9/O9 -> #DIV/0!
A10: 0 | P10: =+N10/O10 -> #DIV/0!
A11: 0 | P11: =+N11/O11 -> #DIV/0!
A12: 0 | P12: =+N12/O12 -> #DIV/0!
A13: 0 | P13: =+N13/O13 -> #DIV/0!
A14: 0 | P14: =+N14/O14 -> #DIV/0!
P15: =+N15/O15 -> #DIV/0!
G16: =180/12 -> 15 | Q16: =+SUMPRODUCT($Q$6:$Q$15,$AA$6:$AA$15) -> 491010.38
A17: =SUM(A6:A15) -> 3 | C17: =180/12 -> 15

Sheet 3. Exp habilitante EN EJEC
A1: PROPONENTE | C1: =+'1.Carta y exp habilitante'!B1 -> UT CONEXO TIC
A4: # Contrato | B4: Miembro que reporta la Experiencia | C4: Contrato Nacional o extranjero | D4: Entidad Contratante | E4: 1) instalación de infraestructura de telecomunicaciones* u; 2) operación de infraestructura de telecomunicaciones* o; 3) instalación y operación de infraestructura de telecomunicaciones* o; 4) prestación del servicio de acceso público a Internet mediante zonas WiFi o; 5) ejecución de contratos que abarquen una red compuesta de accesos conectados a Internet a través de tecnología satelital. * Entre la infraestructura de telecomunicaciones no se entenderán incluidos los circuitos cerrados de televisión. Para efectos del presente proceso de selección se entenderá por Infraestructura de Telecomunicaciones: “Los Soportes físicos y lógicos que permiten el transporte de los servicios de telecomunicaciones entre dos puntos de la red.” Definición Comisión Europea.ç | F4: Fecha de Inicio | G4: Tiempo de operación del contrato. Años | H4: Forma de ejecución | J4: Moneda del contrato Contrato. Si la moneda del contrato es diferente al dólar https://www1.oanda.com/lang/es/currency/converter/. | K4: valor en dolares | L4: Valor del Contrato COP | M4: Valor ejecutado por el Contratista. La fecha de corte para calcular el monto ejecutado deberá constar en la certificación y tendrá que ser anterior o coincidir con la fecha de expedición de dicha certificación. | N4: SMMLV | O4: Valor del Contrato en SMMLV | P4: CERTIFICACION | V4: CONTRATO VÁLIDO PARA HABILITAR | W4: OBSERVACIONES
H5: I, C, UT | I5: % | P5: Objeto del Contrato. | Q5: Actividades y /o obligaciones | R5: Identificación y cargo de la persona facultada para expedirla. La certificación debe venir suscrita por la persona que ejerza la representación legal del emisor, o por aquel que tenga las facultades para expedirla. Así mismo, debe venir acompañada de los datos de contacto de quien certifica (teléfono, correo electrónico y dirección) o en su defecto, el proponente podrá informar los datos de contacto en documento anexo a la propuesta. | S5: Si la certificación incluye varios contratos, se debe identificar en forma precisa si se trata de adiciones, prórrogas u otrosíes al principal o son contratos diferentes, indicando en cada uno de ellos sus plazos (fecha de suscripción y/o de inicio del contrato y, tiempo de operación del contrato) y valor. Si la certificación incluye el Contrato principal con sus adiciones, prórrogas u otrosíes, se entenderá como un solo Contrato certificado. | T5: Fecha de suscripción o de iniciación del Contrato. | U5: Indicar expresamente que los tres (3) años de operación a cargo del contratista, de acuerdo con el concepto del contratante, ha sido satisfactoria en cuanto al cumplimiento de los indicadores de calidad y niveles de servicio.
A6: 1 | B6: Energía Integral Andina S.A. | C6: Nacional | D6: UNE EPM TELECOMUNICACIONES S.A. | E6: Operaciones de campo en las premisas del cliente para los procesos de aprovisionamiento, aseguramiento y desaprovisionamiento de productos y/o servicios de las tecnologías de la información y la comunicación (TIC) ofrecidos por cada una de las compañías, así como el suministro de elementos y servicios asociados necesarios para tales efectos. | F6: 42416 | G6: 4.5424658 | H6: I | I6: 1 | J6: N/A | K6: N/A | L6: No indica | M6: 323160898894 | N6: =+'Hoja 1 variables'!E$16 -> 877802 | O6: =+M6/N6 -> 368147.83 | P6: 1 | Q6: 1 | R6: 1 | S6: 1 | T6: 1 | U6: 0 | V6: 0 | W6: La certificación relaciona varias actividades las cuales se realizan en un periodo de tiempo pero no se evidencian las actividades de operación y el tiempo de esas actividades. El pliego establece que El proponente podrá acreditar la experiencia antes mencionada con contratos de operación de infraestructura de telecomunicaciones o con contratos de instalación y operación de infraestructura de telecomunicaciones o con contratos que abarquen una red compuesta de accesos conectados a Internet a través de tecnología satelital (incluidas sus respectivas prórrogas y adiciones), que se encuentren en ejecución a la fecha de cierre de la presente licitación pública. Para tales efectos, deberán acreditar que dichos contratos llevan en operación satisfactoria al menos tres (3) años. Se entiende por operación satisfactoria la certificación que de cuenta del cumplimiento, de acuerdo con el concepto del contratante, de los Indicadores de Calidad y Niveles de Servicio.
A7: 1 | B7: Energía Integral Andina S.A. | C7: Nacional | D7: UNE EPM TELECOMUNICACIONES S.A. | E7: Operaciones de campo en las premisas del cliente para los procesos de aprovisionamiento, aseguramiento y desaprovisionamiento de productos y/o servicios de las tecnologías de la información y la comunicación (TIC) ofrecidos por cada una de las compañías, así como el suministro de elementos y servicios asociados necesarios para tales efectos. | F7: 42464 | G7: 4.4109589 | H7: I | I7: 1 | J7: N/A | K7: N/A | L7: No indica | M7: 67473084970 | N7: =+'Hoja 1 variables'!E$16 -> 877802 | O7: =+M7/N7 -> 76865.95 | P7: 1 | Q7: 1 | R7: 1 | S7: 1 | T7: 1 | U7: 0 | V7: 0 | W7: La certificación relaciona varias actividades las cuales se realizan en un periodo de tiempo pero no se evidencian las actividades de operación y el tiempo de esas actividades. El pliego establece que El proponente podrá acreditar la experiencia antes mencionada con contratos de operación de infraestructura de telecomunicaciones o con contratos de instalación y operación de infraestructura de telecomunicaciones o con contratos que abarquen una red compuesta de accesos conectados a Internet a través de tecnología satelital (incluidas sus respectivas prórrogas y adiciones), que se encuentren en ejecución a la fecha de cierre de la presente licitación pública. Para tales efectos, deberán acreditar que dichos contratos llevan en operación satisfactoria al menos tres (3) años. Se entiende por operación satisfactoria la certificación que de cuenta del cumplimiento, de acuerdo con el concepto del contratante, de los Indicadores de Calidad y Niveles de Servicio.
A8: 0 | N8: =+'Hoja 1 variables'!E$16 -> 877802 | O8: =+M8/N8 -> 0
A9: 0 | N9: =+'Hoja 1 variables'!E$16 -> 877802 | O9: =+M9/N9 -> 0
A10: 0 | N10: =+'Hoja 1 variables'!E$16 -> 877802 | O10: =+M10/N10 -> 0
A11: 0 | N11: =+'Hoja 1 variables'!E$16 -> 877802 | O11: =+M11/N11 -> 0
A12: 0 | N12: =+'Hoja 1 variables'!E$16 -> 877802 | O12: =+M12/N12 -> 0
A13: 0 | N13: =+'Hoja 1 variables'!E$16 -> 877802 | O13: =+M13/N13 -> 0
A14: 0 | N14: =+'Hoja 1 variables'!E$16 -> 877802 | O14: =+M14/N14 -> 0
N15: =+'Hoja 1 variables'!E$16 -> 877802 | O15: =+M15/N15 -> 0
O17: =+SUMPRODUCT($O$6:$O$15,$V$6:$V$15) -> 0
A18: =SUM(A6:A15) -> 2

Sheet Hoja 1 variables
B2: SI | C2: 1 | D2: Año | E2: SMMLV
B3: NO | C3: 0 | D3: 2008 | E3: 461500 | H3: Region | I3: Presupuesto | J3: En SMMLV | K3: 0.1
D4: 2009 | E4: 496900 | H4: REGION A | I4: 1065474968972 | J4: =+I4/E$16 -> 1213798.7 | K4: =+J4*K$3 -> 121379.87
B5: 100 | D5: 2010 | E5: 515000 | H5: REGION B | I5: 1072552301475 | J5: =+I5/E$16 -> 1221861.3 | K5: =+J5*K$3 -> 122186.13
B6: 0 | D6: 2011 | E6: 535600 | H6: • Presentar propuesta por un mismo proponente para ambas regiones (Región A y Región B), con la opción de ser adjudicatario sólo de una región, | I6: 1072552301475 | J6: =+I6/E$16 -> 1221861.3 | K6: =+J6*K$3 -> 122186.13 | M6: 2138117270447
D7: 2012 | E7: 566700 | H7: • Presentar propuesta por un mismo proponente para ambas regiones (Región A y Región B), con la opción excepcional de ser adjudicatario de las dos regiones, | I7: 2138117270447 | J7: =+I7/E$16 -> 2435762.6 | K7: =+J7*K$3 -> 243576.26
D8: 2013 | E8: 589500 | H8: • Presentarse en dos proponentes diferentes para ambas regiones (Región A y Región B), con la opción excepcional de ser adjudicatario de las dos regiones REGION A | I8: 1065474968972 | J8: =+I8/E$16 -> 1213798.7 | K8: =+J8*K$3 -> 121379.87
H9: • Presentarse en dos proponentes diferentes para ambas regiones (Región A y Región B), con la opción excepcional de ser adjudicatario de las dos regiones REGION B | I9: 1072552301475 | J9: =+I9/E$16 -> 1221861.3 | K9: =+J9*K$3 -> 122186.13
D10: 2014 | E10: 616000
D11: 2015 | E11: 644350 | H11: Región | I11: Puntaje | K11: Puntaje
D12: 2016 | E12: 689454 | H12: Antioquia | I12: 15 puntos: 93 accesos | K12: 15 puntos: 93 accesos
D13: 2017 | E13: 737717
D14: 2018 | E14: 781242 | I14: 30 puntos: 154 accesos | K14: 30 puntos: 154 accesos
D15: 2019 | E15: 828116 | H15: Cundinamarca | I15: 15 puntos: 56 accesos | K15: 15 puntos: 56 accesos
D16: 2020 | E16: 877802
I17: 30 puntos: 93 accesos | K17: 30 puntos: 93 accesos
H18: Sur | I18: 15 puntos: 43 accesos | K18: 15 puntos: 43 accesos
I20: 30 puntos: 71 accesos | K20: 30 puntos: 71 accesos
H21: Eje cafetero | I21: 15 puntos: 36 accesos | K21: 15 puntos: 36 accesos
I23: 30 puntos: 61 accesos | K23: 30 puntos: 61 accesos
H24: Centro-occidente | I24: 15 puntos: 42 accesos | K24: 15 puntos: 42 accesos
I26: 30 puntos: 54 accesos | K26: 30 puntos: 54 accesos
H27: Pacífico | I27: 15 puntos: 31 accesos | K27: 15 puntos: 31 accesos
I29: 30 puntos: 52 accesos | K29: 30 puntos: 52 accesos
H30: Norte | I30: 15 puntos: 42 accesos | K30: 15 puntos: 42 accesos
I32: 30 puntos: 70 accesos | K32: 30 puntos: 70 accesos
H33: Centro-oriente | I33: 15 puntos: 31 accesos | K33: 15 puntos: 31 accesos
I35: 30 puntos: 52 accesos | K35: 30 puntos: 52 accesos
H36: Oriente | I36: 15 puntos: 27 accesos | K36: 15 puntos: 27 accesos
I38: 30 puntos: 45 accesos | K38: 30 puntos: 45 accesos
