Workbook
Name RESPUESTASINO: 'Hoja 1 variables'!$B$2:$B$3
Name unocero: '[1]Hoja 1 variables'!$C$2:$C$3

Sheet 1.Carta y exp habilitante
A1: PROPONENTE | B1: UNIÓN TEMPORAL CONECTANDO A COLOMBIA
A4: CARTA DE PRESENTACIÓN DE LA PROPUESTA
A6: MIEMBROS DEL PROPONENTE PLURAL: | B6: PORCENTAJE DE PARTICIPACIÓN | D6: ACREDITA LA EXPERIENCIA
A7: Hispasat S.A. Sucursal Colombia | B7: 0.33 | D7: SI
A8: Colombia Telecomunicaciones S.A.ESP | B8: 0.33 | D8: SI
A9: NEC de Colombia S.A. | B9: 0.34 | D9: SI
A11: 1. CONSIDERACIONES PARA LA ACREDITACIÓN DE LA EXPERIENCIA CON CONTRATOS EN EJECUCIÓN
A12: No. de contratos con los cuales se acredita la experiencia | C12: No. de contratos terminados | E12: No. máximo de contratos en ejecución | G12: Equivalencia entre contratos terminados y contratos en ejecución
A13: 5 | C13: =+'2. Exp habilitante EJECUTADA'!A17 -> 5 | E13: =+'3. Exp habilitante EN EJEC'!A18 -> 0 | G13: =IF(AND(C13>=E13,A13<=10),1,0) -> 1
A15: 2. EXPERIENCIA COMO REQUISITO HABILITANTE
A16: Valor acreditado en SMMLV por los contratos válidos de acuerdo a los requisitos habilitantes del numeral 5.3. del Pliego de Condiciones | I16: =+'2. Exp habilitante EJECUTADA'!Q16+'3. Exp habilitante EN EJEC'!O17 -> 555064.03
A19: Requisito mínimo habilitante en SMMLV | H19: Cumple con el requisito mínimo habilitante?
A20: REGION | D20: SMMLV POR REGION | H20: =+IF($I$16>=$D$21,1,0) -> 1
A21: • Presentar propuesta por un mismo proponente para ambas regiones (Región A y Región B), con la opción de ser adjudicatario sólo de una región, | D21: =VLOOKUP(A21,'Hoja 1 variables'!H4:K9,4,FALSE) -> 122186.13
A23: 3. REQUISITOS HABILITANTES
A24: CUMPLE CON LOS REQUISITOS HABILITANTES? | H24: =+IF(SUM(H20,G13)=2,1,0) -> 1

Sheet 2. Exp habilitante EJECUTADA
A1: PROPONENTE | C1: =+'1.Carta y exp habilitante'!B1:K1 -> 0
A4: # Contrato | B4: Miembro que reporta la Experiencia | C4: Contrato Nacional o extranjero | D4: Consecutivo RUP | E4: Clasificación UNSPSC 81161700 81112100 83111600 | F4: Entidad Contratante | G4: 1) instalación de infraestructura de telecomunicaciones* u; 2) operación de infraestructura de telecomunicaciones* o; 3) instalación y operación de infraestructura de telecomunicaciones* o; 4) prestación del servicio de acceso público a Internet mediante zonas WiFi o; 5) ejecución de contratos que abarquen una red compuesta de accesos conectados a Internet a través de tecnología satelital. * Entre la infraestructura de telecomunicaciones no se entenderán incluidos los circuitos cerrados de televisión. Para efectos del presente proceso de selección se entenderá por Infraestructura de Telecomunicaciones: “Los Soportes físicos y lógicos que permiten el transporte de los servicios de telecomunicaciones entre dos puntos de la red.” Definición Comisión Europea. | H4: Fecha de Inicio | I4: Fecha de terminación | J4: Forma de ejecución | L4: Moneda del contrato Contrato. Si la moneda del contrato es diferente al dólar https://www1.oanda.com/lang/es/currency/converter/. | M4: valor en dolares | N4: Valor del Contrato COP | O4: SMMLV del año de terminación del contrato | P4: Valor del Contrato en SMMLV | Q4: RUP | U4: CERTIFICACION | AA4: CONTRATO VÁLIDO PARA HABILITAR | AB4: OBSERVACIONES
J5: I, C, UT | K5: % | Q5: Valor del Contrato en SMMLV (RUP) con % de participación | R5: Nombre del contratista (RUP) | S5: Nombre del contratante (RUP) | T5: Porcentaje de participación en el valor ejecutado en caso de consorcios y uniones temporales (RUP) | U5: Objeto del Contrato. | V5: Actividades y /o obligaciones | W5: Identificación y cargo de la persona facultada para expedirla. | X5: Si la certificación incluye varios contratos, se debe identificar en forma precisa si se trata de adiciones, prórrogas u otrosíes al principal o son contratos diferentes, indicando en cada uno de ellos sus plazos y valor. | Y5: Fecha de suscripción o de iniciación del Contrato. | Z5: Fecha de terminación de los contratos ejecutados y terminados dentro de los diez (10) años anteriores a la fecha de cierre del presente proceso de selección
A6: 1 | B6: Colombia Telecomunicaciones S.A. ESP | C6: Nacional | D6: 4 | E6: 81161700 81112100 83111600 | F6: SERVICIO NACIONAL DE APRENDIZAJE SENA | G6: Prestar el servicio de comunicaciones, valor agregado y conexos en la Dirección General, Regionales, Centros de Formación Profesional y Aulas Móviles del Servicio Nacional de Aprendizaje SENA, mediante el diseño, implementación y operación de una red de comunicaciones de acuerdo a las necesidades de la Entidad, de conformidad con lo señalado en el Pliego de Condiciones de la Licitación Pública Internacional DG-001 de 2007, sus anexos, adendas y por todo lo contenido en todos los documentos de la oferta presentada por el proponente | H6: 39214 | I6: 41273 | J6: I | K6: 1 | L6: NA | M6: NA | N6: 279466427831 | O6: =+'Hoja 1 variables'!E7 -> 566700 | P6: =+N6/O6 -> 493147.04 | Q6: 493147.04 | R6: Colombia Telecomunicaciones S.A. ESP | S6: Servicio Nacional de Aprendizaje SENA | T6: 1 | U6: 1 | V6: 1 | W6: 1 | X6: 1 | Y6: 1 | Z6: 1 | AA6: 1
A7: 1 | B7: Colombia Telecomunicaciones S.A. ESP | C7: Nacional | D7: 13 | E7: 81161700 81112100 83111600 | F7: FISCALÍA GENERAL DE LA NACIÓN | G7: El CONTRATISTA se obliga suministrar el servicio de red corporativa de telecomunicaciones para la FISCALIA GENERAL DE LA NACIÓN, que preste los servicios de transmisión de datos, voz, fax y video en forma segura con los acuerdos de niveles de servicio descritos en forma segura con los acuerdos de niveles de servicio descritos en el anexo técnico correspondientes a la Fiscalia, de acuerdo a los requerimientos técnicos descritos en el pliego de condiciones de la licitación púbica No. FGN019 del 2010, así como lo consignado en los anexos: FINANCIEROS 4,5, 8, 9 y 10 TÉCNICOS: 1, 2, 3, 6 y 7, anexos que hacen parte integral de este contrato y que definen las condiciones de niveles de servicio, los valores globales ofertados por cada servicio y el valor total de cada servicio. | H7: 40542 | I7: 41858 | J7: I | K7: 1 | L7: NA | M7: NA | N7: 8.5582754e+10 | O7: =+'Hoja 1 variables'!E10 -> 616000 | P7: =+N7/O7 -> 138933.04 | Q7: 138933.04 | R7: Colombia Telecomunicaciones S.A. ESP | S7: Fiscalía General de la Nación | T7: 1 | U7: 0 | V7: 0 | W7: 1 | X7: 1 | Y7: 1 | Z7: 1 | AA7: 0 | AB7: No cumple con lo solicitado en el pliego de condiciones, en los requisitos habilitantes donde solicita: "....El objeto o las obligaciones de los contratos aportados deberá contener actividades de: 1) instalación de infraestructura de telecomunicaciones* u; 2) operación de infraestructura de telecomunicaciones* o; 3) instalación y operación de infraestructura de telecomunicaciones* o; 4) prestación del servicio de acceso público a Internet mediante zonas WiFi o; 5) ejecución de contratos que abarquen una red compuesta de accesos conectados a Internet a través de tecnología satelital. * Entre la infraestructura de telecomunicaciones no se entenderán incluidos los circuitos cerrados de televisión. No se fue posible validar las actividades u obligaciones del contrato. .."
A8: 1 | B8: Colombia Telecomunicaciones S.A. ESP | C8: Nacional | D8: 54 | E8: 81161700 81112100 83111600 | F8: FISCALÍA GENERAL DE LA NACIÓN | G8: Prestación de servicios de red corporativa de telecomunicaciones para todas las sedes y seccionales que conforman la Fiscalía General de lan Nación | H8: 42364 | I8: 43677 | J8: I | K8: 1 | L8: NA | M8: NA | N8: 126276731044 | O8: =+'Hoja 1 variables'!E15 -> 828116 | P8: =+N8/O8 -> 152486.77 | Q8: 152938.32 | R8: Colombia Telecomunicaciones S.A. ESP | S8: Fiscalía General de la Nación | T8: 1 | U8: 1 | V8: 0 | W8: 1 | X8: 1 | Y8: 1 | Z8: 1 | AA8: 0 | AB8: El valor reportato en el RUP en SMMLV corresponde al valor total del contrato, sin embargo, en la certificación se indica un valor de ejecución menor toda vez que se presentó liberación de recursos en el contrato. Adicionalmente en el Anexo 7 no coinciden los valores en pesos y SMMLV. Se solicita aclarar porque se presentan estás diferencias. No cumple con lo solicitado en el pliego de condiciones, en los requisitos habilitantes donde solicita: "....El objeto o las obligaciones de los contratos aportados deberá contener actividades de: 1) instalación de infraestructura de telecomunicaciones* u; 2) operación de infraestructura de telecomunicaciones* o; 3) instalación y operación de infraestructura de telecomunicaciones* o; 4) prestación del servicio de acceso público a Internet mediante zonas WiFi o; 5) ejecución de contratos que abarquen una red compuesta de accesos conectados a Internet a través de tecnología satelital. * Entre la infraestructura de telecomunicaciones no se entenderán incluidos los circuitos cerrados de televisión. No se fue posible validar las actividades u obligaciones del contrato. .."
A9: 1 | B9: Hispasat S.A. Sucursal Colombia | C9: Nacional | D9: 6 | E9: 81161700 81112100 83111600 | F9: FONDO DE TECNOLOGÍAS DE LA INFORMACIÓN Y LAS COMUNICACIONES | G9: Mediante el presente contrato, el CONTRATISTA se obliga para con el FONDO TIC a implementar el proyecto de Kioscos Vive Digital, mediante el desarrollo de actividades que garanticen el acceso a telefonía e internet, a comunidades en zonas rurales y/o apartadas de los departamentos de Amazonas, Boyacá, Caldas, Cundinamarca, Guainía, Quindío, Risaralda y Vaupés de acuerdo con la propuesta presentada. | H9: 41638 | I9: 43708 | J9: UT | K9: 0.4 | L9: NA | M9: NA | N9: =128186130960.43*K9 -> 5.1274452e+10 | O9: =+'Hoja 1 variables'!E15 -> 828116 | P9: =+N9/O9 -> 61916.993 | Q9: =154792.48*K9 -> 61916.992 | R9: Hispasat S.A. Sucursal Colombia | S9: FONDO DE TECNOLOGÍAS DE LA INFORMACIÓN Y LAS COMUNICACIONES | T9: 0.4 | U9: 1 | V9: 1 | W9: 1 | X9: 1 | Y9: 1 | Z9: 1 | AA9: 1
A10: 1 | B10: NEC de Colombia S.A. | C10: Nacional | D10: 81 | E10: 81161700 83111600 | F10: FONDO FINANCIERO DE PROYECTOS DE DESARROLLO - FONADE | G10: EL CONTRATISTA se obliga con FONADE a realizar la dotación, instalación y puesta en funcionamiento de la infraestructura técnica de los puntos vive digital fase 2 en el marco del plan vive digital del Ministerio de las Tecnologías de la Información y las Comunicaciones Región 1, de acuerdo con la descripción, especificaciones y demás condiciones establecidas en las Reglas de Participación del Proceso OPC 086-2014, adendas No.1, 2, 3, 4 y 5 los documentos e información técnica suministrada por FONADE y la oferta presentada por EL CONTRATISTA, todo lo cual hace parte integral del contrato. | H10: 41879 | I10: 42520 | J10: I | K10: 1 | L10: NA | M10: NA | N10: 18876400716 | O10: =+'Hoja 1 variables'!E12 -> 689454 | P10: =+N10/O10 -> 27378.767 | Q10: 29145.5 | R10: NEC de Colombia S.A. | S10: FONDO FINANCIERO DE PROYECTOS DE DESARROLLO - FONADE | T10: 1 | U10: 1 | V10: 1 | W10: 1 | X10: 1 | Y10: 1 | Z10: 1 | AA10: 0 | AB10: El valor reportato en el RUP en SMMLV corresponde al valor total del contrato, sin embargo, en la certificación se indica un valor de ejecución menor toda vez que se presentó liberación de recursos en el contrato. Adicionalmente en el Anexo 7 se incluye el valor total del contrato. Se solicita aclarar porque se presentan estás diferencias.
A11: 0
A12: 0
A14: 0
Q16: =+SUMPRODUCT($Q$6:$Q$15,$AA$6:$AA$15) -> 555064.03
A17: =SUM(A6:A15) -> 5

Sheet 3. Exp habilitante EN EJEC
A1: PROPONENTE | C1: =+'1.Carta y exp habilitante'!B1:K1 -> 0
A4: # Contrato | B4: Miembro que reporta la Experiencia | C4: Contrato Nacional o extranjero | D4: Entidad Contratante | E4: 1) instalación de infraestructura de telecomunicaciones* u; 2) operación de infraestructura de telecomunicaciones* o; 3) instalación y operación de infraestructura de telecomunicaciones* o; 4) prestación del servicio de acceso público a Internet mediante zonas WiFi o; 5) ejecución de contratos que abarquen una red compuesta de accesos conectados a Internet a través de tecnología satelital. * Entre la infraestructura de telecomunicaciones no se entenderán incluidos los circuitos cerrados de televisión. Para efectos del presente proceso de selección se entenderá por Infraestructura de Telecomunicaciones: “Los Soportes físicos y lógicos que permiten el transporte de los servicios de telecomunicaciones entre dos puntos de la red.” Definición Comisión Europea.ç | F4: Fecha de Inicio | G4: Tiempo de operación del contrato. | H4: Forma de ejecución | J4: Moneda del contrato Contrato. Si la moneda del contrato es diferente al dólar https://www1.oanda.com/lang/es/currency/converter/. | K4: valor en dolares | L4: Valor del Contrato COP | M4: Valor ejecutado por el Contratista. La fecha de corte para calcular el monto ejecutado deberá constar en la certificación y tendrá que ser anterior o coincidir con la fecha de expedición de dicha certificación. | N4: SMMLV | O4: Valor del Contrato en SMMLV | P4: CERTIFICACION | V4: CONTRATO VÁLIDO PARA HABILITAR | W4: OBSERVACIONES
H5: I, C, UT | I5: % | P5: Objeto del Contrato. | Q5: Actividades y /o obligaciones | R5: Identificación y cargo de la persona facultada para expedirla. La certificación debe venir suscrita por la persona que ejerza la representación legal del emisor, o por aquel que tenga las facultades para expedirla. Así mismo, debe venir acompañada de los datos de contacto de quien certifica (teléfono, correo electrónico y dirección) o en su defecto, el proponente podrá informar los datos de contacto en documento anexo a la propuesta. | S5: Si la certificación incluye varios contratos, se debe identificar en forma precisa si se trata de adiciones, prórrogas u otrosíes al principal o son contratos diferentes, indicando en cada uno de ellos sus plazos (fecha de suscripción y/o de inicio del contrato y, tiempo de operación del contrato) y valor. Si la certificación incluye el Contrato principal con sus adiciones, prórrogas u otrosíes, se entenderá como un solo Contrato certificado. | T5: Fecha de suscripción o de iniciación del Contrato. | U5: Indicar expresamente que los tres (3) años de operación a cargo del contratista, de acuerdo con el concepto del contratante, ha sido satisfactoria en cuanto al cumplimiento de los indicadores de calidad y niveles de servicio.
A6: 0 | N6: =+'Hoja 1 variables'!E$16 -> 877802 | O6: =+M6/N6 -> 0 | V6: 1
A7: 0 | N7: =+'Hoja 1 variables'!E$16 -> 877802 | O7: =+M7/N7 -> 0
A8: 0 | N8: =+'Hoja 1 variables'!E$16 -> 877802 | O8: =+M8/N8 -> 0
A9: 0 | N9: =+'Hoja 1 variables'!E$16 -> 877802 | O9: =+M9/N9 -> 0
A10: 0 | N10: =+'Hoja 1 variables'!E$16 -> 877802 | O10: =+M10/N10 -> 0
A11: 0 | N11: =+'Hoja 1 variables'!E$16 -> 877802 | O11: =+M11/N11 -> 0
A12: 0 | N12: =+'Hoja 1 variables'!E$16 -> 877802 | O12: =+M12/N12 -> 0
A13: 0 | N13: =+'Hoja 1 variables'!E$16 -> 877802 | O13: =+M13/N13 -> 0
A14: 0 | N14: =+'Hoja 1 variables'!E$16 -> 877802 | O14: =+M14/N14 -> 0
N15: =+'Hoja 1 variables'!E$16 -> 877802 | O15: =+M15/N15 -> 0
O17: =+SUMPRODUCT($O$6:$O$15,$V$6:$V$15) -> 0
A18: =SUM(A6:A15) -> 0

Sheet Hoja 1 variables
B2: SI | C2: 1 | D2: Año | E2: SMMLV
B3: NO | C3: 0 | D3: 2008 | E3: 461500 | H3: Region | I3: Presupuesto | J3: En SMMLV | K3: 0.1
D4: 2009 | E4: 496900 | H4: REGION A | I4: 1065474968972 | J4: =+I4/E$16 -> 1213798.7 | K4: =+J4*K$3 -> 121379.87
B5: 100 | D5: 2010 | E5: 515000 | H5: REGION B | I5: 1072552301475 | J5: =+I5/E$16 -> 1221861.3 | K5: =+J5*K$3 -> 122186.13
B6: 0 | D6: 2011 | E6: 535600 | H6: • Presentar propuesta por un mismo proponente para ambas regiones (Región A y Región B), con la opción de ser adjudicatario sólo de una región, | I6: 1072552301475 | J6: =+I6/E$16 -> 1221861.3 | K6: =+J6*K$3 -> 122186.13 | M6: 2138117270447
D7: 2012 | E7: 566700 | H7: • Presentar propuesta por un mismo proponente para ambas regiones (Región A y Región B), con la opción excepcional de ser adjudicatario de las dos regiones, | I7: 2138117270447 | J7: =+I7/E$16 -> 2435762.6 | K7: =+J7*K$3 -> 243576.26
D8: 2013 | E8: 589500 | H8: • Presentarse en dos proponentes diferentes para ambas regiones (Región A y Región B), con la opción excepcional de ser adjudicatario de las dos regiones REGION A | I8: 1065474968972 | J8: =+I8/E$16 -> 1213798.7 | K8: =+J8*K$3 -> 121379.87
H9: • Presentarse en dos proponentes diferentes para ambas regiones (Región A y Región B), con la opción excepcional de ser adjudicatario de las dos regiones REGION B | I9: 1072552301475 | J9: =+I9/E$16 -> 1221861.3 | K9: =+J9*K$3 -> 122186.13
D10: 2014 | E10: 616000
D11: 2015 | E11: 644350 | H11: Región | I11: Puntaje | K11: Puntaje
D12: 2016 | E12: 689454 | H12: Antioquia | I12: 15 puntos: 93 accesos | K12: 15 puntos: 93 accesos
D13: 2017 | E13: 737717
D14: 2018 | E14: 781242 | I14: 30 puntos: 154 accesos | K14: 30 puntos: 154 accesos
D15: 2019 | E15: 828116 | H15: Cundinamarca | I15: 15 puntos: 56 accesos | K15: 15 puntos: 56 accesos
D16: 2020 | E16: 877802
I17: 30 puntos: 93 accesos | K17: 30 puntos: 93 accesos
H18: Sur | I18: 15 puntos: 43 accesos | K18: 15 puntos: 43 accesos
I20: 30 puntos: 71 accesos | K20: 30 puntos: 71 accesos
H21: Eje cafetero | I21: 15 puntos: 36 accesos | K21: 15 puntos: 36 accesos
I23: 30 puntos: 61 accesos | K23: 30 puntos: 61 accesos
H24: Centro-occidente | I24: 15 puntos: 42 accesos | K24: 15 puntos: 42 accesos
I26: 30 puntos: 54 accesos | K26: 30 puntos: 54 accesos
H27: Pacífico | I27: 15 puntos: 31 accesos | K27: 15 puntos: 31 accesos
I29: 30 puntos: 52 accesos | K29: 30 puntos: 52 accesos
H30: Norte | I30: 15 puntos: 42 accesos | K30: 15 puntos: 42 accesos
I32: 30 puntos: 70 accesos | K32: 30 puntos: 70 accesos
H33: Centro-oriente | I33: 15 puntos: 31 accesos | K33: 15 puntos: 31 accesos
I35: 30 puntos: 52 accesos | K35: 30 puntos: 52 accesos
H36: Oriente | I36: 15 puntos: 27 accesos | K36: 15 puntos: 27 accesos
I38: 30 puntos: 45 accesos | K38: 30 puntos: 45 accesos
