Workbook
Name RESPUESTASINO: 'Hoja 1 variables'!$B$2:$B$3
Name unocero: '[1]Hoja 1 variables'!$C$2:$C$3

Sheet 1.Carta y exp habilitante
A1: PROPONENTE | B1: COMUNICACIÓN CELULAR S.A., COMCEL S.A
A4: CARTA DE PRESENTACIÓN DE LA PROPUESTA
A5: De conformidad con lo establecido en el numeral 5.1.3 - ACREDITACIÓN DE LA EXISTENCIA Y REPRESENTACIÓN LEGAL DEL PROPONENTE del PLiego de Condiciones en el ue se establació lo siguinete: "Las propuestas presentadas por personas naturales de origen extranjero que se encuentren dentro del país deberán estar acompañadas de la autorización correspondiente, expedida de conformidad con las normas de control migratorio vigentes. Cuando se trate de personas naturales extranjeras sin residencia en Colombia, sin importar el título a través del cual participen, deberán acreditar que cuentan con un apoderado debidamente constituido, con domicilio en Colombia y ampliamente facultado para la presentación de la propuesta, participar y comprometer a su representado en las diferentes instancias del proceso de selección, suscribir los documentos y declaraciones que se requieran, así como el contrato, suministrar la información que le sea solicitada, representarlo judicial y extrajudicialmente y adelantar los demás actos necesarios de acuerdo con el pliego de condiciones". La Carta de presentación de la propuesta esta suscrita por FERNANDO GONZALEZ APANGO adjuntando cedula de Extrangería temporal No 306817 en la cual se indica que la vigencia corresponde al 13 de octubre de 2016 hasta el 13 de octubre de 2019. De acuerdo con lo anterior se solicita aclarar la vigencia de permanencia en Colombia de la persona que suscribe la carta de presentación de la propuesta.
A6: MIEMBROS DEL PROPONENTE PLURAL: | B6: PORCENTAJE DE PARTICIPACIÓN | D6: ACREDITA LA EXPERIENCIA
A7: NA
A8: NA
A9: NA
A11: 1. CONSIDERACIONES PARA LA ACREDITACIÓN DE LA EXPERIENCIA CON CONTRATOS EN EJECUCIÓN
A12: No. de contratos con los cuales se acredita la experiencia | C12: No. de contratos terminados | E12: No. máximo de contratos en ejecución | G12: Equivalencia entre contratos terminados y contratos en ejecución
A13: =+'2. Exp habilitante EJECUTADA'!A17+'3. Exp habilitante EN EJEC'!A18 -> 6 | C13: =+'2. Exp habilitante EJECUTADA'!A17 -> 6 | E13: =+'3. Exp habilitante EN EJEC'!A18 -> 0 | G13: =IF(AND(C13>=E13,A13<=10),1,0) -> 1
A15: 2. EXPERIENCIA COMO REQUISITO HABILITANTE
A16: Valor acreditado en SMMLV por los contratos válidos de acuerdo a los requisitos habilitantes del numeral 5.3. del Pliego de Condiciones | I16: =+'2. Exp habilitante EJECUTADA'!Q16+'3. Exp habilitante EN EJEC'!O17 -> 0
A19: Requisito mínimo habilitante en SMMLV | H19: Cumple con el requisito mínimo habilitante?
A20: REGION | D20: SMMLV POR REGION | H20: =+IF($I$16>=$D$21,1,0) -> 0
A21: • Presentar propuesta por un mismo proponente para ambas regiones (Región A y Región B), con la opción excepcional de ser adjudicatario de las dos regiones, | D21: =VLOOKUP(A21,'Hoja 1 variables'!H4:K9,4,FALSE) -> 243576.26
A23: 3. REQUISITOS HABILITANTES
A24: CUMPLE CON LOS REQUISITOS HABILITANTES? | H24: =+IF(SUM(H20,G13)=2,1,0) -> 0

Sheet 2. Exp habilitante EJECUTADA
A1: PROPONENTE | C1: =+'1.Carta y exp habilitante'!B1:K1 -> 0
A4: # Contrato | B4: Miembro que reporta la Experiencia | C4: Contrato Nacional o extranjero | D4: Consecutivo RUP | E4: Clasificación UNSPSC 81161700 81112100 83111600 | F4: Entidad Contratante | G4: 1) instalación de infraestructura de telecomunicaciones* u; 2) operación de infraestructura de telecomunicaciones* o; 3) instalación y operación de infraestructura de telecomunicaciones* o; 4) prestación del servicio de acceso público a Internet mediante zonas WiFi o; 5) ejecución de contratos que abarquen una red compuesta de accesos conectados a Internet a través de tecnología satelital. * Entre la infraestructura de telecomunicaciones no se entenderán incluidos los circuitos cerrados de televisión. Para efectos del presente proceso de selección se entenderá por Infraestructura de Telecomunicaciones: “Los Soportes físicos y lógicos que permiten el transporte de los servicios de telecomunicaciones entre dos puntos de la red.” Definición Comisión Europea. | H4: Fecha de Inicio | I4: Fecha de terminación | J4: Forma de ejecución | L4: Moneda del contrato Contrato. Si la moneda del contrato es diferente al dólar https://www1.oanda.com/lang/es/currency/converter/. | M4: valor en dolares | N4: Valor del Contrato COP | O4: SMMLV del año de terminación del contrato | P4: Valor del Contrato en SMMLV | Q4: RUP | U4: CERTIFICACION | AA4: CONTRATO VÁLIDO PARA HABILITAR | AB4: OBSERVACIONES | AC4: REGIÓN
J5: I, C, UT | K5: % | Q5: Valor del Contrato en SMMLV (RUP) con % de participación | R5: Nombre del contratista (RUP) | S5: Nombre del contratante (RUP) | T5: Porcentaje de participación en el valor ejecutado en caso de consorcios y uniones temporales (RUP) | U5: Objeto del Contrato. | V5: Actividades y /o obligaciones | W5: Identificación y cargo de la persona facultada para expedirla. | X5: Si la certificación incluye varios contratos, se debe identificar en forma precisa si se trata de adiciones, prórrogas u otrosíes al principal o son contratos diferentes, indicando en cada uno de ellos sus plazos y valor. | Y5: Fecha de suscripción o de iniciación del Contrato. | Z5: Fecha de terminación de los contratos ejecutados y terminados dentro de los diez (10) años anteriores a la fecha de cierre del presente proceso de selección
A6: 1 | B6: COMUNICACIÓN CELULAR SA., COMCEL S.A | C6: NACIONAL | D6: 2 | E6: 81161700 83111600 | F6: SENA | G6: Instalación y operación de infraestructura de telecomunicaciones, para garantizar el acceso a Internet e intercambio de información entre las sedes de la entidad. - Servicios de red compuestos de accesos conectados a Internet a través de tecnología satelital para el servicio de Internet Libre y Aulas Móviles. | H6: 40919 | I6: 42369 | J6: UT | K6: 0.5495 | L6: COP | M6: NA | N6: =444150015193.99 -> 4.4415002e+11 | O6: 644350 | P6: =N6/O6 -> 689299.32 | Q6: =689299.32*T6/2 -> 189384.99 | R6: COMUNICACIÓN CELULAR S.A., COMCEL S.A. | S6: SENA | T6: 0.5495 | U6: 1 | V6: 1 | W6: 0 | X6: 0 | Y6: 1 | Z6: 1 | AA6: 0 | AB6: De acuerdo con lo establecido en el numeral xx en el que se indicó: "El oferente deberá presentar los contratos para acreditar la experiencia, listándolos en el ANEXO No. 7 en el orden que considere deben ser evaluados, de acuerdo con la Alternativa de presentación de oferta que escoja." En el Anexo No 7, "Acreditación de experiencia contratos terminados y contrattos en ejecución Región A" en su numeral 1 se indica que la entidad contratante es la UNIÓN TEMPORAL ASSENDA S.A.S. CARVAJAL TECNOLOGÍA Y SERVICIOS S.A.S., TELMEX COLOMBIA S.A. Y COMCEL S.A. y verificando en el RUP y la certificación adjunta, la entidad contratante es el SENA 2. En la certificación adjunta en la página 8 se refencia como contacto del representante legal de la entidad contratante, al señor Hernan Guiovanni Rios Linares sin embargo firma en calidad de Jefe Oficina de de sistemas 3. La experiencia es presentada para la región A y B, el valor del contrato de acuerdo con la certificación corresponde al valor de $ 444.150.015.193,99; el porcentaje de participción de Comcel S.A en la Union Temporal es de 54.95% lo cual establece un valor para el proponente de $244.060.433.349,10. El valor refenciado en el Anexo 7 presentado en la propuesta para la región A indica un valor de $ 122.060.196.801 y para la región B el valor de $ 122.060.196.801, lo cual supera el valor que corresponde acuerdo con su participación en el contrato De acuerdo con lo anterior se solicita aclaración sobre los numerales indicados anteriormente. | AC6: A
A7: 1 | B7: COMUNICACIÓN CELULAR SA., COMCEL S.A | C7: NACIONAL | D7: 62 | E7: 83111600 81112100 | F7: SENA | G7: Prestar los servicios de conectividad WAN e Internet para la operación y funcionamiento de la Dirección General, Regionales, Centros de Formación y demás lugares donde la Entidad cumpla las funciones y actividades de educación y formación a su cargo. Los servicios contratados dentro de la Orden de Compra incluyeron: - Enlaces de Conectividad Terrestre - Enlaces Dedicados entre Puntos - Enlaces de Conectividad Terrestre - Enlaces Dedicados a Internet - Enlaces de Conectividad Satelital - Enlaces a Internet Satelital VSAT - Enlaces de Conectividad Satelital - Enlaces de datos Satelital VSAT - Enlaces de Conectividad Satelital - Enlaces Punto a Punto Satelital SCPC - Enlaces de Conectividad Satelital - Enlaces Internet o Datos Satelital SCPC - Gestión de Tráfico - Administrador Ancho de Banda - Gestionado por el Proveedor - Gestión de Seguridad - Appliance ANTI - DDos - Media Capacidad - Servicios Complementarios - Monitoreo Detallado - Servicios Complementarios - Ingeniero Residente Los servicios fueron prestados para las sedes del SENA a nivel nacional en las diferentes Regiones y bajo los Niveles de Servicio y Disponibilidad establecidos para el Acuerdo Marco de Precios (bronce, plata y oro), según necesidades particulares de cada sede de la entidad. | H7: 43460 | I7: 43747 | J7: I | K7: 1 | L7: COP | M7: NA | N7: 8.0558517e+09 | O7: 828116 | P7: =N7/O7 -> 9727.9266 | Q7: 9727.92 | R7: COMUNICACIÓN CELULAR S.A., COMCEL S.A. | S7: SENA | T7: 1 | U7: 1 | V7: 1 | W7: 0 | X7: 1 | Y7: 1 | Z7: 1 | AA7: 0 | AB7: En la certificación adjunta en la página 8 se refencia como contacto del representante legal de la entidad contratante, al señor Hernan Guiovanni Rios Linares sin embargo firma en calidad de Jefe Oficina de de sistemas | AC7: A
A8: 1 | B8: COMUNICACIÓN CELULAR SA., COMCEL S.A | C8: NACIONAL | D8: 36 | E8: 81112100 81161700 | F8: CONSEJO SUPERIOR DE LA JUDICATURA | G8: “Servicios de Conectividad WAN e Internet para la Rama Judicial.”, por medio de la cual se prestaron los siguientes servicios:  Enlaces de conectividad terrestre dedicados a internet.  Enlaces de conectividad terrestre dedicados entre puntos.  Enlaces de conectividad satelital.  Internet móvil  Servicios complementarios. o Ingeniero Residente. Los servicios descritos contemplaron la instalación y operación de infraestructura de telecomunicaciones incluyendo una red compuesta de accesos conectados a internet a través de tecnología satelital, cuyo nivel de disponibilidad requerido en el AMP es >= 99.6%: | H8: 42733 | I8: 43245 | J8: I | K8: 1 | L8: COP | M8: NA | N8: 19078973655 | O8: 781242 | P8: =+N8/O8 -> 24421.336 | Q8: 24743.89 | R8: COMUNICACIÓN CELULAR S.A., COMCEL S.A. | S8: CONSEJO SUPERIOR DE LA JUDICATURA | T8: 1 | U8: 1 | V8: 1 | W8: 1 | X8: 0 | Y8: 1 | Z8: 1 | AA8: 0 | AB8: Se solicita aclaración del porque el Valor de SMMLV del RUP difiere del valor de la certificación. | AC8: A
A9: 1 | B9: COMUNICACIÓN CELULAR SA., COMCEL S.A | C9: NACIONAL | D9: 58 | E9: 83111600 81112100 | F9: SENA | G9: Prestación de servicios de Conectividad (WAN e Internet) requeridos para la operación y funcionamiento de la Dirección General, Regionales, Centros de Formación Profesional, Tecnoparques, Tecnoacademias, Oficinas del Servicio Nacional de Empleo y Aulas Móviles e Itinerantes del SENA y lugares en los que el SENA cumpla las funciones a su cargo y desarrolle las actividades de educación y de formación que constituyen su objeto bajo el amparo del Acuerdo Marco de Precios CCE-427-1-AMP-2016. Entre otras, las actividades del contrato comprendieron: 1) Instalación y operación de infraestructura de telecomunicaciones, para garantizar el acceso a Internet e intercambio de información entre las sedes de la entidad. 3) Servicios de red compuestos de accesos conectados a Internet a través de tecnología satelital para el servicio de Internet Libre y Aulas Móviles. | H9: 42996 | I9: 43459 | J9: I | K9: 1 | L9: COP | M9: NA | N9: 8.6290741e+09 | O9: 781242 | P9: =+N9/O9 -> 11045.328 | Q9: 11045.32 | R9: COMUNICACIÓN CELULAR S.A., COMCEL S.A. | S9: SENA | T9: 1 | U9: 1 | V9: 1 | W9: 0 | X9: 1 | Y9: 1 | Z9: 1 | AA9: 0 | AB9: En la certificación adjunta en la página 8 se refencia como contacto del representante legal de la entidad contratante, al señor Hernan Guiovanni Rios Linares sin embargo firma en calidad de Jefe Oficina de de sistemas | AC9: A
A10: 1 | B10: COMUNICACIÓN CELULAR SA., COMCEL S.A | C10: NACIONAL | D10: 2 | E10: 81161700 83111600 | F10: SENA | G10: Instalación y operación de infraestructura de telecomunicaciones, para garantizar el acceso a Internet e intercambio de información entre las sedes de la entidad. - Servicios de red compuestos de accesos conectados a Internet a través de tecnología satelital para el servicio de Internet Libre y Aulas Móviles. | H10: 40919 | I10: 42369 | J10: UT | K10: 0.5495 | L10: COP | M10: NA | N10: 4.4415002e+11 | O10: 644350 | P10: =N10/O10 -> 689299.32 | Q10: =689299.32*T10/2 -> 189384.99 | R10: COMUNICACIÓN CELULAR S.A., COMCEL S.A. | S10: SENA | T10: 0.5495 | U10: 1 | V10: 1 | W10: 0 | X10: 0 | Y10: 1 | Z10: 1 | AA10: 0 | AB10: De acuerdo con lo establecido en el numeral xx en el que se indicó: "El oferente deberá presentar los contratos para acreditar la experiencia, listándolos en el ANEXO No. 7 en el orden que considere deben ser evaluados, de acuerdo con la Alternativa de presentación de oferta que escoja." En el Anexo No 7, "Acreditación de experiencia contratos terminados y contrattos en ejecución Región A" en su numeral 1 se indica que la entidad contratante es la UNIÓN TEMPORAL ASSENDA S.A.S. CARVAJAL TECNOLOGÍA Y SERVICIOS S.A.S., TELMEX COLOMBIA S.A. Y COMCEL S.A. y verificando en el RUP y la certificación adjunta, la entidad contratante es el SENA 2. En la certificación adjunta en la página 8 se refencia como contacto del representante legal de la entidad contratante, al señor Hernan Guiovanni Rios Linares sin embargo firma en calidad de Jefe Oficina de de sistemas 3. La experiencia es presentada para la región A y B, el valor del contrato de acuerdo con la certificación corresponde al valor de $ 444.150.015.193,99; el porcentaje de participción de Comcel S.A en la Union Temporal es de 54.95% lo cual establece un valor para el proponente de $244.060.433.349,10. El valor refenciado en el Anexo 7 presentado en la propuesta para la región A indica un valor de $ 122.060.196.801 y para la región B el valor de $ 122.060.196.801, lo cual supera el valor que corresponde acuerdo con su participación en el contrato De acuerdo con lo anterior se solicita aclaración sobre los numerales indicados anteriormente. | AC10: B
A11: 1 | B11: COMUNICACIÓN CELULAR SA., COMCEL S.A | C11: NACIONAL | D11: 56 | E11: 81112100 83111600 | F11: SENA | G11: Servicios de conectividad para garantizar al SENA el acceso a Internet e intercambiar información entre sus sedes y cualquier otro interesado y prestar servicios en línea al ciudadano. Entre otras, las actividades del contrato comprendieron: 1) Instalación y operación de infraestructura de telecomunicaciones, para garantizar el acceso a Internet e intercambio de información entre las sedes de la entidad. 3) Servicios de red compuestos de accesos conectados a Internet a través de tecnología satelital para el servicio de Internet Libre y Aulas Móviles. | H11: 42248 | I11: 42979 | J11: I | K11: 1 | L11: COP | M11: NA | N11: 3.2618831e+10 | O11: 737717 | P11: =N11/O11 -> 44215.913 | Q11: 44215.91 | R11: COMUNICACIÓN CELULAR S.A., COMCEL S.A. | S11: SENA | T11: 1 | U11: 1 | V11: 1 | W11: 0 | X11: 1 | Y11: 1 | Z11: 1 | AA11: 0 | AB11: 2. En la certificación adjunta en la página 8 se refencia como contacto del representante legal de la entidad contratante, al señor Hernan Guiovanni Rios Linares sin embargo firma en calidad de Jefe Oficina de de sistemas. | AC11: B
Q16: =+SUMPRODUCT($Q$6:$Q$15,$AA$6:$AA$15) -> 0
A17: =SUM(A6:A16) -> 6

Sheet 3. Exp habilitante EN EJEC
A1: PROPONENTE | C1: =+'1.Carta y exp habilitante'!B1:K1 -> 0
A4: # Contrato | B4: Miembro que reporta la Experiencia | C4: Contrato Nacional o extranjero | D4: Entidad Contratante | E4: 1) instalación de infraestructura de telecomunicaciones* u; 2) operación de infraestructura de telecomunicaciones* o; 3) instalación y operación de infraestructura de telecomunicaciones* o; 4) prestación del servicio de acceso público a Internet mediante zonas WiFi o; 5) ejecución de contratos que abarquen una red compuesta de accesos conectados a Internet a través de tecnología satelital. * Entre la infraestructura de telecomunicaciones no se entenderán incluidos los circuitos cerrados de televisión. Para efectos del presente proceso de selección se entenderá por Infraestructura de Telecomunicaciones: “Los Soportes físicos y lógicos que permiten el transporte de los servicios de telecomunicaciones entre dos puntos de la red.” Definición Comisión Europea.ç | F4: Fecha de Inicio | G4: Tiempo de operación del contrato. | H4: Forma de ejecución | J4: Moneda del contrato Contrato. Si la moneda del contrato es diferente al dólar https://www1.oanda.com/lang/es/currency/converter/. | K4: valor en dolares | L4: Valor del Contrato COP | M4: Valor ejecutado por el Contratista. La fecha de corte para calcular el monto ejecutado deberá constar en la certificación y tendrá que ser anterior o coincidir con la fecha de expedición de dicha certificación. | N4: SMMLV | O4: Valor del Contrato en SMMLV | P4: CERTIFICACION | V4: CONTRATO VÁLIDO PARA HABILITAR | W4: OBSERVACIONES
H5: I, C, UT | I5: % | P5: Objeto del Contrato. | Q5: Actividades y /o obligaciones | R5: Identificación y cargo de la persona facultada para expedirla. La certificación debe venir suscrita por la persona que ejerza la representación legal del emisor, o por aquel que tenga las facultades para expedirla. Así mismo, debe venir acompañada de los datos de contacto de quien certifica (teléfono, correo electrónico y dirección) o en su defecto, el proponente podrá informar los datos de contacto en documento anexo a la propuesta. | S5: Si la certificación incluye varios contratos, se debe identificar en forma precisa si se trata de adiciones, prórrogas u otrosíes al principal o son contratos diferentes, indicando en cada uno de ellos sus plazos (fecha de suscripción y/o de inicio del contrato y, tiempo de operación del contrato) y valor. Si la certificación incluye el Contrato principal con sus adiciones, prórrogas u otrosíes, se entenderá como un solo Contrato certificado. | T5: Fecha de suscripción o de iniciación del Contrato. | U5: Indicar expresamente que los tres (3) años de operación a cargo del contratista, de acuerdo con el concepto del contratante, ha sido satisfactoria en cuanto al cumplimiento de los indicadores de calidad y niveles de servicio.
A6: 0 | E6: NA | F6: NA | G6: NA | H6: NA | I6: NA | J6: NA | K6: NA | L6: NA | M6: NA | N6: NA | O6: NA | P6: NA | Q6: NA | R6: NA | S6: NA | T6: NA | U6: NA | V6: NA | W6: NA
A7: 0 | N7: =+'Hoja 1 variables'!E$16 -> 877802 | O7: =+M7/N7 -> 0
A8: 0 | N8: =+'Hoja 1 variables'!E$16 -> 877802 | O8: =+M8/N8 -> 0
A9: 0 | N9: =+'Hoja 1 variables'!E$16 -> 877802 | O9: =+M9/N9 -> 0
A10: 0 | N10: =+'Hoja 1 variables'!E$16 -> 877802 | O10: =+M10/N10 -> 0
A11: 0 | N11: =+'Hoja 1 variables'!E$16 -> 877802 | O11: =+M11/N11 -> 0
A12: 0 | N12: =+'Hoja 1 variables'!E$16 -> 877802 | O12: =+M12/N12 -> 0
A13: 0 | N13: =+'Hoja 1 variables'!E$16 -> 877802 | O13: =+M13/N13 -> 0
A14: 0 | N14: =+'Hoja 1 variables'!E$16 -> 877802 | O14: =+M14/N14 -> 0
A15: 0 | N15: =+'Hoja 1 variables'!E$16 -> 877802 | O15: =+M15/N15 -> 0
O17: =+SUMPRODUCT($O$6:$O$15,$V$6:$V$15) -> 0
A18: =SUM(A6:A15) -> 0

Sheet Hoja 1 variables
B2: SI | C2: 1 | D2: Año | E2: SMMLV
B3: NO | C3: 0 | D3: 2008 | E3: 461500 | H3: Region | I3: Presupuesto | J3: En SMMLV | K3: 0.1
D4: 2009 | E4: 496900 | H4: REGION A | I4: 1065474968972 | J4: =+I4/E$16 -> 1213798.7 | K4: =+J4*K$3 -> 121379.87
B5: 100 | D5: 2010 | E5: 515000 | H5: REGION B | I5: 1072552301475 | J5: =+I5/E$16 -> 1221861.3 | K5: =+J5*K$3 -> 122186.13
B6: 0 | D6: 2011 | E6: 535600 | H6: • Presentar propuesta por un mismo proponente para ambas regiones (Región A y Región B), con la opción de ser adjudicatario sólo de una región, | I6: 1072552301475 | J6: =+I6/E$16 -> 1221861.3 | K6: =+J6*K$3 -> 122186.13 | M6: 2138117270447
D7: 2012 | E7: 566700 | H7: • Presentar propuesta por un mismo proponente para ambas regiones (Región A y Región B), con la opción excepcional de ser adjudicatario de las dos regiones, | I7: 2138117270447 | J7: =+I7/E$16 -> 2435762.6 | K7: =+J7*K$3 -> 243576.26
D8: 2013 | E8: 589500 | H8: • Presentarse en dos proponentes diferentes para ambas regiones (Región A y Región B), con la opción excepcional de ser adjudicatario de las dos regiones REGION A | I8: 1065474968972 | J8: =+I8/E$16 -> 1213798.7 | K8: =+J8*K$3 -> 121379.87
H9: • Presentarse en dos proponentes diferentes para ambas regiones (Región A y Región B), con la opción excepcional de ser adjudicatario de las dos regiones REGION B | I9: 1072552301475 | J9: =+I9/E$16 -> 1221861.3 | K9: =+J9*K$3 -> 122186.13
D10: 2014 | E10: 616000
D11: 2015 | E11: 644350 | H11: Región | I11: Puntaje | K11: Puntaje
D12: 2016 | E12: 689454 | H12: Antioquia | I12: 15 puntos: 93 accesos | K12: 15 puntos: 93 accesos
D13: 2017 | E13: 737717
D14: 2018 | E14: 781242 | I14: 30 puntos: 154 accesos | K14: 30 puntos: 154 accesos
D15: 2019 | E15: 828116 | H15: Cundinamarca | I15: 15 puntos: 56 accesos | K15: 15 puntos: 56 accesos
D16: 2020 | E16: 877802
I17: 30 puntos: 93 accesos | K17: 30 puntos: 93 accesos
H18: Sur | I18: 15 puntos: 43 accesos | K18: 15 puntos: 43 accesos
I20: 30 puntos: 71 accesos | K20: 30 puntos: 71 accesos
H21: Eje cafetero | I21: 15 puntos: 36 accesos | K21: 15 puntos: 36 accesos
I23: 30 puntos: 61 accesos | K23: 30 puntos: 61 accesos
H24: Centro-occidente | I24: 15 puntos: 42 accesos | K24: 15 puntos: 42 accesos
I26: 30 puntos: 54 accesos | K26: 30 puntos: 54 accesos
H27: Pacífico | I27: 15 puntos: 31 accesos | K27: 15 puntos: 31 accesos
I29: 30 puntos: 52 accesos | K29: 30 puntos: 52 accesos
H30: Norte | I30: 15 puntos: 42 accesos | K30: 15 puntos: 42 accesos
I32: 30 puntos: 70 accesos | K32: 30 puntos: 70 accesos
H33: Centro-oriente | I33: 15 puntos: 31 accesos | K33: 15 puntos: 31 accesos
I35: 30 puntos: 52 accesos | K35: 30 puntos: 52 accesos
H36: Oriente | I36: 15 puntos: 27 accesos | K36: 15 puntos: 27 accesos
I38: 30 puntos: 45 accesos | K38: 30 puntos: 45 accesos
