Workbook
Name RESPUESTASINO: 'Hoja 1 variables'!$B$2:$B$3
Name unocero: '[1]Hoja 1 variables'!$C$2:$C$3

Sheet 1.Carta y exp habilitante
A1: PROPONENTE | B1: UT SES -INRED
A4: CARTA DE PRESENTACIÓN DE LA PROPUESTA
A6: MIEMBROS DEL PROPONENTE PLURAL: | B6: PORCENTAJE DE PARTICIPACIÓN | D6: ACREDITA LA EXPERIENCIA
A7: SES TELECOMUNICACIONES DE COLOMBIA S.A.S | B7: 58.5% | D7: SI
A8: RED DE INGENIERÍA S.A.S. - INRED S.A.S. | B8: 41.5% | D8: SI
A11: 1. CONSIDERACIONES PARA LA ACREDITACIÓN DE LA EXPERIENCIA CON CONTRATOS EN EJECUCIÓN
A12: No. de contratos con los cuales se acredita la experiencia | C12: No. de contratos terminados | E12: No. máximo de contratos en ejecución | G12: Equivalencia entre contratos terminados y contratos en ejecución
A13: =+'2. Exp habilitante EJECUTADA'!A17+'3. Exp habilitante EN EJEC'!A18 -> 8 | C13: =+'2. Exp habilitante EJECUTADA'!A17 -> 8 | E13: =+'3. Exp habilitante EN EJEC'!A18 -> 0 | G13: =IF(AND(C13>=E13,A13<=10),1,0) -> 1
A15: 2. EXPERIENCIA COMO REQUISITO HABILITANTE
A16: Valor acreditado en SMMLV por los contratos válidos de acuerdo a los requisitos habilitantes del numeral 5.3. del Pliego de Condiciones | I16: =+'2. Exp habilitante EJECUTADA'!Q16+'3. Exp habilitante EN EJEC'!O17 -> 290516.8
A19: Requisito mínimo habilitante en SMMLV | H19: Cumple con el requisito mínimo habilitante?
A20: REGION | D20: SMMLV POR REGION | H20: =+IF($I$16>=$D$21,1,0) -> 1
A21: • Presentar propuesta por un mismo proponente para ambas regiones (Región A y Región B), con la opción de ser adjudicatario sólo de una región, | D21: =VLOOKUP(A21,'Hoja 1 variables'!H4:K9,4,FALSE) -> 122186.13
A23: 3. REQUISITOS HABILITANTES
A24: CUMPLE CON LOS REQUISITOS HABILITANTES? | H24: =+IF(SUM(H20,G13)=2,1,0) -> 1

Sheet 2. Exp habilitante EJECUTADA
A1: PROPONENTE | C1: ='1.Carta y exp habilitante'!B1 -> UT SES -INRED
A4: # Contrato | B4: Miembro que reporta la Experiencia | C4: Contrato Nacional o extranjero | D4: Consecutivo RUP | E4: Clasificación UNSPSC 81161700 81112100 83111600 | F4: Entidad Contratante | G4: 1) instalación de infraestructura de telecomunicaciones* u; 2) operación de infraestructura de telecomunicaciones* o; 3) instalación y operación de infraestructura de telecomunicaciones* o; 4) prestación del servicio de acceso público a Internet mediante zonas WiFi o; 5) ejecución de contratos que abarquen una red compuesta de accesos conectados a Internet a través de tecnología satelital. * Entre la infraestructura de telecomunicaciones no se entenderán incluidos los circuitos cerrados de televisión. Para efectos del presente proceso de selección se entenderá por Infraestructura de Telecomunicaciones: “Los Soportes físicos y lógicos que permiten el transporte de los servicios de telecomunicaciones entre dos puntos de la red.” Definición Comisión Europea. | H4: Fecha de Inicio | I4: Fecha de terminación | J4: Forma de ejecución | L4: Moneda del contrato Contrato. Si la moneda del contrato es diferente al dólar https://www1.oanda.com/lang/es/currency/converter/. | M4: valor en dolares | N4: Valor del Contrato COP | O4: SMMLV del año de terminación del contrato | P4: Valor del Contrato en SMMLV | Q4: RUP | U4: CERTIFICACION | AA4: CONTRATO VÁLIDO PARA HABILITAR | AB4: OBSERVACIONES
J5: I, C, UT | K5: % | Q5: Valor del Contrato en SMMLV (RUP) con % de participación | R5: Nombre del contratista (RUP) | S5: Nombre del contratante (RUP) | T5: Porcentaje de participación en el valor ejecutado en caso de consorcios y uniones temporales (RUP) | U5: Objeto del Contrato. | V5: Actividades y /o obligaciones | W5: Identificación y cargo de la persona facultada para expedirla. | X5: Si la certificación incluye varios contratos, se debe identificar en forma precisa si se trata de adiciones, prórrogas u otrosíes al principal o son contratos diferentes, indicando en cada uno de ellos sus plazos y valor. | Y5: Fecha de suscripción o de iniciación del Contrato. | Z5: Fecha de terminación de los contratos ejecutados y terminados dentro de los diez (10) años anteriores a la fecha de cierre del presente proceso de selección
A6: 1 | B6: INRED | C6: NACIONAL | D6: 34 | E6: 81112100 81161700 | F6: FONDO DE TECNOLOGIAS DE LA INFORMACION Y LAS COMUNICACIONES | G6: El contratista se obliga para con el FONDO TIC., a implementar la estrategia de Puntos Digitales Compartel, mediante el desarrollo de actividades que garanticen el acceso a telefonía e internet a comunidades en Zonas Rurales y/o apartadas de los Departamentos de Valle del Cauca, Antioquia, Bolívar, Boyacá, Magdalena, Córdoba, Norte De Santander y eje Cafetero de acuerdo con el Anexo 1 del presente contrato. | H6: 41271 | I6: 42405 | J6: UT | K6: 0.2 | L6: N/A | M6: N/A | N6: 66812399972 | O6: 689454 | P6: =+N6/O6 -> 96906.248 | Q6: =96906.1*T6 -> 19381.22 | R6: UNION TEMPORAL BT-INRED | S6: =F6 -> FONDO DE TECNOLOGIAS DE LA INFORMACION Y LAS COMUNICACIONES | T6: 0.2 | U6: 1 | V6: 1 | W6: 1 | X6: 1 | Y6: 1 | Z6: 1 | AA6: 1
A7: 1 | B7: INRED | C7: NACIONAL | D7: 39 | E7: 81112100 81161700 | F7: FONDO DE TECNOLOGIAS DE LA INFORMACION Y LAS COMUNICACIONES | G7: Mediante el presente contrato, el CONTRATISTA se obliga para con el FONDO TIC a implementar el Proyecto Kioscos Vive Digital Fase III en las zonas rurales y apartadas de Colombia en la Región 1, conformada por los departamentos de: i) Obligatorios: Antioquia, Caldas, Chocó, Quindío, Risaralda, Valle del Cauca; ii) Opcionales:Caquetá, Cundinamarca, Guaviare, Huila, Meta, Nariño y Putumayo; de acuerdo con la propuesta presentada y los documentos del proceso. | H7: 42368 | I7: 43861 | J7: UT | K7: 0.25 | L7: N/A | M7: N/A | N7: 91293676250 | O7: 877802 | P7: =+N7/O7 -> 104002.58 | Q7: =104002.46*T7 -> 26000.615 | R7: UNION TEMPORAL BT-INRED- k3 | S7: =F7 -> FONDO DE TECNOLOGIAS DE LA INFORMACION Y LAS COMUNICACIONES | T7: 0.25 | U7: 1 | V7: 1 | W7: 1 | X7: 1 | Y7: 1 | Z7: 1 | AA7: 1
A8: 1 | B8: INRED | C8: NACIONAL | D8: 30 | E8: 81112100 81161700 | F8: GILAT COLOMBIA S.A. ESP | G8: Contrato de prestación de servicios de mantenimiento correctivo y preventivo de la red de Kioscos Vive Digital Fase 2 y el mantenimiento correctivo de la red de telefonía que opera Gilat Colombia S.A. E.S.P. Los servicios se prestaron en los departamentos de Bolívar, Córdoba y Sucre para un total de 882 Kioscos y 20 sitios de telefonía. | H8: 42186 | I8: 42704 | J8: I | K8: 1 | L8: N/A | M8: N/A | N8: 3204070741 | O8: 689454 | P8: =+N8/O8 -> 4647.2582 | Q8: 4647.25 | R8: RED DE INGENIERIA SAS | S8: =F8 -> GILAT COLOMBIA S.A. ESP | T8: 1 | U8: 1 | V8: 1 | W8: 1 | X8: 1 | Y8: 1 | Z8: 1 | AA8: 1
A9: 1 | B9: SES TELECOMUNICACION DE COLOMBIA S.A.S. Por cuenta de su socio: NEW SKIES SATELLITES B.V. | C9: NACIONAL ( Esta en RUP) | D9: 2 | E9: 81161700 | F9: Gogo LLC | G9: Capacidad satelital. Red satelital conectando todos los puntos vía satélites para conectividad aeronáutica sobre el Atlántico | H9: 42614 | I9: 43585 | J9: I | K9: 1 | L9: N/A | M9: 22921929 | N9: =M9*3247.72 -> 7.4444007e+10 | O9: 828116 | P9: =+N9/O9 -> 89895.627 | Q9: 89895.62 | R9: NEW SKIES SATELLITES B.V. | S9: =F9 -> Gogo LLC | T9: 1 | U9: 1 | V9: 1 | W9: 1 | X9: 1 | Y9: 1 | Z9: 1 | AA9: 1
A10: 1 | B10: SES TELECOMUNICACION DE COLOMBIA S.A.S. Por cuenta de su socio: NEW SKIES SATELLITES B.V. | C10: NACIONAL ( Esta en RUP) | D10: 3 | E10: 81161700 | F10: Gogo LLC | G10: Capacidad satelital. Red satelital conectando todos los puntos vía satélites para conectividad aeronáutica sobre el Atlántico | H10: 42644 | I10: 43069 | J10: I | K10: 1 | L10: N/A | M10: 4991770 | N10: =M10*3006.09 -> 1.500571e+10 | O10: 737717 | P10: =+N10/O10 -> 20340.74 | Q10: 20340.74 | R10: NEW SKIES SATELLITES B.V. | S10: =F10 -> Gogo LLC | T10: 1 | U10: 1 | V10: 1 | W10: 1 | X10: 1 | Y10: 1 | Z10: 1 | AA10: 1
A11: 1 | B11: SES TELECOMUNICACION DE COLOMBIA S.A.S. Por cuenta de su socio: NEW SKIES SATELLITES B.V. | C11: NACIONAL ( Esta en RUP) | D11: 4 | E11: 81161700 | F11: OMNITRACS LLC | G11: Prestación de servicios de telecomunicación por red satelital. Prestación de servicios de telecomunicación por red satelital mediante AMC1, AMC9, SES2 y SES3 | H11: 41275 | I11: 43008 | J11: I | K11: 1 | L11: N/A | M11: 14503973 | N11: =M11*2936.67 -> 4.2593382e+10 | O11: 737717 | P11: =+N11/O11 -> 57736.751 | Q11: 57736.75 | R11: NEW SKIES SATELLITES B.V. | S11: =F11 -> OMNITRACS LLC | T11: 1 | U11: 1 | V11: 1 | W11: 1 | X11: 1 | Y11: 1 | Z11: 1 | AA11: 1
A12: 1 | B12: SES TELECOMUNICACION DE COLOMBIA S.A.S. Por cuenta de su socio: NEW SKIES SATELLITES B.V. | C12: NACIONAL ( Esta en RUP) | D12: 5 | E12: 81161700 | F12: EMPRESA ARGENTINA DE SOLUCIONES SATELITALES SOCIEDAD ANONIMA - ARSAT | G12: Prestación de servicios de telecomunicaciones por redes satelitales Prestación de servicios satelitales con AMC-6 | H12: 41487 | I12: 41851 | J12: I | K12: 1 | L12: N/A | M12: 13831690 | N12: =M12*1872.43 -> 2.5898871e+10 | O12: 616000 | P12: =+N12/O12 -> 42043.621 | Q12: 42043.62 | R12: NEW SKIES SATELLITES B.V. | S12: =F12 -> EMPRESA ARGENTINA DE SOLUCIONES SATELITALES SOCIEDAD ANONIMA - ARSAT | T12: 1 | U12: 1 | V12: 1 | W12: 1 | X12: 1 | Y12: 1 | Z12: 1 | AA12: 1
A13: 1 | B13: SES TELECOMUNICACION DE COLOMBIA S.A.S. Por cuenta de su socio: NEW SKIES SATELLITES B.V. | C13: NACIONAL ( Esta en RUP) | D13: 1 | E13: 81161700 | F13: EMPRESA ARGENTINA DE SOLUCIONES SATELITALES SOCIEDAD ANONIMA - ARSAT | G13: Prestación de servicios de telecomunicación por redes satelitales. NSS reubicó el Satélite Astra 1H a la posición nominal 80.8W y mantuvo su espectro orbital hasta enero 10 de 2019. Prestación de Nservicios satelitales con AMC-6 | H13: 43372 | I13: 43475 | J13: I | K13: 1 | L13: 7.000.000 EUR | M13: 8129770 | N13: =M13*3128.07 -> 2.543049e+10 | O13: 828116 | P13: =+N13/O13 -> 30708.85 | Q13: 30470.99 | R13: NEW SKIES SATELLITES B.V. | S13: =F13 -> EMPRESA ARGENTINA DE SOLUCIONES SATELITALES SOCIEDAD ANONIMA - ARSAT | T13: 1 | U13: 1 | V13: 1 | W13: 1 | X13: 1 | Y13: 1 | Z13: 1 | AA13: 1 | AB13: Contrato en Euros se tomo la TRM del 10/01/2019 de 3128,07 Cumple con la actividad 2) operación de infraestructura de telecomunicaciones de acuerdo con el pliego de condiciones. Se identifica una diferencia entre el valor del contrato reportado y el valor consigando en el RUP. Se toma el valor del RUP
A14: 0 | U14: 1 | V14: 1 | W14: 1 | X14: 1 | Y14: 1 | Z14: 1
A15: 0 | U15: 1 | V15: 1 | W15: 1 | X15: 1 | Y15: 1 | Z15: 1
Q16: =+SUMPRODUCT($Q$6:$Q$15,$AA$6:$AA$15) -> 290516.8
A17: =SUM(A6:A15) -> 8

Sheet 3. Exp habilitante EN EJEC
A1: PROPONENTE | C1: =+'1.Carta y exp habilitante'!B1:K1 -> 0
A4: # Contrato | B4: Miembro que reporta la Experiencia | C4: Contrato Nacional o extranjero | D4: Entidad Contratante | E4: 1) instalación de infraestructura de telecomunicaciones* u; 2) operación de infraestructura de telecomunicaciones* o; 3) instalación y operación de infraestructura de telecomunicaciones* o; 4) prestación del servicio de acceso público a Internet mediante zonas WiFi o; 5) ejecución de contratos que abarquen una red compuesta de accesos conectados a Internet a través de tecnología satelital. * Entre la infraestructura de telecomunicaciones no se entenderán incluidos los circuitos cerrados de televisión. Para efectos del presente proceso de selección se entenderá por Infraestructura de Telecomunicaciones: “Los Soportes físicos y lógicos que permiten el transporte de los servicios de telecomunicaciones entre dos puntos de la red.” Definición Comisión Europea.ç | F4: Fecha de Inicio | G4: Tiempo de operación del contrato. | H4: Forma de ejecución | J4: Moneda del contrato Contrato. Si la moneda del contrato es diferente al dólar https://www1.oanda.com/lang/es/currency/converter/. | K4: valor en dolares | L4: Valor del Contrato COP | M4: Valor ejecutado por el Contratista. La fecha de corte para calcular el monto ejecutado deberá constar en la certificación y tendrá que ser anterior o coincidir con la fecha de expedición de dicha certificación. | N4: SMMLV | O4: Valor del Contrato en SMMLV | P4: CERTIFICACION | V4: CONTRATO VÁLIDO PARA HABILITAR | W4: OBSERVACIONES
H5: I, C, UT | I5: % | P5: Objeto del Contrato. | Q5: Actividades y /o obligaciones | R5: Identificación y cargo de la persona facultada para expedirla. La certificación debe venir suscrita por la persona que ejerza la representación legal del emisor, o por aquel que tenga las facultades para expedirla. Así mismo, debe venir acompañada de los datos de contacto de quien certifica (teléfono, correo electrónico y dirección) o en su defecto, el proponente podrá informar los datos de contacto en documento anexo a la propuesta. | S5: Si la certificación incluye varios contratos, se debe identificar en forma precisa si se trata de adiciones, prórrogas u otrosíes al principal o son contratos diferentes, indicando en cada uno de ellos sus plazos (fecha de suscripción y/o de inicio del contrato y, tiempo de operación del contrato) y valor. Si la certificación incluye el Contrato principal con sus adiciones, prórrogas u otrosíes, se entenderá como un solo Contrato certificado. | T5: Fecha de suscripción o de iniciación del Contrato. | U5: Indicar expresamente que los tres (3) años de operación a cargo del contratista, de acuerdo con el concepto del contratante, ha sido satisfactoria en cuanto al cumplimiento de los indicadores de calidad y niveles de servicio.
A6: 0 | N6: =+'Hoja 1 variables'!E$16 -> 877802 | O6: =+M6/N6 -> 0 | V6: 1
A7: 0 | N7: =+'Hoja 1 variables'!E$16 -> 877802 | O7: =+M7/N7 -> 0
A8: 0 | N8: =+'Hoja 1 variables'!E$16 -> 877802 | O8: =+M8/N8 -> 0
A9: 0 | N9: =+'Hoja 1 variables'!E$16 -> 877802 | O9: =+M9/N9 -> 0
A10: 0 | N10: =+'Hoja 1 variables'!E$16 -> 877802 | O10: =+M10/N10 -> 0
A11: 0 | N11: =+'Hoja 1 variables'!E$16 -> 877802 | O11: =+M11/N11 -> 0
A12: 0 | N12: =+'Hoja 1 variables'!E$16 -> 877802 | O12: =+M12/N12 -> 0
A13: 0 | N13: =+'Hoja 1 variables'!E$16 -> 877802 | O13: =+M13/N13 -> 0
A14: 0 | N14: =+'Hoja 1 variables'!E$16 -> 877802 | O14: =+M14/N14 -> 0
N15: =+'Hoja 1 variables'!E$16 -> 877802 | O15: =+M15/N15 -> 0
O17: =+SUMPRODUCT($O$6:$O$15,$V$6:$V$15) -> 0
A18: =SUM(A6:A15) -> 0

Sheet Hoja 1 variables
B2: SI | C2: 1 | D2: Año | E2: SMMLV
B3: NO | C3: 0 | D3: 2008 | E3: 461500 | H3: Region | I3: Presupuesto | J3: En SMMLV | K3: 0.1
D4: 2009 | E4: 496900 | H4: REGION A | I4: 1065474968972 | J4: =+I4/E$16 -> 1213798.7 | K4: =+J4*K$3 -> 121379.87
B5: 100 | D5: 2010 | E5: 515000 | H5: REGION B | I5: 1072552301475 | J5: =+I5/E$16 -> 1221861.3 | K5: =+J5*K$3 -> 122186.13
B6: 0 | D6: 2011 | E6: 535600 | H6: • Presentar propuesta por un mismo proponente para ambas regiones (Región A y Región B), con la opción de ser adjudicatario sólo de una región, | I6: 1072552301475 | J6: =+I6/E$16 -> 1221861.3 | K6: =+J6*K$3 -> 122186.13 | M6: 2138117270447
D7: 2012 | E7: 566700 | H7: • Presentar propuesta por un mismo proponente para ambas regiones (Región A y Región B), con la opción excepcional de ser adjudicatario de las dos regiones, | I7: 2138117270447 | J7: =+I7/E$16 -> 2435762.6 | K7: =+J7*K$3 -> 243576.26
D8: 2013 | E8: 589500 | H8: • Presentarse en dos proponentes diferentes para ambas regiones (Región A y Región B), con la opción excepcional de ser adjudicatario de las dos regiones REGION A | I8: 1065474968972 | J8: =+I8/E$16 -> 1213798.7 | K8: =+J8*K$3 -> 121379.87
H9: • Presentarse en dos proponentes diferentes para ambas regiones (Región A y Región B), con la opción excepcional de ser adjudicatario de las dos regiones REGION B | I9: 1072552301475 | J9: =+I9/E$16 -> 1221861.3 | K9: =+J9*K$3 -> 122186.13
D10: 2014 | E10: 616000
D11: 2015 | E11: 644350 | H11: Región | I11: Puntaje | K11: Puntaje
D12: 2016 | E12: 689454 | H12: Antioquia | I12: 15 puntos: 93 accesos | K12: 15 puntos: 93 accesos
D13: 2017 | E13: 737717
D14: 2018 | E14: 781242 | I14: 30 puntos: 154 accesos | K14: 30 puntos: 154 accesos
D15: 2019 | E15: 828116 | H15: Cundinamarca | I15: 15 puntos: 56 accesos | K15: 15 puntos: 56 accesos
D16: 2020 | E16: 877802
I17: 30 puntos: 93 accesos | K17: 30 puntos: 93 accesos
H18: Sur | I18: 15 puntos: 43 accesos | K18: 15 puntos: 43 accesos
I20: 30 puntos: 71 accesos | K20: 30 puntos: 71 accesos
H21: Eje cafetero | I21: 15 puntos: 36 accesos | K21: 15 puntos: 36 accesos
I23: 30 puntos: 61 accesos | K23: 30 puntos: 61 accesos
H24: Centro-occidente | I24: 15 puntos: 42 accesos | K24: 15 puntos: 42 accesos
I26: 30 puntos: 54 accesos | K26: 30 puntos: 54 accesos
H27: Pacífico | I27: 15 puntos: 31 accesos | K27: 15 puntos: 31 accesos
I29: 30 puntos: 52 accesos | K29: 30 puntos: 52 accesos
H30: Norte | I30: 15 puntos: 42 accesos | K30: 15 puntos: 42 accesos
I32: 30 puntos: 70 accesos | K32: 30 puntos: 70 accesos
H33: Centro-oriente | I33: 15 puntos: 31 accesos | K33: 15 puntos: 31 accesos
I35: 30 puntos: 52 accesos | K35: 30 puntos: 52 accesos
H36: Oriente | I36: 15 puntos: 27 accesos | K36: 15 puntos: 27 accesos
I38: 30 puntos: 45 accesos | K38: 30 puntos: 45 accesos
