Workbook
Name RESPUESTASINO: 'Hoja 1 variables'!$B$2:$B$3
Name unocero: '[1]Hoja 1 variables'!$C$2:$C$3

Sheet 1.Carta y exp habilitante
A1: PROPONENTE | B1: CHINA GREAT WALL INDUSTRY CORPORATION
A4: CARTA DE PRESENTACIÓN DE LA PROPUESTA
A6: MIEMBROS DEL PROPONENTE PLURAL: | B6: PORCENTAJE DE PARTICIPACIÓN | D6: ACREDITA LA EXPERIENCIA
A7: CHINA GREAT WALL INDUSTRY CORPORATION | B7: 1 | D7: SI
A11: 1. CONSIDERACIONES PARA LA ACREDITACIÓN DE LA EXPERIENCIA CON CONTRATOS EN EJECUCIÓN
A12: No. de contratos con los cuales se acredita la experiencia | C12: No. de contratos terminados | E12: No. máximo de contratos en ejecución | G12: Equivalencia entre contratos terminados y contratos en ejecución
A13: =+'2. Exp habilitante EJECUTADA'!A12+'3. Exp habilitante EN EJEC'!A18 -> 6 | C13: =+'2. Exp habilitante EJECUTADA'!A12 -> 5 | E13: =+'3. Exp habilitante EN EJEC'!A18 -> 1 | G13: =IF(AND(C13>=E13,A13<=10),1,0) -> 1
A15: 2. EXPERIENCIA COMO REQUISITO HABILITANTE
A16: Valor acreditado en SMMLV por los contratos válidos de acuerdo a los requisitos habilitantes del numeral 5.3. del Pliego de Condiciones | I16: =+'2. Exp habilitante EJECUTADA'!Q11+'3. Exp habilitante EN EJEC'!O17 -> 0
A19: Requisito mínimo habilitante en SMMLV | H19: Cumple con el requisito mínimo habilitante?
A20: REGION | D20: SMMLV POR REGION | H20: =+IF($I$16>=$D$21,1,0) -> 0
A21: • Presentar propuesta por un mismo proponente para ambas regiones (Región A y Región B), con la opción excepcional de ser adjudicatario de las dos regiones, | D21: =VLOOKUP(A21,'Hoja 1 variables'!H4:K9,4,FALSE) -> 243576.26
A23: 3. REQUISITOS HABILITANTES
A24: CUMPLE CON LOS REQUISITOS HABILITANTES? | H24: =+IF(SUM(H20,G13)=2,1,0) -> 0

Sheet 2. Exp habilitante EJECUTADA
A1: PROPONENTE | C1: =+'1.Carta y exp habilitante'!B1 -> CHINA GREAT WALL INDUSTRY CORPORATION
A4: # Contrato | B4: Miembro que reporta la Experiencia | C4: Contrato Nacional o extranjero | D4: Consecutivo RUP | E4: Clasificación UNSPSC 81161700 81112100 83111600 | F4: Entidad Contratante | G4: 1) instalación de infraestructura de telecomunicaciones* u; 2) operación de infraestructura de telecomunicaciones* o; 3) instalación y operación de infraestructura de telecomunicaciones* o; 4) prestación del servicio de acceso público a Internet mediante zonas WiFi o; 5) ejecución de contratos que abarquen una red compuesta de accesos conectados a Internet a través de tecnología satelital. * Entre la infraestructura de telecomunicaciones no se entenderán incluidos los circuitos cerrados de televisión. Para efectos del presente proceso de selección se entenderá por Infraestructura de Telecomunicaciones: “Los Soportes físicos y lógicos que permiten el transporte de los servicios de telecomunicaciones entre dos puntos de la red.” Definición Comisión Europea. | H4: Fecha de Inicio | I4: Fecha de terminación | J4: Forma de ejecución | L4: Moneda del contrato Contrato. Si la moneda del contrato es diferente al dólar https://www1.oanda.com/lang/es/currency/converter/. | M4: valor en dolares | N4: Valor del Contrato COP | O4: SMMLV del año de terminación del contrato | P4: Valor del Contrato en SMMLV | Q4: RUP | U4: CERTIFICACION | AA4: CONTRATO VÁLIDO PARA HABILITAR | AB4: OBSERVACIONES
J5: I, C, UT | K5: % | Q5: Valor del Contrato en SMMLV (RUP) con % de participación | R5: Nombre del contratista (RUP) | S5: Nombre del contratante (RUP) | T5: Porcentaje de participación en el valor ejecutado en caso de consorcios y uniones temporales (RUP) | U5: Objeto del Contrato. | V5: Actividades y /o obligaciones | W5: Identificación y cargo de la persona facultada para expedirla. | X5: Si la certificación incluye varios contratos, se debe identificar en forma precisa si se trata de adiciones, prórrogas u otrosíes al principal o son contratos diferentes, indicando en cada uno de ellos sus plazos y valor. | Y5: Fecha de suscripción o de iniciación del Contrato. | Z5: Fecha de terminación de los contratos ejecutados y terminados dentro de los diez (10) años anteriores a la fecha de cierre del presente proceso de selección
A6: 1 | B6: CHINA GREAT WALL INDUSTRY CORPORATION | C6: Extranjero | D6: N/A | E6: N/A | F6: APT Satellite Company Limited ("APT (HK)") | G6: Entrega en-órbita de un Satélite de Comunicaciones y otros bienes y servicios asociados con el satélite. El contrato tiene como objeto permitir al Cliente convertirse en uno de los líderes regionales proveedor de capacidad de transpondedor y servicios relacionados en la Región Asia Pacifico | H6: 42294 | I6: 43282 | J6: I | K6: 1 | L6: DÓLAR | M6: 180000000 | N6: =2930.8*M6 -> 5.27544e+11 | O6: =+'Hoja 1 variables'!E14 -> 781242 | P6: =+N6/O6 -> 675263.23 | Q6: N/A | R6: N/A | S6: N/A | T6: N/A | U6: Entrega en-órbita de un Satélite de Comunicaciones y otros bienes y servicios asociados con el satélite. El contrato tiene como objeto permitir al Cliente convertirse en uno de los líderes regionales proveedor de capacidad de transpondedor y servicios relacionados en la Región Asia Pacifico | V6: Las obligaciones del Contratista son: diseñar, fabricar, entregar y lanzar el satélite APSTAR 6C, una plataforma satelital serie OFH-4 con 26 transpondedores de banda-e, 19 transpondedores de banda-Ku, y transpondedores de banda-Ka, satélite de comunicaciones geoestacionario de alta potencia. Las obligaciones también incluyen operaciones LEOP {Fase de Lanzamiento y Órbita Temprana) y posicionamiento del satélite en fase de órbita temprana, pruebas en- órbita, entrega, instalación y puesta en funcionamiento del simulador de satélite dinámico, subsistema de banda base y centro de control satelital, soporte para operación en-línea y en-sitio, y obtención de seguros. El satélite, junto con los sistemas terrestres relevantes, proporciona internet, DTH (Directo al Hogar) y otros servicios para la región, cubriendo especialmente en colegios y pueblos en áreas remotas, hizo su considerable contribución en eliminar los vacíos de informatización entre las regiones con varias fases de desarrollo. | W6: ZHANGXIN Ingeniero Satelital, Centro de Control Satelital | X6: No viene con adiciones o contratos adicionales, por lo cual CUMPLE | Y6: 42294 | Z6: 43282 | AA6: 0 | AB6: La certificación no cumple con lo solicitado en el pliego de condiciones, de conformidad con lo establecido en el numeral 2.4. IDIOMA Y LEGALIZACIÓN DE DOCUMENTOS OTORGADOS EN EL EXTERIOR “(.)Los documentos en idioma distinto al castellano deben ser presentados en su lengua original junto con la traducción simple al castellano y entregar la traducción oficial al castellano dentro del plazo previsto para la subsanación. La traducción oficial debe ser el mismo texto presentado con la traducción simple (.) Para efectos del trámite de apostilla o legalización de documentos públicos otorgados en el exterior, debe estarse a lo establecido en la Resolución No. 1959 del 03 de agosto de 2020 “Por la cual se dictan disposiciones en materia de apostillas y de legalizaciones de documentos y se deroga la Resolución 10547 del 14 de diciembre de 2018” expedida por el Ministerio de Relaciones Exteriores (.)" por lo cual deberá aportarse la correspondiente traducción oficial en los términos planteados en los pliegos de condiciones.
A7: 1 | B7: CHINA GREAT WALL INDUSTRY CORPORATION | C7: Extranjero | D7: N/A | E7: N/A | F7: APT Satellite Company Limited (“APT (HK)”) | G7: Entrega en-órbita de un Satélite de Comunicaciones y otros bienes y servicios asociados con el satélite. El contrato tiene como objeto permitir al Cliente convertirse en uno de los líderes regionales proveedor de capacidad de transpondedor y servicios relacionados en la Región Asia Pacifico | H7: 41600 | I7: 42354 | J7: I | K7: 1 | L7: DÓLAR | M7: 211120000 | N7: =3328.08*M7 -> 702624249600 | O7: =+'Hoja 1 variables'!E11 -> 644350 | P7: =+N7/O7 -> 1090438.8 | Q7: N/A | R7: N/A | S7: N/A | T7: N/A | U7: Entrega en-órbita de un Satélite de Comunicaciones y otros bienes y servicios asociados con el satélite. El contrato tiene como objeto permitir al Cliente convertirse en uno de los líderes regionales proveedor de capacidad de transpondedor y servicios relacionados en la Región Asia Pacifico | V7: Las obligaciones del Contratista son: diseñar, fabricar, entregar y lanzar el satélite APSTAR-9, una plataforma satelital serie DFH-4 con 32 transpondedores de banda-C, 14 transpondedores de banda-Ku, satélite de comunicaciones geoestacionario de alta potencia. Las obligaciones también incluyen operaciones LEOP (Fase de Lanzamiento y Órbita Temprana) y posicionamiento del satélite en fase de órbita temprana, pruebas en-órbita, entrega, instalación y puesta en funcionamiento del simulador de satélite dinámico, subsistema de banda base y centro de control satelital, soporte para operación en-línea y en- sitio, y obtención de seguros. El satélite, junto con los sistemas terrestres relevantes, proporciona internet, DTH (Directo al Hogar) y otros servicios para la región, cubriendo especialmente colegios y pueblos en áreas remotas, hizo su considerable contribución en eliminar los vacíos de informatización entre las regiones con varias fases de desarrollo. | W7: ZHANGXIN Ingeniero Satelital, Centro de Control Satelital | X7: No viene con adiciones o contratos adicionales, por lo cual CUMPLE | Y7: 41600 | Z7: 42354 | AA7: 0 | AB7: La certificación no cumple con lo solicitado en el pliego de condiciones, de conformidad con lo establecido en el numeral 2.4. IDIOMA Y LEGALIZACIÓN DE DOCUMENTOS OTORGADOS EN EL EXTERIOR “(.)Los documentos en idioma distinto al castellano deben ser presentados en su lengua original junto con la traducción simple al castellano y entregar la traducción oficial al castellano dentro del plazo previsto para la subsanación. La traducción oficial debe ser el mismo texto presentado con la traducción simple (.) Para efectos del trámite de apostilla o legalización de documentos públicos otorgados en el exterior, debe estarse a lo establecido en la Resolución No. 1959 del 03 de agosto de 2020 “Por la cual se dictan disposiciones en materia de apostillas y de legalizaciones de documentos y se deroga la Resolución 10547 del 14 de diciembre de 2018” expedida por el Ministerio de Relaciones Exteriores (.)" por lo cual deberá aportarse la correspondiente traducción oficial en los términos planteados en los pliegos de condiciones.
A8: 1 | B8: CHINA GREAT WALL INDUSTRY CORPORATION | C8: EXTRANJERO | D8: N/A | E8: N/A | F8: MINISTRY OF POSTS AND TELCOMMUNICATIONS, LAO PDR | G8: PLANEACIÓN, DISEÑO, CONSTRUCCIÓN Y PUESTA EN OPERACIÓN DE UN SATELITE CONOCIDO COMO SATELITE DE RADIODIFUSIÓN Y TELECOMUNICACIONES DE LAOS Y OTROS BIENES Y SERVICIOS ASOCIADOS CON ESTE SATELITE. PERMITIENDO LA PROVISIÓN DE INTERNET, DTH Y OTROS SERVICIOS PARA LA REGIÓN, ESPECIALMENTE PARA LA CONECTMDAD A ESCUELAS Y PUEBLOS EN ÁREAS RURALES, Y HACER UNA CONTRIBUCIÓN CONSIDERABLE EN ELIMINAR LAS BRECHAS DE INFORMATIZACIÓN ENTRE REGIONES CON DIFERENTES ETAPAS DE DESARROLLO. | H8: 41239 | I8: 42397 | J8: I | K8: 1 | L8: DÓLAR | M8: 258890000 | N8: =M8*3366.63 -> 871586840700 | O8: 689454 | P8: =+N8/O8 -> 1264169.7 | Q8: NA | R8: NA | S8: NA | T8: NA | U8: Proveer un (1) Satélite de Comunicaciones denominado Lao Broadcasting and Telecommunication Satellite (Satélite de Telecomunicación y Difusión de Laos) y otros bienes y servicios asociados con el satélite. | V8: Las obligaciones del Contratista son: proporcionar servicios de entrega y lanzamiento, construcción del satélite, arreglos de seguros, simulador del satélite, LEOP (Fase de Lanzamiento y Órbita Temprana) y IOT (Internet de las Cosas), capacitación técnica, soporte de operación a corto plazo y soporte en-sitio a largo plazo, habilitando el provisionamiento del servicio de internet de alta-velocidad, DTH (Directo al Hogar) y otros servicios para la región, cubriendo especialmente colegios y pueblos en áreas remotas, y así hacer una considerable contribución en eliminar los vacíos de informatización entre las regiones con varias fases de desarrollo. | W8: Keolavanh Outhavong Lao Asia Pacific Satellite Co., Ltd., Subgerente Departamento Control y Aplicación Satelital | X8: CONTRATO UNICO | Y8: 41239 | Z8: 42397 | AA8: 0 | AB8: La certificación no cumple con lo solicitado en el pliego de condiciones, de conformidad con lo establecido en el numeral 2.4. IDIOMA Y LEGALIZACIÓN DE DOCUMENTOS OTORGADOS EN EL EXTERIOR “(.)Los documentos en idioma distinto al castellano deben ser presentados en su lengua original junto con la traducción simple al castellano y entregar la traducción oficial al castellano dentro del plazo previsto para la subsanación. La traducción oficial debe ser el mismo texto presentado con la traducción simple (.) Para efectos del trámite de apostilla o legalización de documentos públicos otorgados en el exterior, debe estarse a lo establecido en la Resolución No. 1959 del 03 de agosto de 2020 “Por la cual se dictan disposiciones en materia de apostillas y de legalizaciones de documentos y se deroga la Resolución 10547 del 14 de diciembre de 2018” expedida por el Ministerio de Relaciones Exteriores (.)" por lo cual deberá aportarse la correspondiente traducción oficial en los términos planteados en los pliegos de condiciones.
A9: 1 | B9: CHINA GREAT WALL INDUSTRY CORPORATION | C9: EXTRANJERO | D9: N/A | E9: N/A | F9: ALGERIAN SPACE AGENCY (ASAL) | G9: LA PLANEACIÓN. DISEÑO, CONSTRUCCIÓN Y PUESTA EN OPERACIÓN DE UN (1) SATELITE DE COMUNICACIONES QUE SE CONOCERÁ COMO A LCOMSAT-I. SISTEMA DE CONTROL TERRESTRE (GCS), SISTEMA DE APLICACIÓN TERRESTRE (GAS), SEGURO, LANZAMIENTO Y CAPACITACIÓN PROGRAMA Y OTROS BIENES Y SERVICIOS ASOCIADOS CON EL SÁTELITE, PERMITIENDO LA PROVISIÓN DE INTERNET, DTH Y OTROS SERVICIOS PARA LA REGIÓN, ESPECIALMENTE EN ESCUELAS Y PUEBLOS EN ÁREAS RURALES. Y PARA HACER UNA CONTRIBUCIÓN CONSIDERABLE EN LA ELIMINACIÓN DE BRECHAS DE INFORMACIÓN Y COMUNICACIÓN ENTRE REGIONES CON DIFERENTES ETAPAS DE DESARROLLO. | H9: 41688 | I9: 44127 | J9: I | K9: 1 | L9: DÓLAR | M9: 496885179 | N9: =M9*3776.73 -> 1.8766012e+12 | O9: =+'Hoja 1 variables'!E16 -> 877802 | P9: =+N9/O9 -> 2137841.1 | Q9: NA | R9: NA | S9: NA | T9: NA | U9: Un (1) Satélite de Comunicaciones denominado ALCOMSAT-1, Sistema | V9: Las obligaciones del Contratista son: proporcionar servicios de entrega y lanzamiento, construcción del satélite, arreglos de seguros, sistema de control terrestre, capacitación técnica, soporte de operación a corto plazo y soporte en-sitio a largo plazo. El objeto del Proyecto es proveer al Cliente la capacidad de un sistema satelital de comunicación al igual que la plataforma de operación y servicio, habilitando el provisionamiento del servicio de internet de alta-velocidad, DTH (Directo al Hogar) y otros servicios para la región, cubriendo especialmente colegios y pueblos en áreas remotas, y así hacer una considerable contribución en eliminar los vacíos de informatización entre las regiones con varias fases de desarrollo. | W9: MESTAR AMINE SECRETARIO GENERAL | X9: CONTRATO UNICO | Y9: 41624 | Z9: 44127 | AA9: 0 | AB9: La certificación no cumple con lo solicitado en el pliego de condiciones, de conformidad con lo establecido en el numeral 2.4. IDIOMA Y LEGALIZACIÓN DE DOCUMENTOS OTORGADOS EN EL EXTERIOR “(.)Los documentos en idioma distinto al castellano deben ser presentados en su lengua original junto con la traducción simple al castellano y entregar la traducción oficial al castellano dentro del plazo previsto para la subsanación. La traducción oficial debe ser el mismo texto presentado con la traducción simple (.) Para efectos del trámite de apostilla o legalización de documentos públicos otorgados en el exterior, debe estarse a lo establecido en la Resolución No. 1959 del 03 de agosto de 2020 “Por la cual se dictan disposiciones en materia de apostillas y de legalizaciones de documentos y se deroga la Resolución 10547 del 14 de diciembre de 2018” expedida por el Ministerio de Relaciones Exteriores (.)" por lo cual deberá aportarse la correspondiente traducción oficial en los términos planteados en los pliegos de condiciones.
A10: 1 | B10: CHINA GREAT WALL INDUSTRY CORPORATION | C10: EXTRANJERO | D10: N/A | E10: N/A | F10: NIGERIAN COMMUNICATIONS SATELLITE LIMITED | G10: LA PLANEACIÓN, DISEÑO. CONSTRUCCIÓN Y PUESTA EN OPERACIÓN DE UN SATE LITE DE TELECOMUNICACIONES NIGCOMSAT-1R Y OTROS BIENES Y SERVICIOS ASOCIADOS CON EL SATELITE LAS OBUGACIONES I NCLUYEN LA PLANEACIÓN, EL DISEÑO, LA FABRICACIÓN, Y LA PUESTA EN OPERACIÓN, TODO El SOFTWARE OPERATIVO Y OPERACIONES SATELITALES, CAPACITACIÓN, SOPORTE EN LINEA E IN SITU PARA LA OPERACIÓN Y ADQUISICIÓN DE SEGUROS. EL SATELITE, JUNTO CON LOS SISTEMAS TERRESTRES PERTINENTES, PROPORCIONA INTERNET, DTH Y OTROS SERVICIOS PARA LA REGIÓN. ESPECIALMENTE PARA ESCUELAS Y PUEBLOS EN ÁREAS REMOTAS. HIZO UNA CONTRIBUCIÓN CONSIDERABLE PARA ELIMINAR LAS BRECHAS DE INFORMATIZACIÓN ENTRE REGIONES CON DIFERENTES ETAPAS DE DESARROLLO. | H10: 39896 | I10: 40987 | J10: I | K10: 1 | L10: DÓLAR | M10: 150000000 | N10: =M10*1758.38 -> 2.63757e+11 | O10: =+'Hoja 1 variables'!E7 -> 566700 | P10: =+N10/O10 -> 465426.15 | Q10: NA | R10: NA | S10: NA | T10: NA | U10: de Control Terrestre (GCS), Sistema de Aplicación Terrestre (GAS), seguros, lanzamiento y programa de capacitación. | V10: Las obligaciones del Contratista son: proporcionar servicios de fabricación, entrega y lanzamiento del satélite NIGCOMSAT-1R, basado en la plataforma satelital DFH-4 con cargas SBAS (Sistema de Aumentación Satelital) de Banda-C, Banda-Ku, Banda-Ka, y Banda-L. Las obligaciones incluyen diseño, fabricación, pruebas en-planta, envío al Sitio de Lanzamiento, preparación para el Lanzamiento, integración con el Vehículo de Lanzamiento, lanzamiento, Pruebas En-Órbita, y cumplimiento de los requisitos de desempeño, aceptación En-Órbita, Estaciones TT&C (Telemetría, Trazabilidad y Comando) y Centro de Control Satelital terrestre, todo el Software Operacional, y operaciones satelitales, capacitación técnica, soporte para operación en-línea y en- sitio y obtención de seguros. El satélite, junto con los sistemas terrestres relevantes, proporciona internet, DTH (Directo al Hogar) y otros servicios para la región, cubriendo especialmente colegios y pueblos en áreas remotas, hizo su considerable contribución en eliminar los vacíos de informatización entre las regiones con varias fases de desarrollo. | W10: DANJUMA IBRAHIM NDIHGIHDAH GERENTE GENERAL, CONTROL Y OPERACIONES SATELITALES | X10: CONTRATO UNICO | Y10: 39896 | Z10: 40987 | AA10: 0 | AB10: La certificación no cumple con lo solicitado en el pliego de condiciones, de conformidad con lo establecido en el numeral 2.4. IDIOMA Y LEGALIZACIÓN DE DOCUMENTOS OTORGADOS EN EL EXTERIOR “(.)Los documentos en idioma distinto al castellano deben ser presentados en su lengua original junto con la traducción simple al castellano y entregar la traducción oficial al castellano dentro del plazo previsto para la subsanación. La traducción oficial debe ser el mismo texto presentado con la traducción simple (.) Para efectos del trámite de apostilla o legalización de documentos públicos otorgados en el exterior, debe estarse a lo establecido en la Resolución No. 1959 del 03 de agosto de 2020 “Por la cual se dictan disposiciones en materia de apostillas y de legalizaciones de documentos y se deroga la Resolución 10547 del 14 de diciembre de 2018” expedida por el Ministerio de Relaciones Exteriores (.)" por lo cual deberá aportarse la correspondiente traducción oficial en los términos planteados en los pliegos de condiciones.
Q11: =+SUMPRODUCT($P$6:$P$10,$AA$6:$AA$10) -> 0
A12: =SUM(A6:A10) -> 5

Sheet 3. Exp habilitante EN EJEC
A1: PROPONENTE | C1: =+'1.Carta y exp habilitante'!B1:K1 -> 0
A4: # Contrato | B4: Miembro que reporta la Experiencia | C4: Contrato Nacional o extranjero | D4: Entidad Contratante | E4: 1) instalación de infraestructura de telecomunicaciones* u; 2) operación de infraestructura de telecomunicaciones* o; 3) instalación y operación de infraestructura de telecomunicaciones* o; 4) prestación del servicio de acceso público a Internet mediante zonas WiFi o; 5) ejecución de contratos que abarquen una red compuesta de accesos conectados a Internet a través de tecnología satelital. * Entre la infraestructura de telecomunicaciones no se entenderán incluidos los circuitos cerrados de televisión. Para efectos del presente proceso de selección se entenderá por Infraestructura de Telecomunicaciones: “Los Soportes físicos y lógicos que permiten el transporte de los servicios de telecomunicaciones entre dos puntos de la red.” Definición Comisión Europea.ç | F4: Fecha de Inicio | G4: Tiempo de operación del contrato. | H4: Forma de ejecución | J4: Moneda del contrato Contrato. Si la moneda del contrato es diferente al dólar https://www1.oanda.com/lang/es/currency/converter/. | K4: valor en dolares | L4: Valor del Contrato COP | M4: Valor ejecutado por el Contratista. La fecha de corte para calcular el monto ejecutado deberá constar en la certificación y tendrá que ser anterior o coincidir con la fecha de expedición de dicha certificación. | N4: SMMLV | O4: Valor del Contrato en SMMLV | P4: CERTIFICACION | V4: CONTRATO VÁLIDO PARA HABILITAR | W4: OBSERVACIONES
H5: I, C, UT | I5: % | P5: Objeto del Contrato. | Q5: Actividades y /o obligaciones | R5: Identificación y cargo de la persona facultada para expedirla. La certificación debe venir suscrita por la persona que ejerza la representación legal del emisor, o por aquel que tenga las facultades para expedirla. Así mismo, debe venir acompañada de los datos de contacto de quien certifica (teléfono, correo electrónico y dirección) o en su defecto, el proponente podrá informar los datos de contacto en documento anexo a la propuesta. | S5: Si la certificación incluye varios contratos, se debe identificar en forma precisa si se trata de adiciones, prórrogas u otrosíes al principal o son contratos diferentes, indicando en cada uno de ellos sus plazos (fecha de suscripción y/o de inicio del contrato y, tiempo de operación del contrato) y valor. Si la certificación incluye el Contrato principal con sus adiciones, prórrogas u otrosíes, se entenderá como un solo Contrato certificado. | T5: Fecha de suscripción o de iniciación del Contrato. | U5: Indicar expresamente que los tres (3) años de operación a cargo del contratista, de acuerdo con el concepto del contratante, ha sido satisfactoria en cuanto al cumplimiento de los indicadores de calidad y niveles de servicio.
A6: 1 | B6: CHINA GREAT WALL INDUSTRY CORPORATION | C6: Extranjero | D6: APT Mobile SatCom Limited | E6: Entrega en-órbita de un Satélite de Comunicaciones y otros bienes y servicios asociados con el satélite. El contrato tiene como objeto permitir al Cliente convertirse en uno de los líderes regionales proveedor de capacidad de transpondedor y servicios relacionados en la Región Asia Pacifico | F6: 42370 | G6: No dice | H6: I | I6: 1 | J6: 0 | K6: 0 | L6: 0 | M6: 0 | N6: =+'Hoja 1 variables'!E$16 -> 877802 | O6: =+M6/N6 -> 0 | P6: Entrega en-órbita de un Satélite de Comunicaciones y otros bienes y servicios asociados con el satélite. El contrato tiene como objeto permitir al Cliente convertirse en uno de los líderes regionales proveedor de capacidad de transpondedor y servicios relacionados en la Región Asia Pacifico | Q6: Las obligaciones del Contratista son: diseñar, fabricar, entregar y lanzar el satélite APSTAR-6D, basado en la plataforma satelital DFH-4 mejorada (DFH-4E) con una solución híbrida de propulsión, construyendo el primer sistema global de alto volumen de comunicación satelital en China. Este sistema satelital de comunicación banda ancha de alto volumen basado en los haces puntuales ku y ka establecerá el sistema global de comunicación por internet y será la red satelital de comunicación banda ancha y plataforma de servicio, proporcionando los servicios de comunicación satelital banda ancha de alta-calidad, alta- eficiencia y rentables para comunicación marítima, aérea y vehículos terrestres. La capacidad será de docenas veces más alta que la de comunicación satelital convencional, habilitando a los usuarios para disfrutar servicio de internet de alta-velocidad vía transmisión satelital en cualquier momento y lugar, mientras que los precios de transmisión baja significativamente. Las obligaciones también incluyen operaciones LEOP (Fase de Lanzamiento y Órbita Temprana) y posicionamiento del satélite en fase de órbita temprana, pruebas en-órbita, entrega, instalación y puesta en funcionamiento del simulador de satélite dinámico, subsistema de banda base y centro de control satelital, soporte para operación en-línea y en-sitio, y obtención de seguros. El satélite, junto con los sistemas terrestres relevantes, proporciona internet, DTH (Directo al Hogar) y otros servicios para la región, cubriendo especialmente colegios y pueblos en áreas remotas, hizo su considerable contribución en eliminar los vacíos de informatización entre las regiones con varias fases de desarrollo. | R6: no viene firmada | S6: No presenta adiciones o varios contratos | T6: 44044 | U6: No viene la información | V6: 0 | W6: La certificación no presenta lo solicitado en los Requisitos Habilitantes del pliego de condiciones, donde dice: " Para tales efectos, deberán acreditar que dichos contratos llevan en operación satisfactoria al menos tres (3) años." Adicional a esto no cuemple con lo establecido en el mismo numeral "...G. Valor ejecutado por el Contratista. La fecha de corte para calcular el monto ejecutado deberá constar en la certificación y tendrá que ser anterior o coincidir con la fecha de expedición de dicha certificación..." La certificación no viene con fecha de expedición. La certificación no viene firmada, viene solo con un sello Adicional a lo anterior la certificación no cumple con lo solicitado en el pliego de condiciones, de conformidad con lo establecido en el numeral 2.4. IDIOMA Y LEGALIZACIÓN DE DOCUMENTOS OTORGADOS EN EL EXTERIOR “(.)Los documentos en idioma distinto al castellano deben ser presentados en su lengua original junto con la traducción simple al castellano y entregar la traducción oficial al castellano dentro del plazo previsto para la subsanación. La traducción oficial debe ser el mismo texto presentado con la traducción simple (.) Para efectos del trámite de apostilla o legalización de documentos públicos otorgados en el exterior, debe estarse a lo establecido en la Resolución No. 1959 del 03 de agosto de 2020 “Por la cual se dictan disposiciones en materia de apostillas y de legalizaciones de documentos y se deroga la Resolución 10547 del 14 de diciembre de 2018” expedida por el Ministerio de Relaciones Exteriores (.)" por lo cual deberá aportarse la correspondiente traducción oficial en los términos planteados en los pliegos de condiciones.
N7: =+'Hoja 1 variables'!E$16 -> 877802 | O7: =+M7/N7 -> 0
N8: =+'Hoja 1 variables'!E$16 -> 877802 | O8: =+M8/N8 -> 0
N9: =+'Hoja 1 variables'!E$16 -> 877802 | O9: =+M9/N9 -> 0
N10: =+'Hoja 1 variables'!E$16 -> 877802 | O10: =+M10/N10 -> 0
N11: =+'Hoja 1 variables'!E$16 -> 877802 | O11: =+M11/N11 -> 0
N12: =+'Hoja 1 variables'!E$16 -> 877802 | O12: =+M12/N12 -> 0
N13: =+'Hoja 1 variables'!E$16 -> 877802 | O13: =+M13/N13 -> 0
N14: =+'Hoja 1 variables'!E$16 -> 877802 | O14: =+M14/N14 -> 0
N15: =+'Hoja 1 variables'!E$16 -> 877802 | O15: =+M15/N15 -> 0
O17: =+SUMPRODUCT($O$6:$O$15,$V$6:$V$15) -> 0
A18: =SUM(A6:A15) -> 1

Sheet Hoja 1 variables
B2: SI | C2: 1 | D2: Año | E2: SMMLV
B3: NO | C3: 0 | D3: 2008 | E3: 461500 | H3: Region | I3: Presupuesto | J3: En SMMLV | K3: 0.1
D4: 2009 | E4: 496900 | H4: REGION A | I4: 1065474968972 | J4: =+I4/E$16 -> 1213798.7 | K4: =+J4*K$3 -> 121379.87
B5: 100 | D5: 2010 | E5: 515000 | H5: REGION B | I5: 1072552301475 | J5: =+I5/E$16 -> 1221861.3 | K5: =+J5*K$3 -> 122186.13
B6: 0 | D6: 2011 | E6: 535600 | H6: • Presentar propuesta por un mismo proponente para ambas regiones (Región A y Región B), con la opción de ser adjudicatario sólo de una región, | I6: 1072552301475 | J6: =+I6/E$16 -> 1221861.3 | K6: =+J6*K$3 -> 122186.13 | M6: 2138117270447
D7: 2012 | E7: 566700 | H7: • Presentar propuesta por un mismo proponente para ambas regiones (Región A y Región B), con la opción excepcional de ser adjudicatario de las dos regiones, | I7: 2138117270447 | J7: =+I7/E$16 -> 2435762.6 | K7: =+J7*K$3 -> 243576.26
D8: 2013 | E8: 589500 | H8: • Presentarse en dos proponentes diferentes para ambas regiones (Región A y Región B), con la opción excepcional de ser adjudicatario de las dos regiones REGION A | I8: 1065474968972 | J8: =+I8/E$16 -> 1213798.7 | K8: =+J8*K$3 -> 121379.87
H9: • Presentarse en dos proponentes diferentes para ambas regiones (Región A y Región B), con la opción excepcional de ser adjudicatario de las dos regiones REGION B | I9: 1072552301475 | J9: =+I9/E$16 -> 1221861.3 | K9: =+J9*K$3 -> 122186.13
D10: 2014 | E10: 616000
D11: 2015 | E11: 644350 | H11: Región | I11: Puntaje | K11: Puntaje
D12: 2016 | E12: 689454 | H12: Antioquia | I12: 15 puntos: 93 accesos | K12: 15 puntos: 93 accesos
D13: 2017 | E13: 737717
D14: 2018 | E14: 781242 | I14: 30 puntos: 154 accesos | K14: 30 puntos: 154 accesos
D15: 2019 | E15: 828116 | H15: Cundinamarca | I15: 15 puntos: 56 accesos | K15: 15 puntos: 56 accesos
D16: 2020 | E16: 877802
I17: 30 puntos: 93 accesos | K17: 30 puntos: 93 accesos
H18: Sur | I18: 15 puntos: 43 accesos | K18: 15 puntos: 43 accesos
I20: 30 puntos: 71 accesos | K20: 30 puntos: 71 accesos
H21: Eje cafetero | I21: 15 puntos: 36 accesos | K21: 15 puntos: 36 accesos
I23: 30 puntos: 61 accesos | K23: 30 puntos: 61 accesos
H24: Centro-occidente | I24: 15 puntos: 42 accesos | K24: 15 puntos: 42 accesos
I26: 30 puntos: 54 accesos | K26: 30 puntos: 54 accesos
H27: Pacífico | I27: 15 puntos: 31 accesos | K27: 15 puntos: 31 accesos
I29: 30 puntos: 52 accesos | K29: 30 puntos: 52 accesos
H30: Norte | I30: 15 puntos: 42 accesos | K30: 15 puntos: 42 accesos
I32: 30 puntos: 70 accesos | K32: 30 puntos: 70 accesos
H33: Centro-oriente | I33: 15 puntos: 31 accesos | K33: 15 puntos: 31 accesos
I35: 30 puntos: 52 accesos | K35: 30 puntos: 52 accesos
H36: Oriente | I36: 15 puntos: 27 accesos | K36: 15 puntos: 27 accesos
I38: 30 puntos: 45 accesos | K38: 30 puntos: 45 accesos
