Workbook
Name RESPUESTASINO: 'Hoja 1 variables'!$B$2:$B$3
Name unocero: '[1]Hoja 1 variables'!$C$2:$C$3

Sheet 1.Carta y exp habilitante
A1: PROPONENTE | B1: UNIÓN TEMPORAL CENTROS POBLADOS COLOMBIA 2020.
A4: CARTA DE PRESENTACIÓN DE LA PROPUESTA
A6: MIEMBROS DEL PROPONENTE PLURAL: | B6: PORCENTAJE DE PARTICIPACIÓN | D6: ACREDITA LA EXPERIENCIA
A7: FUNDACION DE TELECOMUNICACIONES, INGENIERIA, SEGURIDAD E INNOVACION | B7: 0.35 | D7: SI
A8: ICM INGENIEROS S.A.S | B8: 0.35 | D8: NO
A9: INTEC DE LA COSTA S.A.S | B9: 0.15 | D9: NO
A10: OMEGA BUILDING CONSTRUCTORA S.A.S | B10: 0.15 | D10: NO
A12: 1. CONSIDERACIONES PARA LA ACREDITACIÓN DE LA EXPERIENCIA CON CONTRATOS EN EJECUCIÓN
A13: No. de contratos con los cuales se acredita la experiencia | C13: No. de contratos terminados | E13: No. máximo de contratos en ejecución | G13: Equivalencia entre contratos terminados y contratos en ejecución
A14: =+'2. Exp habilitante EJECUTADA'!A17+'3. Exp habilitante EN EJEC'!A18 -> 10 | C14: =+'2. Exp habilitante EJECUTADA'!A17 -> 10 | E14: =+'3. Exp habilitante EN EJEC'!A18 -> 0 | G14: =IF(AND(C14>=E14,A14<=10),1,0) -> 1
A16: 2. EXPERIENCIA COMO REQUISITO HABILITANTE
A17: Valor acreditado en SMMLV por los contratos válidos de acuerdo a los requisitos habilitantes del numeral 5.3. del Pliego de Condiciones | I17: =+'2. Exp habilitante EJECUTADA'!Q16+'3. Exp habilitante EN EJEC'!O17 -> 74673.92
A20: Requisito mínimo habilitante en SMMLV | H20: Cumple con el requisito mínimo habilitante?
A21: REGION | D21: SMMLV POR REGION | H21: =+IF($I$17>=$D$22,1,0) -> 0
A22: • Presentar propuesta por un mismo proponente para ambas regiones (Región A y Región B), con la opción de ser adjudicatario sólo de una región, | D22: =VLOOKUP(A22,'Hoja 1 variables'!H4:K9,4,FALSE) -> 122186.13
A24: 3. REQUISITOS HABILITANTES
A25: CUMPLE CON LOS REQUISITOS HABILITANTES? | H25: =+IF(SUM(H21,G14)=2,1,0) -> 0

Sheet 2. Exp habilitante EJECUTADA
A1: PROPONENTE | C1: =+'1.Carta y exp habilitante'!B1:K1 -> 0
A4: # Contrato | B4: Miembro que reporta la Experiencia | C4: Contrato Nacional o extranjero | D4: Consecutivo RUP | E4: Clasificación UNSPSC 81161700 81112100 83111600 | F4: Entidad Contratante | G4: 1) instalación de infraestructura de telecomunicaciones* u; 2) operación de infraestructura de telecomunicaciones* o; 3) instalación y operación de infraestructura de telecomunicaciones* o; 4) prestación del servicio de acceso público a Internet mediante zonas WiFi o; 5) ejecución de contratos que abarquen una red compuesta de accesos conectados a Internet a través de tecnología satelital. * Entre la infraestructura de telecomunicaciones no se entenderán incluidos los circuitos cerrados de televisión. Para efectos del presente proceso de selección se entenderá por Infraestructura de Telecomunicaciones: “Los Soportes físicos y lógicos que permiten el transporte de los servicios de telecomunicaciones entre dos puntos de la red.” Definición Comisión Europea. | H4: Fecha de Inicio | I4: Fecha de terminación | J4: Forma de ejecución | L4: Moneda del contrato Contrato. Si la moneda del contrato es diferente al dólar https://www1.oanda.com/lang/es/currency/converter/. | M4: valor en dolares | N4: Valor del Contrato COP | O4: SMMLV del año de terminación del contrato | P4: Valor del Contrato en SMMLV | Q4: RUP | U4: CERTIFICACION | AA4: CONTRATO VÁLIDO PARA HABILITAR | AB4: OBSERVACIONES
J5: I, C, UT | K5: % | Q5: Valor del Contrato en SMMLV (RUP) con % de participación | R5: Nombre del contratista (RUP) | S5: Nombre del contratante (RUP) | T5: Porcentaje de participación en el valor ejecutado en caso de consorcios y uniones temporales (RUP) | U5: Objeto del Contrato. | V5: Actividades y /o obligaciones | W5: Identificación y cargo de la persona facultada para expedirla. | X5: Si la certificación incluye varios contratos, se debe identificar en forma precisa si se trata de adiciones, prórrogas u otrosíes al principal o son contratos diferentes, indicando en cada uno de ellos sus plazos y valor. | Y5: Fecha de suscripción o de iniciación del Contrato. | Z5: Fecha de terminación de los contratos ejecutados y terminados dentro de los diez (10) años anteriores a la fecha de cierre del presente proceso de selección
A6: 1 | B6: FUNDACION DE TELECOMUNIC ACIONES, INGENIERIA, SEGURIDAD E INNOVACION | C6: NACIONAL | D6: 47 | E6: 81161700 81112100 | F6: Departamento de Guajira | G6: Implementacion de estrategias de aprovechamiento de las tic para el desarrollo del sector educativo mediante el corredor digital en el departamento de la Guajira | H6: 42471 | I6: 42836 | J6: I | K6: 1 | L6: N/A | M6: N/A | N6: 20451304686 | O6: ='Hoja 1 variables'!E13 -> 737717 | P6: =+N6/O6 -> 27722.426 | Q6: 27722.42 | R6: FUNDACION EMPRESARIAL DE NUEVAS TECNOLOGIAS DE LA INFORMACION DE COLOMBIA-FUNTICS | S6: DEPARTAMENTO DE LA GUAJIRA | T6: 1 | U6: 1 | V6: 1 | W6: 1 | X6: 1 | Y6: 1 | Z6: 1 | AA6: 1
A7: 1 | B7: FUNDACION DE TELECOMUNIC ACIONES, INGENIERIA, SEGURIDAD E INNOVACION | C7: NACIONAL | D7: 69 | E7: 81161700 81112100 | F7: Fondo de Tecnologías de la Información y las Comunicaciones | G7: Implementar el “Proyecto Conexiones Digitales II”, orientado a la instalación, operación y mantenimiento de la infraestructura necesaria sobre las redes fijas y/o móviles, para la prestación de servicios en banda Ancha en los municipios incluidos en departamentos ofertados, cumpliendo las condiciones y niveles de servicios exigidos en el Anexo Técnico (3.150 Beneficiarios de Viviendas de Interés Prioritario – VIP). | H7: 42369 | I7: 43283 | J7: I | K7: 1 | L7: N/A | M7: N/A | N7: 9504641558 | O7: ='Hoja 1 variables'!E14 -> 781242 | P7: =+N7/O7 -> 12166.066 | Q7: 12166.06 | R7: FUNDACION EMPRESARIAL DE NUEVAS TECNOLOGIAS DE LA INFORMACION DE COLOMBIA-FUNTICS | S7: FONDO DE TECNOLOGIAS DE LA INFORMACION Y LAS COMUNICACIONES | T7: 1 | U7: 1 | V7: 1 | W7: 1 | X7: 1 | Y7: 1 | Z7: 1 | AA7: 1
A8: 1 | B8: FUNDACION DE TELECOMUNIC ACIONES, INGENIERIA, SEGURIDAD E INNOVACION | C8: NACIONAL | D8: 36 | E8: 811617 811121 831116 | F8: DEPARTAMENTO DE BOLIVAR | G8: Proveer el servicio de conectividad a internet a insittuciones educativas oficiales no certificadas del departamento de Bolívar señaladas en el anexo técnico Nº 1 bajo los criterios de calidad, disponibilidad y cobertura conforme a lo señalado en las directrices técnicas establecidas en la ficha tecnica del programa conexión total del ministerio de educación nacional. | H8: 42248 | I8: 42368 | J8: I | K8: 1 | L8: N/A | M8: N/A | N8: 2662386604 | O8: ='Hoja 1 variables'!E11 -> 644350 | P8: =+N8/O8 -> 4131.8951 | Q8: 4131.89 | R8: FUNDACION EMPRESARIAL DE NUEVAS TECNOLOGIAS DE LA INFORMACION DE COLOMBIA -FUNTICS | S8: DEPARTAMENTO DE BOLIVAR | T8: 1 | U8: 0 | V8: 0 | W8: 1 | X8: 0 | Y8: 1 | Z8: 0 | AA8: 0 | AB8: En el acta de terminación y liquidación presentada por el oferente vienen con fecha de 30 de diciembre de 2015, por lo cual no es clara la fecha de terminación del contrato. Por otro lado, no se incluyen actividades, por los cual no cumple con lo solicitado en el pliego de condiciones, en los requisitos habilitantes donde solicita: "....El objeto o las obligaciones de los contratos aportados deberá contener actividades de: 1) instalación de infraestructura de telecomunicaciones* u; 2) operación de infraestructura de telecomunicaciones* o; 3) instalación y operación de infraestructura de telecomunicaciones* o; 4) prestación del servicio de acceso público a Internet mediante zonas WiFi o; 5) ejecución de contratos que abarquen una red compuesta de accesos conectados a Internet a través de tecnología satelital. * Entre la infraestructura de telecomunicaciones no se entenderán incluidos los circuitos cerrados de televisión. No se fue posible validar las actividades u obligaciones del contrato. ..". Y en la última hoja (hoja de firmas) es diferente a las demás hojas del documento)
A9: 1 | B9: FUNDACION DE TELECOMUNIC ACIONES, INGENIERIA, SEGURIDAD E INNOVACION | C9: NACIONAL | D9: 1 | E9: 811617 811121 831116 | F9: METROT EL S.A. E.S.P | G9: Montaje, implementación, soporte de infraestructura y suminsitro de bienes para birndar conectividad a insituciones educativas del departamento de bolívar. | H9: 41374 | I9: 41973 | J9: I | K9: 1 | L9: N/A | M9: N/A | N9: 10191670959 | O9: ='Hoja 1 variables'!E10 -> 616000 | P9: =+N9/O9 -> 16544.92 | Q9: 16544.92 | R9: FUNDACION EMPRESARIAL DE NUEVAS TECNOLOGIAS DE LA INFORMACION DE COLOMBIA | S9: METROTEL REDES S.A. | T9: 1 | U9: 1 | V9: 1 | W9: 1 | X9: 1 | Y9: 1 | Z9: 1 | AA9: 1
A10: 1 | B10: FUNDACION DE TELECOMUNIC ACIONES, INGENIERIA, SEGURIDAD E INNOVACION | C10: NACIONAL | D10: 2 | E10: 811617 811121 | F10: METROT EL S.A. E.S.P | G10: Implementación, montaje, operación de tecnologias de la información y las comunicaciones en instituciones educativas del departametno de Magdalena incluyendo suministro e instalación de equipos. | H10: 41339 | I10: 41987 | J10: I | K10: 1 | L10: N/A | M10: N/A | N10: 5.7210274e+09 | O10: ='Hoja 1 variables'!E10 -> 616000 | P10: =+N10/O10 -> 9287.3821 | Q10: 9287.38 | R10: FUNDACION EMPRESARIAL DE NUEVAS TECNOLOGIAS DE LA INFORMACION DE COLOMBIA | S10: METROPOLITANA DE TELECOMUNICACIONES SOCIEDAD ANONIMA EMPRESA DE SERVICIOS PUBLICOS ,METROTEL S.A ESP. | T10: 1 | U10: 1 | V10: 1 | W10: 1 | X10: 1 | Y10: 1 | Z10: 1 | AA10: 1
A11: 1 | B11: FUNDACION DE TELECOMUNIC ACIONES, INGENIERIA, SEGURIDAD E INNOVACION | C11: NACIONAL | D11: 3 | E11: 81161700 81112100 83111600 | F11: METROTEL S.A -ESP | G11: Provision de infraestructura tecnologica para garantizar conectividad a instituciones educativas del departamento de cordoba incluyendo suministro de bienes e instalacion de los mismos | H11: 41396 | I11: 41945 | J11: I | K11: 1 | L11: N/A | M11: N/A | N11: 5515134678 | O11: =+'Hoja 1 variables'!E10 -> 616000 | P11: =+N11/O11 -> 8953.1407 | Q11: 8953.14 | R11: FUNDACION EMPRESARIAL DE NUEVAS TECNOLOGIAS DE LA INFORMACION EN COLOMBIA-FUNTICS | S11: METROTEL S.A -ESP | T11: 1 | U11: 1 | V11: 1 | W11: 1 | X11: 1 | Y11: 1 | Z11: 1 | AA11: 1
A12: 1 | B12: FUNDACION DE TELECOMUNIC ACIONES, INGENIERIA, SEGURIDAD E INNOVACION | C12: NACIONAL | D12: 17 | E12: 81161700 | F12: GOBERNACION DE CORDOBA | G12: Convenio de coperación y asociación entre el departamento de córdoba y la fundación empresarial de nuevas tecnologias de la información de colombia (FUNTICS) para proveer el servicio de conectividad a internet a instituciones educativas oficiales de 23 municipios no certificados del Departamento de córdoba. | H12: 41873 | I12: 41995 | J12: I | K12: 1 | L12: N/A | M12: N/A | N12: 4078596078 | O12: =+'Hoja 1 variables'!E10 -> 616000 | P12: =+N12/O12 -> 6621.0975 | Q12: 6621.09 | R12: FUNDACION EMPRESARIAL DE NUEVAS TECNOLOGIAS DE LA INFORMACION EN COLOMBIA-FUNTICS | S12: DEPARTAMENTO DE CORDOBA - GOBERNACION DE CORDOBA | T12: 1 | U12: 0 | V12: 0 | W12: 0 | X12: 0 | Y12: 0 | Z12: 0 | AA12: 0 | AB12: El proponente no incluye certificado de ejecucion del contrato para comprobar la experiencia relacionada.
A13: 1 | B13: FUNDACION DE TELECOMUNIC ACIONES, INGENIERIA, SEGURIDAD E INNOVACION | C13: NACIONAL | D13: 70 | E13: 81112100 | F13: DEPARTAMENTO DEL MAGDALENA | G13: Fortalecimiento de la cultura ciudadana y democrática en ctel a través de la IEP apoyada en TIC en el dpto del Magdalena | H13: 43128 | I13: 43830 | J13: I | K13: 1 | L13: N/A | M13: N/A | N13: 26656998232 | O13: =+'Hoja 1 variables'!E15 -> 828116 | P13: =+N13/O13 -> 32189.933 | Q13: 36295.63 | R13: FUNDACION EMPRESARIAL DE NUEVAS TECNOLOGIAS DE LA INFORMACION EN COLOMBIA-FUNTICS | S13: DEPARTAMENTO DEL MAGDALENA | T13: 1 | U13: 0 | V13: 0 | W13: 0 | X13: 0 | Y13: 0 | Z13: 0 | AA13: 0 | AB13: La certificacion que presenta el proponente, no es valida ya que presentan un informe de actividades que realizó el interventor, mas no una certificación donde se evidencie el cumplimiento del contrato ejecutado, razon por la cual no cumple con lo solicitado en el pliego de condiciones, en la información adicional de contratos registrados, no contenida en el RUP, donde se solicita: "... La información de los contratos registrados que no se encuentre contenida en el RUP deberá ser acreditada con certificaciones de experiencia, actas de liquidación expedidas por el contratante o supervisor del contrato o cualquier otro documento soporte que permita validar la experiencia en los términos solicitados....", por otro lado, tambien se identifica una diferencia entre el valor del contrato reportado en la certificacion y el valor del RUP en los SMLV´s.
A14: 1 | B14: FUNDACION DE TELECOMUNIC ACIONES, INGENIERIA, SEGURIDAD E INNOVACION | C14: NACIONAL | D14: 34 | E14: 81161700 81112100 | F14: METROTEL S.A -ESP | G14: Provisión de infraestructura tecnológica para garantizar conectividad a instituciones educativas del departamento de Córdoba incluyendo suministro de bienes e instalación de los mismos. | H14: 42080 | I14: 42386 | J14: I | K14: 1 | L14: N/A | M14: N/A | N14: 3344250996 | O14: 4851 | P14: =+N14/O14 -> 689394.14 | Q14: 2887.77 | R14: FUNDACION EMPRESARIAL DE NUEVAS TECNOLOGIAS DE LA INFORMACION EN COLOMBIA-FUNTICS | S14: METROTEL S.A -ESP | T14: 1 | U14: 0 | V14: 0 | W14: 0 | X14: 1 | Y14: 1 | Z14: 1 | AA14: 0 | AB14: No cumple con lo solicitado en el pliego de condiciones, en los requisitos habilitantes donde solicita: "....El objeto o las obligaciones de los contratos aportados deberá contener actividades de: 1) instalación de infraestructura de telecomunicaciones* u; 2) operación de infraestructura de telecomunicaciones* o; 3) instalación y operación de infraestructura de telecomunicaciones* o; 4) prestación del servicio de acceso público a Internet mediante zonas WiFi o; 5) ejecución de contratos que abarquen una red compuesta de accesos conectados a Internet a través de tecnología satelital. * Entre la infraestructura de telecomunicaciones no se entenderán incluidos los circuitos cerrados de televisión. No se fue posible validar las actividades u obligaciones del contrato. ..". Adicional a esto el cargo de la persona que firma la certificacion no es la idonea para emitir la certificacion, por lo cual no cumple con lo solicitado en el pliego: "… e) Identificación y cargo de la persona facultada para expedirla. La certificación debe venir suscrita por la persona que ejerza la representación legal del emisor, o por aquel que tenga las facultades para expedirla. Así mismo, debe venir acompañada de los datos de contacto de quien certifica (teléfono, correo electrónico y dirección) o en su defecto, el proponente podrá informar los datos de contacto en documento anexo a la propuesta.."
A15: 1 | B15: FUNDACION DE TELECOMUNIC ACIONES, INGENIERIA, SEGURIDAD E INNOVACION | C15: NACIONAL | D15: 27 | E15: 81161700 81112100 | F15: METROTEL S.A -ESP | G15: Montaje e implementación de infraestructura tecnológica para la prestacion del servicio de conectividad a internet a 56 instituciones educaciones oficiales del Departamento del Cesar | H15: 41729 | I15: 41832 | J15: I | K15: 1 | L15: N/A | M15: N/A | N15: 3055672360 | O15: =+'Hoja 1 variables'!E10 -> 616000 | P15: =+N15/O15 -> 4960.5071 | Q15: 4960.5 | R15: FUNDACION EMPRESARIAL DE NUEVAS TECNOLOGIAS DE LA INFORMACION EN COLOMBIA-FUNTICS | S15: METROTEL S.A -ESP | T15: 1 | U15: 1 | V15: 1 | W15: 0 | X15: 1 | Y15: 1 | Z15: 1 | AA15: 0 | AB15: No cumple con lo solicitado en el pliego en los requisitos habilitantes minimos, donde se solicita que: "… e) Identificación y cargo de la persona facultada para expedirla. La certificación debe venir suscrita por la persona que ejerza la representación legal del emisor, o por aquel que tenga las facultades para expedirla. Así mismo, debe venir acompañada de los datos de contacto de quien certifica (teléfono, correo electrónico y dirección) o en su defecto, el proponente podrá informar los datos de contacto en documento anexo a la propuesta.."
Q16: =+SUMPRODUCT($Q$6:$Q$15,$AA$6:$AA$15) -> 74673.92
A17: =SUM(A6:A15) -> 10

Sheet 3. Exp habilitante EN EJEC
A1: PROPONENTE | C1: =+'1.Carta y exp habilitante'!B1:K1 -> 0
A4: # Contrato | B4: Miembro que reporta la Experiencia | C4: Contrato Nacional o extranjero | D4: Entidad Contratante | E4: 1) instalación de infraestructura de telecomunicaciones* u; 2) operación de infraestructura de telecomunicaciones* o; 3) instalación y operación de infraestructura de telecomunicaciones* o; 4) prestación del servicio de acceso público a Internet mediante zonas WiFi o; 5) ejecución de contratos que abarquen una red compuesta de accesos conectados a Internet a través de tecnología satelital. * Entre la infraestructura de telecomunicaciones no se entenderán incluidos los circuitos cerrados de televisión. Para efectos del presente proceso de selección se entenderá por Infraestructura de Telecomunicaciones: “Los Soportes físicos y lógicos que permiten el transporte de los servicios de telecomunicaciones entre dos puntos de la red.” Definición Comisión Europea.ç | F4: Fecha de Inicio | G4: Tiempo de operación del contrato. | H4: Forma de ejecución | J4: Moneda del contrato Contrato. Si la moneda del contrato es diferente al dólar https://www1.oanda.com/lang/es/currency/converter/. | K4: valor en dolares | L4: Valor del Contrato COP | M4: Valor ejecutado por el Contratista. La fecha de corte para calcular el monto ejecutado deberá constar en la certificación y tendrá que ser anterior o coincidir con la fecha de expedición de dicha certificación. | N4: SMMLV | O4: Valor del Contrato en SMMLV | P4: CERTIFICACION | V4: CONTRATO VÁLIDO PARA HABILITAR | W4: OBSERVACIONES
H5: I, C, UT | I5: % | P5: Objeto del Contrato. | Q5: Actividades y /o obligaciones | R5: Identificación y cargo de la persona facultada para expedirla. La certificación debe venir suscrita por la persona que ejerza la representación legal del emisor, o por aquel que tenga las facultades para expedirla. Así mismo, debe venir acompañada de los datos de contacto de quien certifica (teléfono, correo electrónico y dirección) o en su defecto, el proponente podrá informar los datos de contacto en documento anexo a la propuesta. | S5: Si la certificación incluye varios contratos, se debe identificar en forma precisa si se trata de adiciones, prórrogas u otrosíes al principal o son contratos diferentes, indicando en cada uno de ellos sus plazos (fecha de suscripción y/o de inicio del contrato y, tiempo de operación del contrato) y valor. Si la certificación incluye el Contrato principal con sus adiciones, prórrogas u otrosíes, se entenderá como un solo Contrato certificado. | T5: Fecha de suscripción o de iniciación del Contrato. | U5: Indicar expresamente que los tres (3) años de operación a cargo del contratista, de acuerdo con el concepto del contratante, ha sido satisfactoria en cuanto al cumplimiento de los indicadores de calidad y niveles de servicio.
A6: 0 | N6: =+'Hoja 1 variables'!E$16 -> 877802 | O6: =+M6/N6 -> 0 | V6: 1
A7: 0 | N7: =+'Hoja 1 variables'!E$16 -> 877802 | O7: =+M7/N7 -> 0
A8: 0 | N8: =+'Hoja 1 variables'!E$16 -> 877802 | O8: =+M8/N8 -> 0
A9: 0 | N9: =+'Hoja 1 variables'!E$16 -> 877802 | O9: =+M9/N9 -> 0
A10: 0 | N10: =+'Hoja 1 variables'!E$16 -> 877802 | O10: =+M10/N10 -> 0
A11: 0 | N11: =+'Hoja 1 variables'!E$16 -> 877802 | O11: =+M11/N11 -> 0
A12: 0 | N12: =+'Hoja 1 variables'!E$16 -> 877802 | O12: =+M12/N12 -> 0
A13: 0 | N13: =+'Hoja 1 variables'!E$16 -> 877802 | O13: =+M13/N13 -> 0
A14: 0 | N14: =+'Hoja 1 variables'!E$16 -> 877802 | O14: =+M14/N14 -> 0
N15: =+'Hoja 1 variables'!E$16 -> 877802 | O15: =+M15/N15 -> 0
O17: =+SUMPRODUCT($O$6:$O$15,$V$6:$V$15) -> 0
A18: =SUM(A6:A15) -> 0

Sheet Hoja 1 variables
B2: SI | C2: 1 | D2: Año | E2: SMMLV
B3: NO | C3: 0 | D3: 2008 | E3: 461500 | H3: Region | I3: Presupuesto | J3: En SMMLV | K3: 0.1
D4: 2009 | E4: 496900 | H4: REGION A | I4: 1065474968972 | J4: =+I4/E$16 -> 1213798.7 | K4: =+J4*K$3 -> 121379.87
B5: 100 | D5: 2010 | E5: 515000 | H5: REGION B | I5: 1072552301475 | J5: =+I5/E$16 -> 1221861.3 | K5: =+J5*K$3 -> 122186.13
B6: 0 | D6: 2011 | E6: 535600 | H6: • Presentar propuesta por un mismo proponente para ambas regiones (Región A y Región B), con la opción de ser adjudicatario sólo de una región, | I6: 1072552301475 | J6: =+I6/E$16 -> 1221861.3 | K6: =+J6*K$3 -> 122186.13 | M6: 2138117270447
D7: 2012 | E7: 566700 | H7: • Presentar propuesta por un mismo proponente para ambas regiones (Región A y Región B), con la opción excepcional de ser adjudicatario de las dos regiones, | I7: 2138117270447 | J7: =+I7/E$16 -> 2435762.6 | K7: =+J7*K$3 -> 243576.26
D8: 2013 | E8: 589500 | H8: • Presentarse en dos proponentes diferentes para ambas regiones (Región A y Región B), con la opción excepcional de ser adjudicatario de las dos regiones REGION A | I8: 1065474968972 | J8: =+I8/E$16 -> 1213798.7 | K8: =+J8*K$3 -> 121379.87
H9: • Presentarse en dos proponentes diferentes para ambas regiones (Región A y Región B), con la opción excepcional de ser adjudicatario de las dos regiones REGION B | I9: 1072552301475 | J9: =+I9/E$16 -> 1221861.3 | K9: =+J9*K$3 -> 122186.13
D10: 2014 | E10: 616000
D11: 2015 | E11: 644350 | H11: Región | I11: Puntaje | K11: Puntaje
D12: 2016 | E12: 689454 | H12: Antioquia | I12: 15 puntos: 93 accesos | K12: 15 puntos: 93 accesos
D13: 2017 | E13: 737717
D14: 2018 | E14: 781242 | I14: 30 puntos: 154 accesos | K14: 30 puntos: 154 accesos
D15: 2019 | E15: 828116 | H15: Cundinamarca | I15: 15 puntos: 56 accesos | K15: 15 puntos: 56 accesos
D16: 2020 | E16: 877802
I17: 30 puntos: 93 accesos | K17: 30 puntos: 93 accesos
H18: Sur | I18: 15 puntos: 43 accesos | K18: 15 puntos: 43 accesos
I20: 30 puntos: 71 accesos | K20: 30 puntos: 71 accesos
H21: Eje cafetero | I21: 15 puntos: 36 accesos | K21: 15 puntos: 36 accesos
I23: 30 puntos: 61 accesos | K23: 30 puntos: 61 accesos
H24: Centro-occidente | I24: 15 puntos: 42 accesos | K24: 15 puntos: 42 accesos
I26: 30 puntos: 54 accesos | K26: 30 puntos: 54 accesos
H27: Pacífico | I27: 15 puntos: 31 accesos | K27: 15 puntos: 31 accesos
I29: 30 puntos: 52 accesos | K29: 30 puntos: 52 accesos
H30: Norte | I30: 15 puntos: 42 accesos | K30: 15 puntos: 42 accesos
I32: 30 puntos: 70 accesos | K32: 30 puntos: 70 accesos
H33: Centro-oriente | I33: 15 puntos: 31 accesos | K33: 15 puntos: 31 accesos
I35: 30 puntos: 52 accesos | K35: 30 puntos: 52 accesos
H36: Oriente | I36: 15 puntos: 27 accesos | K36: 15 puntos: 27 accesos
I38: 30 puntos: 45 accesos | K38: 30 puntos: 45 accesos
