Workbook
Name apu: #REF!
Name apu: #REF!
Name apu: #REF!
Name apu: #REF!
Name apu: #REF!
Name apu: #REF!
Name apu: #REF!
Name apu: #REF!
Name apu: #REF!
Name apu: #REF!
Name apu: #REF!
Name apu: #REF!
Name apu: #REF!
Name apu: #REF!
Name apu: #REF!
Name apu: #REF!
Name apu: #REF!
Name apu: #REF!
Name apu: #REF!
Name apu: #REF!
Name apu: #REF!
Name apu: #REF!
Name apu: #REF!
Name apu: #REF!
Name apu: #REF!
Name apu: #REF!
Name apu: #REF!
Name apu: #REF!
Name apu: #REF!
Name apu: #REF!
Name apu: #REF!
Name apu: #REF!
Name apu: #REF!
Name apu: #REF!
Name apu: #REF!
Name apu: #REF!
Name apu: #REF!
Name apu: #REF!
Name apu: #REF!
Name apu: #REF!
Name apu: #REF!
Name apu: #REF!
Name apu: #REF!
Name e: #REF!
Name e: #REF!
Name e: #REF!
Name MUNICIPIOS: '[1]MATRIZ BASE (3)'!$J$3:$J$127
Name MUNICIPIOS1: [2]MUNICIPIOS!$A$1:$A$126
Name PROYECTOS: [3]Hoja7!$E$2:$E$19
Name PROYECTOS1: '[4]PROYECTOS 2012 - 2015'!$E$2:$E$19

Sheet PRESUPUESTO GYM
A2: PROYECTO ADECUACION Y MEJORAMIENTO DE ZONAS DEPORTIVAS EN EL MUNICIPIO DE LIBORINA
A3: VALOR PROYECTO | C3: =+F128 -> 8.9005228e+08
A4: PLAZO INCIAL EN MESES | C4: 6
A5: ESPECIFICACIONES TÉCNICAS
A6: ZONAS DEPORTIVAS MUNICIPAL DE LIBORINA
A7: GYM
A8: ÍTEM | B8: DESCRIPCIÓN | C8: UND. | D8: CANT. | E8: V. UNITARIO | F8: V. TOTAL
A9: 1 | B9: PRELIMINARES
A10: 1.01 | B10: LOCALIZACIÓN, TRAZADO Y REPLANTEO. Se utilizarápersonal experto con equipo de precisión. Se hará con la frecuencia que lo indique la interventoría. Incluye demarcación con pintura, línea de trazado, corte de piso, libretas y planos. | C10: DIA | D10: 2 | E10: =+'APU 1,01'!E25 -> 764812 | F10: =+D10*E10 -> 1529624
A11: 1.02 | B11: Instalación de CERRAMIENTO PROVISIONAL en tela verde polietileno de alta densidad y resistencia 65 gr/m2 con una altura de 2,10 m, estacones de madera común para fijación vertical de altura de 2,50 m puesto mínimo cada 2,0 m y para apuntalamiento mínimo cada 10 m y cada cambio de dirección, arranques y terminación, diámetro aproximado 0,10 m, elementos de fijación | C11: M | D11: 60 | E11: =+'APU 1,02'!E28 -> 20778 | F11: =+D11*E11 -> 1246680
A12: 2 | B12: DEMOLICIONES Y EXCAVACIONES
A13: 2.01 | B13: DESCAPOTE MANUAL. Incluye el desenraíce si es necesario, cargue, transporte y botada de material sobrante en botaderos oficiales. Medido en sitio. | C13: M2 | D13: 240 | E13: =+'APU 2.01'!E28 -> 11172 | F13: =+D13*E13 -> 2681280
A14: 2.02 | B14: EXCAVACIÓN MANUAL de material heterogéneo DE 0-2 m., bajo cualquier grado de humedad. Incluye: roca descompuesta, bolas de roca de volúmen inferior a 0.35 m³, el cargue, transporte interno y externo, botada de material proveniente de las excavaciones en los sitios oficiales y su medida será en el sitio. No incluye entibado. | C14: M3 | D14: 132.8 | E14: =+'APU 2.02'!E28 -> 78960 | F14: =+D14*E14 -> 10485888
A15: 2.03 | B15: DEMOLICIÓN de muro divisorio interior de mampostería vista, formada por ladrillo perforado de 11/12 cm de espesor, con medios manuales, sin afectar a la estabilidad de los elementos constructivos contiguos. Incluso parte proporcional de desmontaje previo de las hojas de carpintería y retirada de marcos, limpieza, acopio, retirada y carga manual de escombros sobre camión o contenedor. | C15: M2 | D15: 0 | E15: =+'APU 2.03'!E28 -> 59655 | F15: =+D15*E15 -> 0
A16: 2.04 | B16: DEMOLICIÓN DE ESTRUCTURAS DE CONCRETO de cualquier resistencia, reforzado, ciclópeo y en cualquier clase y forma de estructura: Estructuras de contención, fundaciones, columnas, vigas, losas, escaleras, muros, coberturas, cámaras de inspección, entre otros; incluye transporte interno hasta el sitio de almacenamiento. | C16: M3 | D16: 0 | E16: =+'APU 2.04'!E31 -> 254206 | F16: =+D16*E16 -> 0
A17: 2.05 | B17: LLENO con material proveniente de la excavación | C17: m3 | D17: 216.8 | E17: =+'APU 2.05'!E31 -> 42999 | F17: =+D17*E17 -> 9322183.2
A18: 2.06 | B18: Suministro y colocación de subbase granular de máximo Ø 2 1/2", reacomodado con medios mecánicos y compactado al 96% mínimo del ensayo del proctor modificado, e max= 40 cm. | C18: m3 | D18: 52.8 | E18: =+'APU 2.06'!E31 -> 217171 | F18: =+D18*E18 -> 11466629
A19: 3 | B19: CONCRETO
A20: 3.01 | B20: Colocación de concreto de 14 Mpa para SOLADO, con un espesor DE 0.05 m. Incluye el suministro y el transporte del concreto y todos los demás elementos necesarios para su correcta construcción, incluye acarreo interno. | C20: M2 | D20: 150 | E20: =+'APU 3.01'!E31 -> 36126 | F20: =+D20*E20 -> 5418900
A21: 3.02 | B21: Construcción de PEDESTALES en concreto de 21 Mpa. DE 0.4 x 0.4. X 0.6. Incluye suministro, transporte y la colocación del concreto, mano de obra, formaleta, vibrado, protección y curado, para estructuras de acuerdo con las diferentes dimensiones establecidas en los planos y diseños. No incluye refuerzo. | C21: M3 | D21: 0.99 | E21: =+'APU 3.02'!E34 -> 1121010 | F21: =+D21*E21 -> 1109799.9
A22: 3.03 | B22: Construcción de ZAPATAS en concreto de 21 Mpa. Incluye suministro, transporte e instalación del concreto, mano de obra, vibrado, formaleta, curado y protección. incluye acarreo interno. No incluye refuerzo, según diseño. | C22: M3 | D22: 4.4 | E22: =+'APU 3.03'!E34 -> 864283 | F22: =+D22*E22 -> 3802845.2
A23: 3.04 | B23: Construcción de COLUMNAS DE 0.2 x 0,2m. en concreto de 21 MPa, acabado a la vista. Incluye suministro, transporte y colocación del concreto, formaleta en súper "T" de 19mm., aristas biseladas, desmoldante, fluidificante para mezclas de concreto, vibrado, protección, curado y todos los demás elementos necesarios para su correcta construcción según diseño. El acero de refuerzo se pagará en su respectivo ítem. | C23: M | D23: 36.8 | E23: =+'APU 3.04'!E39 -> 113802 | F23: =+D23*E23 -> 4187913.6
A24: 3.05 | B24: Construcción de LOSA DE FUNDACIÓN en concreto de 21 Mpa. con un espesor de 0.10m. Incluye suministro, transporte e instalación del concreto, mano de obra, vibrado, protección y curado, para estructuras de acuerdo con las diferentes dimensiones establecidas en los planos y diseños. No incluye refuerzo. | C24: M2 | D24: 144 | E24: =+'APU 3.05'!E33 -> 105936 | F24: =+D24*E24 -> 15254784
A25: 3.06 | B25: Construcción de LOSA PARA RAMPA en concreto de 21 Mpa. con un espesor de 0.10m. Incluye suministro, transporte e instalación del concreto, mano de obra, vibrado, protección y curado, para estructuras de acuerdo con las diferentes dimensiones establecidas en los planos y diseños. No incluye refuerzo. | C25: M2 | D25: 93.6 | E25: =+'APU 3.06'!E37 -> 1006022 | F25: =+D25*E25 -> 94163659
A26: 3.07 | B26: Construcción de VIGAS DE FUNDACIÓN de 0,3 x 0,3 m. en concreto de 21 Mpa. Incluye suministro, transporte y colocación del concreto, formaleta de primera calidad en súper T de 19 mm o equivalente, vibrado, protección, curado y todos los demás elementos necesarios para su correcta construcción. El acero de refuerzo se pagará en su respectivo ítem según diseño y especificaciones establecidos en los planos. En el vaciado se deben dejar los hierros para el amarre de los elementos no estructurales que se requieran. | C26: ML | D26: 66.4 | E26: =+'APU 3.07'!E35 -> 131107 | F26: =+D26*E26 -> 8705504.8
A27: 3.08 | B27: Construcción de VIGAS AÉREAS de 0,2 x 0,2 m. en concreto de 21 Mpa, hasta una altura de 3,2m medidos desde el nivel de apoyo de la obra falsa hasta el nivel inferior de la viga. Incluye suministro, transporte y colocación del concreto, formaleta de primera calidad en súper T de 19 mm o equivalente, para acabado a la vista, aristas biseladas, suministro, transporte, armado y desarmado de la obra falsa requerida, vibrado, protección, curado y todos los demás elementos necesarios para su correcta construcción. El acero de refuerzo se pagará en su respectivo ítem según diseño y especificaciones establecidos en los planos. En el vaciado se deben dejar los hierros para el amarre de los elementos no estructurales que se requieran. | C27: ML | D27: 92 | E27: =+'APU 3.08'!E39 -> 147544 | F27: =+D27*E27 -> 13574048
A28: 3.09 | B28: Construcción de CINTA CULATA de 0,15 x 0,20 m. en concreto de 21 Mpa, hasta una altura de 3,2m medidos desde el nivel de apoyo de la obra falsa hasta el nivel inferior de la viga. Incluye suministro, transporte y colocación del concreto, formaleta de primera calidad en súper T de 19 mm o equivalente, para acabado a la vista, aristas biseladas, suministro, transporte, armado y desarmado de la obra falsa requerida, vibrado, protección, curado y todos los demás elementos necesarios para su correcta construcción. El acero de refuerzo se pagará en su respectivo ítem según diseño y especificaciones establecidos en los planos. En el vaciado se deben dejar los hierros para el amarre de los elementos no estructurales que se requieran, por ningún motivo se pagarán anclajes. | C28: ML | D28: 44 | E28: =+'APU 3.09'!E29 -> 118618 | F28: =+D28*E28 -> 5219192
A29: 3.1 | B29: Construcción de VIGA CANAL de 0,3 x 0,60 m; Vacio interno de 0,15x0,54m en concreto de 21 Mpa, hasta una altura de 3,2m medidos desde el nivel de apoyo de la obra falsa hasta el nivel inferior de la viga. Incluye suministro, transporte y colocación del concreto, formaleta de primera calidad en súper T de 19 mm o equivalente, para acabado a la vista, aristas biseladas, suministro, transporte, armado y desarmado de la obra falsa requerida, vibrado, protección, curado y todos los demás elementos necesarios para su correcta construcción. El acero de refuerzo se pagará en su respectivo ítem según diseño y especificaciones establecidos en los planos. En el vaciado se deben dejar los hierros para el amarre de los elementos no estructurales que se requieran, por ningún motivo se pagarán anclajes. | C29: ML | D29: 0 | E29: =+'APU 3.10'!E39 -> 582529 | F29: =+D29*E29 -> 0
A30: 3.11 | B30: Construcción de ANDÉN O PLACAS en concreto de 21 Mpa, espesor de 0.08 m., escobiado y llaneado. Incluye suministro y transporte de los materiales, nivelación del terreno y adecuación de la superficie, entresuelo en piedra (e=0,15 m.), arenilla compactada (e=0,05 m.), curado y todo lo necesario para su correcta construcción y funcionamiento. Según diseño. | C30: M2 | D30: 0 | E30: =+'APU 3.11'!E37 -> 191671 | F30: =+D30*E30 -> 0
A31: 4 | B31: ESTRUCTURA
A32: 4.01 | B32: Construcción, transporte y montaje de ESTRUCTURA METÁLICA, en PERFILERIA TIPO IPE, HEA, PHR-C, PTE, W, C para elementos de cubierta, rampas o áreas de circulación metálicas, soporte de fachadas, tensores, vigas de apoyo, entre otros, según diseño. Incluye: suministro y transporte de perfiles, láminas, platinas, uniones, soldaduras de acabado o presentación, anclajes y pernos a estructura de concreto y madera, cortes, doblajes. Todos los elementos deben llevar dos manos minimo de pintura anticorrosiva cromato de zinc (2) dos manos minimo de esmalte (2) dos manos, color por definir, obra falsa y todo el equipo y la herramienta necesaria para el montaje. | C32: KG | D32: 0 | E32: =+'APU 4.01'!E37 -> 36509 | F32: =+D32*E32 -> 0
A33: 4.02 | B33: Suministro, transporte e instalación de ACERO DE REFUERZO FIGURADO FY= 420 Mpa-60000 PSI, corrugado. Incluye transporte con descarga, transporte interno, alambre de amarre, certificados y todos los elementos necesarios para su correcta instalación, según diseño y recomendaciones estructurales. | C33: KG | D33: 3000 | E33: =+'APU 4.02'!E26 -> 8358 | F33: =+D33*E33 -> 25074000
A34: 4.03 | B34: Colocación de MALLA ELECTROSOLDADA. Incluye el suministro y el transporte del material y todos los elementos necesarios para su correcta colocación. | C34: M2 | D34: 192.4 | E34: =+'APU 4.03'!E26 -> 13240 | F34: =+D34*E34 -> 2547376
A35: 5 | B35: MAMPOSTERIA
A36: 5.01 | B36: Construcción de SOBRECIMIENTO EN BLOQUE DE CONCRETO DE 12 x 20 x 40 cm. ESPESOR de 12 cm. (bloque de primera calidad, 1 HILADAS). Incluye el suministro y el transporte de materiales, mortero de pega 1:4, relleno en concreto fluido de 10.5Mpa en todas las celdas, y todos los elementos necesarios para su correcta ejecución y funcionamiento. | C36: ML | D36: 94 | E36: =+'APU 5.01'!E26 -> 54144 | F36: =+D36*E36 -> 5089536
A37: 5.02 | B37: Construcción de MAMPOSTERIA EN LADRILLO DE 12 x 20 x 40 cm. ESPESOR DE 12 cm. Incluye el suministro y transporte del bloque, el mortero de pega 1:4 espesor max=0.015 m y todos los demás elementos necesarios para su correcta construcción y funcionamiento. | C37: M2 | D37: 206.8 | E37: =+'APU 5.02'!E29 -> 80086 | F37: =+D37*E37 -> 16561785
A38: 6 | B38: REVOQUES Y PINTURA
A39: 6.01 | B39: Colocación de REVOQUE con mortero 1:4 EN MUROS. Incluye suministro y transporte de los materiales, fajas, ranuras, filetes y todos los demás elementos necesarios para su correcta construcción. | C39: M2 | D39: 396 | E39: =+'APU 6.01'!E27 -> 36144 | F39: =+D39*E39 -> 14313024
A40: 6.02 | B40: ESTUCO sobre revoque acabado liso, lijado y listo para aplicación de Pintura | C40: M2 | D40: 0 | E40: =+'APU 6.02'!E26 -> 27876 | F40: =+D40*E40 -> 0
A41: 6.03 | B41: Aplicación de PINTURA A BASE DE AGUA EN MUROS REVOCADOS, CON VINILO TIPO 1 de primera calidad sobre muros revocados, tres manos o las necesarias hasta obtener una superficie pareja y homogénea. Incluye suministro y transporte de los materiales, resanes, tapa poros en estuco plástico tipo plastestuco o equivalente diluido en agua proporción 1:2, adecuación de la superficie a intervenir hasta obtener una superficie pareja y homogénea, color a definir según aprobación de la interventoría. | C41: M2 | D41: 270 | E41: =+'APU 6.03'!E27 -> 15892 | F41: =+D41*E41 -> 4290840
...

Sheet AU GYM
A1: MUNICIPIO DE LIBORINA ANTIOQUIA
A2: PROYECTO ADECUACION Y MEJORAMIENTO DE ZONAS DEPORTIVAS EN EL MUNICIPIO DE LIBORINA
A5: DURACION DEL PROYECTO EN MESES | F5: =+'[5]PRESUPUESTO GYM y CANCHA'!C4 -> 6
A6: COSTO DIRECTO | F6: =+'PRESUPUESTO GYM'!F122 -> 6.1564123e+08
A7: COSTO TOTAL | F7: =+'PRESUPUESTO GYM'!F128 -> 8.9005228e+08
A8: GASTOS DE LEGALIZACIÓN DEL CONTRATO
A9: RETENCION FONDO DE SEGURIDAD - DEPARTAMENTO | D9: 0.05 | E9: =+D9*$F$7 -> 44502614
A10: ESTAMPILLA PROCULTURA- MUNICIPIO | D10: 0.02 | E10: =+D10*$F$7 -> 17801046
A11: ESTAMPILLA PRO ANCIANO- MUNICIPIO | D11: 0.04 | E11: =+D11*$F$7 -> 35602091
A12: TASA PRO HOSPITAL - DEPARTAMENTO | D12: 0.01 | E12: =+D12*$F$7 -> 8900522.8
A13: ESTAMPILLA PARA LA JUSTICIA FAMILIAR- MUNICIPIO | D13: 0.02 | E13: =+D13*$F$7 -> 17801046
A14: TASA PRO DEPORTES (DEPARTAMENTO VG 2025) | D14: 0.025 | E14: =+D14*$F$7 -> 22251307
A15: TOTAL. | D15: =SUM(D9:D14) -> 0.165 | E15: =SUM(E9:F14) -> 1.4685863e+08
A16: GASTOS DESEMBOLSABLES
A17: DESCRIPCION | B17: Cantidad | C17: Valor/mes | D17: Prestaciones | E17: Cantidad en meses | F17: Vr. Total
A18: Campamento y punto de atencion, incluye servicios | B18: 1 | C18: 1070000 | D18: 1 | E18: =+$F$5 -> 6 | F18: =+E18*D18*C18*B18 -> 6420000
A19: Papeleria | B19: 1 | C19: 180000 | D19: 1 | E19: =+$F$5 -> 6 | F19: =+E19*D19*C19*B19 -> 1080000
A20: Valla (3,0X2,0m). Incluye estructura metálica para fijación y soporte | B20: 1 | C20: 1711008.9 | D20: 1 | E20: 1 | F20: =+E20*D20*C20*B20 -> 1711008.9
A21: Polizas | B21: 1 | C21: =+F7 -> 8.9005228e+08 | D21: 0.0099803234 | E21: 1 | F21: =+E21*B21*C21*D21 -> 8883009.6
A22: Auxilio rodamiento traslado personal administrativo a los dos frentes | B22: 2 | C22: 500000 | D22: 1 | E22: =+$F$5 -> 6 | F22: =+E22*D22*C22*B22 -> 6000000
A23: TOTAL. | F23: =SUM(F18:F22) -> 24094019
A24: GASTOS DE PERSONAL.
A25: Personal | B25: Cantidad | C25: Sueldo/mes | D25: Prestaciones | E25: Cantidad en meses | F25: Vr. Total
A26: Director de Obra | B26: 0.25 | C26: 8000000 | D26: 1.61 | E26: =+$F$5 -> 6 | F26: =+E26*D26*C26*B26 -> 19320000
A27: Residente de obra | B27: 0.5 | C27: 4500000 | D27: 1.61 | E27: =+$F$5 -> 6 | F27: =+E27*D27*C27*B27 -> 21735000
A28: Residente SISOMA | B28: 0.5 | C28: 3800000 | D28: 1.61 | E28: =+$F$5 -> 6 | F28: =+E28*D28*C28*B28 -> 18354000
A29: Tecnólogo Electrico | B29: 0.5 | C29: 3500000 | D29: 1.61 | E29: 3 | F29: =+E29*D29*C29*B29 -> 8452500
A30: TOTAL GASTO PERSONAL. | F30: =SUM(F26:F29) -> 67861500
A31: COSTO TOTAL DE LA ADMINISTRACIÓN | E31: =+(E15+F23+F30)/F6 -> 0.38791122 | F31: =F30+F23+E15 -> 2.3881414e+08
A32: UTILIDAD | E32: 0.05 | F32: =+E32*F6 -> 30782062
A33: COSTO TOTAL DEL AU | E33: =E32+E31 -> 0.43791122 | F33: =F32+F31 -> 2.6959621e+08
A36: Elaboró:
A37: JUAN SEBASTIAN HINCAPIE HERNANDEZ
A38: Secretario de Planeación y Desarrollo Territorial
A39: Municipio de Liborina

Sheet PMA GYM
A1: REPÚBLICA DE COLOMBIA
A2: DEPARTAMENTO DE ANTIOQUIA
A3: MUNICIPIO DE LIBORINA
A4: PLAN DE MANEJO AMBIENTAL - PMA (BÁSICO) GYM
A5: PMA GENERAL
A6: ITEM | B6: DESCRIPCIÓN | C6: UNIDAD | D6: CANTIDAD | E6: VR.UNITARIO | F6: VALOR TOTAL
A7: 1 | B7: PROGRAMA / PROYECTO GESTIÓN AMBIENTAL | F7: =SUM(F9:F17) -> 3013108
A8: 1.1 | B8: MANEJO Y DISPOSICION FINAL DE RESIDUOS SOLIDOS CONVENCIONALES Y ESPECIALES
B9: JUEGO DE TRES RECIPIENTES O CANECAS DE 55 GALONES INCLUYE IVA | C9: UN | D9: 1 | E9: 813214 | F9: =+E9*D9 -> 813214
B10: BOLSAS POLIETILENO ALTA DENSIDAD (PAQUETE 10 UNIDADES). INCLUYE IVA | C10: UN | D10: 3 | E10: 39380.667 | F10: =+E10*D10 -> 118142
B11: DISPOSICIÓN DE RESIDUOS PELIGROSOS Y ESPECIALES CON EMPRESAS CERTIFICADAS | C11: MES | D11: 4 | E11: 246429 | F11: =+E11*D11 -> 985716
A12: 1.2 | B12: SEÑALIZACIÓN FRENTES DE OBRASY SITIOS TEMPORALES (DEMARCACIÓN DE ÁREAS DE TRABAJO Y CENTROS DE ACOPIO)
B13: CINTA SEÑALIZACIÓN CALIBRE 4, 12 CM DE ALTO, COLOR NARANJA - BLANCO O AMARILLO- NEGRO, DE 500 M. (INCLUYE IVA) | C13: ROLLO | D13: 1 | E13: 118286 | F13: =+E13*D13 -> 118286
A14: 1.3 | B14: PROYECTO DE MANEJO INTEGRAL DE MATERIALES DE CONSTRUCCION Y MANEJO DE FUENTES DE EMISIONES ATMOSFÉRICAS
B15: TELERAS 1,35M X 0,90 M | C15: UN | D15: 6 | E15: 86250 | F15: =+E15*D15 -> 517500
A16: 1.4 | B16: MANEJO DE RESIDUOS LÍQUIDOS DOMÉSTICOS E INDUSTRIALES
B17: KIT DE EMERGENCIA PARA DERRAMES | C17: UN | D17: 1 | E17: 460250 | F17: =+E17*D17 -> 460250
A18: 2 | B18: PROGRAMA DE SEGURIDAD Y SALUD EN EL TRABAJO | F18: =SUM(F19:F21) -> 714589
B19: CAMILLA EMERGENCIA POLIETILENO 185X45CM (INCLUYE IVA) | C19: UN | D19: 1 | E19: 369643 | F19: =+E19*D19 -> 369643
B20: EXTINTOR ABC 20 LB (INCLUYE IVA) | C20: UN | D20: 1 | E20: 197143 | F20: =+E20*D20 -> 197143
B21: BOTIQUÍN CRUZ ROJA DE PRIMEROS AUXILIOS REF. 115 EN LONA | C21: UN | D21: 1 | E21: 147803 | F21: =+E21*D21 -> 147803
A22: 3 | B22: GESTIÓN SOCIAL | F22: =SUM(F23:F23) -> 1087142
B23: REUNIONES, TALLERES INFORMATIVOS Y DE SOCIALIZACIÓN CON LA COMUNIDAD AFECTADA POR EL PROYECTO. INICIO, AVANCE Y FIN DE OBRA. INCLUYE LOGÍSTICA Y REFRIGERIOS. | C23: UN | D23: 2 | E23: 543571 | F23: =+E23*D23 -> 1087142
A24: TOTAL PLAN DE MANEJO AMBIENTAL - PMA | F24: =+F7+F18+F22 -> 4814839
A26: Elaboró:
A27: JUAN SEBASTIAN HINCAPIE HERNANDEZ
A28: Secretario de Planeación y Desarrollo Territorial
A29: Municipio de Liborina

Sheet APU 1,01
A3: ANALISIS DE PRECIOS UNITARIOS
A4: Descripción | E4: No. Item | F4: Unidad
A5: LOCALIZACIÓN, TRAZADO Y REPLANTEO. Se utilizará personal experto con equipo de precisión. Se hará con la frecuencia que lo indique la interventoría. Incluye demarcación con pintura, línea de trazado, corte de piso, libretas y planos. | E5: 1.01 | F5: día
A6: Clave | B6: Materiales | C6: Unidad | D6: Cantidad | E6: V/Unitario | F6: V/Total
A7: CLAVOCOMUN11/2" | B7: Clavo común de 1 1/2" | C7: lb | D7: 0.1 | E7: 6127 | F7: =+D7*E7 -> 612.7
A8: PINTURABASEACEITE | B8: Pintura base aceite x galón. | C8: gal | D8: 0.01 | E8: 97190 | F8: =+D8*E8 -> 971.9
A9: LARGMADCOM5X5CMX2,8M | B9: Larguero de madera común 5x5cm - 2.8m (2 1/2" x 2 1/2" Canteado) | C9: un | D9: 3 | E9: 11524 | F9: =+D9*E9 -> 34572
A10: Total de Materiales | E10: SUBTOTAL | F10: =SUM(F7:F9) -> 36156.6
A11: Clave | B11: Mano de Obra | C11: Unidad | D11: Cantidad | E11: V/Unitario | F11: V/Total
A12: TOPOGRAFO | B12: Topógrafo con Licencia | C12: día | D12: 1 | E12: 249923.43 | F12: =+D12*E12 -> 249923.43
A13: CADENERO1 | B13: Cadenero 1 | C13: día | D13: 1 | E13: 152529 | F13: =+D13*E13 -> 152529
A14: Total de Mano de Obra | E14: SUBTOTAL | F14: =SUM(F12:F13) -> 402452.43
A15: Clave | B15: Herramienta | C15: Unidad | D15: Cantidad | E15: V/Unitario | F15: V/Total
A16: HERRMENOR | B16: Herramienta Menor (% de MdeO) | C16: (%)mo | D16: 0.05 | E16: =+F14 -> 402452.43 | F16: =+D16*E16 -> 20122.621
A17: Total de Herramienta | E17: SUBTOTAL | F17: =SUM(F16) -> 20122.621
A18: Clave | B18: Equipo | C18: Unidad | D18: Cantidad | E18: V/Unitario | F18: V/Total
A19: NIVELPRECISION | B19: Nivel de precisión | C19: día | D19: 1 | E19: 115193.99 | F19: =+D19*E19 -> 115193.99
A20: ESTACIONTOTAL | B20: Estación total | C20: día | D20: 1 | E20: 164561.79 | F20: =+D20*E20 -> 164561.79
A21: Total de Equipo | E21: SUBTOTAL | F21: =SUM(F19:F20) -> 279755.77
A22: Clave | B22: Fletes | C22: Unidad | D22: Cantidad | E22: V/Unitario | F22: V/Total
A23: AUXTRANSPPERSYEQ | B23: Auxilio para Transporte personal y equipo (viaje ida y regreso) | C23: viaje | D23: 0.5 | E23: 52650 | F23: =+D23*E23 -> 26325
A24: Total de Fletes | E24: SUBTOTAL | F24: =SUM(F23) -> 26325
A25: P R E C I O U N I T A R I O | E25: =ROUND((F10+F14+F17+F21+F24),0) -> 764812

Sheet APU 1,02
A3: ANALISIS DE PRECIOS UNITARIOS
A4: Descripción | E4: No. Item | F4: Unidad
A5: Instalación de CERRAMIENTO PROVISIONAL en tela verde polietileno de alta densidad y resistencia 65 gr/m2 con una altura de 2,10 m, estacones de madera común para fijación vertical de altura de 2,50 m puesto mínimo cada 2,0 m y para apuntalamiento mínimo cada 10 m y cada cambio de dirección, arranques y terminación, diámetro aproximado 0,10 m, elementos de fijación | E5: 1.02 | F5: m
A6: Clave | B6: Materiales | C6: Unidad | D6: Cantidad | E6: V/Unitario | F6: V/Total
A7: LISTONMADCOM2X1 | B7: Listón de madera común de 2" X 1" | C7: un | D7: 0.5 | E7: 5573 | F7: =+D7*E7 -> 2786.5
A8: TELAVERDEPOLIP | B8: Tela verde tejida de polipropileno de alta resistencia para cerramiento, (ancho 2.10m) 55gr/m2 | C8: m | D8: 1.05 | E8: 1998 | F8: =+D8*E8 -> 2097.9
A9: TACOMADCOM2,8M | B9: Taco en madera común diámetro 0,10 m x 2,80 m de alto (taco redondo) | C9: un | D9: 1 | E9: 7110 | F9: =+D9*E9 -> 7110
A10: CLAVOCOMUN11/2" | B10: Clavo común de 1 1/2" | C10: lb | D10: 0.04 | E10: 3702 | F10: =+D10*E10 -> 148.08
A11: Total de Materiales | E11: SUBTOTAL | F11: =SUM(F7:F10) -> 12142.48
A12: Clave | B12: Mano de Obra | C12: Unidad | D12: Cantidad | E12: V/Unitario | F12: V/Total
A13: OFICIAL | B13: Oficial | C13: día | D13: 0.025 | E13: 151529 | F13: =+D13*E13 -> 3788.225
A14: AYUDANTE | B14: Ayudante Raso | C14: día | D14: 0.025 | E14: 81327 | F14: =+D14*E14 -> 2033.175
F15: =+D15*E15 -> 0
A16: Total de Mano de Obra | E16: SUBTOTAL | F16: =SUM(F13:F15) -> 5821.4
A17: Clave | B17: Herramienta | C17: Unidad | D17: Cantidad | E17: V/Unitario | F17: V/Total
A18: HERRMENOR | B18: Herramienta Menor (% de MdeO) | C18: (%)mo | D18: 0.05 | E18: =+F16 -> 5821.4 | F18: =+D18*E18 -> 291.07
A19: Total de Herramienta | E19: SUBTOTAL | F19: =SUM(F18) -> 291.07
A20: Clave | B20: Equipo o Auxiliares | C20: Unidad | D20: Cantidad | E20: V/Unitario | F20: V/Total
F21: =+D21*E21 -> 0
F22: =+D22*E22 -> 0
A23: Total de Equipo | E23: SUBTOTAL | F23: =SUM(F21:F22) -> 0
A24: Clave | B24: Fletes o Matrices | C24: Unidad | D24: Cantidad | E24: V/Unitario | F24: V/Total
B25: Cargue MANUAL, transporte y disposición final de material proveniente de demolición, excavación y voladura de roca a sitio autorizado. Su medida será de acuerdo a las demoliciones, excavaciones y/o voladuras. El ítem incluye el factor de expansión. Incluye pago de derecho a botadero. | C25: m3 | D25: 0.0247 | E25: 63868 | F25: =+D25*E25 -> 1577.5396
B26: EXCAVACIÓN MANUAL de material heterogéneo de 0-2 m, bajo cualquier grado de humedad. Incluye: roca descompuesta, bolas de roca de volumen inferior a 0.35 m³. Incluye transporte interno del material proveniente de las excavaciones al sitio donde lo indique la interventoría y su medida será en el sitio. No incluye entibado ni botada del material. | C26: m3 | D26: 0.019 | E26: 49785 | F26: =+D26*E26 -> 945.915
A27: Total de Fletes | E27: SUBTOTAL | F27: =SUM(F25:F26) -> 2523.4546
A28: P R E C I O U N I T A R I O | E28: =ROUND((F11+F16+F19+F23+F27),0) -> 20778

Sheet APU 2.01
A3: ANALISIS DE PRECIOS UNITARIOS
A4: Descripción | E4: No. Item | F4: Unidad
A5: DESCAPOTE MANUAL. Incluye el desenraíce si es necesario, cargue, transporte y botada de material sobrante en botaderos oficiales. Medido en sitio. | E5: 2.01 | F5: m2
A6: Clave | B6: Materiales | C6: Unidad | D6: Cantidad | E6: V/Unitario | F6: V/Total
F7: =+D7*E7 -> 0
F8: =+D8*E8 -> 0
F9: =+D9*E9 -> 0
F10: =+D10*E10 -> 0
A11: Total de Materiales | E11: SUBTOTAL | F11: =SUM(F7:F10) -> 0
A12: Clave | B12: Mano de Obra | C12: Unidad | D12: Cantidad | E12: V/Unitario | F12: V/Total
A13: OFICIAL | B13: Oficial | C13: día | D13: 0.03 | E13: 151529 | F13: =+D13*E13 -> 4545.87
A14: AYUDANTE | B14: Ayudante Raso | C14: día | D14: 0.07 | E14: 81327 | F14: =+D14*E14 -> 5692.89
F15: =+D15*E15 -> 0
A16: Total de Mano de Obra | E16: SUBTOTAL | F16: =SUM(F13:F15) -> 10238.76
A17: Clave | B17: Herramienta | C17: Unidad | D17: Cantidad | E17: V/Unitario | F17: V/Total
A18: HERRMENOR | B18: Herramienta Menor (% de MdeO) | C18: (%)mo | D18: 0.05 | E18: =+F16 -> 10238.76 | F18: =+D18*E18 -> 511.938
A19: Total de Herramienta | E19: SUBTOTAL | F19: =SUM(F18) -> 511.938
A20: Clave | B20: Equipo o Auxiliares | C20: Unidad | D20: Cantidad | E20: V/Unitario | F20: V/Total
F21: =+D21*E21 -> 0
F22: =+D22*E22 -> 0
A23: Total de Equipo | E23: SUBTOTAL | F23: =SUM(F21:F22) -> 0
A24: Clave | B24: Fletes o Matrices | C24: Unidad | D24: Cantidad | E24: V/Unitario | F24: V/Total
B25: Acarreo Interno | C25: m3 o ton | D25: 0.05 | E25: 4820.625 | F25: =+D25*E25 -> 241.03125
B26: Acarreo maquina | C26: m3 o ton | D26: 0.01 | E26: 18000 | F26: =+D26*E26 -> 180
A27: Total de Fletes | E27: SUBTOTAL | F27: =SUM(F25:F26) -> 421.03125
A28: P R E C I O U N I T A R I O | E28: =ROUND((F11+F16+F19+F23+F27),0) -> 11172

Sheet APU 2.02
A3: ANALISIS DE PRECIOS UNITARIOS
A4: Descripción | E4: No. Item | F4: Unidad
A5: EXCAVACIÓN MANUAL de material heterogéneo DE 0-2 m., bajo cualquier grado de humedad. Incluye: roca descompuesta, bolas de roca de volúmen inferior a 0.35 m³, el cargue, transporte interno y externo, botada de material proveniente de las excavaciones en los sitios oficiales y su medida será en el sitio. No incluye entibado. | E5: 2.02 | F5: m3
A6: Clave | B6: Materiales | C6: Unidad | D6: Cantidad | E6: V/Unitario | F6: V/Total
F7: =+D7*E7 -> 0
F8: =+D8*E8 -> 0
F9: =+D9*E9 -> 0
F10: =+D10*E10 -> 0
A11: Total de Materiales | E11: SUBTOTAL | F11: =SUM(F7:F10) -> 0
A12: Clave | B12: Mano de Obra | C12: Unidad | D12: Cantidad | E12: V/Unitario | F12: V/Total
A13: OFICIAL | B13: Oficial | C13: día | D13: 0.1 | E13: 151530 | F13: =+D13*E13 -> 15153
A14: AYUDANTE | B14: Ayudante Raso | C14: día | D14: 0.35 | E14: 81328 | F14: =+D14*E14 -> 28464.8
F15: =+D15*E15 -> 0
A16: Total de Mano de Obra | E16: SUBTOTAL | F16: =SUM(F13:F15) -> 43617.8
A17: Clave | B17: Herramienta | C17: Unidad | D17: Cantidad | E17: V/Unitario | F17: V/Total
A18: HERRMENOR | B18: Herramienta Menor (% de MdeO) | C18: (%)mo | D18: 0.05 | E18: =+F16 -> 43617.8 | F18: =+D18*E18 -> 2180.89
A19: Total de Herramienta | E19: SUBTOTAL | F19: =SUM(F18) -> 2180.89
A20: Clave | B20: Equipo o Auxiliares | C20: Unidad | D20: Cantidad | E20: V/Unitario | F20: V/Total
F21: =+D21*E21 -> 0
F22: =+D22*E22 -> 0
A23: Total de Equipo | E23: SUBTOTAL | F23: =SUM(F21:F22) -> 0
A24: Clave | B24: Fletes o Matrices | C24: Unidad | D24: Cantidad | E24: V/Unitario | F24: V/Total
B25: Acarreo interno de materiales. Distancia entre 0 a 50 metros, en condiciones normales. | C25: m3 o ton | D25: 1.3 | E25: 25508.627 | F25: =+D25*E25 -> 33161.215
F26: =+D26*E26 -> 0
A27: Total de Fletes | E27: SUBTOTAL | F27: =SUM(F25:F26) -> 33161.215
A28: P R E C I O U N I T A R I O | E28: =ROUND((F11+F16+F19+F23+F27),0) -> 78960

Sheet APU 2.03
A3: ANALISIS DE PRECIOS UNITARIOS
A4: Descripción | E4: No. Item | F4: Unidad
A5: DEMOLICIÓN de muro divisorio interior de mampostería vista, formada por ladrillo perforado de 11/12 cm de espesor, con medios manuales, sin afectar a la estabilidad de los elementos constructivos contiguos. Incluso parte proporcional de desmontaje previo de las hojas de carpintería y retirada de marcos, limpieza, acopio, retirada y carga manual de escombros sobre camión o contenedor. | E5: 2.03 | F5: m2
A6: Clave | B6: Materiales | C6: Unidad | D6: Cantidad | E6: V/Unitario | F6: V/Total
B7: herramienta menor (5% M.O) | C7: gl | D7: 0.05 | E7: 32111.042 | F7: =+D7*E7 -> 1605.5521
B8: Pulidora manual eléctrica | C8: DIA | D8: 0.1 | E8: 31590 | F8: =+D8*E8 -> 3159
B9: DEMOLEDOR ELECTRICO | C9: DIA | D9: 0.06 | E9: 89505 | F9: =+D9*E9 -> 5370.3
B10: Andamio de carga Sección completa de (1.2m-1.5m) x 1.5 m. (+ 4 ruedas) | C10: DIA | D10: 0.06 | E10: 57915 | F10: =+D10*E10 -> 3474.9
A11: Total de Materiales | E11: SUBTOTAL | F11: =SUM(F7:F10) -> 13609.752
A12: Clave | B12: Mano de Obra | C12: Unidad | D12: Cantidad | E12: V/Unitario | F12: V/Total
A13: OFICIAL | B13: Oficial | C13: día | D13: 0.14 | E13: 187896.03 | F13: =+D13*E13 -> 26305.444
A14: AYUDANTE | B14: Ayudante Raso | C14: día | D14: 0.14 | E14: 100846.47 | F14: =+D14*E14 -> 14118.506
F15: =+D15*E15 -> 0
A16: Total de Mano de Obra | E16: SUBTOTAL | F16: =SUM(F13:F15) -> 40423.95
A17: Clave | B17: Herramienta | C17: Unidad | D17: Cantidad | E17: V/Unitario | F17: V/Total
A18: HERRMENOR | B18: Herramienta Menor (% de MdeO) | C18: (%)mo | D18: 0.05 | E18: =+F16 -> 40423.95 | F18: =+D18*E18 -> 2021.1975
A19: Total de Herramienta | E19: SUBTOTAL | F19: =SUM(F18) -> 2021.1975
A20: Clave | B20: Equipo o Auxiliares | C20: Unidad | D20: Cantidad | E20: V/Unitario | F20: V/Total
F21: =+D21*E21 -> 0
F22: =+D22*E22 -> 0
A23: Total de Equipo | E23: SUBTOTAL | F23: =SUM(F21:F22) -> 0
A24: Clave | B24: Fletes o Matrices | C24: Unidad | D24: Cantidad | E24: V/Unitario | F24: V/Total
B25: Acarreo Interno | C25: m3 o ton | D25: 0.1 | E25: 9000 | F25: =+D25*E25 -> 900
B26: Acarreo maquina | C26: m3 o ton | D26: 0.1 | E26: 27000 | F26: =+D26*E26 -> 2700
A27: Total de Fletes | E27: SUBTOTAL | F27: =SUM(F25:F26) -> 3600
A28: P R E C I O U N I T A R I O | E28: =ROUND((F11+F16+F19+F23+F27),0) -> 59655

Sheet APU 2.04
A3: ANALISIS DE PRECIOS UNITARIOS
A4: Descripción | E4: No. Item | F4: Unidad
A5: DEMOLICIÓN DE ESTRUCTURAS DE CONCRETO de cualquier resistencia, reforzado, ciclópeo y en cualquier clase y forma de estructura: Estructuras de contención, fundaciones, columnas, vigas, losas, escaleras, muros, coberturas, cámaras de inspección, entre otros; incluye transporte interno hasta el sitio de almacenamiento. | E5: 2.04 | F5: m3
A6: Clave | B6: Materiales | C6: Unidad | D6: Cantidad | E6: V/Unitario | F6: V/Total
F7: =+D7*E7 -> 0
F8: =+D8*E8 -> 0
F9: =+D9*E9 -> 0
F10: =+D10*E10 -> 0
A11: Total de Materiales | E11: SUBTOTAL | F11: =SUM(F7:F10) -> 0
A12: Clave | B12: Mano de Obra | C12: Unidad | D12: Cantidad | E12: V/Unitario | F12: V/Total
A13: OFICIAL | B13: Oficial | C13: día | D13: 0.05 | E13: 187896.03 | F13: =+D13*E13 -> 9394.8015
A14: 2AYUDANTE | B14: Cuadrilla 2 Ayudantes | C14: día | D14: 0.166667 | E14: =100846.47*2 -> 201692.94 | F14: =+D14*E14 -> 33615.557
F15: =+D15*E15 -> 0
A16: Total de Mano de Obra | E16: SUBTOTAL | F16: =SUM(F13:F15) -> 43010.359
A17: Clave | B17: Herramienta | C17: Unidad | D17: Cantidad | E17: V/Unitario | F17: V/Total
A18: HERRMENOR | B18: Herramienta Menor (% de MdeO) | C18: (%)mo | D18: 0.05 | E18: =+F16 -> 43010.359 | F18: =+D18*E18 -> 2150.5179
A19: Total de Herramienta | E19: SUBTOTAL | F19: =SUM(F18) -> 2150.5179
A20: Clave | B20: Equipo o Auxiliares | C20: Unidad | D20: Cantidad | E20: V/Unitario | F20: V/Total
A21: ANDAMIOCARG4M | B21: Andamio de carga certificado 2.07 x 2.07m, h=4.00m, 4 ruedas, incluye transporte | C21: día | D21: 0.083333 | E21: 60320.789 | F21: =+D21*E21 -> 5026.7123
A22: PLATAFORMAANDAMIO | B22: Plataforma con escotilla de 0.61 x 2.00m | C22: día | D22: 0.083333 | E22: 3308.1048 | F22: =+D22*E22 -> 275.6743
A23: COMPRNEUMATALQHR | B23: Compresor neumático 125 pies3/min, con martillo demoledor o perforador en superficie, punta, manguera de 40 m, combustible y operador. Tarifa por hora | C23: hr | D23: 1.333333 | E23: 116069.77 | F23: =+D23*E23 -> 154759.65
A24: PULIDORAMANUALINCDISCO | B24: Pulidora manual 7" y 9", incluye disco | C24: día | D24: 0.166667 | E24: 43444.358 | F24: =+D24*E24 -> 7240.7408
A25: EXTENSELECTRENCAUCH12 | B25: Extensión Eléctrica en cable encauchetado 2#12 AWG. Longitud=50m | C25: día | D25: 0.166667 | E25: 23655.961 | F25: =+D25*E25 -> 3942.668
A26: Total de Equipo | E26: SUBTOTAL | F26: =SUM(F21:F25) -> 171245.45
A27: Clave | B27: Fletes o Matrices | C27: Unidad | D27: Cantidad | E27: V/Unitario | F27: V/Total
B28: Acarreo maquina | C28: m3 o ton | D28: 1.4 | E28: 27000 | F28: =+D28*E28 -> 37800
F29: =+D29*E29 -> 0
A30: Total de Fletes | E30: SUBTOTAL | F30: =SUM(F28:F29) -> 37800
A31: P R E C I O U N I T A R I O | E31: =ROUND((F11+F16+F19+F26+F30),0) -> 254206

Sheet APU 2.05
A3: ANALISIS DE PRECIOS UNITARIOS
A4: Descripción | E4: No. Item | F4: Unidad
A5: LLENO con material proveniente de la excavación | E5: 2.05 | F5: m3
A6: Clave | B6: Materiales | C6: Unidad | D6: Cantidad | E6: V/Unitario | F6: V/Total
F7: =+D7*E7 -> 0
F8: =+D8*E8 -> 0
F9: =+D9*E9 -> 0
F10: =+D10*E10 -> 0
A11: Total de Materiales | E11: SUBTOTAL | F11: =SUM(F7:F10) -> 0
A12: Clave | B12: Mano de Obra | C12: Unidad | D12: Cantidad | E12: V/Unitario | F12: V/Total
A13: OFICIAL | B13: Oficial | C13: día | D13: 0.05 | E13: 151530 | F13: =+D13*E13 -> 7576.5
A14: AYUDANTE | B14: Ayudantes | C14: día | D14: 0.07 | E14: 81328 | F14: =+D14*E14 -> 5692.96
F15: =+D15*E15 -> 0
A16: Total de Mano de Obra | E16: SUBTOTAL | F16: =SUM(F13:F15) -> 13269.46
A17: Clave | B17: Herramienta | C17: Unidad | D17: Cantidad | E17: V/Unitario | F17: V/Total
A18: HERRMENOR | B18: Herramienta Menor (% de MdeO) | C18: (%)mo | D18: 0.05 | E18: =+F16 -> 13269.46 | F18: =+D18*E18 -> 663.473
A19: Total de Herramienta | E19: SUBTOTAL | F19: =SUM(F18) -> 663.473
A20: Clave | B20: Equipo o Auxiliares | C20: Unidad | D20: Cantidad | E20: V/Unitario | F20: V/Total
A21: COMPACTIPORANADIA | B21: Equipo de compactación tipo rana | C21: día | D21: 0.083333 | E21: 55000 | F21: =+D21*E21 -> 4583.315
F22: =+D22*E22 -> 0
F23: =+D23*E23 -> 0
F24: =+D24*E24 -> 0
F25: =+D25*E25 -> 0
A26: Total de Equipo | E26: SUBTOTAL | F26: =SUM(F21:F25) -> 4583.315
A27: Clave | B27: Fletes o Matrices | C27: Unidad | D27: Cantidad | E27: V/Unitario | F27: V/Total
B28: Acarreo interno | C28: m3 o ton | D28: 1.3 | E28: 18832.884 | F28: =+D28*E28 -> 24482.749
F29: =+D29*E29 -> 0
A30: Total de Fletes | E30: SUBTOTAL | F30: =SUM(F28:F29) -> 24482.749
A31: P R E C I O U N I T A R I O | E31: =ROUND((F11+F16+F19+F26+F30),0) -> 42999

Sheet APU 2.06
A3: ANALISIS DE PRECIOS UNITARIOS
A4: Descripción | E4: No. Item | F4: Unidad
A5: Suministro y colocación de subbase granular de máximo Ø 2 1/2", reacomodado con medios mecánicos y compactado al 96% mínimo del ensayo del proctor modificado, e max= 40 cm. | E5: 2.06 | F5: m3
A6: Clave | B6: Materiales | C6: Unidad | D6: Cantidad | E6: V/Unitario | F6: V/Total
B7: Dumper de descarga frontal de 2 t de carga útil. | C7: dia | D7: 0.01 | E7: 891805 | F7: =+D7*E7 -> 8918.05
B8: Compactador tándem autopropulsado, de 63 kW, de 9,65 t, anchura de trabajo 168 cm. | C8: dia | D8: 0.01 | E8: 279745 | F8: =+D8*E8 -> 2797.45
B9: Camión cisterna, de 8 m³ de capacidad. | C9: dia | D9: 0.001 | E9: 2234207 | F9: =+D9*E9 -> 2234.207
F10: =+D10*E10 -> 0
A11: Total de Materiales | E11: SUBTOTAL | F11: =SUM(F7:F10) -> 13949.707
A12: Clave | B12: Mano de Obra | C12: Unidad | D12: Cantidad | E12: V/Unitario | F12: V/Total
A13: OFICIAL | B13: Oficial | C13: día | D13: 0.05 | E13: 151530 | F13: =+D13*E13 -> 7576.5
A14: AYUDANTE | B14: Ayudantes | C14: día | D14: 0.2 | E14: 81328 | F14: =+D14*E14 -> 16265.6
F15: =+D15*E15 -> 0
A16: Total de Mano de Obra | E16: SUBTOTAL | F16: =SUM(F13:F15) -> 23842.1
A17: Clave | B17: Herramienta | C17: Unidad | D17: Cantidad | E17: V/Unitario | F17: V/Total
A18: HERRMENOR | B18: Herramienta Menor (% de MdeO) | C18: (%)mo | D18: 0.05 | E18: =+F16 -> 23842.1 | F18: =+D18*E18 -> 1192.105
A19: Total de Herramienta | E19: SUBTOTAL | F19: =SUM(F18) -> 1192.105
A20: Clave | B20: Equipo o Auxiliares | C20: Unidad | D20: Cantidad | E20: V/Unitario | F20: V/Total
A21: COMPACTIPORANADIA | B21: Base granular de máximo Ø 2 1/2 | C21: m3 | D21: 1.3 | E21: 136462 | F21: =+D21*E21 -> 177400.6
F22: =+D22*E22 -> 0
F23: =+D23*E23 -> 0
F24: =+D24*E24 -> 0
F25: =+D25*E25 -> 0
A26: Total de Equipo | E26: SUBTOTAL | F26: =SUM(F21:F25) -> 177400.6
A27: Clave | B27: Fletes o Matrices | C27: Unidad | D27: Cantidad | E27: V/Unitario | F27: V/Total
B28: Acarreo Interno | C28: m3 o ton | D28: 0.1 | E28: 7860 | F28: =+D28*E28 -> 786
F29: =+D29*E29 -> 0
A30: Total de Fletes | E30: SUBTOTAL | F30: =SUM(F28:F29) -> 786
A31: P R E C I O U N I T A R I O | E31: =ROUND((F11+F16+F19+F26+F30),0) -> 217171

Sheet APU 3.01
A3: ANALISIS DE PRECIOS UNITARIOS
A4: Descripción | E4: No. Item | F4: Unidad
A5: Colocación de concreto de 14 Mpa para SOLADO, con un espesor DE 0.05 m. Incluye el suministro y el transporte del concreto y todos los demás elementos necesarios para su correcta construcción, incluye acarreo interno. | E5: 3.01 | F5: m2
A6: Clave | B6: Materiales | C6: Unidad | D6: Cantidad | E6: V/Unitario | F6: V/Total
F7: =+D7*E7 -> 0
F8: =+D8*E8 -> 0
F9: =+D9*E9 -> 0
F10: =+D10*E10 -> 0
A11: Total de Materiales | E11: SUBTOTAL | F11: =SUM(F7:F10) -> 0
A12: Clave | B12: Mano de Obra | C12: Unidad | D12: Cantidad | E12: V/Unitario | F12: V/Total
A13: OFICIAL | B13: Oficial | C13: día | D13: 0.02 | E13: 151530 | F13: =+D13*E13 -> 3030.6
A14: AYUDANTE | B14: Ayudantes | C14: día | D14: 0.04 | E14: 81328 | F14: =+D14*E14 -> 3253.12
F15: =+D15*E15 -> 0
A16: Total de Mano de Obra | E16: SUBTOTAL | F16: =SUM(F13:F15) -> 6283.72
A17: Clave | B17: Herramienta | C17: Unidad | D17: Cantidad | E17: V/Unitario | F17: V/Total
A18: HERRMENOR | B18: Herramienta Menor (% de MdeO) | C18: (%)mo | D18: 0.05 | E18: =+F16 -> 6283.72 | F18: =+D18*E18 -> 314.186
A19: Total de Herramienta | E19: SUBTOTAL | F19: =SUM(F18) -> 314.186
A20: Clave | B20: Equipo o Auxiliares | C20: Unidad | D20: Cantidad | E20: V/Unitario | F20: V/Total
A21: CONCRE OBRA 14MPA | B21: Concreto de 14 Mpa preparado en obra (2000 PSI) | C21: m3 | D21: 0.0525 | E21: 552918 | F21: =+D21*E21 -> 29028.195
F22: =+D22*E22 -> 0
F23: =+D23*E23 -> 0
F24: =+D24*E24 -> 0
F25: =+D25*E25 -> 0
A26: Total de Equipo | E26: SUBTOTAL | F26: =SUM(F21:F25) -> 29028.195
A27: Clave | B27: Fletes o Matrices | C27: Unidad | D27: Cantidad | E27: V/Unitario | F27: V/Total
B28: Acarreo Interno | C28: m3 o ton | D28: 0.1 | E28: 5000 | F28: =+D28*E28 -> 500
F29: =+D29*E29 -> 0
A30: Total de Fletes | E30: SUBTOTAL | F30: =SUM(F28:F29) -> 500
A31: P R E C I O U N I T A R I O | E31: =ROUND((F11+F16+F19+F26+F30),0) -> 36126

Sheet APU 3.02
A3: ANALISIS DE PRECIOS UNITARIOS
A4: Descripción | E4: No. Item | F4: Unidad
A5: Construcción de PEDESTALES en concreto de 21 Mpa. DE 0.4 x 0.4. X 0.6. Incluye suministro, transporte y la colocación del concreto, mano de obra, formaleta, vibrado, protección y curado, para estructuras de acuerdo con las diferentes dimensiones establecidas en los planos y diseños. No incluye refuerzo. | E5: 3.02 | F5: m3
A6: Clave | B6: Materiales | C6: Unidad | D6: Cantidad | E6: V/Unitario | F6: V/Total
B7: Vibrador de concreto eléctrico a 110v (alquiler) | C7: DIA | D7: 0.25 | E7: 35364.764 | F7: =+D7*E7 -> 8841.1911
B8: Tabla madera común | C8: un | D8: 14 | E8: 7868.66 | F8: =+D8*E8 -> 110161.24
B9: Larguero madera común 4cmx8cmx2.80m. | C9: un | D9: 7.75 | E9: 7426.6005 | F9: =+D9*E9 -> 57556.154
B10: Alambre recocido C 18 | C10: kg | D10: 0.5 | E10: 6854.5754 | F10: =+D10*E10 -> 3427.2877
B11: Clavo común | C11: lb | D11: 1 | E11: 4862.6551 | F11: =+D11*E11 -> 4862.6551
B12: Separol o equivalente (Desmoldante) | C12: un | D12: 0.007 | E12: 260974.28 | F12: =+D12*E12 -> 1826.8199
F13: =+D13*E13 -> 0
A14: Total de Materiales | E14: SUBTOTAL | F14: =SUM(F7:F13) -> 186675.35
A15: Clave | B15: Mano de Obra | C15: Unidad | D15: Cantidad | E15: V/Unitario | F15: V/Total
A16: OFICIAL | B16: Oficial | C16: día | D16: 0.65 | E16: 151530 | F16: =+D16*E16 -> 98494.5
A17: 3AYUDANTE | B17: 3Ayudantes | C17: día | D17: 0.65 | E17: 243984 | F17: =+D17*E17 -> 158589.6
F18: =+D18*E18 -> 0
A19: Total de Mano de Obra | E19: SUBTOTAL | F19: =SUM(F16:F18) -> 257084.1
A20: Clave | B20: Herramienta | C20: Unidad | D20: Cantidad | E20: V/Unitario | F20: V/Total
A21: HERRMENOR | B21: Herramienta Menor (% de MdeO) | C21: (%)mo | D21: 0.05 | E21: =+F19 -> 257084.1 | F21: =+D21*E21 -> 12854.205
A22: Total de Herramienta | E22: SUBTOTAL | F22: =SUM(F21) -> 12854.205
A23: Clave | B23: Equipo o Auxiliares | C23: Unidad | D23: Cantidad | E23: V/Unitario | F23: V/Total
A24: CONCRE OBRA 21MPA | B24: Concreto de 21 Mpa preparado en obra (3000 PSI) | C24: m3 | D24: 1.05 | E24: 632282 | F24: =+D24*E24 -> 663896.1
F25: =+D25*E25 -> 0
F26: =+D26*E26 -> 0
F27: =+D27*E27 -> 0
F28: =+D28*E28 -> 0
A29: Total de Equipo | E29: SUBTOTAL | F29: =SUM(F24:F28) -> 663896.1
A30: Clave | B30: Fletes o Matrices | C30: Unidad | D30: Cantidad | E30: V/Unitario | F30: V/Total
B31: Acarreo Interno | C31: m3 o ton | D31: 0.1 | E31: 5000 | F31: =+D31*E31 -> 500
F32: =+D32*E32 -> 0
A33: Total de Fletes | E33: SUBTOTAL | F33: =SUM(F31:F32) -> 500
A34: P R E C I O U N I T A R I O | E34: =ROUND((F14+F19+F22+F29+F33),0) -> 1121010

Sheet APU 3.03
A3: ANALISIS DE PRECIOS UNITARIOS
A4: Descripción | E4: No. Item | F4: Unidad
A5: Construcción de ZAPATAS en concreto de 21 Mpa. Incluye suministro, transporte e instalación del concreto, mano de obra, vibrado, formaleta, curado y protección. incluye acarreo interno. No incluye refuerzo, según diseño. | E5: 3.03 | F5: m3
A6: Clave | B6: Materiales | C6: Unidad | D6: Cantidad | E6: V/Unitario | F6: V/Total
B7: Vibrador de concreto eléctrico a 110v (alquiler) | C7: DIA | D7: 0.14 | E7: 48412 | F7: =+D7*E7 -> 6777.68
F8: =+D8*E8 -> 0
F9: =+D9*E9 -> 0
F10: =+D10*E10 -> 0
F11: =+D11*E11 -> 0
F12: =+D12*E12 -> 0
F13: =+D13*E13 -> 0
A14: Total de Materiales | E14: SUBTOTAL | F14: =SUM(F7:F13) -> 6777.68
A15: Clave | B15: Mano de Obra | C15: Unidad | D15: Cantidad | E15: V/Unitario | F15: V/Total
A16: OFICIAL | B16: Oficial | C16: día | D16: 0.465 | E16: 151530 | F16: =+D16*E16 -> 70461.45
A17: 3AYUDANTE | B17: 3Ayudantes | C17: día | D17: 0.465 | E17: 243984 | F17: =+D17*E17 -> 113452.56
F18: =+D18*E18 -> 0
A19: Total de Mano de Obra | E19: SUBTOTAL | F19: =SUM(F16:F18) -> 183914.01
A20: Clave | B20: Herramienta | C20: Unidad | D20: Cantidad | E20: V/Unitario | F20: V/Total
A21: HERRMENOR | B21: Herramienta Menor (% de MdeO) | C21: (%)mo | D21: 0.05 | E21: =+F19 -> 183914.01 | F21: =+D21*E21 -> 9195.7005
A22: Total de Herramienta | E22: SUBTOTAL | F22: =SUM(F21) -> 9195.7005
A23: Clave | B23: Equipo o Auxiliares | C23: Unidad | D23: Cantidad | E23: V/Unitario | F23: V/Total
A24: CONCRE OBRA 21MPA | B24: Concreto de 21 Mpa preparado en obra (3000 PSI) | C24: m3 | D24: 1.05 | E24: 632282 | F24: =+D24*E24 -> 663896.1
F25: =+D25*E25 -> 0
F26: =+D26*E26 -> 0
F27: =+D27*E27 -> 0
F28: =+D28*E28 -> 0
A29: Total de Equipo | E29: SUBTOTAL | F29: =SUM(F24:F28) -> 663896.1
A30: Clave | B30: Fletes o Matrices | C30: Unidad | D30: Cantidad | E30: V/Unitario | F30: V/Total
B31: Acarreo Interno | C31: m3 o ton | D31: 0.1 | E31: 5000 | F31: =+D31*E31 -> 500
F32: =+D32*E32 -> 0
A33: Total de Fletes | E33: SUBTOTAL | F33: =SUM(F31:F32) -> 500
A34: P R E C I O U N I T A R I O | E34: =ROUND((F14+F19+F22+F29+F33),0) -> 864283

Sheet APU 3.04
A3: ANALISIS DE PRECIOS UNITARIOS
A4: Descripción | E4: No. Item | F4: Unidad
A5: Construcción de COLUMNAS DE 0.2 x 0,2m. en concreto de 21 MPa, acabado a la vista. Incluye suministro, transporte y colocación del concreto, formaleta en súper "T" de 19mm., aristas biseladas, desmoldante, fluidificante para mezclas de concreto, vibrado, protección, curado y todos los demás elementos necesarios para su correcta construcción según diseño. El acero de refuerzo se pagará en su respectivo ítem. | E5: 3.04 | F5: m
A6: Clave | B6: Materiales | C6: Unidad | D6: Cantidad | E6: V/Unitario | F6: V/Total
B7: Vibrador de concreto eléctrico a 110v (alquiler) | C7: DIA | D7: 0.028 | E7: 38016 | F7: =+D7*E7 -> 1064.448
B8: Andamio de carga Sección completa de (1.2m-1.5m) x 1.5 m. (+ 4 ruedas) | C8: DIA | D8: 1.33 | E8: 25410 | F8: =+D8*E8 -> 33795.3
B9: Taco metálico mediano hasta 3,40 m., incluye trasnporte | C9: DIA | D9: 2.67 | E9: 380 | F9: =+D9*E9 -> 1014.6
B10: COSTAL DE FIQUE (Gante para curado) | C10: un | D10: 0.5 | E10: 1900 | F10: =+D10*E10 -> 950
B11: Larguero madera común 4cmx8cmx2.80m. Incluye transporte. | C11: un | D11: 0.7 | E11: 7983 | F11: =+D11*E11 -> 5588.1
B12: Alambre recocido C 18 | C12: kg | D12: 0.04 | E12: 7368 | F12: =+D12*E12 -> 294.72
B13: Clavo común | C13: lb | D13: 0.4 | E13: 5227 | F13: =+D13*E13 -> 2090.8
B14: Separol o equivalente (Desmoldante) | C14: un | D14: 0.00077 | E14: 280542 | F14: =+D14*E14 -> 216.01734
B15: Super T de 19 mm de 1.83x2.44 m | C15: un | D15: 0.042 | E15: 262357 | F15: =+D15*E15 -> 11018.994
B16: Sikafluid o equivalente (Fluidificante para mezclas de concreto. Presentacion: 25 kg Rendimiento 250g por bulto de cemento de 50 kg. 1% del peso del concreto. | C16: un | D16: 0.00294 | E16: 249578 | F16: =+D16*E16 -> 733.75932
B17: Moldura en madera 1/4 bocel de L=3.00 m. Chingale | C17: m | D17: 2.3 | E17: 1285 | F17: =+D17*E17 -> 2955.5
F18: =+D18*E18 -> 0
A19: Total de Materiales | E19: SUBTOTAL | F19: =SUM(F7:F18) -> 59722.239
A20: Clave | B20: Mano de Obra | C20: Unidad | D20: Cantidad | E20: V/Unitario | F20: V/Total
A21: OFICIAL | B21: Oficial | C21: día | D21: 0.041 | E21: 151530 | F21: =+D21*E21 -> 6212.73
A22: 2AYUDANTE | B22: 2Ayudantes | C22: día | D22: 0.061 | E22: 162656 | F22: =+D22*E22 -> 9922.016
A23: AYUDANTE ENTENDIDO | B23: Ayudante | C23: día | D23: 0.061 | E23: 117925 | F23: =+D23*E23 -> 7193.425
A24: Total de Mano de Obra | E24: SUBTOTAL | F24: =SUM(F21:F23) -> 23328.171
A25: Clave | B25: Herramienta | C25: Unidad | D25: Cantidad | E25: V/Unitario | F25: V/Total
A26: HERRMENOR | B26: Herramienta Menor (% de MdeO) | C26: (%)mo | D26: 0.05 | E26: =+F24 -> 23328.171 | F26: =+D26*E26 -> 1166.4085
A27: Total de Herramienta | E27: SUBTOTAL | F27: =SUM(F26) -> 1166.4085
A28: Clave | B28: Equipo o Auxiliares | C28: Unidad | D28: Cantidad | E28: V/Unitario | F28: V/Total
A29: CONCRE OBRA 21MPA | B29: Concreto de 21 Mpa preparado en obra (3000 PSI) | C29: m3 | D29: =+(0.2*0.2*1)*1.15 -> 0.046 | E29: 632282 | F29: =+D29*E29 -> 29084.972
F30: =+D30*E30 -> 0
F31: =+D31*E31 -> 0
F32: =+D32*E32 -> 0
F33: =+D33*E33 -> 0
A34: Total de Equipo | E34: SUBTOTAL | F34: =SUM(F29:F33) -> 29084.972
A35: Clave | B35: Fletes o Matrices | C35: Unidad | D35: Cantidad | E35: V/Unitario | F35: V/Total
B36: Acarreo Interno | C36: m3 o ton | D36: 0.1 | E36: 5000 | F36: =+D36*E36 -> 500
F37: =+D37*E37 -> 0
A38: Total de Fletes | E38: SUBTOTAL | F38: =SUM(F36:F37) -> 500
A39: P R E C I O U N I T A R I O | E39: =ROUND((F19+F24+F27+F34+F38),0) -> 113802

Sheet APU 3.05
A3: ANALISIS DE PRECIOS UNITARIOS
A4: Descripción | E4: No. Item | F4: Unidad
A5: Construcción de LOSA DE FUNDACIÓN en concreto de 21 Mpa. con un espesor de 0.10m. Incluye suministro, transporte e instalación del concreto, mano de obra, vibrado, protección y curado, para estructuras de acuerdo con las diferentes dimensiones establecidas en los planos y diseños. No incluye refuerzo. | E5: 3.05 | F5: m2
A6: Clave | B6: Materiales | C6: Unidad | D6: Cantidad | E6: V/Unitario | F6: V/Total
B7: Vibrador de concreto eléctrico a 110v (alquiler) | C7: DIA | D7: 0.04 | E7: 45500 | F7: =+D7*E7 -> 1820
B8: Clavo común | C8: lb | D8: 0.1 | E8: 6100 | F8: =+D8*E8 -> 610
B9: Larguero madera común 4cmx8cmx2.80m. Incluye transporte. | C9: un | D9: 0.25 | E9: 9100 | F9: =+D9*E9 -> 2275
B10: Tabla madera común | C10: un | D10: 0.27 | E10: 10000 | F10: =+D10*E10 -> 2700
F11: =+D11*E11 -> 0
F12: =+D12*E12 -> 0
A13: Total de Materiales | E13: SUBTOTAL | F13: =SUM(F7:F12) -> 7405
A14: Clave | B14: Mano de Obra | C14: Unidad | D14: Cantidad | E14: V/Unitario | F14: V/Total
A15: CUAD 1OF+1AYU O.N. | B15: Cuadrilla 1Of + 1 Ay Obra Negra | C15: jor | D15: 0.13316 | E15: 214437 | F15: =+D15*E15 -> 28554.431
F16: =+D16*E16 -> 0
F17: =+D17*E17 -> 0
A18: Total de Mano de Obra | E18: SUBTOTAL | F18: =SUM(F15:F17) -> 28554.431
A19: Clave | B19: Herramienta | C19: Unidad | D19: Cantidad | E19: V/Unitario | F19: V/Total
A20: HERRMENOR | B20: Herramienta Menor (% de MdeO) | C20: (%)mo | D20: 0.05 | E20: =+F18 -> 28554.431 | F20: =+D20*E20 -> 1427.7215
A21: Total de Herramienta | E21: SUBTOTAL | F21: =SUM(F20) -> 1427.7215
A22: Clave | B22: Equipo o Auxiliares | C22: Unidad | D22: Cantidad | E22: V/Unitario | F22: V/Total
A23: CONCRE OBRA 21MPA | B23: Concreto de 21 Mpa preparado en obra (3000 PSI) | C23: m3 | D23: 0.105 | E23: 632282 | F23: =+D23*E23 -> 66389.61
A24: VIBRADOR CONCRE ELEC | B24: Vibrador de concreto eléctrico a 110v (alquiler). Tipo aguja | C24: día | D24: 0.025 | E24: 66376 | F24: =+D24*E24 -> 1659.4
F25: =+D25*E25 -> 0
F26: =+D26*E26 -> 0
F27: =+D27*E27 -> 0
A28: Total de Equipo | E28: SUBTOTAL | F28: =SUM(F23:F27) -> 68049.01
A29: Clave | B29: Fletes o Matrices | C29: Unidad | D29: Cantidad | E29: V/Unitario | F29: V/Total
B30: Acarreo Interno | C30: m3 o ton | D30: 0.1 | E30: 5000 | F30: =+D30*E30 -> 500
F31: =+D31*E31 -> 0
A32: Total de Fletes | E32: SUBTOTAL | F32: =SUM(F30:F31) -> 500
A33: P R E C I O U N I T A R I O | E33: =ROUND((F13+F18+F21+F28+F32),0) -> 105936

Sheet APU 3.06
A3: ANALISIS DE PRECIOS UNITARIOS
A4: Descripción | E4: No. Item | F4: Unidad
A5: Construcción de LOSA PARA RAMPA en concreto de 21 Mpa. con un espesor de 0.10m. Incluye suministro, transporte e instalación del concreto, mano de obra, vibrado, protección y curado, para estructuras de acuerdo con las diferentes dimensiones establecidas en los planos y diseños. No incluye refuerzo. | E5: 3.06 | F5: m2
A6: Clave | B6: Materiales | C6: Unidad | D6: Cantidad | E6: V/Unitario | F6: V/Total
A7: LARGUERO 1X1" | B7: Larguero de madera comun de 1" x 1" | C7: un | D7: 0.28 | E7: 11918 | F7: =+D7*E7 -> 3337.04
A8: MALLA ELECTROSO D84 | B8: Malla electrosoldada D-84 | C8: m2 | D8: 1.15 | E8: 9317 | F8: =+D8*E8 -> 10714.55
A9: PIEDRA ENTRESU + TTE | B9: Piedra de entresuelo (limpia), tamaño máximo 15 cm, con transporte. | C9: m3 | D9: 0.1575 | E9: 296679 | F9: =+D9*E9 -> 46726.942
A10: ARENILLA + TTE | B10: Arenilla con transporte. | C10: m3 | D10: 0.068 | E10: 149158 | F10: =+D10*E10 -> 10142.744
A11: SIKA SEPAROL | B11: Separol o equivalente (Desmoldante para evitar adherencia de concretos a formaletas.Presentación 15Kg. Rendimiento metal :45g/m2 madera:55g/m2 (15 kg)). para metal puro, para madera diluir hasta 5 partes de agua segun porosidad de la madera. | C11: un | D11: 0.001 | E11: 478669 | F11: =+D11*E11 -> 478.669
A12: CLAVO 1 1/2" | B12: Clavo común de 1 1/2". Caja x 500gr. | C12: lb | D12: 0.062 | E12: 19877 | F12: =+D12*E12 -> 1232.374
A13: POLIETILENO NEGRO | B13: Polietileno negro construccion | C13: m2 | D13: 1.07 | E13: 2918 | F13: =+D13*E13 -> 3122.26
A14: SUPERT19MM 1.83X2.44 | B14: Super T de 19 mm de 1.83x2.44 m | C14: un | D14: 0.04 | E14: 447641 | F14: =+D14*E14 -> 17905.64
F15: =+D15*E15 -> 0
A16: Total de Materiales | E16: SUBTOTAL | F16: =SUM(F7:F15) -> 93660.219
A17: Clave | B17: Mano de Obra | C17: Unidad | D17: Cantidad | E17: V/Unitario | F17: V/Total
A18: OFICIAL | B18: Oficial | C18: día | D18: 0.38 | E18: 187896.03 | F18: =+D18*E18 -> 71400.491
A19: 2AYUDANTE | B19: 2Ayudantes | C19: día | D19: 0.38 | E19: =100846.47*2 -> 201692.94 | F19: =+D19*E19 -> 76643.317
F20: =+D20*E20 -> 0
A21: Total de Mano de Obra | E21: SUBTOTAL | F21: =SUM(F18:F20) -> 148043.81
A22: Clave | B22: Herramienta | C22: Unidad | D22: Cantidad | E22: V/Unitario | F22: V/Total
A23: HERRMENOR | B23: Herramienta Menor (% de MdeO) | C23: (%)mo | D23: 0.05 | E23: =+F21 -> 148043.81 | F23: =+D23*E23 -> 7402.1904
A24: Total de Herramienta | E24: SUBTOTAL | F24: =SUM(F23) -> 7402.1904
A25: Clave | B25: Equipo o Auxiliares | C25: Unidad | D25: Cantidad | E25: V/Unitario | F25: V/Total
A26: CONCRE OBRA 21MPA | B26: Concreto de 21 Mpa preparado en obra (3000 PSI) | C26: m3 | D26: 0.105 | E26: 7116416.6 | F26: =+D26*E26 -> 747223.74
A27: VIBRADOR CONCRE ELEC | B27: Vibrador de concreto eléctrico a 110v (alquiler). Tipo aguja | C27: día | D27: 0.055 | E27: 67432 | F27: =+D27*E27 -> 3708.76
A28: COMPACT TIPO RANA | B28: Compactador tipo Rana a gasolina | C28: día | D28: 0.032 | E28: 44226 | F28: =+D28*E28 -> 1415.232
A32: Total de Equipo | E32: SUBTOTAL | F32: =SUM(F26:F31) -> 752347.73
A33: Clave | B33: Fletes o Matrices | C33: Unidad | D33: Cantidad | E33: V/Unitario | F33: V/Total
A34: ACARREO INT MAT (M3) | B34: Acarreo interno de materiales | C34: m3 | D34: 0.126 | E34: 36258 | F34: =+D34*E34 -> 4568.508
F35: =+D35*E35 -> 0
A36: Total de Fletes | E36: SUBTOTAL | F36: =SUM(F34:F35) -> 4568.508
A37: P R E C I O U N I T A R I O | E37: =ROUND((F16+F21+F24+F32+F36),0) -> 1006022

Sheet APU 3.07
A3: ANALISIS DE PRECIOS UNITARIOS
A4: Descripción | E4: No. Item | F4: Unidad
A5: Construcción de VIGAS DE FUNDACIÓN de 0,3 x 0,3 m. en concreto de 21 Mpa. Incluye suministro, transporte y colocación del concreto, formaleta de primera calidad en súper T de 19 mm o equivalente, vibrado, protección, curado y todos los demás elementos necesarios para su correcta construcción. El acero de refuerzo se pagará en su respectivo ítem según diseño y especificaciones establecidos en los planos. En el vaciado se deben dejar los hierros para el amarre de los elementos no estructurales que se requieran. | E5: 3.07 | F5: ml
A6: Clave | B6: Materiales | C6: Unidad | D6: Cantidad | E6: V/Unitario | F6: V/Total
B7: Vibrador de concreto eléctrico a 110v (alquiler) | C7: DIA | D7: 0.06 | E7: 42120 | F7: =+D7*E7 -> 2527.2
B8: Clavo común | C8: lb | D8: 0.1 | E8: 5791.5 | F8: =+D8*E8 -> 579.15
B9: Larguero madera común 4cmx8cmx2.80m. Incluye transporte. | C9: un | D9: 1.2 | E9: 8845.2 | F9: =+D9*E9 -> 10614.24
B10: Tabla madera común | C10: un | D10: 0.176 | E10: 9371.7 | F10: =+D10*E10 -> 1649.4192
B11: Super T de 19 mm de 1.53x2.44 m | C11: un | D11: 0.0375 | E11: 189434.7 | F11: =+D11*E11 -> 7103.8012
B12: Alambre recocido C 18 | C12: kg | D12: 0.648 | E12: 8163.909 | F12: =+D12*E12 -> 5290.213
F13: =+D13*E13 -> 0
F14: =+D14*E14 -> 0
A15: Total de Materiales | E15: SUBTOTAL | F15: =SUM(F7:F14) -> 27764.023
A16: Clave | B16: Mano de Obra | C16: Unidad | D16: Cantidad | E16: V/Unitario | F16: V/Total
A17: OFICIAL | B17: Oficial | C17: día | D17: 0.12 | E17: 151530 | F17: =+D17*E17 -> 18183.6
A18: AYUDANTE | B18: Ayudantes | C18: día | D18: 0.12 | E18: 81328 | F18: =+D18*E18 -> 9759.36
F19: =+D19*E19 -> 0
A20: Total de Mano de Obra | E20: SUBTOTAL | F20: =SUM(F17:F19) -> 27942.96
A21: Clave | B21: Herramienta | C21: Unidad | D21: Cantidad | E21: V/Unitario | F21: V/Total
A22: HERRMENOR | B22: Herramienta Menor (% de MdeO) | C22: (%)mo | D22: 0.05 | E22: =+F20 -> 27942.96 | F22: =+D22*E22 -> 1397.148
A23: Total de Herramienta | E23: SUBTOTAL | F23: =SUM(F22) -> 1397.148
A24: Clave | B24: Equipo o Auxiliares | C24: Unidad | D24: Cantidad | E24: V/Unitario | F24: V/Total
A25: CONCRE OBRA 21MPA | B25: Concreto de 21 Mpa preparado en obra (3000 PSI) | C25: m3 | D25: 0.11 | E25: 632282 | F25: =+D25*E25 -> 69551.02
A26: VIBRADOR CONCRE ELEC | F26: =+D26*E26 -> 0
F27: =+D27*E27 -> 0
F28: =+D28*E28 -> 0
F29: =+D29*E29 -> 0
A30: Total de Equipo | E30: SUBTOTAL | F30: =SUM(F25:F29) -> 69551.02
A31: Clave | B31: Fletes o Matrices | C31: Unidad | D31: Cantidad | E31: V/Unitario | F31: V/Total
B32: Acarreo Interno | C32: m3 o ton | D32: 1 | E32: 4452 | F32: =+D32*E32 -> 4452
F33: =+D33*E33 -> 0
A34: Total de Fletes | E34: SUBTOTAL | F34: =SUM(F32:F33) -> 4452
A35: P R E C I O U N I T A R I O | E35: =ROUND((F15+F20+F23+F30+F34),0) -> 131107

Sheet APU 3.08
A3: ANALISIS DE PRECIOS UNITARIOS
A4: Descripción | E4: No. Item | F4: Unidad
A5: Construcción de VIGAS AÉREAS de 0,2 x 0,2 m. en concreto de 21 Mpa, hasta una altura de 3,2m medidos desde el nivel de apoyo de la obra falsa hasta el nivel inferior de la viga. Incluye suministro, transporte y colocación del concreto, formaleta de primera calidad en súper T de 19 mm o equivalente, para acabado a la vista, aristas biseladas, suministro, transporte, armado y desarmado de la obra falsa requerida, vibrado, protección, curado y todos los demás elementos necesarios para su correcta construcción. El acero de refuerzo se pagará en su respectivo ítem según diseño y especificaciones establecidos en los planos. En el vaciado se deben dejar los hierros para el amarre de los elementos no estructurales que se requieran. | E5: 3.08 | F5: ml
A6: Clave | B6: Materiales | C6: Unidad | D6: Cantidad | E6: V/Unitario | F6: V/Total
A7: ALAMBRE RECOCIDO | B7: Alambre recocido C 18 | C7: kg | D7: 0.24 | E7: 6256 | F7: =+D7*E7 -> 1501.44
A8: MOLDURA 1/4 | B8: Moldura en madera 1/4 bocel de L=3.00 m. Chingale | C8: m | D8: 0.75 | E8: 1353 | F8: =+D8*E8 -> 1014.75
A9: LARGUMADERCOMUN | B9: Larguero madera común 4cmx8cmx2.80m. Incluye transporte. | C9: un | D9: 0.30932 | E9: 9615 | F9: =+D9*E9 -> 2974.1118
A10: LARGUMADERCOMUN | B10: Larguero madera común 4cmx8cmx2.80m. Incluye transporte. | C10: un | D10: 0.125 | E10: 9615 | F10: =+D10*E10 -> 1201.875
A11: CLAVO 1 1/2" | B11: Clavo común de 1 1/2". Caja x 500gr. | C11: lb | D11: 0.2372 | E11: 12258 | F11: =+D11*E11 -> 2907.5976
A12: SUPERT 19MM (UN) | B12: Super T de 19 mm. de 1,53 x 2,44 m. | C12: un | D12: 0.05648 | E12: 179900 | F12: =+D12*E12 -> 10160.752
A13: SIKA SEPAROL | B13: Separol o equivalente (Desmoldante para evitar adherencia de concretos a formaletas.Presentación 15Kg. Rendimiento metal :45g/m2 madera:55g/m2 (15 kg)). para metal puro, para madera diluir hasta 5 partes de agua segun porosidad de la madera. | C13: un | D13: 0.0011 | E13: 295180 | F13: =+D13*E13 -> 324.698
A14: SIKAFLUID 25KG | B14: Sikafluid o equivalente (Fluidificante para mezclas de concreto. Presentacion: 25 kg Rendimiento 250g por bulto de cemento de 50 kg. 1% del peso del concreto. | C14: un | D14: 0.00882 | E14: 262600 | F14: =+D14*E14 -> 2316.132
A15: Total de Materiales | E15: SUBTOTAL | F15: =SUM(F7:F14) -> 22401.356
A16: Clave | B16: Mano de Obra | C16: Unidad | D16: Cantidad | E16: V/Unitario | F16: V/Total
A17: CUAD VAC CONC ESTR | B17: Cuadrilla armado y vaciado de concreto en estructuras | C17: jor | D17: 0.2 | E17: 373086 | F17: =+D17*E17 -> 74617.2
F18: =+D18*E18 -> 0
F19: =+D19*E19 -> 0
A20: Total de Mano de Obra | E20: SUBTOTAL | F20: =SUM(F17:F19) -> 74617.2
A21: Clave | B21: Herramienta | C21: Unidad | D21: Cantidad | E21: V/Unitario | F21: V/Total
A22: HERRMENOR | B22: Herramienta Menor (% de MdeO) | C22: (%)mo | D22: 0.05 | E22: =+F20 -> 74617.2 | F22: =+D22*E22 -> 3730.86
A23: Total de Herramienta | E23: SUBTOTAL | F23: =SUM(F22) -> 3730.86
A24: Clave | B24: Equipo o Auxiliares | C24: Unidad | D24: Cantidad | E24: V/Unitario | F24: V/Total
A25: CONCRE OBRA 21MPA | B25: Concreto de 21 Mpa preparado en obra (3000 PSI) | C25: m3 | D25: 0.043 | E25: 632282 | F25: =+D25*E25 -> 27188.126
A26: TELERA 90 | B26: Telera de 0,90 x 1,35 m. | C26: día | D26: 7.77778 | E26: 572 | F26: =+D26*E26 -> 4448.8902
A27: MARCO ANDAMIOMODULAR | B27: Marco Andamio Modular. Incluye transporte. | C27: día | D27: 6 | E27: 426 | F27: =+D27*E27 -> 2556
