Workbook

Sheet GRUPO 01 CONVENCIONAL
B1: PRESUPUESTO PAE
B3: ALMUERZO PREPARADO EN SITIO | F3: ALMUERZO COMIDA TRANSPORTADA EN CALIENTE
B4: GRUPO | C4: VALOR PROMEDIO | D4: CANTIDAD | E4: TOTAL | F4: GRUPO | G4: VALOR PROMEDIO | H4: CANTIDAD | I4: TOTAL
B5: GRUPO A | C5: ='ALMUERZO (A)'!D292 -> 8274 | D5: 1096 | E5: =C5*D5 -> 9068304 | F5: GRUPO A | G5: ='ALMUERZO (A)'!E292 -> 9343 | H5: 1208 | I5: =+H5*G5 -> 11286344
B6: GRUPO B | C6: ='ALMUERZO (B)'!D292 -> 8814 | D6: 1904 | E6: =C6*D6 -> 16781856 | F6: GRUPO B | G6: ='ALMUERZO (B)'!E292 -> 9952 | H6: 2504 | I6: =+H6*G6 -> 24919808
B7: GRUPO C | C7: ='ALMUERZO (C)'!D292 -> 9465 | D7: 1293 | E7: =C7*D7 -> 12238245 | F7: GRUPO C | G7: ='ALMUERZO (C)'!E292 -> 10354 | H7: 1263 | I7: =+H7*G7 -> 13077102
B8: GRUPO D | C8: ='ALMUERZO (D)'!D292 -> 10229 | D8: 4162 | E8: =C8*D8 -> 42573098 | F8: GRUPO D | G8: ='ALMUERZO (D)'!E292 -> 11382 | H8: 1915 | I8: =+H8*G8 -> 21796530
B9: GRUPO E | C9: ='ALMUERZO (E)'!D292 -> 11109 | D9: 2246 | E9: =C9*D9 -> 24950814 | F9: GRUPO E | G9: ='ALMUERZO (E)'!E292 -> 12269 | H9: 1742 | I9: =+H9*G9 -> 21372598
C10: SUBTOTAL | D10: =SUM(D5:D9) -> 10701 | E10: =SUM(E5:E9) -> 105612317 | G10: SUBTOTAL | H10: =SUM(H5:H9) -> 8632 | I10: =SUM(I5:I9) -> 92452382
B11: COMPLEMENTOS PREPARADO EN SITIO | F11: COMPLEMENTOS COMIDA TRANSPORTADA EN CALIENTE
B12: GRUPO | C12: VALOR PROMEDIO | D12: CANTIDAD | E12: TOTAL | F12: GRUPO | G12: VALOR PROMEDIO | H12: CANTIDAD | I12: TOTAL
B13: GRUPO A | C13: ='COMPLEMENTO (A)'!E247 -> 6795 | D13: 141 | E13: =D13*C13 -> 958095 | F13: GRUPO A | G13: ='COMPLEMENTO (A)'!F247 -> 7494 | H13: 673 | I13: =H13*G13 -> 5043462
C14: SUBTOTAL | D14: =SUM(D13:D13) -> 141 | E14: =SUM(E13:E13) -> 958095 | G14: SUBTOTAL | H14: =SUM(H13:H13) -> 673 | I14: =SUM(I13:I13) -> 5043462
B15: RACION INDUSTRIAL
B16: GRUPO | C16: VALOR PROMEDIO | D16: CANTIDAD | E16: TOTAL
B17: GRUPO A | C17: ='R. INDUST (A)'!E199 -> 8243 | D17: 306 | E17: =C17*D17 -> 2522358
B18: GRUPO B | C18: ='R. INDUST (B)'!E199 -> 9068 | D18: 109 | E18: =C18*D18 -> 988412
B19: GRUPO C | C19: ='R. INDUST (C)'!E199 -> 9553 | D19: 140 | E19: =C19*D19 -> 1337420
B20: GRUPO D | C20: ='R. INDUST (D)'!E199 -> 10098 | E20: =C20*D20 -> 0
B21: GRUPO E | C21: ='R. INDUST (E)'!E199 -> 11708 | E21: =C21*D21 -> 0
C22: SUBTOTAL | D22: =SUM(D17:D21) -> 555 | E22: =SUM(E17:E21) -> 4848190
B23: TOTAL DÍA | I23: =E22+E14+I14+I10+E10 -> 208914446
B24: PRESUPUESTO OFICIAL (74 DÍAS) | I24: =I23*74 -> 15459669004

Sheet ALMUERZO (A)
D1: PROMEDIO
A2: ALMUERZO (A) | D2: PRECIO PREPARADO EN SITIO | E2: PRECIO PREPARADO COMIDA TRANSPORTADA EN CALIENTE
A3: N° MENÚ | B3: GRUPO DE ALIMETOS | C3: PREPARACIÓN | D3: VALOR UNITARIO | E3: VALOR UNITARIO
A4: 1 | B4: ALIMENTO PROTEÍCO | C4: PECHUGA APANADA | D4: 1560.84 | E4: 1561.95
B5: AZÚCARES | C5: AZÚCARES | D5: 313.73 | E5: 313.73
B6: BEBIDA | C6: JUGO DE PIÑA | D6: 864.41 | E6: 865.53
B7: CEREAL | C7: ARROZ CON VERDURAS | D7: 432.76 | E7: 432.76
B8: GRASAS | C8: GRASAS | D8: 313.73 | E8: 313.73
B9: AGUA 180 cm3 - 200 cm3 | C9: VASO DE AGUA | D9: 301.49 | E9: 301.49
B10: MISCELANEOS | C10: MISCELANEOS | D10: 255.88 | E10: 255.88
B11: TUBÉRCULOS - RAÍCES - PLÁTANOS - DERIVADOS DE CEREAL | C11: TAJADAS DE GUINEO VERDE | D11: 283.69 | E11: 284.8
B12: VERDURA FRÍA O CALIENTE | C12: VERDURA FRÍA O CALIENTE | D12: 834.38 | E12: 834.38
B13: TRANSPORTE | C13: TRANSPORTE | D13: 936.34 | E13: 1203.69
B14: PERSONAL REQUERIDO | C14: PERSONAL REQUERIDO | D14: 1470.9047 | E14: 1666.9334
B15: SERVICIOS PUBLICOS | C15: SERVICIOS PUBLICOS | D15: 589.59 | E15: 779.89
B16: IMPLEMENTOS Y DOTACIÓN | C16: IMPLEMENTOS Y DOTACIÓN | D16: 721.52 | E16: 1137.15
B17: SUBTOTAL | D17: 8879.2647 | E17: 9951.9134
A18: 2 | B18: ALIMENTO PROTEÍCO | C18: CERDO EN BISTECK | D18: 1447.36 | E18: 1447.36
B19: AZÚCARES | C19: AZÚCARES | D19: 313.73 | E19: 313.73
B20: BEBIDA | C20: JUGO DE BANANO(CON LECHE) | D20: 817.69 | E20: 817.69
B21: CEREAL | C21: ARROZ DE FIDEO | D21: 224.73 | E21: 224.73
B22: GRASAS | C22: GRASAS | D22: 313.73 | E22: 313.73
B23: AGUA 180 cm3 - 200 cm3 | C23: VASO DE AGUA | D23: 301.49 | E23: 301.49
B24: MISCELANEOS | C24: MISCELANEOS | D24: 255.88 | E24: 255.88
B25: TUBÉRCULOS - RAÍCES - PLÁTANOS - DERIVADOS DE CEREAL | C25: PAPAS A LA FRANCESA | D25: 238.08 | E25: 238.08
B26: ENSALADA DE PAYASO | C26: ENSALADA DE PAYASO | D26: 453.9 | E26: 453.9
B27: TRANSPORTE | C27: TRANSPORTE | D27: 936.34 | E27: 1203.69
B28: PERSONAL REQUERIDO | C28: PERSONAL REQUERIDO | D28: 1470.9047 | E28: 1666.9334
B29: SERVICIOS PUBLICOS | C29: SERVICIOS PUBLICOS | D29: 589.59 | E29: 779.89
B30: IMPLEMENTOS Y DOTACIÓN | C30: IMPLEMENTOS Y DOTACIÓN | D30: 721.52 | E30: 1137.15
B31: SUBTOTAL | D31: 8084.9447 | E31: 9154.2534
A32: 3 | B32: ALIMENTO PROTEÍCO | C32: POLLO EN CUADRITOS | D32: 1393.96 | E32: 1393.96
B33: AZÚCARES | C33: AZÚCARES | D33: 313.73 | E33: 313.73
B34: BEBIDA | C34: JUGO DE GUAYABA(CON LECHE) | D34: 821.03 | E34: 821.03
B35: CEREAL | C35: PASTA GUISADA | D35: 457.24 | E35: 457.24
B36: GRASAS | C36: GRASAS | D36: 313.73 | E36: 313.73
B37: AGUA 180 cm3 - 200 cm3 | C37: VASO DE AGUA | D37: 301.49 | E37: 301.49
B38: MISCELANEOS | C38: MISCELANEOS | D38: 255.88 | E38: 255.88
B39: TUBÉRCULOS - RAÍCES - PLÁTANOS - DERIVADOS DE CEREAL | C39: PAN | D39: 434.99 | E39: 434.99
B40: VERDURA FRÍA O CALIENTE | C40: VERDURA FRÍA O CALIENTE | D40: 448.34 | E40: 449.45
...

Sheet ALMUERZO (B)
D1: PROMEDIO
A2: ALMUERZO (B) | D2: PRECIO PREPARADO EN SITIO | E2: PRECIO PREPARADO COMIDA TRANSPORTADA EN CALIENTE
A3: N° MENÚ | B3: GRUPO DE ALIMETOS | C3: PREPARACIÓN | D3: VALOR UNITARIO | E3: VALOR UNITARIO
A4: 1 | B4: ALIMENTO PROTEÍCO | C4: PECHUGA APANADA | D4: 1816.71 | E4: 1816.71
B5: AZÚCARES | C5: AZÚCARES | D5: 357.11 | E5: 357.11
B6: BEBIDA | C6: JUGO DE PIÑA | D6: 877.76 | E6: 877.76
B7: CEREAL | C7: ARROZ CON VERDURAS | D7: 538.45 | E7: 538.45
B8: GRASAS | C8: GRASAS | D8: 358.23 | E8: 358.23
B9: AGUA 180 cm3 - 200 cm3 | C9: VASO DE AGUA | D9: 308.16 | E9: 308.16
B10: MISCELANEOS | C10: MISCELANEOS | D10: 260.33 | E10: 260.33
B11: TUBÉRCULOS - RAÍCES - PLÁTANOS - DERIVADOS DE CEREAL | C11: TAJADAS DE GUINEO VERDE | D11: 353.78 | E11: 353.78
B12: VERDURA FRÍA O CALIENTE | C12: VERDURA FRÍA O CALIENTE | D12: 795.44 | E12: 774.3
B13: TRANSPORTE | C13: TRANSPORTE | D13: 945.68 | E13: 1259.73
B14: PERSONAL REQUERIDO | C14: PERSONAL REQUERIDO | D14: 1485.8884 | E14: 1681.9171
B15: SERVICIOS PUBLICOS | C15: SERVICIOS PUBLICOS | D15: 602.43 | E15: 791.57
B16: IMPLEMENTOS Y DOTACIÓN | C16: IMPLEMENTOS Y DOTACIÓN | D16: 729.69 | E16: 1178.01
B17: SUBTOTAL | D17: 9429.6584 | E17: 10556.057
A18: 2 | B18: ALIMENTO PROTEÍCO | C18: CERDO EN BISTECK | D18: 1640.94 | E18: 1640.94
B19: AZÚCARES | C19: AZÚCARES | D19: 357.11 | E19: 357.11
B20: BEBIDA | C20: JUGO DE BANANO(CON LECHE) | D20: 829.93 | E20: 829.93
B21: CEREAL | C21: ARROZ DE FIDEO | D21: 303.71 | E21: 303.71
B22: GRASAS | C22: GRASAS | D22: 358.23 | E22: 358.23
B23: AGUA 180 cm3 - 200 cm3 | C23: VASO DE AGUA | D23: 308.16 | E23: 308.16
B24: MISCELANEOS | C24: MISCELANEOS | D24: 260.33 | E24: 260.33
B25: TUBÉRCULOS - RAÍCES - PLÁTANOS - DERIVADOS DE CEREAL | C25: PAPAS A LA FRANCESA | D25: 273.68 | E25: 273.68
B26: ENSALADA DE PAYASO | C26: ENSALADA DE PAYASO | D26: 462.8 | E26: 462.8
B27: TRANSPORTE | C27: TRANSPORTE | D27: 945.68 | E27: 1259.73
B28: PERSONAL REQUERIDO | C28: PERSONAL REQUERIDO | D28: 1485.8884 | E28: 1681.9171
B29: SERVICIOS PUBLICOS | C29: SERVICIOS PUBLICOS | D29: 602.43 | E29: 791.57
B30: IMPLEMENTOS Y DOTACIÓN | C30: IMPLEMENTOS Y DOTACIÓN | D30: 729.69 | E30: 1178.01
B31: SUBTOTAL | D31: 8558.5784 | E31: 9706.1171
A32: 3 | B32: ALIMENTO PROTEÍCO | C32: POLLO EN CUADRITOS | D32: 1713.25 | E32: 1713.25
B33: AZÚCARES | C33: AZÚCARES | D33: 357.11 | E33: 357.11
B34: BEBIDA | C34: JUGO DE GUAYABA(CON LECHE) | D34: 837.71 | E34: 837.71
B35: CEREAL | C35: PASTA GUISADA | D35: 513.98 | E35: 513.98
B36: GRASAS | C36: GRASAS | D36: 358.23 | E36: 358.23
B37: AGUA 180 cm3 - 200 cm3 | C37: VASO DE AGUA | D37: 308.16 | E37: 308.16
B38: MISCELANEOS | C38: MISCELANEOS | D38: 260.33 | E38: 260.33
B39: TUBÉRCULOS - RAÍCES - PLÁTANOS - DERIVADOS DE CEREAL | C39: PAN | D39: 534 | E39: 534
B40: VERDURA FRÍA O CALIENTE | C40: VERDURA FRÍA O CALIENTE | D40: 492.84 | E40: 492.84
...

Sheet ALMUERZO (C)
D1: PROMEDIO
A2: ALMUERZO ( C) | D2: PRECIO PREPARADO EN SITIO | E2: PRECIO PREPARADO COMIDA TRANSPORTADA EN CALIENTE
A3: N° MENÚ | B3: GRUPO DE ALIMETOS | C3: PREPARACIÓN | D3: VALOR UNITARIO | E3: VALOR UNITARIO
A4: 1 | B4: ALIMENTO PROTEÍCO | C4: PECHUGA APANADA | D4: 2169.38 | E4: 2073.7
B5: AZÚCARES | C5: AZÚCARES | D5: 407.18 | E5: 393.83
B6: BEBIDA | C6: JUGO DE PIÑA | D6: 891.11 | E6: 862.19
B7: CEREAL | C7: ARROZ CON VERDURAS | D7: 836.6 | E7: 841.05
B8: GRASAS | C8: GRASAS | D8: 407.18 | E8: 390.49
B9: AGUA 180 cm3 - 200 cm3 | C9: VASO DE AGUA | D9: 313.73 | E9: 294.81
B10: MISCELANEOS | C10: MISCELANEOS | D10: 264.78 | E10: 252.54
B11: TUBÉRCULOS - RAÍCES - PLÁTANOS - DERIVADOS DE CEREAL | C11: TAJADAS DE GUINEO VERDE | D11: 360.45 | E11: 341.54
B12: VERDURA FRÍA O CALIENTE | C12: VERDURA FRÍA O CALIENTE | D12: 846.61 | E12: 859.96
B13: TRANSPORTE | C13: TRANSPORTE | D13: 955.02 | E13: 1259.73
B14: PERSONAL REQUERIDO | C14: PERSONAL REQUERIDO | D14: 1500.8721 | E14: 1693.1575
B15: SERVICIOS PUBLICOS | C15: SERVICIOS PUBLICOS | D15: 612.94 | E15: 777.56
B16: IMPLEMENTOS Y DOTACIÓN | C16: IMPLEMENTOS Y DOTACIÓN | D16: 737.86 | E16: 1183.85
B17: SUBTOTAL | D17: 10303.712 | E17: 11224.408
A18: 2 | B18: ALIMENTO PROTEÍCO | C18: CERDO EN BISTECK | D18: 1842.3 | E18: 1684.33
B19: AZÚCARES | C19: AZÚCARES | D19: 407.18 | E19: 393.83
B20: BEBIDA | C20: JUGO DE BANANO(CON LECHE) | D20: 842.16 | E20: 814.35
B21: CEREAL | C21: ARROZ DE FIDEO | D21: 397.16 | E21: 386.04
B22: GRASAS | C22: GRASAS | D22: 407.18 | E22: 390.49
B23: AGUA 180 cm3 - 200 cm3 | C23: VASO DE AGUA | D23: 313.73 | E23: 294.81
B24: MISCELANEOS | C24: MISCELANEOS | D24: 264.78 | E24: 252.54
B25: TUBÉRCULOS - RAÍCES - PLÁTANOS - DERIVADOS DE CEREAL | C25: PAPAS A LA FRANCESA | D25: 342.65 | E25: 315.95
B26: ENSALADA DE PAYASO | C26: ENSALADA DE PAYASO | D26: 528.44 | E26: 517.31
B27: TRANSPORTE | C27: TRANSPORTE | D27: 955.02 | E27: 1259.73
B28: PERSONAL REQUERIDO | C28: PERSONAL REQUERIDO | D28: 1500.8721 | E28: 1693.1575
B29: SERVICIOS PUBLICOS | C29: SERVICIOS PUBLICOS | D29: 612.94 | E29: 777.56
B30: IMPLEMENTOS Y DOTACIÓN | C30: IMPLEMENTOS Y DOTACIÓN | D30: 737.86 | E30: 1183.85
B31: SUBTOTAL | D31: 9152.2721 | E31: 9963.9475
A32: 3 | B32: ALIMENTO PROTEÍCO | C32: POLLO EN CUADRITOS | D32: 1964.68 | E32: 1881.24
B33: AZÚCARES | C33: AZÚCARES | D33: 407.18 | E33: 393.83
B34: BEBIDA | C34: JUGO DE GUAYABA(CON LECHE) | D34: 854.4 | E34: 802.11
B35: CEREAL | C35: PASTA GUISADA | D35: 629.68 | E35: 626.34
B36: GRASAS | C36: GRASAS | D36: 407.18 | E36: 390.49
B37: AGUA 180 cm3 - 200 cm3 | C37: VASO DE AGUA | D37: 313.73 | E37: 294.81
B38: MISCELANEOS | C38: MISCELANEOS | D38: 264.78 | E38: 252.54
B39: TUBÉRCULOS - RAÍCES - PLÁTANOS - DERIVADOS DE CEREAL | C39: PAN | D39: 540.68 | E39: 534
B40: VERDURA FRÍA O CALIENTE | C40: VERDURA FRÍA O CALIENTE | D40: 536.23 | E40: 509.53
...

Sheet ALMUERZO (D)
D1: PROMEDIO
A2: ALMUERZO (D) | D2: PRECIO PREPARADO EN SITIO | E2: PRECIO PREPARADO COMIDA TRANSPORTADA EN CALIENTE
A3: N° MENÚ | B3: GRUPO DE ALIMETOS | C3: PREPARACIÓN | D3: VALOR UNITARIO | E3: VALOR UNITARIO
A4: 1 | B4: ALIMENTO PROTEÍCO | C4: PECHUGA APANADA | D4: 2474.2 | E4: 2474.2
B5: AZÚCARES | C5: AZÚCARES | D5: 461.69 | E5: 461.69
B6: BEBIDA | C6: JUGO DE PIÑA | D6: 904.46 | E6: 904.46
B7: CEREAL | C7: ARROZ CON VERDURAS | D7: 920.04 | E7: 920.04
B8: GRASAS | C8: GRASAS | D8: 459.46 | E8: 459.46
B9: AGUA 180 cm3 - 200 cm3 | C9: VASO DE AGUA | D9: 318.18 | E9: 318.18
B10: MISCELANEOS | C10: MISCELANEOS | D10: 267 | E10: 268.11
B11: TUBÉRCULOS - RAÍCES - PLÁTANOS - DERIVADOS DE CEREAL | C11: TAJADAS DE GUINEO VERDE | D11: 515.09 | E11: 515.09
B12: VERDURA FRÍA O CALIENTE | C12: VERDURA FRÍA O CALIENTE | D12: 974.55 | E12: 975.66
B13: TRANSPORTE | C13: TRANSPORTE | D13: 960.85 | E13: 1281.92
B14: PERSONAL REQUERIDO | C14: PERSONAL REQUERIDO | D14: 1510.8613 | E14: 1706.8899
B15: SERVICIOS PUBLICOS | C15: SERVICIOS PUBLICOS | D15: 621.11 | E15: 810.25
B16: IMPLEMENTOS Y DOTACIÓN | C16: IMPLEMENTOS Y DOTACIÓN | D16: 743.7 | E16: 1196.69
B17: SUBTOTAL | D17: 11131.191 | E17: 12292.64
A18: 2 | B18: ALIMENTO PROTEÍCO | C18: CERDO EN BISTECK | D18: 2222.78 | E18: 2222.78
B19: AZÚCARES | C19: AZÚCARES | D19: 461.69 | E19: 461.69
B20: BEBIDA | C20: JUGO DE BANANO(CON LECHE) | D20: 924.49 | E20: 924.49
B21: CEREAL | C21: ARROZ DE FIDEO | D21: 482.83 | E21: 483.94
B22: GRASAS | C22: GRASAS | D22: 459.46 | E22: 459.46
B23: AGUA 180 cm3 - 200 cm3 | C23: VASO DE AGUA | D23: 318.18 | E23: 318.18
B24: MISCELANEOS | C24: MISCELANEOS | D24: 267 | E24: 268.11
B25: TUBÉRCULOS - RAÍCES - PLÁTANOS - DERIVADOS DE CEREAL | C25: PAPAS A LA FRANCESA | D25: 430.54 | E25: 430.54
B26: ENSALADA DE PAYASO | C26: ENSALADA DE PAYASO | D26: 630.79 | E26: 631.9
B27: TRANSPORTE | C27: TRANSPORTE | D27: 960.85 | E27: 1281.92
B28: PERSONAL REQUERIDO | C28: PERSONAL REQUERIDO | D28: 1510.8613 | E28: 1706.8899
B29: SERVICIOS PUBLICOS | C29: SERVICIOS PUBLICOS | D29: 621.11 | E29: 810.25
B30: IMPLEMENTOS Y DOTACIÓN | C30: IMPLEMENTOS Y DOTACIÓN | D30: 743.7 | E30: 1196.69
B31: SUBTOTAL | D31: 10034.281 | E31: 11196.84
A32: 3 | B32: ALIMENTO PROTEÍCO | C32: POLLO EN CUADRITOS | D32: 2214.99 | E32: 2214.99
B33: AZÚCARES | C33: AZÚCARES | D33: 461.69 | E33: 461.69
B34: BEBIDA | C34: JUGO DE GUAYABA(CON LECHE) | D34: 940.06 | E34: 940.06
B35: CEREAL | C35: PASTA GUISADA | D35: 789.88 | E35: 790.99
B36: GRASAS | C36: GRASAS | D36: 459.46 | E36: 459.46
B37: AGUA 180 cm3 - 200 cm3 | C37: VASO DE AGUA | D37: 318.18 | E37: 318.18
B38: MISCELANEOS | C38: MISCELANEOS | D38: 267 | E38: 268.11
B39: TUBÉRCULOS - RAÍCES - PLÁTANOS - DERIVADOS DE CEREAL | C39: PAN | D39: 637.46 | E39: 637.46
B40: VERDURA FRÍA O CALIENTE | C40: VERDURA FRÍA O CALIENTE | D40: 564.04 | E40: 564.04
...

Sheet ALMUERZO (E)
D1: PROMEDIO
A2: ALMUERZO (E) | D2: PRECIO PREPARADO EN SITIO | E2: PRECIO PREPARADO COMIDA TRANSPORTADA EN CALIENTE
A3: N° MENÚ | B3: GRUPO DE ALIMETOS | C3: PREPARACIÓN | D3: VALOR UNITARIO | E3: VALOR UNITARIO
A4: 1 | B4: ALIMENTO PROTEÍCO | C4: PECHUGA APANADA | D4: 2860.24 | E4: 2860.24
B5: AZÚCARES | C5: AZÚCARES | D5: 523.99 | E5: 523.99
B6: BEBIDA | C6: JUGO DE PIÑA | D6: 913.36 | E6: 913.36
B7: CEREAL | C7: ARROZ CON VERDURAS | D7: 968.99 | E7: 968.99
B8: GRASAS | C8: GRASAS | D8: 519.54 | E8: 521.76
B9: AGUA 180 cm3 - 200 cm3 | C9: VASO DE AGUA | D9: 321.51 | E9: 321.51
B10: MISCELANEOS | C10: MISCELANEOS | D10: 270.34 | E10: 270.34
B11: TUBÉRCULOS - RAÍCES - PLÁTANOS - DERIVADOS DE CEREAL | C11: TAJADAS DE GUINEO VERDE | D11: 809.9 | E11: 809.9
B12: VERDURA FRÍA O CALIENTE | C12: VERDURA FRÍA O CALIENTE | D12: 1234.88 | E12: 1234.88
B13: TRANSPORTE | C13: TRANSPORTE | D13: 967.86 | E13: 1291.26
B14: PERSONAL REQUERIDO | C14: PERSONAL REQUERIDO | D14: 1520.8504 | E14: 1716.879
B15: SERVICIOS PUBLICOS | C15: SERVICIOS PUBLICOS | D15: 628.12 | E15: 818.42
B16: IMPLEMENTOS Y DOTACIÓN | C16: IMPLEMENTOS Y DOTACIÓN | D16: 748.37 | E16: 1204.86
B17: SUBTOTAL | D17: 12287.95 | E17: 13456.389
A18: 2 | B18: ALIMENTO PROTEÍCO | C18: CERDO EN BISTECK | D18: 2617.71 | E18: 2617.71
B19: AZÚCARES | C19: AZÚCARES | D19: 523.99 | E19: 523.99
B20: BEBIDA | C20: JUGO DE BANANO(CON LECHE) | D20: 933.39 | E20: 933.39
B21: CEREAL | C21: ARROZ DE FIDEO | D21: 546.24 | E21: 547.35
B22: GRASAS | C22: GRASAS | D22: 519.54 | E22: 521.76
B23: AGUA 180 cm3 - 200 cm3 | C23: VASO DE AGUA | D23: 321.51 | E23: 321.51
B24: MISCELANEOS | C24: MISCELANEOS | D24: 270.34 | E24: 270.34
B25: TUBÉRCULOS - RAÍCES - PLÁTANOS - DERIVADOS DE CEREAL | C25: PAPAS A LA FRANCESA | D25: 523.99 | E25: 523.99
B26: ENSALADA DE PAYASO | C26: ENSALADA DE PAYASO | D26: 772.08 | E26: 772.08
B27: TRANSPORTE | C27: TRANSPORTE | D27: 967.86 | E27: 1291.26
B28: PERSONAL REQUERIDO | C28: PERSONAL REQUERIDO | D28: 1520.8504 | E28: 1716.879
B29: SERVICIOS PUBLICOS | C29: SERVICIOS PUBLICOS | D29: 628.12 | E29: 818.42
B30: IMPLEMENTOS Y DOTACIÓN | C30: IMPLEMENTOS Y DOTACIÓN | D30: 748.37 | E30: 1204.86
B31: SUBTOTAL | D31: 10893.99 | E31: 12063.539
A32: 3 | B32: ALIMENTO PROTEÍCO | C32: POLLO EN CUADRITOS | D32: 2533.16 | E32: 2533.16
B33: AZÚCARES | C33: AZÚCARES | D33: 523.99 | E33: 523.99
B34: BEBIDA | C34: JUGO DE GUAYABA(CON LECHE) | D34: 951.19 | E34: 952.3
B35: CEREAL | C35: PASTA GUISADA | D35: 914.48 | E35: 914.48
B36: GRASAS | C36: GRASAS | D36: 519.54 | E36: 521.76
B37: AGUA 180 cm3 - 200 cm3 | C37: VASO DE AGUA | D37: 321.51 | E37: 321.51
B38: MISCELANEOS | C38: MISCELANEOS | D38: 270.34 | E38: 270.34
B39: TUBÉRCULOS - RAÍCES - PLÁTANOS - DERIVADOS DE CEREAL | C39: PAN | D39: 825.48 | E39: 825.48
B40: VERDURA FRÍA O CALIENTE | C40: VERDURA FRÍA O CALIENTE | D40: 592.96 | E40: 594.08
...

Sheet COMPLEMENTO (A)
E1: PROMEDIO
A2: COMPLEMENTO (A) | E2: PRECIO PREPARADO EN SITIO | F2: PRECIO PREPARADO EN COMIDA TRANSPORTADA EN CALIENTE
A3: N° MENÚ | B3: RANGO DE PESOS AL SERVIR RACIÓN SERVIDA | C3: GRUPO DE ALIMETOS | D3: PREPARACIÓN | E3: VALOR UNITARIO | F3: VALOR UNITARIO
A4: 1 | C4: ALIMENTO PROTEÍCO | D4: POLLO A LA JARDINERA | E4: 1003.48 | F4: 1003.48
C5: AZÚCARES | D5: AZÚCARES | E5: 271.45 | F5: 271.45
C6: BEBIDA CON LECHE | D6: BEBIDA CON CHOCOLATE | E6: 1056.88 | F6: 1056.88
C7: CEREAL ACOMPAÑANTE | D7: PLÁTANO COCIDO | E7: 169.1 | F7: 169.1
C8: GRASAS | D8: GRASAS | E8: 251.43 | F8: 251.43
B9: 150-180 cm³, 180-200 cm³, 200-220 cm³ | C9: AGUA | D9: VASO DE AGUA | E9: 302.6 | F9: 302.6
C10: MISCELANEOS | D10: MISCELANEOS | E10: 235.85 | F10: 235.85
C11: TRANSPORTE | D11: TRANSPORTE | E11: 908.32 | F11: 1162.83
C12: PERSONAL REQUERIDO | D12: PERSONAL REQUERIDO | E12: 1349.7839 | F12: 1524.5936
C13: SERVICIOS PUBLICOS | D13: SERVICIOS PUBLICOS | E13: 590.76 | F13: 729.69
C14: IMPLEMENTOS Y DOTACIÓN | D14: IMPLEMENTOS Y DOTACIÓN | E14: 1123.14 | F14: 1274.91
B15: SUBTOTAL | E15: 7262.7939 | F15: 7982.8136
A16: 2 | C16: ALIMENTO PROTEÍCO | D16: QUESO EN PORCIÓN | E16: 436.1 | F16: 436.1
C17: AZÚCARES | D17: AZÚCARES | E17: 271.45 | F17: 271.45
C18: BEBIDA CON LECHE | D18: SORBETE DE GUAYABA | E18: 927.83 | F18: 927.83
C19: CEREAL ACOMPAÑANTE | D19: BUÑUELO DE HARINA DE MAÍZ | E19: 196.91 | F19: 196.91
C20: GRASAS | D20: GRASAS | E20: 165.76 | F20: 165.76
B21: 150-180 cm³, 180-200 cm³, 200-220 cm³ | C21: AGUA | D21: VASO DE AGUA | E21: 302.6 | F21: 302.6
C22: MISCELANEOS | D22: MISCELANEOS | E22: 235.85 | F22: 235.85
C23: TRANSPORTE | D23: TRANSPORTE | E23: 908.32 | F23: 1162.83
C24: PERSONAL REQUERIDO | D24: PERSONAL REQUERIDO | E24: 1349.7839 | F24: 1524.5936
C25: SERVICIOS PUBLICOS | D25: SERVICIOS PUBLICOS | E25: 590.76 | F25: 707.51
C26: IMPLEMENTOS Y DOTACIÓN | D26: IMPLEMENTOS Y DOTACIÓN | E26: 1123.14 | F26: 1274.91
B27: SUBTOTAL | E27: 6508.5039 | F27: 7206.3436
A28: 3 | C28: ALIMENTO PROTEÍCO | D28: HUEVO PERICO | E28: 778.75 | F28: 778.75
C29: AZÚCARES | D29: AZÚCARES | E29: 271.45 | F29: 271.45
C30: BEBIDA CON LECHE | D30: COLADA DE ALMIDON DE MAÍZ | E30: 993.46 | F30: 993.46
C31: CEREAL ACOMPAÑANTE | D31: BOLLO DE MAÍZ | E31: 189.13 | F31: 189.13
C32: GRASAS | D32: GRASAS | E32: 251.43 | F32: 251.43
B33: 150-180 cm³, 180-200 cm³, 200-220 cm³ | C33: AGUA | D33: VASO DE AGUA | E33: 302.6 | F33: 302.6
C34: MISCELANEOS | D34: MISCELANEOS | E34: 235.85 | F34: 235.85
C35: TRANSPORTE | D35: TRANSPORTE | E35: 908.32 | F35: 1162.83
C36: PERSONAL REQUERIDO | D36: PERSONAL REQUERIDO | E36: 1349.7839 | F36: 1524.5936
C37: SERVICIOS PUBLICOS | D37: SERVICIOS PUBLICOS | E37: 590.76 | F37: 707.51
C38: IMPLEMENTOS Y DOTACIÓN | D38: IMPLEMENTOS Y DOTACIÓN | E38: 1123.14 | F38: 1274.91
B39: SUBTOTAL | E39: 6994.6739 | F39: 7692.5136
A40: 4 | C40: ALIMENTO PROTEÍCO | D40: SANDWICH | E40: 490.61 | F40: 490.61
...

Sheet R. INDUST (A)
E1: PROMEDIO
A2: COMPLEMENTO | E2: RACIÓN INDUSTRIALIZADA (A)
A3: N° MENÚ | B3: GRUPO DE ALIMETOS | C3: RANGO DE PESOS AL SERVIR RACIÓN SERVIDA | D3: PREPARACIÓN | E3: VALOR UNITARIO
A4: 1 | B4: LACTEOS | C4: 200 CC | D4: LECHE ENTERA | E4: 1480.69
B5: DERIVADOS DE CEREAL | C5: 20 gr - 35 gr - 50 gr70 gr - 90 gr | D5: GALLETA DE COCO | E5: 373.25
B6: FRUTAS | C6: 145 gr - 145 gr - 170 gr | D6: NA | E6: 0
B7: FRUTOS SECOS / AZUCARES | C7: 15 gr - 20 gr - 20 gr | D7: BOCADILLO VELEÑO CON MANJAR BLANCO (A - B - C) | E7: 392.24
B8: TRANSPORTE | C8: GL | D8: TRANSPORTE | E8: 1625.16
B9: PERSONAL REQUERIDO | C9: GL | D9: PERSONAL REQUERIDO | E9: 1130.023
B10: SERVICIOS PUBLICOS | C10: GL | D10: SERVICIOS PUBLICOS | E10: 0
B11: IMPLEMENTOS Y DOTACIÓN | C11: GL | D11: IMPLEMENTOS Y DOTACIÓN | E11: 2773.15
B12: SUBTOTAL | E12: 7774.513
A13: 2 | B13: LACTEOS | C13: 200 CC | D13: LECHE SABORIZADA (VAINILLA) | E13: 1950.04
B14: DERIVADOS DE CEREAL | C14: 20 gr - 35 gr - 50 gr70 gr - 90 gr | D14: PAN DE LECHE | E14: 343.07
B15: FRUTAS | C15: 145 gr - 145 gr - 170 gr | D15: NA | E15: 0
B16: FRUTOS SECOS / AZUCARES | C16: 15 gr - 20 gr - 20 gr | D16: PANELITA CON LECHE(A - B - C) | E16: 423.53
B17: TRANSPORTE | C17: GL | D17: TRANSPORTE | E17: 1625.16
B18: PERSONAL REQUERIDO | C18: GL | D18: PERSONAL REQUERIDO | E18: 1130.023
B19: SERVICIOS PUBLICOS | C19: GL | D19: SERVICIOS PUBLICOS | E19: 0
B20: IMPLEMENTOS Y DOTACIÓN | C20: GL | D20: IMPLEMENTOS Y DOTACIÓN | E20: 2773.15
B21: SUBTOTAL | E21: 8244.973
A22: 3 | B22: LACTEOS | C22: 200 CC | D22: AVENA | E22: 1724.3
B23: DERIVADOS DE CEREAL | C23: 20 gr - 35 gr - 50 gr70 gr - 90 gr | D23: CROISSANT | E23: 378.83
B24: FRUTAS | C24: 145 gr - 145 gr - 170 gr | D24: MANDARINA | E24: 844.83
B25: FRUTOS SECOS / AZUCARES | C25: 15 gr - 20 gr - 20 gr | D25: NA | E25: 0
C26: 25 gr - 25 gr | D26: NA | E26: 0
B27: TRANSPORTE | C27: GL | D27: TRANSPORTE | E27: 1625.16
B28: PERSONAL REQUERIDO | C28: GL | D28: PERSONAL REQUERIDO | E28: 1130.023
B29: SERVICIOS PUBLICOS | C29: GL | D29: SERVICIOS PUBLICOS | E29: 0
B30: IMPLEMENTOS Y DOTACIÓN | C30: GL | D30: IMPLEMENTOS Y DOTACIÓN | E30: 2773.15
B31: SUBTOTAL | E31: 8476.293
A32: 4 | B32: LACTEOS | C32: 200 CC | D32: LECHE ENTERA | E32: 1480.69
B33: DERIVADOS DE CEREAL | C33: 20 gr - 35 gr - 50 gr70 gr - 90 gr | D33: PAN DE QUESO | E33: 388.89
B34: FRUTAS | C34: 145 gr - 145 gr - 170 gr | D34: BANANO | E34: 476.06
B35: FRUTOS SECOS / AZUCARES | C35: 15 gr - 20 gr - 20 gr | D35: NA | E35: 0
C36: 25 gr - 25 gr | D36: NA | E36: 0
B37: TRANSPORTE | C37: GL | D37: TRANSPORTE | E37: 1625.16
B38: PERSONAL REQUERIDO | C38: GL | D38: PERSONAL REQUERIDO | E38: 1130.023
B39: SERVICIOS PUBLICOS | C39: GL | D39: SERVICIOS PUBLICOS | E39: 0
B40: IMPLEMENTOS Y DOTACIÓN | C40: GL | D40: IMPLEMENTOS Y DOTACIÓN | E40: 2773.15
...

Sheet R. INDUST (B)
E1: PROMEDIO
A2: COMPLEMENTO | E2: RACIÓN INDUSTRIALIZADA (B)
A3: N° MENÚ | B3: GRUPO DE ALIMETOS | C3: RANGO DE PESOS AL SERVIR RACIÓN SERVIDA | D3: PREPARACIÓN | E3: VALOR UNITARIO
A4: 1 | B4: LACTEOS | C4: 200 CC | D4: LECHE ENTERA | E4: 1480.69
B5: DERIVADOS DE CEREAL | C5: 20 gr - 35 gr - 50 gr70 gr - 90 gr | D5: GALLETA DE COCO | E5: 776.66
B6: FRUTAS | C6: 145 gr - 145 gr - 170 gr | D6: NA | E6: 0
B7: FRUTOS SECOS / AZUCARES | C7: 15 gr - 20 gr - 20 gr | D7: BOCADILLO VELEÑO CON MANJAR BLANCO (A - B - C) | E7: 395.6
B8: TRANSPORTE | C8: GL | D8: TRANSPORTE | E8: 1625.16
B9: PERSONAL REQUERIDO | C9: GL | D9: PERSONAL REQUERIDO | E9: 1130.023
B10: SERVICIOS PUBLICOS | C10: GL | D10: SERVICIOS PUBLICOS | E10: 0
B11: IMPLEMENTOS Y DOTACIÓN | C11: GL | D11: IMPLEMENTOS Y DOTACIÓN | E11: 3210.96
B12: SUBTOTAL | E12: 8619.093
A13: 2 | B13: LACTEOS | C13: 200 CC | D13: LECHE SABORIZADA (VAINILLA) | E13: 1950.04
B14: DERIVADOS DE CEREAL | C14: 20 gr - 35 gr - 50 gr70 gr - 90 gr | D14: PAN DE LECHE | E14: 711.85
B15: FRUTAS | C15: 145 gr - 145 gr - 170 gr | D15: NA | E15: 0
B16: FRUTOS SECOS / AZUCARES | C16: 15 gr - 20 gr - 20 gr | D16: PANELITA CON LECHE(A - B - C) | E16: 426.89
B17: TRANSPORTE | C17: GL | D17: TRANSPORTE | E17: 1625.16
B18: PERSONAL REQUERIDO | C18: GL | D18: PERSONAL REQUERIDO | E18: 1130.023
B19: SERVICIOS PUBLICOS | C19: GL | D19: SERVICIOS PUBLICOS | E19: 0
B20: IMPLEMENTOS Y DOTACIÓN | C20: GL | D20: IMPLEMENTOS Y DOTACIÓN | E20: 3210.96
B21: SUBTOTAL | E21: 9054.923
A22: 3 | B22: LACTEOS | C22: 200 CC | D22: AVENA | E22: 1724.3
B23: DERIVADOS DE CEREAL | C23: 20 gr - 35 gr - 50 gr70 gr - 90 gr | D23: CROISSANT | E23: 771.08
B24: FRUTAS | C24: 145 gr - 145 gr - 170 gr | D24: MANDARINA | E24: 848.18
B25: FRUTOS SECOS / AZUCARES | C25: 15 gr - 20 gr - 20 gr | D25: NA | E25: 0
C26: 25 gr - 25 gr | D26: NA | E26: 0
B27: TRANSPORTE | C27: GL | D27: TRANSPORTE | E27: 1625.16
B28: PERSONAL REQUERIDO | C28: GL | D28: PERSONAL REQUERIDO | E28: 1130.023
B29: SERVICIOS PUBLICOS | C29: GL | D29: SERVICIOS PUBLICOS | E29: 0
B30: IMPLEMENTOS Y DOTACIÓN | C30: GL | D30: IMPLEMENTOS Y DOTACIÓN | E30: 3210.96
B31: SUBTOTAL | E31: 9309.703
A32: 4 | B32: LACTEOS | C32: 200 CC | D32: LECHE ENTERA | E32: 1480.69
B33: DERIVADOS DE CEREAL | C33: 20 gr - 35 gr - 50 gr70 gr - 90 gr | D33: PAN DE QUESO | E33: 800.13
B34: FRUTAS | C34: 145 gr - 145 gr - 170 gr | D34: BANANO | E34: 478.29
B35: FRUTOS SECOS / AZUCARES | C35: 15 gr - 20 gr - 20 gr | D35: NA | E35: 0
C36: 25 gr - 25 gr | D36: NA | E36: 0
B37: TRANSPORTE | C37: GL | D37: TRANSPORTE | E37: 1625.16
B38: PERSONAL REQUERIDO | C38: GL | D38: PERSONAL REQUERIDO | E38: 1130.023
B39: SERVICIOS PUBLICOS | C39: GL | D39: SERVICIOS PUBLICOS | E39: 0
B40: IMPLEMENTOS Y DOTACIÓN | C40: GL | D40: IMPLEMENTOS Y DOTACIÓN | E40: 3210.96
...

Sheet R. INDUST (C)
E1: PROMEDIO
A2: COMPLEMENTO | E2: RACIÓN INDUSTRIALIZADA ( C)
A3: N° MENÚ | B3: GRUPO DE ALIMETOS | C3: RANGO DE PESOS AL SERVIR RACIÓN SERVIDA | D3: PREPARACIÓN | E3: VALOR UNITARIO
A4: 1 | B4: LACTEOS | C4: 200 CC | D4: LECHE ENTERA | E4: 1480.69
B5: DERIVADOS DE CEREAL | C5: 20 gr - 35 gr - 50 gr70 gr - 90 gr | D5: GALLETA DE COCO | E5: 1083.98
B6: FRUTAS | C6: 145 gr - 145 gr - 170 gr | D6: NA | E6: 0
B7: FRUTOS SECOS / AZUCARES | C7: 15 gr - 20 gr - 20 gr | D7: BOCADILLO VELEÑO CON MANJAR BLANCO (A - B - C) | E7: 521.87
B8: TRANSPORTE | C8: GL | D8: TRANSPORTE | E8: 1625.16
B9: PERSONAL REQUERIDO | C9: GL | D9: PERSONAL REQUERIDO | E9: 1130.023
B10: SERVICIOS PUBLICOS | C10: GL | D10: SERVICIOS PUBLICOS | E10: 0
B11: IMPLEMENTOS Y DOTACIÓN | C11: GL | D11: IMPLEMENTOS Y DOTACIÓN | E11: 3295.02
B12: SUBTOTAL | E12: 9136.743
A13: 2 | B13: LACTEOS | C13: 200 CC | D13: LECHE SABORIZADA (VAINILLA) | E13: 1950.04
B14: DERIVADOS DE CEREAL | C14: 20 gr - 35 gr - 50 gr70 gr - 90 gr | D14: PAN DE LECHE | E14: 994.58
B15: FRUTAS | C15: 145 gr - 145 gr - 170 gr | D15: NA | E15: 0
B16: FRUTOS SECOS / AZUCARES | C16: 15 gr - 20 gr - 20 gr | D16: PANELITA CON LECHE(A - B - C) | E16: 547.58
B17: TRANSPORTE | C17: GL | D17: TRANSPORTE | E17: 1625.16
B18: PERSONAL REQUERIDO | C18: GL | D18: PERSONAL REQUERIDO | E18: 1130.023
B19: SERVICIOS PUBLICOS | C19: GL | D19: SERVICIOS PUBLICOS | E19: 0
B20: IMPLEMENTOS Y DOTACIÓN | C20: GL | D20: IMPLEMENTOS Y DOTACIÓN | E20: 3295.02
B21: SUBTOTAL | E21: 9542.403
A22: 3 | B22: LACTEOS | C22: 200 CC | D22: AVENA | E22: 1724.3
B23: DERIVADOS DE CEREAL | C23: 20 gr - 35 gr - 50 gr70 gr - 90 gr | D23: CROISSANT | E23: 1067.21
B24: FRUTAS | C24: 145 gr - 145 gr - 170 gr | D24: MANDARINA | E24: 1002.4
B25: FRUTOS SECOS / AZUCARES | C25: 15 gr - 20 gr - 20 gr | D25: NA | E25: 0
C26: 25 gr - 25 gr | D26: NA | E26: 0
B27: TRANSPORTE | C27: GL | D27: TRANSPORTE | E27: 1625.16
B28: PERSONAL REQUERIDO | C28: GL | D28: PERSONAL REQUERIDO | E28: 1130.023
B29: SERVICIOS PUBLICOS | C29: GL | D29: SERVICIOS PUBLICOS | E29: 0
B30: IMPLEMENTOS Y DOTACIÓN | C30: GL | D30: IMPLEMENTOS Y DOTACIÓN | E30: 3295.02
B31: SUBTOTAL | E31: 9844.113
A32: 4 | B32: LACTEOS | C32: 200 CC | D32: LECHE ENTERA | E32: 1480.69
B33: DERIVADOS DE CEREAL | C33: 20 gr - 35 gr - 50 gr70 gr - 90 gr | D33: PAN DE QUESO | E33: 1108.56
B34: FRUTAS | C34: 145 gr - 145 gr - 170 gr | D34: BANANO | E34: 527.46
B35: FRUTOS SECOS / AZUCARES | C35: 15 gr - 20 gr - 20 gr | D35: NA | E35: 0
C36: 25 gr - 25 gr | D36: NA | E36: 0
B37: TRANSPORTE | C37: GL | D37: TRANSPORTE | E37: 1625.16
B38: PERSONAL REQUERIDO | C38: GL | D38: PERSONAL REQUERIDO | E38: 1130.023
B39: SERVICIOS PUBLICOS | C39: GL | D39: SERVICIOS PUBLICOS | E39: 0
B40: IMPLEMENTOS Y DOTACIÓN | C40: GL | D40: IMPLEMENTOS Y DOTACIÓN | E40: 3295.02
...

Sheet R. INDUST (D)
E1: PROMEDIO
A2: COMPLEMENTO | E2: RACIÓN INDUSTRIALIZADA (D)
A3: N° MENÚ | B3: GRUPO DE ALIMETOS | C3: RANGO DE PESOS AL SERVIR RACIÓN SERVIDA | D3: PREPARACIÓN | E3: VALOR UNITARIO
A4: 1 | B4: LACTEOS | C4: 200 CC | D4: LECHE ENTERA | E4: 1480.69
B5: DERIVADOS DE CEREAL | C5: 20 gr - 35 gr - 50 gr70 gr - 90 gr | D5: GALLETA DE COCO | E5: 1494.1
B6: FRUTAS | C6: 145 gr - 145 gr - 170 gr | D6: NA | E6: 0
B7: FRUTOS SECOS / AZUCARES | C7: 25 gr - 25 gr | D7: BOCADILLO DE GUAYABA CON GALLETA (D - E) | E7: 716.32
B8: TRANSPORTE | C8: GL | D8: TRANSPORTE | E8: 1625.16
B9: PERSONAL REQUERIDO | C9: GL | D9: PERSONAL REQUERIDO | E9: 1130.023
B10: SERVICIOS PUBLICOS | C10: GL | D10: SERVICIOS PUBLICOS | E10: 0
B11: IMPLEMENTOS Y DOTACIÓN | C11: GL | D11: IMPLEMENTOS Y DOTACIÓN | E11: 3410.6
B12: SUBTOTAL | E12: 9856.893
A13: 2 | B13: LACTEOS | C13: 200 CC | D13: LECHE SABORIZADA (VAINILLA) | E13: 1950.04
B14: DERIVADOS DE CEREAL | C14: 20 gr - 35 gr - 50 gr70 gr - 90 gr | D14: PAN DE LECHE | E14: 1361.12
B15: FRUTAS | C15: 145 gr - 145 gr - 170 gr | D15: NA | E15: 0
B16: FRUTOS SECOS / AZUCARES | C16: 25 gr - 25 gr | D16: DULCE DE COCO CON GUAYABA (D - E) | E16: 550.93
B17: TRANSPORTE | C17: GL | D17: TRANSPORTE | E17: 1625.16
B18: PERSONAL REQUERIDO | C18: GL | D18: PERSONAL REQUERIDO | E18: 1130.023
B19: SERVICIOS PUBLICOS | C19: GL | D19: SERVICIOS PUBLICOS | E19: 0
B20: IMPLEMENTOS Y DOTACIÓN | C20: GL | D20: IMPLEMENTOS Y DOTACIÓN | E20: 3410.6
B21: SUBTOTAL | E21: 10027.873
A22: 3 | B22: LACTEOS | C22: 200 CC | D22: AVENA | E22: 1724.3
B23: DERIVADOS DE CEREAL | C23: 20 gr - 35 gr - 50 gr70 gr - 90 gr | D23: CROISSANT | E23: 1459.46
B24: FRUTAS | C24: 145 gr - 145 gr - 170 gr | D24: MANDARINA | E24: 1005.75
B25: FRUTOS SECOS / AZUCARES | C25: 15 gr - 20 gr - 20 gr | D25: NA | E25: 0
C26: 25 gr - 25 gr | D26: NA | E26: 0
B27: TRANSPORTE | C27: GL | D27: TRANSPORTE | E27: 1625.16
B28: PERSONAL REQUERIDO | C28: GL | D28: PERSONAL REQUERIDO | E28: 1130.023
B29: SERVICIOS PUBLICOS | C29: GL | D29: SERVICIOS PUBLICOS | E29: 0
B30: IMPLEMENTOS Y DOTACIÓN | C30: GL | D30: IMPLEMENTOS Y DOTACIÓN | E30: 3410.6
B31: SUBTOTAL | E31: 10355.293
A32: 4 | B32: LACTEOS | C32: 200 CC | D32: LECHE ENTERA | E32: 1480.69
B33: DERIVADOS DE CEREAL | C33: 20 gr - 35 gr - 50 gr70 gr - 90 gr | D33: PAN DE QUESO | E33: 1519.8
B34: FRUTAS | C34: 145 gr - 145 gr - 170 gr | D34: BANANO | E34: 530.81
B35: FRUTOS SECOS / AZUCARES | C35: 15 gr - 20 gr - 20 gr | D35: NA | E35: 0
C36: 25 gr - 25 gr | D36: NA | E36: 0
B37: TRANSPORTE | C37: GL | D37: TRANSPORTE | E37: 1625.16
B38: PERSONAL REQUERIDO | C38: GL | D38: PERSONAL REQUERIDO | E38: 1130.023
B39: SERVICIOS PUBLICOS | C39: GL | D39: SERVICIOS PUBLICOS | E39: 0
B40: IMPLEMENTOS Y DOTACIÓN | C40: GL | D40: IMPLEMENTOS Y DOTACIÓN | E40: 3410.6
...

Sheet R. INDUST (E)
E1: PROMEDIO
A2: COMPLEMENTO | E2: RACIÓN INDUSTRIALIZADA ( E)
A3: N° MENÚ | B3: GRUPO DE ALIMETOS | C3: RANGO DE PESOS AL SERVIR RACIÓN SERVIDA | D3: PREPARACIÓN | E3: VALOR UNITARIO
A4: 1 | B4: LACTEOS | C4: 200 CC | D4: LECHE ENTERA | E4: 1480.69
B5: DERIVADOS DE CEREAL | C5: 20 gr - 35 gr - 50 gr70 gr - 90 gr | D5: GALLETA DE COCO | E5: 1903.1
B6: FRUTAS | C6: 145 gr - 145 gr - 170 gr | D6: NA | E6: 0
B7: FRUTOS SECOS / AZUCARES | C7: 25 gr - 25 gr | D7: BOCADILLO DE GUAYABA CON GALLETA (D - E) | E7: 842.6
B8: TRANSPORTE | C8: GL | D8: TRANSPORTE | E8: 1625.16
B9: PERSONAL REQUERIDO | C9: GL | D9: PERSONAL REQUERIDO | E9: 1130.023
B10: SERVICIOS PUBLICOS | C10: GL | D10: SERVICIOS PUBLICOS | E10: 0
B11: IMPLEMENTOS Y DOTACIÓN | C11: GL | D11: IMPLEMENTOS Y DOTACIÓN | E11: 4600.29
B12: SUBTOTAL | E12: 11581.863
A13: 2 | B13: LACTEOS | C13: 200 CC | D13: LECHE SABORIZADA (VAINILLA) | E13: 1950.04
B14: DERIVADOS DE CEREAL | C14: 20 gr - 35 gr - 50 gr70 gr - 90 gr | D14: PAN DE LECHE | E14: 1732.13
B15: FRUTAS | C15: 145 gr - 145 gr - 170 gr | D15: NA | E15: 0
B16: FRUTOS SECOS / AZUCARES | C16: 25 gr - 25 gr | D16: DULCE DE COCO CON GUAYABA (D - E) | E16: 554.28
B17: TRANSPORTE | C17: GL | D17: TRANSPORTE | E17: 1625.16
B18: PERSONAL REQUERIDO | C18: GL | D18: PERSONAL REQUERIDO | E18: 1130.023
B19: SERVICIOS PUBLICOS | C19: GL | D19: SERVICIOS PUBLICOS | E19: 0
B20: IMPLEMENTOS Y DOTACIÓN | C20: GL | D20: IMPLEMENTOS Y DOTACIÓN | E20: 4600.29
B21: SUBTOTAL | E21: 11591.923
A22: 3 | B22: LACTEOS | C22: 200 CC | D22: AVENA | E22: 1724.3
B23: DERIVADOS DE CEREAL | C23: 20 gr - 35 gr - 50 gr70 gr - 90 gr | D23: CROISSANT | E23: 1851.7
B24: FRUTAS | C24: 145 gr - 145 gr - 170 gr | D24: MANDARINA | E24: 1007.99
B25: FRUTOS SECOS / AZUCARES | C25: 15 gr - 20 gr - 20 gr | D25: NA | E25: 0
C26: 25 gr - 25 gr | D26: NA | E26: 0
B27: TRANSPORTE | C27: GL | D27: TRANSPORTE | E27: 1625.16
B28: PERSONAL REQUERIDO | C28: GL | D28: PERSONAL REQUERIDO | E28: 1130.023
B29: SERVICIOS PUBLICOS | C29: GL | D29: SERVICIOS PUBLICOS | E29: 0
B30: IMPLEMENTOS Y DOTACIÓN | C30: GL | D30: IMPLEMENTOS Y DOTACIÓN | E30: 4600.29
B31: SUBTOTAL | E31: 11939.463
A32: 4 | B32: LACTEOS | C32: 200 CC | D32: LECHE ENTERA | E32: 1480.69
B33: DERIVADOS DE CEREAL | C33: 20 gr - 35 gr - 50 gr70 gr - 90 gr | D33: PAN DE QUESO | E33: 1929.92
B34: FRUTAS | C34: 145 gr - 145 gr - 170 gr | D34: BANANO | E34: 533.05
B35: FRUTOS SECOS / AZUCARES | C35: 15 gr - 20 gr - 20 gr | D35: NA | E35: 0
C36: 25 gr - 25 gr | D36: NA | E36: 0
B37: TRANSPORTE | C37: GL | D37: TRANSPORTE | E37: 1625.16
B38: PERSONAL REQUERIDO | C38: GL | D38: PERSONAL REQUERIDO | E38: 1130.023
B39: SERVICIOS PUBLICOS | C39: GL | D39: SERVICIOS PUBLICOS | E39: 0
B40: IMPLEMENTOS Y DOTACIÓN | C40: GL | D40: IMPLEMENTOS Y DOTACIÓN | E40: 4600.29
...
