Workbook

Sheet GRUPO 01 CONVENCIONAL
B1: PRESUPUESTO PAE
B3: ALMUERZO PREPARADO EN SITIO | F3: ALMUERZO COMIDA TRANSPORTADA EN CALIENTE
B4: GRUPO | C4: VALOR PROMEDIO | D4: CANTIDAD | E4: TOTAL | F4: GRUPO | G4: VALOR PROMEDIO | H4: CANTIDAD | I4: TOTAL
B5: GRUPO A | C5: ='ALMUERZO (A)'!D292 -> 8274 | D5: 1096 | E5: =C5*D5 -> 9068304 | F5: GRUPO A | G5: ='ALMUERZO (A)'!E292 -> 9343 | H5: 1208 | I5: =+H5*G5 -> 11286344
B6: GRUPO B | C6: ='ALMUERZO (B)'!D292 -> 8814 | D6: 1904 | E6: =C6*D6 -> 16781856 | F6: GRUPO B | G6: ='ALMUERZO (B)'!E292 -> 9952 | H6: 2504 | I6: =+H6*G6 -> 24919808
B7: GRUPO C | C7: ='ALMUERZO (C)'!D292 -> 9465 | D7: 1293 | E7: =C7*D7 -> 12238245 | F7: GRUPO C | G7: ='ALMUERZO (C)'!E292 -> 10354 | H7: 1263 | I7: =+H7*G7 -> 13077102
B8: GRUPO D | C8: ='ALMUERZO (D)'!D292 -> 10229 | D8: 4162 | E8: =C8*D8 -> 42573098 | F8: GRUPO D | G8: ='ALMUERZO (D)'!E292 -> 11382 | H8: 1915 | I8: =+H8*G8 -> 21796530
B9: GRUPO E | C9: ='ALMUERZO (E)'!D292 -> 11109 | D9: 2246 | E9: =C9*D9 -> 24950814 | F9: GRUPO E | G9: ='ALMUERZO (E)'!E292 -> 12269 | H9: 1742 | I9: =+H9*G9 -> 21372598
C10: SUBTOTAL | D10: =SUM(D5:D9) -> 10701 | E10: =SUM(E5:E9) -> 105612317 | G10: SUBTOTAL | H10: =SUM(H5:H9) -> 8632 | I10: =SUM(I5:I9) -> 92452382
B11: COMPLEMENTOS PREPARADO EN SITIO | F11: COMPLEMENTOS COMIDA TRANSPORTADA EN CALIENTE
B12: GRUPO | C12: VALOR PROMEDIO | D12: CANTIDAD | E12: TOTAL | F12: GRUPO | G12: VALOR PROMEDIO | H12: CANTIDAD | I12: TOTAL
B13: GRUPO A | C13: ='COMPLEMENTO (A)'!E247 -> 6795 | D13: 141 | E13: =D13*C13 -> 958095 | F13: GRUPO A | G13: ='COMPLEMENTO (A)'!F247 -> 7494 | H13: 673 | I13: =H13*G13 -> 5043462
C14: SUBTOTAL | D14: =SUM(D13:D13) -> 141 | E14: =SUM(E13:E13) -> 958095 | G14: SUBTOTAL | H14: =SUM(H13:H13) -> 673 | I14: =SUM(I13:I13) -> 5043462
B15: RACION INDUSTRIAL
B16: GRUPO | C16: VALOR PROMEDIO | D16: CANTIDAD | E16: TOTAL
B17: GRUPO A | C17: ='R. INDUST (A)'!E199 -> 8243 | D17: 306 | E17: =C17*D17 -> 2522358
B18: GRUPO B | C18: ='R. INDUST (B)'!E199 -> 9068 | D18: 109 | E18: =C18*D18 -> 988412
B19: GRUPO C | C19: ='R. INDUST (C)'!E199 -> 9553 | D19: 140 | E19: =C19*D19 -> 1337420
B20: GRUPO D | C20: ='R. INDUST (D)'!E199 -> 10098 | E20: =C20*D20 -> 0
B21: GRUPO E | C21: ='R. INDUST (E)'!E199 -> 11708 | E21: =C21*D21 -> 0
C22: SUBTOTAL | D22: =SUM(D17:D21) -> 555 | E22: =SUM(E17:E21) -> 4848190
B23: TOTAL DÍA | I23: =E22+E14+I14+I10+E10 -> 208914446
B24: PRESUPUESTO OFICIAL (74 DÍAS) | I24: =I23*74 -> 15459669004

Sheet ALMUERZO (A)
D1: PROMEDIO
A2: ALMUERZO (A) | D2: PRECIO PREPARADO EN SITIO | E2: PRECIO PREPARADO COMIDA TRANSPORTADA EN CALIENTE
A3: N° MENÚ | B3: GRUPO DE ALIMETOS | C3: PREPARACIÓN | D3: VALOR UNITARIO | E3: VALOR UNITARIO
A4: 1 | B4: ALIMENTO PROTEÍCO | C4: PECHUGA APANADA | D4: 1560.84 | E4: 1561.95
B5: AZÚCARES | C5: AZÚCARES | D5: 313.73 | E5: 313.73
B6: BEBIDA | C6: JUGO DE PIÑA | D6: 864.41 | E6: 865.53
B7: CEREAL | C7: ARROZ CON VERDURAS | D7: 432.76 | E7: 432.76
B8: GRASAS | C8: GRASAS | D8: 313.73 | E8: 313.73
B9: AGUA 180 cm3 - 200 cm3 | C9: VASO DE AGUA | D9: 301.49 | E9: 301.49
B10: MISCELANEOS | C10: MISCELANEOS | D10: 255.88 | E10: 255.88
B11: TUBÉRCULOS - RAÍCES - PLÁTANOS - DERIVADOS DE CEREAL | C11: TAJADAS DE GUINEO VERDE | D11: 283.69 | E11: 284.8
B12: VERDURA FRÍA O CALIENTE | C12: VERDURA FRÍA O CALIENTE | D12: 834.38 | E12: 834.38
B13: TRANSPORTE | C13: TRANSPORTE | D13: 936.34 | E13: 1203.69
B14: PERSONAL REQUERIDO | C14: PERSONAL REQUERIDO | D14: 1470.9047 | E14: 1666.9334
B15: SERVICIOS PUBLICOS | C15: SERVICIOS PUBLICOS | D15: 589.59 | E15: 779.89
B16: IMPLEMENTOS Y DOTACIÓN | C16: IMPLEMENTOS Y DOTACIÓN | D16: 721.52 | E16: 1137.15
B17: SUBTOTAL | D17: 8879.2647 | E17: 9951.9134
A18: 2 | B18: ALIMENTO PROTEÍCO | C18: CERDO EN BISTECK | D18: 1447.36 | E18: 1447.36
B19: AZÚCARES | C19: AZÚCARES | D19: 313.73 | E19: 313.73
B20: BEBIDA | C20: JUGO DE BANANO(CON LECHE) | D20: 817.69 | E20: 817.69
B21: CEREAL | C21: ARROZ DE FIDEO | D21: 224.73 | E21: 224.73
B22: GRASAS | C22: GRASAS | D22: 313.73 | E22: 313.73
B23: AGUA 180 cm3 - 200 cm3 | C23: VASO DE AGUA | D23: 301.49 | E23: 301.49
B24: MISCELANEOS | C24: MISCELANEOS | D24: 255.88 | E24: 255.88
B25: TUBÉRCULOS - RAÍCES - PLÁTANOS - DERIVADOS DE CEREAL | C25: PAPAS A LA FRANCESA | D25: 238.08 | E25: 238.08
B26: ENSALADA DE PAYASO | C26: ENSALADA DE PAYASO | D26: 453.9 | E26: 453.9
B27: TRANSPORTE | C27: TRANSPORTE | D27: 936.34 | E27: 1203.69
B28: PERSONAL REQUERIDO | C28: PERSONAL REQUERIDO | D28: 1470.9047 | E28: 1666.9334
B29: SERVICIOS PUBLICOS | C29: SERVICIOS PUBLICOS | D29: 589.59 | E29: 779.89
B30: IMPLEMENTOS Y DOTACIÓN | C30: IMPLEMENTOS Y DOTACIÓN | D30: 721.52 | E30: 1137.15
B31: SUBTOTAL | D31: 8084.9447 | E31: 9154.2534
A32: 3 | B32: ALIMENTO PROTEÍCO | C32: POLLO EN CUADRITOS | D32: 1393.96 | E32: 1393.96
B33: AZÚCARES | C33: AZÚCARES | D33: 313.73 | E33: 313.73
B34: BEBIDA | C34: JUGO DE GUAYABA(CON LECHE) | D34: 821.03 | E34: 821.03
B35: CEREAL | C35: PASTA GUISADA | D35: 457.24 | E35: 457.24
B36: GRASAS | C36: GRASAS | D36: 313.73 | E36: 313.73
B37: AGUA 180 cm3 - 200 cm3 | C37: VASO DE AGUA | D37: 301.49 | E37: 301.49
B38: MISCELANEOS | C38: MISCELANEOS | D38: 255.88 | E38: 255.88
B39: TUBÉRCULOS - RAÍCES - PLÁTANOS - DERIVADOS DE CEREAL | C39: PAN | D39: 434.99 | E39: 434.99
B40: VERDURA FRÍA O CALIENTE | C40: VERDURA FRÍA O CALIENTE | D40: 448.34 | E40: 449.45
B41: TRANSPORTE | C41: TRANSPORTE | D41: 936.34 | E41: 1203.69
B42: PERSONAL REQUERIDO | C42: PERSONAL REQUERIDO | D42: 1470.9047 | E42: 1666.9334
B43: SERVICIOS PUBLICOS | C43: SERVICIOS PUBLICOS | D43: 589.59 | E43: 779.89
B44: IMPLEMENTOS Y DOTACIÓN | C44: IMPLEMENTOS Y DOTACIÓN | D44: 721.52 | E44: 1137.15
B45: SUBTOTAL | D45: 8458.7447 | E45: 9529.1634
A46: 4 | B46: ALIMENTO PROTEÍCO | C46: HUEVO PERICO | D46: 779.86 | E46: 779.86
B47: ALIMENTO PROTEÍCO | C47: LENTEJAS GUISADAS | D47: 186.9 | E47: 186.9
B48: AZÚCARES | C48: AZÚCARES | D48: 313.73 | E48: 313.73
B49: BEBIDA | C49: JUGO DE TOMATE DE ARBOL (CON LECHE) | D49: 941.18 | E49: 941.18
B50: CEREAL | C50: ARROZ BLANCO | D50: 195.8 | E50: 195.8
B51: GRASAS | C51: GRASAS | D51: 313.73 | E51: 313.73
B52: AGUA 180 cm3 - 200 cm3 | C52: VASO DE AGUA | D52: 301.49 | E52: 301.49
B53: MISCELANEOS | C53: MISCELANEOS | D53: 255.88 | E53: 255.88
B54: TUBÉRCULOS - RAÍCES - PLÁTANOS - DERIVADOS DE CEREAL | C54: AREPA | D54: 198.03 | E54: 198.03
B55: VERDURA FRÍA O CALIENTE | C55: TOMATE EN RODAJAS | D55: 685.3 | E55: 686.41
B56: TRANSPORTE | C56: TRANSPORTE | D56: 936.34 | E56: 1203.69
B57: PERSONAL REQUERIDO | C57: PERSONAL REQUERIDO | D57: 1470.9047 | E57: 1666.9334
B58: SERVICIOS PUBLICOS | C58: SERVICIOS PUBLICOS | D58: 589.59 | E58: 779.89
B59: IMPLEMENTOS Y DOTACIÓN | C59: IMPLEMENTOS Y DOTACIÓN | D59: 721.52 | E59: 1137.15
B60: SUBTOTAL | D60: 7890.2547 | E60: 8960.6734
A61: 5 | B61: ALIMENTO PROTEÍCO | C61: CARNE DE CERDO GUISADA | D61: 1464.05 | E61: 1464.05
B62: ALIMENTO PROTEÍCO | C62: FRIJOL CABECITA NEGRA | D62: 250.31 | E62: 250.31
B63: AZÚCARES | C63: AZÚCARES | D63: 313.73 | E63: 313.73
B64: BEBIDA | C64: AGUA DE PANELA CON LIMON | D64: 733.14 | E64: 733.14
B65: CEREAL | C65: ARROZ BLANCO | D65: 238.08 | E65: 238.08
B66: GRASAS | C66: GRASAS | D66: 313.73 | E66: 313.73
B67: AGUA 180 cm3 - 200 cm3 | C67: VASO DE AGUA | D67: 301.49 | E67: 301.49
B68: MISCELANEOS | C68: MISCELANEOS | D68: 255.88 | E68: 255.88
B69: TUBÉRCULOS - RAÍCES - PLÁTANOS - DERIVADOS DE CEREAL | C69: PURÉ DE PAPA | D69: 338.2 | E69: 338.2
B70: VERDURA FRÍA O CALIENTE | C70: ENS. DE ZANAHORIA Y HABICHUELA | D70: 590.74 | E70: 590.74
B71: TRANSPORTE | C71: TRANSPORTE | D71: 936.34 | E71: 1203.69
B72: PERSONAL REQUERIDO | C72: PERSONAL REQUERIDO | D72: 1470.9047 | E72: 1666.9334
B73: SERVICIOS PUBLICOS | C73: SERVICIOS PUBLICOS | D73: 589.59 | E73: 779.89
B74: IMPLEMENTOS Y DOTACIÓN | C74: IMPLEMENTOS Y DOTACIÓN | D74: 721.52 | E74: 1137.15
B75: SUBTOTAL | D75: 8517.7047 | E75: 9587.0134
A76: 6 | B76: ALIMENTO PROTEÍCO | C76: PECHUGA GUISADA | D76: 1303.85 | E76: 1303.85
B77: AZÚCARES | C77: AZÚCARES | D77: 313.73 | E77: 313.73
B78: BEBIDA | C78: JUGO DE BANANO(CON LECHE) | D78: 817.69 | E78: 817.69
B79: CEREAL | C79: ARROZ DE FIDEO | D79: 224.73 | E79: 224.73
B80: GRASAS | C80: GRASAS | D80: 313.73 | E80: 313.73
B81: AGUA | C81: VASO DE AGUA | D81: 301.49 | E81: 301.49
B82: MISCELANEOS | C82: MISCELANEOS | D82: 255.88 | E82: 255.88
B83: TUBÉRCULOS - RAÍCES - PLÁTANOS - DERIVADOS DE CEREAL | C83: PAPAS A LA FRANCESA | D83: 226.95 | E83: 226.95
B84: VERDURA FRÍA O CALIENTE | C84: ENS. DE ZANAHORIA Y HABICHUELA | D84: 590.74 | E84: 590.74
B85: TRANSPORTE | C85: TRANSPORTE | D85: 936.34 | E85: 1203.69
B86: PERSONAL REQUERIDO | C86: PERSONAL REQUERIDO | D86: 1470.9047 | E86: 1666.9334
B87: SERVICIOS PUBLICOS | C87: SERVICIOS PUBLICOS | D87: 591.92 | E87: 782.23
B88: IMPLEMENTOS Y DOTACIÓN | C88: IMPLEMENTOS Y DOTACIÓN | D88: 721.52 | E88: 1137.15
B89: SUBTOTAL | D89: 8069.4747 | E89: 9138.7934
A90: 7 | B90: ALIMENTO PROTEÍCO | C90: CARNE MOLIDA | D90: 1338.34 | E90: 1339.45
B91: AZÚCARES | C91: AZÚCARES | D91: 313.73 | E91: 313.73
B92: BEBIDA | C92: JUGO DE PIÑA | D92: 875.54 | E92: 875.54
B93: CEREAL | C93: ARROZ CON VERDURAS | D93: 314.84 | E93: 314.84
B94: GRASAS | C94: GRASAS | D94: 313.73 | E94: 313.73
B95: AGUA 180 cm3 - 200 cm3 | C95: VASO DE AGUA | D95: 301.49 | E95: 301.49
B96: MISCELANEOS | C96: MISCELANEOS | D96: 255.88 | E96: 255.88
B97: TUBÉRCULOS - RAÍCES - PLÁTANOS - DERIVADOS DE CEREAL | C97: TAJADAS DE GUINEO VERDE | D97: 289.25 | E97: 289.25
B98: VERDURA FRÍA O CALIENTE | C98: ENSALADA DE PAYASO | D98: 430.54 | E98: 430.54
B99: TRANSPORTE | C99: TRANSPORTE | D99: 936.34 | E99: 1203.69
B100: PERSONAL REQUERIDO | C100: PERSONAL REQUERIDO | D100: 1470.9047 | E100: 1666.9334
...

Sheet ALMUERZO (B)
D1: PROMEDIO
A2: ALMUERZO (B) | D2: PRECIO PREPARADO EN SITIO | E2: PRECIO PREPARADO COMIDA TRANSPORTADA EN CALIENTE
A3: N° MENÚ | B3: GRUPO DE ALIMETOS | C3: PREPARACIÓN | D3: VALOR UNITARIO | E3: VALOR UNITARIO
A4: 1 | B4: ALIMENTO PROTEÍCO | C4: PECHUGA APANADA | D4: 1816.71 | E4: 1816.71
B5: AZÚCARES | C5: AZÚCARES | D5: 357.11 | E5: 357.11
B6: BEBIDA | C6: JUGO DE PIÑA | D6: 877.76 | E6: 877.76
B7: CEREAL | C7: ARROZ CON VERDURAS | D7: 538.45 | E7: 538.45
B8: GRASAS | C8: GRASAS | D8: 358.23 | E8: 358.23
B9: AGUA 180 cm3 - 200 cm3 | C9: VASO DE AGUA | D9: 308.16 | E9: 308.16
B10: MISCELANEOS | C10: MISCELANEOS | D10: 260.33 | E10: 260.33
B11: TUBÉRCULOS - RAÍCES - PLÁTANOS - DERIVADOS DE CEREAL | C11: TAJADAS DE GUINEO VERDE | D11: 353.78 | E11: 353.78
B12: VERDURA FRÍA O CALIENTE | C12: VERDURA FRÍA O CALIENTE | D12: 795.44 | E12: 774.3
B13: TRANSPORTE | C13: TRANSPORTE | D13: 945.68 | E13: 1259.73
B14: PERSONAL REQUERIDO | C14: PERSONAL REQUERIDO | D14: 1485.8884 | E14: 1681.9171
B15: SERVICIOS PUBLICOS | C15: SERVICIOS PUBLICOS | D15: 602.43 | E15: 791.57
B16: IMPLEMENTOS Y DOTACIÓN | C16: IMPLEMENTOS Y DOTACIÓN | D16: 729.69 | E16: 1178.01
B17: SUBTOTAL | D17: 9429.6584 | E17: 10556.057
A18: 2 | B18: ALIMENTO PROTEÍCO | C18: CERDO EN BISTECK | D18: 1640.94 | E18: 1640.94
B19: AZÚCARES | C19: AZÚCARES | D19: 357.11 | E19: 357.11
B20: BEBIDA | C20: JUGO DE BANANO(CON LECHE) | D20: 829.93 | E20: 829.93
B21: CEREAL | C21: ARROZ DE FIDEO | D21: 303.71 | E21: 303.71
B22: GRASAS | C22: GRASAS | D22: 358.23 | E22: 358.23
B23: AGUA 180 cm3 - 200 cm3 | C23: VASO DE AGUA | D23: 308.16 | E23: 308.16
B24: MISCELANEOS | C24: MISCELANEOS | D24: 260.33 | E24: 260.33
B25: TUBÉRCULOS - RAÍCES - PLÁTANOS - DERIVADOS DE CEREAL | C25: PAPAS A LA FRANCESA | D25: 273.68 | E25: 273.68
B26: ENSALADA DE PAYASO | C26: ENSALADA DE PAYASO | D26: 462.8 | E26: 462.8
B27: TRANSPORTE | C27: TRANSPORTE | D27: 945.68 | E27: 1259.73
B28: PERSONAL REQUERIDO | C28: PERSONAL REQUERIDO | D28: 1485.8884 | E28: 1681.9171
B29: SERVICIOS PUBLICOS | C29: SERVICIOS PUBLICOS | D29: 602.43 | E29: 791.57
B30: IMPLEMENTOS Y DOTACIÓN | C30: IMPLEMENTOS Y DOTACIÓN | D30: 729.69 | E30: 1178.01
B31: SUBTOTAL | D31: 8558.5784 | E31: 9706.1171
A32: 3 | B32: ALIMENTO PROTEÍCO | C32: POLLO EN CUADRITOS | D32: 1713.25 | E32: 1713.25
B33: AZÚCARES | C33: AZÚCARES | D33: 357.11 | E33: 357.11
B34: BEBIDA | C34: JUGO DE GUAYABA(CON LECHE) | D34: 837.71 | E34: 837.71
B35: CEREAL | C35: PASTA GUISADA | D35: 513.98 | E35: 513.98
B36: GRASAS | C36: GRASAS | D36: 358.23 | E36: 358.23
B37: AGUA 180 cm3 - 200 cm3 | C37: VASO DE AGUA | D37: 308.16 | E37: 308.16
B38: MISCELANEOS | C38: MISCELANEOS | D38: 260.33 | E38: 260.33
B39: TUBÉRCULOS - RAÍCES - PLÁTANOS - DERIVADOS DE CEREAL | C39: PAN | D39: 534 | E39: 534
B40: VERDURA FRÍA O CALIENTE | C40: VERDURA FRÍA O CALIENTE | D40: 492.84 | E40: 492.84
B41: TRANSPORTE | C41: TRANSPORTE | D41: 945.68 | E41: 1259.73
B42: PERSONAL REQUERIDO | C42: PERSONAL REQUERIDO | D42: 1485.8884 | E42: 1681.9171
B43: SERVICIOS PUBLICOS | C43: SERVICIOS PUBLICOS | D43: 602.43 | E43: 791.57
B44: IMPLEMENTOS Y DOTACIÓN | C44: IMPLEMENTOS Y DOTACIÓN | D44: 729.69 | E44: 1178.01
B45: SUBTOTAL | D45: 9139.2984 | E45: 10286.837
A46: 4 | B46: ALIMENTO PROTEÍCO | C46: HUEVO PERICO | D46: 789.88 | E46: 789.88
B47: ALIMENTO PROTEÍCO | C47: LENTEJAS GUISADAS | D47: 216.94 | E47: 216.94
B48: AZÚCARES | C48: AZÚCARES | D48: 357.11 | E48: 357.11
B49: BEBIDA | C49: JUGO DE TOMATE DE ARBOL (CON LECHE) | D49: 950.08 | E49: 950.08
B50: CEREAL | C50: ARROZ BLANCO | D50: 228.06 | E50: 228.06
B51: GRASAS | C51: GRASAS | D51: 358.23 | E51: 358.23
B52: AGUA 180 cm3 - 200 cm3 | C52: VASO DE AGUA | D52: 308.16 | E52: 308.16
B53: MISCELANEOS | C53: MISCELANEOS | D53: 260.33 | E53: 260.33
B54: TUBÉRCULOS - RAÍCES - PLÁTANOS - DERIVADOS DE CEREAL | C54: AREPA | D54: 278.13 | E54: 278.13
B55: VERDURA FRÍA O CALIENTE | C55: TOMATE EN RODAJAS | D55: 817.69 | E55: 817.69
B56: TRANSPORTE | C56: TRANSPORTE | D56: 945.68 | E56: 1259.73
B57: PERSONAL REQUERIDO | C57: PERSONAL REQUERIDO | D57: 1485.8884 | E57: 1681.9171
B58: SERVICIOS PUBLICOS | C58: SERVICIOS PUBLICOS | D58: 602.43 | E58: 791.57
B59: IMPLEMENTOS Y DOTACIÓN | C59: IMPLEMENTOS Y DOTACIÓN | D59: 729.69 | E59: 1178.01
B60: SUBTOTAL | D60: 8328.2984 | E60: 9475.8371
A61: 5 | B61: ALIMENTO PROTEÍCO | C61: CARNE DE CERDO GUISADA | D61: 1658.74 | E61: 1658.74
B62: ALIMENTO PROTEÍCO | C62: FRIJOL CABECITA NEGRA | D62: 281.46 | E62: 281.46
B63: AZÚCARES | C63: AZÚCARES | D63: 357.11 | E63: 357.11
B64: BEBIDA | C64: AGUA DE PANELA CON LIMON | D64: 745.38 | E64: 745.38
B65: CEREAL | C65: ARROZ BLANCO | D65: 308.16 | E65: 308.16
B66: GRASAS | C66: GRASAS | D66: 358.23 | E66: 358.23
B67: AGUA 180 cm3 - 200 cm3 | C67: VASO DE AGUA | D67: 308.16 | E67: 308.16
B68: MISCELANEOS | C68: MISCELANEOS | D68: 260.33 | E68: 260.33
B69: TUBÉRCULOS - RAÍCES - PLÁTANOS - DERIVADOS DE CEREAL | C69: PURÉ DE PAPA | D69: 350.44 | E69: 350.44
B70: VERDURA FRÍA O CALIENTE | C70: ENS. DE ZANAHORIA Y HABICHUELA | D70: 596.3 | E70: 596.3
B71: TRANSPORTE | C71: TRANSPORTE | D71: 945.68 | E71: 1259.73
B72: PERSONAL REQUERIDO | C72: PERSONAL REQUERIDO | D72: 1485.8884 | E72: 1681.9171
B73: SERVICIOS PUBLICOS | C73: SERVICIOS PUBLICOS | D73: 602.43 | E73: 791.57
B74: IMPLEMENTOS Y DOTACIÓN | C74: IMPLEMENTOS Y DOTACIÓN | D74: 729.69 | E74: 1178.01
B75: SUBTOTAL | D75: 8987.9984 | E75: 10135.537
A76: 6 | B76: ALIMENTO PROTEÍCO | C76: PECHUGA GUISADA | D76: 1612.01 | E76: 1612.01
B77: AZÚCARES | C77: AZÚCARES | D77: 357.11 | E77: 357.11
B78: BEBIDA | C78: JUGO DE BANANO(CON LECHE) | D78: 829.93 | E78: 829.93
B79: CEREAL | C79: ARROZ DE FIDEO | D79: 303.71 | E79: 303.71
B80: GRASAS | C80: GRASAS | D80: 358.23 | E80: 358.23
B81: AGUA | C81: VASO DE AGUA | D81: 308.16 | E81: 308.16
B82: MISCELANEOS | C82: MISCELANEOS | D82: 260.33 | E82: 260.33
B83: TUBÉRCULOS - RAÍCES - PLÁTANOS - DERIVADOS DE CEREAL | C83: PAPAS A LA FRANCESA | D83: 253.65 | E83: 253.65
B84: VERDURA FRÍA O CALIENTE | C84: ENS. DE ZANAHORIA Y HABICHUELA | D84: 596.3 | E84: 596.3
B85: TRANSPORTE | C85: TRANSPORTE | D85: 945.68 | E85: 1259.73
B86: PERSONAL REQUERIDO | C86: PERSONAL REQUERIDO | D86: 1485.8884 | E86: 1681.9171
B87: SERVICIOS PUBLICOS | C87: SERVICIOS PUBLICOS | D87: 602.43 | E87: 791.57
B88: IMPLEMENTOS Y DOTACIÓN | C88: IMPLEMENTOS Y DOTACIÓN | D88: 729.69 | E88: 1178.01
B89: SUBTOTAL | D89: 8643.1184 | E89: 9790.6571
A90: 7 | B90: ALIMENTO PROTEÍCO | C90: CARNE MOLIDA | D90: 1564.18 | E90: 1564.18
B91: AZÚCARES | C91: AZÚCARES | D91: 357.11 | E91: 357.11
B92: BEBIDA | C92: JUGO DE PIÑA | D92: 888.89 | E92: 888.89
B93: CEREAL | C93: ARROZ CON VERDURAS | D93: 408.29 | E93: 408.29
B94: GRASAS | C94: GRASAS | D94: 358.23 | E94: 358.23
B95: AGUA 180 cm3 - 200 cm3 | C95: VASO DE AGUA | D95: 308.16 | E95: 308.16
B96: MISCELANEOS | C96: MISCELANEOS | D96: 260.33 | E96: 260.33
B97: TUBÉRCULOS - RAÍCES - PLÁTANOS - DERIVADOS DE CEREAL | C97: TAJADAS DE GUINEO VERDE | D97: 362.68 | E97: 362.68
B98: VERDURA FRÍA O CALIENTE | C98: ENSALADA DE PAYASO | D98: 455.01 | E98: 455.01
B99: TRANSPORTE | C99: TRANSPORTE | D99: 945.68 | E99: 1259.73
B100: PERSONAL REQUERIDO | C100: PERSONAL REQUERIDO | D100: 1485.8884 | E100: 1681.9171
...

Sheet ALMUERZO (C)
D1: PROMEDIO
A2: ALMUERZO ( C) | D2: PRECIO PREPARADO EN SITIO | E2: PRECIO PREPARADO COMIDA TRANSPORTADA EN CALIENTE
A3: N° MENÚ | B3: GRUPO DE ALIMETOS | C3: PREPARACIÓN | D3: VALOR UNITARIO | E3: VALOR UNITARIO
A4: 1 | B4: ALIMENTO PROTEÍCO | C4: PECHUGA APANADA | D4: 2169.38 | E4: 2073.7
B5: AZÚCARES | C5: AZÚCARES | D5: 407.18 | E5: 393.83
B6: BEBIDA | C6: JUGO DE PIÑA | D6: 891.11 | E6: 862.19
B7: CEREAL | C7: ARROZ CON VERDURAS | D7: 836.6 | E7: 841.05
B8: GRASAS | C8: GRASAS | D8: 407.18 | E8: 390.49
B9: AGUA 180 cm3 - 200 cm3 | C9: VASO DE AGUA | D9: 313.73 | E9: 294.81
B10: MISCELANEOS | C10: MISCELANEOS | D10: 264.78 | E10: 252.54
B11: TUBÉRCULOS - RAÍCES - PLÁTANOS - DERIVADOS DE CEREAL | C11: TAJADAS DE GUINEO VERDE | D11: 360.45 | E11: 341.54
B12: VERDURA FRÍA O CALIENTE | C12: VERDURA FRÍA O CALIENTE | D12: 846.61 | E12: 859.96
B13: TRANSPORTE | C13: TRANSPORTE | D13: 955.02 | E13: 1259.73
B14: PERSONAL REQUERIDO | C14: PERSONAL REQUERIDO | D14: 1500.8721 | E14: 1693.1575
B15: SERVICIOS PUBLICOS | C15: SERVICIOS PUBLICOS | D15: 612.94 | E15: 777.56
B16: IMPLEMENTOS Y DOTACIÓN | C16: IMPLEMENTOS Y DOTACIÓN | D16: 737.86 | E16: 1183.85
B17: SUBTOTAL | D17: 10303.712 | E17: 11224.408
A18: 2 | B18: ALIMENTO PROTEÍCO | C18: CERDO EN BISTECK | D18: 1842.3 | E18: 1684.33
B19: AZÚCARES | C19: AZÚCARES | D19: 407.18 | E19: 393.83
B20: BEBIDA | C20: JUGO DE BANANO(CON LECHE) | D20: 842.16 | E20: 814.35
B21: CEREAL | C21: ARROZ DE FIDEO | D21: 397.16 | E21: 386.04
B22: GRASAS | C22: GRASAS | D22: 407.18 | E22: 390.49
B23: AGUA 180 cm3 - 200 cm3 | C23: VASO DE AGUA | D23: 313.73 | E23: 294.81
B24: MISCELANEOS | C24: MISCELANEOS | D24: 264.78 | E24: 252.54
B25: TUBÉRCULOS - RAÍCES - PLÁTANOS - DERIVADOS DE CEREAL | C25: PAPAS A LA FRANCESA | D25: 342.65 | E25: 315.95
B26: ENSALADA DE PAYASO | C26: ENSALADA DE PAYASO | D26: 528.44 | E26: 517.31
B27: TRANSPORTE | C27: TRANSPORTE | D27: 955.02 | E27: 1259.73
B28: PERSONAL REQUERIDO | C28: PERSONAL REQUERIDO | D28: 1500.8721 | E28: 1693.1575
B29: SERVICIOS PUBLICOS | C29: SERVICIOS PUBLICOS | D29: 612.94 | E29: 777.56
B30: IMPLEMENTOS Y DOTACIÓN | C30: IMPLEMENTOS Y DOTACIÓN | D30: 737.86 | E30: 1183.85
B31: SUBTOTAL | D31: 9152.2721 | E31: 9963.9475
A32: 3 | B32: ALIMENTO PROTEÍCO | C32: POLLO EN CUADRITOS | D32: 1964.68 | E32: 1881.24
B33: AZÚCARES | C33: AZÚCARES | D33: 407.18 | E33: 393.83
B34: BEBIDA | C34: JUGO DE GUAYABA(CON LECHE) | D34: 854.4 | E34: 802.11
B35: CEREAL | C35: PASTA GUISADA | D35: 629.68 | E35: 626.34
B36: GRASAS | C36: GRASAS | D36: 407.18 | E36: 390.49
B37: AGUA 180 cm3 - 200 cm3 | C37: VASO DE AGUA | D37: 313.73 | E37: 294.81
B38: MISCELANEOS | C38: MISCELANEOS | D38: 264.78 | E38: 252.54
B39: TUBÉRCULOS - RAÍCES - PLÁTANOS - DERIVADOS DE CEREAL | C39: PAN | D39: 540.68 | E39: 534
B40: VERDURA FRÍA O CALIENTE | C40: VERDURA FRÍA O CALIENTE | D40: 536.23 | E40: 509.53
B41: TRANSPORTE | C41: TRANSPORTE | D41: 955.02 | E41: 1259.73
B42: PERSONAL REQUERIDO | C42: PERSONAL REQUERIDO | D42: 1500.8721 | E42: 1693.1575
B43: SERVICIOS PUBLICOS | C43: SERVICIOS PUBLICOS | D43: 612.94 | E43: 777.56
B44: IMPLEMENTOS Y DOTACIÓN | C44: IMPLEMENTOS Y DOTACIÓN | D44: 737.86 | E44: 1183.85
B45: SUBTOTAL | D45: 9725.2321 | E45: 10599.188
A46: 4 | B46: ALIMENTO PROTEÍCO | C46: HUEVO PERICO | D46: 803.23 | E46: 787.65
B47: ALIMENTO PROTEÍCO | C47: LENTEJAS GUISADAS | D47: 297.04 | E47: 278.13
B48: AZÚCARES | C48: AZÚCARES | D48: 407.18 | E48: 393.83
B49: BEBIDA | C49: JUGO DE TOMATE DE ARBOL (CON LECHE) | D49: 970.1 | E49: 906.69
B50: CEREAL | C50: ARROZ BLANCO | D50: 295.93 | E50: 282.58
B51: GRASAS | C51: GRASAS | D51: 407.18 | E51: 390.49
B52: AGUA 180 cm3 - 200 cm3 | C52: VASO DE AGUA | D52: 313.73 | E52: 294.81
B53: MISCELANEOS | C53: MISCELANEOS | D53: 264.78 | E53: 252.54
B54: TUBÉRCULOS - RAÍCES - PLÁTANOS - DERIVADOS DE CEREAL | C54: AREPA | D54: 308.16 | E54: 290.36
B55: VERDURA FRÍA O CALIENTE | C55: TOMATE EN RODAJAS | D55: 886.66 | E55: 902.24
B56: TRANSPORTE | C56: TRANSPORTE | D56: 955.02 | E56: 1259.73
B57: PERSONAL REQUERIDO | C57: PERSONAL REQUERIDO | D57: 1500.8721 | E57: 1693.1575
B58: SERVICIOS PUBLICOS | C58: SERVICIOS PUBLICOS | D58: 612.94 | E58: 777.56
B59: IMPLEMENTOS Y DOTACIÓN | C59: IMPLEMENTOS Y DOTACIÓN | D59: 737.86 | E59: 1183.85
B60: SUBTOTAL | D60: 8760.6821 | E60: 9693.6175
A61: 5 | B61: ALIMENTO PROTEÍCO | C61: CARNE DE CERDO GUISADA | D61: 1867.89 | E61: 1704.35
B62: ALIMENTO PROTEÍCO | C62: FRIJOL CABECITA NEGRA | D62: 367.13 | E62: 351.55
B63: AZÚCARES | C63: AZÚCARES | D63: 407.18 | E63: 393.83
B64: BEBIDA | C64: AGUA DE PANELA CON LIMON | D64: 755.39 | E64: 732.03
B65: CEREAL | C65: ARROZ BLANCO | D65: 377.14 | E65: 368.24
B66: GRASAS | C66: GRASAS | D66: 407.18 | E66: 390.49
B67: AGUA 180 cm3 - 200 cm3 | C67: VASO DE AGUA | D67: 313.73 | E67: 294.81
B68: MISCELANEOS | C68: MISCELANEOS | D68: 264.78 | E68: 252.54
B69: TUBÉRCULOS - RAÍCES - PLÁTANOS - DERIVADOS DE CEREAL | C69: PURÉ DE PAPA | D69: 404.95 | E69: 380.48
B70: VERDURA FRÍA O CALIENTE | C70: ENS. DE ZANAHORIA Y HABICHUELA | D70: 677.51 | E70: 681.96
B71: TRANSPORTE | C71: TRANSPORTE | D71: 955.02 | E71: 1259.73
B72: PERSONAL REQUERIDO | C72: PERSONAL REQUERIDO | D72: 1500.8721 | E72: 1693.1575
B73: SERVICIOS PUBLICOS | C73: SERVICIOS PUBLICOS | D73: 612.94 | E73: 777.56
B74: IMPLEMENTOS Y DOTACIÓN | C74: IMPLEMENTOS Y DOTACIÓN | D74: 737.86 | E74: 1183.85
B75: SUBTOTAL | D75: 9649.5721 | E75: 10464.578
A76: 6 | B76: ALIMENTO PROTEÍCO | C76: PECHUGA GUISADA | D76: 2005.84 | E76: 1946.88
B77: AZÚCARES | C77: AZÚCARES | D77: 407.18 | E77: 393.83
B78: BEBIDA | C78: JUGO DE BANANO(CON LECHE) | D78: 842.16 | E78: 814.35
B79: CEREAL | C79: ARROZ DE FIDEO | D79: 389.38 | E79: 378.25
B80: GRASAS | C80: GRASAS | D80: 407.18 | E80: 390.49
B81: AGUA | C81: VASO DE AGUA | D81: 313.73 | E81: 294.81
B82: MISCELANEOS | C82: MISCELANEOS | D82: 264.78 | E82: 252.54
B83: TUBÉRCULOS - RAÍCES - PLÁTANOS - DERIVADOS DE CEREAL | C83: PAPAS A LA FRANCESA | D83: 321.51 | E83: 293.7
B84: VERDURA FRÍA O CALIENTE | C84: ENS. DE ZANAHORIA Y HABICHUELA | D84: 677.51 | E84: 683.08
B85: TRANSPORTE | C85: TRANSPORTE | D85: 955.02 | E85: 1259.73
B86: PERSONAL REQUERIDO | C86: PERSONAL REQUERIDO | D86: 1500.8721 | E86: 1693.1575
B87: SERVICIOS PUBLICOS | C87: SERVICIOS PUBLICOS | D87: 612.94 | E87: 777.56
B88: IMPLEMENTOS Y DOTACIÓN | C88: IMPLEMENTOS Y DOTACIÓN | D88: 737.86 | E88: 1183.85
B89: SUBTOTAL | D89: 9435.9621 | E89: 10362.228
A90: 7 | B90: ALIMENTO PROTEÍCO | C90: CARNE MOLIDA | D90: 1876.79 | E90: 1811.15
B91: AZÚCARES | C91: AZÚCARES | D91: 407.18 | E91: 393.83
B92: BEBIDA | C92: JUGO DE PIÑA | D92: 901.13 | E92: 873.31
B93: CEREAL | C93: ARROZ CON VERDURAS | D93: 544.01 | E93: 539.56
B94: GRASAS | C94: GRASAS | D94: 407.18 | E94: 390.49
B95: AGUA 180 cm3 - 200 cm3 | C95: VASO DE AGUA | D95: 313.73 | E95: 294.81
B96: MISCELANEOS | C96: MISCELANEOS | D96: 264.78 | E96: 252.54
B97: TUBÉRCULOS - RAÍCES - PLÁTANOS - DERIVADOS DE CEREAL | C97: TAJADAS DE GUINEO VERDE | D97: 384.93 | E97: 366.01
B98: VERDURA FRÍA O CALIENTE | C98: ENSALADA DE PAYASO | D98: 750.94 | E98: 750.94
B99: TRANSPORTE | C99: TRANSPORTE | D99: 955.02 | E99: 1259.73
B100: PERSONAL REQUERIDO | C100: PERSONAL REQUERIDO | D100: 1500.8721 | E100: 1693.1575
...

Sheet ALMUERZO (D)
D1: PROMEDIO
A2: ALMUERZO (D) | D2: PRECIO PREPARADO EN SITIO | E2: PRECIO PREPARADO COMIDA TRANSPORTADA EN CALIENTE
A3: N° MENÚ | B3: GRUPO DE ALIMETOS | C3: PREPARACIÓN | D3: VALOR UNITARIO | E3: VALOR UNITARIO
A4: 1 | B4: ALIMENTO PROTEÍCO | C4: PECHUGA APANADA | D4: 2474.2 | E4: 2474.2
B5: AZÚCARES | C5: AZÚCARES | D5: 461.69 | E5: 461.69
B6: BEBIDA | C6: JUGO DE PIÑA | D6: 904.46 | E6: 904.46
B7: CEREAL | C7: ARROZ CON VERDURAS | D7: 920.04 | E7: 920.04
B8: GRASAS | C8: GRASAS | D8: 459.46 | E8: 459.46
B9: AGUA 180 cm3 - 200 cm3 | C9: VASO DE AGUA | D9: 318.18 | E9: 318.18
B10: MISCELANEOS | C10: MISCELANEOS | D10: 267 | E10: 268.11
B11: TUBÉRCULOS - RAÍCES - PLÁTANOS - DERIVADOS DE CEREAL | C11: TAJADAS DE GUINEO VERDE | D11: 515.09 | E11: 515.09
B12: VERDURA FRÍA O CALIENTE | C12: VERDURA FRÍA O CALIENTE | D12: 974.55 | E12: 975.66
B13: TRANSPORTE | C13: TRANSPORTE | D13: 960.85 | E13: 1281.92
B14: PERSONAL REQUERIDO | C14: PERSONAL REQUERIDO | D14: 1510.8613 | E14: 1706.8899
B15: SERVICIOS PUBLICOS | C15: SERVICIOS PUBLICOS | D15: 621.11 | E15: 810.25
B16: IMPLEMENTOS Y DOTACIÓN | C16: IMPLEMENTOS Y DOTACIÓN | D16: 743.7 | E16: 1196.69
B17: SUBTOTAL | D17: 11131.191 | E17: 12292.64
A18: 2 | B18: ALIMENTO PROTEÍCO | C18: CERDO EN BISTECK | D18: 2222.78 | E18: 2222.78
B19: AZÚCARES | C19: AZÚCARES | D19: 461.69 | E19: 461.69
B20: BEBIDA | C20: JUGO DE BANANO(CON LECHE) | D20: 924.49 | E20: 924.49
B21: CEREAL | C21: ARROZ DE FIDEO | D21: 482.83 | E21: 483.94
B22: GRASAS | C22: GRASAS | D22: 459.46 | E22: 459.46
B23: AGUA 180 cm3 - 200 cm3 | C23: VASO DE AGUA | D23: 318.18 | E23: 318.18
B24: MISCELANEOS | C24: MISCELANEOS | D24: 267 | E24: 268.11
B25: TUBÉRCULOS - RAÍCES - PLÁTANOS - DERIVADOS DE CEREAL | C25: PAPAS A LA FRANCESA | D25: 430.54 | E25: 430.54
B26: ENSALADA DE PAYASO | C26: ENSALADA DE PAYASO | D26: 630.79 | E26: 631.9
B27: TRANSPORTE | C27: TRANSPORTE | D27: 960.85 | E27: 1281.92
B28: PERSONAL REQUERIDO | C28: PERSONAL REQUERIDO | D28: 1510.8613 | E28: 1706.8899
B29: SERVICIOS PUBLICOS | C29: SERVICIOS PUBLICOS | D29: 621.11 | E29: 810.25
B30: IMPLEMENTOS Y DOTACIÓN | C30: IMPLEMENTOS Y DOTACIÓN | D30: 743.7 | E30: 1196.69
B31: SUBTOTAL | D31: 10034.281 | E31: 11196.84
A32: 3 | B32: ALIMENTO PROTEÍCO | C32: POLLO EN CUADRITOS | D32: 2214.99 | E32: 2214.99
B33: AZÚCARES | C33: AZÚCARES | D33: 461.69 | E33: 461.69
B34: BEBIDA | C34: JUGO DE GUAYABA(CON LECHE) | D34: 940.06 | E34: 940.06
B35: CEREAL | C35: PASTA GUISADA | D35: 789.88 | E35: 790.99
B36: GRASAS | C36: GRASAS | D36: 459.46 | E36: 459.46
B37: AGUA 180 cm3 - 200 cm3 | C37: VASO DE AGUA | D37: 318.18 | E37: 318.18
B38: MISCELANEOS | C38: MISCELANEOS | D38: 267 | E38: 268.11
B39: TUBÉRCULOS - RAÍCES - PLÁTANOS - DERIVADOS DE CEREAL | C39: PAN | D39: 637.46 | E39: 637.46
B40: VERDURA FRÍA O CALIENTE | C40: VERDURA FRÍA O CALIENTE | D40: 564.04 | E40: 564.04
B41: TRANSPORTE | C41: TRANSPORTE | D41: 948.01 | E41: 1264.4
B42: PERSONAL REQUERIDO | C42: PERSONAL REQUERIDO | D42: 1510.8613 | E42: 1706.8899
B43: SERVICIOS PUBLICOS | C43: SERVICIOS PUBLICOS | D43: 621.11 | E43: 810.25
B44: IMPLEMENTOS Y DOTACIÓN | C44: IMPLEMENTOS Y DOTACIÓN | D44: 743.7 | E44: 1196.69
B45: SUBTOTAL | D45: 10476.441 | E45: 11633.21
A46: 4 | B46: ALIMENTO PROTEÍCO | C46: HUEVO PERICO | D46: 809.9 | E46: 809.9
B47: ALIMENTO PROTEÍCO | C47: LENTEJAS GUISADAS | D47: 371.58 | E47: 371.58
B48: AZÚCARES | C48: AZÚCARES | D48: 461.69 | E48: 461.69
B49: BEBIDA | C49: JUGO DE TOMATE DE ARBOL (CON LECHE) | D49: 1057.99 | E49: 1057.99
B50: CEREAL | C50: ARROZ BLANCO | D50: 389.38 | E50: 389.38
B51: GRASAS | C51: GRASAS | D51: 459.46 | E51: 459.46
B52: AGUA 180 cm3 - 200 cm3 | C52: VASO DE AGUA | D52: 318.18 | E52: 318.18
B53: MISCELANEOS | C53: MISCELANEOS | D53: 267 | E53: 268.11
B54: TUBÉRCULOS - RAÍCES - PLÁTANOS - DERIVADOS DE CEREAL | C54: AREPA | D54: 383.81 | E54: 383.81
B55: VERDURA FRÍA O CALIENTE | C55: TOMATE EN RODAJAS | D55: 953.41 | E55: 953.41
B56: TRANSPORTE | C56: TRANSPORTE | D56: 960.85 | E56: 1281.92
B57: PERSONAL REQUERIDO | C57: PERSONAL REQUERIDO | D57: 1510.8613 | E57: 1706.8899
B58: SERVICIOS PUBLICOS | C58: SERVICIOS PUBLICOS | D58: 621.11 | E58: 810.25
B59: IMPLEMENTOS Y DOTACIÓN | C59: IMPLEMENTOS Y DOTACIÓN | D59: 743.7 | E59: 1196.69
B60: SUBTOTAL | D60: 9308.9213 | E60: 10469.26
A61: 5 | B61: ALIMENTO PROTEÍCO | C61: CARNE DE CERDO GUISADA | D61: 2239.46 | E61: 2240.58
B62: ALIMENTO PROTEÍCO | C62: FRIJOL CABECITA NEGRA | D62: 501.74 | E62: 501.74
B63: AZÚCARES | C63: AZÚCARES | D63: 461.69 | E63: 461.69
B64: BEBIDA | C64: AGUA DE PANELA CON LIMON | D64: 769.85 | E64: 769.85
B65: CEREAL | C65: ARROZ BLANCO | D65: 478.38 | E65: 478.38
B66: GRASAS | C66: GRASAS | D66: 459.46 | E66: 459.46
B67: AGUA 180 cm3 - 200 cm3 | C67: VASO DE AGUA | D67: 318.18 | E67: 318.18
B68: MISCELANEOS | C68: MISCELANEOS | D68: 267 | E68: 268.11
B69: TUBÉRCULOS - RAÍCES - PLÁTANOS - DERIVADOS DE CEREAL | C69: PURÉ DE PAPA | D69: 483.94 | E69: 483.94
B70: VERDURA FRÍA O CALIENTE | C70: ENS. DE ZANAHORIA Y HABICHUELA | D70: 680.85 | E70: 680.85
B71: TRANSPORTE | C71: TRANSPORTE | D71: 960.85 | E71: 1281.92
B72: PERSONAL REQUERIDO | C72: PERSONAL REQUERIDO | D72: 1510.8613 | E72: 1706.8899
B73: SERVICIOS PUBLICOS | C73: SERVICIOS PUBLICOS | D73: 621.11 | E73: 810.25
B74: IMPLEMENTOS Y DOTACIÓN | C74: IMPLEMENTOS Y DOTACIÓN | D74: 743.7 | E74: 1196.69
B75: SUBTOTAL | D75: 10497.071 | E75: 11658.53
A76: 6 | B76: ALIMENTO PROTEÍCO | C76: PECHUGA GUISADA | D76: 2307.33 | E76: 2307.33
B77: AZÚCARES | C77: AZÚCARES | D77: 461.69 | E77: 461.69
B78: BEBIDA | C78: JUGO DE BANANO(CON LECHE) | D78: 924.49 | E78: 924.49
B79: CEREAL | C79: ARROZ DE FIDEO | D79: 473.93 | E79: 473.93
B80: GRASAS | C80: GRASAS | D80: 459.46 | E80: 459.46
B81: AGUA | C81: VASO DE AGUA | D81: 318.18 | E81: 318.18
B82: MISCELANEOS | C82: MISCELANEOS | D82: 267 | E82: 268.11
B83: TUBÉRCULOS - RAÍCES - PLÁTANOS - DERIVADOS DE CEREAL | C83: PAPAS A LA FRANCESA | D83: 368.24 | E83: 368.24
B84: VERDURA FRÍA O CALIENTE | C84: ENS. DE ZANAHORIA Y HABICHUELA | D84: 680.85 | E84: 680.85
B85: TRANSPORTE | C85: TRANSPORTE | D85: 960.85 | E85: 1281.92
B86: PERSONAL REQUERIDO | C86: PERSONAL REQUERIDO | D86: 1510.8613 | E86: 1706.8899
B87: SERVICIOS PUBLICOS | C87: SERVICIOS PUBLICOS | D87: 621.11 | E87: 810.25
B88: IMPLEMENTOS Y DOTACIÓN | C88: IMPLEMENTOS Y DOTACIÓN | D88: 743.7 | E88: 1196.69
B89: SUBTOTAL | D89: 10097.691 | E89: 11258.03
A90: 7 | B90: ALIMENTO PROTEÍCO | C90: CARNE MOLIDA | D90: 2355.16 | E90: 2356.28
B91: AZÚCARES | C91: AZÚCARES | D91: 461.69 | E91: 461.69
B92: BEBIDA | C92: JUGO DE PIÑA | D92: 921.15 | E92: 921.15
B93: CEREAL | C93: ARROZ CON VERDURAS | D93: 657.49 | E93: 657.49
B94: GRASAS | C94: GRASAS | D94: 459.46 | E94: 459.46
B95: AGUA 180 cm3 - 200 cm3 | C95: VASO DE AGUA | D95: 318.18 | E95: 318.18
B96: MISCELANEOS | C96: MISCELANEOS | D96: 267 | E96: 268.11
B97: TUBÉRCULOS - RAÍCES - PLÁTANOS - DERIVADOS DE CEREAL | C97: TAJADAS DE GUINEO VERDE | D97: 531.78 | E97: 531.78
B98: VERDURA FRÍA O CALIENTE | C98: ENSALADA DE PAYASO | D98: 923.38 | E98: 923.38
B99: TRANSPORTE | C99: TRANSPORTE | D99: 960.85 | E99: 1281.92
B100: PERSONAL REQUERIDO | C100: PERSONAL REQUERIDO | D100: 1510.8613 | E100: 1706.8899
...

Sheet ALMUERZO (E)
D1: PROMEDIO
A2: ALMUERZO (E) | D2: PRECIO PREPARADO EN SITIO | E2: PRECIO PREPARADO COMIDA TRANSPORTADA EN CALIENTE
A3: N° MENÚ | B3: GRUPO DE ALIMETOS | C3: PREPARACIÓN | D3: VALOR UNITARIO | E3: VALOR UNITARIO
A4: 1 | B4: ALIMENTO PROTEÍCO | C4: PECHUGA APANADA | D4: 2860.24 | E4: 2860.24
B5: AZÚCARES | C5: AZÚCARES | D5: 523.99 | E5: 523.99
B6: BEBIDA | C6: JUGO DE PIÑA | D6: 913.36 | E6: 913.36
B7: CEREAL | C7: ARROZ CON VERDURAS | D7: 968.99 | E7: 968.99
B8: GRASAS | C8: GRASAS | D8: 519.54 | E8: 521.76
B9: AGUA 180 cm3 - 200 cm3 | C9: VASO DE AGUA | D9: 321.51 | E9: 321.51
B10: MISCELANEOS | C10: MISCELANEOS | D10: 270.34 | E10: 270.34
B11: TUBÉRCULOS - RAÍCES - PLÁTANOS - DERIVADOS DE CEREAL | C11: TAJADAS DE GUINEO VERDE | D11: 809.9 | E11: 809.9
B12: VERDURA FRÍA O CALIENTE | C12: VERDURA FRÍA O CALIENTE | D12: 1234.88 | E12: 1234.88
B13: TRANSPORTE | C13: TRANSPORTE | D13: 967.86 | E13: 1291.26
B14: PERSONAL REQUERIDO | C14: PERSONAL REQUERIDO | D14: 1520.8504 | E14: 1716.879
B15: SERVICIOS PUBLICOS | C15: SERVICIOS PUBLICOS | D15: 628.12 | E15: 818.42
B16: IMPLEMENTOS Y DOTACIÓN | C16: IMPLEMENTOS Y DOTACIÓN | D16: 748.37 | E16: 1204.86
B17: SUBTOTAL | D17: 12287.95 | E17: 13456.389
A18: 2 | B18: ALIMENTO PROTEÍCO | C18: CERDO EN BISTECK | D18: 2617.71 | E18: 2617.71
B19: AZÚCARES | C19: AZÚCARES | D19: 523.99 | E19: 523.99
B20: BEBIDA | C20: JUGO DE BANANO(CON LECHE) | D20: 933.39 | E20: 933.39
B21: CEREAL | C21: ARROZ DE FIDEO | D21: 546.24 | E21: 547.35
B22: GRASAS | C22: GRASAS | D22: 519.54 | E22: 521.76
B23: AGUA 180 cm3 - 200 cm3 | C23: VASO DE AGUA | D23: 321.51 | E23: 321.51
B24: MISCELANEOS | C24: MISCELANEOS | D24: 270.34 | E24: 270.34
B25: TUBÉRCULOS - RAÍCES - PLÁTANOS - DERIVADOS DE CEREAL | C25: PAPAS A LA FRANCESA | D25: 523.99 | E25: 523.99
B26: ENSALADA DE PAYASO | C26: ENSALADA DE PAYASO | D26: 772.08 | E26: 772.08
B27: TRANSPORTE | C27: TRANSPORTE | D27: 967.86 | E27: 1291.26
B28: PERSONAL REQUERIDO | C28: PERSONAL REQUERIDO | D28: 1520.8504 | E28: 1716.879
B29: SERVICIOS PUBLICOS | C29: SERVICIOS PUBLICOS | D29: 628.12 | E29: 818.42
B30: IMPLEMENTOS Y DOTACIÓN | C30: IMPLEMENTOS Y DOTACIÓN | D30: 748.37 | E30: 1204.86
B31: SUBTOTAL | D31: 10893.99 | E31: 12063.539
A32: 3 | B32: ALIMENTO PROTEÍCO | C32: POLLO EN CUADRITOS | D32: 2533.16 | E32: 2533.16
B33: AZÚCARES | C33: AZÚCARES | D33: 523.99 | E33: 523.99
B34: BEBIDA | C34: JUGO DE GUAYABA(CON LECHE) | D34: 951.19 | E34: 952.3
B35: CEREAL | C35: PASTA GUISADA | D35: 914.48 | E35: 914.48
B36: GRASAS | C36: GRASAS | D36: 519.54 | E36: 521.76
B37: AGUA 180 cm3 - 200 cm3 | C37: VASO DE AGUA | D37: 321.51 | E37: 321.51
B38: MISCELANEOS | C38: MISCELANEOS | D38: 270.34 | E38: 270.34
B39: TUBÉRCULOS - RAÍCES - PLÁTANOS - DERIVADOS DE CEREAL | C39: PAN | D39: 825.48 | E39: 825.48
B40: VERDURA FRÍA O CALIENTE | C40: VERDURA FRÍA O CALIENTE | D40: 592.96 | E40: 594.08
B41: TRANSPORTE | C41: TRANSPORTE | D41: 967.86 | E41: 1291.26
B42: PERSONAL REQUERIDO | C42: PERSONAL REQUERIDO | D42: 1520.8504 | E42: 1716.879
B43: SERVICIOS PUBLICOS | C43: SERVICIOS PUBLICOS | D43: 628.12 | E43: 818.42
B44: IMPLEMENTOS Y DOTACIÓN | C44: IMPLEMENTOS Y DOTACIÓN | D44: 748.37 | E44: 1204.86
B45: SUBTOTAL | D45: 11317.85 | E45: 12488.519
A46: 4 | B46: ALIMENTO PROTEÍCO | C46: HUEVO PERICO | D46: 816.58 | E46: 816.58
B47: ALIMENTO PROTEÍCO | C47: LENTEJAS GUISADAS | D47: 581.84 | E47: 581.84
B48: AZÚCARES | C48: AZÚCARES | D48: 523.99 | E48: 523.99
B49: BEBIDA | C49: JUGO DE TOMATE DE ARBOL (CON LECHE) | D49: 1013.49 | E49: 1013.49
B50: CEREAL | C50: ARROZ BLANCO | D50: 436.1 | E50: 436.1
B51: GRASAS | C51: GRASAS | D51: 519.54 | E51: 521.76
B52: AGUA 180 cm3 - 200 cm3 | C52: VASO DE AGUA | D52: 321.51 | E52: 321.51
B53: MISCELANEOS | C53: MISCELANEOS | D53: 270.34 | E53: 270.34
B54: TUBÉRCULOS - RAÍCES - PLÁTANOS - DERIVADOS DE CEREAL | C54: AREPA | D54: 404.95 | E54: 404.95
B55: VERDURA FRÍA O CALIENTE | C55: TOMATE EN RODAJAS | D55: 1213.74 | E55: 1213.74
B56: TRANSPORTE | C56: TRANSPORTE | D56: 967.86 | E56: 1291.26
B57: PERSONAL REQUERIDO | C57: PERSONAL REQUERIDO | D57: 1520.8504 | E57: 1716.879
B58: SERVICIOS PUBLICOS | C58: SERVICIOS PUBLICOS | D58: 628.12 | E58: 818.42
B59: IMPLEMENTOS Y DOTACIÓN | C59: IMPLEMENTOS Y DOTACIÓN | D59: 748.37 | E59: 1204.86
B60: SUBTOTAL | D60: 9967.2804 | E60: 11135.719
A61: 5 | B61: ALIMENTO PROTEÍCO | C61: CARNE DE CERDO GUISADA | D61: 2638.85 | E61: 2639.96
B62: ALIMENTO PROTEÍCO | C62: FRIJOL CABECITA NEGRA | D62: 637.46 | E62: 637.46
B63: AZÚCARES | C63: AZÚCARES | D63: 523.99 | E63: 523.99
B64: BEBIDA | C64: AGUA DE PANELA CON LIMON | D64: 776.53 | E64: 776.53
B65: CEREAL | C65: ARROZ BLANCO | D65: 527.33 | E65: 527.33
B66: GRASAS | C66: GRASAS | D66: 519.54 | E66: 521.76
B67: AGUA 180 cm3 - 200 cm3 | C67: VASO DE AGUA | D67: 321.51 | E67: 321.51
B68: MISCELANEOS | C68: MISCELANEOS | D68: 270.34 | E68: 270.34
B69: TUBÉRCULOS - RAÍCES - PLÁTANOS - DERIVADOS DE CEREAL | C69: PURÉ DE PAPA | D69: 554.03 | E69: 554.03
B70: VERDURA FRÍA O CALIENTE | C70: ENS. DE ZANAHORIA Y HABICHUELA | D70: 838.83 | E70: 838.83
B71: TRANSPORTE | C71: TRANSPORTE | D71: 967.86 | E71: 1291.26
B72: PERSONAL REQUERIDO | C72: PERSONAL REQUERIDO | D72: 1520.8504 | E72: 1716.879
B73: SERVICIOS PUBLICOS | C73: SERVICIOS PUBLICOS | D73: 628.12 | E73: 818.42
B74: IMPLEMENTOS Y DOTACIÓN | C74: IMPLEMENTOS Y DOTACIÓN | D74: 748.37 | E74: 1204.86
B75: SUBTOTAL | D75: 11473.61 | E75: 12643.159
A76: 6 | B76: ALIMENTO PROTEÍCO | C76: PECHUGA GUISADA | D76: 2627.73 | E76: 2627.73
B77: AZÚCARES | C77: AZÚCARES | D77: 523.99 | E77: 523.99
B78: BEBIDA | C78: JUGO DE BANANO(CON LECHE) | D78: 933.39 | E78: 933.39
B79: CEREAL | C79: ARROZ DE FIDEO | D79: 538.45 | E79: 539.56
B80: GRASAS | C80: GRASAS | D80: 519.54 | E80: 521.76
B81: AGUA | C81: VASO DE AGUA | D81: 321.51 | E81: 321.51
B82: MISCELANEOS | C82: MISCELANEOS | D82: 270.34 | E82: 270.34
B83: TUBÉRCULOS - RAÍCES - PLÁTANOS - DERIVADOS DE CEREAL | C83: PAPAS A LA FRANCESA | D83: 523.99 | E83: 523.99
B84: VERDURA FRÍA O CALIENTE | C84: ENS. DE ZANAHORIA Y HABICHUELA | D84: 838.83 | E84: 838.83
B85: TRANSPORTE | C85: TRANSPORTE | D85: 967.86 | E85: 1291.26
B86: PERSONAL REQUERIDO | C86: PERSONAL REQUERIDO | D86: 1520.8504 | E86: 1716.879
B87: SERVICIOS PUBLICOS | C87: SERVICIOS PUBLICOS | D87: 628.12 | E87: 818.42
B88: IMPLEMENTOS Y DOTACIÓN | C88: IMPLEMENTOS Y DOTACIÓN | D88: 748.37 | E88: 1204.86
B89: SUBTOTAL | D89: 10962.97 | E89: 12132.519
A90: 7 | B90: ALIMENTO PROTEÍCO | C90: CARNE MOLIDA | D90: 2592.13 | E90: 2592.13
B91: AZÚCARES | C91: AZÚCARES | D91: 523.99 | E91: 523.99
B92: BEBIDA | C92: JUGO DE PIÑA | D92: 928.94 | E92: 930.05
B93: CEREAL | C93: ARROZ CON VERDURAS | D93: 686.41 | E93: 686.41
B94: GRASAS | C94: GRASAS | D94: 519.54 | E94: 521.76
B95: AGUA 180 cm3 - 200 cm3 | C95: VASO DE AGUA | D95: 321.51 | E95: 321.51
B96: MISCELANEOS | C96: MISCELANEOS | D96: 270.34 | E96: 270.34
B97: TUBÉRCULOS - RAÍCES - PLÁTANOS - DERIVADOS DE CEREAL | C97: TAJADAS DE GUINEO VERDE | D97: 825.48 | E97: 825.48
B98: VERDURA FRÍA O CALIENTE | C98: ENSALADA DE PAYASO | D98: 927.83 | E98: 927.83
B99: TRANSPORTE | C99: TRANSPORTE | D99: 967.86 | E99: 1291.26
B100: PERSONAL REQUERIDO | C100: PERSONAL REQUERIDO | D100: 1520.8504 | E100: 1716.879
...

Sheet COMPLEMENTO (A)
E1: PROMEDIO
A2: COMPLEMENTO (A) | E2: PRECIO PREPARADO EN SITIO | F2: PRECIO PREPARADO EN COMIDA TRANSPORTADA EN CALIENTE
A3: N° MENÚ | B3: RANGO DE PESOS AL SERVIR RACIÓN SERVIDA | C3: GRUPO DE ALIMETOS | D3: PREPARACIÓN | E3: VALOR UNITARIO | F3: VALOR UNITARIO
A4: 1 | C4: ALIMENTO PROTEÍCO | D4: POLLO A LA JARDINERA | E4: 1003.48 | F4: 1003.48
C5: AZÚCARES | D5: AZÚCARES | E5: 271.45 | F5: 271.45
C6: BEBIDA CON LECHE | D6: BEBIDA CON CHOCOLATE | E6: 1056.88 | F6: 1056.88
C7: CEREAL ACOMPAÑANTE | D7: PLÁTANO COCIDO | E7: 169.1 | F7: 169.1
C8: GRASAS | D8: GRASAS | E8: 251.43 | F8: 251.43
B9: 150-180 cm³, 180-200 cm³, 200-220 cm³ | C9: AGUA | D9: VASO DE AGUA | E9: 302.6 | F9: 302.6
C10: MISCELANEOS | D10: MISCELANEOS | E10: 235.85 | F10: 235.85
C11: TRANSPORTE | D11: TRANSPORTE | E11: 908.32 | F11: 1162.83
C12: PERSONAL REQUERIDO | D12: PERSONAL REQUERIDO | E12: 1349.7839 | F12: 1524.5936
C13: SERVICIOS PUBLICOS | D13: SERVICIOS PUBLICOS | E13: 590.76 | F13: 729.69
C14: IMPLEMENTOS Y DOTACIÓN | D14: IMPLEMENTOS Y DOTACIÓN | E14: 1123.14 | F14: 1274.91
B15: SUBTOTAL | E15: 7262.7939 | F15: 7982.8136
A16: 2 | C16: ALIMENTO PROTEÍCO | D16: QUESO EN PORCIÓN | E16: 436.1 | F16: 436.1
C17: AZÚCARES | D17: AZÚCARES | E17: 271.45 | F17: 271.45
C18: BEBIDA CON LECHE | D18: SORBETE DE GUAYABA | E18: 927.83 | F18: 927.83
C19: CEREAL ACOMPAÑANTE | D19: BUÑUELO DE HARINA DE MAÍZ | E19: 196.91 | F19: 196.91
C20: GRASAS | D20: GRASAS | E20: 165.76 | F20: 165.76
B21: 150-180 cm³, 180-200 cm³, 200-220 cm³ | C21: AGUA | D21: VASO DE AGUA | E21: 302.6 | F21: 302.6
C22: MISCELANEOS | D22: MISCELANEOS | E22: 235.85 | F22: 235.85
C23: TRANSPORTE | D23: TRANSPORTE | E23: 908.32 | F23: 1162.83
C24: PERSONAL REQUERIDO | D24: PERSONAL REQUERIDO | E24: 1349.7839 | F24: 1524.5936
C25: SERVICIOS PUBLICOS | D25: SERVICIOS PUBLICOS | E25: 590.76 | F25: 707.51
C26: IMPLEMENTOS Y DOTACIÓN | D26: IMPLEMENTOS Y DOTACIÓN | E26: 1123.14 | F26: 1274.91
B27: SUBTOTAL | E27: 6508.5039 | F27: 7206.3436
A28: 3 | C28: ALIMENTO PROTEÍCO | D28: HUEVO PERICO | E28: 778.75 | F28: 778.75
C29: AZÚCARES | D29: AZÚCARES | E29: 271.45 | F29: 271.45
C30: BEBIDA CON LECHE | D30: COLADA DE ALMIDON DE MAÍZ | E30: 993.46 | F30: 993.46
C31: CEREAL ACOMPAÑANTE | D31: BOLLO DE MAÍZ | E31: 189.13 | F31: 189.13
C32: GRASAS | D32: GRASAS | E32: 251.43 | F32: 251.43
B33: 150-180 cm³, 180-200 cm³, 200-220 cm³ | C33: AGUA | D33: VASO DE AGUA | E33: 302.6 | F33: 302.6
C34: MISCELANEOS | D34: MISCELANEOS | E34: 235.85 | F34: 235.85
C35: TRANSPORTE | D35: TRANSPORTE | E35: 908.32 | F35: 1162.83
C36: PERSONAL REQUERIDO | D36: PERSONAL REQUERIDO | E36: 1349.7839 | F36: 1524.5936
C37: SERVICIOS PUBLICOS | D37: SERVICIOS PUBLICOS | E37: 590.76 | F37: 707.51
C38: IMPLEMENTOS Y DOTACIÓN | D38: IMPLEMENTOS Y DOTACIÓN | E38: 1123.14 | F38: 1274.91
B39: SUBTOTAL | E39: 6994.6739 | F39: 7692.5136
A40: 4 | C40: ALIMENTO PROTEÍCO | D40: SANDWICH | E40: 490.61 | F40: 490.61
C41: AZÚCARES | D41: AZÚCARES | E41: 271.45 | F41: 271.45
C42: BEBIDA CON LECHE | D42: PETO DE MAÍZ | E42: 546.24 | F42: 546.24
C43: CEREAL ACOMPAÑANTE | D43: CEREAL ACOMPAÑANTE | E43: 317.06 | F43: 317.06
C44: GRASAS | D44: GRASAS | E44: 165.76 | F44: 165.76
B45: 150-180 cm³, 180-200 cm³, 200-220 cm³ | C45: FRUTA | D45: BANANO | E45: 567.38 | F45: 567.38
C46: AGUA | D46: VASO DE AGUA | E46: 302.6 | F46: 302.6
C47: MISCELANEOS | D47: MISCELANEOS | E47: 235.85 | F47: 235.85
C48: TRANSPORTE | D48: TRANSPORTE | E48: 908.32 | F48: 1162.83
C49: PERSONAL REQUERIDO | D49: PERSONAL REQUERIDO | E49: 1349.7839 | F49: 1524.5936
C50: SERVICIOS PUBLICOS | D50: SERVICIOS PUBLICOS | E50: 590.76 | F50: 707.51
C51: IMPLEMENTOS Y DOTACIÓN | D51: IMPLEMENTOS Y DOTACIÓN | E51: 1123.14 | F51: 1274.91
B52: SUBTOTAL | E52: 6868.9539 | F52: 7566.7936
A53: 5 | C53: ALIMENTO PROTEÍCO | D53: AREPA DE QUESO | E53: 559.59 | F53: 559.59
C54: AZÚCARES | D54: AZÚCARES | E54: 271.45 | F54: 271.45
C55: BEBIDA CON LECHE | D55: COLADA DE AVENA | E55: 556.25 | F55: 556.25
C56: CEREAL ACOMPAÑANTE | D56: CEREAL ACOMPAÑANTE | E56: 157.98 | F56: 157.98
C57: GRASAS | D57: GRASAS | E57: 165.76 | F57: 165.76
C58: FRUTA | D58: MANDARINA | E58: 875.54 | F58: 875.54
B59: 150-180 cm³, 180-200 cm³, 200-220 cm³ | C59: AGUA | D59: AGUA | E59: 302.6 | F59: 302.6
C60: MISCELANEOS | D60: MISCELANEOS | E60: 235.85 | F60: 235.85
C61: TRANSPORTE | D61: TRANSPORTE | E61: 908.32 | F61: 1162.83
C62: PERSONAL REQUERIDO | D62: PERSONAL REQUERIDO | E62: 1349.7839 | F62: 1524.5936
C63: SERVICIOS PUBLICOS | D63: SERVICIOS PUBLICOS | E63: 590.76 | F63: 707.51
C64: IMPLEMENTOS Y DOTACIÓN | D64: IMPLEMENTOS Y DOTACIÓN | E64: 1123.14 | F64: 1274.91
B65: SUBTOTAL | E65: 7097.0239 | F65: 7794.8636
A66: 6 | C66: ALIMENTO PROTEÍCO | D66: CARNE DE CERDO GUISADA | E66: 1298.29 | F66: 1298.29
C67: AZÚCARES | D67: AZÚCARES | E67: 271.45 | F67: 271.45
C68: BEBIDA CON LECHE | D68: COLADA DE ALMIDON DE MAÍZ | E68: 993.46 | F68: 993.46
C69: CEREAL ACOMPAÑANTE | D69: PURE DE GUINEO VERDE | E69: 253.65 | F69: 253.65
C70: GRASAS | D70: GRASAS | E70: 251.43 | F70: 251.43
B71: 150-180 cm³, 180-200 cm³, 200-220 cm³ | C71: AGUA | D71: VASO DE AGUA | E71: 302.6 | F71: 302.6
C72: MISCELANEOS | D72: MISCELANEOS | E72: 235.85 | F72: 235.85
C73: TRANSPORTE | D73: TRANSPORTE | E73: 908.32 | F73: 1162.83
C74: PERSONAL REQUERIDO | D74: PERSONAL REQUERIDO | E74: 1349.7839 | F74: 1524.5936
C75: SERVICIOS PUBLICOS | D75: SERVICIOS PUBLICOS | E75: 590.76 | F75: 707.51
C76: IMPLEMENTOS Y DOTACIÓN | D76: IMPLEMENTOS Y DOTACIÓN | E76: 1123.14 | F76: 1274.91
B77: SUBTOTAL | E77: 7578.7339 | F77: 8276.5736
A78: 7 | C78: ALIMENTO PROTEÍCO | D78: EMPANADA DE CARNE DE RES | E78: 518.43 | F78: 518.43
C79: AZÚCARES | D79: AZÚCARES | E79: 271.45 | F79: 271.45
C80: BEBIDA CON LECHE | D80: SORBETE DE BANANO | E80: 923.38 | F80: 923.38
C81: CEREAL ACOMPAÑANTE | D81: CEREAL ACOMPAÑANTE | E81: 169.1 | F81: 169.1
C82: GRASAS | D82: GRASAS | E82: 251.43 | F82: 251.43
B83: 150-180 cm³, 180-200 cm³, 200-220 cm³ | C83: AGUA | D83: VASO DE AGUA | E83: 302.6 | F83: 302.6
C84: MISCELANEOS | D84: MISCELANEOS | E84: 235.85 | F84: 235.85
C85: TRANSPORTE | D85: TRANSPORTE | E85: 908.32 | F85: 1162.83
C86: PERSONAL REQUERIDO | D86: PERSONAL REQUERIDO | E86: 1349.7839 | F86: 1524.5936
C87: SERVICIOS PUBLICOS | D87: SERVICIOS PUBLICOS | E87: 590.76 | F87: 707.51
C88: IMPLEMENTOS Y DOTACIÓN | D88: IMPLEMENTOS Y DOTACIÓN | E88: 1123.14 | F88: 1274.91
B89: SUBTOTAL | E89: 6644.2439 | F89: 7342.0836
A90: 8 | C90: ALIMENTO PROTEÍCO | D90: TORTILLA DE HUEVO | E90: 868.86 | F90: 868.86
C91: AZÚCARES | D91: AZÚCARES | E91: 271.45 | F91: 271.45
C92: BEBIDA CON LECHE | D92: ARROZ CON LECHE | E92: 710.89 | F92: 710.89
C93: CEREAL ACOMPAÑANTE | D93: BOLLO DE MAÍZ | E93: 189.13 | F93: 189.13
C94: GRASAS | D94: TORTA | E94: 251.43 | F94: 251.43
B95: 150-180 cm³, 180-200 cm³, 200-220 cm³ | C95: AGUA | D95: VASO DE AGUA | E95: 302.6 | F95: 302.6
C96: MISCELANEOS | D96: MISCELANEOS | E96: 235.85 | F96: 235.85
C97: TRANSPORTE | D97: TRANSPORTE | E97: 908.32 | F97: 1162.83
C98: PERSONAL REQUERIDO | D98: PERSONAL REQUERIDO | E98: 1349.7839 | F98: 1524.5936
C99: SERVICIOS PUBLICOS | D99: SERVICIOS PUBLICOS | E99: 590.76 | F99: 707.51
C100: IMPLEMENTOS Y DOTACIÓN | D100: IMPLEMENTOS Y DOTACIÓN | E100: 1123.14 | F100: 1274.91
...

Sheet R. INDUST (A)
E1: PROMEDIO
A2: COMPLEMENTO | E2: RACIÓN INDUSTRIALIZADA (A)
A3: N° MENÚ | B3: GRUPO DE ALIMETOS | C3: RANGO DE PESOS AL SERVIR RACIÓN SERVIDA | D3: PREPARACIÓN | E3: VALOR UNITARIO
A4: 1 | B4: LACTEOS | C4: 200 CC | D4: LECHE ENTERA | E4: 1480.69
B5: DERIVADOS DE CEREAL | C5: 20 gr - 35 gr - 50 gr70 gr - 90 gr | D5: GALLETA DE COCO | E5: 373.25
B6: FRUTAS | C6: 145 gr - 145 gr - 170 gr | D6: NA | E6: 0
B7: FRUTOS SECOS / AZUCARES | C7: 15 gr - 20 gr - 20 gr | D7: BOCADILLO VELEÑO CON MANJAR BLANCO (A - B - C) | E7: 392.24
B8: TRANSPORTE | C8: GL | D8: TRANSPORTE | E8: 1625.16
B9: PERSONAL REQUERIDO | C9: GL | D9: PERSONAL REQUERIDO | E9: 1130.023
B10: SERVICIOS PUBLICOS | C10: GL | D10: SERVICIOS PUBLICOS | E10: 0
B11: IMPLEMENTOS Y DOTACIÓN | C11: GL | D11: IMPLEMENTOS Y DOTACIÓN | E11: 2773.15
B12: SUBTOTAL | E12: 7774.513
A13: 2 | B13: LACTEOS | C13: 200 CC | D13: LECHE SABORIZADA (VAINILLA) | E13: 1950.04
B14: DERIVADOS DE CEREAL | C14: 20 gr - 35 gr - 50 gr70 gr - 90 gr | D14: PAN DE LECHE | E14: 343.07
B15: FRUTAS | C15: 145 gr - 145 gr - 170 gr | D15: NA | E15: 0
B16: FRUTOS SECOS / AZUCARES | C16: 15 gr - 20 gr - 20 gr | D16: PANELITA CON LECHE(A - B - C) | E16: 423.53
B17: TRANSPORTE | C17: GL | D17: TRANSPORTE | E17: 1625.16
B18: PERSONAL REQUERIDO | C18: GL | D18: PERSONAL REQUERIDO | E18: 1130.023
B19: SERVICIOS PUBLICOS | C19: GL | D19: SERVICIOS PUBLICOS | E19: 0
B20: IMPLEMENTOS Y DOTACIÓN | C20: GL | D20: IMPLEMENTOS Y DOTACIÓN | E20: 2773.15
B21: SUBTOTAL | E21: 8244.973
A22: 3 | B22: LACTEOS | C22: 200 CC | D22: AVENA | E22: 1724.3
B23: DERIVADOS DE CEREAL | C23: 20 gr - 35 gr - 50 gr70 gr - 90 gr | D23: CROISSANT | E23: 378.83
B24: FRUTAS | C24: 145 gr - 145 gr - 170 gr | D24: MANDARINA | E24: 844.83
B25: FRUTOS SECOS / AZUCARES | C25: 15 gr - 20 gr - 20 gr | D25: NA | E25: 0
C26: 25 gr - 25 gr | D26: NA | E26: 0
B27: TRANSPORTE | C27: GL | D27: TRANSPORTE | E27: 1625.16
B28: PERSONAL REQUERIDO | C28: GL | D28: PERSONAL REQUERIDO | E28: 1130.023
B29: SERVICIOS PUBLICOS | C29: GL | D29: SERVICIOS PUBLICOS | E29: 0
B30: IMPLEMENTOS Y DOTACIÓN | C30: GL | D30: IMPLEMENTOS Y DOTACIÓN | E30: 2773.15
B31: SUBTOTAL | E31: 8476.293
A32: 4 | B32: LACTEOS | C32: 200 CC | D32: LECHE ENTERA | E32: 1480.69
B33: DERIVADOS DE CEREAL | C33: 20 gr - 35 gr - 50 gr70 gr - 90 gr | D33: PAN DE QUESO | E33: 388.89
B34: FRUTAS | C34: 145 gr - 145 gr - 170 gr | D34: BANANO | E34: 476.06
B35: FRUTOS SECOS / AZUCARES | C35: 15 gr - 20 gr - 20 gr | D35: NA | E35: 0
C36: 25 gr - 25 gr | D36: NA | E36: 0
B37: TRANSPORTE | C37: GL | D37: TRANSPORTE | E37: 1625.16
B38: PERSONAL REQUERIDO | C38: GL | D38: PERSONAL REQUERIDO | E38: 1130.023
B39: SERVICIOS PUBLICOS | C39: GL | D39: SERVICIOS PUBLICOS | E39: 0
B40: IMPLEMENTOS Y DOTACIÓN | C40: GL | D40: IMPLEMENTOS Y DOTACIÓN | E40: 2773.15
B41: SUBTOTAL | E41: 7873.973
A42: 5 | B42: LACTEOS | C42: 200 CC | D42: LECHE SABORIZADA (FRESA) | E42: 1950.04
B43: DERIVADOS DE CEREAL | C43: 20 gr - 35 gr - 50 gr70 gr - 90 gr | D43: GALLETA DE MANTEQUILLA | E43: 319.61
B44: FRUTAS | C44: 145 gr - 145 gr - 170 gr | D44: NARANJA | E44: 638.09
B45: FRUTOS SECOS / AZUCARES | C45: 15 gr - 20 gr - 20 gr | D45: NA | E45: 0
C46: 25 gr - 25 gr | D46: NA | E46: 0
B47: TRANSPORTE | C47: GL | D47: TRANSPORTE | E47: 1625.16
B48: PERSONAL REQUERIDO | C48: GL | D48: PERSONAL REQUERIDO | E48: 1130.023
B49: SERVICIOS PUBLICOS | C49: GL | D49: SERVICIOS PUBLICOS | E49: 0
B50: IMPLEMENTOS Y DOTACIÓN | C50: GL | D50: IMPLEMENTOS Y DOTACIÓN | E50: 2773.15
B51: SUBTOTAL | E51: 8436.073
A52: 6 | B52: LACTEOS | C52: 200 CC | D52: LECHE SABORIZADA (FRESA) | E52: 1950.04
B53: DERIVADOS DE CEREAL | C53: 20 gr - 35 gr - 50 gr70 gr - 90 gr | D53: PAN DE BOCADILLO | E53: 360.95
B54: FRUTAS | C54: 145 gr - 145 gr - 170 gr | D54: NA | E54: 0
B55: FRUTOS SECOS / AZUCARES | C55: 15 gr - 20 gr - 20 gr25 gr - 25 gr | D55: PANELITA CON LECHE(A - B) | E55: 423.53
B56: TRANSPORTE | C56: GL | D56: TRANSPORTE | E56: 1625.16
B57: PERSONAL REQUERIDO | C57: GL | D57: PERSONAL REQUERIDO | E57: 1130.023
B58: SERVICIOS PUBLICOS | C58: GL | D58: SERVICIOS PUBLICOS | E58: 0
B59: IMPLEMENTOS Y DOTACIÓN | C59: GL | D59: IMPLEMENTOS Y DOTACIÓN | E59: 2773.15
B60: SUBTOTAL | E60: 8262.853
A61: 7 | B61: LACTEOS | C61: 200 CC | D61: LECHE ENTERA | E61: 1480.69
B62: DERIVADOS DE CEREAL | C62: 20 gr - 35 gr - 50 gr70 gr - 90 gr | D62: PAN DE LECHE | E62: 354.25
B63: FRUTAS | C63: 145 gr - 145 gr - 170 gr | D63: NA | E63: 0
B64: FRUTOS SECOS / AZUCARES | C64: 15 gr - 20 gr - 20 gr25 gr - 25 gr | D64: BOCADILLO DE GUAYABA CON GALLETA (A - B - C - D - E) | E64: 457.06
C65: 0 gr - 0 gr - 15 gr - 15 gr - 15 gr | D65: BOCADILLO DE GUAYABA CON GALLETA (A - B - C - D - E) | E65: 0
B66: TRANSPORTE | C66: GL | D66: TRANSPORTE | E66: 1625.16
B67: PERSONAL REQUERIDO | C67: GL | D67: PERSONAL REQUERIDO | E67: 1130.023
B68: SERVICIOS PUBLICOS | C68: GL | D68: SERVICIOS PUBLICOS | E68: 0
B69: IMPLEMENTOS Y DOTACIÓN | C69: GL | D69: IMPLEMENTOS Y DOTACIÓN | E69: 2773.15
B70: SUBTOTAL | E70: 7820.333
A71: 8 | B71: LACTEOS | C71: 200 CC | D71: LECHE ENTERA | E71: 1480.69
B72: DERIVADOS DE CEREAL | C72: 20 gr - 35 gr - 50 gr70 gr - 90 gr | D72: PAN DE QUESO | E72: 388.89
B73: FRUTAS | C73: 145 gr - 145 gr - 170 gr | D73: BANANO | E73: 476.06
B74: FRUTOS SECOS / AZUCARES | C74: 15 gr - 20 gr - 20 gr25 gr - 25 gr | D74: NA | E74: 0
C75: 0 gr - 0 gr - 15 gr - 15 gr - 15 gr | D75: NA | E75: 0
B76: TRANSPORTE | C76: GL | D76: TRANSPORTE | E76: 1625.16
B77: PERSONAL REQUERIDO | C77: GL | D77: PERSONAL REQUERIDO | E77: 1130.023
B78: SERVICIOS PUBLICOS | C78: GL | D78: SERVICIOS PUBLICOS | E78: 0
B79: IMPLEMENTOS Y DOTACIÓN | C79: GL | D79: IMPLEMENTOS Y DOTACIÓN | E79: 2773.15
B80: SUBTOTAL | E80: 7873.973
A81: 9 | B81: LACTEOS | C81: 200 CC | D81: AVENA | E81: 1724.3
B82: DERIVADOS DE CEREAL | C82: 20 gr - 35 gr - 50 gr70 gr - 90 gr | D82: CROISSANT | E82: 378.83
B83: FRUTAS | C83: 145 gr - 145 gr - 170 gr | D83: NARANJA | E83: 658.21
B84: FRUTOS SECOS / AZUCARES | C84: 15 gr - 20 gr - 20 gr25 gr - 25 gr | D84: NA | E84: 0
C85: 0 gr - 0 gr - 15 gr - 15 gr - 15 gr | D85: NA | E85: 0
B86: TRANSPORTE | C86: GL | D86: TRANSPORTE | E86: 1625.16
B87: PERSONAL REQUERIDO | C87: GL | D87: PERSONAL REQUERIDO | E87: 1130.023
B88: SERVICIOS PUBLICOS | C88: GL | D88: SERVICIOS PUBLICOS | E88: 0
B89: IMPLEMENTOS Y DOTACIÓN | C89: GL | D89: IMPLEMENTOS Y DOTACIÓN | E89: 2773.15
B90: SUBTOTAL | E90: 8289.673
A91: 10 | B91: LACTEOS | C91: 200 CC | D91: LECHE SABORIZADA (VAINILLA) | E91: 1950.04
B92: DERIVADOS DE CEREAL | C92: 20 gr - 35 gr - 50 gr70 gr - 90 gr | D92: GALLETA DE CHOCOLATE | E92: 317.37
B93: FRUTAS | C93: 145 gr - 145 gr - 170 gr | D93: MANZANA | E93: 1452.75
B94: FRUTOS SECOS / AZUCARES | C94: 15 gr - 20 gr - 20 gr25 gr - 25 gr | D94: NA | E94: 0
C95: 0 gr - 0 gr - 15 gr - 15 gr - 15 gr | D95: NA | E95: 0
B96: TRANSPORTE | C96: GL | D96: TRANSPORTE | E96: 1625.16
B97: PERSONAL REQUERIDO | C97: GL | D97: PERSONAL REQUERIDO | E97: 1130.023
B98: SERVICIOS PUBLICOS | C98: GL | D98: SERVICIOS PUBLICOS | E98: 0
B99: IMPLEMENTOS Y DOTACIÓN | C99: GL | D99: IMPLEMENTOS Y DOTACIÓN | E99: 2773.15
B100: SUBTOTAL | E100: 9248.493
...

Sheet R. INDUST (B)
E1: PROMEDIO
A2: COMPLEMENTO | E2: RACIÓN INDUSTRIALIZADA (B)
A3: N° MENÚ | B3: GRUPO DE ALIMETOS | C3: RANGO DE PESOS AL SERVIR RACIÓN SERVIDA | D3: PREPARACIÓN | E3: VALOR UNITARIO
A4: 1 | B4: LACTEOS | C4: 200 CC | D4: LECHE ENTERA | E4: 1480.69
B5: DERIVADOS DE CEREAL | C5: 20 gr - 35 gr - 50 gr70 gr - 90 gr | D5: GALLETA DE COCO | E5: 776.66
B6: FRUTAS | C6: 145 gr - 145 gr - 170 gr | D6: NA | E6: 0
B7: FRUTOS SECOS / AZUCARES | C7: 15 gr - 20 gr - 20 gr | D7: BOCADILLO VELEÑO CON MANJAR BLANCO (A - B - C) | E7: 395.6
B8: TRANSPORTE | C8: GL | D8: TRANSPORTE | E8: 1625.16
B9: PERSONAL REQUERIDO | C9: GL | D9: PERSONAL REQUERIDO | E9: 1130.023
B10: SERVICIOS PUBLICOS | C10: GL | D10: SERVICIOS PUBLICOS | E10: 0
B11: IMPLEMENTOS Y DOTACIÓN | C11: GL | D11: IMPLEMENTOS Y DOTACIÓN | E11: 3210.96
B12: SUBTOTAL | E12: 8619.093
A13: 2 | B13: LACTEOS | C13: 200 CC | D13: LECHE SABORIZADA (VAINILLA) | E13: 1950.04
B14: DERIVADOS DE CEREAL | C14: 20 gr - 35 gr - 50 gr70 gr - 90 gr | D14: PAN DE LECHE | E14: 711.85
B15: FRUTAS | C15: 145 gr - 145 gr - 170 gr | D15: NA | E15: 0
B16: FRUTOS SECOS / AZUCARES | C16: 15 gr - 20 gr - 20 gr | D16: PANELITA CON LECHE(A - B - C) | E16: 426.89
B17: TRANSPORTE | C17: GL | D17: TRANSPORTE | E17: 1625.16
B18: PERSONAL REQUERIDO | C18: GL | D18: PERSONAL REQUERIDO | E18: 1130.023
B19: SERVICIOS PUBLICOS | C19: GL | D19: SERVICIOS PUBLICOS | E19: 0
B20: IMPLEMENTOS Y DOTACIÓN | C20: GL | D20: IMPLEMENTOS Y DOTACIÓN | E20: 3210.96
B21: SUBTOTAL | E21: 9054.923
A22: 3 | B22: LACTEOS | C22: 200 CC | D22: AVENA | E22: 1724.3
B23: DERIVADOS DE CEREAL | C23: 20 gr - 35 gr - 50 gr70 gr - 90 gr | D23: CROISSANT | E23: 771.08
B24: FRUTAS | C24: 145 gr - 145 gr - 170 gr | D24: MANDARINA | E24: 848.18
B25: FRUTOS SECOS / AZUCARES | C25: 15 gr - 20 gr - 20 gr | D25: NA | E25: 0
C26: 25 gr - 25 gr | D26: NA | E26: 0
B27: TRANSPORTE | C27: GL | D27: TRANSPORTE | E27: 1625.16
B28: PERSONAL REQUERIDO | C28: GL | D28: PERSONAL REQUERIDO | E28: 1130.023
B29: SERVICIOS PUBLICOS | C29: GL | D29: SERVICIOS PUBLICOS | E29: 0
B30: IMPLEMENTOS Y DOTACIÓN | C30: GL | D30: IMPLEMENTOS Y DOTACIÓN | E30: 3210.96
B31: SUBTOTAL | E31: 9309.703
A32: 4 | B32: LACTEOS | C32: 200 CC | D32: LECHE ENTERA | E32: 1480.69
B33: DERIVADOS DE CEREAL | C33: 20 gr - 35 gr - 50 gr70 gr - 90 gr | D33: PAN DE QUESO | E33: 800.13
B34: FRUTAS | C34: 145 gr - 145 gr - 170 gr | D34: BANANO | E34: 478.29
B35: FRUTOS SECOS / AZUCARES | C35: 15 gr - 20 gr - 20 gr | D35: NA | E35: 0
C36: 25 gr - 25 gr | D36: NA | E36: 0
B37: TRANSPORTE | C37: GL | D37: TRANSPORTE | E37: 1625.16
B38: PERSONAL REQUERIDO | C38: GL | D38: PERSONAL REQUERIDO | E38: 1130.023
B39: SERVICIOS PUBLICOS | C39: GL | D39: SERVICIOS PUBLICOS | E39: 0
B40: IMPLEMENTOS Y DOTACIÓN | C40: GL | D40: IMPLEMENTOS Y DOTACIÓN | E40: 3210.96
B41: SUBTOTAL | E41: 8725.253
A42: 5 | B42: LACTEOS | C42: 200 CC | D42: LECHE SABORIZADA (FRESA) | E42: 1950.04
B43: DERIVADOS DE CEREAL | C43: 20 gr - 35 gr - 50 gr70 gr - 90 gr | D43: GALLETA DE MANTEQUILLA | E43: 677.21
B44: FRUTAS | C44: 145 gr - 145 gr - 170 gr | D44: NARANJA | E44: 641.45
B45: FRUTOS SECOS / AZUCARES | C45: 15 gr - 20 gr - 20 gr | D45: NA | E45: 0
C46: 25 gr - 25 gr | D46: NA | E46: 0
B47: TRANSPORTE | C47: GL | D47: TRANSPORTE | E47: 1625.16
B48: PERSONAL REQUERIDO | C48: GL | D48: PERSONAL REQUERIDO | E48: 1130.023
B49: SERVICIOS PUBLICOS | C49: GL | D49: SERVICIOS PUBLICOS | E49: 0
B50: IMPLEMENTOS Y DOTACIÓN | C50: GL | D50: IMPLEMENTOS Y DOTACIÓN | E50: 3210.96
B51: SUBTOTAL | E51: 9234.843
A52: 6 | B52: LACTEOS | C52: 200 CC | D52: LECHE SABORIZADA (FRESA) | E52: 1950.04
B53: DERIVADOS DE CEREAL | C53: 20 gr - 35 gr - 50 gr70 gr - 90 gr | D53: PAN DE BOCADILLO | E53: 739.79
B54: FRUTAS | C54: 145 gr - 145 gr - 170 gr | D54: NA | E54: 0
B55: FRUTOS SECOS / AZUCARES | C55: 15 gr - 20 gr - 20 gr25 gr - 25 gr | D55: PANELITA CON LECHE(A - B) | E55: 426.89
B56: TRANSPORTE | C56: GL | D56: TRANSPORTE | E56: 1625.16
B57: PERSONAL REQUERIDO | C57: GL | D57: PERSONAL REQUERIDO | E57: 1130.023
B58: SERVICIOS PUBLICOS | C58: GL | D58: SERVICIOS PUBLICOS | E58: 0
B59: IMPLEMENTOS Y DOTACIÓN | C59: GL | D59: IMPLEMENTOS Y DOTACIÓN | E59: 3210.96
B60: SUBTOTAL | E60: 9082.863
A61: 7 | B61: LACTEOS | C61: 200 CC | D61: LECHE ENTERA | E61: 1480.69
B62: DERIVADOS DE CEREAL | C62: 20 gr - 35 gr - 50 gr70 gr - 90 gr | D62: PAN DE LECHE | E62: 723.02
B63: FRUTAS | C63: 145 gr - 145 gr - 170 gr | D63: NA | E63: 0
B64: FRUTOS SECOS / AZUCARES | C64: 15 gr - 20 gr - 20 gr25 gr - 25 gr | D64: BOCADILLO DE GUAYABA CON GALLETA (A - B - C - D - E) | E64: 461.53
C65: 0 gr - 0 gr - 15 gr - 15 gr - 15 gr | D65: BOCADILLO DE GUAYABA CON GALLETA (A - B - C - D - E) | E65: 0
B66: TRANSPORTE | C66: GL | D66: TRANSPORTE | E66: 1625.16
B67: PERSONAL REQUERIDO | C67: GL | D67: PERSONAL REQUERIDO | E67: 1130.023
B68: SERVICIOS PUBLICOS | C68: GL | D68: SERVICIOS PUBLICOS | E68: 0
B69: IMPLEMENTOS Y DOTACIÓN | C69: GL | D69: IMPLEMENTOS Y DOTACIÓN | E69: 3210.96
B70: SUBTOTAL | E70: 8631.383
A71: 8 | B71: LACTEOS | C71: 200 CC | D71: LECHE ENTERA | E71: 1480.69
B72: DERIVADOS DE CEREAL | C72: 20 gr - 35 gr - 50 gr70 gr - 90 gr | D72: PAN DE QUESO | E72: 800.13
B73: FRUTAS | C73: 145 gr - 145 gr - 170 gr | D73: BANANO | E73: 478.29
B74: FRUTOS SECOS / AZUCARES | C74: 15 gr - 20 gr - 20 gr25 gr - 25 gr | D74: NA | E74: 0
C75: 0 gr - 0 gr - 15 gr - 15 gr - 15 gr | D75: NA | E75: 0
B76: TRANSPORTE | C76: GL | D76: TRANSPORTE | E76: 1625.16
B77: PERSONAL REQUERIDO | C77: GL | D77: PERSONAL REQUERIDO | E77: 1130.023
B78: SERVICIOS PUBLICOS | C78: GL | D78: SERVICIOS PUBLICOS | E78: 0
B79: IMPLEMENTOS Y DOTACIÓN | C79: GL | D79: IMPLEMENTOS Y DOTACIÓN | E79: 3210.96
B80: SUBTOTAL | E80: 8725.253
A81: 9 | B81: LACTEOS | C81: 200 CC | D81: AVENA | E81: 1724.3
B82: DERIVADOS DE CEREAL | C82: 20 gr - 35 gr - 50 gr70 gr - 90 gr | D82: CROISSANT | E82: 771.08
B83: FRUTAS | C83: 145 gr - 145 gr - 170 gr | D83: NARANJA | E83: 660.44
B84: FRUTOS SECOS / AZUCARES | C84: 15 gr - 20 gr - 20 gr25 gr - 25 gr | D84: NA | E84: 0
C85: 0 gr - 0 gr - 15 gr - 15 gr - 15 gr | D85: NA | E85: 0
B86: TRANSPORTE | C86: GL | D86: TRANSPORTE | E86: 1625.16
B87: PERSONAL REQUERIDO | C87: GL | D87: PERSONAL REQUERIDO | E87: 1130.023
B88: SERVICIOS PUBLICOS | C88: GL | D88: SERVICIOS PUBLICOS | E88: 0
B89: IMPLEMENTOS Y DOTACIÓN | C89: GL | D89: IMPLEMENTOS Y DOTACIÓN | E89: 3210.96
B90: SUBTOTAL | E90: 9121.963
A91: 10 | B91: LACTEOS | C91: 200 CC | D91: LECHE SABORIZADA (VAINILLA) | E91: 1950.04
B92: DERIVADOS DE CEREAL | C92: 20 gr - 35 gr - 50 gr70 gr - 90 gr | D92: GALLETA DE CHOCOLATE | E92: 663.8
B93: FRUTAS | C93: 145 gr - 145 gr - 170 gr | D93: MANZANA | E93: 1463.93
B94: FRUTOS SECOS / AZUCARES | C94: 15 gr - 20 gr - 20 gr25 gr - 25 gr | D94: NA | E94: 0
C95: 0 gr - 0 gr - 15 gr - 15 gr - 15 gr | D95: NA | E95: 0
B96: TRANSPORTE | C96: GL | D96: TRANSPORTE | E96: 1625.16
B97: PERSONAL REQUERIDO | C97: GL | D97: PERSONAL REQUERIDO | E97: 1130.023
B98: SERVICIOS PUBLICOS | C98: GL | D98: SERVICIOS PUBLICOS | E98: 0
B99: IMPLEMENTOS Y DOTACIÓN | C99: GL | D99: IMPLEMENTOS Y DOTACIÓN | E99: 3210.96
B100: SUBTOTAL | E100: 10043.913
...

Sheet R. INDUST (C)
E1: PROMEDIO
A2: COMPLEMENTO | E2: RACIÓN INDUSTRIALIZADA ( C)
A3: N° MENÚ | B3: GRUPO DE ALIMETOS | C3: RANGO DE PESOS AL SERVIR RACIÓN SERVIDA | D3: PREPARACIÓN | E3: VALOR UNITARIO
A4: 1 | B4: LACTEOS | C4: 200 CC | D4: LECHE ENTERA | E4: 1480.69
B5: DERIVADOS DE CEREAL | C5: 20 gr - 35 gr - 50 gr70 gr - 90 gr | D5: GALLETA DE COCO | E5: 1083.98
B6: FRUTAS | C6: 145 gr - 145 gr - 170 gr | D6: NA | E6: 0
B7: FRUTOS SECOS / AZUCARES | C7: 15 gr - 20 gr - 20 gr | D7: BOCADILLO VELEÑO CON MANJAR BLANCO (A - B - C) | E7: 521.87
B8: TRANSPORTE | C8: GL | D8: TRANSPORTE | E8: 1625.16
B9: PERSONAL REQUERIDO | C9: GL | D9: PERSONAL REQUERIDO | E9: 1130.023
B10: SERVICIOS PUBLICOS | C10: GL | D10: SERVICIOS PUBLICOS | E10: 0
B11: IMPLEMENTOS Y DOTACIÓN | C11: GL | D11: IMPLEMENTOS Y DOTACIÓN | E11: 3295.02
B12: SUBTOTAL | E12: 9136.743
A13: 2 | B13: LACTEOS | C13: 200 CC | D13: LECHE SABORIZADA (VAINILLA) | E13: 1950.04
B14: DERIVADOS DE CEREAL | C14: 20 gr - 35 gr - 50 gr70 gr - 90 gr | D14: PAN DE LECHE | E14: 994.58
B15: FRUTAS | C15: 145 gr - 145 gr - 170 gr | D15: NA | E15: 0
B16: FRUTOS SECOS / AZUCARES | C16: 15 gr - 20 gr - 20 gr | D16: PANELITA CON LECHE(A - B - C) | E16: 547.58
B17: TRANSPORTE | C17: GL | D17: TRANSPORTE | E17: 1625.16
B18: PERSONAL REQUERIDO | C18: GL | D18: PERSONAL REQUERIDO | E18: 1130.023
B19: SERVICIOS PUBLICOS | C19: GL | D19: SERVICIOS PUBLICOS | E19: 0
B20: IMPLEMENTOS Y DOTACIÓN | C20: GL | D20: IMPLEMENTOS Y DOTACIÓN | E20: 3295.02
B21: SUBTOTAL | E21: 9542.403
A22: 3 | B22: LACTEOS | C22: 200 CC | D22: AVENA | E22: 1724.3
B23: DERIVADOS DE CEREAL | C23: 20 gr - 35 gr - 50 gr70 gr - 90 gr | D23: CROISSANT | E23: 1067.21
B24: FRUTAS | C24: 145 gr - 145 gr - 170 gr | D24: MANDARINA | E24: 1002.4
B25: FRUTOS SECOS / AZUCARES | C25: 15 gr - 20 gr - 20 gr | D25: NA | E25: 0
C26: 25 gr - 25 gr | D26: NA | E26: 0
B27: TRANSPORTE | C27: GL | D27: TRANSPORTE | E27: 1625.16
B28: PERSONAL REQUERIDO | C28: GL | D28: PERSONAL REQUERIDO | E28: 1130.023
B29: SERVICIOS PUBLICOS | C29: GL | D29: SERVICIOS PUBLICOS | E29: 0
B30: IMPLEMENTOS Y DOTACIÓN | C30: GL | D30: IMPLEMENTOS Y DOTACIÓN | E30: 3295.02
B31: SUBTOTAL | E31: 9844.113
A32: 4 | B32: LACTEOS | C32: 200 CC | D32: LECHE ENTERA | E32: 1480.69
B33: DERIVADOS DE CEREAL | C33: 20 gr - 35 gr - 50 gr70 gr - 90 gr | D33: PAN DE QUESO | E33: 1108.56
B34: FRUTAS | C34: 145 gr - 145 gr - 170 gr | D34: BANANO | E34: 527.46
B35: FRUTOS SECOS / AZUCARES | C35: 15 gr - 20 gr - 20 gr | D35: NA | E35: 0
C36: 25 gr - 25 gr | D36: NA | E36: 0
B37: TRANSPORTE | C37: GL | D37: TRANSPORTE | E37: 1625.16
B38: PERSONAL REQUERIDO | C38: GL | D38: PERSONAL REQUERIDO | E38: 1130.023
B39: SERVICIOS PUBLICOS | C39: GL | D39: SERVICIOS PUBLICOS | E39: 0
B40: IMPLEMENTOS Y DOTACIÓN | C40: GL | D40: IMPLEMENTOS Y DOTACIÓN | E40: 3295.02
B41: SUBTOTAL | E41: 9166.913
A42: 5 | B42: LACTEOS | C42: 200 CC | D42: LECHE SABORIZADA (FRESA) | E42: 1950.04
B43: DERIVADOS DE CEREAL | C43: 20 gr - 35 gr - 50 gr70 gr - 90 gr | D43: GALLETA DE MANTEQUILLA | E43: 946.52
B44: FRUTAS | C44: 145 gr - 145 gr - 170 gr | D44: NARANJA | E44: 763.25
B45: FRUTOS SECOS / AZUCARES | C45: 15 gr - 20 gr - 20 gr | D45: NA | E45: 0
C46: 25 gr - 25 gr | D46: NA | E46: 0
B47: TRANSPORTE | C47: GL | D47: TRANSPORTE | E47: 1625.16
B48: PERSONAL REQUERIDO | C48: GL | D48: PERSONAL REQUERIDO | E48: 1130.023
B49: SERVICIOS PUBLICOS | C49: GL | D49: SERVICIOS PUBLICOS | E49: 0
B50: IMPLEMENTOS Y DOTACIÓN | C50: GL | D50: IMPLEMENTOS Y DOTACIÓN | E50: 3295.02
B51: SUBTOTAL | E51: 9710.013
A52: 6 | B52: LACTEOS | C52: 200 CC | D52: LECHE SABORIZADA (FRESA) | E52: 1950.04
B53: DERIVADOS DE CEREAL | C53: 20 gr - 35 gr - 50 gr70 gr - 90 gr | D53: PAN DE BOCADILLO | E53: 1031.45
B54: FRUTAS | C54: 145 gr - 145 gr - 170 gr | D54: NA | E54: 0
B55: FRUTOS SECOS / AZUCARES | C55: 0 gr - 0 gr - 15 gr - 15 gr - 15 gr | D55: MANÍ (C - D - E) | E55: 644.8
B56: TRANSPORTE | C56: GL | D56: TRANSPORTE | E56: 1625.16
B57: PERSONAL REQUERIDO | C57: GL | D57: PERSONAL REQUERIDO | E57: 1130.023
B58: SERVICIOS PUBLICOS | C58: GL | D58: SERVICIOS PUBLICOS | E58: 0
B59: IMPLEMENTOS Y DOTACIÓN | C59: GL | D59: IMPLEMENTOS Y DOTACIÓN | E59: 3295.02
B60: SUBTOTAL | E60: 9676.493
A61: 7 | B61: LACTEOS | C61: 200 CC | D61: LECHE ENTERA | E61: 1480.69
B62: DERIVADOS DE CEREAL | C62: 20 gr - 35 gr - 50 gr70 gr - 90 gr | D62: PAN DE LECHE | E62: 1006.87
B63: FRUTAS | C63: 145 gr - 145 gr - 170 gr | D63: NA | E63: 0
B64: FRUTOS SECOS / AZUCARES | C64: 15 gr - 20 gr - 20 gr25 gr - 25 gr | D64: BOCADILLO DE GUAYABA CON GALLETA (A - B - C - D - E) | E64: 587.81
C65: 0 gr - 0 gr - 15 gr - 15 gr - 15 gr | D65: BOCADILLO DE GUAYABA CON GALLETA (A - B - C - D - E) | E65: 0
B66: TRANSPORTE | C66: GL | D66: TRANSPORTE | E66: 1625.16
B67: PERSONAL REQUERIDO | C67: GL | D67: PERSONAL REQUERIDO | E67: 1130.023
B68: SERVICIOS PUBLICOS | C68: GL | D68: SERVICIOS PUBLICOS | E68: 0
B69: IMPLEMENTOS Y DOTACIÓN | C69: GL | D69: IMPLEMENTOS Y DOTACIÓN | E69: 3295.02
B70: SUBTOTAL | E70: 9125.573
A71: 8 | B71: LACTEOS | C71: 200 CC | D71: LECHE ENTERA | E71: 1480.69
B72: DERIVADOS DE CEREAL | C72: 20 gr - 35 gr - 50 gr70 gr - 90 gr | D72: PAN DE QUESO | E72: 1108.56
B73: FRUTAS | C73: 145 gr - 145 gr - 170 gr | D73: BANANO | E73: 527.46
B74: FRUTOS SECOS / AZUCARES | C74: 15 gr - 20 gr - 20 gr25 gr - 25 gr | D74: NA | E74: 0
C75: 0 gr - 0 gr - 15 gr - 15 gr - 15 gr | D75: NA | E75: 0
B76: TRANSPORTE | C76: GL | D76: TRANSPORTE | E76: 1625.16
B77: PERSONAL REQUERIDO | C77: GL | D77: PERSONAL REQUERIDO | E77: 1130.023
B78: SERVICIOS PUBLICOS | C78: GL | D78: SERVICIOS PUBLICOS | E78: 0
B79: IMPLEMENTOS Y DOTACIÓN | C79: GL | D79: IMPLEMENTOS Y DOTACIÓN | E79: 3295.02
B80: SUBTOTAL | E80: 9166.913
A81: 9 | B81: LACTEOS | C81: 200 CC | D81: AVENA | E81: 1724.3
B82: DERIVADOS DE CEREAL | C82: 20 gr - 35 gr - 50 gr70 gr - 90 gr | D82: CROISSANT | E82: 1067.21
B83: FRUTAS | C83: 145 gr - 145 gr - 170 gr | D83: NARANJA | E83: 786.72
B84: FRUTOS SECOS / AZUCARES | C84: 15 gr - 20 gr - 20 gr25 gr - 25 gr | D84: NA | E84: 0
C85: 0 gr - 0 gr - 15 gr - 15 gr - 15 gr | D85: NA | E85: 0
B86: TRANSPORTE | C86: GL | D86: TRANSPORTE | E86: 1625.16
B87: PERSONAL REQUERIDO | C87: GL | D87: PERSONAL REQUERIDO | E87: 1130.023
B88: SERVICIOS PUBLICOS | C88: GL | D88: SERVICIOS PUBLICOS | E88: 0
B89: IMPLEMENTOS Y DOTACIÓN | C89: GL | D89: IMPLEMENTOS Y DOTACIÓN | E89: 3295.02
B90: SUBTOTAL | E90: 9628.433
A91: 10 | B91: LACTEOS | C91: 200 CC | D91: LECHE SABORIZADA (VAINILLA) | E91: 1950.04
B92: DERIVADOS DE CEREAL | C92: 20 gr - 35 gr - 50 gr70 gr - 90 gr | D92: GALLETA DE CHOCOLATE | E92: 928.64
B93: FRUTAS | C93: 145 gr - 145 gr - 170 gr | D93: MANZANA | E93: 1738.83
B94: FRUTOS SECOS / AZUCARES | C94: 15 gr - 20 gr - 20 gr25 gr - 25 gr | D94: NA | E94: 0
C95: 0 gr - 0 gr - 15 gr - 15 gr - 15 gr | D95: NA | E95: 0
B96: TRANSPORTE | C96: GL | D96: TRANSPORTE | E96: 1625.16
B97: PERSONAL REQUERIDO | C97: GL | D97: PERSONAL REQUERIDO | E97: 1130.023
B98: SERVICIOS PUBLICOS | C98: GL | D98: SERVICIOS PUBLICOS | E98: 0
B99: IMPLEMENTOS Y DOTACIÓN | C99: GL | D99: IMPLEMENTOS Y DOTACIÓN | E99: 3295.02
B100: SUBTOTAL | E100: 10667.713
...

Sheet R. INDUST (D)
E1: PROMEDIO
A2: COMPLEMENTO | E2: RACIÓN INDUSTRIALIZADA (D)
A3: N° MENÚ | B3: GRUPO DE ALIMETOS | C3: RANGO DE PESOS AL SERVIR RACIÓN SERVIDA | D3: PREPARACIÓN | E3: VALOR UNITARIO
A4: 1 | B4: LACTEOS | C4: 200 CC | D4: LECHE ENTERA | E4: 1480.69
B5: DERIVADOS DE CEREAL | C5: 20 gr - 35 gr - 50 gr70 gr - 90 gr | D5: GALLETA DE COCO | E5: 1494.1
B6: FRUTAS | C6: 145 gr - 145 gr - 170 gr | D6: NA | E6: 0
B7: FRUTOS SECOS / AZUCARES | C7: 25 gr - 25 gr | D7: BOCADILLO DE GUAYABA CON GALLETA (D - E) | E7: 716.32
B8: TRANSPORTE | C8: GL | D8: TRANSPORTE | E8: 1625.16
B9: PERSONAL REQUERIDO | C9: GL | D9: PERSONAL REQUERIDO | E9: 1130.023
B10: SERVICIOS PUBLICOS | C10: GL | D10: SERVICIOS PUBLICOS | E10: 0
B11: IMPLEMENTOS Y DOTACIÓN | C11: GL | D11: IMPLEMENTOS Y DOTACIÓN | E11: 3410.6
B12: SUBTOTAL | E12: 9856.893
A13: 2 | B13: LACTEOS | C13: 200 CC | D13: LECHE SABORIZADA (VAINILLA) | E13: 1950.04
B14: DERIVADOS DE CEREAL | C14: 20 gr - 35 gr - 50 gr70 gr - 90 gr | D14: PAN DE LECHE | E14: 1361.12
B15: FRUTAS | C15: 145 gr - 145 gr - 170 gr | D15: NA | E15: 0
B16: FRUTOS SECOS / AZUCARES | C16: 25 gr - 25 gr | D16: DULCE DE COCO CON GUAYABA (D - E) | E16: 550.93
B17: TRANSPORTE | C17: GL | D17: TRANSPORTE | E17: 1625.16
B18: PERSONAL REQUERIDO | C18: GL | D18: PERSONAL REQUERIDO | E18: 1130.023
B19: SERVICIOS PUBLICOS | C19: GL | D19: SERVICIOS PUBLICOS | E19: 0
B20: IMPLEMENTOS Y DOTACIÓN | C20: GL | D20: IMPLEMENTOS Y DOTACIÓN | E20: 3410.6
B21: SUBTOTAL | E21: 10027.873
A22: 3 | B22: LACTEOS | C22: 200 CC | D22: AVENA | E22: 1724.3
B23: DERIVADOS DE CEREAL | C23: 20 gr - 35 gr - 50 gr70 gr - 90 gr | D23: CROISSANT | E23: 1459.46
B24: FRUTAS | C24: 145 gr - 145 gr - 170 gr | D24: MANDARINA | E24: 1005.75
B25: FRUTOS SECOS / AZUCARES | C25: 15 gr - 20 gr - 20 gr | D25: NA | E25: 0
C26: 25 gr - 25 gr | D26: NA | E26: 0
B27: TRANSPORTE | C27: GL | D27: TRANSPORTE | E27: 1625.16
B28: PERSONAL REQUERIDO | C28: GL | D28: PERSONAL REQUERIDO | E28: 1130.023
B29: SERVICIOS PUBLICOS | C29: GL | D29: SERVICIOS PUBLICOS | E29: 0
B30: IMPLEMENTOS Y DOTACIÓN | C30: GL | D30: IMPLEMENTOS Y DOTACIÓN | E30: 3410.6
B31: SUBTOTAL | E31: 10355.293
A32: 4 | B32: LACTEOS | C32: 200 CC | D32: LECHE ENTERA | E32: 1480.69
B33: DERIVADOS DE CEREAL | C33: 20 gr - 35 gr - 50 gr70 gr - 90 gr | D33: PAN DE QUESO | E33: 1519.8
B34: FRUTAS | C34: 145 gr - 145 gr - 170 gr | D34: BANANO | E34: 530.81
B35: FRUTOS SECOS / AZUCARES | C35: 15 gr - 20 gr - 20 gr | D35: NA | E35: 0
C36: 25 gr - 25 gr | D36: NA | E36: 0
B37: TRANSPORTE | C37: GL | D37: TRANSPORTE | E37: 1625.16
B38: PERSONAL REQUERIDO | C38: GL | D38: PERSONAL REQUERIDO | E38: 1130.023
B39: SERVICIOS PUBLICOS | C39: GL | D39: SERVICIOS PUBLICOS | E39: 0
B40: IMPLEMENTOS Y DOTACIÓN | C40: GL | D40: IMPLEMENTOS Y DOTACIÓN | E40: 3410.6
B41: SUBTOTAL | E41: 9697.083
A42: 5 | B42: LACTEOS | C42: 200 CC | D42: LECHE SABORIZADA (FRESA) | E42: 1950.04
B43: DERIVADOS DE CEREAL | C43: 20 gr - 35 gr - 50 gr70 gr - 90 gr | D43: GALLETA DE MANTEQUILLA | E43: 1305.24
B44: FRUTAS | C44: 145 gr - 145 gr - 170 gr | D44: NARANJA | E44: 766.61
B45: FRUTOS SECOS / AZUCARES | C45: 15 gr - 20 gr - 20 gr | D45: NA | E45: 0
C46: 25 gr - 25 gr | D46: NA | E46: 0
B47: TRANSPORTE | C47: GL | D47: TRANSPORTE | E47: 1625.16
B48: PERSONAL REQUERIDO | C48: GL | D48: PERSONAL REQUERIDO | E48: 1130.023
B49: SERVICIOS PUBLICOS | C49: GL | D49: SERVICIOS PUBLICOS | E49: 0
B50: IMPLEMENTOS Y DOTACIÓN | C50: GL | D50: IMPLEMENTOS Y DOTACIÓN | E50: 3410.6
B51: SUBTOTAL | E51: 10187.673
A52: 6 | B52: LACTEOS | C52: 200 CC | D52: LECHE SABORIZADA (FRESA) | E52: 1950.04
B53: DERIVADOS DE CEREAL | C53: 20 gr - 35 gr - 50 gr70 gr - 90 gr | D53: PAN DE BOCADILLO | E53: 1406.93
B54: FRUTAS | C54: 145 gr - 145 gr - 170 gr | D54: NA | E54: 0
B55: FRUTOS SECOS / AZUCARES | C55: 0 gr - 0 gr - 15 gr - 15 gr - 15 gr | D55: MANÍ (C - D - E) | E55: 780.02
B56: TRANSPORTE | C56: GL | D56: TRANSPORTE | E56: 1625.16
B57: PERSONAL REQUERIDO | C57: GL | D57: PERSONAL REQUERIDO | E57: 1130.023
B58: SERVICIOS PUBLICOS | C58: GL | D58: SERVICIOS PUBLICOS | E58: 0
B59: IMPLEMENTOS Y DOTACIÓN | C59: GL | D59: IMPLEMENTOS Y DOTACIÓN | E59: 3410.6
B60: SUBTOTAL | E60: 10302.773
A61: 7 | B61: LACTEOS | C61: 200 CC | D61: LECHE ENTERA | E61: 1480.69
B62: DERIVADOS DE CEREAL | C62: 20 gr - 35 gr - 50 gr70 gr - 90 gr | D62: PAN DE LECHE | E62: 1373.41
B63: FRUTAS | C63: 145 gr - 145 gr - 170 gr | D63: NA | E63: 0
B64: FRUTOS SECOS / AZUCARES | C64: 15 gr - 20 gr - 20 gr25 gr - 25 gr | D64: BOCADILLO DE GUAYABA CON GALLETA (A - B - C - D - E) | E64: 750.96
C65: 0 gr - 0 gr - 15 gr - 15 gr - 15 gr | D65: BOCADILLO DE GUAYABA CON GALLETA (A - B - C - D - E) | E65: 0
B66: TRANSPORTE | C66: GL | D66: TRANSPORTE | E66: 1625.16
B67: PERSONAL REQUERIDO | C67: GL | D67: PERSONAL REQUERIDO | E67: 1130.023
B68: SERVICIOS PUBLICOS | C68: GL | D68: SERVICIOS PUBLICOS | E68: 0
B69: IMPLEMENTOS Y DOTACIÓN | C69: GL | D69: IMPLEMENTOS Y DOTACIÓN | E69: 3410.6
B70: SUBTOTAL | E70: 9770.843
A71: 8 | B71: LACTEOS | C71: 200 CC | D71: LECHE ENTERA | E71: 1480.69
B72: DERIVADOS DE CEREAL | C72: 20 gr - 35 gr - 50 gr70 gr - 90 gr | D72: PAN DE QUESO | E72: 1519.8
B73: FRUTAS | C73: 145 gr - 145 gr - 170 gr | D73: BANANO | E73: 530.81
B74: FRUTOS SECOS / AZUCARES | C74: 15 gr - 20 gr - 20 gr25 gr - 25 gr | D74: NA | E74: 0
C75: 0 gr - 0 gr - 15 gr - 15 gr - 15 gr | D75: NA | E75: 0
B76: TRANSPORTE | C76: GL | D76: TRANSPORTE | E76: 1625.16
B77: PERSONAL REQUERIDO | C77: GL | D77: PERSONAL REQUERIDO | E77: 1130.023
B78: SERVICIOS PUBLICOS | C78: GL | D78: SERVICIOS PUBLICOS | E78: 0
B79: IMPLEMENTOS Y DOTACIÓN | C79: GL | D79: IMPLEMENTOS Y DOTACIÓN | E79: 3410.6
B80: SUBTOTAL | E80: 9697.083
A81: 9 | B81: LACTEOS | C81: 200 CC | D81: AVENA | E81: 1724.3
B82: DERIVADOS DE CEREAL | C82: 20 gr - 35 gr - 50 gr70 gr - 90 gr | D82: CROISSANT | E82: 1459.46
B83: FRUTAS | C83: 145 gr - 145 gr - 170 gr | D83: NARANJA | E83: 790.07
B84: FRUTOS SECOS / AZUCARES | C84: 15 gr - 20 gr - 20 gr25 gr - 25 gr | D84: NA | E84: 0
C85: 0 gr - 0 gr - 15 gr - 15 gr - 15 gr | D85: NA | E85: 0
B86: TRANSPORTE | C86: GL | D86: TRANSPORTE | E86: 1625.16
B87: PERSONAL REQUERIDO | C87: GL | D87: PERSONAL REQUERIDO | E87: 1130.023
B88: SERVICIOS PUBLICOS | C88: GL | D88: SERVICIOS PUBLICOS | E88: 0
B89: IMPLEMENTOS Y DOTACIÓN | C89: GL | D89: IMPLEMENTOS Y DOTACIÓN | E89: 3410.6
B90: SUBTOTAL | E90: 10139.613
A91: 10 | B91: LACTEOS | C91: 200 CC | D91: LECHE SABORIZADA (VAINILLA) | E91: 1950.04
B92: DERIVADOS DE CEREAL | C92: 20 gr - 35 gr - 50 gr70 gr - 90 gr | D92: GALLETA DE CHOCOLATE | E92: 1273.95
B93: FRUTAS | C93: 145 gr - 145 gr - 170 gr | D93: MANZANA | E93: 1752.24
B94: FRUTOS SECOS / AZUCARES | C94: 15 gr - 20 gr - 20 gr25 gr - 25 gr | D94: NA | E94: 0
C95: 0 gr - 0 gr - 15 gr - 15 gr - 15 gr | D95: NA | E95: 0
B96: TRANSPORTE | C96: GL | D96: TRANSPORTE | E96: 1625.16
B97: PERSONAL REQUERIDO | C97: GL | D97: PERSONAL REQUERIDO | E97: 1130.023
B98: SERVICIOS PUBLICOS | C98: GL | D98: SERVICIOS PUBLICOS | E98: 0
B99: IMPLEMENTOS Y DOTACIÓN | C99: GL | D99: IMPLEMENTOS Y DOTACIÓN | E99: 3410.6
B100: SUBTOTAL | E100: 11142.013
...

Sheet R. INDUST (E)
E1: PROMEDIO
A2: COMPLEMENTO | E2: RACIÓN INDUSTRIALIZADA ( E)
A3: N° MENÚ | B3: GRUPO DE ALIMETOS | C3: RANGO DE PESOS AL SERVIR RACIÓN SERVIDA | D3: PREPARACIÓN | E3: VALOR UNITARIO
A4: 1 | B4: LACTEOS | C4: 200 CC | D4: LECHE ENTERA | E4: 1480.69
B5: DERIVADOS DE CEREAL | C5: 20 gr - 35 gr - 50 gr70 gr - 90 gr | D5: GALLETA DE COCO | E5: 1903.1
B6: FRUTAS | C6: 145 gr - 145 gr - 170 gr | D6: NA | E6: 0
B7: FRUTOS SECOS / AZUCARES | C7: 25 gr - 25 gr | D7: BOCADILLO DE GUAYABA CON GALLETA (D - E) | E7: 842.6
B8: TRANSPORTE | C8: GL | D8: TRANSPORTE | E8: 1625.16
B9: PERSONAL REQUERIDO | C9: GL | D9: PERSONAL REQUERIDO | E9: 1130.023
B10: SERVICIOS PUBLICOS | C10: GL | D10: SERVICIOS PUBLICOS | E10: 0
B11: IMPLEMENTOS Y DOTACIÓN | C11: GL | D11: IMPLEMENTOS Y DOTACIÓN | E11: 4600.29
B12: SUBTOTAL | E12: 11581.863
A13: 2 | B13: LACTEOS | C13: 200 CC | D13: LECHE SABORIZADA (VAINILLA) | E13: 1950.04
B14: DERIVADOS DE CEREAL | C14: 20 gr - 35 gr - 50 gr70 gr - 90 gr | D14: PAN DE LECHE | E14: 1732.13
B15: FRUTAS | C15: 145 gr - 145 gr - 170 gr | D15: NA | E15: 0
B16: FRUTOS SECOS / AZUCARES | C16: 25 gr - 25 gr | D16: DULCE DE COCO CON GUAYABA (D - E) | E16: 554.28
B17: TRANSPORTE | C17: GL | D17: TRANSPORTE | E17: 1625.16
B18: PERSONAL REQUERIDO | C18: GL | D18: PERSONAL REQUERIDO | E18: 1130.023
B19: SERVICIOS PUBLICOS | C19: GL | D19: SERVICIOS PUBLICOS | E19: 0
B20: IMPLEMENTOS Y DOTACIÓN | C20: GL | D20: IMPLEMENTOS Y DOTACIÓN | E20: 4600.29
B21: SUBTOTAL | E21: 11591.923
A22: 3 | B22: LACTEOS | C22: 200 CC | D22: AVENA | E22: 1724.3
B23: DERIVADOS DE CEREAL | C23: 20 gr - 35 gr - 50 gr70 gr - 90 gr | D23: CROISSANT | E23: 1851.7
B24: FRUTAS | C24: 145 gr - 145 gr - 170 gr | D24: MANDARINA | E24: 1007.99
B25: FRUTOS SECOS / AZUCARES | C25: 15 gr - 20 gr - 20 gr | D25: NA | E25: 0
C26: 25 gr - 25 gr | D26: NA | E26: 0
B27: TRANSPORTE | C27: GL | D27: TRANSPORTE | E27: 1625.16
B28: PERSONAL REQUERIDO | C28: GL | D28: PERSONAL REQUERIDO | E28: 1130.023
B29: SERVICIOS PUBLICOS | C29: GL | D29: SERVICIOS PUBLICOS | E29: 0
B30: IMPLEMENTOS Y DOTACIÓN | C30: GL | D30: IMPLEMENTOS Y DOTACIÓN | E30: 4600.29
B31: SUBTOTAL | E31: 11939.463
A32: 4 | B32: LACTEOS | C32: 200 CC | D32: LECHE ENTERA | E32: 1480.69
B33: DERIVADOS DE CEREAL | C33: 20 gr - 35 gr - 50 gr70 gr - 90 gr | D33: PAN DE QUESO | E33: 1929.92
B34: FRUTAS | C34: 145 gr - 145 gr - 170 gr | D34: BANANO | E34: 533.05
B35: FRUTOS SECOS / AZUCARES | C35: 15 gr - 20 gr - 20 gr | D35: NA | E35: 0
C36: 25 gr - 25 gr | D36: NA | E36: 0
B37: TRANSPORTE | C37: GL | D37: TRANSPORTE | E37: 1625.16
B38: PERSONAL REQUERIDO | C38: GL | D38: PERSONAL REQUERIDO | E38: 1130.023
B39: SERVICIOS PUBLICOS | C39: GL | D39: SERVICIOS PUBLICOS | E39: 0
B40: IMPLEMENTOS Y DOTACIÓN | C40: GL | D40: IMPLEMENTOS Y DOTACIÓN | E40: 4600.29
B41: SUBTOTAL | E41: 11299.133
A42: 5 | B42: LACTEOS | C42: 200 CC | D42: LECHE SABORIZADA (FRESA) | E42: 1950.04
B43: DERIVADOS DE CEREAL | C43: 20 gr - 35 gr - 50 gr70 gr - 90 gr | D43: GALLETA DE MANTEQUILLA | E43: 1662.84
B44: FRUTAS | C44: 145 gr - 145 gr - 170 gr | D44: NARANJA | E44: 768.84
B45: FRUTOS SECOS / AZUCARES | C45: 15 gr - 20 gr - 20 gr | D45: NA | E45: 0
C46: 25 gr - 25 gr | D46: NA | E46: 0
B47: TRANSPORTE | C47: GL | D47: TRANSPORTE | E47: 1625.16
B48: PERSONAL REQUERIDO | C48: GL | D48: PERSONAL REQUERIDO | E48: 1130.023
B49: SERVICIOS PUBLICOS | C49: GL | D49: SERVICIOS PUBLICOS | E49: 0
B50: IMPLEMENTOS Y DOTACIÓN | C50: GL | D50: IMPLEMENTOS Y DOTACIÓN | E50: 4600.29
B51: SUBTOTAL | E51: 11737.193
A52: 6 | B52: LACTEOS | C52: 200 CC | D52: LECHE SABORIZADA (FRESA) | E52: 1950.04
B53: DERIVADOS DE CEREAL | C53: 20 gr - 35 gr - 50 gr70 gr - 90 gr | D53: PAN DE BOCADILLO | E53: 1789.12
B54: FRUTAS | C54: 145 gr - 145 gr - 170 gr | D54: NA | E54: 0
B55: FRUTOS SECOS / AZUCARES | C55: 0 gr - 0 gr - 15 gr - 15 gr - 15 gr | D55: MANÍ (C - D - E) | E55: 916.35
B56: TRANSPORTE | C56: GL | D56: TRANSPORTE | E56: 1625.16
B57: PERSONAL REQUERIDO | C57: GL | D57: PERSONAL REQUERIDO | E57: 1130.023
B58: SERVICIOS PUBLICOS | C58: GL | D58: SERVICIOS PUBLICOS | E58: 0
B59: IMPLEMENTOS Y DOTACIÓN | C59: GL | D59: IMPLEMENTOS Y DOTACIÓN | E59: 4600.29
B60: SUBTOTAL | E60: 12010.983
A61: 7 | B61: LACTEOS | C61: 200 CC | D61: LECHE ENTERA | E61: 1480.69
B62: DERIVADOS DE CEREAL | C62: 20 gr - 35 gr - 50 gr70 gr - 90 gr | D62: PAN DE LECHE | E62: 1745.54
B63: FRUTAS | C63: 145 gr - 145 gr - 170 gr | D63: NA | E63: 0
B64: FRUTOS SECOS / AZUCARES | C64: 15 gr - 20 gr - 20 gr25 gr - 25 gr | D64: BOCADILLO DE GUAYABA CON GALLETA (A - B - C - D - E) | E64: 842.6
C65: 0 gr - 0 gr - 15 gr - 15 gr - 15 gr | D65: BOCADILLO DE GUAYABA CON GALLETA (A - B - C - D - E) | E65: 0
B66: TRANSPORTE | C66: GL | D66: TRANSPORTE | E66: 1539.93
B67: PERSONAL REQUERIDO | C67: GL | D67: PERSONAL REQUERIDO | E67: 1127.5204
B68: SERVICIOS PUBLICOS | C68: GL | D68: SERVICIOS PUBLICOS | E68: 0
B69: IMPLEMENTOS Y DOTACIÓN | C69: GL | D69: IMPLEMENTOS Y DOTACIÓN | E69: 4600.29
B70: SUBTOTAL | E70: 11336.57
A71: 8 | B71: LACTEOS | C71: 200 CC | D71: LECHE ENTERA | E71: 1480.69
B72: DERIVADOS DE CEREAL | C72: 20 gr - 35 gr - 50 gr70 gr - 90 gr | D72: PAN DE QUESO | E72: 1929.92
B73: FRUTAS | C73: 145 gr - 145 gr - 170 gr | D73: BANANO | E73: 533.05
B74: FRUTOS SECOS / AZUCARES | C74: 15 gr - 20 gr - 20 gr25 gr - 25 gr | D74: NA | E74: 0
C75: 0 gr - 0 gr - 15 gr - 15 gr - 15 gr | D75: NA | E75: 0
B76: TRANSPORTE | C76: GL | D76: TRANSPORTE | E76: 1625.16
B77: PERSONAL REQUERIDO | C77: GL | D77: PERSONAL REQUERIDO | E77: 1130.023
B78: SERVICIOS PUBLICOS | C78: GL | D78: SERVICIOS PUBLICOS | E78: 0
B79: IMPLEMENTOS Y DOTACIÓN | C79: GL | D79: IMPLEMENTOS Y DOTACIÓN | E79: 4600.29
B80: SUBTOTAL | E80: 11299.133
A81: 9 | B81: LACTEOS | C81: 200 CC | D81: AVENA | E81: 1724.3
B82: DERIVADOS DE CEREAL | C82: 20 gr - 35 gr - 50 gr70 gr - 90 gr | D82: CROISSANT | E82: 1851.7
B83: FRUTAS | C83: 145 gr - 145 gr - 170 gr | D83: NARANJA | E83: 792.31
B84: FRUTOS SECOS / AZUCARES | C84: 15 gr - 20 gr - 20 gr25 gr - 25 gr | D84: NA | E84: 0
C85: 0 gr - 0 gr - 15 gr - 15 gr - 15 gr | D85: NA | E85: 0
B86: TRANSPORTE | C86: GL | D86: TRANSPORTE | E86: 1625.16
B87: PERSONAL REQUERIDO | C87: GL | D87: PERSONAL REQUERIDO | E87: 1130.023
B88: SERVICIOS PUBLICOS | C88: GL | D88: SERVICIOS PUBLICOS | E88: 0
B89: IMPLEMENTOS Y DOTACIÓN | C89: GL | D89: IMPLEMENTOS Y DOTACIÓN | E89: 4600.29
B90: SUBTOTAL | E90: 11723.783
A91: 10 | B91: LACTEOS | C91: 200 CC | D91: LECHE SABORIZADA (VAINILLA) | E91: 1950.04
B92: DERIVADOS DE CEREAL | C92: 20 gr - 35 gr - 50 gr70 gr - 90 gr | D92: GALLETA DE CHOCOLATE | E92: 1627.08
B93: FRUTAS | C93: 145 gr - 145 gr - 170 gr | D93: MANZANA | E93: 1764.53
B94: FRUTOS SECOS / AZUCARES | C94: 15 gr - 20 gr - 20 gr25 gr - 25 gr | D94: NA | E94: 0
C95: 0 gr - 0 gr - 15 gr - 15 gr - 15 gr | D95: NA | E95: 0
B96: TRANSPORTE | C96: GL | D96: TRANSPORTE | E96: 1625.16
B97: PERSONAL REQUERIDO | C97: GL | D97: PERSONAL REQUERIDO | E97: 1130.023
B98: SERVICIOS PUBLICOS | C98: GL | D98: SERVICIOS PUBLICOS | E98: 0
B99: IMPLEMENTOS Y DOTACIÓN | C99: GL | D99: IMPLEMENTOS Y DOTACIÓN | E99: 4600.29
B100: SUBTOTAL | E100: 12697.123
...
