Workbook
Name \0: #REF!
Name \00: #REF!
Name \a: #REF!
Name \AA: [1]LIQUIDACION!#REF!
Name \b: [2]STRSUMM0!#REF!
Name \bb: [2]STRSUMM0!#REF!
Name \c: #REF!
Name \d: #REF!
Name \E: #REF!
Name \EE: #REF!
Name \G: #REF!
Name \i: #REF!
Name \k: '[3]7422CW00'!#REF!
Name \l: [4]STRSUMM0!#REF!
Name \M: #REF!
Name \n: #REF!
Name \ñ: '[5]7422CW00'!#REF!
Name \P: #REF!
Name \PX: #REF!
Name \q: #REF!
Name \R: #REF!
Name \s: #REF!
Name \t: #REF!
Name \V: #REF!
Name \w: #N/A
Name \X: [0]!ERR
Name \Z: [0]!ERR
Name ____________________________________APU221: #REF!
Name ____________________________________APU465: #REF!
Name ____________________________________PJ50: #REF!
Name ____________________________________pj51: #REF!
Name __________________________________APU221: #REF!
Name __________________________________APU465: #REF!
Name __________________________________PJ50: #REF!
Name __________________________________pj51: #REF!
Name _________________________________APU221: #REF!
Name _________________________________APU465: #REF!
Name _________________________________PJ50: #REF!
Name _________________________________pj51: #REF!
Name ________________________________APU221: #REF!
Name ________________________________APU465: #REF!
Name ________________________________PJ50: #REF!
Name ________________________________pj51: #REF!
Name _______________________________APU221: #REF!
Name _______________________________APU465: #REF!
Name _______________________________PJ50: #REF!
Name _______________________________pj51: #REF!
Name _____________________________APU221: #REF!
Name _____________________________APU465: #REF!
Name _____________________________PJ50: #REF!
Name _____________________________pj51: #REF!
Name ____________________________APU221: #REF!
Name ____________________________APU465: #REF!
Name ____________________________PJ50: #REF!
Name ____________________________pj51: #REF!
Name ___________________________APU221: #REF!
Name ___________________________APU465: #REF!
Name ___________________________PJ50: #REF!
Name ___________________________pj51: #REF!
Name _________________________APU221: #REF!

Sheet PRESUPUESTO RESUMIDO
A1: =ROTULOS!B2 -> DEPARTAMENTO DEL HUILA
A2: =ROTULOS!B3 -> MUNICIPIO DE PALERMO
A3: =ROTULOS!B4 -> AMPLIACIÓN DE LA SEDE PRINCIPAL DE LA INSTITUCION EDUCATIVA JOSÉ REINEL DEL MUNICIPIO DE PALERMO HUILA
A4: ITEM | B4: CUBS | C4: ACTIVIDAD | D4: UND | E4: VR. UNT. | F4: CANT. | G4: VR. PARCIAL
B5: 1 | C5: PRELIMINARES
B6: 3.3.1.6.0 | C6: Localización y replanteo topografico | D6: M2 | E6: ='1-2 PRELIMINARES-DEMOLICION'!#REF! -> #REF! | G6: =E6*F6 -> #REF!
B7: 3,3.1,6,0 | C7: =+'1-2 PRELIMINARES-DEMOLICION'!#REF! -> #REF! | D7: M2 | E7: =+'1-2 PRELIMINARES-DEMOLICION'!#REF! -> #REF! | G7: =E7*F7 -> #REF!
B8: 3.3.1.6.0 | C8: =+'1-2 PRELIMINARES-DEMOLICION'!#REF! -> #REF! | D8: =+'1-2 PRELIMINARES-DEMOLICION'!#REF! -> #REF! | E8: =+'1-2 PRELIMINARES-DEMOLICION'!#REF! -> #REF! | G8: =E8*F8 -> #REF!
B9: 3.3.1.2.2 | C9: =+'1-2 PRELIMINARES-DEMOLICION'!#REF! -> #REF! | D9: M2 | E9: ='1-2 PRELIMINARES-DEMOLICION'!#REF! -> #REF! | G9: =E9*F9 -> #REF!
B11: 2 | C11: DEMOLICIONES Y DESMONTE DE ELEMENTOS
B12: 3.3.1.1.8 | C12: Demolición muros e-0.15m, con retiro | D12: M2 | E12: ='1-2 PRELIMINARES-DEMOLICION'!#REF! -> #REF! | G12: =E12*F12 -> #REF!
B13: 3.3.1.1.7 | C13: Demolición muros e=0.25m, con retiro | D13: M2 | E13: ='1-2 PRELIMINARES-DEMOLICION'!F55 -> 26467 | G13: =E13*F13 -> 0
B14: 3.3-1.1.0 | C14: Demolición de enchape y revoque, con retiro | D14: M2 | E14: ='1-2 PRELIMINARES-DEMOLICION'!#REF! -> #REF! | G14: =E14*F14 -> #REF!
B15: 3.3.1.1.12 | C15: Demolición placa de piso concreto e=0.10m, incluye retiro | D15: M2 | E15: ='1-2 PRELIMINARES-DEMOLICION'!#REF! -> #REF! | G15: =E15*F15 -> #REF!
B16: 3.3.1.1.0 | C16: Demolición mecánica placa concreto e = .20m, incluye retiro | D16: M2 | E16: ='1-2 PRELIMINARES-DEMOLICION'!#REF! -> #REF! | G16: =E16*F16 -> #REF!
B17: 3.3.1.1.0 | C17: =+'1-2 PRELIMINARES-DEMOLICION'!#REF! -> #REF! | D17: M2 | E17: ='1-2 PRELIMINARES-DEMOLICION'!#REF! -> #REF! | G17: =E17*F17 -> #REF!
B18: 3.3.1.1.0 | C18: Retiro de escombros hasta 3Km | D18: M3 | E18: ='1-2 PRELIMINARES-DEMOLICION'!#REF! -> #REF! | G18: =E18*F18 -> #REF!
B19: 3.3.1.1.0 | C19: Demolición mecánica de concreto ciclópeo | D19: M3 | E19: ='1-2 PRELIMINARES-DEMOLICION'!#REF! -> #REF! | G19: =E19*F19 -> #REF!
B20: 3.3.1.1.0 | C20: Demolición mecánica viga concreto armado | D20: M3 | E20: ='1-2 PRELIMINARES-DEMOLICION'!#REF! -> #REF! | G20: =E20*F20 -> #REF!
B21: 3.3.1.1.2 | C21: =+'1-2 PRELIMINARES-DEMOLICION'!#REF! -> #REF! | D21: =+'1-2 PRELIMINARES-DEMOLICION'!#REF! -> #REF! | E21: ='1-2 PRELIMINARES-DEMOLICION'!#REF! -> #REF! | G21: =E21*F21 -> #REF!
B22: 3.3.1.1.3 | C22: =+'1-2 PRELIMINARES-DEMOLICION'!#REF! -> #REF! | D22: =+'1-2 PRELIMINARES-DEMOLICION'!#REF! -> #REF! | E22: =+'1-2 PRELIMINARES-DEMOLICION'!#REF! -> #REF! | G22: =E22*F22 -> #REF!
C23: Desmonte de cielo falso en madera,incluye desmonte de estructura en madera y retiro de escombros | D23: M2 | E23: ='1-2 PRELIMINARES-DEMOLICION'!#REF! -> #REF! | G23: =E23*F23 -> #REF!
C24: Desmonte de cubierta en teja de barro ,incluye desmonte de estructura en madera y retiro de escombros | D24: M2 | E24: ='1-2 PRELIMINARES-DEMOLICION'!#REF! -> #REF! | G24: =E24*F24 -> #REF!
B25: 3.3.1.1.0 | C25: Desmonte cubierta teja de zinc con estructura | D25: M2 | E25: ='1-2 PRELIMINARES-DEMOLICION'!#REF! -> #REF! | G25: =E25*F25 -> #REF!
B27: 3 | C27: MOVIMIENTO DE TIERRA
B28: 3.3.2.2.0 | C28: Excavación manual con retiro hasta h=2,9m | D28: M3 | E28: =#REF! -> #REF! | G28: =E28*F28 -> #REF!
B29: 3.3.2.2.0 | C29: Excavación mecánica con retiro | D29: M3 | E29: =#REF! -> #REF! | G29: =E29*F29 -> #REF!
B30: 3.3.2.2.0 | C30: Excavación en roca | D30: M3 | E30: =#REF! -> #REF! | G30: =E30*F30 -> #REF!
B31: 3.3.2.1.2 | C31: Explanación con retiro | D31: M3 | E31: =#REF! -> #REF! | G31: =E31*F31 -> #REF!
B32: 3.3.2.1.0 | C32: Explanación corte extendida | D32: M3 | E32: =#REF! -> #REF! | G32: =E32*F32 -> #REF!
B33: 3.3.2.6.0 | C33: Relleno compactado con material de sitio | D33: M3 | E33: =#REF! -> #REF! | G33: =E33*F33 -> #REF!
B35: 4 | C35: CIMIENTOS
B36: 3.3.6.1.0 | C36: =+#REF! -> #REF! | D36: =+#REF! -> #REF! | E36: =+#REF! -> #REF! | G36: =E36*F36 -> #REF!
B37: 3.3.6.3.0 | C37: =+#REF! -> #REF! | D37: =+#REF! -> #REF! | E37: =+#REF! -> #REF! | G37: =E37*F37 -> #REF!
B38: 3.3.6.3.0 | C38: Concreto muro de contención 3000 PSI | D38: M3 | E38: =#REF! -> #REF! | G38: =E38*F38 -> #REF!
B39: 3.3.6.1.4 | C39: Cimentacion tipo zapatas en concreto de 3000 P.S.I | D39: M3 | E39: =#REF! -> #REF! | G39: =E39*F39 -> #REF!
B40: 3.3.6.1.0 | C40: Cimentacion tipo viga de amarre, concreto 3000 psi. 0.25x0.25, Incluye acero | D40: ML | E40: =#REF! -> #REF! | G40: =E40*F40 -> #REF!
B41: 3.3.6.1.0 | C41: Cimentacion tipo viga de amarre, concreto 3000 psi. 0.15x0.25, Incluye acero | D41: ML | E41: =#REF! -> #REF! | G41: =E41*F41 -> #REF!
B42: 3.3.6.1.0 | C42: Cimentacion tipo viga de amarre, concreto 3000 psi. 0.30x0.30, Incluye acero (4No.5, E-3/8" C/0,20m) | D42: ML | E42: =#REF! -> #REF! | G42: =E42*F42 -> #REF!
B43: 3.3.6.1.12 | C43: Cimentacion tipo viga de amarre, concreto 3000 psi. | D43: M3 | E43: =#REF! -> #REF! | G43: =E43*F43 -> #REF!
...

Sheet Cronograma
A1: ACTIVIDADES | B1: VALOR | C1: ETAPA PRECONTRACTUAL | E1: ETAPA DE EJECUCIÓN | G1: ETAPA DE LIQUIDACIÓN
C2: MES 1 | D2: MES 2 | E2: MES 3 | F2: MES 4 | G2: MES 5 | H2: MES 6 | I2: MES 7 | J2: MES 8
A3: =C1 -> ETAPA PRECONTRACTUAL
A4: ETAPA DE EJECUCIÓN
A5: Realizar Preliminares | B5: 1409954 | E5: 1409954 | K5: =SUM(E5:J5) -> 1409954 | L5: =K5-B5 -> 0
A6: Realizar Demoliciones y desmonte de elementos | B6: 328301 | E6: 328301 | K6: =SUM(E6:J6) -> 328301 | L6: =K6-B6 -> 0
A7: Construir Mampostería | B7: 13820063 | E7: 6910031 | F7: 6910032 | K7: =SUM(E7:J7) -> 13820063 | L7: =K7-B7 -> 0
A8: Construir Estructuras | B8: 2847516 | E8: 949173 | F8: 1898343 | K8: =SUM(E8:J8) -> 2847516 | L8: =K8-B8 -> 0
A9: Construir Instalaciones Eléctricas | B9: 16505066 | F9: 16505066 | K9: =SUM(E9:J9) -> 16505066 | L9: =K9-B9 -> 0
A10: Realizar pañetes e impermeabilización | B10: 13186268 | F10: 13186268 | K10: =SUM(E10:J10) -> 13186268 | L10: =K10-B10 -> 0
A11: Instalar cubiertas | B11: 8274924 | F11: 8274924 | K11: =SUM(E11:J11) -> 8274924 | L11: =K11-B11 -> 0
A12: Realizar acabados | B12: 10294674 | F12: 10294674 | K12: =SUM(E12:J12) -> 10294674 | L12: =K12-B12 -> 0
A13: Realizar pisos y enchapes | B13: 28431077 | F13: 28431077 | K13: =SUM(E13:J13) -> 28431077 | L13: =K13-B13 -> 0
A14: Instalar carpintería metálica | B14: 7761639 | F14: 7761639 | K14: =SUM(E14:J14) -> 7761639 | L14: =K14-B14 -> 0
A15: Realizar pintura general | B15: 6627286 | F15: 6627286 | K15: =SUM(E15:J15) -> 6627286 | L15: =K15-B15 -> 0
A16: Realizar limpieza general | B16: 431899 | F16: 431899 | K16: =SUM(E16:J16) -> 431899 | L16: =K16-B16 -> 0
A17: Realizar apoyo a la supervisión | B17: 2500000 | E17: 1250000 | F17: 1250000 | K17: =SUM(E17:J17) -> 2500000 | L17: =K17-B17 -> 0
A18: VALOR TOTAL | B18: =SUM(B5:B17) -> 112418667 | E18: =SUM(E5:E17) -> 10847459 | F18: =SUM(F5:F17) -> 101571208 | K18: =SUM(E18:J18) -> 112418667 | L18: =K18-B18 -> 0
A19: ETAPA DE LIQUIDACIÓN

Sheet Cadena de Valor 3
B2: Programa | C2: Producto | D2: Actividad | E2: Mano O Calificada | F2: Mano O no Calificada | G2: Materiales | H2: Maq, Herr, Equipos | I2: Total
B3: 2201 Calidad, cobertura y fortalecimiento de la educación inicial, prescolar, básica y media | C3: 2201052 Infraestructura educativa mejorada | D3: Realizar Preliminares | E3: 230621 | F3: 538115 | G3: 569504 | H3: 71714 | I3: =ROUND(SUM(E3:H3),2) -> 1409954
D4: Realizar Demoliciones y desmonte de elementos | E4: 62384 | F4: 145563 | H4: 120354 | I4: =ROUND(SUM(E4:H4),2) -> 328301
D5: Construir Mampostería | E5: 1108596 | F5: 2586724 | G5: 9701780 | H5: 422963 | I5: =ROUND(SUM(E5:H5),2) -> 13820063
D6: Construir Estructuras | E6: 137632 | F6: 321141 | G6: 2259861 | H6: 128882 | I6: =ROUND(SUM(E6:H6),2) -> 2847516
D7: Construir Instalaciones Eléctricas | E7: 1606818 | F7: 3749243 | G7: 10950105 | H7: 198900 | I7: =ROUND(SUM(E7:H7),2) -> 16505066
D8: Realizar pañetes e impermeabilización | E8: 990089 | F8: 2310207 | G8: 8784641 | H8: 1101331 | I8: =ROUND(SUM(E8:H8),2) -> 13186268
D9: Instalar cubiertas | E9: 818364 | F9: 1909516 | G9: 4996169 | H9: 550875 | I9: =ROUND(SUM(E9:H9),2) -> 8274924
D10: Realizar acabados | E10: 693357 | F10: 1617834 | G10: 7728524 | H10: 254959 | I10: =ROUND(SUM(E10:H10),2) -> 10294674
D11: Realizar pisos y enchapes | E11: 2303596 | F11: 5375058 | G11: 17096496 | H11: 3655927 | I11: =ROUND(SUM(E11:H11),2) -> 28431077
D12: Instalar carpintería metálica | E12: 738180 | F12: 1722421 | G12: 5265564 | H12: 35474 | I12: =ROUND(SUM(E12:H12),2) -> 7761639
D13: Realizar pintura general | E13: 1072864 | F13: 2503350 | G13: 2821943 | H13: 229129 | I13: =ROUND(SUM(E13:H13),2) -> 6627286
D14: Realizar limpieza general | E14: 17566 | F14: 40988 | H14: 373345 | I14: =ROUND(SUM(E14:H14),2) -> 431899
D15: Realizar apoyo a la supervisión | E15: 2500000 | I15: =E15 -> 2500000
B16: VALOR TOTAL PROYECTO | I16: =SUM(I3:I15) -> 112418667 | K16: 109918667
I20: 644 | K20: Jose Reinel Cerquera | L20: =475/635*100 -> 75 | M20: =160*L20% -> 120
K21: 0/14 años:475 | L21: =160/635*100 -> 25 | M21: =160*L21% -> 40
I22: =4000*5 -> 20000 | K22: 15/19 años : 160
D23: Fuente | E23: Valor | F23: Total | K23: 20/59 años 0
D24: Recursos propios | E24: =K16 -> 109918667 | F24: =E24 -> 109918667 | I24: =I16*34% -> 38222347 | K24: Total: 635 | L24: =290/635*100 -> 46 | M24: =160*L24% -> 74
D25: Bienes y servicios | E25: 2500000 | F25: =E25 -> 2500000 | I25: =I24/160 -> 238890
D26: Total | F26: =SUM(F24:F25) -> 112418667 | I26: 238890 | K26: Femenino: 290 | L26: =345/635*100 -> 54 | M26: =160*L26% -> 86
K27: Masculino: 345
K28: Total 635

Sheet Cadena de Valor 2
B2: Programa | C2: Producto | D2: Actividad | E2: Mano Cal | F2: Mano no Cal | G2: Materiales | H2: Maq, Herr, Equipos | I2: Transporte | J2: Total
D3: Realizar Preliminares | E3: ='Cadena de Valor'!T9 -> 230621 | F3: ='Cadena de Valor'!S9 -> 538115 | G3: ='Cadena de Valor'!R9 -> 569504 | H3: ='Cadena de Valor'!Q9 -> 71714 | J3: =ROUND(SUM(E3:I3),2) -> 1409954
D4: Realizar Demoliciones y desmonte de elementos | E4: ='Cadena de Valor'!T12 -> 62384 | F4: ='Cadena de Valor'!S12 -> 145563 | G4: ='Cadena de Valor'!R12 -> 0 | H4: ='Cadena de Valor'!Q12 -> 120354 | J4: =ROUND(SUM(E4:I4),2) -> 328301
D5: Construir Mamposteria | E5: ='Cadena de Valor'!T15 -> 1108596 | F5: ='Cadena de Valor'!S15 -> 2586724 | G5: ='Cadena de Valor'!R15 -> 9701780 | H5: ='Cadena de Valor'!Q15 -> 422963 | J5: =ROUND(SUM(E5:I5),2) -> 13820063
D6: Construir Estructuras | E6: ='Cadena de Valor'!T18 -> 137632 | F6: ='Cadena de Valor'!S18 -> 321141 | G6: ='Cadena de Valor'!R18 -> 2259861 | H6: ='Cadena de Valor'!Q18 -> 128882 | J6: =ROUND(SUM(E6:I6),2) -> 2847516
D7: Construir Instalaciones Electricas | E7: ='Cadena de Valor'!T21 -> 1606818 | F7: ='Cadena de Valor'!S21 -> 3749243 | G7: ='Cadena de Valor'!R21 -> 10950105 | H7: ='Cadena de Valor'!Q21 -> 198900 | J7: =ROUND(SUM(E7:I7),2) -> 16505066
D8: Realizar pañetes e impermeabilizacion | E8: ='Cadena de Valor'!T32 -> 990089 | F8: ='Cadena de Valor'!S32 -> 2310207 | G8: ='Cadena de Valor'!R32 -> 8784641 | H8: ='Cadena de Valor'!Q32 -> 1101331 | J8: =ROUND(SUM(E8:I8),2) -> 13186268
D9: Instalar cubiertas | E9: ='Cadena de Valor'!T37 -> 818364 | F9: ='Cadena de Valor'!S37 -> 1909516 | G9: ='Cadena de Valor'!R37 -> 4996169 | H9: ='Cadena de Valor'!Q37 -> 550875 | J9: =ROUND(SUM(E9:I9),2) -> 8274924
D10: Realizar acabados | E10: ='Cadena de Valor'!T42 -> 693357 | F10: ='Cadena de Valor'!S42 -> 1617834 | G10: ='Cadena de Valor'!R42 -> 7728524 | H10: ='Cadena de Valor'!Q42 -> 254959 | J10: =ROUND(SUM(E10:I10),2) -> 10294674
D11: Realizar pisos y enchapes | E11: ='Cadena de Valor'!T45 -> 2303596 | F11: ='Cadena de Valor'!S45 -> 5375058 | G11: ='Cadena de Valor'!R45 -> 17096496 | H11: ='Cadena de Valor'!Q45 -> 3655927 | J11: =ROUND(SUM(E11:I11),2) -> 28431077
D12: Instalar carpinteria metalica | E12: ='Cadena de Valor'!T50 -> 738180 | F12: ='Cadena de Valor'!S50 -> 1722421 | G12: ='Cadena de Valor'!R50 -> 5265564 | H12: ='Cadena de Valor'!Q50 -> 35474 | J12: =ROUND(SUM(E12:I12),2) -> 7761639
D13: Realizar pintura general | E13: ='Cadena de Valor'!T54 -> 1072864 | F13: ='Cadena de Valor'!S54 -> 2503350 | G13: ='Cadena de Valor'!R54 -> 2821943 | H13: ='Cadena de Valor'!Q54 -> 229129 | J13: =ROUND(SUM(E13:I13),2) -> 6627286
D14: Realizar limpieza general | E14: ='Cadena de Valor'!T57 -> 17566 | F14: ='Cadena de Valor'!S57 -> 40988 | G14: ='Cadena de Valor'!R57 -> 0 | H14: ='Cadena de Valor'!Q57 -> 373345 | J14: =ROUND(SUM(E14:I14),2) -> 431899
B15: VALOR TOTAL PROYECTO | J15: =ROUND(SUM(J3:J14),0) -> 109918667 | M15: ='Cadena de Valor'!U59 -> 109918667 | N15: =M15-J15 -> 0
E18: =SUM(E3:E17) -> 9780067 | F18: =SUM(F3:F17) -> 22820160 | G18: =SUM(G3:G17) -> 70174587 | H18: =SUM(H3:H17) -> 7143853 | J18: =J15 -> 109918667
E19: =E18/$J$15 -> 0.089 | F19: =F18/$J$15 -> 0.2076 | G19: =G18/$J$15 -> 0.6384 | H19: =H18/$J$15 -> 0.065 | J19: =J18/$M$15 -> 1

Sheet Cadena de  Valor
B3: =ROTULOS!C8 -> MUNICIPIO DE PALERMO
B4: =ROTULOS!C9 -> SECRETARÍA DE PLANEACIÓN E INFRAESTRUCTURA
B5: =ROTULOS!C10 -> AMPLIACIÓN DE LA SEDE PRINCIPAL DE LA INSTITUCIÓN EDUCATIVA JOSÉ REINEL CERQUERA DEL MUNICIPIO DE PALERMO HUILA | W5: AIU
B6: CADENA DE VALOR | W6: 0.3
B7: ITEM | C7: DESCRIPCIÓN | D7: UNIDAD | E7: CANTIDAD | F7: VR/UNITARIO | G7: VR/TOTAL | H7: CHEQUEO (SI / NO) (F=L) | I7: VR UNITARIO SEGÚN APU | M7: VR TOTAL COSTO DIRECTO | Q7: VR TOTAL INCLUIDO AIU
I8: VR. UNITARIO MAQUINARIA, HERRAMIENTA Y EQUIPO PUESTO EN OBRA | J8: VR. UNITARIO MATERIALES PUESTOS EN OBRA | K8: VR UNITARIO MANO DE OBRA | L8: VR TOTAL APU | M8: VR TOTAL MAQUINARIA, HERRAMIENTA Y EQUIPO PUESTO EN OBRA | N8: VR TOTAL MATERIALES PUESTOS EN OBRA | O8: VR TOTAL MANO DE OBRA | P8: VR TOTAL OBRA COSTO DIRECTO | Q8: VR TOTAL MAQUINARIA, HERRAMIENTA Y EQUIPO PUESTO EN OBRA | R8: VR TOTAL MATERIALES PUESTOS EN OBRA | S8: VR TOTAL MANO DE OBRA NO CALIFICADA | T8: VR TOTAL MANO DE OBRA CALIFICADA | U8: VR TOTAL OBRA | W8: CHEQUEO (SI / NO) (G=P)
B9: ='PPTO I.E JOSE REINEL'!B6 -> 1 | C9: ='PPTO I.E JOSE REINEL'!C6 -> PRELIMINARES | G9: ='PPTO I.E JOSE REINEL'!G6 -> 1084580 | P9: =ROUND(SUM(P10:P11),2) -> 1084580 | Q9: =ROUND(SUM(Q10:Q11),2) -> 71714.08 | R9: =ROUND(SUM(R10:R11),2) -> 569504 | S9: =ROUND(SUM(S10:S11),2) -> 538115.14 | T9: =ROUND(SUM(T10:T11),2) -> 230620.77 | U9: =ROUND(SUM(Q9:T9),2) -> 1409954
B10: ='PPTO I.E JOSE REINEL'!B7 -> 1.1 | C10: ='PPTO I.E JOSE REINEL'!C7 -> Suministro e instalación de cerca en lona verde h=2.10 m | D10: ='PPTO I.E JOSE REINEL'!D7 -> ML | E10: ='PPTO I.E JOSE REINEL'!E7 -> 20 | F10: ='PPTO I.E JOSE REINEL'!F7 -> 28711 | G10: ='PPTO I.E JOSE REINEL'!G7 -> 574220 | H10: =IF(F10=L10,"SI","NO") -> SI | I10: ='1-2 PRELIMINARES-DEMOLICION'!F19 -> 300 | J10: ='1-2 PRELIMINARES-DEMOLICION'!F13 -> 21904 | K10: ='1-2 PRELIMINARES-DEMOLICION'!F22 -> 6507 | L10: =ROUND(SUM(I10:K10),0) -> 28711 | M10: =$E10*I10 -> 6000 | N10: =$E10*J10 -> 438080 | O10: =$E10*K10 -> 130140 | P10: =SUM(M10:O10) -> 574220 | Q10: =M10*(1+$W$6) -> 7800 | R10: =N10*(1+$W$6) -> 569504 | S10: =O10*(1+$W$6)*0.7 -> 118427.4 | T10: =O10*(1+$W$6)*0.3 -> 50754.6 | U10: =SUM(Q10:T10) -> 746486 | W10: =IF(G10=P10,"SI","NO") -> SI
B11: ='PPTO I.E JOSE REINEL'!B8 -> 1.2 | C11: ='PPTO I.E JOSE REINEL'!C8 -> Desmonte de manto zetal existene | D11: ='PPTO I.E JOSE REINEL'!D8 -> M2 | E11: ='PPTO I.E JOSE REINEL'!E8 -> 42.53 | F11: ='PPTO I.E JOSE REINEL'!F8 -> 12000 | G11: ='PPTO I.E JOSE REINEL'!G8 -> 510360 | H11: =IF(F11=L11,"SI","NO") -> SI | I11: ='1-2 PRELIMINARES-DEMOLICION'!F34 -> 1156 | J11: ='1-2 PRELIMINARES-DEMOLICION'!F31 -> 0 | K11: ='1-2 PRELIMINARES-DEMOLICION'!F37 -> 10844 | L11: =ROUND(SUM(I11:K11),0) -> 12000 | M11: =$E11*I11 -> 49164.68 | N11: =$E11*J11 -> 0 | O11: =$E11*K11 -> 461195.32 | P11: =SUM(M11:O11) -> 510360 | Q11: =M11*(1+$W$6) -> 63914.08 | R11: =N11*(1+$W$6) -> 0 | S11: =O11*(1+$W$6)*0.7 -> 419687.74 | T11: =O11*(1+$W$6)*0.3 -> 179866.17 | U11: =SUM(Q11:T11) -> 663467.99 | W11: =IF(G11=P11,"SI","NO") -> SI
B12: ='PPTO I.E JOSE REINEL'!B9 -> 2 | C12: ='PPTO I.E JOSE REINEL'!C9 -> DEMOLICIONES Y DESMONTE DE ELEMENTOS | G12: ='PPTO I.E JOSE REINEL'!G9 -> 252539 | P12: =ROUND(SUM(P13:P14),2) -> 252539 | Q12: =ROUND(SUM(Q13:Q14),2) -> 120354 | R12: =ROUND(SUM(R13:R14),2) -> 0 | S12: =ROUND(SUM(S13:S14),2) -> 145562.69 | T12: =ROUND(SUM(T13:T14),2) -> 62384.01 | U12: =ROUND(SUM(Q12:T12),2) -> 328300.7
B13: ='PPTO I.E JOSE REINEL'!B10 -> 2.1 | C13: ='PPTO I.E JOSE REINEL'!C10 -> Demolición muros e-0.15m, con retiro | D13: ='PPTO I.E JOSE REINEL'!D10 -> M2 | E13: ='PPTO I.E JOSE REINEL'!E10 -> 9 | F13: ='PPTO I.E JOSE REINEL'!F10 -> 26467 | G13: ='PPTO I.E JOSE REINEL'!G10 -> 238203 | H13: =IF(F13=L13,"SI","NO") -> SI | I13: ='1-2 PRELIMINARES-DEMOLICION'!F48 -> 10200 | J13: 0 | K13: ='1-2 PRELIMINARES-DEMOLICION'!F52 -> 16267 | L13: =ROUND(SUM(I13:K13),0) -> 26467 | M13: =$E13*I13 -> 91800 | N13: =$E13*J13 -> 0 | O13: =$E13*K13 -> 146403 | P13: =SUM(M13:O13) -> 238203 | Q13: =M13*(1+$W$6) -> 119340 | R13: =N13*(1+$W$6) -> 0 | S13: =O13*(1+$W$6)*0.7 -> 133226.73 | T13: =O13*(1+$W$6)*0.3 -> 57097.17 | U13: =SUM(Q13:T13) -> 309663.9 | W13: =IF(G13=P13,"SI","NO") -> SI
B14: ='PPTO I.E JOSE REINEL'!B11 -> 2.2 | C14: ='PPTO I.E JOSE REINEL'!C11 -> Desmonte de ventanas, ventana-rejas con marco. | D14: ='PPTO I.E JOSE REINEL'!D11 -> UN | E14: ='PPTO I.E JOSE REINEL'!E11 -> 1 | F14: ='PPTO I.E JOSE REINEL'!F11 -> 14336 | G14: ='PPTO I.E JOSE REINEL'!G11 -> 14336 | H14: =IF(F14=L14,"SI","NO") -> SI | I14: ='1-2 PRELIMINARES-DEMOLICION'!F61 -> 780 | J14: 0 | K14: ='1-2 PRELIMINARES-DEMOLICION'!F65 -> 13556 | L14: =ROUND(SUM(I14:K14),0) -> 14336 | M14: =$E14*I14 -> 780 | N14: =$E14*J14 -> 0 | O14: =$E14*K14 -> 13556 | P14: =SUM(M14:O14) -> 14336 | Q14: =M14*(1+$W$6) -> 1014 | R14: =N14*(1+$W$6) -> 0 | S14: =O14*(1+$W$6)*0.7 -> 12335.96 | T14: =O14*(1+$W$6)*0.3 -> 5286.84 | U14: =SUM(Q14:T14) -> 18636.8 | W14: =IF(G14=P14,"SI","NO") -> SI
B15: ='PPTO I.E JOSE REINEL'!B12 -> 3 | C15: ='PPTO I.E JOSE REINEL'!C12 -> MAMPOSTERIA | G15: ='PPTO I.E JOSE REINEL'!G12 -> 10630817 | P15: =ROUND(SUM(P16:P17),2) -> 10630817 | Q15: =ROUND(SUM(Q16:Q17),2) -> 422962.8 | R15: =ROUND(SUM(R16:R17),2) -> 9701779.9 | S15: =ROUND(SUM(S16:S17),2) -> 2586724 | T15: =ROUND(SUM(T16:T17),2) -> 1108596 | U15: =ROUND(SUM(Q15:T15),2) -> 13820063
B16: ='PPTO I.E JOSE REINEL'!B13 -> 3.1 | C16: ='PPTO I.E JOSE REINEL'!C13 -> Construcción de Muro en ladrillo igual al existente de 30x10 de e=0.15m | D16: ='PPTO I.E JOSE REINEL'!D13 -> M2 | E16: ='PPTO I.E JOSE REINEL'!E13 -> 128.6 | F16: ='PPTO I.E JOSE REINEL'!F13 -> 79329 | G16: ='PPTO I.E JOSE REINEL'!G13 -> 10201709 | H16: =IF(F16=L16,"SI","NO") -> SI | I16: ='3-4 MAMPOSTERIA-ESTRUCTURA'!F16 -> 2460 | J16: ='3-4 MAMPOSTERIA-ESTRUCTURA'!F12 -> 56536 | K16: ='3-4 MAMPOSTERIA-ESTRUCTURA'!F20 -> 20333 | L16: =ROUND(SUM(I16:K16),0) -> 79329 | M16: =$E16*I16 -> 316356 | N16: =$E16*J16 -> 7270529.6 | O16: =$E16*K16 -> 2614823.8 | P16: =SUM(M16:O16) -> 10201709 | Q16: =M16*(1+$W$6) -> 411262.8 | R16: =N16*(1+$W$6) -> 9451688.5 | S16: =O16*(1+$W$6)*0.7 -> 2379489.7 | T16: =O16*(1+$W$6)*0.3 -> 1019781.3 | U16: =SUM(Q16:T16) -> 13262222 | W16: =IF(G16=P16,"SI","NO") -> SI
B17: ='PPTO I.E JOSE REINEL'!B14 -> 3.2 | C17: ='PPTO I.E JOSE REINEL'!C14 -> Construcción de Alfajía en concreto 3000 psi, e= 0.15x0.25 incluye acero de refuerzo de 60000 p.s.i (2ø3/8" refuerzo y e=ø1/4" c. 0,20 m) | D17: ='PPTO I.E JOSE REINEL'!D14 -> ML | E17: ='PPTO I.E JOSE REINEL'!E14 -> 6 | F17: ='PPTO I.E JOSE REINEL'!F14 -> 71518 | G17: ='PPTO I.E JOSE REINEL'!G14 -> 429108 | H17: =IF(F17=L17,"SI","NO") -> SI | I17: ='3-4 MAMPOSTERIA-ESTRUCTURA'!F34 -> 1500 | J17: ='3-4 MAMPOSTERIA-ESTRUCTURA'!F28 -> 32063 | K17: ='3-4 MAMPOSTERIA-ESTRUCTURA'!F37 -> 37955 | L17: =ROUND(SUM(I17:K17),0) -> 71518 | M17: =$E17*I17 -> 9000 | N17: =$E17*J17 -> 192378 | O17: =$E17*K17 -> 227730 | P17: =SUM(M17:O17) -> 429108 | Q17: =M17*(1+$W$6) -> 11700 | R17: =N17*(1+$W$6) -> 250091.4 | S17: =O17*(1+$W$6)*0.7 -> 207234.3 | T17: =O17*(1+$W$6)*0.3 -> 88814.7 | U17: =SUM(Q17:T17) -> 557840.4 | W17: =IF(G17=P17,"SI","NO") -> SI
B18: ='PPTO I.E JOSE REINEL'!B15 -> 4 | C18: ='PPTO I.E JOSE REINEL'!C15 -> ESTRUCTURA | G18: ='PPTO I.E JOSE REINEL'!G15 -> 2190396.4 | P18: =ROUND(SUM(P19:P20),2) -> 2190396.4 | Q18: =ROUND(SUM(Q19:Q20),2) -> 128882 | R18: =ROUND(SUM(R19:R20),2) -> 2259861 | S18: =ROUND(SUM(S19:S20),2) -> 321140.64 | T18: =ROUND(SUM(T19:T20),2) -> 137631.7 | U18: =ROUND(SUM(Q18:T18),2) -> 2847515.3
B19: ='PPTO I.E JOSE REINEL'!B16 -> 4.1 | C19: ='PPTO I.E JOSE REINEL'!C16 -> Suministro de Acero de refuerzo de 60000 p.s.i | D19: ='PPTO I.E JOSE REINEL'!D16 -> Kg | E19: ='PPTO I.E JOSE REINEL'!E16 -> 250 | F19: ='PPTO I.E JOSE REINEL'!F16 -> 7599 | G19: ='PPTO I.E JOSE REINEL'!G16 -> 1899750 | H19: =IF(F19=L19,"SI","NO") -> SI | I19: ='3-4 MAMPOSTERIA-ESTRUCTURA'!F51 -> 380 | J19: ='3-4 MAMPOSTERIA-ESTRUCTURA'!F47 -> 6406 | K19: ='3-4 MAMPOSTERIA-ESTRUCTURA'!F55 -> 813 | L19: =ROUND(SUM(I19:K19),0) -> 7599 | M19: =$E19*I19 -> 95000 | N19: =$E19*J19 -> 1601500 | O19: =$E19*K19 -> 203250 | P19: =SUM(M19:O19) -> 1899750 | Q19: =M19*(1+$W$6) -> 123500 | R19: =N19*(1+$W$6) -> 2081950 | S19: =O19*(1+$W$6)*0.7 -> 184957.5 | T19: =O19*(1+$W$6)*0.3 -> 79267.5 | U19: =SUM(Q19:T19) -> 2469675 | W19: =IF(G19=P19,"SI","NO") -> SI
B20: ='PPTO I.E JOSE REINEL'!B17 -> 4.2 | C20: ='PPTO I.E JOSE REINEL'!C17 -> Construcción de Dintel en concreto 0.15x0.12m, incl. Acero | D20: ='PPTO I.E JOSE REINEL'!D17 -> ML | E20: ='PPTO I.E JOSE REINEL'!E17 -> 4.6 | F20: ='PPTO I.E JOSE REINEL'!F17 -> 63184 | G20: ='PPTO I.E JOSE REINEL'!G17 -> 290646.4 | H20: =IF(F20=L20,"SI","NO") -> SI | I20: ='3-4 MAMPOSTERIA-ESTRUCTURA'!F69 -> 900 | J20: ='3-4 MAMPOSTERIA-ESTRUCTURA'!F63 -> 29751 | K20: ='3-4 MAMPOSTERIA-ESTRUCTURA'!F72 -> 32533 | L20: =ROUND(SUM(I20:K20),0) -> 63184 | M20: =$E20*I20 -> 4140 | N20: =$E20*J20 -> 136854.6 | O20: =$E20*K20 -> 149651.8 | P20: =SUM(M20:O20) -> 290646.4 | Q20: =M20*(1+$W$6) -> 5382 | R20: =N20*(1+$W$6) -> 177910.98 | S20: =O20*(1+$W$6)*0.7 -> 136183.14 | T20: =O20*(1+$W$6)*0.3 -> 58364.2 | U20: =SUM(Q20:T20) -> 377840.32 | W20: =IF(G20=P20,"SI","NO") -> SI
B21: ='PPTO I.E JOSE REINEL'!B18 -> 5 | C21: ='PPTO I.E JOSE REINEL'!C18 -> INSTALACIONES ELÉCTRICAS | G21: ='PPTO I.E JOSE REINEL'!G18 -> 12696205 | P21: =ROUND(SUM(P22:P31),2) -> 12696205 | Q21: =ROUND(SUM(Q22:Q31),2) -> 198900 | R21: =ROUND(SUM(R22:R31),2) -> 10950105 | S21: =ROUND(SUM(S22:S31),2) -> 3749242.8 | T21: =ROUND(SUM(T22:T31),2) -> 1606818.3 | U21: =ROUND(SUM(Q21:T21),2) -> 16505066
B22: ='PPTO I.E JOSE REINEL'!B19 -> 5.1 | C22: ='PPTO I.E JOSE REINEL'!C19 -> Suministro e Instalación de Tablero de automáticos 12 circuitos.Incluye Tacos. | D22: ='PPTO I.E JOSE REINEL'!D19 -> UN | E22: ='PPTO I.E JOSE REINEL'!E19 -> 1 | F22: ='PPTO I.E JOSE REINEL'!F19 -> 631358 | G22: ='PPTO I.E JOSE REINEL'!G19 -> 631358 | H22: =IF(F22=L22,"SI","NO") -> SI | I22: ='5 ELECTRICAS'!F16 -> 18000 | J22: ='5 ELECTRICAS'!F12 -> 410000 | K22: ='5 ELECTRICAS'!F19 -> 203358 | L22: =ROUND(SUM(I22:K22),0) -> 631358 | M22: =$E22*I22 -> 18000 | N22: =$E22*J22 -> 410000 | O22: =$E22*K22 -> 203358 | P22: =SUM(M22:O22) -> 631358 | Q22: =M22*(1+$W$6) -> 23400 | R22: =N22*(1+$W$6) -> 533000 | S22: =O22*(1+$W$6)*0.7 -> 185055.78 | T22: =O22*(1+$W$6)*0.3 -> 79309.62 | U22: =SUM(Q22:T22) -> 820765.4 | W22: =IF(G22=P22,"SI","NO") -> SI
B23: ='PPTO I.E JOSE REINEL'!B20 -> 5.2 | C23: ='PPTO I.E JOSE REINEL'!C20 -> Suministro e Instalación de Salida bifásica | D23: ='PPTO I.E JOSE REINEL'!D20 -> UN | E23: ='PPTO I.E JOSE REINEL'!E20 -> 12 | F23: ='PPTO I.E JOSE REINEL'!F20 -> 118293 | G23: ='PPTO I.E JOSE REINEL'!G20 -> 1419516 | H23: =IF(F23=L23,"SI","NO") -> SI | I23: ='5 ELECTRICAS'!F35 -> 900 | J23: ='5 ELECTRICAS'!F27 -> 89198 | K23: ='5 ELECTRICAS'!F38 -> 28195 | L23: =ROUND(SUM(I23:K23),0) -> 118293 | M23: =$E23*I23 -> 10800 | N23: =$E23*J23 -> 1070376 | O23: =$E23*K23 -> 338340 | P23: =SUM(M23:O23) -> 1419516 | Q23: =M23*(1+$W$6) -> 14040 | R23: =N23*(1+$W$6) -> 1391488.8 | S23: =O23*(1+$W$6)*0.7 -> 307889.4 | T23: =O23*(1+$W$6)*0.3 -> 131952.6 | U23: =SUM(Q23:T23) -> 1845370.8 | W23: =IF(G23=P23,"SI","NO") -> SI
B24: ='PPTO I.E JOSE REINEL'!B21 -> 5.3 | C24: ='PPTO I.E JOSE REINEL'!C21 -> Suministro e Instalación de Salida toma corriente doble 110v | D24: ='PPTO I.E JOSE REINEL'!D21 -> UN | E24: ='PPTO I.E JOSE REINEL'!E21 -> 12 | F24: ='PPTO I.E JOSE REINEL'!F21 -> 67596 | G24: ='PPTO I.E JOSE REINEL'!G21 -> 811152 | H24: =IF(F24=L24,"SI","NO") -> SI | I24: ='5 ELECTRICAS'!F58 -> 600 | J24: ='5 ELECTRICAS'!F47 -> 42325 | K24: ='5 ELECTRICAS'!F61 -> 24671 | L24: =ROUND(SUM(I24:K24),0) -> 67596 | M24: =$E24*I24 -> 7200 | N24: =$E24*J24 -> 507900 | O24: =$E24*K24 -> 296052 | P24: =SUM(M24:O24) -> 811152 | Q24: =M24*(1+$W$6) -> 9360 | R24: =N24*(1+$W$6) -> 660270 | S24: =O24*(1+$W$6)*0.7 -> 269407.32 | T24: =O24*(1+$W$6)*0.3 -> 115460.28 | U24: =SUM(Q24:T24) -> 1054497.6 | W24: =IF(G24=P24,"SI","NO") -> SI
B25: ='PPTO I.E JOSE REINEL'!B22 -> 5.4 | C25: ='PPTO I.E JOSE REINEL'!C22 -> Suministro e Instalación de luminaria panel LED de 0.6x0.6 incluye conectores de resorte cinta, accesorios de fijaciòn y soporte, instalado según reglamento NTC 2050 | D25: ='PPTO I.E JOSE REINEL'!D22 -> UN | E25: ='PPTO I.E JOSE REINEL'!E22 -> 18 | F25: ='PPTO I.E JOSE REINEL'!F22 -> 173984 | G25: ='PPTO I.E JOSE REINEL'!G22 -> 3131712 | H25: =IF(F25=L25,"SI","NO") -> SI | I25: ='5 ELECTRICAS'!F76 -> 900 | J25: ='5 ELECTRICAS'!F69 -> 113169 | K25: ='5 ELECTRICAS'!F79 -> 59915 | L25: =ROUND(SUM(I25:K25),0) -> 173984 | M25: =$E25*I25 -> 16200 | N25: =$E25*J25 -> 2037042 | O25: =$E25*K25 -> 1078470 | P25: =SUM(M25:O25) -> 3131712 | Q25: =M25*(1+$W$6) -> 21060 | R25: =N25*(1+$W$6) -> 2648154.6 | S25: =O25*(1+$W$6)*0.7 -> 981407.7 | T25: =O25*(1+$W$6)*0.3 -> 420603.3 | U25: =SUM(Q25:T25) -> 4071225.6 | W25: =IF(G25=P25,"SI","NO") -> SI
B26: ='PPTO I.E JOSE REINEL'!B23 -> 5.5 | C26: ='PPTO I.E JOSE REINEL'!C23 -> Suministro e instalación de Puesta a tierra de tablero de distribución, polo a tierra, varilla c. W. 2,40 ml | D26: ='PPTO I.E JOSE REINEL'!D23 -> UN | E26: ='PPTO I.E JOSE REINEL'!E23 -> 1 | F26: ='PPTO I.E JOSE REINEL'!F23 -> 196275 | G26: ='PPTO I.E JOSE REINEL'!G23 -> 196275 | H26: =IF(F26=L26,"SI","NO") -> SI | I26: ='5 ELECTRICAS'!F94 -> 3000 | J26: ='5 ELECTRICAS'!F88 -> 115738 | K26: ='5 ELECTRICAS'!F97 -> 77537 | L26: =ROUND(SUM(I26:K26),0) -> 196275 | M26: =$E26*I26 -> 3000 | N26: =$E26*J26 -> 115738 | O26: =$E26*K26 -> 77537 | P26: =SUM(M26:O26) -> 196275 | Q26: =M26*(1+$W$6) -> 3900 | R26: =N26*(1+$W$6) -> 150459.4 | S26: =O26*(1+$W$6)*0.7 -> 70558.67 | T26: =O26*(1+$W$6)*0.3 -> 30239.43 | U26: =SUM(Q26:T26) -> 255157.5 | W26: =IF(G26=P26,"SI","NO") -> SI
B27: ='PPTO I.E JOSE REINEL'!B24 -> 5.6 | C27: ='PPTO I.E JOSE REINEL'!C24 -> Red electrica en tuberia pvc de 1/2", incluye 2 No 12 , para luminarias | D27: ='PPTO I.E JOSE REINEL'!D24 -> ML | E27: ='PPTO I.E JOSE REINEL'!E24 -> 80 | F27: ='PPTO I.E JOSE REINEL'!F24 -> 43951 | G27: ='PPTO I.E JOSE REINEL'!G24 -> 3516080 | H27: =IF(F27=L27,"SI","NO") -> SI | I27: ='5 ELECTRICAS'!F114 -> 900 | J27: ='5 ELECTRICAS'!F105 -> 26275 | K27: ='5 ELECTRICAS'!F117 -> 16776 | L27: =ROUND(SUM(I27:K27),0) -> 43951 | M27: =$E27*I27 -> 72000 | N27: =$E27*J27 -> 2102000 | O27: =$E27*K27 -> 1342080 | P27: =SUM(M27:O27) -> 3516080 | Q27: =M27*(1+$W$6) -> 93600 | R27: =N27*(1+$W$6) -> 2732600 | S27: =O27*(1+$W$6)*0.7 -> 1221292.8 | T27: =O27*(1+$W$6)*0.3 -> 523411.2 | U27: =SUM(Q27:T27) -> 4570904 | W27: =IF(G27=P27,"SI","NO") -> SI
B28: ='PPTO I.E JOSE REINEL'!B25 -> 5.7 | C28: ='PPTO I.E JOSE REINEL'!C25 -> Instalacion salida interruptor doble 110 V | D28: ='PPTO I.E JOSE REINEL'!D25 -> UN | E28: ='PPTO I.E JOSE REINEL'!E25 -> 3 | F28: ='PPTO I.E JOSE REINEL'!F25 -> 62428 | G28: ='PPTO I.E JOSE REINEL'!G25 -> 187284 | H28: =IF(F28=L28,"SI","NO") -> SI | I28: ='5 ELECTRICAS'!F136 -> 600 | J28: ='5 ELECTRICAS'!F126 -> 49486 | K28: ='5 ELECTRICAS'!F139 -> 12342 | L28: =ROUND(SUM(I28:K28),0) -> 62428 | M28: =$E28*I28 -> 1800 | N28: =$E28*J28 -> 148458 | O28: =$E28*K28 -> 37026 | P28: =SUM(M28:O28) -> 187284 | Q28: =M28*(1+$W$6) -> 2340 | R28: =N28*(1+$W$6) -> 192995.4 | S28: =O28*(1+$W$6)*0.7 -> 33693.66 | T28: =O28*(1+$W$6)*0.3 -> 14440.14 | U28: =SUM(Q28:T28) -> 243469.2 | W28: =IF(G28=P28,"SI","NO") -> SI
B29: ='PPTO I.E JOSE REINEL'!B26 -> 5.8 | C29: ='PPTO I.E JOSE REINEL'!C26 -> Red electrica en tuberia pvc de 1/2", incluye 1 linea No 12 + 1 neutro No 12 + 1 Linea No 12 | D29: ='PPTO I.E JOSE REINEL'!D26 -> ML | E29: ='PPTO I.E JOSE REINEL'!E26 -> 10 | F29: ='PPTO I.E JOSE REINEL'!F26 -> 47019 | G29: ='PPTO I.E JOSE REINEL'!G26 -> 470190 | H29: =IF(F29=L29,"SI","NO") -> SI | I29: ='5 ELECTRICAS'!F156 -> 600 | J29: ='5 ELECTRICAS'!F147 -> 26682 | K29: ='5 ELECTRICAS'!F159 -> 19737 | L29: =ROUND(SUM(I29:K29),0) -> 47019 | M29: =$E29*I29 -> 6000 | N29: =$E29*J29 -> 266820 | O29: =$E29*K29 -> 197370 | P29: =SUM(M29:O29) -> 470190 | Q29: =M29*(1+$W$6) -> 7800 | R29: =N29*(1+$W$6) -> 346866 | S29: =O29*(1+$W$6)*0.7 -> 179606.7 | T29: =O29*(1+$W$6)*0.3 -> 76974.3 | U29: =SUM(Q29:T29) -> 611247 | W29: =IF(G29=P29,"SI","NO") -> SI
B30: ='PPTO I.E JOSE REINEL'!B27 -> 5.9 | C30: ='PPTO I.E JOSE REINEL'!C27 -> Red electrica en tuberia EMT de 1/2", incluye 1 linea No 12 + 1 neutro No 12 + 1 Linea No 12 | D30: ='PPTO I.E JOSE REINEL'!D27 -> ML | E30: ='PPTO I.E JOSE REINEL'!E27 -> 20 | F30: ='PPTO I.E JOSE REINEL'!F27 -> 53133 | G30: ='PPTO I.E JOSE REINEL'!G27 -> 1062660 | H30: =IF(F30=L30,"SI","NO") -> SI | I30: ='5 ELECTRICAS'!F177 -> 600 | J30: ='5 ELECTRICAS'!F168 -> 32796 | K30: ='5 ELECTRICAS'!F180 -> 19737 | L30: =ROUND(SUM(I30:K30),0) -> 53133 | M30: =$E30*I30 -> 12000 | N30: =$E30*J30 -> 655920 | O30: =$E30*K30 -> 394740 | P30: =SUM(M30:O30) -> 1062660 | Q30: =M30*(1+$W$6) -> 15600 | R30: =N30*(1+$W$6) -> 852696 | S30: =O30*(1+$W$6)*0.7 -> 359213.4 | T30: =O30*(1+$W$6)*0.3 -> 153948.6 | U30: =SUM(Q30:T30) -> 1381458 | W30: =IF(G30=P30,"SI","NO") -> SI
B31: ='PPTO I.E JOSE REINEL'!B28 -> 5.10 | C31: ='PPTO I.E JOSE REINEL'!C28 -> Suministro e Instalación de Acometida eléctrica bifasica trifilar | D31: ='PPTO I.E JOSE REINEL'!D28 -> UN | E31: ='PPTO I.E JOSE REINEL'!E28 -> 1 | F31: ='PPTO I.E JOSE REINEL'!F28 -> 1269978 | G31: ='PPTO I.E JOSE REINEL'!G28 -> 1269978 | H31: =IF(F31=L31,"SI","NO") -> SI | I31: ='5 ELECTRICAS'!F203 -> 6000 | J31: ='5 ELECTRICAS'!F188 -> 1108904 | K31: ='5 ELECTRICAS'!F206 -> 155074 | L31: =ROUND(SUM(I31:K31),0) -> 1269978 | M31: =$E31*I31 -> 6000 | N31: =$E31*J31 -> 1108904 | O31: =$E31*K31 -> 155074 | P31: =SUM(M31:O31) -> 1269978 | Q31: =M31*(1+$W$6) -> 7800 | R31: =N31*(1+$W$6) -> 1441575.2 | S31: =O31*(1+$W$6)*0.7 -> 141117.34 | T31: =O31*(1+$W$6)*0.3 -> 60478.86 | U31: =SUM(Q31:T31) -> 1650971.4 | W31: =IF(G31=P31,"SI","NO") -> SI
B32: ='PPTO I.E JOSE REINEL'!B29 -> 6 | C32: ='PPTO I.E JOSE REINEL'!C29 -> PAÑETES E IMPERMEABILIZACION | G32: ='PPTO I.E JOSE REINEL'!G29 -> 10143283 | P32: =ROUND(SUM(P33:P36),2) -> 10143283 | Q32: =ROUND(SUM(Q33:Q36),2) -> 1101331.1 | R32: =ROUND(SUM(R33:R36),2) -> 8784640.9 | S32: =ROUND(SUM(S33:S36),2) -> 2310206.9 | T32: =ROUND(SUM(T33:T36),2) -> 990088.67 | U32: =ROUND(SUM(Q32:T32),2) -> 13186268
B33: ='PPTO I.E JOSE REINEL'!B30 -> 6.1 | C33: ='PPTO I.E JOSE REINEL'!C30 -> Suministro y Aplicación de Pañete muros 1:4; incluye filo y dilataciones | D33: ='PPTO I.E JOSE REINEL'!D30 -> M2 | E33: ='PPTO I.E JOSE REINEL'!E30 -> 10 | F33: ='PPTO I.E JOSE REINEL'!F30 -> 27145 | G33: ='PPTO I.E JOSE REINEL'!G30 -> 271450 | H33: =IF(F33=L33,"SI","NO") -> SI | I33: ='6-7-8 PAÑETES-CUBIERTA-'!F15 -> 4440 | J33: ='6-7-8 PAÑETES-CUBIERTA-'!F12 -> 9149 | K33: ='6-7-8 PAÑETES-CUBIERTA-'!F19 -> 13556 | L33: =ROUND(SUM(I33:K33),0) -> 27145 | M33: =$E33*I33 -> 44400 | N33: =$E33*J33 -> 91490 | O33: =$E33*K33 -> 135560 | P33: =SUM(M33:O33) -> 271450 | Q33: =M33*(1+$W$6) -> 57720 | R33: =N33*(1+$W$6) -> 118937 | S33: =O33*(1+$W$6)*0.7 -> 123359.6 | T33: =O33*(1+$W$6)*0.3 -> 52868.4 | U33: =SUM(Q33:T33) -> 352885 | W33: =IF(G33=P33,"SI","NO") -> SI
B34: ='PPTO I.E JOSE REINEL'!B31 -> 6.2 | C34: ='PPTO I.E JOSE REINEL'!C31 -> Suministro y Aplicación de Alistado pendientado en mortero para placa | D34: ='PPTO I.E JOSE REINEL'!D31 -> M2 | E34: ='PPTO I.E JOSE REINEL'!E31 -> 122.73 | F34: ='PPTO I.E JOSE REINEL'!F31 -> 64023 | G34: ='PPTO I.E JOSE REINEL'!G31 -> 7857542.8 | H34: =IF(F34=L34,"SI","NO") -> SI | I34: ='6-7-8 PAÑETES-CUBIERTA-'!F30 -> 1860 | J34: ='6-7-8 PAÑETES-CUBIERTA-'!F27 -> 45896 | K34: ='6-7-8 PAÑETES-CUBIERTA-'!F34 -> 16267 | L34: =ROUND(SUM(I34:K34),0) -> 64023 | M34: =$E34*I34 -> 228277.8 | N34: =$E34*J34 -> 5632816.1 | O34: =$E34*K34 -> 1996448.9 | P34: =SUM(M34:O34) -> 7857542.8 | Q34: =M34*(1+$W$6) -> 296761.14 | R34: =N34*(1+$W$6) -> 7322660.9 | S34: =O34*(1+$W$6)*0.7 -> 1816768.5 | T34: =O34*(1+$W$6)*0.3 -> 778615.07 | U34: =SUM(Q34:T34) -> 10214806 | W34: =IF(G34=P34,"SI","NO") -> SI
B35: ='PPTO I.E JOSE REINEL'!B32 -> 6.3 | C35: ='PPTO I.E JOSE REINEL'!C32 -> Suministro y Aplicación de Pañete impermeabilizado 1:4 | D35: ='PPTO I.E JOSE REINEL'!D32 -> M2 | E35: ='PPTO I.E JOSE REINEL'!E32 -> 10 | F35: ='PPTO I.E JOSE REINEL'!F32 -> 34561 | G35: ='PPTO I.E JOSE REINEL'!G32 -> 345610 | H35: =IF(F35=L35,"SI","NO") -> SI | I35: ='6-7-8 PAÑETES-CUBIERTA-'!F45 -> 450 | J35: ='6-7-8 PAÑETES-CUBIERTA-'!F42 -> 20555 | K35: ='6-7-8 PAÑETES-CUBIERTA-'!F48 -> 13556 | L35: =ROUND(SUM(I35:K35),0) -> 34561 | M35: =$E35*I35 -> 4500 | N35: =$E35*J35 -> 205550 | O35: =$E35*K35 -> 135560 | P35: =SUM(M35:O35) -> 345610 | Q35: =M35*(1+$W$6) -> 5850 | R35: =N35*(1+$W$6) -> 267215 | S35: =O35*(1+$W$6)*0.7 -> 123359.6 | T35: =O35*(1+$W$6)*0.3 -> 52868.4 | U35: =SUM(Q35:T35) -> 449293 | W35: =IF(G35=P35,"SI","NO") -> SI
B36: ='PPTO I.E JOSE REINEL'!B33 -> 6.4 | C36: ='PPTO I.E JOSE REINEL'!C33 -> Suministro e Impermeabilización manto zetal 600 terraza | D36: ='PPTO I.E JOSE REINEL'!D33 -> M2 | E36: ='PPTO I.E JOSE REINEL'!E33 -> 20 | F36: ='PPTO I.E JOSE REINEL'!F33 -> 83434 | G36: ='PPTO I.E JOSE REINEL'!G33 -> 1668680 | H36: =IF(F36=L36,"SI","NO") -> SI | I36: ='6-7-8 PAÑETES-CUBIERTA-'!F61 -> 28500 | J36: ='6-7-8 PAÑETES-CUBIERTA-'!F57 -> 41378 | K36: ='6-7-8 PAÑETES-CUBIERTA-'!F65 -> 13556 | L36: =ROUND(SUM(I36:K36),0) -> 83434 | M36: =$E36*I36 -> 570000 | N36: =$E36*J36 -> 827560 | O36: =$E36*K36 -> 271120 | P36: =SUM(M36:O36) -> 1668680 | Q36: =M36*(1+$W$6) -> 741000 | R36: =N36*(1+$W$6) -> 1075828 | S36: =O36*(1+$W$6)*0.7 -> 246719.2 | T36: =O36*(1+$W$6)*0.3 -> 105736.8 | U36: =SUM(Q36:T36) -> 2169284 | W36: =IF(G36=P36,"SI","NO") -> SI
B37: ='PPTO I.E JOSE REINEL'!B34 -> 7 | C37: ='PPTO I.E JOSE REINEL'!C34 -> CUBIERTAS | G37: ='PPTO I.E JOSE REINEL'!G34 -> 6365326 | P37: =ROUND(SUM(P38:P41),2) -> 6365326 | Q37: =ROUND(SUM(Q38:Q41),2) -> 550875 | R37: =ROUND(SUM(R38:R41),2) -> 4996169.1 | S37: =ROUND(SUM(S38:S41),2) -> 1909515.8 | T37: =ROUND(SUM(T38:T41),2) -> 818363.91 | U37: =ROUND(SUM(Q37:T37),2) -> 8274923.8
B38: ='PPTO I.E JOSE REINEL'!B35 -> 7.1 | C38: ='PPTO I.E JOSE REINEL'!C35 -> Suministro e instalación de Cubierta en teja con trapecios, valles h=35mm cal.28, color, 1080 mm ancho total, incluye tornillos fijadores. | D38: ='PPTO I.E JOSE REINEL'!D35 -> M2 | E38: ='PPTO I.E JOSE REINEL'!E35 -> 40.5 | F38: ='PPTO I.E JOSE REINEL'!F35 -> 75678 | G38: ='PPTO I.E JOSE REINEL'!G35 -> 3064959 | H38: =IF(F38=L38,"SI","NO") -> SI | I38: ='6-7-8 PAÑETES-CUBIERTA-'!F81 -> 3900 | J38: ='6-7-8 PAÑETES-CUBIERTA-'!F76 -> 60934 | K38: ='6-7-8 PAÑETES-CUBIERTA-'!F85 -> 10844 | L38: =ROUND(SUM(I38:K38),0) -> 75678 | M38: =$E38*I38 -> 157950 | N38: =$E38*J38 -> 2467827 | O38: =$E38*K38 -> 439182 | P38: =SUM(M38:O38) -> 3064959 | Q38: =M38*(1+$W$6) -> 205335 | R38: =N38*(1+$W$6) -> 3208175.1 | S38: =O38*(1+$W$6)*0.7 -> 399655.62 | T38: =O38*(1+$W$6)*0.3 -> 171280.98 | U38: =SUM(Q38:T38) -> 3984446.7 | W38: =IF(G38=P38,"SI","NO") -> SI
B39: ='PPTO I.E JOSE REINEL'!B36 -> 7.2 | C39: ='PPTO I.E JOSE REINEL'!C36 -> Suministro e Instalación de Flanche remate cubierta | D39: ='PPTO I.E JOSE REINEL'!D36 -> ML | E39: ='PPTO I.E JOSE REINEL'!E36 -> 14 | F39: ='PPTO I.E JOSE REINEL'!F36 -> 21893 | G39: ='PPTO I.E JOSE REINEL'!G36 -> 306502 | H39: =IF(F39=L39,"SI","NO") -> SI | I39: ='6-7-8 PAÑETES-CUBIERTA-'!F98 -> 1200 | J39: ='6-7-8 PAÑETES-CUBIERTA-'!F94 -> 12560 | K39: ='6-7-8 PAÑETES-CUBIERTA-'!F101 -> 8133 | L39: =ROUND(SUM(I39:K39),0) -> 21893 | M39: =$E39*I39 -> 16800 | N39: =$E39*J39 -> 175840 | O39: =$E39*K39 -> 113862 | P39: =SUM(M39:O39) -> 306502 | Q39: =M39*(1+$W$6) -> 21840 | R39: =N39*(1+$W$6) -> 228592 | S39: =O39*(1+$W$6)*0.7 -> 103614.42 | T39: =O39*(1+$W$6)*0.3 -> 44406.18 | U39: =SUM(Q39:T39) -> 398452.6 | W39: =IF(G39=P39,"SI","NO") -> SI
B40: ='PPTO I.E JOSE REINEL'!B37 -> 7.3 | C40: ='PPTO I.E JOSE REINEL'!C37 -> Suministro e Instalación de Cercha para cubierta en perfil metalico | D40: ='PPTO I.E JOSE REINEL'!D37 -> ML | E40: ='PPTO I.E JOSE REINEL'!E37 -> 15 | F40: ='PPTO I.E JOSE REINEL'!F37 -> 152521 | G40: ='PPTO I.E JOSE REINEL'!G37 -> 2287815 | H40: =IF(F40=L40,"SI","NO") -> SI | I40: ='6-7-8 PAÑETES-CUBIERTA-'!F116 -> 15600 | J40: ='6-7-8 PAÑETES-CUBIERTA-'!F109 -> 55588 | K40: ='6-7-8 PAÑETES-CUBIERTA-'!F121 -> 81333 | L40: =ROUND(SUM(I40:K40),0) -> 152521 | M40: =$E40*I40 -> 234000 | N40: =$E40*J40 -> 833820 | O40: =$E40*K40 -> 1219995 | P40: =SUM(M40:O40) -> 2287815 | Q40: =M40*(1+$W$6) -> 304200 | R40: =N40*(1+$W$6) -> 1083966 | S40: =O40*(1+$W$6)*0.7 -> 1110195.4 | T40: =O40*(1+$W$6)*0.3 -> 475798.05 | U40: =SUM(Q40:T40) -> 2974159.5 | W40: =IF(G40=P40,"SI","NO") -> SI
B41: ='PPTO I.E JOSE REINEL'!B38 -> 7.4 | C41: ='PPTO I.E JOSE REINEL'!C38 -> Instalación de Canal en lámina galvanizada cal. 22; ds=50 | D41: ='PPTO I.E JOSE REINEL'!D38 -> ML | E41: ='PPTO I.E JOSE REINEL'!E38 -> 10 | F41: ='PPTO I.E JOSE REINEL'!F38 -> 70605 | G41: ='PPTO I.E JOSE REINEL'!G38 -> 706050 | H41: =IF(F41=L41,"SI","NO") -> SI | I41: ='6-7-8 PAÑETES-CUBIERTA-'!F135 -> 1500 | J41: ='6-7-8 PAÑETES-CUBIERTA-'!F129 -> 36572 | K41: ='6-7-8 PAÑETES-CUBIERTA-'!F138 -> 32533 | L41: =ROUND(SUM(I41:K41),0) -> 70605 | M41: =$E41*I41 -> 15000 | N41: =$E41*J41 -> 365720 | O41: =$E41*K41 -> 325330 | P41: =SUM(M41:O41) -> 706050 | Q41: =M41*(1+$W$6) -> 19500 | R41: =N41*(1+$W$6) -> 475436 | S41: =O41*(1+$W$6)*0.7 -> 296050.3 | T41: =O41*(1+$W$6)*0.3 -> 126878.7 | U41: =SUM(Q41:T41) -> 917865 | W41: =IF(G41=P41,"SI","NO") -> SI
B42: ='PPTO I.E JOSE REINEL'!B39 -> 8 | C42: ='PPTO I.E JOSE REINEL'!C39 -> ACABADOS | G42: ='PPTO I.E JOSE REINEL'!G39 -> 7918979.9 | P42: =ROUND(SUM(P43:P44),2) -> 7918979.9 | Q42: =ROUND(SUM(Q43:Q44),2) -> 254958.6 | R42: =ROUND(SUM(R43:R44),2) -> 7728524 | S42: =ROUND(SUM(S43:S44),2) -> 1617833.9 | T42: =ROUND(SUM(T43:T44),2) -> 693357.37 | U42: =ROUND(SUM(Q42:T42),2) -> 10294674
...

Sheet ROTULOS
B2: DEPARTAMENTO DEL HUILA
B3: MUNICIPIO DE PALERMO
B4: AMPLIACIÓN DE LA SEDE PRINCIPAL DE LA INSTITUCION EDUCATIVA JOSÉ REINEL DEL MUNICIPIO DE PALERMO HUILA
B6: FECHA PRESENTACION: | C6: NOVIEMBRE DE 2025
B7: DEPARTAMENTO | C7: HUILA
B8: CONTRATANTE | C8: MUNICIPIO DE PALERMO
B9: DEPENDENCIA ENCARGADA | C9: SECRETARÍA DE PLANEACIÓN E INFRAESTRUCTURA
B10: NOMBRE DEL PROYECTO: | C10: AMPLIACIÓN DE LA SEDE PRINCIPAL DE LA INSTITUCIÓN EDUCATIVA JOSÉ REINEL CERQUERA DEL MUNICIPIO DE PALERMO HUILA
B11: PROYECTO / FORMULADOR | C11: ING. YOALVETH LOZANO LOSADA
B12: CARGO | C12: Profesional Universitario de Apoyo Técnico
B13: MATRICULA PROFESIONAL | C13: M.P 70202-137680 TLM
B14: PROFESIÓN | C14: Ingeniero Civil
B16: REVISÓ | C16: Ing. Jesus Maria Lozada Camacho
B17: CARGO | C17: Secretario de Planeación e Infraestructura

Sheet PPTO I.E JOSE REINEL
B3: =ROTULOS!B4 -> AMPLIACIÓN DE LA SEDE PRINCIPAL DE LA INSTITUCION EDUCATIVA JOSÉ REINEL DEL MUNICIPIO DE PALERMO HUILA
B4: PRESUPUESTO GENERAL | F4: FECHA | G4: =ROTULOS!C6 -> NOVIEMBRE DE 2025
B5: ITEM | C5: DESCRIPCIÓN | D5: UNIDAD | E5: CANTIDAD | F5: VR. UNT. | G5: VR. PARCIAL
B6: 1 | C6: PRELIMINARES | G6: =SUM(G7:G8) -> 1084580 | J6: =ROUND(G6*1.3,2) -> 1409954
B7: 1.1 | C7: Suministro e instalación de cerca en lona verde h=2.10 m | D7: ML | E7: ='MEMORIA DE CANTIDADES'!H13 -> 20 | F7: ='1-2 PRELIMINARES-DEMOLICION'!F$25 -> 28711 | G7: =E7*F7 -> 574220
B8: 1.2 | C8: Desmonte de manto zetal existene | D8: M2 | E8: ='MEMORIA DE CANTIDADES'!H19 -> 42.53 | F8: ='1-2 PRELIMINARES-DEMOLICION'!F40 -> 12000 | G8: =E8*F8 -> 510360
B9: 2 | C9: DEMOLICIONES Y DESMONTE DE ELEMENTOS | G9: =SUM(G10:G11) -> 252539 | J9: =ROUND(G9*1.3,2) -> 328300.7
B10: 2.1 | C10: Demolición muros e-0.15m, con retiro | D10: M2 | E10: =+'MEMORIA DE CANTIDADES'!H26 -> 9 | F10: ='1-2 PRELIMINARES-DEMOLICION'!F$55 -> 26467 | G10: =E10*F10 -> 238203
B11: 2.2 | C11: Desmonte de ventanas, ventana-rejas con marco. | D11: UN | E11: =+'MEMORIA DE CANTIDADES'!H32 -> 1 | F11: ='1-2 PRELIMINARES-DEMOLICION'!F$68 -> 14336 | G11: =E11*F11 -> 14336
B12: 3 | C12: MAMPOSTERIA | G12: =SUM(G13:G14) -> 10630817 | J12: =ROUND(G12*1.3,2) -> 13820063
B13: 3.1 | C13: Construcción de Muro en ladrillo igual al existente de 30x10 de e=0.15m | D13: M2 | E13: =+'MEMORIA DE CANTIDADES'!H50 -> 128.6 | F13: ='3-4 MAMPOSTERIA-ESTRUCTURA'!F$23 -> 79329 | G13: =E13*F13 -> 10201709
B14: 3.2 | C14: Construcción de Alfajía en concreto 3000 psi, e= 0.15x0.25 incluye acero de refuerzo de 60000 p.s.i (2ø3/8" refuerzo y e=ø1/4" c. 0,20 m) | D14: ML | E14: =+'MEMORIA DE CANTIDADES'!H56 -> 6 | F14: ='3-4 MAMPOSTERIA-ESTRUCTURA'!F$40 -> 71518 | G14: =E14*F14 -> 429108
B15: 4 | C15: ESTRUCTURA | G15: =SUM(G16:G17) -> 2190396.4 | J15: =ROUND(G15*1.3,2) -> 2847515.3
B16: 4.1 | C16: Suministro de Acero de refuerzo de 60000 p.s.i | D16: Kg | E16: ='MEMORIA DE CANTIDADES'!H63 -> 250 | F16: ='3-4 MAMPOSTERIA-ESTRUCTURA'!F$58 -> 7599 | G16: =E16*F16 -> 1899750
B17: 4.2 | C17: Construcción de Dintel en concreto 0.15x0.12m, incl. Acero | D17: ML | E17: ='MEMORIA DE CANTIDADES'!H69 -> 4.6 | F17: ='3-4 MAMPOSTERIA-ESTRUCTURA'!F$75 -> 63184 | G17: =E17*F17 -> 290646.4
B18: 5 | C18: INSTALACIONES ELÉCTRICAS | G18: =SUM(G19:G28) -> 12696205 | J18: =ROUND(G18*1.3,2) -> 16505066
B19: 5.1 | C19: Suministro e Instalación de Tablero de automáticos 12 circuitos.Incluye Tacos. | D19: UN | E19: ='MEMORIA DE CANTIDADES'!H76 -> 1 | F19: ='5 ELECTRICAS'!F$22 -> 631358 | G19: =E19*F19 -> 631358
B20: 5.2 | C20: Suministro e Instalación de Salida bifásica | D20: UN | E20: ='MEMORIA DE CANTIDADES'!H82 -> 12 | F20: ='5 ELECTRICAS'!F$41 -> 118293 | G20: =E20*F20 -> 1419516
B21: 5.3 | C21: Suministro e Instalación de Salida toma corriente doble 110v | D21: UN | E21: ='MEMORIA DE CANTIDADES'!H88 -> 12 | F21: ='5 ELECTRICAS'!F$64 -> 67596 | G21: =E21*F21 -> 811152
B22: 5.4 | C22: Suministro e Instalación de luminaria panel LED de 0.6x0.6 incluye conectores de resorte cinta, accesorios de fijaciòn y soporte, instalado según reglamento NTC 2050 | D22: UN | E22: ='MEMORIA DE CANTIDADES'!H94 -> 18 | F22: ='5 ELECTRICAS'!F$82 -> 173984 | G22: =E22*F22 -> 3131712
B23: 5.5 | C23: Suministro e instalación de Puesta a tierra de tablero de distribución, polo a tierra, varilla c. W. 2,40 ml | D23: UN | E23: ='MEMORIA DE CANTIDADES'!H100 -> 1 | F23: ='5 ELECTRICAS'!F$100 -> 196275 | G23: =E23*F23 -> 196275
B24: 5.6 | C24: Red electrica en tuberia pvc de 1/2", incluye 2 No 12 , para luminarias | D24: ML | E24: ='MEMORIA DE CANTIDADES'!H106 -> 80 | F24: =+'5 ELECTRICAS'!F$120 -> 43951 | G24: =E24*F24 -> 3516080
B25: 5.7 | C25: Instalacion salida interruptor doble 110 V | D25: UN | E25: ='MEMORIA DE CANTIDADES'!H112 -> 3 | F25: =+'5 ELECTRICAS'!F$142 -> 62428 | G25: =E25*F25 -> 187284
B26: 5.8 | C26: Red electrica en tuberia pvc de 1/2", incluye 1 linea No 12 + 1 neutro No 12 + 1 Linea No 12 | D26: ML | E26: ='MEMORIA DE CANTIDADES'!H118 -> 10 | F26: =+'5 ELECTRICAS'!F162 -> 47019 | G26: =E26*F26 -> 470190
B27: 5.9 | C27: Red electrica en tuberia EMT de 1/2", incluye 1 linea No 12 + 1 neutro No 12 + 1 Linea No 12 | D27: ML | E27: ='MEMORIA DE CANTIDADES'!H124 -> 20 | F27: =+'5 ELECTRICAS'!F183 -> 53133 | G27: =E27*F27 -> 1062660
B28: 5.10 | C28: Suministro e Instalación de Acometida eléctrica bifasica trifilar | D28: UN | E28: ='MEMORIA DE CANTIDADES'!H130 -> 1 | F28: =+'5 ELECTRICAS'!F209 -> 1269978 | G28: =E28*F28 -> 1269978
B29: 6 | C29: PAÑETES E IMPERMEABILIZACION | G29: =SUM(G30:G33) -> 10143283 | J29: =ROUND(G29*1.3,2) -> 13186268
B30: 6.1 | C30: Suministro y Aplicación de Pañete muros 1:4; incluye filo y dilataciones | D30: M2 | E30: ='MEMORIA DE CANTIDADES'!H137 -> 10 | F30: ='6-7-8 PAÑETES-CUBIERTA-'!F$22 -> 27145 | G30: =E30*F30 -> 271450
B31: 6.2 | C31: Suministro y Aplicación de Alistado pendientado en mortero para placa | D31: M2 | E31: ='MEMORIA DE CANTIDADES'!H143 -> 122.73 | F31: ='6-7-8 PAÑETES-CUBIERTA-'!F$37 -> 64023 | G31: =E31*F31 -> 7857542.8
B32: 6.3 | C32: Suministro y Aplicación de Pañete impermeabilizado 1:4 | D32: M2 | E32: ='MEMORIA DE CANTIDADES'!H149 -> 10 | F32: ='6-7-8 PAÑETES-CUBIERTA-'!F$51 -> 34561 | G32: =E32*F32 -> 345610
B33: 6.4 | C33: Suministro e Impermeabilización manto zetal 600 terraza | D33: M2 | E33: ='MEMORIA DE CANTIDADES'!H155 -> 20 | F33: ='6-7-8 PAÑETES-CUBIERTA-'!F$68 -> 83434 | G33: =E33*F33 -> 1668680
B34: 7 | C34: CUBIERTAS | G34: =SUM(G35:G38) -> 6365326 | J34: =ROUND(G34*1.3,2) -> 8274923.8
B35: 7.1 | C35: Suministro e instalación de Cubierta en teja con trapecios, valles h=35mm cal.28, color, 1080 mm ancho total, incluye tornillos fijadores. | D35: M2 | E35: ='MEMORIA DE CANTIDADES'!H162 -> 40.5 | F35: ='6-7-8 PAÑETES-CUBIERTA-'!F$88 -> 75678 | G35: =E35*F35 -> 3064959
B36: 7.2 | C36: Suministro e Instalación de Flanche remate cubierta | D36: ML | E36: ='MEMORIA DE CANTIDADES'!H168 -> 14 | F36: ='6-7-8 PAÑETES-CUBIERTA-'!F$104 -> 21893 | G36: =E36*F36 -> 306502
B37: 7.3 | C37: Suministro e Instalación de Cercha para cubierta en perfil metalico | D37: ML | E37: ='MEMORIA DE CANTIDADES'!H174 -> 15 | F37: ='6-7-8 PAÑETES-CUBIERTA-'!F$124 -> 152521 | G37: =E37*F37 -> 2287815
B38: 7.4 | C38: Instalación de Canal en lámina galvanizada cal. 22; ds=50 | D38: ML | E38: ='MEMORIA DE CANTIDADES'!H180 -> 10 | F38: =+'6-7-8 PAÑETES-CUBIERTA-'!F$141 -> 70605 | G38: =E38*F38 -> 706050
B39: 8 | C39: ACABADOS | G39: =SUM(G40:G41) -> 7918979.9 | J39: =ROUND(G39*1.3,2) -> 10294674
B40: 8.1 | C40: Suministro e Instalación de Cieloraso en drywall | D40: M2 | E40: ='MEMORIA DE CANTIDADES'!H187 -> 15 | F40: ='6-7-8 PAÑETES-CUBIERTA-'!F$169 -> 82921 | G40: =E40*F40 -> 1243815
B41: 8.2 | C41: Suministro e instalación de cielo raso blanco en PVC. (El gravado o detalle del material esta sujeto a aprobación del supervisor). | D41: M2 | E41: ='MEMORIA DE CANTIDADES'!H193 -> 89.9 | F41: ='6-7-8 PAÑETES-CUBIERTA-'!F$190 -> 74251 | G41: =E41*F41 -> 6675164.9
B42: 9 | C42: PISOS Y ENCHAPES | G42: =SUM(G43:G46) -> 21870061 | J42: =ROUND(G42*1.3,2) -> 28431079
...

Sheet MEMORIA DE CANTIDADES
A1: =ROTULOS!B2 -> DEPARTAMENTO DEL HUILA
A2: =ROTULOS!B3 -> MUNICIPIO DE PALERMO
A3: =ROTULOS!C10 -> AMPLIACIÓN DE LA SEDE PRINCIPAL DE LA INSTITUCIÓN EDUCATIVA JOSÉ REINEL CERQUERA DEL MUNICIPIO DE PALERMO HUILA
A5: ITEM | B5: ACTIVIDAD | C5: UNIDAD
A6: ='PPTO I.E JOSE REINEL'!B6 -> 1 | B6: ='PPTO I.E JOSE REINEL'!C6 -> PRELIMINARES
A8: ='PPTO I.E JOSE REINEL'!B7 -> 1.1 | B8: ='PPTO I.E JOSE REINEL'!C7 -> Suministro e instalación de cerca en lona verde h=2.10 m | C8: ='PPTO I.E JOSE REINEL'!D7 -> ML
A9: DESCRIPCION Y/O UBICACIÓN | C9: Largo (m) | D9: Ancho(m) | E9: Alto(m) | F9: Espesor Promedio(m) | G9: Cantidad | H9: Subtotal
A10: Area de trabajo | C10: 20 | H10: =C10 -> 20
H11: =+C11*D11 -> 0
A13: Total | H13: =ROUND(SUM(H10:H12),2) -> 20
A14: ='PPTO I.E JOSE REINEL'!B8 -> 1.2 | B14: ='PPTO I.E JOSE REINEL'!C8 -> Desmonte de manto zetal existene | C14: ='PPTO I.E JOSE REINEL'!D8 -> M2
A15: DESCRIPCION Y/O UBICACIÓN | C15: Largo (m) | D15: Ancho(m) | E15: Alto(m) | F15: Espesor Promedio(m) | G15: Cantidad | H15: Subtotal
A16: Area de trabajo | C16: 12.15 | D16: 3.5 | H16: =+C16*D16 -> 42.525
A19: Total | H19: =ROUND(SUM(H16:H18),2) -> 42.53
A20: ='PPTO I.E JOSE REINEL'!B9 -> 2 | B20: ='PPTO I.E JOSE REINEL'!C9 -> DEMOLICIONES Y DESMONTE DE ELEMENTOS
A21: ='PPTO I.E JOSE REINEL'!B10 -> 2.1 | B21: ='PPTO I.E JOSE REINEL'!C10 -> Demolición muros e-0.15m, con retiro | C21: ='PPTO I.E JOSE REINEL'!D10 -> M2
A22: DESCRIPCION Y/O UBICACIÓN | C22: Largo (m) | D22: Ancho(m) | E22: Alto(m) | F22: Espesor Promedio(m) | G22: Cantidad | H22: Subtotal
A23: Demolicion de muro a la vista acceso aulas y antepechos | C23: 3 | E23: 1 | H23: =+C23*E23 -> 3
C24: 3 | E24: 1 | H24: =+C24*E24 -> 3
C25: 3 | E25: 1 | H25: =+C25*E25 -> 3
A26: Total | H26: =ROUND(SUM(H23:H25),2) -> 9
A27: ='PPTO I.E JOSE REINEL'!B11 -> 2.2 | B27: ='PPTO I.E JOSE REINEL'!C11 -> Desmonte de ventanas, ventana-rejas con marco. | C27: ='PPTO I.E JOSE REINEL'!D11 -> UN
A28: DESCRIPCION Y/O UBICACIÓN | C28: Largo (m) | D28: Ancho(m) | E28: Alto(m) | F28: Espesor Promedio(m) | G28: Cantidad | H28: Subtotal
A29: Ventana en aluminio existete | G29: 1 | H29: =+G29 -> 1
A32: Total | H32: =ROUND(SUM(H29:H31),2) -> 1
A33: ='PPTO I.E JOSE REINEL'!B12 -> 3 | B33: ='PPTO I.E JOSE REINEL'!C12 -> MAMPOSTERIA
A34: ='PPTO I.E JOSE REINEL'!B13 -> 3.1 | B34: ='PPTO I.E JOSE REINEL'!C13 -> Construcción de Muro en ladrillo igual al existente de 30x10 de e=0.15m | C34: ='PPTO I.E JOSE REINEL'!D13 -> M2
A35: DESCRIPCION Y/O UBICACIÓN | C35: Largo (m) | D35: Ancho(m) | E35: Alto(m) | F35: Espesor Promedio(m) | G35: Cantidad | H35: Subtotal
A36: Aula segundo piso | C36: 14.5 | E36: 2.8 | H36: =+C36*E36 -> 40.6
A37: Aula segundo piso | C37: 14.5 | E37: 2.8 | H37: =+C37*E37 -> 40.6
A38: Aula segundo piso | C38: 6.2 | E38: 2.8 | H38: =+C38*E38 -> 17.36
A39: Aula segundo piso | C39: 6.2 | E39: 2.8 | H39: =+C39*E39 -> 17.36
A40: Aula segundo piso | C40: 6.2 | E40: 2.8 | H40: =+C40*E40 -> 17.36
A41: Aula segundo piso | C41: 6.2 | E41: 1.1 | H41: =+C41*E41 -> 6.82
A42: Aula segundo piso | C42: 3 | E42: 1.1 | H42: =+C42*E42 -> 3.3
A43: Aula segundo piso | C43: 3 | E43: 1.1 | H43: =+C43*E43 -> 3.3
A44: Vanos de Ventanas superiores | C44: 2.1 | E44: 0.65 | G44: -4 | H44: =+C44*E44*G44 -> -5.46
A45: Vanos de Ventanas Inferiores | C45: 2.1 | E45: 0.39 | G45: -4 | H45: =+C45*E45*G45 -> -3.276
A46: Vanos de puertas | C46: 1 | E46: 2.6 | G46: -2 | H46: =+C46*E46*G46 -> -5.2
A47: Puerta cceso canal | C47: 1.6 | E47: =+E46 -> 2.6 | G47: -1 | H47: =+C47*E47*G47 -> -4.16
...

Sheet LISTADO DE MATERIALES
A1: =ROTULOS!B2 -> DEPARTAMENTO DEL HUILA
A2: =ROTULOS!B3 -> MUNICIPIO DE PALERMO
A3: =ROTULOS!B4 -> AMPLIACIÓN DE LA SEDE PRINCIPAL DE LA INSTITUCION EDUCATIVA JOSÉ REINEL DEL MUNICIPIO DE PALERMO HUILA
A4: INSUMOS - VIGENCIA 2025
A5: CÓDIGO | B5: MATERIALES, EQUIPO y MAQUINARIA, JORNALES | C5: UNIDAD | D5: V/r. UNT 2025
A6: M001 | B6: Acero Fy=2,400 Kg/cm2 | C6: KG | D6: 6250
A7: M002 | B7: Acero Fy=4,200 kg/cm2 | C7: KG | D7: 6250
A8: M003 | B8: Acido Muriatico | C8: GL | D8: 39000
A9: M004 | B9: Accesorio para fijacion varilla | C9: UND | D9: 11200
A10: M005 | B10: Accesorio PVC 2" sanitario | C10: UND | D10: 10932
A11: M006 | B11: Accesorio PVC 3" sanitario | C11: UND | D11: 17950
A12: M007 | B12: Accesorio PVC 4" sanitario | C12: UND | D12: 17900
A13: M008 | B13: Accesorio PVC" sanitario | C13: UND | D13: 72280
A14: M009 | B14: Accesorios empaques y tornillos | C14: GL | D14: 10500
A15: M010 | B15: Adaptador macho pvc 1/2" | C15: UND | D15: 600
A16: M011 | B16: Adaptador terminal pvc ½" conduit | C16: UND | D16: 1200
A17: M012 | B17: Adaptador terminal emt ½" conduit | C17: UND | D17: 68900
... A556: M551 | B556: pozo séptico integrado de 7.500 litros (incluye: tanque cilindrico horizontal de 7,500 lt negro: 1 und.material filtrante: 920 unds. tuerca 5/16: 8 unds.tornillo 5/16-pulg x long. 3 ½-pulg: 8 unds.tapa septilisto: 2 unds.trampa de grasas 105 lt: 1 und.tapa rotoplast 105 lt: 1 und.tee sanitario de 2-pulg: 2 unds.niple sanitario de 2-pulg x 20 cm: 2 unds.) | C556: UND | D556: 14587500
B557: Lampara 40x40

Sheet MO
B1: =ROTULOS!B2 -> DEPARTAMENTO DEL HUILA
B2: =ROTULOS!B3 -> MUNICIPIO DE PALERMO
B3: =ROTULOS!B4 -> AMPLIACIÓN DE LA SEDE PRINCIPAL DE LA INSTITUCION EDUCATIVA JOSÉ REINEL DEL MUNICIPIO DE PALERMO HUILA
B5: ANÁLISIS DE PRECIOS UNITARIOS - SUBPRODUCTOS - VIGENCIA 2025 | H5: SALARIO 2025 | I5: 1423500 | J5: ok
H6: SALARIO DIA PROMEDIO | I6: =I5/30 -> 47450 | J6: ok
B7: AYUDANTE (Incl. Prestaciones) | H7: SUB TRANSPORTE | I7: 200000 | J7: ok
B9: DESCRIPCIÓN | C9: UNIDAD | D9: CANT | E9: V/r UNITARIO | F9: V/r PARCIAL
B11: AYUDANTE | C11: DIA | D11: 1 | E11: =+I6 -> 47450 | F11: =E11*D11 -> 47450
B13: PRESTACIONES SOCIALES | I13: COSTO TOTAL | J13: PATRONO | K13: EMPLEADO
B14: Subsidio de transporte | C14: % | D14: =(F14/E14) -> 0.1405 | E14: =E$11 -> 47450 | F14: =I7/30 -> 6666.67 | H14: PENSION | I14: 0.16 | J14: 0.12 | K14: =I14-J14 -> 0.04 | L14: ok
B15: Cesantias | C15: % | D15: 0.0833 | E15: =E$11 -> 47450 | F15: =E15*D15 -> 3952.59 | H15: SALUD | I15: 0.125 | J15: 0.085 | K15: =I15-J15 -> 0.04 | L15: ok
B16: Intereses de cesantias | C16: % | D16: 0.01 | E16: =E$11 -> 47450 | F16: =E16*D16 -> 474.5 | H16: RIESGOS | I16: 0.0696 | J16: 0.0696 | K16: =I16-J16 -> 0 | L16: ok
B17: Prima legal | C17: % | D17: 0.0833 | E17: =E$11 -> 47450 | F17: =E17*D17 -> 3952.59 | I17: =SUM(I14:I16) -> 0.3546 | J17: =SUM(J14:J16) -> 0.2746 | K17: =SUM(K14:K16) -> 0.08
B18: Vacaciones | C18: % | D18: 0.0416 | E18: =E$11 -> 47450 | F18: =E18*D18 -> 1973.92
B19: Seguridad Social | C19: % | D19: 0.3546 | E19: =E$11 -> 47450 | F19: =E19*D19 -> 16825.77
B21: APORTES PARAFISCALES:
B22: Caja de compesnacion familiar | C22: % | D22: 0.04 | E22: =E$11 -> 47450 | F22: =E22*D22 -> 1898
B23: Sena | C23: % | D23: 0.02 | E23: =E$11 -> 47450 | F23: =E23*D23 -> 949
B24: FIC | C24: % | D24: 0.0175 | E24: =E$11 -> 47450 | F24: =E24*D24 -> 830.38
B25: ICBF | C25: % | D25: 0.03 | E25: =E$11 -> 47450 | F25: =E25*D25 -> 1423.5
B27: DOTACION | C27: % | D27: 0.0528 | E27: =E$11 -> 47450 | F27: =E27*D27 -> 2505.36
B29: INCREMENTO TOTAL | C29: % | D29: =SUM(D14:D27) -> 0.8736
C31: [ DIA ] | E31: V/r UNITARIO | F31: =SUM(F11:F27) -> 88902.28
C32: [ HR ] | F32: =F31/8 -> 11112.79
B34: OFICIAL (Incl. Prestaciones)
B36: DESCRIPCIÓN | C36: UNIDAD | D36: CANT | E36: V/r UNITARIO | F36: V/r PARCIAL
B38: OFICIAL | C38: DIA | D38: 1 | E38: 70000 | F38: =E38*D38 -> 70000
B40: PRESTACIONES SOCIALES
B41: Subsidio de transporte | C41: % | D41: =(F41/E41) -> 0.0952 | E41: =E$38 -> 70000 | F41: =I7/30 -> 6666.67
B42: Cesantias | C42: % | D42: 0.0833 | E42: =E$38 -> 70000 | F42: =E42*D42 -> 5831
B43: Intereses de cesantias | C43: % | D43: 0.01 | E43: =E$38 -> 70000 | F43: =E43*D43 -> 700
B44: Prima legal | C44: % | D44: 0.0833 | E44: =E$38 -> 70000 | F44: =E44*D44 -> 5831
B45: Vacaciones | C45: % | D45: 0.0416 | E45: =E$38 -> 70000 | F45: =E45*D45 -> 2912
B46: Seguridad Social | C46: % | D46: 0.3546 | E46: =E$38 -> 70000 | F46: =E46*D46 -> 24822
B48: APORTES PARAFISCALES:
B49: Caja de compesnacion familiar | C49: % | D49: 0.04 | E49: =E$38 -> 70000 | F49: =E49*D49 -> 2800
B50: Sena | C50: % | D50: 0.02 | E50: =E$38 -> 70000 | F50: =E50*D50 -> 1400
B51: FIC | C51: % | D51: 0.0175 | E51: =E$38 -> 70000 | F51: =E51*D51 -> 1225
B52: ICBF | C52: % | D52: 0.03 | E52: =E$38 -> 70000 | F52: =E52*D52 -> 2100
B54: DOTACION | C54: % | D54: 0.0528 | E54: =E$38 -> 70000 | F54: =E54*D54 -> 3696
...

Sheet ANALISIS BASICOS
B1: =ROTULOS!B2 -> DEPARTAMENTO DEL HUILA
B2: =ROTULOS!B3 -> MUNICIPIO DE PALERMO
B3: =ROTULOS!B4 -> AMPLIACIÓN DE LA SEDE PRINCIPAL DE LA INSTITUCION EDUCATIVA JOSÉ REINEL DEL MUNICIPIO DE PALERMO HUILA
B5: ANÁLISIS DE PRECIOS UNITARIOS - SUBPRODUCTOS
B7: CONCRETO 3500 PSI | E7: Unidad: | F7: M3
B9: DESCRIPCIÓN | C9: UNIDAD | D9: CANT | E9: V/r UNITARIO | F9: V/r PARCIAL
B10: MATERIALES : | F10: =SUM(F11:F15) -> 467400
B11: CEMENTO GRIS | C11: KG | D11: 380 | E11: =+'LISTADO DE MATERIALES'!D90 -> 800 | F11: =E11*D11 -> 304000
B12: ARENA | C12: M3 | D12: 0.6 | E12: ='LISTADO DE MATERIALES'!D43 -> 75000 | F12: =E12*D12 -> 45000
B13: GRAVILLA DE PLANTA | C13: M3 | D13: 0.76 | E13: ='LISTADO DE MATERIALES'!D158 -> 130000 | F13: =E13*D13 -> 98800
B14: AGUA | C14: LT | D14: 180 | E14: ='LISTADO DE MATERIALES'!D23 -> 100 | F14: =E14*D14 -> 18000
B15: ENSAYOS | C15: UND | D15: 0.01 | E15: =+'LISTADO DE MATERIALES'!D538 -> 160000 | F15: =E15*D15 -> 1600
B17: EQUIPO Y HERRAMIENTAS: | F17: =SUM(F18:F19) -> 11000
B18: HERRAMIENTA MENOR | C18: GL | D18: 1 | E18: ='LISTADO DE MATERIALES'!D170 -> 3000 | F18: =E18*D18 -> 3000
B19: MEZCLADORA | C19: DIA | D19: 0.1 | E19: =+'LISTADO DE MATERIALES'!D215 -> 80000 | F19: =E19*D19 -> 8000
B21: MANO DE OBRA: | F21: =SUM(F22:F23) -> 130131.57
B22: OFICIAL (incl. Prestaciones) | C22: DIA | D22: 0.6 | E22: =MO!F$58 -> 127983.67 | F22: =E22*D22 -> 76790.2
B23: AYUIDANTE (Incl. Prestaciones) | C23: DIA | D23: 0.6 | E23: =MO!F$31 -> 88902.28 | F23: =E23*D23 -> 53341.37
C25: [ M3 ] V/r. COSTO DIRECTO = | F25: =ROUND(F21+F17+F10,0) -> 608532
B28: CONCRETO 3000 PSI (1:2:3) | E28: Unidad: | F28: M3
B30: DESCRIPCIÓN | C30: UNIDAD | D30: CANT | E30: V/r UNITARIO | F30: V/r PARCIAL
B31: MATERIALES : | F31: =SUM(F32:F36) -> 436600
B32: CEMENTO GRIS | C32: KG | D32: 350 | E32: =+'LISTADO DE MATERIALES'!D90 -> 800 | F32: =E32*D32 -> 280000
B33: ARENA | C33: M3 | D33: 0.52 | E33: ='LISTADO DE MATERIALES'!D43 -> 75000 | F33: =E33*D33 -> 39000
