Workbook
Name ___1Sin_nombre: #REF!
Name ___1Sin_nombre: #REF!
Name __1Sin_nombre: #REF!
Name __1Sin_nombre: #REF!
Name _1Sin_nombre: #REF!
Name _1Sin_nombre: #REF!
Name _C65580: #REF!
Name _Fill: #REF!
Name _MON1: #REF!
Name _MON1: #REF!
Name _MON2: #REF!
Name _Parse_Out: #REF!
Name _sub1: #REF!
Name _sub2: #REF!
Name _sub3: #REF!
Name _sub4: #REF!
Name _sub5: #REF!
Name _sub6: #REF!
Name _sub7: #REF!
Name A: #REF!
Name A_impresión_IM: #REF!
Name ACAT22: #REF!
Name ADUA105: #REF!
Name ADUA106: #REF!
Name ADUA107: #REF!
Name ADUA108: #REF!
Name ADUA5: #REF!
Name ADUA6: #REF!
Name ADUA7: #REF!
Name ADUA8: #REF!
Name ADUANAS: #REF!
Name ANDINO: #REF!
Name Angebotsdatum: #REF!
Name Angulo_de_platina__1_x1_x1_8: #REF!
Name ANTBNK: #REF!
Name apu: #REF!
Name APUS: #REF!
Name asddsad: #REF!
Name asddsad: #REF!
Name AUFTRAG: #REF!
Name AUFTRAG: #REF!
Name AUFTRAGTIT: #REF!
Name AUFTRAGTIT: #REF!
Name B: #REF!
Name BASE: #REF!
Name BASEDATOSMATERIALES: #REF!
Name bloquefin1: #REF!
Name bloquefin2: #REF!
Name BOLIVAR: #REF!
Name BOLIVAX: #REF!
Name BOLIVBC: #REF!
Name Breaker_Indus.Merlin_G.3x150A: #REF!
Name Brilladora: #REF!
Name BuiltIn_Print_Area: #REF!
Name BuiltIn_Print_Area___0___0: #REF!
Name BuiltIn_Print_Titles: #REF!
Name CANADA: #REF!
Name causa: #REF!
Name Cera_para_pisos: #REF!
Name CIF: #REF!

Sheet ACTA FINAL
A1: CONTRATO DE OBRA: 240-2025 | C1: OBJETO: ADECUACION DE LA INFRAESTRUCTURA HOSPITALARIA EN EL AREA DE IMAGENOLOGÍA DEL HOSPITAL SAN JUAN DE DIOS ESE RIONEGRO
A2: CONTRATANTE: HOSPITAL SAN JUAN DE DIOS ESE RIONEGRO
A3: CONTRATISTA: LINARQ SAS
A4: ÍTEM | B4: DESCRIPCIÓN | C4: UNIDAD | D4: VALOR UNITARIO | E4: CANTIDAD CONTRACTUAL | F4: VALOR TOTAL | G4: ACTA 1 | H4: VALOR EJECUTADO | I4: ACTA 2 | J4: VALOR EJECUTADO | K4: ACTA 3 | L4: VALOR EJECUTADO | M4: CANTIDAD TOTAL EJECUTADA | N4: VALOR TOTAL EJECUTADO | O4: PORCENTAJE TOTAL EJECUTADO | P4: CANTIDAD TOTAL | Q4: VALOR TOTAL
B6: ADECUACIONES AREA DE IMAGENOLOGÍA | P6: MAYORES Y MENORES
A7: 1 | B7: PRELIMINARES | F7: =SUM(F8:F11) -> 8730875 | N7: =SUM(N8:N11) -> 12247335 | O7: =+N7/F7 -> 1.4027615 | Q7: =SUM(Q8:Q11) -> 3516460
A8: 1.1 | B8: Proteccion con plastico del area a intervenir | C8: gl | D8: 500000 | E8: 1 | F8: =+D8*E8 -> 500000 | G8: 1 | H8: =+$D8*G8 -> 500000 | I8: 0 | J8: =+$D8*I8 -> 0 | K8: 0 | L8: =+$D8*K8 -> 0 | M8: =+G8+I8 -> 1 | N8: =+D8*M8 -> 500000 | O8: =+N8/F8 -> 1 | P8: =+M8-E8 -> 0 | Q8: =+P8*D8 -> 0
A9: 1.2 | B9: Proteccion con carton | C9: gl | D9: 500000 | E9: 1 | F9: =+D9*E9 -> 500000 | G9: 1 | H9: =+$D9*G9 -> 500000 | I9: 0 | J9: =+$D9*I9 -> 0 | K9: 0 | L9: =+$D9*K9 -> 0 | M9: =+G9+I9 -> 1 | N9: =+D9*M9 -> 500000 | O9: =+N9/F9 -> 1 | P9: =+M9-E9 -> 0 | Q9: =+P9*D9 -> 0
A10: 1.3 | B10: Empaque de escombros y transporte interno | C10: saco | D10: 5065 | E10: 650 | F10: =+D10*E10 -> 3292250 | G10: 1169 | H10: =+$D10*G10 -> 5920985 | I10: 0 | J10: =+$D10*I10 -> 0 | K10: 0 | L10: =+$D10*K10 -> 0 | M10: =+G10+I10 -> 1169 | N10: =+D10*M10 -> 5920985 | O10: =+N10/F10 -> 1.7984615 | P10: =+M10-E10 -> 519 | Q10: =+P10*D10 -> 2628735
A11: 1.4 | B11: Retiro y botada de escombros y/o basura , en caso de ser requerido en otra actividad no estipulada. | C11: Viajes | D11: 887725 | E11: 5 | F11: =+D11*E11 -> 4438625 | G11: 6 | H11: =+$D11*G11 -> 5326350 | I11: 0 | J11: =+$D11*I11 -> 0 | K11: 0 | L11: =+$D11*K11 -> 0 | M11: =+G11+I11 -> 6 | N11: =+D11*M11 -> 5326350 | O11: =+N11/F11 -> 1.2 | P11: =+M11-E11 -> 1 | Q11: =+P11*D11 -> 887725
A12: 2 | B12: DESMONTES Y DEMOLICIONES | F12: =SUM(F13:F28) -> 14627138 | N12: =SUM(N13:N28) -> 12086993 | O12: =+N12/F12 -> 0.82634024 | Q12: =SUM(Q13:Q28) -> -2540145.4
A13: 2.1 | B13: Corte con pulidora en pisos y muros | C13: ml | D13: 20880 | E13: 98 | F13: =+D13*E13 -> 2046240 | G13: 0 | H13: =+$D13*G13 -> 0 | I13: 160.89 | J13: =+$D13*I13 -> 3359383.2 | K13: 0 | L13: =+$D13*K13 -> 0 | M13: =+G13+I13 -> 160.89 | N13: =+D13*M13 -> 3359383.2 | O13: =+N13/F13 -> 1.6417347 | P13: =+M13-E13 -> 62.89 | Q13: =+P13*D13 -> 1313143.2
A14: 2.2 | B14: Desmonte de cielo en drywall | C14: m2 | D14: 9072 | E14: 316.48 | F14: =+D14*E14 -> 2871106.6 | G14: 0 | H14: =+$D14*G14 -> 0 | I14: 0 | J14: =+$D14*I14 -> 0 | K14: 0 | L14: =+$D14*K14 -> 0 | M14: =+G14+I14 -> 0 | N14: =+D14*M14 -> 0 | O14: =+N14/F14 -> 0 | P14: =+M14-E14 -> -316.48 | Q14: =+P14*D14 -> -2871106.6
A15: 2.3 | B15: Demolicion de piso | C15: gl | D15: 603725 | E15: 1 | F15: =+D15*E15 -> 603725 | G15: 1 | H15: =+$D15*G15 -> 603725 | I15: 0 | J15: =+$D15*I15 -> 0 | K15: 0 | L15: =+$D15*K15 -> 0 | M15: =+G15+I15 -> 1 | N15: =+D15*M15 -> 603725 | O15: =+N15/F15 -> 1 | P15: =+M15-E15 -> 0 | Q15: =+P15*D15 -> 0
A16: 2.4 | B16: Demolicion de mamposteria en areas a intervenir (altura estimada de 2,60) | C16: m2 | D16: 30973 | E16: 115.05 | F16: =+D16*E16 -> 3563443.6 | G16: 0 | H16: =+$D16*G16 -> 0 | I16: 115.03 | J16: =+$D16*I16 -> 3562824.2 | K16: 0 | L16: =+$D16*K16 -> 0 | M16: =+G16+I16 -> 115.03 | N16: =+D16*M16 -> 3562824.2 | O16: =+N16/F16 -> 0.99982616 | P16: =+M16-E16 -> -0.02 | Q16: =+P16*D16 -> -619.46
A17: 2.5 | B17: Desmonte de puertas y marcos en madera | C17: un | D17: 70402 | E17: 20 | F17: =+D17*E17 -> 1408040 | G17: 11 | H17: =+$D17*G17 -> 774422 | I17: 0 | J17: =+$D17*I17 -> 0 | K17: 0 | L17: =+$D17*K17 -> 0 | M17: =+G17+I17 -> 11 | N17: =+D17*M17 -> 774422 | O17: =+N17/F17 -> 0.55 | P17: =+M17-E17 -> -9 | Q17: =+P17*D17 -> -633618
A18: 2.6 | B18: Desmonte de puerta y marcos en madera (Puertas doble ala) | C18: un | D18: 116812 | E18: 5 | F18: =+D18*E18 -> 584060 | G18: 3 | H18: =+$D18*G18 -> 350436 | I18: 0 | J18: =+$D18*I18 -> 0 | K18: 0 | L18: =+$D18*K18 -> 0 | M18: =+G18+I18 -> 3 | N18: =+D18*M18 -> 350436 | O18: =+N18/F18 -> 0.6 | P18: =+M18-E18 -> -2 | Q18: =+P18*D18 -> -233624
A19: 2.7 | B19: Desmonte de ventanas | C19: un | D19: 44614 | E19: 9 | F19: =+D19*E19 -> 401526 | G19: 9 | H19: =+$D19*G19 -> 401526 | I19: 5 | J19: =+$D19*I19 -> 223070 | K19: 0 | L19: =+$D19*K19 -> 0 | M19: =+G19+I19 -> 14 | N19: =+D19*M19 -> 624596 | O19: =+N19/F19 -> 1.5555556 | P19: =+M19-E19 -> 5 | Q19: =+P19*D19 -> 223070
A20: 2.8 | B20: Demolicion de enchape | C20: m2 | D20: 19338 | E20: 8.5 | F20: =+D20*E20 -> 164373 | G20: 0 | H20: =+$D20*G20 -> 0 | I20: 5.67 | J20: =+$D20*I20 -> 109646.46 | K20: 0 | L20: =+$D20*K20 -> 0 | M20: =+G20+I20 -> 5.67 | N20: =+D20*M20 -> 109646.46 | O20: =+N20/F20 -> 0.66705882 | P20: =+M20-E20 -> -2.83 | Q20: =+P20*D20 -> -54726.54
A21: 2.9 | B21: Desmonte de sanitario | C21: un | D21: 57153 | E21: 7 | F21: =+D21*E21 -> 400071 | G21: 3 | H21: =+$D21*G21 -> 171459 | I21: 0 | J21: =+$D21*I21 -> 0 | K21: 0 | L21: =+$D21*K21 -> 0 | M21: =+G21+I21 -> 3 | N21: =+D21*M21 -> 171459 | O21: =+N21/F21 -> 0.42857143 | P21: =+M21-E21 -> -4 | Q21: =+P21*D21 -> -228612
A22: 2.10 | B22: Desmonte de lavamanos | C22: un | D22: 57153 | E22: 4 | F22: =+D22*E22 -> 228612 | G22: 5 | H22: =+$D22*G22 -> 285765 | I22: 0 | J22: =+$D22*I22 -> 0 | K22: 0 | L22: =+$D22*K22 -> 0 | M22: =+G22+I22 -> 5 | N22: =+D22*M22 -> 285765 | O22: =+N22/F22 -> 1.25 | P22: =+M22-E22 -> 1 | Q22: =+P22*D22 -> 57153
A23: 2.11 | B23: Desmonte de sistema electrico en areas a intervenir | C23: gl | D23: 1180453 | E23: 1 | F23: =+D23*E23 -> 1180453 | G23: 1 | H23: =+$D23*G23 -> 1180453 | I23: 0 | J23: =+$D23*I23 -> 0 | K23: 0 | L23: =+$D23*K23 -> 0 | M23: =+G23+I23 -> 1 | N23: =+D23*M23 -> 1180453 | O23: =+N23/F23 -> 1 | P23: =+M23-E23 -> 0 | Q23: =+P23*D23 -> 0
A24: 2.12 | B24: Desmonte de espejos | C24: un | D24: 23583 | E24: 4 | F24: =+D24*E24 -> 94332 | G24: 1 | H24: =+$D24*G24 -> 23583 | I24: 0 | J24: =+$D24*I24 -> 0 | K24: 0 | L24: =+$D24*K24 -> 0 | M24: =+G24+I24 -> 1 | N24: =+D24*M24 -> 23583 | O24: =+N24/F24 -> 0.25 | P24: =+M24-E24 -> -3 | Q24: =+P24*D24 -> -70749
... A26: 2.14 | B26: Desmonte de accesorios | C26: un | D26: 11320 | E26: 30 | F26: =+D26*E26 -> 339600 | G26: 18 | H26: =+$D26*G26 -> 203760 | I26: 0 | J26: =+$D26*I26 -> 0 | K26: 0 | L26: =+$D26*K26 -> 0 | M26: =+G26+I26 -> 18 | N26: =+D26*M26 -> 203760 | O26: =+N26/F26 -> 0.6 | P26: =+M26-E26 -> -12 | Q26: =+P26*D26 -> -135840
A27: 2.15 | B27: Anulacion de salidas de abastos | C27: un | D27: 20360 | E27: 10 | F27: =+D27*E27 -> 203600 | G27: 0 | H27: =+$D27*G27 -> 0 | I27: =+'[1]2.15'!$K$26 -> 17 | J27: =+$D27*I27 -> 346120 | K27: 0 | L27: =+$D27*K27 -> 0 | M27: =+G27+I27 -> 17 | N27: =+D27*M27 -> 346120 | O27: =+N27/F27 -> 1.7 | P27: =+M27-E27 -> 7 | Q27: =+P27*D27 -> 142520
A28: 2.16 | B28: Anulacion de salidas sanitarias | C28: un | D28: 23360 | E28: 10 | F28: =+D28*E28 -> 233600 | G28: 0 | H28: =+$D28*G28 -> 0 | I28: =+'[1]2.16'!$K$25 -> 16 | J28: =+$D28*I28 -> 373760 | K28: 0 | L28: =+$D28*K28 -> 0 | M28: =+G28+I28 -> 16 | N28: =+D28*M28 -> 373760 | O28: =+N28/F28 -> 1.6 | P28: =+M28-E28 -> 6 | Q28: =+P28*D28 -> 140160
A29: 3 | B29: MAMPOSTERIA | F29: =SUM(F30:F38) -> 41896793 | N29: =SUM(N30:N38) -> 32514553 | O29: =+N29/F29 -> 0.77606306 | Q29: =SUM(Q30:Q38) -> -9382239.6
A30: 3.1 | B30: Resane de mamposteria | C30: gl | D30: 600000 | E30: 1 | F30: =+D30*E30 -> 600000 | G30: 1 | H30: =+$D30*G30 -> 600000 | I30: 0 | J30: =+$D30*I30 -> 0 | K30: 0 | L30: =+$D30*K30 -> 0 | M30: =+G30+I30 -> 1 | N30: =+D30*M30 -> 600000 | O30: =+N30/F30 -> 1 | P30: =+M30-E30 -> 0 | Q30: =+P30*D30 -> 0
A31: 3.2 | B31: Construccion de Muro en Drywall Dos caras en placa de yeso e: 12 cms. Estructura interior lamina galvanizada y todos los elementos necesarios para su correcta instalacion y funcionamiento, incluye fondeado (Altura estimada 2,60) | C31: m2 | D31: 159984 | E31: 78.05 | F31: =+D31*E31 -> 12486751 | G31: 0 | H31: =+$D31*G31 -> 0 | I31: 38.1 | J31: =+$D31*I31 -> 6095390.4 | K31: 0 | L31: =+$D31*K31 -> 0 | M31: =+G31+I31 -> 38.1 | N31: =+D31*M31 -> 6095390.4 | O31: =+N31/F31 -> 0.48814862 | P31: =+M31-E31 -> -39.95 | Q31: =+P31*D31 -> -6391360.8
A32: 3.3 | B32: Construccion de FAJAS en Drywall. Estructura interior lamina galvanizada, y todos los elementos necesarios para su correcta instalacion y funcionamiento. | C32: ml | D32: 73503 | E32: 72.8 | F32: =+D32*E32 -> 5351018.4 | G32: 0 | H32: =+$D32*G32 -> 0 | I32: 85.76 | J32: =+$D32*I32 -> 6303617.3 | K32: 0 | L32: =+$D32*K32 -> 0 | M32: =+G32+I32 -> 85.76 | N32: =+D32*M32 -> 6303617.3 | O32: =+N32/F32 -> 1.178022 | P32: =+M32-E32 -> 12.96 | Q32: =+P32*D32 -> 952598.88
A33: 3.4 | B33: Suministro e instalacion de lana mineral tipo frescasa | C33: m2 | D33: 51275 | E33: 106.05 | F33: =+D33*E33 -> 5437713.8 | G33: 0 | H33: =+$D33*G33 -> 0 | I33: 58.84 | J33: =+$D33*I33 -> 3017021 | K33: 0 | L33: =+$D33*K33 -> 0 | M33: =+G33+I33 -> 58.84 | N33: =+D33*M33 -> 3017021 | O33: =+N33/F33 -> 0.55483263 | P33: =+M33-E33 -> -47.21 | Q33: =+P33*D33 -> -2420692.7
A34: 3.5 | B34: Perfil esquinero en pvc | C34: ml | D34: 22764 | E34: 163.8 | F34: =+D34*E34 -> 3728743.2 | G34: 0 | H34: =+$D34*G34 -> 0 | I34: 75.22 | J34: =+$D34*I34 -> 1712308.1 | K34: 0 | L34: =+$D34*K34 -> 0 | M34: =+G34+I34 -> 75.22 | N34: =+D34*M34 -> 1712308.1 | O34: =+N34/F34 -> 0.45921856 | P34: =+M34-E34 -> -88.58 | Q34: =+P34*D34 -> -2016435.1
A35: 3.6 | B35: Refuerzo en madera plastica | C35: ml | D35: 57341 | E35: 80.8 | F35: =+D35*E35 -> 4633152.8 | G35: 0 | H35: =+$D35*G35 -> 0 | I35: 31.15 | J35: =+$D35*I35 -> 1786172.1 | K35: 0 | L35: =+$D35*K35 -> 0 | M35: =+G35+I35 -> 31.15 | N35: =+D35*M35 -> 1786172.1 | O35: =+N35/F35 -> 0.3855198 | P35: =+M35-E35 -> -49.65 | Q35: =+P35*D35 -> -2846980.6
A36: 3.7 | B36: Construccion de muro en bloque e=20 cm + grouting | C36: m2 | D36: 234811 | E36: 27.47 | F36: =+D36*E36 -> 6450258.2 | G36: 0 | H36: =+$D36*G36 -> 0 | I36: 29.07 | J36: =+$D36*I36 -> 6825955.8 | K36: 0 | L36: =+$D36*K36 -> 0 | M36: =+G36+I36 -> 29.07 | N36: =+D36*M36 -> 6825955.8 | O36: =+N36/F36 -> 1.0582454 | P36: =+M36-E36 -> 1.6 | Q36: =+P36*D36 -> 375697.6
A37: 3.8 | B37: Revoque en muros | C37: m2 | D37: 35996 | E37: 54.94 | F37: =+D37*E37 -> 1977620.2 | G37: 0 | H37: =+$D37*G37 -> 0 | I37: =+I36*2 -> 58.14 | J37: =+$D37*I37 -> 2092807.4 | K37: 0 | L37: =+$D37*K37 -> 0 | M37: =+G37+I37 -> 58.14 | N37: =+D37*M37 -> 2092807.4 | O37: =+N37/F37 -> 1.0582454 | P37: =+M37-E37 -> 3.2 | Q37: =+P37*D37 -> 115187.2
A38: 3.9 | B38: Estuco en muros | C38: m3 | D38: 22416 | E38: 54.94 | F38: =+D38*E38 -> 1231535 | G38: 0 | H38: =+$D38*G38 -> 0 | I38: 182.07 | J38: =+$D38*I38 -> 4081281.1 | K38: 0 | L38: =+$D38*K38 -> 0 | M38: =+G38+I38 -> 182.07 | N38: =+D38*M38 -> 4081281.1 | O38: =+N38/F38 -> 3.3139789 | P38: =+M38-E38 -> 127.13 | Q38: =+P38*D38 -> 2849746.1
A39: 4 | B39: PINTURA Y ENCHAPES | F39: =SUM(F40:F41) -> 17167734 | N39: =SUM(N40:N41) -> 14291167 | O39: =+N39/F39 -> 0.83244337 | Q39: =SUM(Q40:Q41) -> -2876567.7
A40: 4.1 | B40: Aplicación de PINTURA EN VINILO de primera calidad sobre muros, tres manos o las necesarias hasta obtener una superficie pareja y homogénea. Incluye suministro y transporte de los materiales | C40: m2 | D40: 20166 | E40: 591.65 | F40: =+D40*E40 -> 11931214 | G40: 0 | H40: =+$D40*G40 -> 0 | I40: 608.54 | J40: =+$D40*I40 -> 12271818 | K40: 0 | L40: =+$D40*K40 -> 0 | M40: =+G40+I40 -> 608.54 | N40: =+D40*M40 -> 12271818 | O40: =+N40/F40 -> 1.0285473 | P40: =+M40-E40 -> 16.89 | Q40: =+P40*D40 -> 340603.74
A41: 4.2 | B41: Sellos con elastica | C41: ml | D41: 21081 | E41: 248.4 | F41: =+D41*E41 -> 5236520.4 | G41: 0 | H41: =+$D41*G41 -> 0 | I41: 95.79 | J41: =+$D41*I41 -> 2019349 | K41: 0 | L41: =+$D41*K41 -> 0 | M41: =+G41+I41 -> 95.79 | N41: =+D41*M41 -> 2019349 | O41: =+N41/F41 -> 0.38562802 | P41: =+M41-E41 -> -152.61 | Q41: =+P41*D41 -> -3217171.4
A42: 5 | B42: CIELOS RASOS | F42: =SUM(F43:F46) -> 58533641 | N42: =SUM(N43:N46) -> 20613431 | O42: =+N42/F42 -> 0.35216382 | Q42: =SUM(Q43:Q46) -> -37920210
...

Sheet RESUMEN
A1: RESUMEN DE ACTIVIDADES | B1: VALOR TOTAL
A2: Actividades contractuales no ejecutadas | B2: =+'ACTA FINAL'!F14+'ACTA FINAL'!F46+'ACTA FINAL'!F49+'ACTA FINAL'!F54+'ACTA FINAL'!F55+'ACTA FINAL'!F57+'ACTA FINAL'!F58+'ACTA FINAL'!F59+'ACTA FINAL'!F60+'ACTA FINAL'!F63+'ACTA FINAL'!F64+'ACTA FINAL'!F68+'ACTA FINAL'!F74+'ACTA FINAL'!F75+'ACTA FINAL'!F80+'ACTA FINAL'!F81+'ACTA FINAL'!F86+'ACTA FINAL'!F89+'ACTA FINAL'!F90+'ACTA FINAL'!F93+'ACTA FINAL'!F94+'ACTA FINAL'!F102+'ACTA FINAL'!F104 -> 1.5541775e+08
A3: Actividades contractuales ejecutadas al 100% | B3: =+'ACTA FINAL'!N8+'ACTA FINAL'!N9+'ACTA FINAL'!N15+'ACTA FINAL'!N23+'ACTA FINAL'!N30+'ACTA FINAL'!N61+'ACTA FINAL'!N73+'ACTA FINAL'!N95+'ACTA FINAL'!N101+'ACTA FINAL'!N106+'ACTA FINAL'!N107+'ACTA FINAL'!N113+'ACTA FINAL'!N114+'ACTA FINAL'!N116+'ACTA FINAL'!N123+'ACTA FINAL'!N131+'ACTA FINAL'!N133+'ACTA FINAL'!N135+'ACTA FINAL'!N138+'ACTA FINAL'!N45+'ACTA FINAL'!N92 -> 1.0741003e+08
A4: Actividades contractuales ejecutadas de más | B4: =+'ACTA FINAL'!N10+'ACTA FINAL'!N11+'ACTA FINAL'!N13+'ACTA FINAL'!N19+'ACTA FINAL'!N22+'ACTA FINAL'!N27+'ACTA FINAL'!N28+'ACTA FINAL'!N32+'ACTA FINAL'!N36+'ACTA FINAL'!N37+'ACTA FINAL'!N38+'ACTA FINAL'!N40+'ACTA FINAL'!N62+'ACTA FINAL'!N65+'ACTA FINAL'!N77+'ACTA FINAL'!N78+'ACTA FINAL'!N82+'ACTA FINAL'!N83+'ACTA FINAL'!N91+'ACTA FINAL'!N98+'ACTA FINAL'!N99+'ACTA FINAL'!N120+'ACTA FINAL'!N124+'ACTA FINAL'!N125+'ACTA FINAL'!N127+'ACTA FINAL'!N128+'ACTA FINAL'!N132+'ACTA FINAL'!N140+'ACTA FINAL'!N87 -> 1.4189936e+08
A5: Actividades contractuales ejecutadas de menos | B5: =+'ACTA FINAL'!N17+'ACTA FINAL'!N18+'ACTA FINAL'!N20+'ACTA FINAL'!N21+'ACTA FINAL'!N24+'ACTA FINAL'!N25+'ACTA FINAL'!N26+'ACTA FINAL'!N31+'ACTA FINAL'!N33+'ACTA FINAL'!N34+'ACTA FINAL'!N35+'ACTA FINAL'!N41+'ACTA FINAL'!N43+'ACTA FINAL'!N44+'ACTA FINAL'!N48+'ACTA FINAL'!N50+'ACTA FINAL'!N52+'ACTA FINAL'!N53+'ACTA FINAL'!N66+'ACTA FINAL'!N85+'ACTA FINAL'!N88+'ACTA FINAL'!N109+'ACTA FINAL'!N115+'ACTA FINAL'!N122+'ACTA FINAL'!N130+'ACTA FINAL'!N110+'ACTA FINAL'!N16 -> 75640820
A6: Actividades no previstas ejecutadas al 100% | B6: =+'ACTA FINAL'!N141 -> 1.7311904e+08
A8: TOTAL DE ACTIVIDADES EJECUTADAS | B8: =+B3+B4+B5+B6 -> 4.9806925e+08
A9: A (25%) | B9: =+B8*25% -> 1.2451731e+08
A10: U (5%) | B10: =+B8*5% -> 24903462
A11: TOTAL | B11: =+B8+B9+B10 -> 6.4749002e+08

Sheet APU NP
A1: ANALISIS DE PRECIOS UNITARIOS
A2: ='[2]ACTA 3'!A146 -> NP 1.1 | B2: ='[2]ACTA 3'!B146 -> Construccion de Muro en Drywall una cara en placa de yeso e:12 cms, para cerramientos temporales, estructura en lamina galvanizada y todos los elementos necesarios para su correcta instalacion, sin acabado. | C2: UNIDAD: m2
A3: DESCRIPCIÓN | C3: UNIDAD | D3: CANT/ REND | E3: PRECIO UNITARIO | F3: VR PARCIAL
B4: MATERIALES:
B5: DRYWALL 1.22 m x 2.44 m x 1/2" | C5: un | D5: 0.4 | E5: 48016 | F5: =ROUND(D5*E5, 2) -> 19206.4
B6: CANAL 90 0.43 mm x 2.44 m | C6: un | D6: 0.34 | E6: 11720 | F6: =ROUND(D6*E6, 2) -> 3984.8
B7: PARAL 89 0.43 mm x 2.44 m | C7: un | D7: 0.76 | E7: 12571 | F7: =ROUND(D7*E7, 2) -> 9553.96
B8: TORNILLO SUPERBOARD AVELLANADO PUNTA AGUDA 6x7/8" | C8: un | D8: 23 | E8: 278 | F8: =ROUND(D8*E8, 2) -> 6394
B9: TORNILLO ESTRCUTURA PUNTA AGUDA CABEZA PLANA 8x1/2" | C9: un | D9: 2.8 | E9: 85 | F9: =ROUND(D9*E9, 2) -> 238
B10: MALLA FIBRA DE VIDRIO FLEXIBLE ANTIALCALIS a=25cm, 90g/m2 | C10: un | D10: 1.46 | E10: 632 | F10: =ROUND(D10*E10, 2) -> 922.72
B11: SIKAFLEX UNIVERSAL (sellador elastico de poliuretano) x 300 | C11: un | D11: 0.1812 | E11: 39901 | F11: =ROUND(D11*E11, 2) -> 7230.06
B12: MASILLA PANEL-TEC | C12: un | D12: 0.5 | E12: 14075 | F12: =ROUND(D12*E12, 2) -> 7037.5
B13: LIJA DE AGUA | C13: un | D13: 0.5 | E13: 1800 | F13: =ROUND(D13*E13, 2) -> 900
B14: PINTURA PARA INTERIOR FONDEO | C14: un | D14: 0.1 | E14: 39000 | F14: =ROUND(D14*E14, 2) -> 3900
E15: Subtotal = | F15: =SUM(F5:F14) -> 59367.44
B16: EQUIPO y HERRAMIENTAS:
B17: ANDAMIO TUBULAR CON TIJERA 1.50x1.50 m | C17: Día | D17: 0.24 | E17: 5246 | F17: =ROUND(D17*E17, 2) -> 1259.04
B18: RUEDA GIRATORIA PARA ANDAMIO | C18: Día | D18: 0.24 | E18: 2233 | F18: =ROUND(D18*E18, 2) -> 535.92
B19: SIERRA CIRCULAR 7 1/4" | C19: un | D19: 0.0018 | E19: 611537 | F19: =ROUND(D19*E19, 2) -> 1100.77
B20: DISCO SIERRA CIRCULAR 7 1/4" | C20: un | D20: 0.0018 | E20: 77490 | F20: =ROUND(D20*E20, 2) -> 139.48
B21: EXTENSION ELECTRICA ENCAUCHETADA 3x12x10m | C21: un | D21: 0.0018 | E21: 62851 | F21: =ROUND(D21*E21, 2) -> 113.13
B22: ATORNILLADOR ELECTRICO | C22: un | D22: 0.0018 | E22: 600941 | F22: =ROUND(D22*E22, 2) -> 1081.69
B23: LLANA METALICA LISA MANGO MADERA 11" x 5" | C23: un | D23: 0.0018 | E23: 31265 | F23: =ROUND(D23*E23, 2) -> 56.28
B24: RODILLO 9" | C24: un | D24: 0.01 | E24: 16900 | F24: =ROUND(D24*E24, 2) -> 169
E26: Subtotal = | F26: =SUM(F17:F24) -> 4455.31
B27: TRANSPORTES:
B28: CAMION 350 | C28: hr | D28: 0.08 | E28: 64688 | F28: =ROUND(D28*E28, 2) -> 5175.04
E29: Subtotal = | F29: =SUM(F28:F28) -> 5175.04
B30: MANO de OBRA:
B31: CUADRILLA 1 OF + 1 AY | C31: Día | D31: 0.133764 | E31: 221000 | F31: =ROUND(D31*E31, 2) -> 29561.84
E32: Subtotal = | F32: =SUM(F31:F31) -> 29561.84
E34: VR COSTO DIRECTO = | F34: =ROUND(SUM(F4:F32)/2, 0) -> 98560
A36: ='[2]ACTA 3'!A147 -> NP 2.1 | B36: ='[2]ACTA 3'!B147 -> Demolición de muro en bloque de concreto macizo de 20cm de espesor | C36: UNIDAD:m2
A37: DESCRIPCIÓN | C37: UNIDAD | D37: CANT/ REND | E37: PRECIO UNITARIO | F37: VR PARCIAL
B38: MATERIALES:
E40: Subtotal = | F40: =SUM(F39:F39) -> 0
B41: EQUIPO y HERRAMIENTAS:
B42: ANDAMIO TUBULAR CON TIJERA 1.50x1.50 m | C42: Día | D42: 0.15 | E42: 5246 | F42: =ROUND(D42*E42, 2) -> 786.9
B43: HERRAMIENTA MENOR | C43: %Mo | D43: 5 | E43: =F50 -> 47387.01 | F43: =ROUND(D43*E43/100, 2) -> 2369.35
E45: Subtotal = | F45: =SUM(F42:F43) -> 3156.25
...
