Workbook
Name \0: #REF!
Name \00: #REF!
Name \a: #REF!
Name \AA: [1]LIQUIDACION!#REF!
Name \b: #REF!
Name \bb: [2]STRSUMM0!#REF!
Name \c: #REF!
Name \E: #REF!
Name \EE: #REF!
Name \eliminar: [3]RESUM96!#REF!
Name \eliminar1: [3]RESUM96!#REF!
Name \G: #REF!
Name \k: '[4]7422CW00'!#REF!
Name \l: [5]STRSUMM0!#REF!
Name \M: #REF!
Name \ñ: '[6]7422CW00'!#REF!
Name \P: #REF!
Name \q: #REF!
Name \R: #REF!
Name \s: #REF!
Name \V: #REF!
Name \X: #N/A
Name \Z: #N/A
Name ________________EST1: #REF!
Name ________________EST10: #REF!
Name ________________EST11: #REF!
Name ________________EST12: #REF!
Name ________________EST13: #REF!
Name ________________EST14: #REF!
Name ________________EST15: #REF!
Name ________________EST16: #REF!
Name ________________EST17: #REF!
Name ________________EST18: #REF!
Name ________________EST19: #REF!
Name ________________EST2: #REF!
Name ________________EST3: #REF!
Name ________________EST4: #REF!
Name ________________EST5: #REF!
Name ________________EST6: #REF!
Name ________________EST7: #REF!
Name ________________EST8: #REF!
Name ________________EST9: #REF!
Name ________________EXC1: #REF!
Name ________________EXC10: #REF!
Name ________________EXC11: #REF!
Name ________________EXC12: #REF!
Name ________________EXC2: #REF!
Name ________________EXC3: #REF!
Name ________________EXC4: #REF!
Name ________________EXC5: #REF!
Name ________________EXC6: #REF!
Name ________________EXC7: #REF!
Name ________________EXC8: #REF!
Name ________________EXC9: #REF!
Name _______________EST1: #REF!
Name _______________EST10: #REF!
Name _______________EST11: #REF!
Name _______________EST12: #REF!
Name _______________EST13: #REF!
Name _______________EST14: #REF!

Sheet PPTO CONSUL - ANEXO 12
B2: 1 | C2: 2 | D2: 3 | E2: 4 | F2: 5 | G2: 6
C3: PRESUPUESTO ESTIMADO: CONSULTORIA | O3: FLUJO DE CAJA
C4: ACTIVIDADES | D4: % | E4: UND | F4: CANTIDAD | G4: VALOR TOTAL | H4: VALOR TOTAL (INCLUYE IVA) | I4: % | J4: VERIF | M4: % | O4: MES 1 | P4: MES 2 | Q4: MES 3 | R4: MES 4 | S4: MES 5 | T4: MES 6 | U4: TOTAL | W4: DIFERENCIA
B5: ITEM | C5: FASE 0. Acciones previas - Declaratoria | D5: =SUM(D6:D12) -> 0.4634587 | G5: =SUM(G6:G12) -> 266293339 | H5: =SUM(H6:H12) -> 316889075 | O5: =SUM(O6:O12) -> 1.3470922e+08 | P5: =SUM(P6:P12) -> 1.3158412e+08 | Q5: =SUM(Q6:Q12) -> 0 | R5: =SUM(R6:R12) -> 0 | S5: =SUM(S6:S12) -> 0 | T5: =SUM(T6:T12) -> 0 | U5: =SUM(U6:U12) -> 266293339
B6: 1.01 | C6: Priorización de cuerpos de agua para el acotamiento de su ronda hídrica | D6: =(G6)/$G$37 -> 0.03379667 | E6: GLB | F6: 1 | G6: 19418835 | H6: =ROUND((G6*1.19),0) -> 23108414 | I6: =H6/$H$37 -> 0.033796671 | J6: =+D6-I6 -> -5.1534432e-10 | O6: =$G6*0.5 -> 9709417.5 | P6: =$G6*0.5 -> 9709417.5 | U6: =SUM(O6:T6) -> 19418835 | W6: =+G6-U6 -> 0
B7: 1.02 | C7: Recopilación de información secundaria | D7: =(G7)/$G$37 -> 0.03379667 | E7: GLB | F7: 1 | G7: 19418835 | H7: =ROUND((G7*1.19),0) -> 23108414 | I7: =H7/$H$37 -> 0.033796671 | J7: =+D7-I7 -> -5.1534432e-10 | O7: =$G7*0.5 -> 9709417.5 | P7: =$G7*0.5 -> 9709417.5 | U7: =SUM(O7:T7) -> 19418835 | W7: =+G7-U7 -> 0
B8: 1.03 | C8: Diseño de la estrategia de participación | D8: =(G8)/$G$37 -> 0.0054389449 | E8: GLB | F8: 1 | G8: 3125100 | H8: =ROUND((G8*1.19),0) -> 3718869 | I8: =H8/$H$37 -> 0.0054389449 | J8: =+D8-I8 -> -5.5682195e-13 | O8: =$G8*1 -> 3125100 | U8: =SUM(O8:T8) -> 3125100 | W8: =+G8-U8 -> 0
B9: 1.04 | C9: Diseño conceptual de la base de datos geográfica | D9: =(G9)/$G$37 -> 0.03379667 | E9: GLB | F9: 1 | G9: 19418835 | H9: =ROUND((G9*1.19),0) -> 23108414 | I9: =H9/$H$37 -> 0.033796671 | J9: =+D9-I9 -> -5.1534432e-10 | O9: =$G9*0.5 -> 9709417.5 | P9: =$G9*0.5 -> 9709417.5 | U9: =SUM(O9:T9) -> 19418835 | W9: =+G9-U9 -> 0
B10: 1.05 | C10: Estudios soporte | D10: =(G10)/$G$37 -> 0.28903641 | E10: GLB | F10: 1 | G10: 166074064 | H10: =ROUND((G10*1.19),0) -> 197628136 | I10: =H10/$H$37 -> 0.28903641 | J10: =+D10-I10 -> 2.044136e-10 | O10: =$G10*0.5 -> 83037032 | P10: =$G10*0.5 -> 83037032 | U10: =SUM(O10:T10) -> 166074064 | W10: =+G10-U10 -> 0
B11: 1.06 | C11: Programación de actividades | D11: =(G11)/$G$37 -> 0.03379667 | E11: GLB | F11: 1 | G11: 19418835 | H11: =ROUND((G11*1.19),0) -> 23108414 | I11: =H11/$H$37 -> 0.033796671 | J11: =+D11-I11 -> -5.1534432e-10 | O11: =$G11*0.5 -> 9709417.5 | P11: =$G11*0.5 -> 9709417.5 | U11: =SUM(O11:T11) -> 19418835 | W11: =+G11-U11 -> 0
B12: 1.07 | C12: Plan Operativo | D12: =(G12)/$G$37 -> 0.03379667 | E12: GLB | F12: 1 | G12: 19418835 | H12: =ROUND((G12*1.19),0) -> 23108414 | I12: =H12/$H$37 -> 0.033796671 | J12: =+D12-I12 -> -5.1534432e-10 | O12: =$G12*0.5 -> 9709417.5 | P12: =$G12*0.5 -> 9709417.5 | U12: =SUM(O12:T12) -> 19418835 | W12: =+G12-U12 -> 0
C13: FASE 1: Delimitación del cauce permanente o de la línea de mareas máximas | D13: =SUM(D15:D17) -> 0.20122009 | G13: =SUM(G15:G17) -> 115616706 | H13: =SUM(H15:H17) -> 137583880 | O13: =SUM(O15:O17) -> 0 | P13: =SUM(P15:P17) -> 0 | Q13: =SUM(Q15:Q17) -> 115616706 | R13: =SUM(R15:R17) -> 0 | S13: =SUM(S15:S17) -> 0 | T13: =SUM(T15:T17) -> 0 | U13: =SUM(U15:U17) -> 115616706 | W13: =+G13-U13 -> 0
B14: 2.01 | C14: Delimitación del Cauce Permanente | W14: =+G14-U14 -> 0
B15: 2.02 | C15: Identificación preliminar de las formas del terreno asociadas al cauce permanente | D15: =(G15)/$G$37 -> 0.087769152 | E15: GLB | F15: 1 | G15: 50430255 | H15: =ROUND((G15*1.19),0) -> 60012003 | I15: =H15/$H$37 -> 0.087769152 | J15: =+D15-I15 -> 6.4915144e-10 | Q15: =$G15*1 -> 50430255 | U15: =SUM(O15:T15) -> 50430255 | W15: =+G15-U15 -> 0
B16: 2.03 | C16: Delimitación el ancho del cauce permanente y verificarlo en campo | D16: =(G16)/$G$37 -> 0.043313029 | E16: GLB | F16: 1 | G16: 24886729 | H16: =ROUND((G16*1.19),0) -> 29615208 | I16: =H16/$H$37 -> 0.04331303 | J16: =+D16-I16 -> -7.2107229e-10 | Q16: =$G16*1 -> 24886729 | U16: =SUM(O16:T16) -> 24886729 | W16: =+G16-U16 -> 0
B17: 2.04 | C17: Delimitación el cauce permanente del sistema lótico | D17: =(G17)/$G$37 -> 0.070137905 | E17: GLB | F17: 1 | G17: 40299722 | H17: =ROUND((G17*1.19),0) -> 47956669 | I17: =H17/$H$37 -> 0.070137905 | J17: =+D17-I17 -> 2.5607429e-10 | Q17: =$G17*1 -> 40299722 | U17: =SUM(O17:T17) -> 40299722 | W17: =+G17-U17 -> 0
C18: FASE 2. Definición del límite físico y de estrategias para el manejo ambiental de la ronda hídrica | D18: =SUM(D20:D36) -> 0.33532121 | G18: =SUM(G20:G36) -> 192668308 | H18: =SUM(H20:H36) -> 229275285 | O18: =SUM(O20:O36) -> 0 | P18: =SUM(P20:P36) -> 0 | Q18: =SUM(Q20:Q36) -> 0 | R18: =SUM(R20:R36) -> 99645384 | S18: =SUM(S20:S36) -> 45853736 | T18: =SUM(T20:T36) -> 47169188 | U18: =SUM(U20:U36) -> 192668308 | W18: =+G18-U18 -> 0
B19: 3.01 | C19: Definición del límite físico | W19: =+G19-U19 -> 0
B20: 3.02 | C20: Delimitación del componente geomorfológico | D20: =(G20)/$G$37 -> 0.021600093 | E20: GLB | F20: 1 | G20: 12410946 | H20: =ROUND((G20*1.19),0) -> 14769026 | I20: =H20/$H$37 -> 0.021600094 | J20: =+D20-I20 -> -3.8246827e-10 | R20: =$G20*1 -> 12410946 | U20: =SUM(O20:T20) -> 12410946 | W20: =+G20-U20 -> 0
B21: 3.03 | C21: Delimitación del componente hidrológico | D21: =(G21)/$G$37 -> 0.021600093 | E21: GLB | F21: 1 | G21: 12410946 | H21: =ROUND((G21*1.19),0) -> 14769026 | I21: =H21/$H$37 -> 0.021600094 | J21: =+D21-I21 -> -3.8246827e-10 | R21: =$G21*1 -> 12410946 | U21: =SUM(O21:T21) -> 12410946 | W21: =+G21-U21 -> 0
B22: 3.04 | C22: Delimitación del componente ecosistémico | D22: =(G22)/$G$37 -> 0.10862321 | E22: GLB | F22: 1 | G22: 62412546 | H22: =ROUND((G22*1.19),0) -> 74270930 | I22: =H22/$H$37 -> 0.10862321 | J22: =+D22-I22 -> -3.9137743e-10 | R22: =$G22*1 -> 62412546 | U22: =SUM(O22:T22) -> 62412546 | W22: =+G22-U22 -> 0
B23: 3.05 | C23: Definición del límite físico de la ronda hídrica | D23: =(G23)/$G$37 -> 0.021600093 | E23: GLB | F23: 1 | G23: 12410946 | H23: =ROUND((G23*1.19),0) -> 14769026 | I23: =H23/$H$37 -> 0.021600094 | J23: =+D23-I23 -> -3.8246827e-10 | R23: =$G23*1 -> 12410946 | U23: =SUM(O23:T23) -> 12410946 | W23: =+G23-U23 -> 0
B24: 3.06 | C24: Directrices para el manejo ambiental de las rondas hídricas | W24: =+G24-U24 -> 0
B25: 3,06,01 | C25: Aprobación de las generalidades | D25: =(G25)/$G$37 -> 0.01487304 | E25: GLB | F25: 1 | G25: 8545727 | H25: =ROUND((G25*1.19),0) -> 10169415 | I25: =H25/$H$37 -> 0.01487304 | J25: =+D25-I25 -> 1.886058e-10 | S25: =$G25*1 -> 8545727 | U25: =SUM(O25:T25) -> 8545727 | W25: =+G25-U25 -> 0
B26: 3,06,02 | C26: Identificación de los elementos constituyentes de la ronda hídrica establecidos en el artículo 206 de la Ley 1450 de 2011 | D26: =(G26)/$G$37 -> 0.01487304 | E26: GLB | F26: 1 | G26: 8545727 | H26: =ROUND((G26*1.19),0) -> 10169415 | I26: =H26/$H$37 -> 0.01487304 | J26: =+D26-I26 -> 1.886058e-10 | S26: =$G26*1 -> 8545727 | U26: =SUM(O26:T26) -> 8545727 | W26: =+G26-U26 -> 0
B27: 3,06,03 | C27: Identificación de actores | D27: =(G27)/$G$37 -> 0.039134278 | E27: GLB | F27: 1 | G27: 22485709 | H27: =ROUND((G27*1.19),0) -> 26757994 | I27: =H27/$H$37 -> 0.039134278 | J27: =+D27-I27 -> -4.2813916e-10 | S27: =$G27*0.519033122388256 -> 11670828 | T27: =$G27*0.480966877611744 -> 10814881 | U27: =SUM(O27:T27) -> 22485709 | W27: =+G27-U27 -> 0
B28: 3,06,04 | C28: Identificación de servicios ecosistémicos | D28: =(G28)/$G$37 -> 0.01487304 | E28: GLB | F28: 1 | G28: 8545727 | H28: =ROUND((G28*1.19),0) -> 10169415 | I28: =H28/$H$37 -> 0.01487304 | J28: =+D28-I28 -> 1.886058e-10 | S28: =$G28*1 -> 8545727 | U28: =SUM(O28:T28) -> 8545727 | W28: =+G28-U28 -> 0
B29: 3,06,05 | C29: Estrategias para el manejo ambiental de las rondas hídricas. | D29: =(G29)/$G$37 -> 0.01487304 | E29: GLB | F29: 1 | G29: 8545727 | H29: =ROUND((G29*1.19),0) -> 10169415 | I29: =H29/$H$37 -> 0.01487304 | J29: =+D29-I29 -> 1.886058e-10 | S29: =$G29*1 -> 8545727 | U29: =SUM(O29:T29) -> 8545727 | W29: =+G29-U29 -> 0
B30: 3.12 | C30: Remisión de los resultados del acotamiento de las rondas hídricas y de sus estrategias para el manejo ambiental a los municipios y distritos | W30: =+G30-U30 -> 0
B31: 3,07,01 | C31: Remisión de los resultados del acotamiento a los municipios y distritos | D31: =(G31)/$G$37 -> 0.0097378938 | E31: GLB | F31: 1 | G31: 5595183 | H31: =ROUNDDOWN((G31*1.19),0) -> 6658267 | I31: =H31/$H$37 -> 0.0097378927 | J31: =+D31-I31 -> 1.1251486e-09 | T31: =$G31*1 -> 5595183 | U31: =SUM(O31:T31) -> 5595183 | W31: =+G31-U31 -> 0
B32: 3.14 | C32: Plan de seguimiento y evaluación | W32: =+G32-U32 -> 0
B33: 3,08,01 | C33: Línea base de seguimiento y evaluación | D33: =(G33)/$G$37 -> 0.013383346 | E33: GLB | F33: 1 | G33: 7689781 | H33: =ROUNDDOWN((G33*1.19),0) -> 9150839 | I33: =H33/$H$37 -> 0.013383346 | J33: =+D33-I33 -> 5.6901523e-10 | T33: =$G33*1 -> 7689781 | U33: =SUM(O33:T33) -> 7689781 | W33: =+G33-U33 -> 0
B34: 3,08,02 | C34: Formulación del Plan de Seguimiento y Evaluación | D34: =(G34)/$G$37 -> 0.013383346 | E34: GLB | F34: 1 | G34: 7689781 | H34: =ROUNDDOWN((G34*1.19),0) -> 9150839 | I34: =H34/$H$37 -> 0.013383346 | J34: =+D34-I34 -> 5.6901523e-10 | T34: =$G34*1 -> 7689781 | U34: =SUM(O34:T34) -> 7689781 | W34: =+G34-U34 -> 0
B35: 3,08,03 | C35: Elaboración de la Providencia | D35: =(G35)/$G$37 -> 0.013383346 | E35: GLB | F35: 1 | G35: 7689781 | H35: =ROUNDDOWN((G35*1.19),0) -> 9150839 | I35: =H35/$H$37 -> 0.013383346 | J35: =+D35-I35 -> 5.6901523e-10 | T35: =$G35*1 -> 7689781 | U35: =SUM(O35:T35) -> 7689781 | W35: =+G35-U35 -> 0
B36: 3,08,04 | C36: Resolución de Ronda | D36: =(G36)/$G$37 -> 0.013383346 | E36: GLB | F36: 1 | G36: 7689781 | H36: =ROUNDDOWN((G36*1.19),0) -> 9150839 | I36: =H36/$H$37 -> 0.013383346 | J36: =+D36-I36 -> 5.6901523e-10 | T36: =$G36*1 -> 7689781 | U36: =SUM(O36:T36) -> 7689781 | W36: =+G36-U36 -> 0
C37: SUBTOTAL ACOTAMIENTO LAS GACHAS | D37: =+D5+D13+D18 -> 1 | G37: =+G5+G13+G18 -> 574578353 | H37: =+H5+H13+H18 -> 683748240 | O37: =+O5+O13+O18 -> 1.3470922e+08 | P37: =+P5+P13+P18 -> 1.3158412e+08 | Q37: =+Q5+Q13+Q18 -> 115616706 | R37: =+R5+R13+R18 -> 99645384 | S37: =+S5+S13+S18 -> 45853736 | T37: =+T5+T13+T18 -> 47169188 | U37: =+U5+U13+U18 -> 574578353 | W37: =+W5+W13+W18 -> 0
C38: IVA 19% | G38: =ROUND((G37*0.19),0) -> 109169887 | O38: =+O37*0.19 -> 25594752 | P38: =+P37*0.19 -> 25000983 | Q38: =+Q37*0.19 -> 21967174 | R38: =+R37*0.19 -> 18932623 | S38: =+S37*0.19 -> 8712209.8 | T38: =+T37*0.19 -> 8962145.8 | U38: =+U37*0.19 -> 1.0916989e+08 | W38: =+W37*0.19 -> 0
C39: VALOR TOTAL | G39: =ROUND((G37+G38),0) -> 683748240 | O39: =ROUND((O37+O38),0) -> 160303971 | P39: =ROUND((P37+P38),0) -> 156585102 | Q39: =ROUND((Q37+Q38),0) -> 137583880 | R39: =ROUND((R37+R38),0) -> 118578007 | S39: =ROUND((S37+S38),0) -> 54565946 | T39: =ROUND((T37+T38),0) -> 56131334 | U39: =ROUND((U37+U38),0) -> 683748240 | W39: =ROUND((W37+W38),0) -> 0
C41: PRESUPUESTO CONSULTOR - ANEXO 12 | G41: 683748240
C42: DIFERENCIA | G42: =G41-G39 -> 0

Sheet PROGRAMACION
D4: ESTUDIOS PARA LA DELIMITACIÓN DE LA RONDA HÍDRICA DE LA QUEBRADA LAS GACHAS EN EL MUNICIPIO DE GUADALUPE, SANTANDER - No. CM2-008-2025 | S4: SEGUIMIENTO PLAN DE TRABAJO VERSION 1 - 12 DE SEPTIEMBRE DE 2025
S5: INICIO DE ACTIVIDAD | T5: FECHA DE CORTE | U5: FECHA REAL DE FINALIZACION DE LA ACTIVIDAD | V5: TIEMPO EJECUTADO REAL | W5: TIEMPO (Dias) A EJECUTAR LA ACTIVIDAD | X5: % PROGRAMADO A FECHA DE CORTE | Y5: ATRASO % POR ACTIVIDAD | Z5: DIAS DE ATRASO y/o ADELANTO
T6: =TODAY() -> 46076
E7: VALOR DEL CONTRATO CONSULTORIA | F7: =+'PPTO CONSUL - ANEXO 12'!G39 -> 683748240
D9: ID | E9: ACTIVIDADES | F9: RESPONSABLE | G9: ACTIVIDAD PROYECTADA | H9: ACTIVIDAD EJECUTADA | I9: VALOR PROGRAMADO | J9: VALOR EJECUTADO | K9: Inicio | L9: Fin | M9: N°Días | O9: Observaciones
D10: 0 | E10: Firma Contrato Consultor | F10: Consultor - Supervision | I10: NA | J10: NA | K10: 45884 | L10: =+K10 -> 45884 | M10: =-((_xlfn.DAYS(K10,L10)))+1 -> 1
D11: 0 | E11: Firma Contrato Interventor | F11: Consultor - Supervision | I11: NA | J11: NA | K11: 45889 | L11: =+K11 -> 45889 | M11: =-((_xlfn.DAYS(K11,L11)))+1 -> 1
D12: 0 | E12: Documentacion | F12: Consultor - Interventor | I12: NA | J12: NA | K12: =+L11+1 -> 45890 | L12: =+K12+7 -> 45897 | M12: =-((_xlfn.DAYS(K12,L12)))+1 -> 8
D13: 0 | E13: Acta de Inicio | F13: Consultor - Supervision - Interventoria | I13: NA | J13: NA | K13: =+L12+5 -> 45902 | L13: =+K13 -> 45902 | M13: =-((_xlfn.DAYS(K13,L13)))+1 -> 1
D14: 1 | E14: FASE 0. Acciones previas - Declaratoria | G14: 0.4635 | H14: =+H30+H33+H44+H49+H52+H55 -> 0 | I14: =+'PPTO CONSUL - ANEXO 12'!U5 -> 266293339 | X14: =SUM(X15:X77) -> 0.76343708
D15: Admon | E15: Solicitud de Documentacion Contractual a Consultor | F15: Interventor | I15: NA | J15: NA | K15: =+$L$13+2 -> 45904 | L15: =+K15+1 -> 45905 | M15: =-((_xlfn.DAYS(K15,L15))) -> 1 | S15: =K15 -> 45904 | T15: =$T$6 -> 46076 | V15: =IF(U15=0,(T15-S15),(U15-S15)) -> 172 | W15: =IF(V15<=0,0,IF(V15>M15,M15,V15)) -> 1 | X15: =(IF(W15/M15<0,0,W15/M15))*G15 -> 0 | Y15: =H15-X15 -> 0 | Z15: =M15-V15 -> -171
D16: Admon | E16: Entrega de Documentacion Contractual | F16: Consultor | I16: NA | J16: NA | K16: =+L15 -> 45905 | L16: =+K16+5 -> 45910 | M16: =-((_xlfn.DAYS(K16,L16))) -> 5 | S16: =K16 -> 45905 | T16: =$T$6 -> 46076 | V16: =IF(U16=0,(T16-S16),(U16-S16)) -> 171 | W16: =IF(V16<=0,0,IF(V16>M16,M16,V16)) -> 5 | X16: =(IF(W16/M16<0,0,W16/M16))*G16 -> 0 | Y16: =H16-X16 -> 0 | Z16: =M16-V16 -> -166
D17: Admon | E17: Revision de Documentacion Contractual (Aprobacion/No aprobacion) | F17: Interventor | I17: NA | J17: NA | K17: =+L16 -> 45910 | L17: =+K17+4 -> 45914 | M17: =-((_xlfn.DAYS(K17,L17))) -> 4 | S17: =K17 -> 45910 | T17: =$T$6 -> 46076 | V17: =IF(U17=0,(T17-S17),(U17-S17)) -> 166 | W17: =IF(V17<=0,0,IF(V17>M17,M17,V17)) -> 4 | X17: =(IF(W17/M17<0,0,W17/M17))*G17 -> 0 | Y17: =H17-X17 -> 0 | Z17: =M17-V17 -> -162
D18: Admon | E18: Solicitud de Certificacion de Equipos a Utilizar por parte del Consultor | F18: Interventor | I18: NA | J18: NA | K18: =+$L$13+2 -> 45904 | L18: =+K18+1 -> 45905 | M18: =-((_xlfn.DAYS(K18,L18))) -> 1 | S18: =K18 -> 45904 | T18: =$T$6 -> 46076 | V18: =IF(U18=0,(T18-S18),(U18-S18)) -> 172 | W18: =IF(V18<=0,0,IF(V18>M18,M18,V18)) -> 1 | X18: =(IF(W18/M18<0,0,W18/M18))*G18 -> 0 | Y18: =H18-X18 -> 0 | Z18: =M18-V18 -> -171
D19: Admon | E19: Entrega de Certificacion de Equipos a Utilizar por parte del Consultor | F19: Consultor | I19: NA | J19: NA | K19: =+K65-5 -> 45940 | L19: =+K19+5 -> 45945 | M19: =-((_xlfn.DAYS(K19,L19))) -> 5 | S19: =K19 -> 45940 | T19: =$T$6 -> 46076 | V19: =IF(U19=0,(T19-S19),(U19-S19)) -> 136 | W19: =IF(V19<=0,0,IF(V19>M19,M19,V19)) -> 5 | X19: =(IF(W19/M19<0,0,W19/M19))*G19 -> 0 | Y19: =H19-X19 -> 0 | Z19: =M19-V19 -> -131
D20: Admon | E20: Revision de Certificacion de Equipos a Utiliza (Aprobacion/No aprobacion) | F20: Interventor | I20: NA | J20: NA | K20: 45931 | L20: =+K20+4 -> 45935 | M20: =-((_xlfn.DAYS(K20,L20))) -> 4 | S20: =K20 -> 45931 | T20: =$T$6 -> 46076 | V20: =IF(U20=0,(T20-S20),(U20-S20)) -> 145 | W20: =IF(V20<=0,0,IF(V20>M20,M20,V20)) -> 4 | X20: =(IF(W20/M20<0,0,W20/M20))*G20 -> 0 | Y20: =H20-X20 -> 0 | Z20: =M20-V20 -> -141
D21: Admon | E21: Solicitud de Arte y especificaciones Pendon por parte del Consultor | F21: Interventor | I21: NA | J21: NA | K21: =+$L$13+2 -> 45904 | L21: =+K21+1 -> 45905 | M21: =-((_xlfn.DAYS(K21,L21))) -> 1 | S21: =K21 -> 45904 | T21: =$T$6 -> 46076 | V21: =IF(U21=0,(T21-S21),(U21-S21)) -> 172 | W21: =IF(V21<=0,0,IF(V21>M21,M21,V21)) -> 1 | X21: =(IF(W21/M21<0,0,W21/M21))*G21 -> 0 | Y21: =H21-X21 -> 0 | Z21: =M21-V21 -> -171
D22: Admon | E22: Entrega de Arte y especificaciones Pendon por parte del Consultor | F22: Consultor | I22: NA | J22: NA | K22: =+L21 -> 45905 | L22: 45916 | M22: =-((_xlfn.DAYS(K22,L22))) -> 11 | S22: =K22 -> 45905 | T22: =$T$6 -> 46076 | V22: =IF(U22=0,(T22-S22),(U22-S22)) -> 171 | W22: =IF(V22<=0,0,IF(V22>M22,M22,V22)) -> 11 | X22: =(IF(W22/M22<0,0,W22/M22))*G22 -> 0 | Y22: =H22-X22 -> 0 | Z22: =M22-V22 -> -160
D23: Admon | E23: Revision de Arte y especificaciones Pendon (Aprobacion/No aprobacion) | F23: Interventor | I23: NA | J23: NA | K23: =+L22 -> 45916 | L23: =+K23+4 -> 45920 | M23: =-((_xlfn.DAYS(K23,L23))) -> 4 | S23: =K23 -> 45916 | T23: =$T$6 -> 46076 | V23: =IF(U23=0,(T23-S23),(U23-S23)) -> 160 | W23: =IF(V23<=0,0,IF(V23>M23,M23,V23)) -> 4 | X23: =(IF(W23/M23<0,0,W23/M23))*G23 -> 0 | Y23: =H23-X23 -> 0 | Z23: =M23-V23 -> -156
D24: Admon | E24: Solicitud de Arte y especificaciones de Indumentarias para el personal del Contratista | F24: Interventor | I24: NA | J24: NA | K24: =+$L$13+2 -> 45904 | L24: =+K24+1 -> 45905 | M24: =-((_xlfn.DAYS(K24,L24))) -> 1 | S24: =K24 -> 45904 | T24: =$T$6 -> 46076 | V24: =IF(U24=0,(T24-S24),(U24-S24)) -> 172 | W24: =IF(V24<=0,0,IF(V24>M24,M24,V24)) -> 1 | X24: =(IF(W24/M24<0,0,W24/M24))*G24 -> 0 | Y24: =H24-X24 -> 0 | Z24: =M24-V24 -> -171
D25: Admon | E25: Entrega de Arte y especificaciones de Indumentarias para el personal del Contratista | F25: Consultor | I25: NA | J25: NA | K25: =+L24 -> 45905 | L25: =+K25+5 -> 45910 | M25: =-((_xlfn.DAYS(K25,L25))) -> 5 | S25: =K25 -> 45905 | T25: =$T$6 -> 46076 | V25: =IF(U25=0,(T25-S25),(U25-S25)) -> 171 | W25: =IF(V25<=0,0,IF(V25>M25,M25,V25)) -> 5 | X25: =(IF(W25/M25<0,0,W25/M25))*G25 -> 0 | Y25: =H25-X25 -> 0 | Z25: =M25-V25 -> -166
D26: Admon | E26: Revision de Indumentarias (Aprobacion/No aprobacion) | F26: Interventor | I26: NA | J26: NA | K26: =+L25 -> 45910 | L26: =+K26+4 -> 45914 | M26: =-((_xlfn.DAYS(K26,L26))) -> 4 | S26: =K26 -> 45910 | T26: =$T$6 -> 46076 | V26: =IF(U26=0,(T26-S26),(U26-S26)) -> 166 | W26: =IF(V26<=0,0,IF(V26>M26,M26,V26)) -> 4 | X26: =(IF(W26/M26<0,0,W26/M26))*G26 -> 0 | Y26: =H26-X26 -> 0 | Z26: =M26-V26 -> -162
D27: Admon | E27: Solicitud de Entrega de la política de especial consideración a la conservación del medio ambiente del Contratista | F27: Interventor | I27: NA | J27: NA | K27: 45912 | L27: =+K27+1 -> 45913 | M27: =-((_xlfn.DAYS(K27,L27))) -> 1 | S27: =K27 -> 45912 | T27: =$T$6 -> 46076 | V27: =IF(U27=0,(T27-S27),(U27-S27)) -> 164 | W27: =IF(V27<=0,0,IF(V27>M27,M27,V27)) -> 1 | X27: =(IF(W27/M27<0,0,W27/M27))*G27 -> 0 | Y27: =H27-X27 -> 0 | Z27: =M27-V27 -> -163
D28: Admon | E28: Entrega de la política de especial consideración a la conservación del medio ambiente del Contratista | F28: Consultor | I28: NA | J28: NA | K28: =+L27 -> 45913 | L28: =+K28+5 -> 45918 | M28: =-((_xlfn.DAYS(K28,L28))) -> 5 | S28: =K28 -> 45913 | T28: =$T$6 -> 46076 | V28: =IF(U28=0,(T28-S28),(U28-S28)) -> 163 | W28: =IF(V28<=0,0,IF(V28>M28,M28,V28)) -> 5 | X28: =(IF(W28/M28<0,0,W28/M28))*G28 -> 0 | Y28: =H28-X28 -> 0 | Z28: =M28-V28 -> -158
D29: Admon | E29: Revision de Politica Ambiental (Aprobacion/No aprobacion) | F29: Interventor | I29: NA | J29: NA | K29: =+L28 -> 45918 | L29: =+K29+4 -> 45922 | M29: =-((_xlfn.DAYS(K29,L29))) -> 4 | S29: =K29 -> 45918 | T29: =$T$6 -> 46076 | V29: =IF(U29=0,(T29-S29),(U29-S29)) -> 158 | W29: =IF(V29<=0,0,IF(V29>M29,M29,V29)) -> 4 | X29: =(IF(W29/M29<0,0,W29/M29))*G29 -> 0 | Y29: =H29-X29 -> 0 | Z29: =M29-V29 -> -154
D30: 1.01 | E30: Priorización de cuerpos de agua para el acotamiento de su ronda hídrica | F30: Consultor | G30: =+'PPTO CONSUL - ANEXO 12'!D6 -> 0.03379667 | H30: =SUM(H31:H32) -> 0 | I30: =+'PPTO CONSUL - ANEXO 12'!U6 -> 19418835 | J30: =ROUND((H30/$F$7),0) -> 0 | K30: =MIN(K31:K32) -> 45915 | L30: =MAX(L31:L32) -> 45931 | M30: =-((_xlfn.DAYS(K30,L30))) -> 16 | S30: =K30 -> 45915 | T30: =$T$6 -> 46076 | V30: =IF(U30=0,(T30-S30),(U30-S30)) -> 161 | W30: =IF(V30<=0,0,IF(V30>M30,M30,V30)) -> 16 | X30: =(IF(W30/M30<0,0,W30/M30))*G30 -> 0.03379667 | Y30: =H30-X30 -> -0.03379667 | Z30: =M30-V30 -> -145
D31: 1,01,01 | E31: Entrega Informe de Priorización de cuerpos de agua para el acotamiento de su ronda hídrica | F31: Consultor | K31: 45915 | L31: =+K31+10 -> 45925 | M31: =-((_xlfn.DAYS(K31,L31))) -> 10 | S31: =K31 -> 45915 | T31: =$T$6 -> 46076 | V31: =IF(U31=0,(T31-S31),(U31-S31)) -> 161 | W31: =IF(V31<=0,0,IF(V31>M31,M31,V31)) -> 10 | X31: =(IF(W31/M31<0,0,W31/M31))*G31 -> 0 | Y31: =H31-X31 -> 0 | Z31: =M31-V31 -> -151
D32: 1,01,02 | E32: Revision Informe de Priorización de cuerpos de agua para el acotamiento de su ronda hídrica | F32: Interventoria | K32: =+L31+1 -> 45926 | L32: =+K32+5 -> 45931 | M32: =-((_xlfn.DAYS(K32,L32))) -> 5 | S32: =K32 -> 45926 | T32: =$T$6 -> 46076 | V32: =IF(U32=0,(T32-S32),(U32-S32)) -> 150 | W32: =IF(V32<=0,0,IF(V32>M32,M32,V32)) -> 5 | X32: =(IF(W32/M32<0,0,W32/M32))*G32 -> 0 | Y32: =H32-X32 -> 0 | Z32: =M32-V32 -> -145
D33: 1.02 | E33: Recopilación de información secundaria | F33: Consultor | G33: =+'PPTO CONSUL - ANEXO 12'!D7 -> 0.03379667 | H33: =SUM(H34:H43) -> 0 | I33: =+'PPTO CONSUL - ANEXO 12'!U7 -> 19418835 | J33: =ROUND((H33/$F$7),0) -> 0 | K33: =MIN(K34:K43) -> 45912 | L33: =MAX(L34:L43) -> 45945 | M33: =-((_xlfn.DAYS(K33,L33))) -> 33 | S33: =K33 -> 45912 | T33: =$T$6 -> 46076 | V33: =IF(U33=0,(T33-S33),(U33-S33)) -> 164 | W33: =IF(V33<=0,0,IF(V33>M33,M33,V33)) -> 33 | X33: =(IF(W33/M33<0,0,W33/M33))*G33 -> 0.03379667 | Y33: =H33-X33 -> -0.03379667 | Z33: =M33-V33 -> -131
D34: 1,02,01 | E34: Informacion historica de eventos de inundaciones o avenidas torrenciales | F34: Consultor | G34: =$G$33/8 -> 0.0042245838 | I34: =ROUND(($F$7*G34),0) -> 2888552 | J34: =ROUND((H34/$F$7),0) -> 0 | K34: 45912 | L34: =+K34+8 -> 45920 | M34: =-((_xlfn.DAYS(K34,L34))) -> 8 | S34: =K34 -> 45912 | T34: =$T$6 -> 46076 | V34: =IF(U34=0,(T34-S34),(U34-S34)) -> 164 | W34: =IF(V34<=0,0,IF(V34>M34,M34,V34)) -> 8 | X34: =(IF(W34/M34<0,0,W34/M34))*G34 -> 0.0042245838 | Y34: =H34-X34 -> -0.0042245838 | Z34: =M34-V34 -> -156
D35: 1,02,02 | E35: Caracterizacion climatica | F35: Consultor | G35: =$G$33/8 -> 0.0042245838 | I35: =ROUND(($F$7*G35),0) -> 2888552 | J35: =ROUND((H35/$F$7),0) -> 0 | K35: 45912 | L35: 45927 | M35: =-((_xlfn.DAYS(K35,L35))) -> 15 | S35: =K35 -> 45912 | T35: =$T$6 -> 46076 | V35: =IF(U35=0,(T35-S35),(U35-S35)) -> 164 | W35: =IF(V35<=0,0,IF(V35>M35,M35,V35)) -> 15 | X35: =(IF(W35/M35<0,0,W35/M35))*G35 -> 0.0042245838 | Y35: =H35-X35 -> -0.0042245838 | Z35: =M35-V35 -> -149
D36: 1,02,03 | E36: Mapa de zonas de vida 1: 100000 | F36: Consultor | G36: =$G$33/8 -> 0.0042245838 | I36: =ROUND(($F$7*G36),0) -> 2888552 | J36: =ROUND((H36/$F$7),0) -> 0 | K36: =+K34 -> 45912 | L36: =+K36+10 -> 45922 | M36: =-((_xlfn.DAYS(K36,L36))) -> 10 | S36: =K36 -> 45912 | T36: =$T$6 -> 46076 | V36: =IF(U36=0,(T36-S36),(U36-S36)) -> 164 | W36: =IF(V36<=0,0,IF(V36>M36,M36,V36)) -> 10 | X36: =(IF(W36/M36<0,0,W36/M36))*G36 -> 0.0042245838 | Y36: =H36-X36 -> -0.0042245838 | Z36: =M36-V36 -> -154
D37: 1,02,04 | E37: Caracterizacion de suelos - Informacion secundaria | F37: Consultor | G37: =$G$33/8 -> 0.0042245838 | I37: =ROUND(($F$7*G37),0) -> 2888552 | J37: =ROUND((H37/$F$7),0) -> 0 | K37: =+K34 -> 45912 | L37: =+K37+10 -> 45922 | M37: =-((_xlfn.DAYS(K37,L37))) -> 10 | S37: =K37 -> 45912 | T37: =$T$6 -> 46076 | V37: =IF(U37=0,(T37-S37),(U37-S37)) -> 164 | W37: =IF(V37<=0,0,IF(V37>M37,M37,V37)) -> 10 | X37: =(IF(W37/M37<0,0,W37/M37))*G37 -> 0.0042245838 | Y37: =H37-X37 -> -0.0042245838 | Z37: =M37-V37 -> -154
D38: 1,02,05 | E38: Mapa de humedades de Colombia | F38: Consultor | G38: =$G$33/8 -> 0.0042245838 | I38: =ROUND(($F$7*G38),0) -> 2888552 | J38: =ROUND((H38/$F$7),0) -> 0 | K38: =+K34 -> 45912 | L38: =+K38+10 -> 45922 | M38: =-((_xlfn.DAYS(K38,L38))) -> 10 | S38: =K38 -> 45912 | T38: =$T$6 -> 46076 | V38: =IF(U38=0,(T38-S38),(U38-S38)) -> 164 | W38: =IF(V38<=0,0,IF(V38>M38,M38,V38)) -> 10 | X38: =(IF(W38/M38<0,0,W38/M38))*G38 -> 0.0042245838 | Y38: =H38-X38 -> -0.0042245838 | Z38: =M38-V38 -> -154
D39: 1,02,06 | E39: Peticiones quejas solicitudes y reclamos o conflictos ambientales | F39: Consultor | G39: =$G$33/8 -> 0.0042245838 | I39: =ROUND(($F$7*G39),0) -> 2888552 | J39: =ROUND((H39/$F$7),0) -> 0 | K39: =+K34 -> 45912 | L39: =+K39+14 -> 45926 | M39: =-((_xlfn.DAYS(K39,L39))) -> 14 | S39: =K39 -> 45912 | T39: =$T$6 -> 46076 | V39: =IF(U39=0,(T39-S39),(U39-S39)) -> 164 | W39: =IF(V39<=0,0,IF(V39>M39,M39,V39)) -> 14 | X39: =(IF(W39/M39<0,0,W39/M39))*G39 -> 0.0042245838 | Y39: =H39-X39 -> -0.0042245838 | Z39: =M39-V39 -> -150
D40: 1,02,07 | E40: Diseño conceptual de la base de datos geografica | F40: Consultor | G40: =$G$33/8 -> 0.0042245838 | I40: =ROUNDDOWN(($F$7*G40),0) -> 2888551 | J40: =ROUND((H40/$F$7),0) -> 0 | K40: =+L34 -> 45920 | L40: =+K40+6 -> 45926 | M40: =-((_xlfn.DAYS(K40,L40))) -> 6 | S40: =K40 -> 45920 | T40: =$T$6 -> 46076 | V40: =IF(U40=0,(T40-S40),(U40-S40)) -> 156 | W40: =IF(V40<=0,0,IF(V40>M40,M40,V40)) -> 6 | X40: =(IF(W40/M40<0,0,W40/M40))*G40 -> 0.0042245838 | Y40: =H40-X40 -> -0.0042245838 | Z40: =M40-V40 -> -150
D41: 1,02,08 | E41: Documento técnico Informacion secundaria - aprobación del area de estudio | F41: Consultor | G41: =$G$33/8 -> 0.0042245838 | I41: =ROUNDDOWN(($F$7*G41),0) -> 2888551 | J41: =ROUND((H41/$F$7),0) -> 0 | K41: =MAX(L34:L40) -> 45927 | L41: =+K41+10 -> 45937 | M41: =-((_xlfn.DAYS(K41,L41))) -> 10 | S41: =K41 -> 45927 | T41: =$T$6 -> 46076 | V41: =IF(U41=0,(T41-S41),(U41-S41)) -> 149 | W41: =IF(V41<=0,0,IF(V41>M41,M41,V41)) -> 10 | X41: =(IF(W41/M41<0,0,W41/M41))*G41 -> 0.0042245838 | Y41: =H41-X41 -> -0.0042245838 | Z41: =M41-V41 -> -139
D42: 1,02,09 | E42: Entrega Informe de Recopilación de información secundaria | F42: Consultor | K42: =MAX(L34:L41) -> 45937 | L42: =+K42+2 -> 45939 | M42: =-((_xlfn.DAYS(K42,L42))) -> 2 | S42: =K42 -> 45937 | T42: =$T$6 -> 46076 | V42: =IF(U42=0,(T42-S42),(U42-S42)) -> 139 | W42: =IF(V42<=0,0,IF(V42>M42,M42,V42)) -> 2 | X42: =(IF(W42/M42<0,0,W42/M42))*G42 -> 0 | Y42: =H42-X42 -> 0 | Z42: =M42-V42 -> -137
D43: 1,02,10 | E43: Revision Informe de Recopilación de información secundaria/aprobacion area estudio | F43: Interventoria | K43: =+L42+1 -> 45940 | L43: =+K43+5 -> 45945 | M43: =-((_xlfn.DAYS(K43,L43))) -> 5 | S43: =K43 -> 45940 | T43: =$T$6 -> 46076 | V43: =IF(U43=0,(T43-S43),(U43-S43)) -> 136 | W43: =IF(V43<=0,0,IF(V43>M43,M43,V43)) -> 5 | X43: =(IF(W43/M43<0,0,W43/M43))*G43 -> 0 | Y43: =H43-X43 -> 0 | Z43: =M43-V43 -> -131
D44: 1.03 | E44: Diseño de la estrategia de participación | F44: Consultor | G44: =+'PPTO CONSUL - ANEXO 12'!D8 -> 0.0054389449 | H44: =SUM(H45:H48) -> 0 | I44: =+'PPTO CONSUL - ANEXO 12'!U8 -> 3125100 | J44: =ROUND((H44/$F$7),0) -> 0 | K44: =MIN(K45:K48) -> 45912 | L44: =MAX(L45:L48) -> 45937 | M44: =-((_xlfn.DAYS(K44,L44))) -> 25 | S44: =K44 -> 45912 | T44: =$T$6 -> 46076 | V44: =IF(U44=0,(T44-S44),(U44-S44)) -> 164 | W44: =IF(V44<=0,0,IF(V44>M44,M44,V44)) -> 25 | X44: =(IF(W44/M44<0,0,W44/M44))*G44 -> 0.0054389449 | Y44: =H44-X44 -> -0.0054389449 | Z44: =M44-V44 -> -139
...

Sheet Linea Base 1 - 160925
E1: 1 | F1: 2 | G1: 3 | H1: 4 | I1: 5 | J1: 6 | K1: 7 | L1: 8 | M1: 9 | N1: 10 | O1: 11 | P1: 12 | Q1: 13 | AD1: 0.16633523
E4: ESTUDIOS PARA LA DELIMITACIÓN DE LA RONDA HÍDRICA DE LA QUEBRADA LAS GACHAS EN EL MUNICIPIO DE GUADALUPE, SANTANDER - No. CM2-008-2025 | V4: SEGUIMIENTO PLAN DE TRABAJO VERSION 1 - 16 DE SEPTIEMBRE DE 2025
V5: INICIO DE ACTIVIDAD | W5: FECHA DE CORTE | Z5: FECHA REAL DE FINALIZACION DE LA ACTIVIDAD | AA5: NUMERO DE COMUNICADO | AB5: TIEMPO EJECUTADO REAL | AC5: TIEMPO (Dias) A EJECUTAR LA ACTIVIDAD | AD5: % PROGRAMADO A FECHA DE CORTE | AE5: ATRASO % POR ACTIVIDAD | AF5: DIAS DE ATRASO y/o ADELANTO
W6: 46013
F7: VALOR DEL CONTRATO CONSULTORIA | G7: =+'PPTO CONSUL - ANEXO 12'!G39 -> 683748240 | P7: RUTA CRITICA
E9: ID | F9: ACTIVIDADES | G9: RESPONSABLE | H9: ACTIVIDAD PROYECTADA | I9: ACTIVIDAD PROGRAMADA | J9: ACTIVIDAD EJECUTADA | K9: VALOR PROYECTADO | L9: Veri | M9: VALOR PROGRAMADO | N9: VALOR EJECUTADO | O9: Inicio | P9: Fin | Q9: N°Días | AF9: DIAS DE ATRASO y/o ADELANTO | AQ9: valor propuesto
E10: 0 | F10: Firma Contrato Consultor | G10: Consultor - Supervision | O10: 45884 | P10: =+O10 -> 45884 | Q10: =-((_xlfn.DAYS(O10,P10)))+1 -> 1 | AO10: NA | AP10: =EXACT(K10,AO10) -> FALSE | AQ10: NA | AT10: 0
E11: 0 | F11: Firma Contrato Interventor | G11: Consultor - Supervision | O11: 45889 | P11: =+O11 -> 45889 | Q11: =-((_xlfn.DAYS(O11,P11)))+1 -> 1 | AO11: NA | AP11: =EXACT(K11,AO11) -> FALSE | AQ11: NA | AT11: 0
E12: 0 | F12: Documentacion | G12: Consultor - Interventor | O12: =+P11+1 -> 45890 | P12: =+O12+7 -> 45897 | Q12: =-((_xlfn.DAYS(O12,P12)))+1 -> 8 | AO12: NA | AP12: =EXACT(K12,AO12) -> FALSE | AQ12: NA | AT12: 0
E13: 0 | F13: Acta de Inicio | G13: Consultor - Supervision - Interventoria | O13: =+P12+5 -> 45902 | P13: =+O13 -> 45902 | Q13: =-((_xlfn.DAYS(O13,P13)))+1 -> 1 | V13: % PROGRAMADO PROYECTO | AD13: =AD14+AD77+AD97 -> 0.74271775 | AE13: =AE14+AE77+AE97 -> -0.36974715 | AJ13: =I14-J14 -> 0.090488103 | AO13: NA | AP13: =EXACT(K13,AO13) -> FALSE | AQ13: NA | AT13: 0
E14: 1 | F14: FASE 0. Acciones previas - Declaratoria | H14: =+H31+H34+H44+H49+H52+H55+H62 -> 0.4634587 | I14: =+I31+I34+I44+I49+I52+I55+I62 -> 0.4634587 | J14: =+J31+J34+J44+J49+J52+J55+J62 -> 0.3729706 | K14: =+K31+K34+K44+K49+K52+K55+K62 -> 316889075 | L14: =+'PPTO CONSUL - ANEXO 12'!H5-K14 -> 0 | M14: =+M31+M34+M44+M49+M52+M55+M62 -> 316889075 | N14: =+N31+N34+N44+N49+N52+N55+N62 -> 255017994 | O14: =MIN(O15:O30) -> 45904 | P14: =MAX(P15:P30) -> 45950 | V14: % FASE 0 | AD14: =SUM(AD15:AD72) -> 0.4634587 | AE14: =SUM(AE15:AE72) -> -0.090488103 | AO14: 316889075 | AP14: =EXACT(K14,AO14) -> TRUE | AQ14: 316889075 | AR14: =+AO14-AQ14 -> 0 | AT14: 1
E15: Admon | F15: Solicitud de Documentacion Contractual a Consultor | G15: Interventor | O15: =+$P$13+2 -> 45904 | P15: =+O15+1 -> 45905 | Q15: =-((_xlfn.DAYS(O15,P15))) -> 1 | V15: =O15 -> 45904 | W15: =$W$6 -> 46013 | X15: =IF(W15-V15>Q15,Q15,W15-V15) -> 1 | Y15: =IF(X15<0,0,X15) -> 1 | Z15: 45903 | AA15: OF-RHQG-01-25 | AF15: =Q15-#REF! -> #REF! | AO15: NA | AP15: =EXACT(K15,AO15) -> FALSE | AQ15: NA | AT15: Admon
E16: Admon | F16: Entrega de Documentacion Contractual | G16: Consultor | O16: =+P15 -> 45905 | P16: =+O16+5 -> 45910 | Q16: =-((_xlfn.DAYS(O16,P16))) -> 5 | V16: =O16 -> 45905 | W16: =$W$6 -> 46013 | X16: =IF(W16-V16>Q16,Q16,W16-V16) -> 5 | Y16: =IF(X16<0,0,X16) -> 5 | Z16: 45908 | AA16: OFICIO 001 | AF16: =Q16-#REF! -> #REF! | AO16: NA | AP16: =EXACT(K16,AO16) -> FALSE | AQ16: NA | AT16: Admon
E17: Admon | F17: Revision de Documentacion Contractual (Aprobacion/No aprobacion) | G17: Interventor | O17: =+P16 -> 45910 | P17: =+O17+4 -> 45914 | Q17: =-((_xlfn.DAYS(O17,P17))) -> 4 | V17: =O17 -> 45910 | W17: =$W$6 -> 46013 | X17: =IF(W17-V17>Q17,Q17,W17-V17) -> 4 | Y17: =IF(X17<0,0,X17) -> 4 | Z17: 45918 | AA17: OF-RHQG-0xx-25 | AF17: =Q17-#REF! -> #REF! | AO17: NA | AP17: =EXACT(K17,AO17) -> FALSE | AQ17: NA | AT17: Admon
E18: Admon | F18: Solicitud de Certificacion de Equipos a Utilizar por parte del Consultor | G18: Interventor | O18: =+$P$13+2 -> 45904 | P18: =+O18+1 -> 45905 | Q18: =-((_xlfn.DAYS(O18,P18))) -> 1 | V18: =O18 -> 45904 | W18: =$W$6 -> 46013 | X18: =IF(W18-V18>Q18,Q18,W18-V18) -> 1 | Y18: =IF(X18<0,0,X18) -> 1 | Z18: 45903 | AA18: OF-RHQG-01-25 | AF18: =Q18-#REF! -> #REF! | AO18: NA | AP18: =EXACT(K18,AO18) -> FALSE | AQ18: NA | AT18: Admon
E19: Admon | F19: Entrega de Certificacion de Equipos a Utilizar por parte del Consultor | G19: Consultor | O19: =+O63-5 -> 45940 | P19: =+O19+5 -> 45945 | Q19: =-((_xlfn.DAYS(O19,P19))) -> 5 | V19: =O19 -> 45940 | W19: =$W$6 -> 46013 | X19: =IF(W19-V19>Q19,Q19,W19-V19) -> 5 | Y19: =IF(X19<0,0,X19) -> 5 | Z19: 45908 | AA19: OFICIO 001 | AF19: =Q19-#REF! -> #REF! | AO19: NA | AP19: =EXACT(K19,AO19) -> FALSE | AQ19: NA | AT19: Admon
E20: Admon | F20: Revision de Certificacion de Equipos a Utilizar (Aprobacion/No aprobacion) | G20: Interventor | O20: =+P19+1 -> 45946 | P20: =+O20+4 -> 45950 | Q20: =-((_xlfn.DAYS(O20,P20))) -> 4 | V20: =O20 -> 45946 | W20: =$W$6 -> 46013 | X20: =IF(W20-V20>Q20,Q20,W20-V20) -> 4 | Y20: =IF(X20<0,0,X20) -> 4 | AA20: Pendiente a Entrega | AF20: =Q20-#REF! -> #REF! | AO20: NA | AP20: =EXACT(K20,AO20) -> FALSE | AQ20: NA | AT20: Admon
E21: Admon | F21: Solicitud de Arte y especificaciones Pendon por parte del Consultor | G21: Interventor | O21: =+$P$13+2 -> 45904 | P21: =+O21+1 -> 45905 | Q21: =-((_xlfn.DAYS(O21,P21))) -> 1 | V21: =O21 -> 45904 | W21: =$W$6 -> 46013 | X21: =IF(W21-V21>Q21,Q21,W21-V21) -> 1 | Y21: =IF(X21<0,0,X21) -> 1 | Z21: 45903 | AA21: OF-RHQG-01-25 | AF21: =Q21-#REF! -> #REF! | AO21: NA | AP21: =EXACT(K21,AO21) -> FALSE | AQ21: NA | AT21: Admon
E22: Admon | F22: Entrega de Arte y especificaciones Pendon por parte del Consultor | G22: Consultor | O22: =+P21 -> 45905 | P22: =+O22+11 -> 45916 | Q22: =-((_xlfn.DAYS(O22,P22))) -> 11 | V22: =O22 -> 45905 | W22: =$W$6 -> 46013 | X22: =IF(W22-V22>Q22,Q22,W22-V22) -> 11 | Y22: =IF(X22<0,0,X22) -> 11 | Z22: 45917 | AA22: OFICIO 004 | AF22: =Q22-#REF! -> #REF! | AO22: NA | AP22: =EXACT(K22,AO22) -> FALSE | AQ22: NA | AT22: Admon
E23: Admon | F23: Revision de Arte y especificaciones Pendon (Aprobacion/No aprobacion) | G23: Interventor | O23: =+P22 -> 45916 | P23: =+O23+4 -> 45920 | Q23: =-((_xlfn.DAYS(O23,P23))) -> 4 | V23: =O23 -> 45916 | W23: =$W$6 -> 46013 | X23: =IF(W23-V23>Q23,Q23,W23-V23) -> 4 | Y23: =IF(X23<0,0,X23) -> 4 | Z23: 45918 | AA23: OF-RHQG-0xx-25 | AF23: =Q23-#REF! -> #REF! | AO23: NA | AP23: =EXACT(K23,AO23) -> FALSE | AQ23: NA | AT23: Admon
E24: Admon | F24: Instalacion Pendon | G24: Consultor | O24: =+P23+3 -> 45923 | P24: =+O24+2 -> 45925 | Q24: =-((_xlfn.DAYS(O24,P24))) -> 2 | V24: =O24 -> 45923 | W24: =$W$6 -> 46013 | X24: =IF(W24-V24>Q24,Q24,W24-V24) -> 2 | Y24: =IF(X24<0,0,X24) -> 2 | Z24: 45925 | AF24: =Q24-#REF! -> #REF! | AT24: Admon
E25: Admon | F25: Solicitud de Arte y especificaciones de Indumentarias para el personal del Contratista | G25: Interventor | O25: =+$P$13+2 -> 45904 | P25: =+O25+1 -> 45905 | Q25: =-((_xlfn.DAYS(O25,P25))) -> 1 | V25: =O25 -> 45904 | W25: =$W$6 -> 46013 | X25: =IF(W25-V25>Q25,Q25,W25-V25) -> 1 | Y25: =IF(X25<0,0,X25) -> 1 | Z25: 45903 | AA25: OF-RHQG-01-25 | AF25: =Q25-#REF! -> #REF! | AO25: NA | AP25: =EXACT(K25,AO25) -> FALSE | AQ25: NA | AT25: Admon
E26: Admon | F26: Entrega de Arte y especificaciones de Indumentarias para el personal del Contratista | G26: Consultor | O26: =+P25 -> 45905 | P26: =+O26+5 -> 45910 | Q26: =-((_xlfn.DAYS(O26,P26))) -> 5 | V26: =O26 -> 45905 | W26: =$W$6 -> 46013 | X26: =IF(W26-V26>Q26,Q26,W26-V26) -> 5 | Y26: =IF(X26<0,0,X26) -> 5 | Z26: 45908 | AA26: OFICIO 001 | AF26: =Q26-#REF! -> #REF! | AO26: NA | AP26: =EXACT(K26,AO26) -> FALSE | AQ26: NA | AT26: Admon
E27: Admon | F27: Revision de Indumentarias (Aprobacion/No aprobacion) | G27: Interventor | O27: =+P26 -> 45910 | P27: =+O27+4 -> 45914 | Q27: =-((_xlfn.DAYS(O27,P27))) -> 4 | V27: =O27 -> 45910 | W27: =$W$6 -> 46013 | X27: =IF(W27-V27>Q27,Q27,W27-V27) -> 4 | Y27: =IF(X27<0,0,X27) -> 4 | Z27: 45918 | AA27: OF-RHQG-0xx-25 | AF27: =Q27-#REF! -> #REF! | AO27: NA | AP27: =EXACT(K27,AO27) -> FALSE | AQ27: NA | AT27: Admon
E28: Admon | F28: Solicitud de Entrega de la política de especial consideración a la conservación del medio ambiente del Contratista | G28: Interventor | O28: =+P27+1 -> 45915 | P28: =+O28+1 -> 45916 | Q28: =-((_xlfn.DAYS(O28,P28))) -> 1 | V28: =O28 -> 45915 | W28: =$W$6 -> 46013 | X28: =IF(W28-V28>Q28,Q28,W28-V28) -> 1 | Y28: =IF(X28<0,0,X28) -> 1 | Z28: 45903 | AA28: OF-RHQG-01-25 | AF28: =Q28-#REF! -> #REF! | AO28: NA | AP28: =EXACT(K28,AO28) -> FALSE | AQ28: NA | AT28: Admon
E29: Admon | F29: Entrega de la política de especial consideración a la conservación del medio ambiente del Contratista | G29: Consultor | O29: =+P28 -> 45916 | P29: =+O29+5 -> 45921 | Q29: =-((_xlfn.DAYS(O29,P29))) -> 5 | V29: =O29 -> 45916 | W29: =$W$6 -> 46013 | X29: =IF(W29-V29>Q29,Q29,W29-V29) -> 5 | Y29: =IF(X29<0,0,X29) -> 5 | Z29: 45937 | AA29: Entrega vía mail | AF29: =Q29-#REF! -> #REF! | AO29: NA | AP29: =EXACT(K29,AO29) -> FALSE | AQ29: NA | AT29: Admon
E30: Admon | F30: Revision de Politica Ambiental (Aprobacion/No aprobacion) | G30: Interventor | O30: =+P29 -> 45921 | P30: =+O30+4 -> 45925 | Q30: =-((_xlfn.DAYS(O30,P30))) -> 4 | V30: =O30 -> 45921 | W30: =$W$6 -> 46013 | X30: =IF(W30-V30>Q30,Q30,W30-V30) -> 4 | Y30: =IF(X30<0,0,X30) -> 4 | Z30: 45925 | AF30: =Q30-#REF! -> #REF! | AO30: NA | AP30: =EXACT(K30,AO30) -> FALSE | AQ30: NA
E31: 1.01 | F31: Priorización de cuerpos de agua para el acotamiento de su ronda hídrica | G31: Consultor | H31: =+'PPTO CONSUL - ANEXO 12'!D6 -> 0.03379667 | I31: =+AD31 -> 0.03379667 | J31: =H31*1 -> 0.03379667 | K31: =ROUND(($G$7*H31),0) -> 23108414 | L31: ='PPTO CONSUL - ANEXO 12'!H6-K31 -> 0 | M31: =ROUND(($G$7*I31),0) -> 23108414 | N31: =ROUND(($G$7*J31),0) -> 23108414 | O31: =MIN(O32:O33) -> 45915 | P31: =MAX(P32:P33) -> 45931 | Q31: =-((_xlfn.DAYS(O31,P31))) -> 16 | V31: =O31 -> 45915 | W31: =$W$6 -> 46013 | X31: =IF(W31-V31>Q31,Q31,W31-V31) -> 16 | Y31: =IF(X31<0,0,X31) -> 16 | Z31: 45925 | AA31: OFICIO 007 | AB31: =IF(Z31=0,Y31,Z31-V31) -> 10 | AC31: =Q31-AB31 -> 6 | AD31: =(H31/Q31)*Y31 -> 0.03379667 | AE31: =J31-AD31 -> 0 | AF31: =Q31-#REF! -> #REF! | AJ31: =(H31/Q31)*Q31 -> 0.03379667 | AO31: 23108414 | AP31: =EXACT(K31,AO31) -> TRUE | AQ31: 23108414 | AR31: =+AO31-AQ31 -> 0 | AT31: 1.01 | AU31: =EXACT(AT31,E31) -> TRUE
E32: 1,01,01 | F32: Entrega Informe de Priorización de cuerpos de agua para el acotamiento de su ronda hídrica | G32: Consultor | O32: =+P13+13 -> 45915 | P32: =+O32+10 -> 45925 | Q32: =-((_xlfn.DAYS(O32,P32))) -> 10 | V32: =O32 -> 45915 | W32: =$W$6 -> 46013 | X32: =IF(W32-V32>Q32,Q32,W32-V32) -> 10 | Y32: =IF(X32<0,0,X32) -> 10 | Z32: 45929 | AF32: =Q32-#REF! -> #REF! | AP32: =EXACT(K32,AO32) -> TRUE | AR32: =+AO32-AQ32 -> 0 | AT32: 1,01,01 | AU32: =EXACT(AT32,E32) -> TRUE
E33: 1,01,02 | F33: Revision Informe de Priorización de cuerpos de agua para el acotamiento de su ronda hídrica | G33: Interventoria | O33: =+P32+1 -> 45926 | P33: =+O33+5 -> 45931 | Q33: =-((_xlfn.DAYS(O33,P33))) -> 5 | V33: =O33 -> 45926 | W33: =$W$6 -> 46013 | X33: =IF(W33-V33>Q33,Q33,W33-V33) -> 5 | Y33: =IF(X33<0,0,X33) -> 5 | Z33: 45944 | AF33: =Q33-#REF! -> #REF! | AP33: =EXACT(K33,AO33) -> TRUE | AR33: =+AO33-AQ33 -> 0 | AT33: 1,01,02 | AU33: =EXACT(AT33,E33) -> TRUE
E34: 1.02 | F34: Recopilación de información secundaria | G34: Consultor | H34: =SUM(H35:H41) -> 0.03379667 | I34: =SUM(I35:I41) -> 0.03379667 | J34: =SUM(J35:J41) -> 0.03379667 | K34: =SUM(K35:K41) -> 23108414 | L34: ='PPTO CONSUL - ANEXO 12'!H7-K34 -> 0 | M34: =SUM(M35:M41) -> 23108414 | N34: =SUM(N35:N41) -> 23108414 | O34: =MIN(O35:O43) -> 45912 | P34: =MAX(P35:P43) -> 45945 | Q34: =-((_xlfn.DAYS(O34,P34))) -> 33 | V34: =O34 -> 45912 | W34: =$W$6 -> 46013 | X34: =IF(W34-V34>Q34,Q34,W34-V34) -> 33 | Y34: =IF(X34<0,0,X34) -> 33 | Z34: 45929 | AF34: =Q34-#REF! -> #REF! | AO34: 23108414 | AP34: =EXACT(K34,AO34) -> TRUE | AQ34: 23108414 | AR34: =+AO34-AQ34 -> 0 | AT34: 1.02 | AU34: =EXACT(AT34,E34) -> TRUE
E35: 1,02,01 | F35: Informacion historica de eventos de inundaciones o avenidas torrenciales | G35: Consultor | H35: 0.0048280957 | I35: =+AD35 -> 0.0048280957 | J35: =H35*1 -> 0.0048280957 | K35: =ROUND(($G$7*H35),0) -> 3301202 | M35: =ROUND(($G$7*I35),0) -> 3301202 | N35: =ROUND(($G$7*J35),0) -> 3301202 | O35: =+P13+10 -> 45912 | P35: =+O35+8 -> 45920 | Q35: =-((_xlfn.DAYS(O35,P35))) -> 8 | V35: =O35 -> 45912 | W35: =$W$6 -> 46013 | X35: =IF(W35-V35>Q35,Q35,W35-V35) -> 8 | Y35: =IF(X35<0,0,X35) -> 8 | Z35: 45923 | AB35: =IF(Z35=0,Y35,Z35-V35) -> 11 | AC35: =Q35-AB35 -> -3 | AD35: =(H35/Q35)*Y35 -> 0.0048280957 | AE35: =J35-AD35 -> 0 | AF35: =Q35-#REF! -> #REF! | AO35: 2888552 | AP35: =EXACT(K35,AO35) -> FALSE | AQ35: 2888552 | AR35: =+AO35-AQ35 -> 0 | AT35: 1,02,01 | AU35: =EXACT(AT35,E35) -> TRUE
E36: 1,02,02 | F36: Caracterizacion climatica | G36: Consultor | H36: 0.0048280957 | I36: =+AD36 -> 0.0048280957 | J36: =H36*1 -> 0.0048280957 | K36: =ROUND(($G$7*H36),0) -> 3301202 | M36: =ROUND(($G$7*I36),0) -> 3301202 | N36: =ROUND(($G$7*J36),0) -> 3301202 | O36: =+O35 -> 45912 | P36: =+O36+15 -> 45927 | Q36: =-((_xlfn.DAYS(O36,P36))) -> 15 | V36: =O36 -> 45912 | W36: =$W$6 -> 46013 | X36: =IF(W36-V36>Q36,Q36,W36-V36) -> 15 | Y36: =IF(X36<0,0,X36) -> 15 | Z36: 45947 | AB36: =IF(Z36=0,Y36,Z36-V36) -> 35 | AC36: =Q36-AB36 -> -20 | AD36: =(H36/Q36)*Y36 -> 0.0048280957 | AE36: =J36-AD36 -> 0 | AF36: =Q36-#REF! -> #REF! | AO36: 2888552 | AP36: =EXACT(K36,AO36) -> FALSE | AQ36: 2888552 | AR36: =+AO36-AQ36 -> 0 | AT36: 1,02,02 | AU36: =EXACT(AT36,E36) -> TRUE
E37: 1,02,03 | F37: Mapa de zonas de vida 1: 100000 | G37: Consultor | H37: 0.0048280957 | I37: =+AD37 -> 0.0048280957 | J37: =H37*1 -> 0.0048280957 | K37: =ROUND(($G$7*H37),0) -> 3301202 | M37: =ROUND(($G$7*I37),0) -> 3301202 | N37: =ROUND(($G$7*J37),0) -> 3301202 | O37: =+O36 -> 45912 | P37: =+O37+10 -> 45922 | Q37: =-((_xlfn.DAYS(O37,P37))) -> 10 | V37: =O37 -> 45912 | W37: =$W$6 -> 46013 | X37: =IF(W37-V37>Q37,Q37,W37-V37) -> 10 | Y37: =IF(X37<0,0,X37) -> 10 | Z37: 45923 | AB37: =IF(Z37=0,Y37,Z37-V37) -> 11 | AC37: =Q37-AB37 -> -1 | AD37: =(H37/Q37)*Y37 -> 0.0048280957 | AE37: =J37-AD37 -> 0 | AF37: =Q37-#REF! -> #REF! | AO37: 2888552 | AP37: =EXACT(K37,AO37) -> FALSE | AQ37: 2888552 | AR37: =+AO37-AQ37 -> 0 | AT37: 1,02,03 | AU37: =EXACT(AT37,E37) -> TRUE
E38: 1,02,04 | F38: Caracterizacion de suelos - Informacion secundaria | G38: Consultor | H38: 0.0048280957 | I38: =+AD38 -> 0.0048280957 | J38: =H38*1 -> 0.0048280957 | K38: =ROUND(($G$7*H38),0) -> 3301202 | M38: =ROUND(($G$7*I38),0) -> 3301202 | N38: =ROUND(($G$7*J38),0) -> 3301202 | O38: =+O37 -> 45912 | P38: =+O38+10 -> 45922 | Q38: =-((_xlfn.DAYS(O38,P38))) -> 10 | V38: =O38 -> 45912 | W38: =$W$6 -> 46013 | X38: =IF(W38-V38>Q38,Q38,W38-V38) -> 10 | Y38: =IF(X38<0,0,X38) -> 10 | Z38: 45951 | AB38: =IF(Z38=0,Y38,Z38-V38) -> 39 | AC38: =Q38-AB38 -> -29 | AD38: =(H38/Q38)*Y38 -> 0.0048280957 | AE38: =J38-AD38 -> 0 | AF38: =Q38-#REF! -> #REF! | AO38: 2888552 | AP38: =EXACT(K38,AO38) -> FALSE | AQ38: 2888552 | AR38: =+AO38-AQ38 -> 0 | AT38: 1,02,04 | AU38: =EXACT(AT38,E38) -> TRUE
E39: 1,02,05 | F39: Mapa de humedades de Colombia | G39: Consultor | H39: 0.0048280957 | I39: =+AD39 -> 0.0048280957 | J39: =H39*1 -> 0.0048280957 | K39: =ROUND(($G$7*H39),0) -> 3301202 | M39: =ROUND(($G$7*I39),0) -> 3301202 | N39: =ROUND(($G$7*J39),0) -> 3301202 | O39: =+O38 -> 45912 | P39: =+O39+10 -> 45922 | Q39: =-((_xlfn.DAYS(O39,P39))) -> 10 | V39: =O39 -> 45912 | W39: =$W$6 -> 46013 | X39: =IF(W39-V39>Q39,Q39,W39-V39) -> 10 | Y39: =IF(X39<0,0,X39) -> 10 | Z39: 45923 | AB39: =IF(Z39=0,Y39,Z39-V39) -> 11 | AC39: =Q39-AB39 -> -1 | AD39: =(H39/Q39)*Y39 -> 0.0048280957 | AE39: =J39-AD39 -> 0 | AF39: =Q39-#REF! -> #REF! | AO39: 2888552 | AP39: =EXACT(K39,AO39) -> FALSE | AQ39: 2888552 | AR39: =+AO39-AQ39 -> 0 | AT39: 1,02,05 | AU39: =EXACT(AT39,E39) -> TRUE
E40: 1,02,06 | F40: Peticiones quejas solicitudes y reclamos o conflictos ambientales | G40: Consultor | H40: 0.0048280957 | I40: =+AD40 -> 0.0048280957 | J40: =H40*1 -> 0.0048280957 | K40: =ROUND(($G$7*H40),0) -> 3301202 | M40: =ROUND(($G$7*I40),0) -> 3301202 | N40: =ROUND(($G$7*J40),0) -> 3301202 | O40: =+O39 -> 45912 | P40: =+O40+14 -> 45926 | Q40: =-((_xlfn.DAYS(O40,P40))) -> 14 | V40: =O40 -> 45912 | W40: =$W$6 -> 46013 | X40: =IF(W40-V40>Q40,Q40,W40-V40) -> 14 | Y40: =IF(X40<0,0,X40) -> 14 | Z40: 45945 | AB40: =IF(Z40=0,Y40,Z40-V40) -> 33 | AC40: =Q40-AB40 -> -19 | AD40: =(H40/Q40)*Y40 -> 0.0048280957 | AE40: =J40-AD40 -> 0 | AF40: =Q40-#REF! -> #REF! | AO40: 2888552 | AP40: =EXACT(K40,AO40) -> FALSE | AQ40: 2888552 | AR40: =+AO40-AQ40 -> 0 | AT40: 1,02,06 | AU40: =EXACT(AT40,E40) -> TRUE
E41: 1,02,07 | F41: Documento técnico Informacion secundaria - aprobación del area de estudio | G41: Consultor | H41: 0.0048280957 | I41: =+AD41 -> 0.0048280957 | J41: =H41*1 -> 0.0048280957 | K41: =ROUND(($G$7*H41),0) -> 3301202 | M41: =ROUND(($G$7*I41),0) -> 3301202 | N41: =ROUND(($G$7*J41),0) -> 3301202 | O41: =MAX(P35:P40) -> 45927 | P41: =+O41+10 -> 45937 | Q41: =-((_xlfn.DAYS(O41,P41))) -> 10 | V41: =O41 -> 45927 | W41: =$W$6 -> 46013 | X41: =IF(W41-V41>Q41,Q41,W41-V41) -> 10 | Y41: =IF(X41<0,0,X41) -> 10 | Z41: 45947 | AB41: =IF(Z41=0,Y41,Z41-V41) -> 20 | AC41: =Q41-AB41 -> -10 | AD41: =(H41/Q41)*Y41 -> 0.0048280957 | AE41: =J41-AD41 -> 0 | AF41: =Q41-#REF! -> #REF! | AO41: 2888551 | AP41: =EXACT(K41,AO41) -> FALSE | AQ41: 2888551 | AR41: =+AO41-AQ41 -> 0 | AT41: 1,02,09 | AU41: =EXACT(AT41,E41) -> FALSE
E42: 1,02,08 | F42: Entrega Informe de Recopilación de información secundaria | G42: Consultor | O42: =MAX(P35:P41) -> 45937 | P42: =+O42+2 -> 45939 | Q42: =-((_xlfn.DAYS(O42,P42))) -> 2 | V42: =O42 -> 45937 | W42: =$W$6 -> 46013 | X42: =IF(W42-V42>Q42,Q42,W42-V42) -> 2 | Y42: =IF(X42<0,0,X42) -> 2 | Z42: 45929 | AF42: =Q42-#REF! -> #REF! | AP42: =EXACT(K42,AO42) -> TRUE | AR42: =+AO42-AQ42 -> 0 | AT42: 1,02,10 | AU42: =EXACT(AT42,E42) -> FALSE
E43: 1,02,09 | F43: Revision Informe de Recopilación de información secundaria/aprobacion area estudio | G43: Interventoria | O43: =+P42+1 -> 45940 | P43: =+O43+5 -> 45945 | Q43: =-((_xlfn.DAYS(O43,P43))) -> 5 | V43: =O43 -> 45940 | W43: =$W$6 -> 46013 | X43: =IF(W43-V43>Q43,Q43,W43-V43) -> 5 | Y43: =IF(X43<0,0,X43) -> 5 | Z43: 45938 | AF43: =Q43-#REF! -> #REF! | AP43: =EXACT(K43,AO43) -> TRUE | AR43: =+AO43-AQ43 -> 0 | AT43: 1.03 | AU43: =EXACT(AT43,E43) -> FALSE
...

Sheet Linea Base 2 - 191225
E1: 1 | F1: 2 | G1: 3 | H1: 4 | I1: 5 | J1: 6 | K1: 7 | L1: 8 | M1: 9 | N1: 10 | O1: 11 | P1: 12 | Q1: 13 | AD1: 0.16633523
E4: ESTUDIOS PARA LA DELIMITACIÓN DE LA RONDA HÍDRICA DE LA QUEBRADA LAS GACHAS EN EL MUNICIPIO DE GUADALUPE, SANTANDER - No. CM2-008-2025 | V4: SEGUIMIENTO PLAN DE TRABAJO VERSION 2 - 19 DE DICIEMBRE DE 2025
V5: INICIO DE ACTIVIDAD | W5: FECHA DE CORTE | Z5: FECHA REAL DE FINALIZACION DE LA ACTIVIDAD | AA5: NUMERO DE COMUNICADO | AB5: TIEMPO EJECUTADO REAL | AC5: TIEMPO (Dias) A EJECUTAR LA ACTIVIDAD | AD5: % PROGRAMADO A FECHA DE CORTE | AE5: ATRASO % POR ACTIVIDAD | AF5: DIAS DE ATRASO y/o ADELANTO
W6: 46076
F7: VALOR DEL CONTRATO CONSULTORIA | G7: =+'PPTO CONSUL - ANEXO 12'!G39 -> 683748240 | P7: RUTA CRITICA
E9: ID | F9: ACTIVIDADES | G9: RESPONSABLE | H9: ACTIVIDAD PROYECTADA | I9: ACTIVIDAD PROGRAMADA | J9: ACTIVIDAD EJECUTADA | K9: VALOR PROYECTADO | L9: Veri | M9: VALOR PROGRAMADO | N9: VALOR EJECUTADO | O9: Inicio | P9: Fin | Q9: N°Días | AF9: DIAS DE ATRASO y/o ADELANTO | AQ9: valor propuesto
E10: 0 | F10: Firma Contrato Consultor | G10: Consultor - Supervision | O10: 45884 | P10: =+O10 -> 45884 | Q10: =-((_xlfn.DAYS(O10,P10)))+1 -> 1 | AO10: NA | AP10: =EXACT(K10,AO10) -> FALSE | AQ10: NA | AT10: 0
E11: 0 | F11: Firma Contrato Interventor | G11: Consultor - Supervision | O11: 45889 | P11: =+O11 -> 45889 | Q11: =-((_xlfn.DAYS(O11,P11)))+1 -> 1 | AO11: NA | AP11: =EXACT(K11,AO11) -> FALSE | AQ11: NA | AT11: 0
E12: 0 | F12: Documentacion | G12: Consultor - Interventor | O12: =+P11+1 -> 45890 | P12: =+O12+7 -> 45897 | Q12: =-((_xlfn.DAYS(O12,P12)))+1 -> 8 | AO12: NA | AP12: =EXACT(K12,AO12) -> FALSE | AQ12: NA | AT12: 0
E13: 0 | F13: Acta de Inicio | G13: Consultor - Supervision - Interventoria | O13: =+P12+5 -> 45902 | P13: =+O13 -> 45902 | Q13: =-((_xlfn.DAYS(O13,P13)))+1 -> 1 | V13: % PROGRAMADO PROYECTO | AD13: =AD14+AD77+AD97 -> 0.99026211 | AE13: =AE14+AE77+AE97 -> -0.2714095 | AJ13: =I14-J14 -> 0 | AO13: NA | AP13: =EXACT(K13,AO13) -> FALSE | AQ13: NA | AT13: 0
E14: 1 | F14: FASE 0. Acciones previas - Declaratoria | H14: =+H31+H34+H44+H49+H52+H55+H62 -> 0.4634587 | I14: =+I31+I34+I44+I49+I52+I55+I62 -> 0.4634587 | J14: =+J31+J34+J44+J49+J52+J55+J62 -> 0.4634587 | K14: =+K31+K34+K44+K49+K52+K55+K62 -> 316889075 | L14: =+'PPTO CONSUL - ANEXO 12'!H5-K14 -> 0 | M14: =+M31+M34+M44+M49+M52+M55+M62 -> 316889075 | N14: =+N31+N34+N44+N49+N52+N55+N62 -> 316889075 | O14: =MIN(O15:O30) -> 45904 | P14: =MAX(P15:P30) -> 45974 | V14: % FASE 0 | AD14: =SUM(AD15:AD72) -> 0.4634587 | AE14: =SUM(AE15:AE72) -> 0 | AO14: 316889075 | AP14: =EXACT(K14,AO14) -> TRUE | AQ14: 316889075 | AR14: =+AO14-AQ14 -> 0 | AT14: 1
E15: Admon | F15: Solicitud de Documentacion Contractual a Consultor | G15: Interventor | O15: =+$P$13+2 -> 45904 | P15: =+O15+1 -> 45905 | Q15: =-((_xlfn.DAYS(O15,P15))) -> 1 | V15: =O15 -> 45904 | W15: =$W$6 -> 46076 | X15: =IF(W15-V15>Q15,Q15,W15-V15) -> 1 | Y15: =IF(X15<0,0,X15) -> 1 | Z15: 45903 | AA15: OF-RHQG-01-25 | AF15: =Q15-#REF! -> #REF! | AO15: NA | AP15: =EXACT(K15,AO15) -> FALSE | AQ15: NA | AT15: Admon
E16: Admon | F16: Entrega de Documentacion Contractual | G16: Consultor | O16: =+P15 -> 45905 | P16: =+O16+5 -> 45910 | Q16: =-((_xlfn.DAYS(O16,P16))) -> 5 | V16: =O16 -> 45905 | W16: =$W$6 -> 46076 | X16: =IF(W16-V16>Q16,Q16,W16-V16) -> 5 | Y16: =IF(X16<0,0,X16) -> 5 | Z16: 45908 | AA16: OFICIO 001 | AF16: =Q16-#REF! -> #REF! | AO16: NA | AP16: =EXACT(K16,AO16) -> FALSE | AQ16: NA | AT16: Admon
E17: Admon | F17: Revision de Documentacion Contractual (Aprobacion/No aprobacion) | G17: Interventor | O17: =+P16 -> 45910 | P17: =+O17+4 -> 45914 | Q17: =-((_xlfn.DAYS(O17,P17))) -> 4 | V17: =O17 -> 45910 | W17: =$W$6 -> 46076 | X17: =IF(W17-V17>Q17,Q17,W17-V17) -> 4 | Y17: =IF(X17<0,0,X17) -> 4 | Z17: 45918 | AA17: OF-RHQG-0xx-25 | AF17: =Q17-#REF! -> #REF! | AO17: NA | AP17: =EXACT(K17,AO17) -> FALSE | AQ17: NA | AT17: Admon
E18: Admon | F18: Solicitud de Certificacion de Equipos a Utilizar por parte del Consultor | G18: Interventor | O18: =+$P$13+2 -> 45904 | P18: =+O18+1 -> 45905 | Q18: =-((_xlfn.DAYS(O18,P18))) -> 1 | V18: =O18 -> 45904 | W18: =$W$6 -> 46076 | X18: =IF(W18-V18>Q18,Q18,W18-V18) -> 1 | Y18: =IF(X18<0,0,X18) -> 1 | Z18: 45903 | AA18: OF-RHQG-01-25 | AF18: =Q18-#REF! -> #REF! | AO18: NA | AP18: =EXACT(K18,AO18) -> FALSE | AQ18: NA | AT18: Admon
E19: Admon | F19: Entrega de Certificacion de Equipos a Utilizar por parte del Consultor | G19: Consultor | O19: =+O63-5 -> 45964 | P19: =+O19+5 -> 45969 | Q19: =-((_xlfn.DAYS(O19,P19))) -> 5 | V19: =O19 -> 45964 | W19: =$W$6 -> 46076 | X19: =IF(W19-V19>Q19,Q19,W19-V19) -> 5 | Y19: =IF(X19<0,0,X19) -> 5 | Z19: 45908 | AA19: OFICIO 001 | AF19: =Q19-#REF! -> #REF! | AO19: NA | AP19: =EXACT(K19,AO19) -> FALSE | AQ19: NA | AT19: Admon
E20: Admon | F20: Revision de Certificacion de Equipos a Utilizar (Aprobacion/No aprobacion) | G20: Interventor | O20: =+P19+1 -> 45970 | P20: =+O20+4 -> 45974 | Q20: =-((_xlfn.DAYS(O20,P20))) -> 4 | V20: =O20 -> 45970 | W20: =$W$6 -> 46076 | X20: =IF(W20-V20>Q20,Q20,W20-V20) -> 4 | Y20: =IF(X20<0,0,X20) -> 4 | AA20: Pendiente a Entrega | AF20: =Q20-#REF! -> #REF! | AO20: NA | AP20: =EXACT(K20,AO20) -> FALSE | AQ20: NA | AT20: Admon
E21: Admon | F21: Solicitud de Arte y especificaciones Pendon por parte del Consultor | G21: Interventor | O21: =+$P$13+2 -> 45904 | P21: =+O21+1 -> 45905 | Q21: =-((_xlfn.DAYS(O21,P21))) -> 1 | V21: =O21 -> 45904 | W21: =$W$6 -> 46076 | X21: =IF(W21-V21>Q21,Q21,W21-V21) -> 1 | Y21: =IF(X21<0,0,X21) -> 1 | Z21: 45903 | AA21: OF-RHQG-01-25 | AF21: =Q21-#REF! -> #REF! | AO21: NA | AP21: =EXACT(K21,AO21) -> FALSE | AQ21: NA | AT21: Admon
E22: Admon | F22: Entrega de Arte y especificaciones Pendon por parte del Consultor | G22: Consultor | O22: =+P21 -> 45905 | P22: =+O22+11 -> 45916 | Q22: =-((_xlfn.DAYS(O22,P22))) -> 11 | V22: =O22 -> 45905 | W22: =$W$6 -> 46076 | X22: =IF(W22-V22>Q22,Q22,W22-V22) -> 11 | Y22: =IF(X22<0,0,X22) -> 11 | Z22: 45917 | AA22: OFICIO 004 | AF22: =Q22-#REF! -> #REF! | AO22: NA | AP22: =EXACT(K22,AO22) -> FALSE | AQ22: NA | AT22: Admon
E23: Admon | F23: Revision de Arte y especificaciones Pendon (Aprobacion/No aprobacion) | G23: Interventor | O23: =+P22 -> 45916 | P23: =+O23+4 -> 45920 | Q23: =-((_xlfn.DAYS(O23,P23))) -> 4 | V23: =O23 -> 45916 | W23: =$W$6 -> 46076 | X23: =IF(W23-V23>Q23,Q23,W23-V23) -> 4 | Y23: =IF(X23<0,0,X23) -> 4 | Z23: 45918 | AA23: OF-RHQG-0xx-25 | AF23: =Q23-#REF! -> #REF! | AO23: NA | AP23: =EXACT(K23,AO23) -> FALSE | AQ23: NA | AT23: Admon
E24: Admon | F24: Instalacion Pendon | G24: Consultor | O24: =+P23+3 -> 45923 | P24: =+O24+2 -> 45925 | Q24: =-((_xlfn.DAYS(O24,P24))) -> 2 | V24: =O24 -> 45923 | W24: =$W$6 -> 46076 | X24: =IF(W24-V24>Q24,Q24,W24-V24) -> 2 | Y24: =IF(X24<0,0,X24) -> 2 | Z24: 45925 | AF24: =Q24-#REF! -> #REF! | AT24: Admon
E25: Admon | F25: Solicitud de Arte y especificaciones de Indumentarias para el personal del Contratista | G25: Interventor | O25: =+$P$13+2 -> 45904 | P25: =+O25+1 -> 45905 | Q25: =-((_xlfn.DAYS(O25,P25))) -> 1 | V25: =O25 -> 45904 | W25: =$W$6 -> 46076 | X25: =IF(W25-V25>Q25,Q25,W25-V25) -> 1 | Y25: =IF(X25<0,0,X25) -> 1 | Z25: 45903 | AA25: OF-RHQG-01-25 | AF25: =Q25-#REF! -> #REF! | AO25: NA | AP25: =EXACT(K25,AO25) -> FALSE | AQ25: NA | AT25: Admon
E26: Admon | F26: Entrega de Arte y especificaciones de Indumentarias para el personal del Contratista | G26: Consultor | O26: =+P25 -> 45905 | P26: =+O26+5 -> 45910 | Q26: =-((_xlfn.DAYS(O26,P26))) -> 5 | V26: =O26 -> 45905 | W26: =$W$6 -> 46076 | X26: =IF(W26-V26>Q26,Q26,W26-V26) -> 5 | Y26: =IF(X26<0,0,X26) -> 5 | Z26: 45908 | AA26: OFICIO 001 | AF26: =Q26-#REF! -> #REF! | AO26: NA | AP26: =EXACT(K26,AO26) -> FALSE | AQ26: NA | AT26: Admon
E27: Admon | F27: Revision de Indumentarias (Aprobacion/No aprobacion) | G27: Interventor | O27: =+P26 -> 45910 | P27: =+O27+4 -> 45914 | Q27: =-((_xlfn.DAYS(O27,P27))) -> 4 | V27: =O27 -> 45910 | W27: =$W$6 -> 46076 | X27: =IF(W27-V27>Q27,Q27,W27-V27) -> 4 | Y27: =IF(X27<0,0,X27) -> 4 | Z27: 45918 | AA27: OF-RHQG-0xx-25 | AF27: =Q27-#REF! -> #REF! | AO27: NA | AP27: =EXACT(K27,AO27) -> FALSE | AQ27: NA | AT27: Admon
E28: Admon | F28: Solicitud de Entrega de la política de especial consideración a la conservación del medio ambiente del Contratista | G28: Interventor | O28: =+P27+1 -> 45915 | P28: =+O28+1 -> 45916 | Q28: =-((_xlfn.DAYS(O28,P28))) -> 1 | V28: =O28 -> 45915 | W28: =$W$6 -> 46076 | X28: =IF(W28-V28>Q28,Q28,W28-V28) -> 1 | Y28: =IF(X28<0,0,X28) -> 1 | Z28: 45903 | AA28: OF-RHQG-01-25 | AF28: =Q28-#REF! -> #REF! | AO28: NA | AP28: =EXACT(K28,AO28) -> FALSE | AQ28: NA | AT28: Admon
E29: Admon | F29: Entrega de la política de especial consideración a la conservación del medio ambiente del Contratista | G29: Consultor | O29: =+P28 -> 45916 | P29: =+O29+5 -> 45921 | Q29: =-((_xlfn.DAYS(O29,P29))) -> 5 | V29: =O29 -> 45916 | W29: =$W$6 -> 46076 | X29: =IF(W29-V29>Q29,Q29,W29-V29) -> 5 | Y29: =IF(X29<0,0,X29) -> 5 | Z29: 45937 | AA29: Entrega vía mail | AF29: =Q29-#REF! -> #REF! | AO29: NA | AP29: =EXACT(K29,AO29) -> FALSE | AQ29: NA | AT29: Admon
E30: Admon | F30: Revision de Politica Ambiental (Aprobacion/No aprobacion) | G30: Interventor | O30: =+P29 -> 45921 | P30: =+O30+4 -> 45925 | Q30: =-((_xlfn.DAYS(O30,P30))) -> 4 | V30: =O30 -> 45921 | W30: =$W$6 -> 46076 | X30: =IF(W30-V30>Q30,Q30,W30-V30) -> 4 | Y30: =IF(X30<0,0,X30) -> 4 | Z30: 45925 | AF30: =Q30-#REF! -> #REF! | AO30: NA | AP30: =EXACT(K30,AO30) -> FALSE | AQ30: NA
E31: 1.01 | F31: Priorización de cuerpos de agua para el acotamiento de su ronda hídrica | G31: Consultor | H31: =+'PPTO CONSUL - ANEXO 12'!D6 -> 0.03379667 | I31: =+AD31 -> 0.03379667 | J31: =H31*1 -> 0.03379667 | K31: =ROUND(($G$7*H31),0) -> 23108414 | L31: ='PPTO CONSUL - ANEXO 12'!H6-K31 -> 0 | M31: =ROUND(($G$7*I31),0) -> 23108414 | N31: =ROUND(($G$7*J31),0) -> 23108414 | O31: =MIN(O32:O33) -> 45915 | P31: =MAX(P32:P33) -> 45931 | Q31: =-((_xlfn.DAYS(O31,P31))) -> 16 | V31: =O31 -> 45915 | W31: =$W$6 -> 46076 | X31: =IF(W31-V31>Q31,Q31,W31-V31) -> 16 | Y31: =IF(X31<0,0,X31) -> 16 | Z31: 45925 | AA31: OFICIO 007 | AB31: =IF(Z31=0,Y31,Z31-V31) -> 10 | AC31: =Q31-AB31 -> 6 | AD31: =(H31/Q31)*Y31 -> 0.03379667 | AE31: =J31-AD31 -> 0 | AF31: =Q31-#REF! -> #REF! | AJ31: =(H31/Q31)*Q31 -> 0.03379667 | AO31: 23108414 | AP31: =EXACT(K31,AO31) -> TRUE | AQ31: 23108414 | AR31: =+AO31-AQ31 -> 0 | AT31: 1.01 | AU31: =EXACT(AT31,E31) -> TRUE
E32: 1,01,01 | F32: Entrega Informe de Priorización de cuerpos de agua para el acotamiento de su ronda hídrica | G32: Consultor | O32: =+P13+13 -> 45915 | P32: =+O32+10 -> 45925 | Q32: =-((_xlfn.DAYS(O32,P32))) -> 10 | V32: =O32 -> 45915 | W32: =$W$6 -> 46076 | X32: =IF(W32-V32>Q32,Q32,W32-V32) -> 10 | Y32: =IF(X32<0,0,X32) -> 10 | Z32: 45929 | AF32: =Q32-#REF! -> #REF! | AP32: =EXACT(K32,AO32) -> TRUE | AR32: =+AO32-AQ32 -> 0 | AT32: 1,01,01 | AU32: =EXACT(AT32,E32) -> TRUE
E33: 1,01,02 | F33: Revision Informe de Priorización de cuerpos de agua para el acotamiento de su ronda hídrica | G33: Interventoria | O33: =+P32+1 -> 45926 | P33: =+O33+5 -> 45931 | Q33: =-((_xlfn.DAYS(O33,P33))) -> 5 | V33: =O33 -> 45926 | W33: =$W$6 -> 46076 | X33: =IF(W33-V33>Q33,Q33,W33-V33) -> 5 | Y33: =IF(X33<0,0,X33) -> 5 | Z33: 45944 | AF33: =Q33-#REF! -> #REF! | AP33: =EXACT(K33,AO33) -> TRUE | AR33: =+AO33-AQ33 -> 0 | AT33: 1,01,02 | AU33: =EXACT(AT33,E33) -> TRUE
E34: 1.02 | F34: Recopilación de información secundaria | G34: Consultor | H34: =SUM(H35:H41) -> 0.03379667 | I34: =SUM(I35:I41) -> 0.03379667 | J34: =SUM(J35:J41) -> 0.03379667 | K34: =SUM(K35:K41) -> 23108414 | L34: ='PPTO CONSUL - ANEXO 12'!H7-K34 -> 0 | M34: =SUM(M35:M41) -> 23108414 | N34: =SUM(N35:N41) -> 23108414 | O34: =MIN(O35:O43) -> 45912 | P34: =MAX(P35:P43) -> 45945 | Q34: =-((_xlfn.DAYS(O34,P34))) -> 33 | V34: =O34 -> 45912 | W34: =$W$6 -> 46076 | X34: =IF(W34-V34>Q34,Q34,W34-V34) -> 33 | Y34: =IF(X34<0,0,X34) -> 33 | Z34: 45929 | AF34: =Q34-#REF! -> #REF! | AO34: 23108414 | AP34: =EXACT(K34,AO34) -> TRUE | AQ34: 23108414 | AR34: =+AO34-AQ34 -> 0 | AT34: 1.02 | AU34: =EXACT(AT34,E34) -> TRUE
