Workbook
Name Adm: 'PRESUPUESTO 15-7'!#REF!
Name Imprev: 'PRESUPUESTO 15-7'!#REF!
Name IvaSUtl: 'PRESUPUESTO 15-7'!#REF!
Name SbtPpto: 'PRESUPUESTO 15-7'!$H$162
Name TtlCD: 'PRESUPUESTO 15-7'!#REF!
Name Utilidad: 'PRESUPUESTO 15-7'!#REF!

Sheet PRESUPUESTO 15-7
A1: 2015.1 | C1: 2025.2 | F1: www.sagut.com | G1: ="Duración Obra " &#REF! & " Días" -> #REF! | H1: =#REF! -> #REF! | I1: Unit CD | J1: Unit CT | K1: Decimales | L1: Durac | M1: CT | N1: CD | O1: CASA | P1: =C2 -> CT | Q1: DOBLECLIC AQUÍ PARA OCULTAR | AG1: C1 | AH1: C2 | AI1: C3 | AJ1: C4 | AK1: C5 | AL1: C6 | AS1: Valor Final del Contrato $ | AT1: =#REF! -> #REF! | BA1: Precios Base | CF1: =IF($A$2="CD",CH1,IF($A$2="CT",CI1,"Correg CT")) -> 0 | CG1: =ROUND(CE1 * CF1,$K$2) -> 0 | CJ1: 1 | CL1: =ROUND(CI1 * CE1,$K$2) -> 0 | CM1: =ROUND(CH1 * CE1,$K$2) -> 0 | CN1: =CG1*$O$2 -> 0 | CT1: =CP1+CQ1+CR1+CS1 -> 0 | DG1: ="CAP. " &#REF! & ": " &#REF! -> #REF! | DH1: =ROW(#REF!) -> #REF! | DO1: =CE1 -> 0 | DQ1: =DO1+DP1 -> 0 | DR1: =CF1 -> 0 | DS1: =ROUND(DQ1 * DR1,$K$2) -> 0
A2: CT | C2: =IF($A$2="CD","CD",IF($A$2="CT","CT","")) -> CT | H2: =IF(INSUMOS!J2=1,"CHEQ. INSUMOS","Insumos ok.") -> Insumos ok. | I2: 2 | J2: 3 | K2: 0 | O2: 1 | AP2: Dobleclic para ocultar Cantidades Definitivas | CA2: A | CB2: B | CC2: C | CD2: D | CE2: E | CF2: F | CG2: G | CH2: H | CI2: I | CJ2: J | CK2: K | CL2: L | CM2: M | CN2: N | CO2: O | CP2: P | CQ2: Q | CR2: R | CS2: S | CT2: T | CU2: U | CV2: V | CW2: W | CX2: X | CY2: Y | CZ2: Z | DA2: AA | DB2: AB | DC2: AC | DD2: AD | DE2: AE | DF2: AF | DG2: AG | DH2: AH | DI2: AI | DJ2: AJ | DK2: AK | DL2: AL | DM2: AM | DN2: AN | DO2: AO | DP2: AP | DQ2: AQ | DR2: AR | DS2: AS | DT2: AT | DU2: AU
AQ3: =SUM(AQ8:AQ189) -> #REF!
AH4: ="CAP. " & $C$4 & ": " & $D$4 -> CAP. : | AI4: =ROW($C$4) -> 4 | AJ4: ="SUBCAP. " & $C$4 & ": " & $D$4 -> SUBCAP. : | AK4: =ROW($C$4) -> 4
C7: SECRETARIA DE DESARROLLO TERRITORIAL Y PARTICIPACIÓN CIUDADANA | Q7: ITEMS POR COMPONENTES | AP7: CANTIDADES DEFINITIVAS DE OBRA
C8: PRESUPUESTO DE OBRA | Q8: Otros | R8: Equipo | S8: M. de Obra | T8: Materiales | U8: Unit CD | W8: 1 | AP8: PRESUP. | AQ8: MODIF. | AR8: CANT. DEFINIT. | AS8: VR.UNIT. | AT8: VR. DEFINIT.
C9: Objeto: | D9: MANTENIMIENTO CORRECTIVO Y PREVENTIVO DE LOS CENTROS DE ADMINISTRACIÓN LOCAL INTEGRADA DE LAS COMUNAS 15 Y 7 DEL DISTRITO DE SANTIAGO DE CALI | G9: PROCESO No.
G10: FECHA: | H10: =TODAY() -> 46079
A12: ENCAB | B12: CAP | C12: ITEM | D12: DESCRIPCION | E12: UND | F12: CANT. | G12: VR. UNIT | H12: =IF(O2>1,"VR. / " &O1,"VR.TOTAL") -> VR.TOTAL | I12: C.D. | J12: C.T. | L12: DURAC | M12: VR. TOTAL | N12: VR. C.D. | O12: ="Vr. " & O2 & " " &O1& "S" -> Vr. 1 CASAS | Q12: Otros | R12: Equipo | S12: M. de Obra | T12: Materiales | U12: Unit CD | W12: 1 | AP12: PRESUP. | AQ12: =[1]ACTAS!L14 -> #REF! | AR12: CANT. DEFINIT. | AS12: VR.UNIT. | AT12: VR. DEFINIT.
C13: C.A.L.I 15
A14: CAP | C14: 1 | D14: PRELIMINARES 1 | H14: =SUM(H15:H27) -> 72688979 | O14: =SUM(O15:O27) -> 69175011 | V14: =IF(H14<>"",O14-H14*$O$2,0) -> -3513968 | W14: . | AH14: ="CAP. " & $C$14 & ": " & $D$14 -> CAP. 1: PRELIMINARES 1 | AI14: =ROW($C$14) -> 14 | AT14: =SUM(AT15:AT27) -> 72688979
A15: COD | AH15: ="CAP. " & $C$14 & ": " & $D$14 -> CAP. 1: PRELIMINARES 1 | AI15: =ROW($C$14) -> 14
A16: 330107 | B16: 330107 | C16: 1.1 | D16: CORTADORA DE LADRILLO CON DISCO (ALQUILER) | E16: DÍA | F16: 488.8 | G16: 96197 | H16: =ROUND(F16 * G16,$K$2) -> 47021094 | I16: =#REF! -> #REF! | J16: =#REF! -> #REF! | K16: 1 | M16: =ROUND(J16 * F16,$K$2) -> #REF! | N16: =ROUND(I16 * F16,$K$2) -> #REF! | O16: =H16*$O$2 -> 47021094 | Q16: =ROUND(#REF!*F16,0) -> #REF! | R16: =ROUND(#REF!*F16,0) -> #REF! | U16: =Q16+R16+S16+T16 -> #REF! | W16: 10 | AH16: ="CAP. " & $C$14 & ": " & $D$14 -> CAP. 1: PRELIMINARES 1 | AI16: =ROW($C$14) -> 14 | AP16: =F16 -> 488.8 | AR16: =AP16+AQ16 -> 488.8 | AS16: =G16 -> 96197 | AT16: =ROUND(AR16 * AS16,$K$2) -> 47021094
A17: 100414 | B17: 100414 | C17: 1.2 | D17: DEMOLICION CONTRAPISO CONCRETO E=5CM-10CM | E17: M | F17: 168 | G17: 5378 | H17: =ROUND(F17 * G17,$K$2) -> 903504 | I17: =#REF! -> #REF! | J17: =#REF! -> #REF! | K17: 1 | L17: =ROUNDUP(#REF!/$K$17,0) -> #REF! | M17: =ROUND(J17 * F17,$K$2) -> #REF! | N17: =ROUND(I17 * F17,$K$2) -> #REF! | O17: =H17*$O$2 -> 903504 | Q17: =ROUND(#REF!*F17,0) -> #REF! | R17: =ROUND(#REF!*F17,0) -> #REF! | S17: =ROUND(#REF!*F17,0) -> #REF! | U17: =Q17+R17+S17+T17 -> #REF! | W17: 11 | AH17: ="CAP. " & $C$14 & ": " & $D$14 -> CAP. 1: PRELIMINARES 1 | AI17: =ROW($C$14) -> 14 | AP17: =F17 -> 168 | AR17: =AP17+AQ17 -> 168 | AS17: =G17 -> 5378 | AT17: =ROUND(AR17 * AS17,$K$2) -> 903504
A18: 100314 | B18: 100314 | C18: 1.3 | D18: DEMOLICION MURO LAD. SOGA | E18: M2 | F18: 488.8 | G18: 11589 | H18: =ROUND(F18 * G18,$K$2) -> 5664703 | I18: =#REF! -> #REF! | J18: =#REF! -> #REF! | K18: 1 | L18: =ROUNDUP(#REF!/$K$18,0) -> #REF! | M18: =ROUND(J18 * F18,$K$2) -> #REF! | N18: =ROUND(I18 * F18,$K$2) -> #REF! | O18: =H18*$O$2 -> 5664703 | Q18: =ROUND(#REF!*F18,0) -> #REF! | R18: =ROUND(#REF!*F18,0) -> #REF! | S18: =ROUND(#REF!*F18,0) -> #REF! | U18: =Q18+R18+S18+T18 -> #REF! | W18: 12 | AH18: ="CAP. " & $C$14 & ": " & $D$14 -> CAP. 1: PRELIMINARES 1 | AI18: =ROW($C$14) -> 14 | AP18: =F18 -> 488.8 | AR18: =AP18+AQ18 -> 488.8 | AS18: =G18 -> 11589 | AT18: =ROUND(AR18 * AS18,$K$2) -> 5664703
A19: 100305 | B19: 100305 | C19: 1.4 | D19: DEMOLICION ENCHAPE CERAMICO | E19: M2 | F19: 12.6 | G19: 18975 | H19: =ROUND(F19 * G19,$K$2) -> 239085 | I19: =#REF! -> #REF! | J19: =#REF! -> #REF! | K19: 1 | L19: =ROUNDUP(#REF!/$K$19,0) -> #REF! | M19: =ROUND(J19 * F19,$K$2) -> #REF! | N19: =ROUND(I19 * F19,$K$2) -> #REF! | O19: =H19*$O$2 -> 239085 | Q19: =ROUND(#REF!*F19,0) -> #REF! | R19: =ROUND(#REF!*F19,0) -> #REF! | S19: =ROUND(#REF!*F19,0) -> #REF! | U19: =Q19+R19+S19+T19 -> #REF! | W19: 13 | AH19: ="CAP. " & $C$14 & ": " & $D$14 -> CAP. 1: PRELIMINARES 1 | AI19: =ROW($C$14) -> 14 | AP19: =F19 -> 12.6 | AR19: =AP19+AQ19 -> 12.6 | AS19: =G19 -> 18975 | AT19: =ROUND(AR19 * AS19,$K$2) -> 239085
A20: 100515 | B20: 100515 | C20: 1.5 | D20: DESMONTE MARCO + NAVE SENCILLA | E20: UND | F20: 21 | G20: 41712 | H20: =ROUND(F20 * G20,$K$2) -> 875952 | I20: =#REF! -> #REF! | J20: =#REF! -> #REF! | K20: 1 | L20: =ROUNDUP(#REF!/$K$20,0) -> #REF! | M20: =ROUND(J20 * F20,$K$2) -> #REF! | N20: =ROUND(I20 * F20,$K$2) -> #REF! | O20: =H20*$O$2 -> 875952 | Q20: =ROUND(#REF!*F20,0) -> #REF! | R20: =ROUND(#REF!*F20,0) -> #REF! | S20: =ROUND(#REF!*F20,0) -> #REF! | U20: =Q20+R20+S20+T20 -> #REF! | W20: 14 | AH20: ="CAP. " & $C$14 & ": " & $D$14 -> CAP. 1: PRELIMINARES 1 | AI20: =ROW($C$14) -> 14 | AP20: =F20 -> 21 | AR20: =AP20+AQ20 -> 21 | AS20: =G20 -> 41712 | AT20: =ROUND(AR20 * AS20,$K$2) -> 875952
A21: 100538 | B21: 100538 | C21: 1.6 | D21: DESMONTE MARCO DOBLE + NAVE DOBLE | E21: UND | F21: 1 | G21: 124102 | H21: =ROUND(F21 * G21,$K$2) -> 124102 | I21: =#REF! -> #REF! | J21: =#REF! -> #REF! | K21: 1 | L21: =ROUNDUP(#REF!/$K$21,0) -> #REF! | M21: =ROUND(J21 * F21,$K$2) -> #REF! | N21: =ROUND(I21 * F21,$K$2) -> #REF! | O21: =H21*$O$2 -> 124102 | Q21: =ROUND(#REF!*F21,0) -> #REF! | R21: =ROUND(#REF!*F21,0) -> #REF! | S21: =ROUND(#REF!*F21,0) -> #REF! | T21: =ROUND(#REF!*F21,0) -> #REF! | U21: =Q21+R21+S21+T21 -> #REF! | W21: 15 | AH21: ="CAP. " & $C$14 & ": " & $D$14 -> CAP. 1: PRELIMINARES 1 | AI21: =ROW($C$14) -> 14 | AP21: =F21 -> 1 | AR21: =AP21+AQ21 -> 1 | AS21: =G21 -> 124102 | AT21: =ROUND(AR21 * AS21,$K$2) -> 124102
A22: 100407 | B22: 100407 | C22: 1.7 | D22: DEMOLICION PISO ENCHAPE-BALDOSA+MORTERO | E22: M2 | F22: 664.71 | G22: 12988 | H22: =ROUND(F22 * G22,$K$2) -> 8633253 | I22: =#REF! -> #REF! | J22: =#REF! -> #REF! | K22: 1 | L22: =ROUNDUP(#REF!/$K$22,0) -> #REF! | M22: =ROUND(J22 * F22,$K$2) -> #REF! | N22: =ROUND(I22 * F22,$K$2) -> #REF! | O22: =H22*$O$2 -> 8633253 | Q22: =ROUND(#REF!*F22,0) -> #REF! | R22: =ROUND(#REF!*F22,0) -> #REF! | S22: =ROUND(#REF!*F22,0) -> #REF! | U22: =Q22+R22+S22+T22 -> #REF! | W22: 16 | AH22: ="CAP. " & $C$14 & ": " & $D$14 -> CAP. 1: PRELIMINARES 1 | AI22: =ROW($C$14) -> 14 | AP22: =F22 -> 664.71 | AR22: =AP22+AQ22 -> 664.71 | AS22: =G22 -> 12988 | AT22: =ROUND(AR22 * AS22,$K$2) -> 8633253
A23: 100401 | B23: 100401 | C23: 1.8 | D23: DEMOLICION ANDEN/CONTRAPISO CONC.E 7.6 A 12CM | E23: M2 | F23: 47 | G23: 10634 | H23: =ROUND(F23 * G23,$K$2) -> 499798 | I23: =#REF! -> #REF! | J23: =#REF! -> #REF! | K23: 1 | L23: =ROUNDUP(#REF!/$K$23,0) -> #REF! | M23: =ROUND(J23 * F23,$K$2) -> #REF! | N23: =ROUND(I23 * F23,$K$2) -> #REF! | O23: =H23*$O$2 -> 499798 | Q23: =ROUND(#REF!*F23,0) -> #REF! | R23: =ROUND(#REF!*F23,0) -> #REF! | S23: =ROUND(#REF!*F23,0) -> #REF! | U23: =Q23+R23+S23+T23 -> #REF! | W23: 17 | AH23: ="CAP. " & $C$14 & ": " & $D$14 -> CAP. 1: PRELIMINARES 1 | AI23: =ROW($C$14) -> 14 | AP23: =F23 -> 47 | AR23: =AP23+AQ23 -> 47 | AS23: =G23 -> 10634 | AT23: =ROUND(AR23 * AS23,$K$2) -> 499798
A24: 100628 | B24: 100628 | C24: 1.9 | D24: CARGUE Y RETIRO MATERIAL VOLQUETA <= 10 KM. | E24: M3 | F24: 104 | G24: 43650 | H24: =ROUND(F24 * G24,$K$2) -> 4539600 | I24: =#REF! -> #REF! | J24: =#REF! -> #REF! | K24: 1 | L24: =ROUNDUP(#REF!/$K$24,0) -> #REF! | M24: =ROUND(J24 * F24,$K$2) -> #REF! | N24: =ROUND(I24 * F24,$K$2) -> #REF! | O24: =H24*$O$2 -> 4539600 | Q24: =ROUND(#REF!*F24,0) -> #REF! | R24: =ROUND(#REF!*F24,0) -> #REF! | S24: =ROUND(#REF!*F24,0) -> #REF! | U24: =Q24+R24+S24+T24 -> #REF! | W24: 18 | AH24: ="CAP. " & $C$14 & ": " & $D$14 -> CAP. 1: PRELIMINARES 1 | AI24: =ROW($C$14) -> 14 | AP24: =F24 -> 104 | AR24: =AP24+AQ24 -> 104 | AS24: =G24 -> 43650 | AT24: =ROUND(AR24 * AS24,$K$2) -> 4539600
A25: 010119 | B25: 010119 | C25: 1.10 | D25: DISPOSICIÓN FINAL DE ESCOMBROS Y SOBRANTES | E25: M3 | F25: 104 | G25: 6480 | H25: =ROUND(F25 * G25,$K$2) -> 673920 | I25: =#REF! -> #REF! | J25: =#REF! -> #REF! | K25: 1 | M25: =ROUND(J25 * F25,$K$2) -> #REF! | N25: =ROUND(I25 * F25,$K$2) -> #REF! | O25: =H25*$O$2 -> 673920 | T25: =ROUND(#REF!*F25,0) -> #REF! | U25: =Q25+R25+S25+T25 -> #REF! | W25: 19 | AH25: ="CAP. " & $C$14 & ": " & $D$14 -> CAP. 1: PRELIMINARES 1 | AI25: =ROW($C$14) -> 14 | AP25: =F25 -> 104 | AR25: =AP25+AQ25 -> 104 | AS25: =G25 -> 6480 | AT25: =ROUND(AR25 * AS25,$K$2) -> 673920
B26: 100624 | C26: 1.11 | D26: ACARREO MATERIALES 10 PERS | E26: h | F26: 8 | G26: 439246 | H26: =ROUND(F26 * G26,$K$2) -> 3513968 | AP26: =F26 -> 8 | AR26: =AP26+AQ26 -> 8 | AS26: =G26 -> 439246 | AT26: =ROUND(AR26 * AS26,$K$2) -> 3513968
AH27: ="CAP. " & $C$14 & ": " & $D$14 -> CAP. 1: PRELIMINARES 1 | AI27: =ROW($C$14) -> 14
A28: STCAP | B28: STCAP | G28: SUBTOTAL CAP. 1 PRELIMINARES 1: | H28: =SUM(H15:H27) -> 72688979 | O28: =SUM(O15:O27) -> 69175011 | Q28: =SUM(Q14:Q27) -> #REF! | R28: =SUM(R14:R27) -> #REF! | S28: =SUM(S14:S27) -> #REF! | T28: =SUM(T14:T27) -> #REF! | U28: =SUM(U14:U27) -> #REF! | AH28: ="CAP. " & $C$14 & ": " & $D$14 -> CAP. 1: PRELIMINARES 1 | AI28: =ROW($C$14) -> 14 | AT28: =SUM(AT15:AT27) -> 72688979
A30: CAP | B30: CAP | C30: 2 | D30: ESTRUCTURA CONCRETO | H30: =SUM(H31:H44) -> 574491944 | O30: =SUM(O31:O44) -> 574491944 | V30: =IF(H30<>"",O30-H30*$O$2,0) -> 0 | W30: . | AH30: ="CAP. " & $C$30 & ": " & $D$30 -> CAP. 2: ESTRUCTURA CONCRETO | AI30: =ROW($C$30) -> 30 | AT30: =SUM(AT31:AT44) -> 574491944
A31: COD | B31: COD | AH31: ="CAP. " & $C$30 & ": " & $D$30 -> CAP. 2: ESTRUCTURA CONCRETO | AI31: =ROW($C$30) -> 30
A32: 120210 | B32: 120210 | C32: 2.1 | D32: SOLADO ESPESOR E=0.05M 3000 PSI 210 MPA | E32: M2 | F32: 84.96 | G32: 49270 | H32: =ROUND(F32 * G32,$K$2) -> 4185979 | I32: =#REF! -> #REF! | J32: =#REF! -> #REF! | K32: 1 | L32: =ROUNDUP(#REF!/$K$32,0) -> #REF! | M32: =ROUND(J32 * F32,$K$2) -> #REF! | N32: =ROUND(I32 * F32,$K$2) -> #REF! | O32: =H32*$O$2 -> 4185979 | Q32: =ROUND(#REF!*F32,0) -> #REF! | R32: =ROUND(#REF!*F32,0) + 21 -> #REF! | S32: =ROUND(#REF!*F32,0) -> #REF! | T32: =ROUND(#REF!*F32,0) -> #REF! | U32: =Q32+R32+S32+T32 -> #REF! | W32: 21 | AH32: ="CAP. " & $C$30 & ": " & $D$30 -> CAP. 2: ESTRUCTURA CONCRETO | AI32: =ROW($C$30) -> 30 | AP32: =F32 -> 84.96 | AR32: =AP32+AQ32 -> 84.96 | AS32: =G32 -> 49270 | AT32: =ROUND(AR32 * AS32,$K$2) -> 4185979
A33: 120213 | B33: 120213 | C33: 2.2 | D33: ZAPATA CONCRETO 3000 PSI INC. FORMALETA | E33: M3 | F33: 27 | G33: 848510 | H33: =ROUND(F33 * G33,$K$2) -> 22909770 | I33: =#REF! -> #REF! | J33: =#REF! -> #REF! | K33: 1 | L33: =ROUNDUP(#REF!/$K$33,0) -> #REF! | M33: =ROUND(J33 * F33,$K$2) -> #REF! | N33: =ROUND(I33 * F33,$K$2) -> #REF! | O33: =H33*$O$2 -> 22909770 | Q33: =ROUND(#REF!*F33,0) -> #REF! | R33: =ROUND(#REF!*F33,0) + 11 -> #REF! | S33: =ROUND(#REF!*F33,0) -> #REF! | T33: =ROUND(#REF!*F33,0) -> #REF! | U33: =Q33+R33+S33+T33 -> #REF! | W33: 22 | AH33: ="CAP. " & $C$30 & ": " & $D$30 -> CAP. 2: ESTRUCTURA CONCRETO | AI33: =ROW($C$30) -> 30 | AP33: =F33 -> 27 | AR33: =AP33+AQ33 -> 27 | AS33: =G33 -> 848510 | AT33: =ROUND(AR33 * AS33,$K$2) -> 22909770
A34: 120301 | B34: 120301 | C34: 2.3 | D34: VIGA CIMIENTO ENLACE H=20-40CM 3100PSI | E34: M3 | F34: 25.49 | G34: 1306108 | H34: =ROUND(F34 * G34,$K$2) -> 33292693 | I34: =#REF! -> #REF! | J34: =#REF! -> #REF! | K34: 1 | L34: =ROUNDUP(#REF!/$K$34,0) -> #REF! | M34: =ROUND(J34 * F34,$K$2) -> #REF! | N34: =ROUND(I34 * F34,$K$2) -> #REF! | O34: =H34*$O$2 -> 33292693 | Q34: =ROUND(#REF!*F34,0) -> #REF! | R34: =ROUND(#REF!*F34,0) + 4 -> #REF! | S34: =ROUND(#REF!*F34,0) -> #REF! | T34: =ROUND(#REF!*F34,0) -> #REF! | U34: =Q34+R34+S34+T34 -> #REF! | W34: 23 | AH34: ="CAP. " & $C$30 & ": " & $D$30 -> CAP. 2: ESTRUCTURA CONCRETO | AI34: =ROW($C$30) -> 30 | AP34: =F34 -> 25.49 | AR34: =AP34+AQ34 -> 25.49 | AS34: =G34 -> 1306108 | AT34: =ROUND(AR34 * AS34,$K$2) -> 33292693
A35: 130204 | B35: 130204 | C35: 2.4 | D35: COLUMNA CONCRETO 3000 PSI | E35: M3 | F35: 19.55 | G35: 2345925 | H35: =ROUND(F35 * G35,$K$2) -> 45862834 | I35: =#REF! -> #REF! | J35: =#REF! -> #REF! | K35: 1 | L35: =ROUNDUP(#REF!/$K$35,0) -> #REF! | M35: =ROUND(J35 * F35,$K$2) -> #REF! | N35: =ROUND(I35 * F35,$K$2) -> #REF! | O35: =H35*$O$2 -> 45862834 | Q35: =ROUND(#REF!*F35,0) -> #REF! | R35: =ROUND(#REF!*F35,0) + 5 -> #REF! | S35: =ROUND(#REF!*F35,0) -> #REF! | T35: =ROUND(#REF!*F35,0) -> #REF! | U35: =Q35+R35+S35+T35 -> #REF! | W35: 24 | AH35: ="CAP. " & $C$30 & ": " & $D$30 -> CAP. 2: ESTRUCTURA CONCRETO | AI35: =ROW($C$30) -> 30 | AP35: =F35 -> 19.55 | AR35: =AP35+AQ35 -> 19.55 | AS35: =G35 -> 2345925 | AT35: =ROUND(AR35 * AS35,$K$2) -> 45862834
A36: 130413 | B36: 130413 | C36: 2.5 | D36: VIGA CONCRETO AEREA 3000 PSI | E36: M3 | F36: 42.48 | G36: 1867907 | H36: =ROUND(F36 * G36,$K$2) -> 79348689 | I36: =#REF! -> #REF! | J36: =#REF! -> #REF! | K36: 1 | L36: =ROUNDUP(#REF!/$K$36,0) -> #REF! | M36: =ROUND(J36 * F36,$K$2) -> #REF! | N36: =ROUND(I36 * F36,$K$2) -> #REF! | O36: =H36*$O$2 -> 79348689 | Q36: =ROUND(#REF!*F36,0) -> #REF! | R36: =ROUND(#REF!*F36,0) -> #REF! | S36: =ROUND(#REF!*F36,0) -> #REF! | T36: =ROUND(#REF!*F36,0) -> #REF! | U36: =Q36+R36+S36+T36 -> #REF! | W36: 25 | AH36: ="CAP. " & $C$30 & ": " & $D$30 -> CAP. 2: ESTRUCTURA CONCRETO | AI36: =ROW($C$30) -> 30 | AP36: =F36 -> 42.48 | AR36: =AP36+AQ36 -> 42.48 | AS36: =G36 -> 1867907 | AT36: =ROUND(AR36 * AS36,$K$2) -> 79348689
A37: 120101 | B37: 120101 | C37: 2.6 | D37: ACERO REFUERZO FLEJADO 60000 PSI 420Mpa | E37: KG | F37: 15915.22 | G37: 8162 | H37: =ROUND(F37 * G37,$K$2) -> 129900026 | I37: =#REF! -> #REF! | J37: =#REF! -> #REF! | K37: 1 | L37: =ROUNDUP(#REF!/$K$37,0) -> #REF! | M37: =ROUND(J37 * F37,$K$2) -> #REF! | N37: =ROUND(I37 * F37,$K$2) -> #REF! | O37: =H37*$O$2 -> 129900026 | Q37: =ROUND(#REF!*F37,0) -> #REF! | R37: =ROUND(#REF!*F37,0) -> #REF! | S37: =ROUND(#REF!*F37,0) -> #REF! | T37: =ROUND(#REF!*F37,0) -> #REF! | U37: =Q37+R37+S37+T37 -> #REF! | W37: 26 | AH37: ="CAP. " & $C$30 & ": " & $D$30 -> CAP. 2: ESTRUCTURA CONCRETO | AI37: =ROW($C$30) -> 30 | AP37: =F37 -> 15915.22 | AR37: =AP37+AQ37 -> 15915.22 | AS37: =G37 -> 8162 | AT37: =ROUND(AR37 * AS37,$K$2) -> 129900026
A38: 131114 | B38: 131114 | C38: 2.7 | D38: ANCLAJE HIERRO ,3/8"-PERFORACION ,1/2" 10-15C | E38: PUNTO | F38: 2688 | G38: 34817 | H38: =ROUND(F38 * G38,$K$2) -> 93588096 | I38: =#REF! -> #REF! | J38: =#REF! -> #REF! | K38: 1 | L38: =ROUNDUP(#REF!/$K$38,0) -> #REF! | M38: =ROUND(J38 * F38,$K$2) -> #REF! | N38: =ROUND(I38 * F38,$K$2) -> #REF! | O38: =H38*$O$2 -> 93588096 | Q38: =ROUND(#REF!*F38,0) -> #REF! | R38: =ROUND(#REF!*F38,0) + 913 -> #REF! | S38: =ROUND(#REF!*F38,0) -> #REF! | T38: =ROUND(#REF!*F38,0) -> #REF! | U38: =Q38+R38+S38+T38 -> #REF! | W38: 27 | AH38: ="CAP. " & $C$30 & ": " & $D$30 -> CAP. 2: ESTRUCTURA CONCRETO | AI38: =ROW($C$30) -> 30 | AP38: =F38 -> 2688 | AR38: =AP38+AQ38 -> 2688 | AS38: =G38 -> 34817 | AT38: =ROUND(AR38 * AS38,$K$2) -> 93588096
A39: 131116 | B39: 131116 | C39: 2.8 | D39: ANCLAJE HIERRO ,5/8"-PERFORACION ,3/4" 10-15C | E39: PUNTO | F39: 978 | G39: 48978 | H39: =ROUND(F39 * G39,$K$2) -> 47900484 | I39: =#REF! -> #REF! | J39: =#REF! -> #REF! | K39: 1 | L39: =ROUNDUP(#REF!/$K$39,0) -> #REF! | M39: =ROUND(J39 * F39,$K$2) -> #REF! | N39: =ROUND(I39 * F39,$K$2) -> #REF! | O39: =H39*$O$2 -> 47900484 | Q39: =ROUND(#REF!*F39,0) -> #REF! | R39: =ROUND(#REF!*F39,0) -> #REF! | S39: =ROUND(#REF!*F39,0) -> #REF! | T39: =ROUND(#REF!*F39,0) -> #REF! | U39: =Q39+R39+S39+T39 -> #REF! | W39: 28 | AH39: ="CAP. " & $C$30 & ": " & $D$30 -> CAP. 2: ESTRUCTURA CONCRETO | AI39: =ROW($C$30) -> 30 | AP39: =F39 -> 978 | AR39: =AP39+AQ39 -> 978 | AS39: =G39 -> 48978 | AT39: =ROUND(AR39 * AS39,$K$2) -> 47900484
A40: 131119 | B40: 131119 | C40: 2.9 | D40: ANCLAJE HIERRO ,1/2"-PERFORACION ,5/8" 10-15C | E40: PUNTO | F40: 350 | G40: 42694 | H40: =ROUND(F40 * G40,$K$2) -> 14942900 | I40: =#REF! -> #REF! | J40: =#REF! -> #REF! | K40: 1 | L40: =ROUNDUP(#REF!/$K$40,0) -> #REF! | M40: =ROUND(J40 * F40,$K$2) -> #REF! | N40: =ROUND(I40 * F40,$K$2) -> #REF! | O40: =H40*$O$2 -> 14942900 | Q40: =ROUND(#REF!*F40,0) -> #REF! | R40: =ROUND(#REF!*F40,0) -> #REF! | S40: =ROUND(#REF!*F40,0) -> #REF! | T40: =ROUND(#REF!*F40,0) -> #REF! | U40: =Q40+R40+S40+T40 -> #REF! | W40: 29 | AH40: ="CAP. " & $C$30 & ": " & $D$30 -> CAP. 2: ESTRUCTURA CONCRETO | AI40: =ROW($C$30) -> 30 | AP40: =F40 -> 350 | AR40: =AP40+AQ40 -> 350 | AS40: =G40 -> 42694 | AT40: =ROUND(AR40 * AS40,$K$2) -> 14942900
A41: 320601 | B41: 320601 | C41: 2.10 | D41: ADHERENTE EPOXICO LIBRE DE SOLVENTES | E41: M2 | F41: 293.28 | G41: 155143 | H41: =ROUND(F41 * G41,$K$2) -> 45500339 | I41: =#REF! -> #REF! | J41: =#REF! -> #REF! | K41: 1 | L41: =ROUNDUP(#REF!/$K$41,0) -> #REF! | M41: =ROUND(J41 * F41,$K$2) -> #REF! | N41: =ROUND(I41 * F41,$K$2) -> #REF! | O41: =H41*$O$2 -> 45500339 | Q41: =ROUND(#REF!*F41,0) -> #REF! | R41: =ROUND(#REF!*F41,0) -> #REF! | S41: =ROUND(#REF!*F41,0) -> #REF! | T41: =ROUND(#REF!*F41,0) -> #REF! | U41: =Q41+R41+S41+T41 -> #REF! | W41: 30 | AH41: ="CAP. " & $C$30 & ": " & $D$30 -> CAP. 2: ESTRUCTURA CONCRETO | AI41: =ROW($C$30) -> 30 | AP41: =F41 -> 293.28 | AR41: =AP41+AQ41 -> 293.28 | AS41: =G41 -> 155143 | AT41: =ROUND(AR41 * AS41,$K$2) -> 45500339
A42: 200127 | B42: 200127 | C42: 2.11 | D42: CONTRAPISO REFORZADO E=10CM 3.000Psi | E42: M2 | F42: 60 | G42: 133314 | H42: =ROUND(F42 * G42,$K$2) -> 7998840 | I42: =#REF! -> #REF! | J42: =#REF! -> #REF! | K42: 1 | L42: =ROUNDUP(#REF!/$K$42,0) -> #REF! | M42: =ROUND(J42 * F42,$K$2) -> #REF! | N42: =ROUND(I42 * F42,$K$2) -> #REF! | O42: =H42*$O$2 -> 7998840 | Q42: =ROUND(#REF!*F42,0) -> #REF! | R42: =ROUND(#REF!*F42,0) -> #REF! | S42: =ROUND(#REF!*F42,0) -> #REF! | T42: =ROUND(#REF!*F42,0) -> #REF! | U42: =Q42+R42+S42+T42 -> #REF! | W42: 31 | AH42: ="CAP. " & $C$30 & ": " & $D$30 -> CAP. 2: ESTRUCTURA CONCRETO | AI42: =ROW($C$30) -> 30 | AP42: =F42 -> 60 | AR42: =AP42+AQ42 -> 60 | AS42: =G42 -> 133314 | AT42: =ROUND(AR42 * AS42,$K$2) -> 7998840
A43: 131115 | B43: 131115 | C43: 2.12 | D43: ANCLAJE HIERRO ,3/4"-PERFORACION ,7/8" 16-20C | E43: PUNTO | F43: 734 | G43: 66841 | H43: =ROUND(F43 * G43,$K$2) -> 49061294 | I43: =#REF! -> #REF! | J43: =#REF! -> #REF! | K43: 1 | L43: =ROUNDUP(#REF!/$K$43,0) -> #REF! | M43: =ROUND(J43 * F43,$K$2) -> #REF! | N43: =ROUND(I43 * F43,$K$2) -> #REF! | O43: =H43*$O$2 -> 49061294 | Q43: =ROUND(#REF!*F43,0) -> #REF! | R43: =ROUND(#REF!*F43,0) + 30 -> #REF! | S43: =ROUND(#REF!*F43,0) -> #REF! | T43: =ROUND(#REF!*F43,0) -> #REF! | U43: =Q43+R43+S43+T43 -> #REF! | W43: 32 | AH43: ="CAP. " & $C$30 & ": " & $D$30 -> CAP. 2: ESTRUCTURA CONCRETO | AI43: =ROW($C$30) -> 30 | AP43: =F43 -> 734 | AR43: =AP43+AQ43 -> 734 | AS43: =G43 -> 66841 | AT43: =ROUND(AR43 * AS43,$K$2) -> 49061294
AH44: ="CAP. " & $C$30 & ": " & $D$30 -> CAP. 2: ESTRUCTURA CONCRETO | AI44: =ROW($C$30) -> 30
...

Sheet INSUMOS
C5: =+'PRESUPUESTO 15-7'!C7 -> SECRETARIA DE DESARROLLO TERRITORIAL Y PARTICIPACIÓN CIUDADANA
C6: RESUMEN DE INSUMOS
C7: ='PRESUPUESTO 15-7'!D9 -> MANTENIMIENTO CORRECTIVO Y PREVENTIVO DE LOS CENTROS DE ADMINISTRACIÓN LOCAL INTEGRADA DE LAS COMUNAS 15 Y 7 DEL DISTRITO DE SANTIAGO DE CALI | I7: PROCESO No. | J7: ='PRESUPUESTO 15-7'!H9 -> 0
I8: FECHA: | J8: ='PRESUPUESTO 15-7'!H10 -> 46079
A10: CODIGO | C10: DESCRIPCION | D10: UND | G10: CANT. | I10: VR. UNIT. | J10: VR. TOTAL
A14: G1 | C14: MATERIALES | J14: =SUM(J15:J212) -> 7.9414935e+08
A15: CODIGO | B15: CLASIF | C15: DESCRIPCION | D15: UND | G15: =IF($B$3>1,"CANT. / " &$B$1,"CANT.") -> CANT. | I15: VR. UNIT. | J15: =IF($B$3>1,"VR. / " &$B$1,"VR.TOTAL") -> VR.TOTAL
A16: 100011 | B16: ADITIVOS | C16: ACEITE MOTOR 4 TIEMPOS | D16: GLN | E16: =C16&D16 -> ACEITE MOTOR 4 TIEMPOSGLN | F16: 1 | G16: 0.87403506 | H16: 703.74 | I16: 123272 | J16: =G16*I16 -> 107744.05
A17: 101010 | B17: HIERROS | C17: ACERO DE REFUERZO 1/2" 60.000 FIGURADO | D17: KG | E17: =C17&D17 -> ACERO DE REFUERZO 1/2" 60.000 FIGURADOKG | F17: 1 | G17: 210 | H17: 2550 | I17: 4467 | J17: =G17*I17 -> 938070
A18: 101013 | B18: HIERROS | C18: ACERO DE REFUERZO 3/4" 60.000 FIGURADO | D18: KG | E18: =C18&D18 -> ACERO DE REFUERZO 3/4" 60.000 FIGURADOKG | F18: 1 | G18: 1614.8 | H18: 9350 | I18: 4467 | J18: =G18*I18 -> 7213311.6
A19: 101015 | B19: HIERROS | C19: ACERO DE REFUERZO 3/8" 60.000 | D19: KG | E19: =C19&D19 -> ACERO DE REFUERZO 3/8" 60.000KG | F19: 1 | G19: 806.4 | H19: 1275 | I19: 4467 | J19: =G19*I19 -> 3602188.8
A20: 101017 | B20: HIERROS | C20: ACERO DE REFUERZO 5/8" 60.000 | D20: KG | E20: =C20&D20 -> ACERO DE REFUERZO 5/8" 60.000KG | F20: 1 | G20: 1173.6 | H20: 5100 | I20: 4467 | J20: =G20*I20 -> 5242471.2
A21: 101008 | B21: HIERROS | C21: ACERO DE REFUERZO 60.000 PSI 420 MPA | D21: KG | E21: =C21&D21 -> ACERO DE REFUERZO 60.000 PSI 420 MPAKG | F21: 1 | G21: 17055.811 | H21: 4377.5 | I21: 4467 | J21: =G21*I21 -> 76188309
A22: 100014 | C22: ACIDO MURIATICO | D22: GLN | E22: =C22&D22 -> ACIDO MURIATICOGLN | F22: 1 | G22: 2.7950235 | H22: 116.34 | I22: 24214 | J22: =G22*I22 -> 67678.699
A23: 100018 | C23: ACRONAL | D23: GLN | E23: =C23&D23 -> ACRONALGLN | F23: 1 | G23: 6.272714 | H23: 533.88 | I23: 55556 | J23: =G23*I23 -> 348486.9
A24: 101897 | C24: ADAP. TERMINAL PVC 1/2" | D24: UND | E24: =C24&D24 -> ADAP. TERMINAL PVC 1/2"UND | F24: 1 | G24: 308 | H24: 934 | I24: 491 | J24: =G24*I24 -> 151228
A25: 117006 | C25: ADHERENTE EPOX. CONCRETO SECADO LENTO | D25: KG | E25: =C25&D25 -> ADHERENTE EPOX. CONCRETO SECADO LENTOKG | F25: 1 | G25: 175.968 | H25: 104707.8 | I25: 183413 | J25: =G25*I25 -> 32274819
A26: 106015 | B26: ADITIVOS | C26: ADHES. ANCL. ESTR. 600ML TIPO ANCHORFIX 3001 | D26: UND | E26: =C26&D26 -> ADHES. ANCL. ESTR. 600ML TIPO ANCHORFIX 3001UND | F26: 1 | G26: 229.7272 | H26: 8884.08 | I26: 233429 | J26: =G26*I26 -> 53624991
A27: 101619 | B27: ADITIVOS | C27: ADITIVO LIQ. IMPERMEAB. PARA MORTERO | D27: KG | E27: =C27&D27 -> ADITIVO LIQ. IMPERMEAB. PARA MORTEROKG | F27: 1 | G27: 250.152 | H27: 17113.6 | I27: 25695 | J27: =G27*I27 -> 6427655.6
A28: 100053 | B28: OTROS MATERIALES | C28: AGUA | D28: LT | E28: =C28&D28 -> AGUALT | F28: 1 | G28: 59551.436 | H28: 18500 | I28: 78 | J28: =G28*I28 -> 4645012
A29: 140208 | B29: ACCESORIOS | C29: AIRE ACONDICIONADO TIPO INVERTER 60000BTU | D29: UND | E29: =C29&D29 -> AIRE ACONDICIONADO TIPO INVERTER 60000BTUUND | F29: 1 | G29: 1 | H29: 13253625 | I29: 13929560 | J29: =G29*I29 -> 13929560
A30: 119095 | C30: AISLANTE TERMICO RUBATEX 7/8" X 1.80M | D30: UND | E30: =C30&D30 -> AISLANTE TERMICO RUBATEX 7/8" X 1.80MUND | F30: 1 | G30: 44 | H30: 616924 | I30: 14736 | J30: =G30*I30 -> 648384
A31: 100065 | B31: ELECTRICOS | C31: ALAMBRE COBRE THWN #12 | D31: M | E31: =C31&D31 -> ALAMBRE COBRE THWN #12M | F31: 1 | G31: 1532.1 | H31: 23049 | I31: 2692 | J31: =G31*I31 -> 4124413.2
A32: 100066 | B32: ELECTRICOS | C32: ALAMBRE COBRE THWN #14 | D32: M | E32: =C32&D32 -> ALAMBRE COBRE THWN #14M | F32: 1 | G32: 725.85 | H32: 7708.5 | I32: 1800 | J32: =G32*I32 -> 1306530
A33: 100075 | B33: ELECTRICOS | C33: ALAMBRE GALVANIZADO CALIBRE 18 | D33: KG | E33: =C33&D33 -> ALAMBRE GALVANIZADO CALIBRE 18KG | F33: 1 | G33: 21.8 | H33: 1688.4 | I33: 17745 | J33: =G33*I33 -> 386841
A34: 100076 | B34: HIERROS | C34: ALAMBRE NEGRO PARA AMARRE CALIBRE 18 | D34: KG | E34: =C34&D34 -> ALAMBRE NEGRO PARA AMARRE CALIBRE 18KG | F34: 1 | G34: 662.3616 | H34: 250 | I34: 6569 | J34: =G34*I34 -> 4351053.4
A35: 117009 | C35: ALFACRIL | D35: LT | E35: =C35&D35 -> ALFACRILLT | F35: 1 | G35: 55.9 | H35: 853.84 | I35: 3451 | J35: =G35*I35 -> 192910.9
A36: 117010 | C36: ALFALISTO | D36: KG | E36: =C36&D36 -> ALFALISTOKG | F36: 1 | G36: 193.5 | H36: 1712.7 | I36: 2000 | J36: =G36*I36 -> 387000
A37: 100097 | B37: ELECTRICOS | C37: ANGULAR EN V DE 18 X 48" | D37: UND | E37: =C37&D37 -> ANGULAR EN V DE 18 X 48"UND | F37: 1 | G37: 4 | H37: 266352 | I37: 69984 | J37: =G37*I37 -> 279936
A38: 100107 | B38: PINTURAS | C38: ANTICORROSIVO PHCL | D38: GLN | E38: =C38&D38 -> ANTICORROSIVO PHCLGLN | F38: 1 | G38: 0.918 | H38: 12606.43 | I38: 86597 | J38: =G38*I38 -> 79496.046
A39: 100111 | B39: ADITIVOS | C39: ANTISOL BLANCO | D39: KG | E39: =C39&D39 -> ANTISOL BLANCOKG | F39: 1 | G39: 39.1 | H39: 27424 | I39: 14411 | J39: =G39*I39 -> 563470.1
A40: 100123 | B40: AGREGADOS | C40: ARENA DE TRITURACIÓN Y/O ARENA GRUESA DE RIO | D40: M3 | E40: =C40&D40 -> ARENA DE TRITURACIÓN Y/O ARENA GRUESA DE RIOM3 | F40: 1 | G40: 84.023904 | H40: 30153.95 | I40: 54944 | J40: =G40*I40 -> 4616609.4
A41: 100122 | B41: AGREGADOS | C41: ARENA FINA DE RIO | D41: M3 | E41: =C41&D41 -> ARENA FINA DE RIOM3 | F41: 1 | G41: 24.425327 | H41: 65797.52 | I41: 59615 | J41: =G41*I41 -> 1456115.9
A42: 100124 | B42: AGREGADOS | C42: ARENA MEDIA DE RIO Y/O DE TRITURACIÓN | D42: M3 | E42: =C42&D42 -> ARENA MEDIA DE RIO Y/O DE TRITURACIÓNM3 | F42: 1 | G42: 109.12523 | H42: 55283.21 | I42: 59900 | J42: =G42*I42 -> 6536601.1
A43: 100157 | B43: ELECTRICOS | C43: BANDA COPA DOBLE 6-7" COMP | D43: UND | E43: =C43&D43 -> BANDA COPA DOBLE 6-7" COMPUND | F43: 1 | G43: 4 | H43: 99308 | I43: 26093 | J43: =G43*I43 -> 104372
A44: 119075 | C44: BASE 7 PINES | D44: UND | E44: =C44&D44 -> BASE 7 PINESUND | F44: 1 | G44: 3 | H44: 94312 | I44: 99122 | J44: =G44*I44 -> 297366
A45: 105018 | B45: PINTURAS | C45: BASE ESGRAFIADO | D45: GLN | E45: =C45&D45 -> BASE ESGRAFIADOGLN | F45: 1 | G45: 24.55 | H45: 1395.75 | I45: 29339 | J45: =G45*I45 -> 720272.45
A46: 100204 | C46: BISAGRA ALUMINIO 3"X2-1/2" | D46: UND | E46: =C46&D46 -> BISAGRA ALUMINIO 3"X2-1/2"UND | F46: 1 | G46: 3 | H46: 17502 | I46: 6132 | J46: =G46*I46 -> 18396
A47: 100201 | B47: CARP. METALICA | C47: BISAGRA COBRIZADA 3"X1-1/4" | D47: PAR | E47: =C47&D47 -> BISAGRA COBRIZADA 3"X1-1/4"PAR | F47: 1 | G47: 144 | H47: 63048 | I47: 11044 | J47: =G47*I47 -> 1590336
A48: 106000 | B48: CARP. METALICA | C48: BISAGRA COBRIZADA 3"X2-1/2" | D48: PAR | E48: =C48&D48 -> BISAGRA COBRIZADA 3"X2-1/2"PAR | F48: 1 | G48: 6 | H48: 13461 | I48: 14148 | J48: =G48*I48 -> 84888
...

Sheet Hoja1
