Workbook
Name _01001CAMP18: #REF!
Name A_23: #REF!
Name CategoryArea: #REF!,#REF!,#REF!,#REF!,#REF!
Name D1_5: SUMIF(#REF!,#REF!,#REF!)+SUMIF(#REF!,#REF!,#REF!)+SUMIF(#REF!,#REF!,#REF!)+SUMIF(#REF!,#REF!,#REF!)+SUMIF(#REF!,#REF!,#REF!)
Name ES5_12: #REF!
Name ES5_13: #REF!
Name ES5_14: #REF!
Name ES5_15: #REF!
Name ES5_16: #REF!
Name ES5_17: #REF!
Name ES5_18: #REF!
Name ES5_19: #REF!
Name ES5_2: #REF!
Name ES5_20: #REF!
Name ES5_21: #REF!
Name ES5_22: #REF!
Name ES5_23: #REF!
Name ES5_24: #REF!
Name ES5_25: #REF!
Name ES5_26: #REF!
Name ES5_27: #REF!
Name ES5_28: #REF!
Name ES5_29: #REF!
Name ES5_3: #REF!
Name ES5_30: #REF!
Name ES5_31: #REF!
Name ES5_32: #REF!
Name ES5_33: #REF!
Name ES5_34: #REF!
Name ES5_35: #REF!
Name ES5_36: #REF!
Name ES5_37: #REF!
Name ES5_38: #REF!
Name ES5_39: #REF!
Name ES5_4: #REF!
Name ES5_40: #REF!
Name ES5_41: #REF!
Name ES5_42: #REF!
Name ES5_43: #REF!
Name ES5_5: #REF!
Name ES5_6: #REF!
Name ES5_7: #REF!
Name ES5_8: #REF!
Name ES5_9: #REF!
Name ES6_1: #REF!
Name ES6_10: #REF!
Name ES6_11: #REF!
Name ES6_12: #REF!
Name ES6_13: #REF!
Name ES6_14: #REF!
Name ES6_15: #REF!
Name ES6_16: #REF!
Name ES6_17: #REF!
Name ES6_18: #REF!
Name ES6_19: #REF!
Name ES6_2: #REF!
Name ES6_20: #REF!
Name ES6_21: #REF!
Name ES6_22: #REF!
Name ES6_23: #REF!

Sheet Resumen Contrt.
B3: CONDICIONES CONTRACTUALES AJUSTADAS DEL CONTRATO
B4: No. CONTRATO | C4: SAMC -005-2025
B5: OBJETO DEL CONTRATO | C5: ='[1]Balance Cant. Obra.'!B8 -> ADECUACIONES COMPLEMENTARIAS DE OBRA CIVIL Y ELÉCTRICA EN FOSO ASCENSOR TORRE C PARA SU INSTALACIÓN Y PUESTA EN FUNCIONAMIENTO.
B6: PLAZO INICIAL: | C6: DOS (02) MESES
B7: FECHA DEL ACTA DE INICIO: | C7: 03 DE SEPTIEMBRE DE 2025
B8: FECHA DE TERMINACION INICIAL PROGRAMADA | C8: 03 DE NOVIEMBRE DE 2025
B9: VALOR DEL CONTRATO | C9: ='[1]Balance Cant. Obra.'!H102 -> 193664459
B10: VALOR ADICIONAL CONTRATO | C10: ='[1]Balance Cant. Obra.'!N102 -> 90865387
B11: VALOR FINAL DEL CONTRATO | C11: =C9+C10 -> 2.8452985e+08
B12: VALOR ACTA PARCIAL No.01 | C12: ='Acta Parcial 01.'!O104 -> 1.7486093e+08
B13: SALDO DEL CONTRATO | C13: =C11-C12 -> 1.0966892e+08
B14: PLAZO ADICIONAL: | C14: UN (01) MES
B15: FECHA DE TERMINACION ADICONAL PROGRAMADA | C15: 23 DE DICIEMBRE DE 2025

Sheet Acta Parcial 01.
F2: No. CONTRATO | I2: SAMC -005-2025 | L2: ACTA DE RECIBO PARCIAL DE OBRA No.01.
F3: PLAZO INICIAL: | I3: DOS (02) MESES
F4: FECHA DEL ACTA DE INICIO: | I4: 04 DE SEPTIEMBRE DE 2025
F5: FECHA DE TERMINACION PROGRAMADA | I5: 03 DE NOVIEMBRE DE 2025
F6: PLAZO ADICIONAL DEL CONTRATO: | I6: UN (01) MESES
F7: FECHA DE TERMINACION PROGRAMADA | I7: 23 DE DICIEMBRE DE 2025
F8: VALOR DEL CONTRATO | I8: 193664459
F9: VALOR ADICIONAL DEL CONTRATO | I9: =M104-H104 -> 90865385
B10: ADECUACIONES COMPLEMENTARIAS DE OBRA CIVIL Y ELÉCTRICA EN FOSO ASCENSOR TORRE C PARA SU INSTALACIÓN Y PUESTA EN FUNCIONAMIENTO. | F10: VALOR FINAL DEL CONTRATO: | I10: =SUM(I8:K9) -> 2.8452984e+08
F11: VALOR ACTA DE RECIBO PARCIALNo.01: | I11: =O104 -> 1.7486093e+08
B12: CONTRATISTA | D12: CONSORCIO ADECUACIONES Y CONCRETOS | F12: PORCENTAJE DE EECUICON DE OBRA | I12: =I11/I10 -> 0.61456094
B13: INTERVENTORIA | D13: Ing. OSCAR HERAZO | F13: FECHA DEL ACTA PARCIAL No-01: | I13: 24 DE NOVIEMBRE DE 2025
B14: SUPERVISION | D14: Ing. EDGAR VERGARA | F14: PLAZO FINAL DEL CONTRATO: | I14: TRES (03) MESES
B16: En el Municipio de Sincelejo, Departamento de Sucre, a vienticuaro (24) días del mes de noviembre de 2025 se reunieron en la oficina de Rama Juducial, Seccional Sincelejo, el Ing. WILLIAM PEREZ SUAREZ en calidad de Representante Legal del CONSORCIO ADECUACIONES Y CONCRETOS, Contratista de Obra,Ing.OSCAR HERAZO en calidad de Representante Legal de INGELAB 5G, como Intervetor del Contrato y Ing. EDGAR VERGARA, en calidad de Supervisor del Contrato, con el fin de suscribir ACTA DE RECIBO PARCIAL DE OBRA No.01 del Contrato SAMC-005-2025, cuyo objeto esta referenciado y que comprende la entrega y recibo de las cantidades de obra descritas en el siguiente presupuesto:
B18: CONDICIONES INICIALES DEL CONTRATO | I18: ACTA DE RECIBO PARCAIL DE OBRA No.01.
B19: ITEM | C19: DESCRIPCIÓN | E19: UNIDAD | F19: CANTIDAD | G19: V.UNITARIO | H19: V.TOTAL | I19: CANTIDAD + | J19: CANTIDAD - | K19: CANTIDAD AJUSTADA | L19: CANTIDAD TOTAL MODIFICADA | M19: Vr,TOTAL MODIFICACION | N19: CANTIDAD ACTA PARCIALNo. 01 | O19: VALOR PARCIAL ACTA PARCIALNo. 01 | P19: PORCENTAJE EJECUCION ACTA PARCIALNo. 01
B20: COMPONENTE ESTRUCTURAL | H20: =+H21+H27+H31 -> 131416300 | I20: + | J20: - | M20: =+M21+M27+M31 -> 122935289 | O20: =+O21+O27+O31 -> 115080704 | P20: =O20/M20 -> 0.93610797
B21: 1 | C21: Obras preliminares y provisionales | H21: =+ROUND(SUM(H22:H26),0) -> 5860015 | M21: =+ROUND(SUM(M22:M26),0) -> 9578521 | O21: =+ROUND(SUM(O22:O26),0) -> 9578521 | P21: =O21/M21 -> 1
B22: =+B21+0.01 -> 1.01 | C22: Cerramiento en láminas de zinc. Altura: 2m | E22: m2 | F22: 14 | G22: 84362 | H22: =+F22*G22 -> 1181068 | L22: =F22 -> 14 | M22: =L22*G22 -> 1181068 | N22: ='C.Cantidades'!J16 -> 14 | O22: =N22*G22 -> 1181068 | P22: =O22/M22 -> 1
B23: =+B22+0.01 -> 1.02 | C23: Desmonte de estructura metálica perfileria | E23: Kg | F23: 800 | G23: 5167 | H23: =+F23*G23 -> 4133600 | I23: 641.98 | K23: 1441.98 | L23: =K23 -> 1441.98 | M23: =L23*G23 -> 7450710.7 | N23: ='C.Cantidades'!J27 -> 1441.98 | O23: =N23*G23 -> 7450710.7 | P23: =O23/M23 -> 1
B24: =+B23+0.01 -> 1.03 | C24: Demolición de muro de foso | E24: m2 | F24: =7*1.1 -> 7.7 | G24: 46765 | H24: =+F24*G24 -> 360090.5 | I24: 10.618 | K24: 18.318 | L24: =K24 -> 18.318 | M24: =L24*G24 -> 856641.27 | N24: ='C.Cantidades'!J36 -> 18.318 | O24: =N24*G24 -> 856641.27 | P24: =O24/M24 -> 1
B25: =+B24+0.01 -> 1.04 | C25: Localización, trazado y replanteo | E25: m2 | F25: 9 | G25: 3922 | H25: =+F25*G25 -> 35298 | L25: =F25 -> 9 | M25: =L25*G25 -> 35298 | N25: ='C.Cantidades'!J45 -> 9 | O25: =N25*G25 -> 35298 | P25: =O25/M25 -> 1
B26: =+B25+0.01 -> 1.05 | C26: RETIRO DE MATERIALES PROCEDENTES DE DEMOLICÍÓN (INCLUYE CARGUE, TRASIEGO Y DISPOSICIÓN EN BOTADERO OFICIAL) | E26: m3 | F26: 5.3 | G26: 28294 | H26: =+F26*G26 -> 149958.2 | J26: -3.36308 | K26: 1.93692 | L26: =K26 -> 1.93692 | M26: =L26*G26 -> 54803.214 | N26: ='C.Cantidades'!K54 -> 1.93692 | O26: =N26*G26 -> 54803.214 | P26: =O26/M26 -> 1
B27: 2 | C27: Estructura de concreto | H27: =+ROUND(SUM(H28:H30),0) -> 11419850 | M27: =+ROUND(SUM(M28:M30),0) -> 7309697 | O27: =+ROUND(SUM(O28:O30),0) -> 0 | P27: =O27/M27 -> 0
B28: =+B27+0.01 -> 2.01 | C28: Anclaje de refuerzo muro | E28: Und | F28: 144 | G28: 23312 | H28: =+F28*G28 -> 3356928 | L28: =F28 -> 144 | M28: =L28*G28 -> 3356928 | O28: =N28*G28 -> 0 | P28: =O28/M28 -> 0
B29: =+B28+0.01 -> 2.02 | C29: CONCRETO DE 35 MPA PARA MUROS PREMEZCLADO (INCLUYE SUMINISTRO, TRANSPORTE, COLOCACIÓN, VIBRADO, FORMALETERÍA Y DEMÁS ACTIVIDADES PARA SU CORRECTA EJECUCIÓN.) | E29: m3 | F29: =7.7*0.2 -> 1.54 | G29: 916338 | H29: =+F29*G29 -> 1411160.5 | I29: 0.3388 | K29: 1.8788 | L29: =K29 -> 1.8788 | M29: =L29*G29 -> 1721615.8 | O29: =N29*G29 -> 0 | P29: =O29/M29 -> 0
B30: =+B29+0.01 -> 2.03 | C30: ACERO 60.000 PSI (INCLUYE SUMINISTRO, TRANSPORTE, CORTE, FIGURACIÓN, ARMADO Y DEMÁS ACTIVIDADES PARA SU CORRECTA EJECUCIÓN.) | E30: Kg | F30: 788.03 | G30: 8441 | H30: =+F30*G30 -> 6651761.2 | J30: -523.70664 | K30: 264.32336 | L30: =K30 -> 264.32336 | M30: =L30*G30 -> 2231153.5 | O30: =N30*G30 -> 0 | P30: =O30/M30 -> 0
B31: 3 | C31: Estructura metálica | H31: =+ROUND(SUM(H32:H42),0) -> 114136435 | M31: =+ROUND(SUM(M32:M42),0) -> 106047071 | O31: =+ROUND(SUM(O32:O42),0) -> 105502183 | P31: =O31/M31 -> 0.99486183
B32: =+B31+0.01 -> 3.01 | C32: VARILLA ROSCADA DE LC: 0,40M, D= 3/4" G5. (INCLUYE SUMINISTRO, TRANSPORTE, INSTALACIÓN, ANCLAJE Y DEMÁS ACTIVIDADES PARA SU CORRECTA EJECUCIÓN.) | E32: Und | F32: 16 | G32: 43213 | H32: =+F32*G32 -> 691408 | L32: =F32 -> 16 | M32: =L32*G32 -> 691408 | N32: ='C.Cantidades'!J62 -> 16 | O32: =N32*G32 -> 691408 | P32: =O32/M32 -> 1
B33: =+B32+0.01 -> 3.02 | C33: PLACA BASE ACERO A36 300X300X16MM (INCLUYE SUMINISTRO, TRANSPORTE, INSTALACIÓN, ANCLAJE Y DEMÁS ACTIVIDADES PARA SU CORRECTA EJECUCIÓN.) | E33: Und | F33: 4 | G33: 101273 | H33: =+F33*G33 -> 405092 | L33: =F33 -> 4 | M33: =L33*G33 -> 405092 | N33: ='C.Cantidades'!J70 -> 4 | O33: =N33*G33 -> 405092 | P33: =O33/M33 -> 1
B34: =+B33+0.01 -> 3.03 | C34: Columna HEA 180 Grado 50 (incluye suministro, transporte, instalación, anclaje, pintura anticorrosiva y demás actividades para su correcta ejecución) | E34: Kg | F34: 2811.6 | G34: 20672 | H34: =+F34*G34 -> 58121395 | I34: 170.4 | K34: 2982 | L34: =K34 -> 2982 | M34: =L34*G34 -> 61643904 | N34: ='C.Cantidades'!J78 -> 2982 | O34: =N34*G34 -> 61643904 | P34: =O34/M34 -> 1
B35: =+B34+0.01 -> 3.04 | C35: viga IPE 180 grado 50 (incluye suministro, transporte, instalación, anclaje, pintura anticorrosiva y demás actividades para su correcta ejecución) | E35: Kg | F35: 1515.28 | G35: 20672 | H35: =+F35*G35 -> 31323868 | I35: 63.92 | K35: 1579.2 | L35: =K35 -> 1579.2 | M35: =L35*G35 -> 32645222 | N35: ='C.Cantidades'!J86 -> 1579.2 | O35: =N35*G35 -> 32645222 | P35: =O35/M35 -> 1
B36: =+B35+0.01 -> 3.05 | C36: Ángulo 3"x3"x1/4" acero A36 (incluye suministro, transporte, instalación, pintura anticorrosiva y demás actividades para su correcta ejecución) | E36: Kg | F36: 188.82 | G36: 14896 | H36: =+F36*G36 -> 2812662.7 | I36: 24.94 | K36: 213.76 | L36: =K36 -> 213.76 | M36: =L36*G36 -> 3184169 | N36: ='C.Cantidades'!J94 -> 213.76 | O36: =N36*G36 -> 3184169 | P36: =O36/M36 -> 1
B37: =+B36+0.01 -> 3.06 | C37: Ángulo 2"x2"x3/16" acero a36 (incluye suministro, transporte, instalación, pintura anticorrosiva y demás actividades para su correcta ejecución) | E37: Kg | F37: 195 | G37: 14719 | H37: =+F37*G37 -> 2870205 | I37: 1.083 | K37: 196.083 | L37: =K37 -> 196.083 | M37: =L37*G37 -> 2886145.7 | N37: ='C.Cantidades'!J102 -> 196.083 | O37: =N37*G37 -> 2886145.7 | P37: =O37/M37 -> 1
B38: =+B37+0.01 -> 3.07 | C38: Pernos D= 5/8" G5 (incluye suministro, transporte, instalación, anclaje, pintura anticorrosiva y demás actividades para su correcta ejecución) | E38: Und | F38: 72 | G38: 23760 | H38: =+F38*G38 -> 1710720 | J38: -72 | L38: 0 | M38: =L38*G38 -> 0 | O38: =N38*G38 -> 0 | P38: 0
B39: =+B38+0.01 -> 3.08 | C39: Platina anclaje perfiles 150x150x9,5mm acero A36 (incluye suministro, transporte, instalación, anclaje, pintura anticorrosiva y demás actividades para su correcta ejecución) | E39: UND | F39: 72 | G39: 116268 | H39: =+F39*G39 -> 8371296 | J39: -72 | L39: 0 | M39: =L39*G39 -> 0 | O39: =N39*G39 -> 0 | P39: 0
B40: =+B39+0.01 -> 3.09 | C40: LOSA EN METALDECK 2" CALIBRE 22 0,75 MM ESPESOR DEL CONCRETO 0,10M (INCLUYE SUMINISTRO, INSTALACIÓN, TRANSPORTE, EXTENSIÓN, COMPACTACIÓN Y DEMÁS ACTIVIDADES PARA SU CORRECTA EJECUCIÓN.) | E40: m2 | F40: =0.8*5 -> 4 | G40: 123921 | H40: =+F40*G40 -> 495684 | L40: =F40 -> 4 | M40: =L40*G40 -> 495684 | O40: =N40*G40 -> 0 | P40: =O40/M40 -> 0
B41: =+B40+0.01 -> 3.1 | C41: MALLA ELECTROSOLDADA DE 5MM CUADRICULAS 0,15X0,15 (INCLUYE SUMINISTRO, TRANSPORTE, INSTALACIÓN, ANCLAJE Y DEMÁS ACTIVIDADES PARA SU CORRECTA EJECUCIÓN.) | E41: m2 | F41: 4 | G41: 12301 | H41: =+F41*G41 -> 49204 | L41: =F41 -> 4 | M41: =L41*G41 -> 49204 | O41: =N41*G41 -> 0 | P41: =O41/M41 -> 0
B42: =+B41+0.01 -> 3.11 | C42: HEA 100 grado 50 (incluye suministro, transporte, instalación, anclaje, pintura anticorrosiva y demás actividades para su correcta ejecución) | E42: kg | F42: 350 | G42: 20814 | H42: =+F42*G42 -> 7284900 | J42: -155.6 | K42: 194.4 | L42: =K42 -> 194.4 | M42: =L42*G42 -> 4046241.6 | N42: ='C.Cantidades'!J111 -> 194.4 | O42: =N42*G42 -> 4046241.6 | P42: =O42/M42 -> 1
B43: COMPONENTE ELÉCTRICO | H43: =+H44+H46 -> 13141779 | M43: =+M44+M46 -> 15790923 | O43: =+O44+O46 -> 2179825 | P43: =O43/M43 -> 0.13804291
...

Sheet C.Cantidades
B4: ADECUACIONES COMPLEMENTARIAS DE OBRA CIVIL Y ELÉCTRICA EN FOSO ASCENSOR TORRE C PARA SU INSTALACIÓN Y PUESTA EN FUNCIONAMIENTO.
B7: CALCULO DE CANTIDADES DE OBRA
B9: DESCRIPCION DEL CAPITULO: | D9: ='Acta Parcial 01.'!C22 -> Cerramiento en láminas de zinc. Altura: 2m
B10: ='Acta Parcial 01.'!C21 -> Obras preliminares y provisionales
B11: ITEM | C11: DESCRIPCION DEL MATERIAL | D11: UN. | E11: LONG. (M) | F11: ALTO (M) | J11: TOTAL (M2) | K11: REGISTRO FOTOGRAFICO
B12: 1.01 | C12: Cerramiento en Lamina de zinc parales de madera H=2,0m. | D12: M2 | E12: 7 | F12: 2 | J12: =E12*F12 -> 14
C16: CANTIDAD TOTAL ITEM | J16: =SUM(J12:J15) -> 14
B19: DESCRIPCION DEL CAPITULO: | D19: ='Acta Parcial 01.'!C21 -> Obras preliminares y provisionales
B20: ='Acta Parcial 01.'!C23 -> Desmonte de estructura metálica perfileria
B21: ITEM | C21: DESCRIPCION DEL MATERIAL | D21: UN. | E21: CANT. | F21: PESO (Kg/m) | G21: LONG. (M) | H21: Espes. (mm) | I21: Peso Unit. KG | J21: TOTAL (KG) | K21: REGISTRO FOTOGRAFICO
B22: 1.02 | C22: Perfil Tubo rectangular 100x50 (Columnas) | D22: Un. | E22: 4 | F22: 6.86 | G22: 20 | H22: 3 | I22: =G22*F22 -> 137.2 | J22: =I22*E22 -> 548.8
C23: Perfil Tubo rectangular 100x50 (Vigas) | D23: Un. | E23: 45 | F23: 6.86 | G23: 1.8 | H23: 3 | I23: =G23*F23 -> 12.348 | J23: =I23*E23 -> 555.66
C24: Perfil Tubo cuadrado 50x50(Angulos) | D24: Un. | E24: 36 | F24: 3.8 | G24: 2 | H24: 2.5 | I24: =G24*F24 -> 7.6 | J24: =I24*E24 -> 273.6
C25: Viga Ipe 180 | D25: Un. | E25: 2 | F25: 18.8 | G25: 1.7 | H25: N/A | I25: =G25*F25 -> 31.96 | J25: =I25*E25 -> 63.92
C27: CANTIDAD TOTAL ITEM | J27: =SUM(J22:J25) -> 1441.98
B29: DESCRIPCION DEL CAPITULO: | D29: =D19 -> Obras preliminares y provisionales
B30: ='Acta Parcial 01.'!C24 -> Demolición de muro de foso
B31: ITEM | C31: DESCRIPCION DEL MATERIAL | D31: UN. | E31: CANT. | F31: LONG. (M) | G31: ALTO. (M) | J31: TOTAL. (M2) | K31: REGISTRO FOTOGRAFICO
B32: 1.03 | C32: Muros del Foso del Ascensor | D32: M2 | E32: 1 | F32: =2.23*2 -> 4.46 | G32: =2.03*2 -> 4.06 | H32: 1.1 | J32: =(F32+G32)*H32 -> 9.372
C33: Placas de Entrepiso- Lamina Metaldesck | D33: M2 | E33: 4 | F33: 1.69 | G33: 0.85 | H33: 0.15 | J33: =E33*F33*G33 -> 5.746
C34: Vigas perimetrales de edificio | D34: M2 | E34: 4 | F34: 0.4 | G34: 0.4 | H34: 0.04 | J34: =E34*F34*G34 -> 0.64
C35: Pañete de muros perimetrales | D35: M2 | E35: 4 | F35: 1.6 | G35: 0.4 | H35: 0.04 | J35: =E35*F35*G35 -> 2.56
C36: CANTIDAD TOTAL ITEM | J36: =SUM(J32:J35) -> 18.318
B38: DESCRIPCION DEL CAPITULO: | D38: =D29 -> Obras preliminares y provisionales
B39: ='Acta Parcial 01.'!C25 -> Localización, trazado y replanteo
B40: ITEM | C40: DESCRIPCION DEL MATERIAL | D40: UN. | E40: CANT. | F40: LONG. (M) | G40: ALTO. (M) | J40: TOTAL. (M2) | K40: REGISTRO FOTOGRAFICO
B41: 1.04 | C41: Localización, trazado y replanteo | D41: m2 | E41: 9 | F41: =2.15+2.15+1.95+1.95 -> 8.2 | G41: 1.1 | J41: 9
C45: CANTIDAD TOTAL ITEM | J45: =SUM(J41:J44) -> 9
B47: DESCRIPCION DEL CAPITULO: | D47: =D38 -> Obras preliminares y provisionales
B48: ='Acta Parcial 01.'!C26 -> RETIRO DE MATERIALES PROCEDENTES DE DEMOLICÍÓN (INCLUYE CARGUE, TRASIEGO Y DISPOSICIÓN EN BOTADERO OFICIAL)
B49: ITEM | C49: DESCRIPCION DEL MATERIAL | D49: UNIDAD | E49: CANTIDAD | F49: LARGO | G49: ANCHO | H49: ALTURA MURO | I49: AREA | J49: ESPESOR | K49: VOLUMEN | L49: REGISTRO FOTOGRAFICO
F50: m | G50: M | H50: M | I50: M2 | J50: M | K50: M3.
B51: 1 | C51: Muros del Foso del Ascensor | D51: M3. | E51: 1 | F51: =1.99*2 -> 3.98 | G51: =1.79*2 -> 3.58 | H51: 1.1 | I51: =(F51+G51)*H51 -> 8.316 | J51: 0.15 | K51: =(F51+G51)*H51*J51 -> 1.2474
B52: =B51+1 -> 2 | C52: Placas de Entrepiso- Lamina Metaldesck | D52: Un. | E52: 4 | F52: 1.69 | G52: 0.85 | I52: =E52*F52*G52 -> 5.746 | J52: 0.12 | K52: =E52*F52*G52*J52 -> 0.68952
C54: CANTIDAD TOTAL ITEM | J54: M3 | K54: =SUM(K51:K53) -> 1.93692
B56: DESCRIPCION DEL CAPITULO: | D56: ='Acta Parcial 01.'!C27 -> Estructura de concreto
B57: ='Acta Parcial 01.'!C32 -> VARILLA ROSCADA DE LC: 0,40M, D= 3/4" G5. (INCLUYE SUMINISTRO, TRANSPORTE, INSTALACIÓN, ANCLAJE Y DEMÁS ACTIVIDADES PARA SU CORRECTA EJECUCIÓN.)
B58: ITEM | C58: DESCRIPCION DEL MATERIAL | D58: UN. | E58: CANT. | J58: TOTAL (UND) | K58: REGISTRO FOTOGRAFICO
B59: 3.01 | C59: VARILLA ROSCADA DE LC: 0,40M, D= 3/4" G5. (INCLUYE SUMINISTRO, TRANSPORTE, INSTALACIÓN, ANCLAJE Y DEMÁS ACTIVIDADES PARA SU CORRECTA EJECUCIÓN.) | D59: Und | E59: 16 | J59: =E59 -> 16
C62: CANTIDAD TOTAL ITEM | J62: =SUM(J59:J61) -> 16
...
