Workbook
Name \0: #REF!
Name \00: #REF!
Name \a: #REF!
Name \AA: #REF!
Name \b: #REF!
Name \bb: #REF!
Name \E: #REF!
Name \EE: #REF!
Name \G: #REF!
Name \k: #REF!
Name \l: #REF!
Name \M: #REF!
Name \ñ: #REF!
Name \P: #REF!
Name \R: #REF!
Name \s: #REF!
Name \V: #REF!
Name \X: 'PRESUPUESTO OFICIAL 1 (enti (2)'!ERR
Name \X: 'PROPUESTA ECONÓMICA(Proponente)'!ERR
Name \X: [0]!ERR
Name \Z: 'PRESUPUESTO OFICIAL 1 (enti (2)'!ERR
Name \Z: 'PROPUESTA ECONÓMICA(Proponente)'!ERR
Name \Z: [0]!ERR
Name _________AFC1: #REF!
Name _________AFC3: #REF!
Name _________AFC5: #REF!
Name _________BGC1: #REF!
Name _________BGC3: #REF!
Name _________BGC5: #REF!
Name _________CAC1: #REF!
Name _________CAC3: #REF!
Name _________CAC5: #REF!
Name _________PJ50: #REF!
Name _________SBC1: #REF!
Name _________SBC3: #REF!
Name _________SBC5: #REF!
Name ________AFC1: #REF!
Name ________AFC3: #REF!
Name ________AFC5: #REF!
Name ________BGC1: #REF!
Name ________BGC3: #REF!
Name ________BGC5: #REF!
Name ________CAC1: #REF!
Name ________CAC3: #REF!
Name ________CAC5: #REF!
Name ________MA2: #REF!
Name ________PJ50: #REF!
Name ________SBC1: #REF!
Name ________SBC3: #REF!
Name ________SBC5: #REF!
Name _______AFC1: #REF!
Name _______AFC3: #REF!
Name _______AFC5: #REF!
Name _______BGC1: #REF!
Name _______BGC3: #REF!
Name _______BGC5: #REF!
Name _______CAC1: #REF!
Name _______CAC3: #REF!
Name _______CAC5: #REF!
Name _______MA2: #REF!

Sheet PRESUPUESTO OFICIAL 1 (enti (2)
C3: Formulario 1 - Propuesta económica - Documento tipo de obra pública - versión 3
C4: Código | D4: CCE-EICP-FM-14
C5: FORMULARIO 1
C6: PRESUPUESTO OFICIAL
C7: [La entidad puede utilizar este formulario de detalle del presupuesto oficial para determinar las condiciones bajo las cuales los proponentes analizarán y presentarán su propuesta económica de forma detallada, sin perjuicio que la entidad pueda modificarlo o establecer la presentación de la oferta económica con un formulario distinto al indicado.]
C9: Adicionalmente, cuando el proceso de contratación es estructurado por precios unitarios, la Entidad debe aplicar las notas 1, 2 y 3 del presente formulario y las casillas de "Descripción", "Porcentaje" de la Administración, Utilidad y total A.U. resaltadas en color amarillo. Tratándose de otras modalidades de precio, la Entidad puede o no configurar los mismos aspectos.
C11: MEJORAMIENTO DE LA PLANTA FÍSICA DEL ESTABLECIMIENTO EDUCATIVO OFICIAL: PRESUPUESTO OBRA CIVIL -INSTITUCION EDUCATIVA LEON DE GREIFF SEDE PRINCIPAL
C12: Nº | D12: ITEM DE PAGO | E12: DESCRIPCION | F12: UND. | G12: CANTIDAD | H12: VALOR UNITARIO | I12: VALOR TOTAL
E14: PRELIMINARES
C15: 1 | D15: 001.049 | E15: =VLOOKUP(D15,[1]Actividades!$A$36:$E$3249,2,FALSE) -> SUMINISTRO, TRANSPORTE E INSTALACIÓN CERRAMIENTO EN YUTE H= 2 M | F15: =VLOOKUP(D15,[1]Actividades!$A$36:$E$3256,4,FALSE) -> ML | G15: 80 | H15: =ROUND((VLOOKUP(D15,APU!$A$1:I799,9,FALSE)*'Analisis AU (2)'!$G$16),0) -> 21712 | I15: =ROUND(H15*G15,0) -> 1736960
C16: 2 | D16: 001.054 | E16: =VLOOKUP(D16,[1]Actividades!$A$36:$E$3249,2,FALSE) -> SUMINISTRO, TRANSPORTE E INSTALACION SEÑAL PREVENTIVA, REGLAMENTARIA E INFORMATIVA | F16: =VLOOKUP(D16,[1]Actividades!$A$36:$E$3256,4,FALSE) -> UND | G16: 3 | H16: =ROUND((VLOOKUP(D16,APU!$A$1:I800,9,FALSE)*'Analisis AU (2)'!$G$16),0) -> 355797 | I16: =ROUND(H16*G16,0) -> 1067391
C17: Subtotal | I17: =SUM(I15:I16) -> 2804351
E18: MOVIMIENTO DE TIERRAS
C19: 3 | D19: 002.010 | E19: =VLOOKUP(D19,[1]Actividades!$A$36:$E$3249,2,FALSE) -> EXCAVACIÓN PARA ESTRUCTURAS - MATERIAL COMÚN - 0.0 A 2.0 M | F19: =VLOOKUP(D19,[1]Actividades!$A$36:$E$3256,4,FALSE) -> M3 | G19: 48 | H19: =ROUND((VLOOKUP(D19,APU!$A$1:I824,9,FALSE)*'Analisis AU (2)'!$G$16),0) -> 86498 | I19: =G19*H19 -> 4151904
C20: 4 | D20: 002.089 | E20: =VLOOKUP(D20,[1]Actividades!$A$36:$E$3249,2,FALSE) -> RETIRO DE MATERIAL SOBRANTE EN VOLQUETA, CARGUE MANUAL, DISPOSICIÓN EN BOTADERO (HASTA 25 KM) | F20: =VLOOKUP(D20,[1]Actividades!$A$36:$E$3256,4,FALSE) -> M3-Suelto | G20: 80 | H20: =ROUND((VLOOKUP(D20,APU!$A$1:I825,9,FALSE)*'Analisis AU (2)'!$G$16),0) -> 61762 | I20: =G20*H20 -> 4940960
C21: Subtotal | I21: =SUM(I18:I20) -> 9092864
E22: CIMIENTOS
C23: 5 | D23: 002A.018 | E23: =VLOOKUP(D23,[1]Actividades!$A$36:$E$3249,2,FALSE) -> SUMINISTRO, TRANSPORTE E INSTALACION PEDESTALES EN CONCRETO 3000 PSI | F23: =VLOOKUP(D23,[1]Actividades!$A$36:$E$3256,4,FALSE) -> M3 | G23: 2 | H23: =ROUND((VLOOKUP(D23,APU!$A$1:I813,9,FALSE)*'Analisis AU (2)'!$G$16),0) -> 1355852 | I23: =G23*H23 -> 2711704
C24: Subtotal | I24: =SUM(I22:I23) -> 2711704
E25: DESAGUES E INSTALACIONES SANITARIAS
C26: 6 | D26: 003.011 | E26: =VLOOKUP(D26,[1]Actividades!$A$36:$E$3249,2,FALSE) -> SUMINISTRO, TRANSPORTE E INSTALACION BAJANTE AGUAS LLUVIAS PVC 4" (INCLUYE CODO, UNION Y ACCESORIOS DE FIJACION) | F26: =VLOOKUP(D26,[1]Actividades!$A$36:$E$3256,4,FALSE) -> ML | G26: 100 | H26: =ROUND((VLOOKUP(D26,APU!$A$1:I813,9,FALSE)*'Analisis AU (2)'!$G$16),0) -> 59015 | I26: =G26*H26 -> 5901500
C27: Subtotal | I27: =SUM(I25:I26) -> 5901500
E28: PISOS BASES RELLENOS
C29: 7 | D29: 004.013 | E29: =VLOOKUP(D29,[1]Actividades!$A$36:$E$3249,2,FALSE) -> SUMINISTRO, TRANSPORTE E INSTALACION AFIRMADO COMPACTADO PARA ESTRUCTURAS | F29: =VLOOKUP(D29,[1]Actividades!$A$36:$E$3256,4,FALSE) -> M3 | G29: 47 | H29: =ROUND((VLOOKUP(D29,APU!$A$1:I826,9,FALSE)*'Analisis AU (2)'!$G$16),0) -> 211208 | I29: =G29*H29 -> 9926776
C30: Subtotal | I30: =SUM(I28:I29) -> 9926776
E31: ESTRUCTURAS EN CONCRETO, METALICAS Y DE MADERA
C32: 8 | D32: 005.011 | E32: =VLOOKUP(D32,[1]Actividades!$A$36:$E$3249,2,FALSE) -> SUMINISTRO, TRANSPORTE E INSTALACION PLACA CONTRAPISO CONCRETO 3000 PSI E=0.10 M | F32: =VLOOKUP(D32,[1]Actividades!$A$36:$E$3256,4,FALSE) -> M2 | G32: 166 | H32: =ROUND((VLOOKUP(D32,APU!$A$1:I813,9,FALSE)*'Analisis AU (2)'!$G$16),0) -> 167560 | I32: =G32*H32 -> 27814960
C33: 9 | D33: 005.049 | E33: =VLOOKUP(D33,[1]Actividades!$A$36:$E$3249,2,FALSE) -> SUMINISTRO, TRANSPORTE E INSTALACION MESON EN CONCRETO 3000 PSI E=0,07 M ANCHO=0,60M( INCLUYE REFUERZO, ACERO NO. 3 EN AMBAS DIRECCIONES @ 0,15M, MURO EN LADRILLO Y REVOQUE) | F33: =VLOOKUP(D33,[1]Actividades!$A$36:$E$3256,4,FALSE) -> ML | G33: 2 | H33: =ROUND((VLOOKUP(D33,APU!$A$1:I824,9,FALSE)*'Analisis AU (2)'!$G$16),0) -> 327348 | I33: =G33*H33 -> 654696
C34: 10 | D34: 005.073 | E34: =VLOOKUP(D34,[1]Actividades!$A$36:$E$3249,2,FALSE) -> SUMINISTRO, TRANSPORTE E INSTALACION ESTRUCTURA METÁLICA EN PERFIL LÁMINA DELGADA PHR ASTM A500 GRADO 50. CALIBRE SEGÚN DISEÑO (INCLUYE VIGAS, CERCHAS, CORREAS, ANTICORROSIVO Y ESMALTE) | F34: =VLOOKUP(D34,[1]Actividades!$A$36:$E$3256,4,FALSE) -> KG | G34: 580 | H34: =ROUND((VLOOKUP(D34,APU!$A$1:I825,9,FALSE)*'Analisis AU (2)'!$G$16),0) -> 29149 | I34: =G34*H34 -> 16906420
C35: Subtotal | I35: =SUM(I32:I34) -> 45376076
E36: INSTALACIONES ELECTRICAS - REDES INTERNAS
C37: 11 | D37: 08B.112 | E37: =VLOOKUP(D37,[1]Actividades!$A$36:$E$3249,2,FALSE) -> SUMINISTRO E INSTALACION DE TABLERO DE 8 CIRCUITOS 2F4H, CON PUERTA. BARRAJE PARA 200A BARRA NEUTRO Y BARRA TIERRA CALIDAD LEGRAND, SIEMENS, SQARED O SUPERIOR DE MARCA RECONOCIDA Y HOMOLOGADA POR EL CIDET | F37: =VLOOKUP(D37,[1]Actividades!$A$36:$E$3256,4,FALSE) -> UND | G37: 1 | H37: =ROUND((VLOOKUP(D37,APU!$A$1:I835,9,FALSE)*'Analisis AU (2)'!$G$16),0) -> 462774 | I37: =G37*H37 -> 462774
C38: 12 | D38: 08B.493 | E38: =VLOOKUP(D38,[1]Actividades!$A$36:$E$3249,2,FALSE) -> SUMINISTRO, TRANSPORTE E INSTALACION SALIDA ILUMINACION EN TUBERIA CONDUIT PVC SCH40 3/4", CABLE N° 12 AWG | F38: =VLOOKUP(D38,[1]Actividades!$A$36:$E$3256,4,FALSE) -> UND | G38: 75 | H38: =ROUND((VLOOKUP(D38,APU!$A$1:I836,9,FALSE)*'Analisis AU (2)'!$G$16),0) -> 234544 | I38: =G38*H38 -> 17590800
C39: 13 | D39: 08B.176 | E39: =VLOOKUP(D39,[1]Actividades!$A$36:$E$3249,2,FALSE) -> SUMINISTRO, TRANSPORTE E INSTALACION SALIDA TOMACORRIENTE NORMAL DOBLE PT EN TUBERIA CONDUIT EMT 3/4", ALAMBRE NO 12 AWG | F39: =VLOOKUP(D39,[1]Actividades!$A$36:$E$3256,4,FALSE) -> UND | G39: 45 | H39: =ROUND((VLOOKUP(D39,APU!$A$1:I837,9,FALSE)*'Analisis AU (2)'!$G$16),0) -> 268158 | I39: =G39*H39 -> 12067110
C40: 14 | D40: 08B.179 | E40: =VLOOKUP(D40,[1]Actividades!$A$36:$E$3249,2,FALSE) -> SUMINISTRO, TRANSPORTE E INSTALACION SALIDA TOMACORRIENTE GFCI DOBLE EN TUBERIA CONDUIT EMT 3/4", ALAMBRE NO 12 AWG | F40: =VLOOKUP(D40,[1]Actividades!$A$36:$E$3256,4,FALSE) -> UND | G40: 6 | H40: =ROUND((VLOOKUP(D40,APU!$A$1:I838,9,FALSE)*'Analisis AU (2)'!$G$16),0) -> 290444 | I40: =G40*H40 -> 1742664
C41: 15 | D41: 08B.197 | E41: =VLOOKUP(D41,[1]Actividades!$A$36:$E$3249,2,FALSE) -> SUMINISTRO, TRANSPORTE E INSTALACION SALIDA INTERRUPTOR SENCILLO EN TUBERIA CONDUIT EMT 3/4", ALAMBRE NO 12 AWG. | F41: =VLOOKUP(D41,[1]Actividades!$A$36:$E$3256,4,FALSE) -> UND | G41: 35 | H41: =ROUND((VLOOKUP(D41,APU!$A$1:I839,9,FALSE)*'Analisis AU (2)'!$G$16),0) -> 262599 | I41: =G41*H41 -> 9190965
C42: 16 | D42: 08B.266 | E42: =VLOOKUP(D42,[1]Actividades!$A$36:$E$3249,2,FALSE) -> SUMINISTRO, TRANSPORTE E INSTALACION LUMINARIA PANEL LED DE INCRUSTAR-REF. 9PULG-24W TIPO PALNETA O SIMILAR | F42: =VLOOKUP(D42,[1]Actividades!$A$36:$E$3256,4,FALSE) -> UND | G42: 8 | H42: =ROUND((VLOOKUP(D42,APU!$A$1:I839,9,FALSE)*'Analisis AU (2)'!$G$16),0) -> 243238 | I42: =G42*H42 -> 1945904
C43: 17 | D43: 08B.278 | E43: =VLOOKUP(D43,[1]Actividades!$A$36:$E$3249,2,FALSE) -> SUMINISTRO E INSTALACION DE BREAKER 1X20 A | F43: =VLOOKUP(D43,[1]Actividades!$A$36:$E$3256,4,FALSE) -> UND | G43: 8 | H43: =ROUND((VLOOKUP(D43,APU!$A$1:I840,9,FALSE)*'Analisis AU (2)'!$G$16),0) -> 83696 | I43: =G43*H43 -> 669568
C44: 18 | D44: 08B.456 | E44: =VLOOKUP(D44,[1]Actividades!$A$36:$E$3249,2,FALSE) -> SUMINISTRO, TRANSPORTE E INSTALACIÓN LUMINARIA HERMETICA 36W - SYLVANIA O SIMILAR | F44: =VLOOKUP(D44,[1]Actividades!$A$36:$E$3256,4,FALSE) -> UND | G44: 6 | H44: =ROUND((VLOOKUP(D44,APU!$A$1:I843,9,FALSE)*'Analisis AU (2)'!$G$16),0) -> 206280 | I44: =G44*H44 -> 1237680
C45: 19 | D45: 08B.838 | E45: =VLOOKUP(D45,[1]Actividades!$A$36:$E$3249,2,FALSE) -> SUMINISTRO, TRANSPORTE E INSTALACION DE RED ELECTRICA EN 3 # 12 THHN (NO INCLUYE DUCTO) | F45: =VLOOKUP(D45,[1]Actividades!$A$36:$E$3256,4,FALSE) -> ML | G45: 90 | H45: =ROUND((VLOOKUP(D45,APU!$A$1:I846,9,FALSE)*'Analisis AU (2)'!$G$16),0) -> 28724 | I45: =G45*H45 -> 2585160
...

Sheet APU
A1: 001.049 | B1: - | C1: SUMINISTRO, TRANSPORTE E INSTALACIÓN CERRAMIENTO EN YUTE H= 2 M | D1: Actividad | E1: ML | I1: 15699
A2: 001.049 | B2: C1 | C2: CUADRILLA AA TIPO 1 (1 OFICIAL + 1 AYUDANTE) (Albañileria) | D2: Cuadrilla | E2: HR | F2: 0.16 | G2: 37863 | H2: 6058 | J2: Ins C1
A3: 001.049 | B3: H2 | C3: EQUIPO BASICO (HERRAMIENTA MENOR) | D3: Herramienta | E3: UND | F3: 0.16 | G3: 3623 | H3: 580 | J3: Ins H2
A4: 001.049 | B4: I425 | C4: PUNTILLA CON CABEZA 2" | D4: Insumos | E4: LB | F4: 0.2 | G4: 5304 | H4: 1061 | J4: Ins I425
A5: 001.049 | B5: I447 | C5: FIBRA PARA CERRAMIENTO PROVISIONAL H=2,1M | D5: Insumos | E5: M | F5: 1 | G5: 4505 | H5: 4505 | J5: Ins I447
A6: 001.049 | B6: I986 | C6: GUADUA CEPA DE 5 VARAS | D6: Insumos | E6: UND | F6: 0.35 | G6: 9987 | H6: 3495 | J6: Ins I986
A7: 001.054 | B7: - | C7: SUMINISTRO, TRANSPORTE E INSTALACION SEÑAL PREVENTIVA, REGLAMENTARIA E INFORMATIVA | D7: Actividad | E7: UND | I7: 257265
A8: 001.054 | B8: AB4 | C8: CONCRETO 2500 psi - 17.5 Mpa | D8: Analisis Basico | E8: M3 | F8: 0.01 | G8: 535318 | H8: 5353
A9: 001.054 | B9: C1 | C9: CUADRILLA AA TIPO 1 (1 OFICIAL + 1 AYUDANTE) (Albañileria) | D9: Cuadrilla | E9: HR | F9: 2 | G9: 37863 | H9: 75726 | J9: Ins C1
A10: 001.054 | B10: E111 | C10: FORMALETA PARA BASE DE CONCRETO | D10: Equipos | E10: UND | F10: 0.5 | G10: 5929 | H10: 2965 | J10: Ins E111
A11: 001.054 | B11: E12 | C11: EQUIPO DE TRANSPORTE | D11: Equipos | E11: DIA | F11: 0.228 | G11: 187426 | H11: 42733 | J11: Ins E12
A12: 001.054 | B12: H2 | C12: EQUIPO BASICO (HERRAMIENTA MENOR) | D12: Herramienta | E12: UND | F12: 2 | G12: 3623 | H12: 7246 | J12: Ins H2
A13: 001.054 | B13: I1565 | C13: ACARREO INTERNO | D13: Insumos | E13: UND | F13: 0.158 | G13: 1897 | H13: 300 | J13: Ins I1565
A14: 001.054 | B14: I450 | C14: ALQUILER DE SEÑAL PREVENTIVA, REGLAMENTARIA E INFORMATIVA | D14: Insumos | E14: UND | F14: 0.6 | G14: 204903 | H14: 122942 | J14: Ins I450
A15: 002.010 | B15: - | C15: EXCAVACIÓN PARA ESTRUCTURAS - MATERIAL COMÚN - 0.0 A 2.0 M | D15: Actividad | E15: M3 | I15: 62544
A16: 002.010 | B16: C1 | C16: CUADRILLA AA TIPO 1 (1 OFICIAL + 1 AYUDANTE) (Albañileria) | D16: Cuadrilla | E16: HR | F16: 1.55 | G16: 37863 | H16: 58688 | J16: Ins C1
A17: 002.010 | B17: I282 | C17: SUELO CEMENTO 10:1 | D17: Insumos | E17: M3 | F17: 0.01 | G17: 202837 | H17: 2028 | J17: Ins I282
A18: 002.010 | B18: H2 | C18: EQUIPO BASICO (HERRAMIENTA MENOR) | D18: Herramienta | E18: UND | F18: 0.4 | G18: 3623 | H18: 1449 | J18: Ins H2
A19: 002.010 | B19: I1565 | C19: ACARREO INTERNO | D19: Insumos | E19: UND | F19: 0.2 | G19: 1897 | H19: 379 | J19: Ins I1565
A20: 002.089 | B20: - | C20: RETIRO DE MATERIAL SOBRANTE EN VOLQUETA, CARGUE MANUAL, DISPOSICIÓN EN BOTADERO (HASTA 25 KM) | D20: Actividad | E20: M3-Suelto | I20: 44658
A21: 002.089 | B21: I2414 | C21: DERECHO A BOTADERO - LA NUBIA | D21: Insumos | E21: M3 | F21: 1 | G21: 9064 | H21: 9064 | J21: Ins I2414
A22: 002.089 | B22: H2 | C22: EQUIPO BASICO (HERRAMIENTA MENOR) | D22: Herramienta | E22: UND | F22: 0.1 | G22: 3623 | H22: 362 | J22: Ins H2
A23: 002.089 | B23: C44 | C23: CUADRILLA AA (2 AYUDANTES) | D23: Cuadrilla | E23: HR | F23: 0.5 | G23: 29124 | H23: 14562 | J23: Ins C44
A24: 002.089 | B24: E25 | C24: VOLQUETA SENCILLA 8M3 | D24: Equipos | E24: VJE | F24: 0.125 | G24: 165360 | H24: 20670 | J24: Ins E25
A25: 002A.018 | B25: - | C25: SUMINISTRO, TRANSPORTE E INSTALACION PEDESTALES EN CONCRETO 3000 PSI | D25: Actividad | E25: M3 | I25: 980370
A26: 002A.018 | B26: AB5 | C26: CONCRETO 3000 psi - 21 Mpa | D26: Analisis Basico | E26: M3 | F26: 1.05 | G26: 597780 | H26: 627669
A27: 002A.018 | B27: C29 | C27: CUADRILLA AA TIPO 5 (1 OFICIAL + 5 AYUDANTE) (Albañileria) | D27: Cuadrilla | E27: HR | F27: 3.2 | G27: 96111 | H27: 307555 | J27: =HYPERLINK("#"&"Insumos"&"!A"&MATCH($B27,[2]Insumos!$A:$A,0),"Ins "&$B27) -> Ins C29
A28: 002A.018 | B28: E21 | C28: VIBRADOR A GASOLINA | D28: Equipos | E28: DIA | F28: 0.11 | G28: 66212 | H28: 7283 | J28: =HYPERLINK("#"&"Insumos"&"!A"&MATCH($B28,[2]Insumos!$A:$A,0),"Ins "&$B28) -> Ins E21
A29: 002A.018 | B29: H2 | C29: EQUIPO BASICO (HERRAMIENTA MENOR) | D29: Herramienta | E29: UND | F29: 6 | G29: 3623 | H29: 21738 | J29: =HYPERLINK("#"&"Insumos"&"!A"&MATCH($B29,[2]Insumos!$A:$A,0),"Ins "&$B29) -> Ins H2
A30: 002A.018 | B30: I1565 | C30: ACARREO INTERNO | D30: Insumos | E30: UND | F30: 8.5 | G30: 1897 | H30: 16125 | J30: =HYPERLINK("#"&"Insumos"&"!A"&MATCH($B30,[2]Insumos!$A:$A,0),"Ins "&$B30) -> Ins I1565
A31: 003.011 | B31: - | C31: SUMINISTRO, TRANSPORTE E INSTALACION BAJANTE AGUAS LLUVIAS PVC 4" (INCLUYE CODO, UNION Y ACCESORIOS DE FIJACION) | D31: Actividad | E31: ML | I31: 42672
A32: 003.011 | B32: C9 | C32: CUADRILLA BB TIPO 2 (1 OFICIAL + 2 AYUDANTE) (Instalaciones) | D32: Cuadrilla | E32: HR | F32: 0.25 | G32: 57672 | H32: 14418 | J32: Ins C9
A33: 003.011 | B33: E12 | C33: EQUIPO DE TRANSPORTE | D33: Equipos | E33: DIA | F33: 0.005 | G33: 187426 | H33: 937 | J33: Ins E12
A34: 003.011 | B34: H2 | C34: EQUIPO BASICO (HERRAMIENTA MENOR) | D34: Herramienta | E34: UND | F34: 0.1 | G34: 3623 | H34: 362 | J34: Ins H2
A35: 003.011 | B35: I1565 | C35: ACARREO INTERNO | D35: Insumos | E35: UND | F35: 0.4 | G35: 1897 | H35: 759 | J35: Ins I1565
A36: 003.011 | B36: I521 | C36: ABRAZADERA EN ACERO | D36: Insumos | E36: UND | F36: 0.5 | G36: 2963 | H36: 1482 | J36: Ins I521
A37: 003.011 | B37: I576 | C37: CODO 90° 1/4 CXC SANITARIO 4'' | D37: Insumos | E37: UND | F37: 0.06 | G37: 20431 | H37: 1226 | J37: Ins I576
A38: 003.011 | B38: I614 | C38: LIMPIADOR REM PVC 760 GRMS. (1/4) | D38: Insumos | E38: UND | F38: 0.017 | G38: 64889 | H38: 1103 | J38: Ins I614
A39: 003.011 | B39: I647 | C39: SOLDADURA PVC LIQUIDA 1/4 | D39: Insumos | E39: UND | F39: 0.017 | G39: 134508 | H39: 2287 | J39: Ins I647
A40: 003.011 | B40: I751 | C40: TUBO PVC A.LL-VENTILACION 4'' | D40: Insumos | E40: M | F40: 1.03 | G40: 17663 | H40: 18193 | J40: Ins I751
...

Sheet Analisis AU (2)
A1: ANALISIS DEL AIU
A3: Valor estimado de la Obra (Costo Directo). | D3: Valor | E3: 697456398
A4: Plazo estimado de ejecución. | D4: Meses | E4: 4
A6: CAPITULO | B6: TIPO DE GASTO | C6: UN | D6: CANTIDAD. | E6: DEDICACION | F6: VLOR UNITARIO (mes) | G6: FACTOR PRESTACIONAL O FACTOR AIU (PARA INDIRECTOS) | H6: VALOR TOTAL | I6: SUMA | J6: PORCENTAJE
A7: 1 | B7: GASTOS GENERALES. | J7: =+J8 -> 0.11146515
A8: 1.1 | B8: MANO DE OBRA Y GASTOS DE OFICINA | I8: =SUM(H9:H13) -> 77742080 | J8: =+I8/$E$3 -> 0.11146515
B9: Ingeniero Residente | C9: Un | D9: 1 | E9: 1 | F9: 4500000 | G9: 0.6556 | H9: =+D9*E9*$E$4*F9*(1+G9) -> 29800800 | J9: =+H9/$E$3 -> 0.042727832
B10: Maestro de Obra | C10: Un | D10: 1 | E10: 1 | F10: 3600000 | G10: 0.6556 | H10: =+D10*E10*$E$4*F10*(1+G10) -> 23840640 | J10: =+H10/$E$3 -> 0.034182266
B11: Residente de Salud Ocupacional | C11: Un | D11: 1 | E11: 1 | F11: 3600000 | G11: 0.6556 | H11: =+D11*E11*$E$4*F11*(1+G11) -> 23840640 | J11: =+H11/$E$3 -> 0.034182266
B12: Costos financiero | C12: Mes | D12: =+$E$4 -> 4 | E12: 1 | F12: 65000 | H12: =+D12*E12*F12*(1+G12) -> 260000 | J12: =+H12/$E$3 -> 0.00037278316
J13: =+H13/$E$3 -> 0
A14: 2 | B14: GASTOS INDIRECTOS. | J14: =+J15+J17+J28+J24 -> 0.2115667
A15: 2.1 | B15: LEGALIZACION. | I15: =SUM(H16:H16) -> 0 | J15: =+I15/$E$3 -> 0
B16: AIU ITERACION | G16: 1.383 | H16: =+F16*D16*G16 -> 0
A17: 2.2 | B17: POLIZAS | I17: =SUM(H18:H22) -> 8562667.5 | J17: =+I17/$E$3 -> 0.012276993
B18: Anticipo | C18: % | D18: 0.0006 | E18: 0.2 | F18: =+$E$3*E18 -> 1.3949128e+08 | G18: =+$G$16 -> 1.383 | H18: =+(((F18*G18*D18)/365)*($E$4*30+120))*1.19 -> 90570.304 | J18: =+H18/$E$3 -> 0.00012985802
B19: Cumplimiento | C19: % | D19: 0.0006 | F19: =+$E$3 -> 697456398 | G19: =+$G$16 -> 1.383 | H19: =+(((F19*G19*D19)/365)*($E$4*30+120))*1.19 -> 452851.52 | J19: =+H19/$E$3 -> 0.00064929008
B20: Estabilidad | C20: % | D20: 0.0009 | F20: =+$E$3 -> 697456398 | G20: =+$G$16 -> 1.383 | H20: =+(((F20*G20*D20)/365)*(1825))*1.19 -> 5165337.7 | J20: =+H20/$E$3 -> 0.007405965
B21: Prestaciones Sociales | C21: % | D21: 0.0005 | F21: =+$E$3 -> 697456398 | G21: =+$G$16 -> 1.383 | H21: =+(((F21*G21*D21)/365)*($E$4*30+1095))*1.19 -> 1910467.4 | J21: =+H21/$E$3 -> 0.0027391925
B22: Responsabilidad Civil | C22: % | D22: 0.0025 | F22: =+$E$3 -> 697456398 | G22: =+$G$16 -> 1.383 | H22: =+(((F22*G22*D22)/365)*($E$4*30+0))*1.19 -> 943440.67 | J22: =+H22/$E$3 -> 0.0013526877
A24: 2.3 | B24: VALLAS Y SEÑALIZACION | I24: =SUM(H25:H27) -> 1350000 | J24: =+I24/$E$3 -> 0.0019356049
B25: Vallas incluye estructura de fijacion | C25: M2 | D25: 3 | E25: 450000 | F25: =E25*D25 -> 1350000 | H25: =+F25 -> 1350000 | J25: =+H25/$E$3 -> 0.0019356049
H26: =+F26*D26 -> 0 | J26: =+H26/$E$3 -> 0
A28: 2.4 | B28: IMPUESTOS Y CONTRIBUCIONES | I28: =SUM(H29:H36) -> 1.3764588e+08 | J28: =+I28/$E$3 -> 0.1973541
B29: Contribuación Especial | C29: % | D29: 0.05 | F29: =+$E$3 -> 697456398 | G29: =+$G$16 -> 1.383 | H29: =+F29*D29*G29 -> 48229110 | J29: =+H29/$E$3 -> 0.06915
B30: Estampillas para el bienestar del adulto mayor | C30: % | D30: 0.02 | F30: =+$E$3 -> 697456398 | G30: =+$G$16 -> 1.383 | H30: =+F30*D30*G30 -> 19291644 | J30: =+H30/$E$3 -> 0.02766
B31: Estampillas Pro - Universidades. | C31: % | D31: 0.02 | F31: =+$E$3 -> 697456398 | G31: =+$G$16 -> 1.383 | H31: =+F31*D31*G31 -> 19291644 | J31: =+H31/$E$3 -> 0.02766
B32: Estampilla pro cultura | C32: % | D32: 0.02 | F32: =+$E$3 -> 697456398 | G32: =+$G$16 -> 1.383 | H32: =+F32*D32*G32 -> 19291644 | J32: =+H32/$E$3 -> 0.02766
B33: Estampilla pro justicia familiar | C33: % | D33: 0.02 | F33: =+$E$3 -> 697456398 | G33: =+$G$16 -> 1.383 | H33: =+F33*D33*G33 -> 19291644 | J33: =+H33/$E$3 -> 0.02766
B34: Gasto bancarios4x1000 y retiros | C34: % | D34: 0.004 | F34: =+$E$3 -> 697456398 | G34: =+$G$16 -> 1.383 | H34: =+F34*D34*G34 -> 3858328.8 | J34: =+H34/$E$3 -> 0.005532
B35: Industria y Comercio 3,7 x 1.000 sobre valor total | C35: % | D35: 0.0037 | F35: =+$E$3 -> 697456398 | G35: =+$G$16 -> 1.383 | H35: =+F35*D35*G35 -> 3568954.1 | J35: =+H35/$E$3 -> 0.0051171
B36: Tasa pro deporte y recreación | C36: % | D36: 0.005 | F36: =+$E$3 -> 697456398 | G36: =+$G$16 -> 1.383 | H36: =+F36*D36*G36 -> 4822911 | J36: =+H36/$E$3 -> 0.006915
B37: TOTAL GASTOS INDIRECTOS DE ADMINISTRACION. | I37: =SUM(I8:I36) -> 2.2530063e+08 | J37: =SUM(J7:J36)/3 -> 0.32303185
B38: UTILIDAD: | J38: 0.06
B39: A.U. | J39: =SUM(J37:J38) -> 0.38303185
I41: NO MOVER | J41: =1+J39 -> 1.3830318

Sheet PROPUESTA ECONÓMICA(Proponente)
C3: Formulario 1 - Propuesta económica - Documento tipo de obra pública - versión 3
C4: Código | D4: CCE-EICP-FM-14
C5: FORMULARIO 1
C6: PRESUPUESTO OFICIAL
C7: [La entidad puede utilizar este formulario de detalle del presupuesto oficial para determinar las condiciones bajo las cuales los proponentes analizarán y presentarán su propuesta económica de forma detallada, sin perjuicio que la entidad pueda modificarlo o establecer la presentación de la oferta económica con un formulario distinto al indicado.]
C9: Adicionalmente, cuando el proceso de contratación es estructurado por precios unitarios, la Entidad debe aplicar las notas 1, 2 y 3 del presente formulario y las casillas de "Descripción", "Porcentaje" de la Administración, Utilidad y total A.U. resaltadas en color amarillo. Tratándose de otras modalidades de precio, la Entidad puede o no configurar los mismos aspectos.
C11: MEJORAMIENTO DE LA PLANTA FÍSICA DEL ESTABLECIMIENTO EDUCATIVO OFICIAL: PRESUPUESTO OBRA CIVIL -INSTITUCION EDUCATIVA LEON DE GREIFF SEDE PRINCIPAL
C12: Nº | D12: ITEM DE PAGO | E12: DESCRIPCION | F12: UND. | G12: CANTIDAD | H12: VALOR UNITARIO | I12: VALOR TOTAL
E14: PRELIMINARES
C15: 1 | D15: 001.049 | E15: =VLOOKUP(D15,[1]Actividades!$A$36:$E$3249,2,FALSE) -> SUMINISTRO, TRANSPORTE E INSTALACIÓN CERRAMIENTO EN YUTE H= 2 M | F15: =VLOOKUP(D15,[1]Actividades!$A$36:$E$3256,4,FALSE) -> ML | G15: 80 | I15: =ROUND(H15*G15,0) -> 0
C16: 2 | D16: 001.054 | E16: =VLOOKUP(D16,[1]Actividades!$A$36:$E$3249,2,FALSE) -> SUMINISTRO, TRANSPORTE E INSTALACION SEÑAL PREVENTIVA, REGLAMENTARIA E INFORMATIVA | F16: =VLOOKUP(D16,[1]Actividades!$A$36:$E$3256,4,FALSE) -> UND | G16: 3 | I16: =ROUND(H16*G16,0) -> 0
C17: Subtotal | I17: =SUM(I15:I16) -> 0
E18: MOVIMIENTO DE TIERRAS
C19: 3 | D19: 002.010 | E19: =VLOOKUP(D19,[1]Actividades!$A$36:$E$3249,2,FALSE) -> EXCAVACIÓN PARA ESTRUCTURAS - MATERIAL COMÚN - 0.0 A 2.0 M | F19: =VLOOKUP(D19,[1]Actividades!$A$36:$E$3256,4,FALSE) -> M3 | G19: 48 | I19: =G19*H19 -> 0
C20: 4 | D20: 002.089 | E20: =VLOOKUP(D20,[1]Actividades!$A$36:$E$3249,2,FALSE) -> RETIRO DE MATERIAL SOBRANTE EN VOLQUETA, CARGUE MANUAL, DISPOSICIÓN EN BOTADERO (HASTA 25 KM) | F20: =VLOOKUP(D20,[1]Actividades!$A$36:$E$3256,4,FALSE) -> M3-Suelto | G20: 80 | I20: =G20*H20 -> 0
C21: Subtotal | I21: =SUM(I18:I20) -> 0
E22: CIMIENTOS
C23: 5 | D23: 002A.018 | E23: =VLOOKUP(D23,[1]Actividades!$A$36:$E$3249,2,FALSE) -> SUMINISTRO, TRANSPORTE E INSTALACION PEDESTALES EN CONCRETO 3000 PSI | F23: =VLOOKUP(D23,[1]Actividades!$A$36:$E$3256,4,FALSE) -> M3 | G23: 2 | I23: =G23*H23 -> 0
C24: Subtotal | I24: =SUM(I22:I23) -> 0
E25: DESAGUES E INSTALACIONES SANITARIAS
C26: 6 | D26: 003.011 | E26: =VLOOKUP(D26,[1]Actividades!$A$36:$E$3249,2,FALSE) -> SUMINISTRO, TRANSPORTE E INSTALACION BAJANTE AGUAS LLUVIAS PVC 4" (INCLUYE CODO, UNION Y ACCESORIOS DE FIJACION) | F26: =VLOOKUP(D26,[1]Actividades!$A$36:$E$3256,4,FALSE) -> ML | G26: 100 | I26: =G26*H26 -> 0
C27: Subtotal | I27: =SUM(I25:I26) -> 0
E28: PISOS BASES RELLENOS
C29: 7 | D29: 004.013 | E29: =VLOOKUP(D29,[1]Actividades!$A$36:$E$3249,2,FALSE) -> SUMINISTRO, TRANSPORTE E INSTALACION AFIRMADO COMPACTADO PARA ESTRUCTURAS | F29: =VLOOKUP(D29,[1]Actividades!$A$36:$E$3256,4,FALSE) -> M3 | G29: 47 | I29: =G29*H29 -> 0
C30: Subtotal | I30: =SUM(I28:I29) -> 0
E31: ESTRUCTURAS EN CONCRETO, METALICAS Y DE MADERA
C32: 8 | D32: 005.011 | E32: =VLOOKUP(D32,[1]Actividades!$A$36:$E$3249,2,FALSE) -> SUMINISTRO, TRANSPORTE E INSTALACION PLACA CONTRAPISO CONCRETO 3000 PSI E=0.10 M | F32: =VLOOKUP(D32,[1]Actividades!$A$36:$E$3256,4,FALSE) -> M2 | G32: 166 | I32: =G32*H32 -> 0
C33: 9 | D33: 005.049 | E33: =VLOOKUP(D33,[1]Actividades!$A$36:$E$3249,2,FALSE) -> SUMINISTRO, TRANSPORTE E INSTALACION MESON EN CONCRETO 3000 PSI E=0,07 M ANCHO=0,60M( INCLUYE REFUERZO, ACERO NO. 3 EN AMBAS DIRECCIONES @ 0,15M, MURO EN LADRILLO Y REVOQUE) | F33: =VLOOKUP(D33,[1]Actividades!$A$36:$E$3256,4,FALSE) -> ML | G33: 2 | I33: =G33*H33 -> 0
C34: 10 | D34: 005.073 | E34: =VLOOKUP(D34,[1]Actividades!$A$36:$E$3249,2,FALSE) -> SUMINISTRO, TRANSPORTE E INSTALACION ESTRUCTURA METÁLICA EN PERFIL LÁMINA DELGADA PHR ASTM A500 GRADO 50. CALIBRE SEGÚN DISEÑO (INCLUYE VIGAS, CERCHAS, CORREAS, ANTICORROSIVO Y ESMALTE) | F34: =VLOOKUP(D34,[1]Actividades!$A$36:$E$3256,4,FALSE) -> KG | G34: 580 | I34: =G34*H34 -> 0
C35: Subtotal | I35: =SUM(I32:I34) -> 0
E36: INSTALACIONES ELECTRICAS - REDES INTERNAS
C37: 12 | D37: 08B.112 | E37: =VLOOKUP(D37,[1]Actividades!$A$36:$E$3249,2,FALSE) -> SUMINISTRO E INSTALACION DE TABLERO DE 8 CIRCUITOS 2F4H, CON PUERTA. BARRAJE PARA 200A BARRA NEUTRO Y BARRA TIERRA CALIDAD LEGRAND, SIEMENS, SQARED O SUPERIOR DE MARCA RECONOCIDA Y HOMOLOGADA POR EL CIDET | F37: =VLOOKUP(D37,[1]Actividades!$A$36:$E$3256,4,FALSE) -> UND | G37: 1 | I37: =G37*H37 -> 0
C38: 13 | D38: 08B.493 | E38: =VLOOKUP(D38,[1]Actividades!$A$36:$E$3249,2,FALSE) -> SUMINISTRO, TRANSPORTE E INSTALACION SALIDA ILUMINACION EN TUBERIA CONDUIT PVC SCH40 3/4", CABLE N° 12 AWG | F38: =VLOOKUP(D38,[1]Actividades!$A$36:$E$3256,4,FALSE) -> UND | G38: 75 | I38: =G38*H38 -> 0
C39: 14 | D39: 08B.176 | E39: =VLOOKUP(D39,[1]Actividades!$A$36:$E$3249,2,FALSE) -> SUMINISTRO, TRANSPORTE E INSTALACION SALIDA TOMACORRIENTE NORMAL DOBLE PT EN TUBERIA CONDUIT EMT 3/4", ALAMBRE NO 12 AWG | F39: =VLOOKUP(D39,[1]Actividades!$A$36:$E$3256,4,FALSE) -> UND | G39: 45 | I39: =G39*H39 -> 0
C40: 15 | D40: 08B.179 | E40: =VLOOKUP(D40,[1]Actividades!$A$36:$E$3249,2,FALSE) -> SUMINISTRO, TRANSPORTE E INSTALACION SALIDA TOMACORRIENTE GFCI DOBLE EN TUBERIA CONDUIT EMT 3/4", ALAMBRE NO 12 AWG | F40: =VLOOKUP(D40,[1]Actividades!$A$36:$E$3256,4,FALSE) -> UND | G40: 6 | I40: =G40*H40 -> 0
C41: 16 | D41: 08B.197 | E41: =VLOOKUP(D41,[1]Actividades!$A$36:$E$3249,2,FALSE) -> SUMINISTRO, TRANSPORTE E INSTALACION SALIDA INTERRUPTOR SENCILLO EN TUBERIA CONDUIT EMT 3/4", ALAMBRE NO 12 AWG. | F41: =VLOOKUP(D41,[1]Actividades!$A$36:$E$3256,4,FALSE) -> UND | G41: 35 | I41: =G41*H41 -> 0
C42: 17 | D42: 08B.266 | E42: =VLOOKUP(D42,[1]Actividades!$A$36:$E$3249,2,FALSE) -> SUMINISTRO, TRANSPORTE E INSTALACION LUMINARIA PANEL LED DE INCRUSTAR-REF. 9PULG-24W TIPO PALNETA O SIMILAR | F42: =VLOOKUP(D42,[1]Actividades!$A$36:$E$3256,4,FALSE) -> UND | G42: 8 | I42: =G42*H42 -> 0
C43: 18 | D43: 08B.278 | E43: =VLOOKUP(D43,[1]Actividades!$A$36:$E$3249,2,FALSE) -> SUMINISTRO E INSTALACION DE BREAKER 1X20 A | F43: =VLOOKUP(D43,[1]Actividades!$A$36:$E$3256,4,FALSE) -> UND | G43: 8 | I43: =G43*H43 -> 0
C44: 19 | D44: 08B.456 | E44: =VLOOKUP(D44,[1]Actividades!$A$36:$E$3249,2,FALSE) -> SUMINISTRO, TRANSPORTE E INSTALACIÓN LUMINARIA HERMETICA 36W - SYLVANIA O SIMILAR | F44: =VLOOKUP(D44,[1]Actividades!$A$36:$E$3256,4,FALSE) -> UND | G44: 6 | I44: =G44*H44 -> 0
C45: 20 | D45: 08B.838 | E45: =VLOOKUP(D45,[1]Actividades!$A$36:$E$3249,2,FALSE) -> SUMINISTRO, TRANSPORTE E INSTALACION DE RED ELECTRICA EN 3 # 12 THHN (NO INCLUYE DUCTO) | F45: =VLOOKUP(D45,[1]Actividades!$A$36:$E$3256,4,FALSE) -> ML | G45: 90 | I45: =G45*H45 -> 0
...

Sheet INDICAR CÓDIGO DEL ITEM DE PAGO
C3: Formulario 1 - Propuesta económica - Documento tipo de licitación de obra pública de infraestructura de transporte - versión 3
C4: Código | D4: CCE-EICP-FM-14 | E4: Versión | F4: 3
C6: [La entidad podrá utilizar este formato para la presentación de los análisis de precios unitarios del contratista en la oportunidad prevista en el numeral 8.1. del Documento Base]
D9: [NOMBRE DE LA ENTIDAD]
L10: VERSIÓN
D11: [NÚMERO DEL PROCESO]
L12: PÁGINA | M12: 1 | N12: DE | O12: 1
D14: ANALISIS DE PRECIOS UNITARIOS
L16: FECHA | M16: DD | N16: MM | O16: AA
C18: ÍTEMS DE LA PROPUESTA ECONÓMICA | I18: ÍTEMS NO PREVISTOS
C22: DATOS ESPECÍFICOS
C24: ÍTEM | D24: DESCRIPCIÓN | M24: UNIDAD | O24: CANTIDAD
C26: I. EQUIPO
C29: DESCRIPCIÓN | H29: MARCA | J29: TIPO | L29: TARIFA/HORA | M29: RENDIMIENTO | O29: Vr. UNITARIO
C33: SUBTOTAL $
C34: II. MATERIALES
C37: DESCRIPCIÓN | K37: UNIDAD | L37: CANTIDAD | M37: PRECIO UNIT. | O37: Vr. UNITARIO
C40: SUBTOTAL $ | O40: 0
C41: III. TRANSPORTES
C44: MATERIAL | J44: VOL. o PESO | K44: DISTANCIA | L44: M3 o Ton/Km | M44: TARIFA | O44: Vr. UNITARIO
C47: SUBTOTAL $
C48: IV. MANO DE OBRA
C51: TRABAJADOR | J51: JORNAL | K51: PRESTACIONES | L51: JORNAL TOTAL | M51: RENDIMIENTO | O51: Vr. UNITARIO
C56: SUBTOTAL $
C58: TOTAL COSTO DIRECTO $
C59: V. COSTOS INDIRECTOS
C62: Descripción | L62: Porcentaje | M62: Valor Total
C63: ADMINISTRACION
C64: IMPREVISTOS
C65: UTILIDAD
C66: SUBTOTAL $
C68: Precio Unitario Total Aproximado al peso $
H72: Firma
H73: Nombre:
H74: Representante Legal del Contratista o su Apoderado
H75: Matricula No. :
C77: OBSERVACIONES INTERVENTORÍA
C81: APROBACIÓN POR INTERVENTORÍA
C82: Nota 1: Cuando se trate de Análisis de precios unitarios correspondientes a ítems de la propuesta económica aprobada, el Interventor aprueba el desglose de los componentes manteniendo el mismo precio unitario de cada ítem, cumpliendo con las especificaciones de construcción vigentes para el proyecto.
C84: Nota 2: Cuando se trate de Análisis de precios unitarios de ítems no previstos, el Interventor aprueba el desglose y precio unitario de cada ítem no previsto, exigiendo la aplicación de los costos correspondientes a insumos y tarifas de la propuesta económica inicial cuando estén contemplados, cumpliendo con las especificaciones de construcción vigente para el proyecto.
...
