Workbook

Sheet SALARIIO HISTORICO
A1: Salario Mínimo en Colombia - Historico
A2: Año | B2: Salario Mínimo | C2: Variación vs año anterior
A3: 2022 | B3: 1000000 | C3: 0.1007
A4: 2023 | B4: 1160000 | C4: 0.16
A5: 2024 | B5: 1300000 | C5: 0.1207
A6: 2025 | B6: 1423500 | C6: 0.095
A7: 2026 | B7: 1577095.6 | C7: 0.1079
B10: 1920216 | C10: =B10*8% -> 153617.28
C11: =B10+C10 -> 2073833.3

Sheet REC NOCTURNOS REQUERIDOS 2026
A1: ALCALDIA DE PERERIA SEM (El Sistema de Emergencias Médicas – SEM, tal como lo señala la Resolución 926 de 2017)
A2: TURNO NOCHE RELACION DE RECARGOS NOCTURNO, DOMINICALES Y FESTIVOS - NÓMINA 2026 | AL2: 20 | AM2: Días Semanales | AN2: 20
A3: APH Tecnólogo (1) en Atención Prehospitalaria | AL3: 4 | AM3: Sábados | AN3: 4
B4: =B17+B31+B45+B59+B73+B87+B101+B115+B129+B143+B157+B171 -> 2824 | D4: =D17+D31+D45+D59+D73+D87+D101+D115+D129+D143+D157+D171 -> 16556102 | AL4: =(AL2*8)+(AL3*4) -> 176 | AM4: Horas a cumplir | AN4: 5
A5: Sueldo Básico ENERO 2026 | B5: 2073833.3 | E5: =+D5+1 -> 1 | F5: =+E5+1 -> 2 | G5: =+F5+1 -> 3 | H5: =+G5+1 -> 4 | I5: =+H5+1 -> 5 | J5: =+I5+1 -> 6 | K5: =+J5+1 -> 7 | L5: =+K5+1 -> 8 | ... AF5: =+AE5+1 -> 28 | AG5: 29 | AH5: 30 | AI5: 31 | AJ5: =+AI5+1 -> 32 | AK5: =+AJ5+1 -> 33 | AN5: =AN2-AN3-AN4 -> 11 | AO5: DIURNAS | AP5: NOCTURNAS
B6: # H | C6: Vr.Hora | D6: Vr.Total | E6: F | F6: V | G6: S | H6: D | I6: L | J6: M | K6: M | L6: J | M6: V | N6: S | O6: D | P6: F | Q6: M | R6: M | S6: J | T6: V | U6: S | V6: D | W6: L | X6: M | Y6: M | Z6: J | AA6: V | AB6: S | AC6: D | AD6: L | AE6: M | AF6: M | AG6: J | AH6: V | AI6: S | AJ6: D | AK6: L | AL6: M | AM6: MAÑANA | AN6: 6AM A 2 PM | AO6: 8
A7: Turno | B7: APH | E7: N | F7: N | G7: N | H7: N | I7: N | J7: N | K7: N | L7: N | M7: N | N7: N | O7: N | P7: N | Q7: N | R7: N | S7: N | T7: N | U7: N | V7: N | W7: N | X7: N | Y7: N | Z7: N | AA7: N | AB7: N | AC7: N | AD7: N | AE7: N | AF7: N | AG7: N | AH7: N | AI7: N | AL7: T | AM7: TARDE | AN7: 2 PM A 10 PM | AO7: 5 | AP7: 3
A8: FORMULA NO BORRAR | E8: =IF(AND(E7="URG",E6="S"),"URGS",IF(AND(E7="N",E6="F",F6="F"),"NFFF",IF(AND(E7="N",E6="D",F6="F"),"NFF",IF(AND(E7="N",E6="D"),"NFO",IF(AND(E7="N",E6="S"),"NFS",IF(AND(E7="N",E6="F"),"NF",IF(AND(E7="N",E6="D"),"NF",IF(E7="N","N",IF(AND(E7="M",E6="F"),"MF",IF(AND(E7="M",E6="D"),"MF",IF(E7="M","M",IF(AND(E7="T",E6="F"),"TF",IF(AND(E7="T",E6="D"),"TF",IF(E7="T","T",IF(AND(E7="C",E6="F"),"CF",IF(AND(E7="C",E6="D"),"CF",IF(E7="C","C",IF(AND(E7="L",E6="F"),"LF",IF(AND(E7="L",E6="D"),"LF", IF(E7="L","L",IF(E7="SC","PS", IF(E7="SA","PS",IF(E7="TV","PS", IF(E7="MI","PS", IF(E7="MT","PS", IF(E7="URG","URGO","")))))))))))))))))))))))))) -> NF | F8: =IF(AND(F7="URG",F6="S"),"URGS",IF(AND(F7="N",F6="F",G6="F"),"NFFF",IF(AND(F7="N",F6="D",G6="F"),"NFF",IF(AND(F7="N",F6="D"),"NFO",IF(AND(F7="N",F6="S"),"NFS",IF(AND(F7="N",F6="F"),"NF",IF(AND(F7="N",F6="D"),"NF",IF(F7="N","N",IF(AND(F7="M",F6="F"),"MF",IF(AND(F7="M",F6="D"),"MF",IF(F7="M","M",IF(AND(F7="T",F6="F"),"TF",IF(AND(F7="T",F6="D"),"TF",IF(F7="T","T",IF(AND(F7="C",F6="F"),"CF",IF(AND(F7="C",F6="D"),"CF",IF(F7="C","C",IF(AND(F7="L",F6="F"),"LF",IF(AND(F7="L",F6="D"),"LF", IF(F7="L","L",IF(F7="SC","PS", IF(F7="SA","PS",IF(F7="TV","PS", IF(F7="MI","PS", IF(F7="MT","PS", IF(F7="URG","URGO","")))))))))))))))))))))))))) -> N | G8: =IF(AND(G7="URG",G6="S"),"URGS",IF(AND(G7="N",G6="F",H6="F"),"NFFF",IF(AND(G7="N",G6="D",H6="F"),"NFF",IF(AND(G7="N",G6="D"),"NFO",IF(AND(G7="N",G6="S"),"NFS",IF(AND(G7="N",G6="F"),"NF",IF(AND(G7="N",G6="D"),"NF",IF(G7="N","N",IF(AND(G7="M",G6="F"),"MF",IF(AND(G7="M",G6="D"),"MF",IF(G7="M","M",IF(AND(G7="T",G6="F"),"TF",IF(AND(G7="T",G6="D"),"TF",IF(G7="T","T",IF(AND(G7="C",G6="F"),"CF",IF(AND(G7="C",G6="D"),"CF",IF(G7="C","C",IF(AND(G7="L",G6="F"),"LF",IF(AND(G7="L",G6="D"),"LF", IF(G7="L","L",IF(G7="SC","PS", IF(G7="SA","PS",IF(G7="TV","PS", IF(G7="MI","PS", IF(G7="MT","PS", IF(G7="URG","URGO","")))))))))))))))))))))))))) -> NFS | H8: =IF(AND(H7="URG",H6="S"),"URGS",IF(AND(H7="N",H6="F",I6="F"),"NFFF",IF(AND(H7="N",H6="D",I6="F"),"NFF",IF(AND(H7="N",H6="D"),"NFO",IF(AND(H7="N",H6="S"),"NFS",IF(AND(H7="N",H6="F"),"NF",IF(AND(H7="N",H6="D"),"NF",IF(H7="N","N",IF(AND(H7="M",H6="F"),"MF",IF(AND(H7="M",H6="D"),"MF",IF(H7="M","M",IF(AND(H7="T",H6="F"),"TF",IF(AND(H7="T",H6="D"),"TF",IF(H7="T","T",IF(AND(H7="C",H6="F"),"CF",IF(AND(H7="C",H6="D"),"CF",IF(H7="C","C",IF(AND(H7="L",H6="F"),"LF",IF(AND(H7="L",H6="D"),"LF", IF(H7="L","L",IF(H7="SC","PS", IF(H7="SA","PS",IF(H7="TV","PS", IF(H7="MI","PS", IF(H7="MT","PS", IF(H7="URG","URGO","")))))))))))))))))))))))))) -> NFO | J8: =IF(AND(J7="URG",J6="S"),"URGS",IF(AND(J7="N",J6="F",K6="F"),"NFFF",IF(AND(J7="N",J6="D",K6="F"),"NFF",IF(AND(J7="N",J6="D"),"NFO",IF(AND(J7="N",J6="S"),"NFS",IF(AND(J7="N",J6="F"),"NF",IF(AND(J7="N",J6="D"),"NF",IF(J7="N","N",IF(AND(J7="M",J6="F"),"MF",IF(AND(J7="M",J6="D"),"MF",IF(J7="M","M",IF(AND(J7="T",J6="F"),"TF",IF(AND(J7="T",J6="D"),"TF",IF(J7="T","T",IF(AND(J7="C",J6="F"),"CF",IF(AND(J7="C",J6="D"),"CF",IF(J7="C","C",IF(AND(J7="L",J6="F"),"LF",IF(AND(J7="L",J6="D"),"LF", IF(J7="L","L",IF(J7="SC","PS", IF(J7="SA","PS",IF(J7="TV","PS", IF(J7="MI","PS", IF(J7="MT","PS", IF(J7="URG","URGO","")))))))))))))))))))))))))) -> N | K8: =IF(AND(K7="URG",K6="S"),"URGS",IF(AND(K7="N",K6="F",L6="F"),"NFFF",IF(AND(K7="N",K6="D",L6="F"),"NFF",IF(AND(K7="N",K6="D"),"NFO",IF(AND(K7="N",K6="S"),"NFS",IF(AND(K7="N",K6="F"),"NF",IF(AND(K7="N",K6="D"),"NF",IF(K7="N","N",IF(AND(K7="M",K6="F"),"MF",IF(AND(K7="M",K6="D"),"MF",IF(K7="M","M",IF(AND(K7="T",K6="F"),"TF",IF(AND(K7="T",K6="D"),"TF",IF(K7="T","T",IF(AND(K7="C",K6="F"),"CF",IF(AND(K7="C",K6="D"),"CF",IF(K7="C","C",IF(AND(K7="L",K6="F"),"LF",IF(AND(K7="L",K6="D"),"LF", IF(K7="L","L",IF(K7="SC","PS", IF(K7="SA","PS",IF(K7="TV","PS", IF(K7="MI","PS", IF(K7="MT","PS", IF(K7="URG","URGO","")))))))))))))))))))))))))) -> N | L8: =IF(AND(L7="URG",L6="S"),"URGS",IF(AND(L7="N",L6="F",M6="F"),"NFFF",IF(AND(L7="N",L6="D",M6="F"),"NFF",IF(AND(L7="N",L6="D"),"NFO",IF(AND(L7="N",L6="S"),"NFS",IF(AND(L7="N",L6="F"),"NF",IF(AND(L7="N",L6="D"),"NF",IF(L7="N","N",IF(AND(L7="M",L6="F"),"MF",IF(AND(L7="M",L6="D"),"MF",IF(L7="M","M",IF(AND(L7="T",L6="F"),"TF",IF(AND(L7="T",L6="D"),"TF",IF(L7="T","T",IF(AND(L7="C",L6="F"),"CF",IF(AND(L7="C",L6="D"),"CF",IF(L7="C","C",IF(AND(L7="L",L6="F"),"LF",IF(AND(L7="L",L6="D"),"LF", IF(L7="L","L",IF(L7="SC","PS", IF(L7="SA","PS",IF(L7="TV","PS", IF(L7="MI","PS", IF(L7="MT","PS", IF(L7="URG","URGO","")))))))))))))))))))))))))) -> N | M8: =IF(AND(M7="URG",M6="S"),"URGS",IF(AND(M7="N",M6="F",N6="F"),"NFFF",IF(AND(M7="N",M6="D",N6="F"),"NFF",IF(AND(M7="N",M6="D"),"NFO",IF(AND(M7="N",M6="S"),"NFS",IF(AND(M7="N",M6="F"),"NF",IF(AND(M7="N",M6="D"),"NF",IF(M7="N","N",IF(AND(M7="M",M6="F"),"MF",IF(AND(M7="M",M6="D"),"MF",IF(M7="M","M",IF(AND(M7="T",M6="F"),"TF",IF(AND(M7="T",M6="D"),"TF",IF(M7="T","T",IF(AND(M7="C",M6="F"),"CF",IF(AND(M7="C",M6="D"),"CF",IF(M7="C","C",IF(AND(M7="L",M6="F"),"LF",IF(AND(M7="L",M6="D"),"LF", IF(M7="L","L",IF(M7="SC","PS", IF(M7="SA","PS",IF(M7="TV","PS", IF(M7="MI","PS", IF(M7="MT","PS", IF(M7="URG","URGO","")))))))))))))))))))))))))) -> N | N8: =IF(AND(N7="URG",N6="S"),"URGS",IF(AND(N7="N",N6="F",O6="F"),"NFFF",IF(AND(N7="N",N6="D",O6="F"),"NFF",IF(AND(N7="N",N6="D"),"NFO",IF(AND(N7="N",N6="S"),"NFS",IF(AND(N7="N",N6="F"),"NF",IF(AND(N7="N",N6="D"),"NF",IF(N7="N","N",IF(AND(N7="M",N6="F"),"MF",IF(AND(N7="M",N6="D"),"MF",IF(N7="M","M",IF(AND(N7="T",N6="F"),"TF",IF(AND(N7="T",N6="D"),"TF",IF(N7="T","T",IF(AND(N7="C",N6="F"),"CF",IF(AND(N7="C",N6="D"),"CF",IF(N7="C","C",IF(AND(N7="L",N6="F"),"LF",IF(AND(N7="L",N6="D"),"LF", IF(N7="L","L",IF(N7="SC","PS", IF(N7="SA","PS",IF(N7="TV","PS", IF(N7="MI","PS", IF(N7="MT","PS", IF(N7="URG","URGO","")))))))))))))))))))))))))) -> NFS | O8: =IF(AND(O7="URG",O6="S"),"URGS",IF(AND(O7="N",O6="F",P6="F"),"NFFF",IF(AND(O7="N",O6="D",P6="F"),"NFF",IF(AND(O7="N",O6="D"),"NFO",IF(AND(O7="N",O6="S"),"NFS",IF(AND(O7="N",O6="F"),"NF",IF(AND(O7="N",O6="D"),"NF",IF(O7="N","N",IF(AND(O7="M",O6="F"),"MF",IF(AND(O7="M",O6="D"),"MF",IF(O7="M","M",IF(AND(O7="T",O6="F"),"TF",IF(AND(O7="T",O6="D"),"TF",IF(O7="T","T",IF(AND(O7="C",O6="F"),"CF",IF(AND(O7="C",O6="D"),"CF",IF(O7="C","C",IF(AND(O7="L",O6="F"),"LF",IF(AND(O7="L",O6="D"),"LF", IF(O7="L","L",IF(O7="SC","PS", IF(O7="SA","PS",IF(O7="TV","PS", IF(O7="MI","PS", IF(O7="MT","PS", IF(O7="URG","URGO","")))))))))))))))))))))))))) -> NFF | P8: =IF(AND(P7="URG",P6="S"),"URGS",IF(AND(P7="N",P6="F",Q6="F"),"NFFF",IF(AND(P7="N",P6="D",Q6="F"),"NFF",IF(AND(P7="N",P6="D"),"NFO",IF(AND(P7="N",P6="S"),"NFS",IF(AND(P7="N",P6="F"),"NF",IF(AND(P7="N",P6="D"),"NF",IF(P7="N","N",IF(AND(P7="M",P6="F"),"MF",IF(AND(P7="M",P6="D"),"MF",IF(P7="M","M",IF(AND(P7="T",P6="F"),"TF",IF(AND(P7="T",P6="D"),"TF",IF(P7="T","T",IF(AND(P7="C",P6="F"),"CF",IF(AND(P7="C",P6="D"),"CF",IF(P7="C","C",IF(AND(P7="L",P6="F"),"LF",IF(AND(P7="L",P6="D"),"LF", IF(P7="L","L",IF(P7="SC","PS", IF(P7="SA","PS",IF(P7="TV","PS", IF(P7="MI","PS", IF(P7="MT","PS", IF(P7="URG","URGO","")))))))))))))))))))))))))) -> NF | Q8: =IF(AND(Q7="URG",Q6="S"),"URGS",IF(AND(Q7="N",Q6="F",R6="F"),"NFFF",IF(AND(Q7="N",Q6="D",R6="F"),"NFF",IF(AND(Q7="N",Q6="D"),"NFO",IF(AND(Q7="N",Q6="S"),"NFS",IF(AND(Q7="N",Q6="F"),"NF",IF(AND(Q7="N",Q6="D"),"NF",IF(Q7="N","N",IF(AND(Q7="M",Q6="F"),"MF",IF(AND(Q7="M",Q6="D"),"MF",IF(Q7="M","M",IF(AND(Q7="T",Q6="F"),"TF",IF(AND(Q7="T",Q6="D"),"TF",IF(Q7="T","T",IF(AND(Q7="C",Q6="F"),"CF",IF(AND(Q7="C",Q6="D"),"CF",IF(Q7="C","C",IF(AND(Q7="L",Q6="F"),"LF",IF(AND(Q7="L",Q6="D"),"LF", IF(Q7="L","L",IF(Q7="SC","PS", IF(Q7="SA","PS",IF(Q7="TV","PS", IF(Q7="MI","PS", IF(Q7="MT","PS", IF(Q7="URG","URGO","")))))))))))))))))))))))))) -> N | ... AI8: =IF(AND(AI7="URG",AI6="S"),"URGS",IF(AND(AI7="N",AI6="F",AJ6="F"),"NFFF",IF(AND(AI7="N",AI6="D",AJ6="F"),"NFF",IF(AND(AI7="N",AI6="D"),"NFO",IF(AND(AI7="N",AI6="S"),"NFS",IF(AND(AI7="N",AI6="F"),"NF",IF(AND(AI7="N",AI6="D"),"NF",IF(AI7="N","N",IF(AND(AI7="M",AI6="F"),"MF",IF(AND(AI7="M",AI6="D"),"MF",IF(AI7="M","M",IF(AND(AI7="T",AI6="F"),"TF",IF(AND(AI7="T",AI6="D"),"TF",IF(AI7="T","T",IF(AND(AI7="C",AI6="F"),"CF",IF(AND(AI7="C",AI6="D"),"CF",IF(AI7="C","C",IF(AND(AI7="L",AI6="F"),"LF",IF(AND(AI7="L",AI6="D"),"LF", IF(AI7="L","L",IF(AI7="SC","PS", IF(AI7="SA","PS",IF(AI7="TV","PS", IF(AI7="MI","PS", IF(AI7="MT","PS", IF(AI7="URG","URGO","")))))))))))))))))))))))))) -> NFS | AJ8: =#VALUE! -> #VALUE! | AK8: =#VALUE! -> #VALUE!
A9: Hora Diurna Ordinaria | B9: =SUM(E9:AI9) -> 0 | C9: =B5/240 -> 8640.9721 | D9: =B9*C9*0 -> 0 | E9: =IF(E13>0,(IF(AND(E8="PS",E6="S"),4,IF(E8="M",6,IF(E8="T",5,IF(E8="C",11,IF(E8="N",0,IF(E8="NF",0,IF(E8="NFO",0, IF(E8="URGS",4,IF(E8="URGO",8, IF(E8="PS",8,""))))))))))-E13), IF(AND(E8="PS",E6="S"),4,IF(E8="M",6,IF(E8="T",5,IF(E8="C",11,IF(E8="N",0,IF(E8="NF",0,IF(E8="NFO",0, IF(E8="URGS",4,IF(E8="URGO",8, IF(E8="PS",8,""))))))))))) -> 0 | F9: =IF(F13>0,(IF(AND(F8="PS",F6="S"),4,IF(F8="M",6,IF(F8="T",5,IF(F8="C",11,IF(F8="N",0,IF(F8="NF",0,IF(F8="NFO",0, IF(F8="URGS",4,IF(F8="URGO",8, IF(F8="PS",8,""))))))))))-F13), IF(AND(F8="PS",F6="S"),4,IF(F8="M",6,IF(F8="T",5,IF(F8="C",11,IF(F8="N",0,IF(F8="NF",0,IF(F8="NFO",0, IF(F8="URGS",4,IF(F8="URGO",8, IF(F8="PS",8,""))))))))))) -> 0 | G9: =IF(G13>0,(IF(AND(G8="PS",G6="S"),4,IF(G8="M",6,IF(G8="T",5,IF(G8="C",11,IF(G8="N",0,IF(G8="NF",0,IF(G8="NFO",0, IF(G8="URGS",4,IF(G8="URGO",8, IF(G8="PS",8,""))))))))))-G13), IF(AND(G8="PS",G6="S"),4,IF(G8="M",6,IF(G8="T",5,IF(G8="C",11,IF(G8="N",0,IF(G8="NF",0,IF(G8="NFO",0, IF(G8="URGS",4,IF(G8="URGO",8, IF(G8="PS",8,""))))))))))) | H9: =IF(H13>0,(IF(AND(H8="PS",H6="S"),4,IF(H8="M",6,IF(H8="T",5,IF(H8="C",11,IF(H8="N",0,IF(H8="NF",0,IF(H8="NFO",0, IF(H8="URGS",4,IF(H8="URGO",8, IF(H8="PS",8,""))))))))))-H13), IF(AND(H8="PS",H6="S"),4,IF(H8="M",6,IF(H8="T",5,IF(H8="C",11,IF(H8="N",0,IF(H8="NF",0,IF(H8="NFO",0, IF(H8="URGS",4,IF(H8="URGO",8, IF(H8="PS",8,""))))))))))) -> 0 | I9: =IF(I13>0,(IF(AND(I8="PS",I6="S"),4,IF(I8="M",6,IF(I8="T",5,IF(I8="C",11,IF(I8="N",0,IF(I8="NF",0,IF(I8="NFO",0, IF(I8="URGS",4,IF(I8="URGO",8, IF(I8="PS",8,""))))))))))-I13), IF(AND(I8="PS",I6="S"),4,IF(I8="M",6,IF(I8="T",5,IF(I8="C",11,IF(I8="N",0,IF(I8="NF",0,IF(I8="NFO",0, IF(I8="URGS",4,IF(I8="URGO",8, IF(I8="PS",8,""))))))))))) | J9: =IF(J13>0,(IF(AND(J8="PS",J6="S"),4,IF(J8="M",6,IF(J8="T",5,IF(J8="C",11,IF(J8="N",0,IF(J8="NF",0,IF(J8="NFO",0, IF(J8="URGS",4,IF(J8="URGO",8, IF(J8="PS",8,""))))))))))-J13), IF(AND(J8="PS",J6="S"),4,IF(J8="M",6,IF(J8="T",5,IF(J8="C",11,IF(J8="N",0,IF(J8="NF",0,IF(J8="NFO",0, IF(J8="URGS",4,IF(J8="URGO",8, IF(J8="PS",8,""))))))))))) -> 0 | K9: =IF(K13>0,(IF(AND(K8="PS",K6="S"),4,IF(K8="M",6,IF(K8="T",5,IF(K8="C",11,IF(K8="N",0,IF(K8="NF",0,IF(K8="NFO",0, IF(K8="URGS",4,IF(K8="URGO",8, IF(K8="PS",8,""))))))))))-K13), IF(AND(K8="PS",K6="S"),4,IF(K8="M",6,IF(K8="T",5,IF(K8="C",11,IF(K8="N",0,IF(K8="NF",0,IF(K8="NFO",0, IF(K8="URGS",4,IF(K8="URGO",8, IF(K8="PS",8,""))))))))))) -> 0 | L9: =IF(L13>0,(IF(AND(L8="PS",L6="S"),4,IF(L8="M",6,IF(L8="T",5,IF(L8="C",11,IF(L8="N",0,IF(L8="NF",0,IF(L8="NFO",0, IF(L8="URGS",4,IF(L8="URGO",8, IF(L8="PS",8,""))))))))))-L13), IF(AND(L8="PS",L6="S"),4,IF(L8="M",6,IF(L8="T",5,IF(L8="C",11,IF(L8="N",0,IF(L8="NF",0,IF(L8="NFO",0, IF(L8="URGS",4,IF(L8="URGO",8, IF(L8="PS",8,""))))))))))) -> 0 | ... AI9: =IF(AI13>0,(IF(AND(AI8="PS",AI6="S"),4,IF(AI8="M",6,IF(AI8="T",5,IF(AI8="C",11,IF(AI8="N",0,IF(AI8="NF",0,IF(AI8="NFO",0, IF(AI8="URGS",4,IF(AI8="URGO",8, IF(AI8="PS",8,""))))))))))-AI13), IF(AND(AI8="PS",AI6="S"),4,IF(AI8="M",6,IF(AI8="T",5,IF(AI8="C",11,IF(AI8="N",0,IF(AI8="NF",0,IF(AI8="NFO",0, IF(AI8="URGS",4,IF(AI8="URGO",8, IF(AI8="PS",8,""))))))))))) | AJ9: =+IF(AJ8="M",6,IF(AJ8="T",5,IF(AJ8="C",11,IF(AJ8="N",1,"")))) -> #VALUE! | AK9: =+IF(AK8="M",6,IF(AK8="T",5,IF(AK8="C",11,IF(AK8="N",1,"")))) -> #VALUE! | AL9: C | AM9: CORRIDO | AN9: 7 AM A 7 PM | AO9: 12 | AP9: 1
A10: Hora Nocturna Ordinaria | B10: =SUM(E10:AI10) -> 192 | C10: =B5/240*35% -> 3024.3402 | D10: =B10*C10 -> 580673.32 | E10: =IF(E14>0,(IF(E8="T",1,IF(E8="C",0,IF(E8="N",11,IF(E8="NF",6, IF(E8="NFO",6, IF(E8="NFS",2,""))))))-E14), IF(E8="T",1,IF(E8="C",0,IF(E8="N",8,IF(E8="NF",6, IF(E8="NFO",6, IF(E8="NFS",2,""))))))) -> 6 | F10: =IF(F14>0,(IF(F8="T",1,IF(F8="C",0,IF(F8="N",11,IF(F8="NF",6, IF(F8="NFO",6, IF(F8="NFS",2,""))))))-F14), IF(F8="T",1,IF(F8="C",0,IF(F8="N",8,IF(F8="NF",6, IF(F8="NFO",6, IF(F8="NFS",2,""))))))) -> 8 | G10: =IF(G14>0,(IF(G8="T",1,IF(G8="C",0,IF(G8="N",11,IF(G8="NF",6, IF(G8="NFO",6, IF(G8="NFS",2,""))))))-G14), IF(G8="T",1,IF(G8="C",0,IF(G8="N",8,IF(G8="NF",6, IF(G8="NFO",6, IF(G8="NFS",2,""))))))) -> 2 | H10: =IF(H14>0,(IF(H8="T",1,IF(H8="C",0,IF(H8="N",11,IF(H8="NF",6, IF(H8="NFO",6, IF(H8="NFS",2,""))))))-H14), IF(H8="T",1,IF(H8="C",0,IF(H8="N",8,IF(H8="NF",6, IF(H8="NFO",6, IF(H8="NFS",2,""))))))) -> 6 | I10: =IF(I14>0,(IF(I8="T",1,IF(I8="C",0,IF(I8="N",11,IF(I8="NF",6, IF(I8="NFO",6, IF(I8="NFS",2,""))))))-I14), IF(I8="T",1,IF(I8="C",0,IF(I8="N",8,IF(I8="NF",6, IF(I8="NFO",6, IF(I8="NFS",2,""))))))) | J10: =IF(J14>0,(IF(J8="T",1,IF(J8="C",0,IF(J8="N",11,IF(J8="NF",6, IF(J8="NFO",6, IF(J8="NFS",2,""))))))-J14), IF(J8="T",1,IF(J8="C",0,IF(J8="N",8,IF(J8="NF",6, IF(J8="NFO",6, IF(J8="NFS",2,""))))))) -> 8 | K10: =IF(K14>0,(IF(K8="T",1,IF(K8="C",0,IF(K8="N",11,IF(K8="NF",6, IF(K8="NFO",6, IF(K8="NFS",2,""))))))-K14), IF(K8="T",1,IF(K8="C",0,IF(K8="N",8,IF(K8="NF",6, IF(K8="NFO",6, IF(K8="NFS",2,""))))))) -> 8 | L10: =IF(L14>0,(IF(L8="T",1,IF(L8="C",0,IF(L8="N",11,IF(L8="NF",6, IF(L8="NFO",6, IF(L8="NFS",2,""))))))-L14), IF(L8="T",1,IF(L8="C",0,IF(L8="N",8,IF(L8="NF",6, IF(L8="NFO",6, IF(L8="NFS",2,""))))))) -> 8 | ... AI10: =IF(AI14>0,(IF(AI8="T",1,IF(AI8="C",0,IF(AI8="N",11,IF(AI8="NF",6, IF(AI8="NFO",6, IF(AI8="NFS",2,""))))))-AI14), IF(AI8="T",1,IF(AI8="C",0,IF(AI8="N",8,IF(AI8="NF",6, IF(AI8="NFO",6, IF(AI8="NFS",2,""))))))) -> 2 | AJ10: =+IF(AJ8="T",1,IF(AJ8="C",1,IF(AJ8="N",11,""))) -> #VALUE! | AK10: =+IF(AK8="T",1,IF(AK8="C",1,IF(AK8="N",11,""))) -> #VALUE! | AL10: N | AM10: NOCHE | AN10: 10PM A 6 AM | AO10: 0 | AP10: 8
A11: Hora Diurna Festiva | B11: =SUM(E11:AI11) -> 0 | C11: =B5/240*180% -> 15553.75 | D11: =B11*C11 -> 0 | E11: =IF(E15>0, (IF(E8="MF",8,IF(E8="TF",7,IF(E8="CF",12,IF(E8="NF",0, IF(E8="NFS",0, IF(E8="NFF",0, IF(E8="NFFF",0,"")))))))-E15), IF(E8="MF",8,IF(E8="TF",7,IF(E8="CF",12,IF(E8="NF",0, IF(E8="NFS",0, IF(E8="NFF",0, IF(E8="NFFF",0,"")))))))) -> 0 | F11: =IF(F15>0, (IF(F8="MF",8,IF(F8="TF",7,IF(F8="CF",12,IF(F8="NF",0, IF(F8="NFS",0, IF(F8="NFF",0, IF(F8="NFFF",0,"")))))))-F15), IF(F8="MF",8,IF(F8="TF",7,IF(F8="CF",12,IF(F8="NF",0, IF(F8="NFS",0, IF(F8="NFF",0, IF(F8="NFFF",0,"")))))))) | G11: =IF(G15>0, (IF(G8="MF",8,IF(G8="TF",7,IF(G8="CF",12,IF(G8="NF",0, IF(G8="NFS",0, IF(G8="NFF",0, IF(G8="NFFF",0,"")))))))-G15), IF(G8="MF",8,IF(G8="TF",7,IF(G8="CF",12,IF(G8="NF",0, IF(G8="NFS",0, IF(G8="NFF",0, IF(G8="NFFF",0,"")))))))) -> 0 | H11: =IF(H15>0, (IF(H8="MF",8,IF(H8="TF",7,IF(H8="CF",12,IF(H8="NF",0, IF(H8="NFS",0, IF(H8="NFF",0, IF(H8="NFFF",0,"")))))))-H15), IF(H8="MF",8,IF(H8="TF",7,IF(H8="CF",12,IF(H8="NF",0, IF(H8="NFS",0, IF(H8="NFF",0, IF(H8="NFFF",0,"")))))))) | I11: =IF(I15>0, (IF(I8="MF",8,IF(I8="TF",7,IF(I8="CF",12,IF(I8="NF",0, IF(I8="NFS",0, IF(I8="NFF",0, IF(I8="NFFF",0,"")))))))-I15), IF(I8="MF",8,IF(I8="TF",7,IF(I8="CF",12,IF(I8="NF",0, IF(I8="NFS",0, IF(I8="NFF",0, IF(I8="NFFF",0,"")))))))) | J11: =IF(J15>0, (IF(J8="MF",8,IF(J8="TF",7,IF(J8="CF",12,IF(J8="NF",0, IF(J8="NFS",0, IF(J8="NFF",0, IF(J8="NFFF",0,"")))))))-J15), IF(J8="MF",8,IF(J8="TF",7,IF(J8="CF",12,IF(J8="NF",0, IF(J8="NFS",0, IF(J8="NFF",0, IF(J8="NFFF",0,"")))))))) | K11: =IF(K15>0, (IF(K8="MF",8,IF(K8="TF",7,IF(K8="CF",12,IF(K8="NF",0, IF(K8="NFS",0, IF(K8="NFF",0, IF(K8="NFFF",0,"")))))))-K15), IF(K8="MF",8,IF(K8="TF",7,IF(K8="CF",12,IF(K8="NF",0, IF(K8="NFS",0, IF(K8="NFF",0, IF(K8="NFFF",0,"")))))))) | L11: =IF(L15>0, (IF(L8="MF",8,IF(L8="TF",7,IF(L8="CF",12,IF(L8="NF",0, IF(L8="NFS",0, IF(L8="NFF",0, IF(L8="NFFF",0,"")))))))-L15), IF(L8="MF",8,IF(L8="TF",7,IF(L8="CF",12,IF(L8="NF",0, IF(L8="NFS",0, IF(L8="NFF",0, IF(L8="NFFF",0,"")))))))) | ... AI11: =IF(AI15>0, (IF(AI8="MF",8,IF(AI8="TF",7,IF(AI8="CF",12,IF(AI8="NF",0, IF(AI8="NFS",0, IF(AI8="NFF",0, IF(AI8="NFFF",0,"")))))))-AI15), IF(AI8="MF",8,IF(AI8="TF",7,IF(AI8="CF",12,IF(AI8="NF",0, IF(AI8="NFS",0, IF(AI8="NFF",0, IF(AI8="NFFF",0,"")))))))) -> 0 | AJ11: =+IF(AJ8="MF",6,IF(AJ8="TF",5,IF(AJ8="CF",11,IF(AJ8="NF",1,"")))) -> #VALUE! | AK11: =+IF(AK8="MF",6,IF(AK8="TF",5,IF(AK8="CF",11,IF(AK8="NF",1,"")))) -> #VALUE!
A12: Hora Nocturna Festiva | B12: =SUM(E12:AI12) -> 48 | C12: =B5/240*215% -> 18578.09 | D12: =B12*C12 -> 891748.32 | E12: =IF(E16>0,( IF(E8="TF",1,IF(E8="CF",1,IF(E8="NF",5, IF(E8="NFO",2, IF(E8="NFS",6, IF(E8="NFF",8, IF(E8="NFFF",8,"")))))))-E16), IF(E8="TF",1,IF(E8="CF",1,IF(E8="NF",2, IF(E8="NFO",2, IF(E8="NFS",6, IF(E8="NFF",8, IF(E8="NFFF",8,"")))))))) -> 2 | F12: =IF(F16>0,( IF(F8="TF",1,IF(F8="CF",1,IF(F8="NF",5, IF(F8="NFO",2, IF(F8="NFS",6, IF(F8="NFF",8, IF(F8="NFFF",8,"")))))))-F16), IF(F8="TF",1,IF(F8="CF",1,IF(F8="NF",2, IF(F8="NFO",2, IF(F8="NFS",6, IF(F8="NFF",8, IF(F8="NFFF",8,"")))))))) | G12: =IF(G16>0,( IF(G8="TF",1,IF(G8="CF",1,IF(G8="NF",5, IF(G8="NFO",2, IF(G8="NFS",6, IF(G8="NFF",8, IF(G8="NFFF",8,"")))))))-G16), IF(G8="TF",1,IF(G8="CF",1,IF(G8="NF",2, IF(G8="NFO",2, IF(G8="NFS",6, IF(G8="NFF",8, IF(G8="NFFF",8,"")))))))) -> 6 | H12: =IF(H16>0,( IF(H8="TF",1,IF(H8="CF",1,IF(H8="NF",5, IF(H8="NFO",2, IF(H8="NFS",6, IF(H8="NFF",8, IF(H8="NFFF",8,"")))))))-H16), IF(H8="TF",1,IF(H8="CF",1,IF(H8="NF",2, IF(H8="NFO",2, IF(H8="NFS",6, IF(H8="NFF",8, IF(H8="NFFF",8,"")))))))) -> 2 | I12: =IF(I16>0,( IF(I8="TF",1,IF(I8="CF",1,IF(I8="NF",5, IF(I8="NFO",2, IF(I8="NFS",6, IF(I8="NFF",8, IF(I8="NFFF",8,"")))))))-I16), IF(I8="TF",1,IF(I8="CF",1,IF(I8="NF",2, IF(I8="NFO",2, IF(I8="NFS",6, IF(I8="NFF",8, IF(I8="NFFF",8,"")))))))) | J12: =IF(J16>0,( IF(J8="TF",1,IF(J8="CF",1,IF(J8="NF",5, IF(J8="NFO",2, IF(J8="NFS",6, IF(J8="NFF",8, IF(J8="NFFF",8,"")))))))-J16), IF(J8="TF",1,IF(J8="CF",1,IF(J8="NF",2, IF(J8="NFO",2, IF(J8="NFS",6, IF(J8="NFF",8, IF(J8="NFFF",8,"")))))))) | K12: =IF(K16>0,( IF(K8="TF",1,IF(K8="CF",1,IF(K8="NF",5, IF(K8="NFO",2, IF(K8="NFS",6, IF(K8="NFF",8, IF(K8="NFFF",8,"")))))))-K16), IF(K8="TF",1,IF(K8="CF",1,IF(K8="NF",2, IF(K8="NFO",2, IF(K8="NFS",6, IF(K8="NFF",8, IF(K8="NFFF",8,"")))))))) | L12: =IF(L16>0,( IF(L8="TF",1,IF(L8="CF",1,IF(L8="NF",5, IF(L8="NFO",2, IF(L8="NFS",6, IF(L8="NFF",8, IF(L8="NFFF",8,"")))))))-L16), IF(L8="TF",1,IF(L8="CF",1,IF(L8="NF",2, IF(L8="NFO",2, IF(L8="NFS",6, IF(L8="NFF",8, IF(L8="NFFF",8,"")))))))) | ... AI12: =IF(AI16>0,( IF(AI8="TF",1,IF(AI8="CF",1,IF(AI8="NF",5, IF(AI8="NFO",2, IF(AI8="NFS",6, IF(AI8="NFF",8, IF(AI8="NFFF",8,"")))))))-AI16), IF(AI8="TF",1,IF(AI8="CF",1,IF(AI8="NF",2, IF(AI8="NFO",2, IF(AI8="NFS",6, IF(AI8="NFF",8, IF(AI8="NFFF",8,"")))))))) -> 6 | AJ12: =+IF(AJ8="TF",1,IF(AJ8="CF",1,IF(AJ8="NF",11,""))) -> #VALUE! | AK12: =+IF(AK8="TF",1,IF(AK8="CF",1,IF(AK8="NF",11,""))) -> #VALUE!
A13: Hora Diurna Extra | B13: =SUM(E13:AK13) -> 0 | C13: =B5/240*125% -> 10801.215 | D13: =B13*C13 -> 0
A14: Hora Nocturna Extra | B14: =SUM(E14:AK14) -> 0 | C14: =B5/240*175% -> 15121.701 | D14: =B14*C14 -> 0
A15: Hora Diurna Extra Festiva | B15: =SUM(E15:AK15) -> 0 | C15: =B5/240*200% -> 17281.944 | D15: =B15*C15 -> 0
A16: Hora Nocturna Extra Festiva | B16: =SUM(E16:AK16) -> 0 | C16: =B5/240*250% -> 21602.43 | D16: =B16*C16 -> 0 | AL16: L | AM16: LIBRE
B17: =SUM(B9:B16) -> 240 | D17: =ROUND((SUM(D9:D16)),0) -> 1472422 | AL17: D | AM17: DESCANSO
B18: =SUM(B9:B12)-$AL$4 -> 64
A19: Sueldo Básico FEBRERO 2026 | B19: =B5 -> 2073833.3 | E19: =+D19+1 -> 1 | F19: =+E19+1 -> 2 | G19: =+F19+1 -> 3 | H19: =+G19+1 -> 4 | I19: =+H19+1 -> 5 | J19: =+I19+1 -> 6 | K19: =+J19+1 -> 7 | L19: =+K19+1 -> 8 | ... AF19: =+AE19+1 -> 28
B20: # H | C20: Vr.Hora | D20: Vr.Total | E20: D | F20: L | G20: M | H20: M | I20: J | J20: V | K20: S | L20: D | M20: L | N20: M | O20: M | P20: J | Q20: V | R20: S | S20: D | T20: L | U20: M | V20: M | W20: J | X20: V | Y20: S | Z20: D | AA20: L | AB20: M | AC20: M | AD20: J | AE20: V | AF20: S
A21: Turno | B21: APH | E21: N | F21: N | G21: N | H21: N | I21: N | J21: N | K21: N | L21: N | M21: N | N21: N | O21: N | P21: N | Q21: N | R21: N | S21: N | T21: N | U21: N | V21: N | W21: N | X21: N | Y21: N | Z21: N | AA21: N | AB21: N | AC21: N | AD21: N | AE21: N | AF21: N
A22: FORMULA NO BORRAR | E22: =IF(AND(E21="URG",E20="S"),"URGS",IF(AND(E21="N",E20="F",F20="F"),"NFFF",IF(AND(E21="N",E20="D",F20="F"),"NFF",IF(AND(E21="N",E20="D"),"NFO",IF(AND(E21="N",E20="S"),"NFS",IF(AND(E21="N",E20="F"),"NF",IF(AND(E21="N",E20="D"),"NF",IF(E21="N","N",IF(AND(E21="M",E20="F"),"MF",IF(AND(E21="M",E20="D"),"MF",IF(E21="M","M",IF(AND(E21="T",E20="F"),"TF",IF(AND(E21="T",E20="D"),"TF",IF(E21="T","T",IF(AND(E21="C",E20="F"),"CF",IF(AND(E21="C",E20="D"),"CF",IF(E21="C","C",IF(AND(E21="L",E20="F"),"LF",IF(AND(E21="L",E20="D"),"LF", IF(E21="L","L",IF(E21="SC","PS", IF(E21="SA","PS",IF(E21="TV","PS", IF(E21="MI","PS", IF(E21="MT","PS", IF(E21="URG","URGO","")))))))))))))))))))))))))) -> NFO | F22: =IF(AND(F21="URG",F20="S"),"URGS",IF(AND(F21="N",F20="F",G20="F"),"NFFF",IF(AND(F21="N",F20="D",G20="F"),"NFF",IF(AND(F21="N",F20="D"),"NFO",IF(AND(F21="N",F20="S"),"NFS",IF(AND(F21="N",F20="F"),"NF",IF(AND(F21="N",F20="D"),"NF",IF(F21="N","N",IF(AND(F21="M",F20="F"),"MF",IF(AND(F21="M",F20="D"),"MF",IF(F21="M","M",IF(AND(F21="T",F20="F"),"TF",IF(AND(F21="T",F20="D"),"TF",IF(F21="T","T",IF(AND(F21="C",F20="F"),"CF",IF(AND(F21="C",F20="D"),"CF",IF(F21="C","C",IF(AND(F21="L",F20="F"),"LF",IF(AND(F21="L",F20="D"),"LF", IF(F21="L","L",IF(F21="SC","PS", IF(F21="SA","PS",IF(F21="TV","PS", IF(F21="MI","PS", IF(F21="MT","PS", IF(F21="URG","URGO","")))))))))))))))))))))))))) -> N | G22: =IF(AND(G21="URG",G20="S"),"URGS",IF(AND(G21="N",G20="F",H20="F"),"NFFF",IF(AND(G21="N",G20="D",H20="F"),"NFF",IF(AND(G21="N",G20="D"),"NFO",IF(AND(G21="N",G20="S"),"NFS",IF(AND(G21="N",G20="F"),"NF",IF(AND(G21="N",G20="D"),"NF",IF(G21="N","N",IF(AND(G21="M",G20="F"),"MF",IF(AND(G21="M",G20="D"),"MF",IF(G21="M","M",IF(AND(G21="T",G20="F"),"TF",IF(AND(G21="T",G20="D"),"TF",IF(G21="T","T",IF(AND(G21="C",G20="F"),"CF",IF(AND(G21="C",G20="D"),"CF",IF(G21="C","C",IF(AND(G21="L",G20="F"),"LF",IF(AND(G21="L",G20="D"),"LF", IF(G21="L","L",IF(G21="SC","PS", IF(G21="SA","PS",IF(G21="TV","PS", IF(G21="MI","PS", IF(G21="MT","PS", IF(G21="URG","URGO","")))))))))))))))))))))))))) -> N | H22: =IF(AND(H21="URG",H20="S"),"URGS",IF(AND(H21="N",H20="F",I20="F"),"NFFF",IF(AND(H21="N",H20="D",I20="F"),"NFF",IF(AND(H21="N",H20="D"),"NFO",IF(AND(H21="N",H20="S"),"NFS",IF(AND(H21="N",H20="F"),"NF",IF(AND(H21="N",H20="D"),"NF",IF(H21="N","N",IF(AND(H21="M",H20="F"),"MF",IF(AND(H21="M",H20="D"),"MF",IF(H21="M","M",IF(AND(H21="T",H20="F"),"TF",IF(AND(H21="T",H20="D"),"TF",IF(H21="T","T",IF(AND(H21="C",H20="F"),"CF",IF(AND(H21="C",H20="D"),"CF",IF(H21="C","C",IF(AND(H21="L",H20="F"),"LF",IF(AND(H21="L",H20="D"),"LF", IF(H21="L","L",IF(H21="SC","PS", IF(H21="SA","PS",IF(H21="TV","PS", IF(H21="MI","PS", IF(H21="MT","PS", IF(H21="URG","URGO","")))))))))))))))))))))))))) -> N | J22: =IF(AND(J21="URG",J20="S"),"URGS",IF(AND(J21="N",J20="F",K20="F"),"NFFF",IF(AND(J21="N",J20="D",K20="F"),"NFF",IF(AND(J21="N",J20="D"),"NFO",IF(AND(J21="N",J20="S"),"NFS",IF(AND(J21="N",J20="F"),"NF",IF(AND(J21="N",J20="D"),"NF",IF(J21="N","N",IF(AND(J21="M",J20="F"),"MF",IF(AND(J21="M",J20="D"),"MF",IF(J21="M","M",IF(AND(J21="T",J20="F"),"TF",IF(AND(J21="T",J20="D"),"TF",IF(J21="T","T",IF(AND(J21="C",J20="F"),"CF",IF(AND(J21="C",J20="D"),"CF",IF(J21="C","C",IF(AND(J21="L",J20="F"),"LF",IF(AND(J21="L",J20="D"),"LF", IF(J21="L","L",IF(J21="SC","PS", IF(J21="SA","PS",IF(J21="TV","PS", IF(J21="MI","PS", IF(J21="MT","PS", IF(J21="URG","URGO","")))))))))))))))))))))))))) -> N | K22: =IF(AND(K21="URG",K20="S"),"URGS",IF(AND(K21="N",K20="F",L20="F"),"NFFF",IF(AND(K21="N",K20="D",L20="F"),"NFF",IF(AND(K21="N",K20="D"),"NFO",IF(AND(K21="N",K20="S"),"NFS",IF(AND(K21="N",K20="F"),"NF",IF(AND(K21="N",K20="D"),"NF",IF(K21="N","N",IF(AND(K21="M",K20="F"),"MF",IF(AND(K21="M",K20="D"),"MF",IF(K21="M","M",IF(AND(K21="T",K20="F"),"TF",IF(AND(K21="T",K20="D"),"TF",IF(K21="T","T",IF(AND(K21="C",K20="F"),"CF",IF(AND(K21="C",K20="D"),"CF",IF(K21="C","C",IF(AND(K21="L",K20="F"),"LF",IF(AND(K21="L",K20="D"),"LF", IF(K21="L","L",IF(K21="SC","PS", IF(K21="SA","PS",IF(K21="TV","PS", IF(K21="MI","PS", IF(K21="MT","PS", IF(K21="URG","URGO","")))))))))))))))))))))))))) -> NFS | L22: =IF(AND(L21="URG",L20="S"),"URGS",IF(AND(L21="N",L20="F",M20="F"),"NFFF",IF(AND(L21="N",L20="D",M20="F"),"NFF",IF(AND(L21="N",L20="D"),"NFO",IF(AND(L21="N",L20="S"),"NFS",IF(AND(L21="N",L20="F"),"NF",IF(AND(L21="N",L20="D"),"NF",IF(L21="N","N",IF(AND(L21="M",L20="F"),"MF",IF(AND(L21="M",L20="D"),"MF",IF(L21="M","M",IF(AND(L21="T",L20="F"),"TF",IF(AND(L21="T",L20="D"),"TF",IF(L21="T","T",IF(AND(L21="C",L20="F"),"CF",IF(AND(L21="C",L20="D"),"CF",IF(L21="C","C",IF(AND(L21="L",L20="F"),"LF",IF(AND(L21="L",L20="D"),"LF", IF(L21="L","L",IF(L21="SC","PS", IF(L21="SA","PS",IF(L21="TV","PS", IF(L21="MI","PS", IF(L21="MT","PS", IF(L21="URG","URGO","")))))))))))))))))))))))))) -> NFO | M22: =IF(AND(M21="URG",M20="S"),"URGS",IF(AND(M21="N",M20="F",N20="F"),"NFFF",IF(AND(M21="N",M20="D",N20="F"),"NFF",IF(AND(M21="N",M20="D"),"NFO",IF(AND(M21="N",M20="S"),"NFS",IF(AND(M21="N",M20="F"),"NF",IF(AND(M21="N",M20="D"),"NF",IF(M21="N","N",IF(AND(M21="M",M20="F"),"MF",IF(AND(M21="M",M20="D"),"MF",IF(M21="M","M",IF(AND(M21="T",M20="F"),"TF",IF(AND(M21="T",M20="D"),"TF",IF(M21="T","T",IF(AND(M21="C",M20="F"),"CF",IF(AND(M21="C",M20="D"),"CF",IF(M21="C","C",IF(AND(M21="L",M20="F"),"LF",IF(AND(M21="L",M20="D"),"LF", IF(M21="L","L",IF(M21="SC","PS", IF(M21="SA","PS",IF(M21="TV","PS", IF(M21="MI","PS", IF(M21="MT","PS", IF(M21="URG","URGO","")))))))))))))))))))))))))) -> N | N22: =IF(AND(N21="URG",N20="S"),"URGS",IF(AND(N21="N",N20="F",O20="F"),"NFFF",IF(AND(N21="N",N20="D",O20="F"),"NFF",IF(AND(N21="N",N20="D"),"NFO",IF(AND(N21="N",N20="S"),"NFS",IF(AND(N21="N",N20="F"),"NF",IF(AND(N21="N",N20="D"),"NF",IF(N21="N","N",IF(AND(N21="M",N20="F"),"MF",IF(AND(N21="M",N20="D"),"MF",IF(N21="M","M",IF(AND(N21="T",N20="F"),"TF",IF(AND(N21="T",N20="D"),"TF",IF(N21="T","T",IF(AND(N21="C",N20="F"),"CF",IF(AND(N21="C",N20="D"),"CF",IF(N21="C","C",IF(AND(N21="L",N20="F"),"LF",IF(AND(N21="L",N20="D"),"LF", IF(N21="L","L",IF(N21="SC","PS", IF(N21="SA","PS",IF(N21="TV","PS", IF(N21="MI","PS", IF(N21="MT","PS", IF(N21="URG","URGO","")))))))))))))))))))))))))) -> N | O22: =IF(AND(O21="URG",O20="S"),"URGS",IF(AND(O21="N",O20="F",P20="F"),"NFFF",IF(AND(O21="N",O20="D",P20="F"),"NFF",IF(AND(O21="N",O20="D"),"NFO",IF(AND(O21="N",O20="S"),"NFS",IF(AND(O21="N",O20="F"),"NF",IF(AND(O21="N",O20="D"),"NF",IF(O21="N","N",IF(AND(O21="M",O20="F"),"MF",IF(AND(O21="M",O20="D"),"MF",IF(O21="M","M",IF(AND(O21="T",O20="F"),"TF",IF(AND(O21="T",O20="D"),"TF",IF(O21="T","T",IF(AND(O21="C",O20="F"),"CF",IF(AND(O21="C",O20="D"),"CF",IF(O21="C","C",IF(AND(O21="L",O20="F"),"LF",IF(AND(O21="L",O20="D"),"LF", IF(O21="L","L",IF(O21="SC","PS", IF(O21="SA","PS",IF(O21="TV","PS", IF(O21="MI","PS", IF(O21="MT","PS", IF(O21="URG","URGO","")))))))))))))))))))))))))) -> N | P22: =IF(AND(P21="URG",P20="S"),"URGS",IF(AND(P21="N",P20="F",Q20="F"),"NFFF",IF(AND(P21="N",P20="D",Q20="F"),"NFF",IF(AND(P21="N",P20="D"),"NFO",IF(AND(P21="N",P20="S"),"NFS",IF(AND(P21="N",P20="F"),"NF",IF(AND(P21="N",P20="D"),"NF",IF(P21="N","N",IF(AND(P21="M",P20="F"),"MF",IF(AND(P21="M",P20="D"),"MF",IF(P21="M","M",IF(AND(P21="T",P20="F"),"TF",IF(AND(P21="T",P20="D"),"TF",IF(P21="T","T",IF(AND(P21="C",P20="F"),"CF",IF(AND(P21="C",P20="D"),"CF",IF(P21="C","C",IF(AND(P21="L",P20="F"),"LF",IF(AND(P21="L",P20="D"),"LF", IF(P21="L","L",IF(P21="SC","PS", IF(P21="SA","PS",IF(P21="TV","PS", IF(P21="MI","PS", IF(P21="MT","PS", IF(P21="URG","URGO","")))))))))))))))))))))))))) -> N | Q22: =IF(AND(Q21="URG",Q20="S"),"URGS",IF(AND(Q21="N",Q20="F",R20="F"),"NFFF",IF(AND(Q21="N",Q20="D",R20="F"),"NFF",IF(AND(Q21="N",Q20="D"),"NFO",IF(AND(Q21="N",Q20="S"),"NFS",IF(AND(Q21="N",Q20="F"),"NF",IF(AND(Q21="N",Q20="D"),"NF",IF(Q21="N","N",IF(AND(Q21="M",Q20="F"),"MF",IF(AND(Q21="M",Q20="D"),"MF",IF(Q21="M","M",IF(AND(Q21="T",Q20="F"),"TF",IF(AND(Q21="T",Q20="D"),"TF",IF(Q21="T","T",IF(AND(Q21="C",Q20="F"),"CF",IF(AND(Q21="C",Q20="D"),"CF",IF(Q21="C","C",IF(AND(Q21="L",Q20="F"),"LF",IF(AND(Q21="L",Q20="D"),"LF", IF(Q21="L","L",IF(Q21="SC","PS", IF(Q21="SA","PS",IF(Q21="TV","PS", IF(Q21="MI","PS", IF(Q21="MT","PS", IF(Q21="URG","URGO","")))))))))))))))))))))))))) -> N | ... AI22: =IF(AND(AI21="URG",AI20="S"),"URGS",IF(AND(AI21="N",AI20="F",AJ20="F"),"NFFF",IF(AND(AI21="N",AI20="D",AJ20="F"),"NFF",IF(AND(AI21="N",AI20="D"),"NFO",IF(AND(AI21="N",AI20="S"),"NFS",IF(AND(AI21="N",AI20="F"),"NF",IF(AND(AI21="N",AI20="D"),"NF",IF(AI21="N","N",IF(AND(AI21="M",AI20="F"),"MF",IF(AND(AI21="M",AI20="D"),"MF",IF(AI21="M","M",IF(AND(AI21="T",AI20="F"),"TF",IF(AND(AI21="T",AI20="D"),"TF",IF(AI21="T","T",IF(AND(AI21="C",AI20="F"),"CF",IF(AND(AI21="C",AI20="D"),"CF",IF(AI21="C","C",IF(AND(AI21="L",AI20="F"),"LF",IF(AND(AI21="L",AI20="D"),"LF", IF(AI21="L","L",IF(AI21="SC","PS", IF(AI21="SA","PS",IF(AI21="TV","PS", IF(AI21="MI","PS", IF(AI21="MT","PS", IF(AI21="URG","URGO",""))))))))))))))))))))))))))
A23: Hora Diurna Ordinaria | B23: =SUM(E23:AI23) -> 0 | C23: =B19/240 -> 8640.9721 | D23: =B23*C23*0 -> 0 | E23: =IF(E27>0,(IF(AND(E22="PS",E20="S"),4,IF(E22="M",6,IF(E22="T",5,IF(E22="C",11,IF(E22="N",0,IF(E22="NF",0,IF(E22="NFO",0, IF(E22="URGS",4,IF(E22="URGO",8, IF(E22="PS",8,""))))))))))-E27), IF(AND(E22="PS",E20="S"),4,IF(E22="M",6,IF(E22="T",5,IF(E22="C",11,IF(E22="N",0,IF(E22="NF",0,IF(E22="NFO",0, IF(E22="URGS",4,IF(E22="URGO",8, IF(E22="PS",8,""))))))))))) -> 0 | F23: =IF(F27>0,(IF(AND(F22="PS",F20="S"),4,IF(F22="M",6,IF(F22="T",5,IF(F22="C",11,IF(F22="N",0,IF(F22="NF",0,IF(F22="NFO",0, IF(F22="URGS",4,IF(F22="URGO",8, IF(F22="PS",8,""))))))))))-F27), IF(AND(F22="PS",F20="S"),4,IF(F22="M",6,IF(F22="T",5,IF(F22="C",11,IF(F22="N",0,IF(F22="NF",0,IF(F22="NFO",0, IF(F22="URGS",4,IF(F22="URGO",8, IF(F22="PS",8,""))))))))))) -> 0 | G23: =IF(G27>0,(IF(AND(G22="PS",G20="S"),4,IF(G22="M",6,IF(G22="T",5,IF(G22="C",11,IF(G22="N",0,IF(G22="NF",0,IF(G22="NFO",0, IF(G22="URGS",4,IF(G22="URGO",8, IF(G22="PS",8,""))))))))))-G27), IF(AND(G22="PS",G20="S"),4,IF(G22="M",6,IF(G22="T",5,IF(G22="C",11,IF(G22="N",0,IF(G22="NF",0,IF(G22="NFO",0, IF(G22="URGS",4,IF(G22="URGO",8, IF(G22="PS",8,""))))))))))) -> 0 | H23: =IF(H27>0,(IF(AND(H22="PS",H20="S"),4,IF(H22="M",6,IF(H22="T",5,IF(H22="C",11,IF(H22="N",0,IF(H22="NF",0,IF(H22="NFO",0, IF(H22="URGS",4,IF(H22="URGO",8, IF(H22="PS",8,""))))))))))-H27), IF(AND(H22="PS",H20="S"),4,IF(H22="M",6,IF(H22="T",5,IF(H22="C",11,IF(H22="N",0,IF(H22="NF",0,IF(H22="NFO",0, IF(H22="URGS",4,IF(H22="URGO",8, IF(H22="PS",8,""))))))))))) -> 0 | I23: =IF(I27>0,(IF(AND(I22="PS",I20="S"),4,IF(I22="M",6,IF(I22="T",5,IF(I22="C",11,IF(I22="N",0,IF(I22="NF",0,IF(I22="NFO",0, IF(I22="URGS",4,IF(I22="URGO",8, IF(I22="PS",8,""))))))))))-I27), IF(AND(I22="PS",I20="S"),4,IF(I22="M",6,IF(I22="T",5,IF(I22="C",11,IF(I22="N",0,IF(I22="NF",0,IF(I22="NFO",0, IF(I22="URGS",4,IF(I22="URGO",8, IF(I22="PS",8,""))))))))))) | J23: =IF(J27>0,(IF(AND(J22="PS",J20="S"),4,IF(J22="M",6,IF(J22="T",5,IF(J22="C",11,IF(J22="N",0,IF(J22="NF",0,IF(J22="NFO",0, IF(J22="URGS",4,IF(J22="URGO",8, IF(J22="PS",8,""))))))))))-J27), IF(AND(J22="PS",J20="S"),4,IF(J22="M",6,IF(J22="T",5,IF(J22="C",11,IF(J22="N",0,IF(J22="NF",0,IF(J22="NFO",0, IF(J22="URGS",4,IF(J22="URGO",8, IF(J22="PS",8,""))))))))))) -> 0 | K23: =IF(K27>0,(IF(AND(K22="PS",K20="S"),4,IF(K22="M",6,IF(K22="T",5,IF(K22="C",11,IF(K22="N",0,IF(K22="NF",0,IF(K22="NFO",0, IF(K22="URGS",4,IF(K22="URGO",8, IF(K22="PS",8,""))))))))))-K27), IF(AND(K22="PS",K20="S"),4,IF(K22="M",6,IF(K22="T",5,IF(K22="C",11,IF(K22="N",0,IF(K22="NF",0,IF(K22="NFO",0, IF(K22="URGS",4,IF(K22="URGO",8, IF(K22="PS",8,""))))))))))) | L23: =IF(L27>0,(IF(AND(L22="PS",L20="S"),4,IF(L22="M",6,IF(L22="T",5,IF(L22="C",11,IF(L22="N",0,IF(L22="NF",0,IF(L22="NFO",0, IF(L22="URGS",4,IF(L22="URGO",8, IF(L22="PS",8,""))))))))))-L27), IF(AND(L22="PS",L20="S"),4,IF(L22="M",6,IF(L22="T",5,IF(L22="C",11,IF(L22="N",0,IF(L22="NF",0,IF(L22="NFO",0, IF(L22="URGS",4,IF(L22="URGO",8, IF(L22="PS",8,""))))))))))) -> 0 | ... AI23: =IF(AI27>0,(IF(AND(AI22="PS",AI20="S"),4,IF(AI22="M",6,IF(AI22="T",5,IF(AI22="C",11,IF(AI22="N",0,IF(AI22="NF",0,IF(AI22="NFO",0, IF(AI22="URGS",4,IF(AI22="URGO",8, IF(AI22="PS",8,""))))))))))-AI27), IF(AND(AI22="PS",AI20="S"),4,IF(AI22="M",6,IF(AI22="T",5,IF(AI22="C",11,IF(AI22="N",0,IF(AI22="NF",0,IF(AI22="NFO",0, IF(AI22="URGS",4,IF(AI22="URGO",8, IF(AI22="PS",8,"")))))))))))
A24: Hora Nocturna Ordinaria | B24: =SUM(E24:AI24) -> 184 | C24: =B19/240*35% -> 3024.3402 | D24: =B24*C24 -> 556478.6 | E24: =IF(E28>0,(IF(E22="T",1,IF(E22="C",0,IF(E22="N",11,IF(E22="NF",6, IF(E22="NFO",6, IF(E22="NFS",2,""))))))-E28), IF(E22="T",1,IF(E22="C",0,IF(E22="N",8,IF(E22="NF",6, IF(E22="NFO",6, IF(E22="NFS",2,""))))))) -> 6 | F24: =IF(F28>0,(IF(F22="T",1,IF(F22="C",0,IF(F22="N",11,IF(F22="NF",6, IF(F22="NFO",6, IF(F22="NFS",2,""))))))-F28), IF(F22="T",1,IF(F22="C",0,IF(F22="N",8,IF(F22="NF",6, IF(F22="NFO",6, IF(F22="NFS",2,""))))))) -> 8 | G24: =IF(G28>0,(IF(G22="T",1,IF(G22="C",0,IF(G22="N",11,IF(G22="NF",6, IF(G22="NFO",6, IF(G22="NFS",2,""))))))-G28), IF(G22="T",1,IF(G22="C",0,IF(G22="N",8,IF(G22="NF",6, IF(G22="NFO",6, IF(G22="NFS",2,""))))))) -> 8 | H24: =IF(H28>0,(IF(H22="T",1,IF(H22="C",0,IF(H22="N",11,IF(H22="NF",6, IF(H22="NFO",6, IF(H22="NFS",2,""))))))-H28), IF(H22="T",1,IF(H22="C",0,IF(H22="N",8,IF(H22="NF",6, IF(H22="NFO",6, IF(H22="NFS",2,""))))))) -> 8 | I24: =IF(I28>0,(IF(I22="T",1,IF(I22="C",0,IF(I22="N",11,IF(I22="NF",6, IF(I22="NFO",6, IF(I22="NFS",2,""))))))-I28), IF(I22="T",1,IF(I22="C",0,IF(I22="N",8,IF(I22="NF",6, IF(I22="NFO",6, IF(I22="NFS",2,""))))))) | J24: =IF(J28>0,(IF(J22="T",1,IF(J22="C",0,IF(J22="N",11,IF(J22="NF",6, IF(J22="NFO",6, IF(J22="NFS",2,""))))))-J28), IF(J22="T",1,IF(J22="C",0,IF(J22="N",8,IF(J22="NF",6, IF(J22="NFO",6, IF(J22="NFS",2,""))))))) -> 8 | K24: =IF(K28>0,(IF(K22="T",1,IF(K22="C",0,IF(K22="N",11,IF(K22="NF",6, IF(K22="NFO",6, IF(K22="NFS",2,""))))))-K28), IF(K22="T",1,IF(K22="C",0,IF(K22="N",8,IF(K22="NF",6, IF(K22="NFO",6, IF(K22="NFS",2,""))))))) -> 2 | L24: =IF(L28>0,(IF(L22="T",1,IF(L22="C",0,IF(L22="N",11,IF(L22="NF",6, IF(L22="NFO",6, IF(L22="NFS",2,""))))))-L28), IF(L22="T",1,IF(L22="C",0,IF(L22="N",8,IF(L22="NF",6, IF(L22="NFO",6, IF(L22="NFS",2,""))))))) -> 6 | ... AI24: =IF(AI28>0,(IF(AI22="T",1,IF(AI22="C",0,IF(AI22="N",11,IF(AI22="NF",6, IF(AI22="NFO",6, IF(AI22="NFS",2,""))))))-AI28), IF(AI22="T",1,IF(AI22="C",0,IF(AI22="N",8,IF(AI22="NF",6, IF(AI22="NFO",6, IF(AI22="NFS",2,"")))))))
A25: Hora Diurna Festiva | B25: =SUM(E25:AI25) -> 0 | C25: =B19/240*180% -> 15553.75 | D25: =B25*C25 -> 0 | E25: =IF(E29>0, (IF(E22="MF",8,IF(E22="TF",7,IF(E22="CF",12,IF(E22="NF",0, IF(E22="NFS",0, IF(E22="NFF",0, IF(E22="NFFF",0,"")))))))-E29), IF(E22="MF",8,IF(E22="TF",7,IF(E22="CF",12,IF(E22="NF",0, IF(E22="NFS",0, IF(E22="NFF",0, IF(E22="NFFF",0,"")))))))) | F25: =IF(F29>0, (IF(F22="MF",8,IF(F22="TF",7,IF(F22="CF",12,IF(F22="NF",0, IF(F22="NFS",0, IF(F22="NFF",0, IF(F22="NFFF",0,"")))))))-F29), IF(F22="MF",8,IF(F22="TF",7,IF(F22="CF",12,IF(F22="NF",0, IF(F22="NFS",0, IF(F22="NFF",0, IF(F22="NFFF",0,"")))))))) | G25: =IF(G29>0, (IF(G22="MF",8,IF(G22="TF",7,IF(G22="CF",12,IF(G22="NF",0, IF(G22="NFS",0, IF(G22="NFF",0, IF(G22="NFFF",0,"")))))))-G29), IF(G22="MF",8,IF(G22="TF",7,IF(G22="CF",12,IF(G22="NF",0, IF(G22="NFS",0, IF(G22="NFF",0, IF(G22="NFFF",0,"")))))))) | H25: =IF(H29>0, (IF(H22="MF",8,IF(H22="TF",7,IF(H22="CF",12,IF(H22="NF",0, IF(H22="NFS",0, IF(H22="NFF",0, IF(H22="NFFF",0,"")))))))-H29), IF(H22="MF",8,IF(H22="TF",7,IF(H22="CF",12,IF(H22="NF",0, IF(H22="NFS",0, IF(H22="NFF",0, IF(H22="NFFF",0,"")))))))) | I25: =IF(I29>0, (IF(I22="MF",8,IF(I22="TF",7,IF(I22="CF",12,IF(I22="NF",0, IF(I22="NFS",0, IF(I22="NFF",0, IF(I22="NFFF",0,"")))))))-I29), IF(I22="MF",8,IF(I22="TF",7,IF(I22="CF",12,IF(I22="NF",0, IF(I22="NFS",0, IF(I22="NFF",0, IF(I22="NFFF",0,"")))))))) | J25: =IF(J29>0, (IF(J22="MF",8,IF(J22="TF",7,IF(J22="CF",12,IF(J22="NF",0, IF(J22="NFS",0, IF(J22="NFF",0, IF(J22="NFFF",0,"")))))))-J29), IF(J22="MF",8,IF(J22="TF",7,IF(J22="CF",12,IF(J22="NF",0, IF(J22="NFS",0, IF(J22="NFF",0, IF(J22="NFFF",0,"")))))))) | K25: =IF(K29>0, (IF(K22="MF",8,IF(K22="TF",7,IF(K22="CF",12,IF(K22="NF",0, IF(K22="NFS",0, IF(K22="NFF",0, IF(K22="NFFF",0,"")))))))-K29), IF(K22="MF",8,IF(K22="TF",7,IF(K22="CF",12,IF(K22="NF",0, IF(K22="NFS",0, IF(K22="NFF",0, IF(K22="NFFF",0,"")))))))) -> 0 | L25: =IF(L29>0, (IF(L22="MF",8,IF(L22="TF",7,IF(L22="CF",12,IF(L22="NF",0, IF(L22="NFS",0, IF(L22="NFF",0, IF(L22="NFFF",0,"")))))))-L29), IF(L22="MF",8,IF(L22="TF",7,IF(L22="CF",12,IF(L22="NF",0, IF(L22="NFS",0, IF(L22="NFF",0, IF(L22="NFFF",0,"")))))))) | ... AI25: =IF(AI29>0, (IF(AI22="MF",8,IF(AI22="TF",7,IF(AI22="CF",12,IF(AI22="NF",0, IF(AI22="NFS",0, IF(AI22="NFF",0, IF(AI22="NFFF",0,"")))))))-AI29), IF(AI22="MF",8,IF(AI22="TF",7,IF(AI22="CF",12,IF(AI22="NF",0, IF(AI22="NFS",0, IF(AI22="NFF",0, IF(AI22="NFFF",0,""))))))))
A26: Hora Nocturna Festiva | B26: =SUM(E26:AI26) -> 32 | C26: =B19/240*215% -> 18578.09 | D26: =B26*C26 -> 594498.88 | E26: =IF(E30>0,( IF(E22="TF",1,IF(E22="CF",1,IF(E22="NF",5, IF(E22="NFO",2, IF(E22="NFS",6, IF(E22="NFF",8, IF(E22="NFFF",8,"")))))))-E30), IF(E22="TF",1,IF(E22="CF",1,IF(E22="NF",2, IF(E22="NFO",2, IF(E22="NFS",6, IF(E22="NFF",8, IF(E22="NFFF",8,"")))))))) -> 2 | F26: =IF(F30>0,( IF(F22="TF",1,IF(F22="CF",1,IF(F22="NF",5, IF(F22="NFO",2, IF(F22="NFS",6, IF(F22="NFF",8, IF(F22="NFFF",8,"")))))))-F30), IF(F22="TF",1,IF(F22="CF",1,IF(F22="NF",2, IF(F22="NFO",2, IF(F22="NFS",6, IF(F22="NFF",8, IF(F22="NFFF",8,"")))))))) | G26: =IF(G30>0,( IF(G22="TF",1,IF(G22="CF",1,IF(G22="NF",5, IF(G22="NFO",2, IF(G22="NFS",6, IF(G22="NFF",8, IF(G22="NFFF",8,"")))))))-G30), IF(G22="TF",1,IF(G22="CF",1,IF(G22="NF",2, IF(G22="NFO",2, IF(G22="NFS",6, IF(G22="NFF",8, IF(G22="NFFF",8,"")))))))) | H26: =IF(H30>0,( IF(H22="TF",1,IF(H22="CF",1,IF(H22="NF",5, IF(H22="NFO",2, IF(H22="NFS",6, IF(H22="NFF",8, IF(H22="NFFF",8,"")))))))-H30), IF(H22="TF",1,IF(H22="CF",1,IF(H22="NF",2, IF(H22="NFO",2, IF(H22="NFS",6, IF(H22="NFF",8, IF(H22="NFFF",8,"")))))))) | I26: =IF(I30>0,( IF(I22="TF",1,IF(I22="CF",1,IF(I22="NF",5, IF(I22="NFO",2, IF(I22="NFS",6, IF(I22="NFF",8, IF(I22="NFFF",8,"")))))))-I30), IF(I22="TF",1,IF(I22="CF",1,IF(I22="NF",2, IF(I22="NFO",2, IF(I22="NFS",6, IF(I22="NFF",8, IF(I22="NFFF",8,"")))))))) | J26: =IF(J30>0,( IF(J22="TF",1,IF(J22="CF",1,IF(J22="NF",5, IF(J22="NFO",2, IF(J22="NFS",6, IF(J22="NFF",8, IF(J22="NFFF",8,"")))))))-J30), IF(J22="TF",1,IF(J22="CF",1,IF(J22="NF",2, IF(J22="NFO",2, IF(J22="NFS",6, IF(J22="NFF",8, IF(J22="NFFF",8,"")))))))) | K26: =IF(K30>0,( IF(K22="TF",1,IF(K22="CF",1,IF(K22="NF",5, IF(K22="NFO",2, IF(K22="NFS",6, IF(K22="NFF",8, IF(K22="NFFF",8,"")))))))-K30), IF(K22="TF",1,IF(K22="CF",1,IF(K22="NF",2, IF(K22="NFO",2, IF(K22="NFS",6, IF(K22="NFF",8, IF(K22="NFFF",8,"")))))))) -> 6 | L26: =IF(L30>0,( IF(L22="TF",1,IF(L22="CF",1,IF(L22="NF",5, IF(L22="NFO",2, IF(L22="NFS",6, IF(L22="NFF",8, IF(L22="NFFF",8,"")))))))-L30), IF(L22="TF",1,IF(L22="CF",1,IF(L22="NF",2, IF(L22="NFO",2, IF(L22="NFS",6, IF(L22="NFF",8, IF(L22="NFFF",8,"")))))))) -> 2 | ... AI26: =IF(AI30>0,( IF(AI22="TF",1,IF(AI22="CF",1,IF(AI22="NF",5, IF(AI22="NFO",2, IF(AI22="NFS",6, IF(AI22="NFF",8, IF(AI22="NFFF",8,"")))))))-AI30), IF(AI22="TF",1,IF(AI22="CF",1,IF(AI22="NF",2, IF(AI22="NFO",2, IF(AI22="NFS",6, IF(AI22="NFF",8, IF(AI22="NFFF",8,""))))))))
A27: Hora Diurna Extra | B27: =SUM(E27:AK27) -> 0 | C27: =B19/240*125% -> 10801.215 | D27: =B27*C27 -> 0
A28: Hora Nocturna Extra | B28: =SUM(E28:AK28) -> 0 | C28: =B19/240*175% -> 15121.701 | D28: =B28*C28 -> 0
A29: Hora Diurna Extra Festiva | B29: =SUM(E29:AK29) -> 0 | C29: =B19/240*200% -> 17281.944 | D29: =B29*C29 -> 0
A30: Hora Nocturna Extra Festiva | B30: =SUM(E30:AK30) -> 0 | C30: =B19/240*250% -> 21602.43 | D30: =B30*C30 -> 0
B31: =SUM(B23:B30) -> 216 | D31: =ROUND((SUM(D23:D30)),0) -> 1150977
B32: =SUM(B23:B26)-$AL$4 -> 40
A33: Sueldo Básico MARZO 2026 | B33: =B19 -> 2073833.3 | E33: =+D33+1 -> 1 | F33: =+E33+1 -> 2 | G33: =+F33+1 -> 3 | H33: =+G33+1 -> 4 | I33: =+H33+1 -> 5 | J33: =+I33+1 -> 6 | K33: =+J33+1 -> 7 | L33: =+K33+1 -> 8 | ... AF33: =+AE33+1 -> 28 | AG33: 29 | AH33: 30 | AI33: 31
B34: # H | C34: Vr.Hora | D34: Vr.Total | E34: D | F34: L | G34: M | H34: M | I34: J | J34: V | K34: S | L34: D | M34: L | N34: M | O34: M | P34: J | Q34: V | R34: S | S34: D | T34: L | U34: M | V34: M | W34: J | X34: V | Y34: S | Z34: D | AA34: F | AB34: M | AC34: M | AD34: J | AE34: V | AF34: S | AG34: D | AH34: L | AI34: M
A35: Turno | B35: APH | E35: N | F35: N | G35: N | H35: N | I35: N | J35: N | K35: N | L35: N | M35: N | N35: N | O35: N | P35: N | Q35: N | R35: N | S35: N | T35: N | U35: N | V35: N | W35: N | X35: N | Y35: N | Z35: N | AA35: N | AB35: N | AC35: N | AD35: N | AE35: N | AF35: N | AG35: N | AH35: N | AI35: N
A36: FORMULA NO BORRAR | E36: =IF(AND(E35="URG",E34="S"),"URGS",IF(AND(E35="N",E34="F",F34="F"),"NFFF",IF(AND(E35="N",E34="D",F34="F"),"NFF",IF(AND(E35="N",E34="D"),"NFO",IF(AND(E35="N",E34="S"),"NFS",IF(AND(E35="N",E34="F"),"NF",IF(AND(E35="N",E34="D"),"NF",IF(E35="N","N",IF(AND(E35="M",E34="F"),"MF",IF(AND(E35="M",E34="D"),"MF",IF(E35="M","M",IF(AND(E35="T",E34="F"),"TF",IF(AND(E35="T",E34="D"),"TF",IF(E35="T","T",IF(AND(E35="C",E34="F"),"CF",IF(AND(E35="C",E34="D"),"CF",IF(E35="C","C",IF(AND(E35="L",E34="F"),"LF",IF(AND(E35="L",E34="D"),"LF", IF(E35="L","L",IF(E35="SC","PS", IF(E35="SA","PS",IF(E35="TV","PS", IF(E35="MI","PS", IF(E35="MT","PS", IF(E35="URG","URGO","")))))))))))))))))))))))))) -> NFO | F36: =IF(AND(F35="URG",F34="S"),"URGS",IF(AND(F35="N",F34="F",G34="F"),"NFFF",IF(AND(F35="N",F34="D",G34="F"),"NFF",IF(AND(F35="N",F34="D"),"NFO",IF(AND(F35="N",F34="S"),"NFS",IF(AND(F35="N",F34="F"),"NF",IF(AND(F35="N",F34="D"),"NF",IF(F35="N","N",IF(AND(F35="M",F34="F"),"MF",IF(AND(F35="M",F34="D"),"MF",IF(F35="M","M",IF(AND(F35="T",F34="F"),"TF",IF(AND(F35="T",F34="D"),"TF",IF(F35="T","T",IF(AND(F35="C",F34="F"),"CF",IF(AND(F35="C",F34="D"),"CF",IF(F35="C","C",IF(AND(F35="L",F34="F"),"LF",IF(AND(F35="L",F34="D"),"LF", IF(F35="L","L",IF(F35="SC","PS", IF(F35="SA","PS",IF(F35="TV","PS", IF(F35="MI","PS", IF(F35="MT","PS", IF(F35="URG","URGO","")))))))))))))))))))))))))) -> N | G36: =IF(AND(G35="URG",G34="S"),"URGS",IF(AND(G35="N",G34="F",H34="F"),"NFFF",IF(AND(G35="N",G34="D",H34="F"),"NFF",IF(AND(G35="N",G34="D"),"NFO",IF(AND(G35="N",G34="S"),"NFS",IF(AND(G35="N",G34="F"),"NF",IF(AND(G35="N",G34="D"),"NF",IF(G35="N","N",IF(AND(G35="M",G34="F"),"MF",IF(AND(G35="M",G34="D"),"MF",IF(G35="M","M",IF(AND(G35="T",G34="F"),"TF",IF(AND(G35="T",G34="D"),"TF",IF(G35="T","T",IF(AND(G35="C",G34="F"),"CF",IF(AND(G35="C",G34="D"),"CF",IF(G35="C","C",IF(AND(G35="L",G34="F"),"LF",IF(AND(G35="L",G34="D"),"LF", IF(G35="L","L",IF(G35="SC","PS", IF(G35="SA","PS",IF(G35="TV","PS", IF(G35="MI","PS", IF(G35="MT","PS", IF(G35="URG","URGO","")))))))))))))))))))))))))) -> N | H36: =IF(AND(H35="URG",H34="S"),"URGS",IF(AND(H35="N",H34="F",I34="F"),"NFFF",IF(AND(H35="N",H34="D",I34="F"),"NFF",IF(AND(H35="N",H34="D"),"NFO",IF(AND(H35="N",H34="S"),"NFS",IF(AND(H35="N",H34="F"),"NF",IF(AND(H35="N",H34="D"),"NF",IF(H35="N","N",IF(AND(H35="M",H34="F"),"MF",IF(AND(H35="M",H34="D"),"MF",IF(H35="M","M",IF(AND(H35="T",H34="F"),"TF",IF(AND(H35="T",H34="D"),"TF",IF(H35="T","T",IF(AND(H35="C",H34="F"),"CF",IF(AND(H35="C",H34="D"),"CF",IF(H35="C","C",IF(AND(H35="L",H34="F"),"LF",IF(AND(H35="L",H34="D"),"LF", IF(H35="L","L",IF(H35="SC","PS", IF(H35="SA","PS",IF(H35="TV","PS", IF(H35="MI","PS", IF(H35="MT","PS", IF(H35="URG","URGO","")))))))))))))))))))))))))) -> N | J36: =IF(AND(J35="URG",J34="S"),"URGS",IF(AND(J35="N",J34="F",K34="F"),"NFFF",IF(AND(J35="N",J34="D",K34="F"),"NFF",IF(AND(J35="N",J34="D"),"NFO",IF(AND(J35="N",J34="S"),"NFS",IF(AND(J35="N",J34="F"),"NF",IF(AND(J35="N",J34="D"),"NF",IF(J35="N","N",IF(AND(J35="M",J34="F"),"MF",IF(AND(J35="M",J34="D"),"MF",IF(J35="M","M",IF(AND(J35="T",J34="F"),"TF",IF(AND(J35="T",J34="D"),"TF",IF(J35="T","T",IF(AND(J35="C",J34="F"),"CF",IF(AND(J35="C",J34="D"),"CF",IF(J35="C","C",IF(AND(J35="L",J34="F"),"LF",IF(AND(J35="L",J34="D"),"LF", IF(J35="L","L",IF(J35="SC","PS", IF(J35="SA","PS",IF(J35="TV","PS", IF(J35="MI","PS", IF(J35="MT","PS", IF(J35="URG","URGO","")))))))))))))))))))))))))) -> N | K36: =IF(AND(K35="URG",K34="S"),"URGS",IF(AND(K35="N",K34="F",L34="F"),"NFFF",IF(AND(K35="N",K34="D",L34="F"),"NFF",IF(AND(K35="N",K34="D"),"NFO",IF(AND(K35="N",K34="S"),"NFS",IF(AND(K35="N",K34="F"),"NF",IF(AND(K35="N",K34="D"),"NF",IF(K35="N","N",IF(AND(K35="M",K34="F"),"MF",IF(AND(K35="M",K34="D"),"MF",IF(K35="M","M",IF(AND(K35="T",K34="F"),"TF",IF(AND(K35="T",K34="D"),"TF",IF(K35="T","T",IF(AND(K35="C",K34="F"),"CF",IF(AND(K35="C",K34="D"),"CF",IF(K35="C","C",IF(AND(K35="L",K34="F"),"LF",IF(AND(K35="L",K34="D"),"LF", IF(K35="L","L",IF(K35="SC","PS", IF(K35="SA","PS",IF(K35="TV","PS", IF(K35="MI","PS", IF(K35="MT","PS", IF(K35="URG","URGO","")))))))))))))))))))))))))) -> NFS | L36: =IF(AND(L35="URG",L34="S"),"URGS",IF(AND(L35="N",L34="F",M34="F"),"NFFF",IF(AND(L35="N",L34="D",M34="F"),"NFF",IF(AND(L35="N",L34="D"),"NFO",IF(AND(L35="N",L34="S"),"NFS",IF(AND(L35="N",L34="F"),"NF",IF(AND(L35="N",L34="D"),"NF",IF(L35="N","N",IF(AND(L35="M",L34="F"),"MF",IF(AND(L35="M",L34="D"),"MF",IF(L35="M","M",IF(AND(L35="T",L34="F"),"TF",IF(AND(L35="T",L34="D"),"TF",IF(L35="T","T",IF(AND(L35="C",L34="F"),"CF",IF(AND(L35="C",L34="D"),"CF",IF(L35="C","C",IF(AND(L35="L",L34="F"),"LF",IF(AND(L35="L",L34="D"),"LF", IF(L35="L","L",IF(L35="SC","PS", IF(L35="SA","PS",IF(L35="TV","PS", IF(L35="MI","PS", IF(L35="MT","PS", IF(L35="URG","URGO","")))))))))))))))))))))))))) -> NFO | M36: =IF(AND(M35="URG",M34="S"),"URGS",IF(AND(M35="N",M34="F",N34="F"),"NFFF",IF(AND(M35="N",M34="D",N34="F"),"NFF",IF(AND(M35="N",M34="D"),"NFO",IF(AND(M35="N",M34="S"),"NFS",IF(AND(M35="N",M34="F"),"NF",IF(AND(M35="N",M34="D"),"NF",IF(M35="N","N",IF(AND(M35="M",M34="F"),"MF",IF(AND(M35="M",M34="D"),"MF",IF(M35="M","M",IF(AND(M35="T",M34="F"),"TF",IF(AND(M35="T",M34="D"),"TF",IF(M35="T","T",IF(AND(M35="C",M34="F"),"CF",IF(AND(M35="C",M34="D"),"CF",IF(M35="C","C",IF(AND(M35="L",M34="F"),"LF",IF(AND(M35="L",M34="D"),"LF", IF(M35="L","L",IF(M35="SC","PS", IF(M35="SA","PS",IF(M35="TV","PS", IF(M35="MI","PS", IF(M35="MT","PS", IF(M35="URG","URGO","")))))))))))))))))))))))))) -> N | N36: =IF(AND(N35="URG",N34="S"),"URGS",IF(AND(N35="N",N34="F",O34="F"),"NFFF",IF(AND(N35="N",N34="D",O34="F"),"NFF",IF(AND(N35="N",N34="D"),"NFO",IF(AND(N35="N",N34="S"),"NFS",IF(AND(N35="N",N34="F"),"NF",IF(AND(N35="N",N34="D"),"NF",IF(N35="N","N",IF(AND(N35="M",N34="F"),"MF",IF(AND(N35="M",N34="D"),"MF",IF(N35="M","M",IF(AND(N35="T",N34="F"),"TF",IF(AND(N35="T",N34="D"),"TF",IF(N35="T","T",IF(AND(N35="C",N34="F"),"CF",IF(AND(N35="C",N34="D"),"CF",IF(N35="C","C",IF(AND(N35="L",N34="F"),"LF",IF(AND(N35="L",N34="D"),"LF", IF(N35="L","L",IF(N35="SC","PS", IF(N35="SA","PS",IF(N35="TV","PS", IF(N35="MI","PS", IF(N35="MT","PS", IF(N35="URG","URGO","")))))))))))))))))))))))))) -> N | O36: =IF(AND(O35="URG",O34="S"),"URGS",IF(AND(O35="N",O34="F",P34="F"),"NFFF",IF(AND(O35="N",O34="D",P34="F"),"NFF",IF(AND(O35="N",O34="D"),"NFO",IF(AND(O35="N",O34="S"),"NFS",IF(AND(O35="N",O34="F"),"NF",IF(AND(O35="N",O34="D"),"NF",IF(O35="N","N",IF(AND(O35="M",O34="F"),"MF",IF(AND(O35="M",O34="D"),"MF",IF(O35="M","M",IF(AND(O35="T",O34="F"),"TF",IF(AND(O35="T",O34="D"),"TF",IF(O35="T","T",IF(AND(O35="C",O34="F"),"CF",IF(AND(O35="C",O34="D"),"CF",IF(O35="C","C",IF(AND(O35="L",O34="F"),"LF",IF(AND(O35="L",O34="D"),"LF", IF(O35="L","L",IF(O35="SC","PS", IF(O35="SA","PS",IF(O35="TV","PS", IF(O35="MI","PS", IF(O35="MT","PS", IF(O35="URG","URGO","")))))))))))))))))))))))))) -> N | P36: =IF(AND(P35="URG",P34="S"),"URGS",IF(AND(P35="N",P34="F",Q34="F"),"NFFF",IF(AND(P35="N",P34="D",Q34="F"),"NFF",IF(AND(P35="N",P34="D"),"NFO",IF(AND(P35="N",P34="S"),"NFS",IF(AND(P35="N",P34="F"),"NF",IF(AND(P35="N",P34="D"),"NF",IF(P35="N","N",IF(AND(P35="M",P34="F"),"MF",IF(AND(P35="M",P34="D"),"MF",IF(P35="M","M",IF(AND(P35="T",P34="F"),"TF",IF(AND(P35="T",P34="D"),"TF",IF(P35="T","T",IF(AND(P35="C",P34="F"),"CF",IF(AND(P35="C",P34="D"),"CF",IF(P35="C","C",IF(AND(P35="L",P34="F"),"LF",IF(AND(P35="L",P34="D"),"LF", IF(P35="L","L",IF(P35="SC","PS", IF(P35="SA","PS",IF(P35="TV","PS", IF(P35="MI","PS", IF(P35="MT","PS", IF(P35="URG","URGO","")))))))))))))))))))))))))) -> N | Q36: =IF(AND(Q35="URG",Q34="S"),"URGS",IF(AND(Q35="N",Q34="F",R34="F"),"NFFF",IF(AND(Q35="N",Q34="D",R34="F"),"NFF",IF(AND(Q35="N",Q34="D"),"NFO",IF(AND(Q35="N",Q34="S"),"NFS",IF(AND(Q35="N",Q34="F"),"NF",IF(AND(Q35="N",Q34="D"),"NF",IF(Q35="N","N",IF(AND(Q35="M",Q34="F"),"MF",IF(AND(Q35="M",Q34="D"),"MF",IF(Q35="M","M",IF(AND(Q35="T",Q34="F"),"TF",IF(AND(Q35="T",Q34="D"),"TF",IF(Q35="T","T",IF(AND(Q35="C",Q34="F"),"CF",IF(AND(Q35="C",Q34="D"),"CF",IF(Q35="C","C",IF(AND(Q35="L",Q34="F"),"LF",IF(AND(Q35="L",Q34="D"),"LF", IF(Q35="L","L",IF(Q35="SC","PS", IF(Q35="SA","PS",IF(Q35="TV","PS", IF(Q35="MI","PS", IF(Q35="MT","PS", IF(Q35="URG","URGO","")))))))))))))))))))))))))) -> N | ... AI36: =IF(AND(AI35="URG",AI34="S"),"URGS",IF(AND(AI35="N",AI34="F",AJ34="F"),"NFFF",IF(AND(AI35="N",AI34="D",AJ34="F"),"NFF",IF(AND(AI35="N",AI34="D"),"NFO",IF(AND(AI35="N",AI34="S"),"NFS",IF(AND(AI35="N",AI34="F"),"NF",IF(AND(AI35="N",AI34="D"),"NF",IF(AI35="N","N",IF(AND(AI35="M",AI34="F"),"MF",IF(AND(AI35="M",AI34="D"),"MF",IF(AI35="M","M",IF(AND(AI35="T",AI34="F"),"TF",IF(AND(AI35="T",AI34="D"),"TF",IF(AI35="T","T",IF(AND(AI35="C",AI34="F"),"CF",IF(AND(AI35="C",AI34="D"),"CF",IF(AI35="C","C",IF(AND(AI35="L",AI34="F"),"LF",IF(AND(AI35="L",AI34="D"),"LF", IF(AI35="L","L",IF(AI35="SC","PS", IF(AI35="SA","PS",IF(AI35="TV","PS", IF(AI35="MI","PS", IF(AI35="MT","PS", IF(AI35="URG","URGO","")))))))))))))))))))))))))) -> N
A37: Hora Diurna Ordinaria | B37: =SUM(E37:AK37) -> 0 | C37: =B33/240 -> 8640.9721 | D37: =B37*C37*0 -> 0 | E37: =IF(E41>0,(IF(AND(E36="PS",E34="S"),4,IF(E36="M",6,IF(E36="T",5,IF(E36="C",11,IF(E36="N",0,IF(E36="NF",0,IF(E36="NFO",0, IF(E36="URGS",4,IF(E36="URGO",8, IF(E36="PS",8,""))))))))))-E41), IF(AND(E36="PS",E34="S"),4,IF(E36="M",6,IF(E36="T",5,IF(E36="C",11,IF(E36="N",0,IF(E36="NF",0,IF(E36="NFO",0, IF(E36="URGS",4,IF(E36="URGO",8, IF(E36="PS",8,""))))))))))) -> 0 | F37: =IF(F41>0,(IF(AND(F36="PS",F34="S"),4,IF(F36="M",6,IF(F36="T",5,IF(F36="C",11,IF(F36="N",0,IF(F36="NF",0,IF(F36="NFO",0, IF(F36="URGS",4,IF(F36="URGO",8, IF(F36="PS",8,""))))))))))-F41), IF(AND(F36="PS",F34="S"),4,IF(F36="M",6,IF(F36="T",5,IF(F36="C",11,IF(F36="N",0,IF(F36="NF",0,IF(F36="NFO",0, IF(F36="URGS",4,IF(F36="URGO",8, IF(F36="PS",8,""))))))))))) -> 0 | G37: =IF(G41>0,(IF(AND(G36="PS",G34="S"),4,IF(G36="M",6,IF(G36="T",5,IF(G36="C",11,IF(G36="N",0,IF(G36="NF",0,IF(G36="NFO",0, IF(G36="URGS",4,IF(G36="URGO",8, IF(G36="PS",8,""))))))))))-G41), IF(AND(G36="PS",G34="S"),4,IF(G36="M",6,IF(G36="T",5,IF(G36="C",11,IF(G36="N",0,IF(G36="NF",0,IF(G36="NFO",0, IF(G36="URGS",4,IF(G36="URGO",8, IF(G36="PS",8,""))))))))))) -> 0 | H37: =IF(H41>0,(IF(AND(H36="PS",H34="S"),4,IF(H36="M",6,IF(H36="T",5,IF(H36="C",11,IF(H36="N",0,IF(H36="NF",0,IF(H36="NFO",0, IF(H36="URGS",4,IF(H36="URGO",8, IF(H36="PS",8,""))))))))))-H41), IF(AND(H36="PS",H34="S"),4,IF(H36="M",6,IF(H36="T",5,IF(H36="C",11,IF(H36="N",0,IF(H36="NF",0,IF(H36="NFO",0, IF(H36="URGS",4,IF(H36="URGO",8, IF(H36="PS",8,""))))))))))) -> 0 | I37: =IF(I41>0,(IF(AND(I36="PS",I34="S"),4,IF(I36="M",6,IF(I36="T",5,IF(I36="C",11,IF(I36="N",0,IF(I36="NF",0,IF(I36="NFO",0, IF(I36="URGS",4,IF(I36="URGO",8, IF(I36="PS",8,""))))))))))-I41), IF(AND(I36="PS",I34="S"),4,IF(I36="M",6,IF(I36="T",5,IF(I36="C",11,IF(I36="N",0,IF(I36="NF",0,IF(I36="NFO",0, IF(I36="URGS",4,IF(I36="URGO",8, IF(I36="PS",8,""))))))))))) | J37: =IF(J41>0,(IF(AND(J36="PS",J34="S"),4,IF(J36="M",6,IF(J36="T",5,IF(J36="C",11,IF(J36="N",0,IF(J36="NF",0,IF(J36="NFO",0, IF(J36="URGS",4,IF(J36="URGO",8, IF(J36="PS",8,""))))))))))-J41), IF(AND(J36="PS",J34="S"),4,IF(J36="M",6,IF(J36="T",5,IF(J36="C",11,IF(J36="N",0,IF(J36="NF",0,IF(J36="NFO",0, IF(J36="URGS",4,IF(J36="URGO",8, IF(J36="PS",8,""))))))))))) -> 0 | K37: =IF(K41>0,(IF(AND(K36="PS",K34="S"),4,IF(K36="M",6,IF(K36="T",5,IF(K36="C",11,IF(K36="N",0,IF(K36="NF",0,IF(K36="NFO",0, IF(K36="URGS",4,IF(K36="URGO",8, IF(K36="PS",8,""))))))))))-K41), IF(AND(K36="PS",K34="S"),4,IF(K36="M",6,IF(K36="T",5,IF(K36="C",11,IF(K36="N",0,IF(K36="NF",0,IF(K36="NFO",0, IF(K36="URGS",4,IF(K36="URGO",8, IF(K36="PS",8,""))))))))))) | L37: =IF(L41>0,(IF(AND(L36="PS",L34="S"),4,IF(L36="M",6,IF(L36="T",5,IF(L36="C",11,IF(L36="N",0,IF(L36="NF",0,IF(L36="NFO",0, IF(L36="URGS",4,IF(L36="URGO",8, IF(L36="PS",8,""))))))))))-L41), IF(AND(L36="PS",L34="S"),4,IF(L36="M",6,IF(L36="T",5,IF(L36="C",11,IF(L36="N",0,IF(L36="NF",0,IF(L36="NFO",0, IF(L36="URGS",4,IF(L36="URGO",8, IF(L36="PS",8,""))))))))))) -> 0 | ... AI37: =IF(AI41>0,(IF(AND(AI36="PS",AI34="S"),4,IF(AI36="M",6,IF(AI36="T",5,IF(AI36="C",11,IF(AI36="N",0,IF(AI36="NF",0,IF(AI36="NFO",0, IF(AI36="URGS",4,IF(AI36="URGO",8, IF(AI36="PS",8,""))))))))))-AI41), IF(AND(AI36="PS",AI34="S"),4,IF(AI36="M",6,IF(AI36="T",5,IF(AI36="C",11,IF(AI36="N",0,IF(AI36="NF",0,IF(AI36="NFO",0, IF(AI36="URGS",4,IF(AI36="URGO",8, IF(AI36="PS",8,""))))))))))) -> 0
A38: Hora Nocturna Ordinaria | B38: =SUM(E38:AK38) -> 198 | C38: =B33/240*35% -> 3024.3402 | D38: =B38*C38 -> 598819.37 | E38: =IF(E42>0,(IF(E36="T",1,IF(E36="C",0,IF(E36="N",11,IF(E36="NF",6, IF(E36="NFO",6, IF(E36="NFS",2,""))))))-E42), IF(E36="T",1,IF(E36="C",0,IF(E36="N",8,IF(E36="NF",6, IF(E36="NFO",6, IF(E36="NFS",2,""))))))) -> 6 | F38: =IF(F42>0,(IF(F36="T",1,IF(F36="C",0,IF(F36="N",11,IF(F36="NF",6, IF(F36="NFO",6, IF(F36="NFS",2,""))))))-F42), IF(F36="T",1,IF(F36="C",0,IF(F36="N",8,IF(F36="NF",6, IF(F36="NFO",6, IF(F36="NFS",2,""))))))) -> 8 | G38: =IF(G42>0,(IF(G36="T",1,IF(G36="C",0,IF(G36="N",11,IF(G36="NF",6, IF(G36="NFO",6, IF(G36="NFS",2,""))))))-G42), IF(G36="T",1,IF(G36="C",0,IF(G36="N",8,IF(G36="NF",6, IF(G36="NFO",6, IF(G36="NFS",2,""))))))) -> 8 | H38: =IF(H42>0,(IF(H36="T",1,IF(H36="C",0,IF(H36="N",11,IF(H36="NF",6, IF(H36="NFO",6, IF(H36="NFS",2,""))))))-H42), IF(H36="T",1,IF(H36="C",0,IF(H36="N",8,IF(H36="NF",6, IF(H36="NFO",6, IF(H36="NFS",2,""))))))) -> 8 | I38: =IF(I42>0,(IF(I36="T",1,IF(I36="C",0,IF(I36="N",11,IF(I36="NF",6, IF(I36="NFO",6, IF(I36="NFS",2,""))))))-I42), IF(I36="T",1,IF(I36="C",0,IF(I36="N",8,IF(I36="NF",6, IF(I36="NFO",6, IF(I36="NFS",2,""))))))) | J38: =IF(J42>0,(IF(J36="T",1,IF(J36="C",0,IF(J36="N",11,IF(J36="NF",6, IF(J36="NFO",6, IF(J36="NFS",2,""))))))-J42), IF(J36="T",1,IF(J36="C",0,IF(J36="N",8,IF(J36="NF",6, IF(J36="NFO",6, IF(J36="NFS",2,""))))))) -> 8 | K38: =IF(K42>0,(IF(K36="T",1,IF(K36="C",0,IF(K36="N",11,IF(K36="NF",6, IF(K36="NFO",6, IF(K36="NFS",2,""))))))-K42), IF(K36="T",1,IF(K36="C",0,IF(K36="N",8,IF(K36="NF",6, IF(K36="NFO",6, IF(K36="NFS",2,""))))))) -> 2 | L38: =IF(L42>0,(IF(L36="T",1,IF(L36="C",0,IF(L36="N",11,IF(L36="NF",6, IF(L36="NFO",6, IF(L36="NFS",2,""))))))-L42), IF(L36="T",1,IF(L36="C",0,IF(L36="N",8,IF(L36="NF",6, IF(L36="NFO",6, IF(L36="NFS",2,""))))))) -> 6 | ... AI38: =IF(AI42>0,(IF(AI36="T",1,IF(AI36="C",0,IF(AI36="N",11,IF(AI36="NF",6, IF(AI36="NFO",6, IF(AI36="NFS",2,""))))))-AI42), IF(AI36="T",1,IF(AI36="C",0,IF(AI36="N",8,IF(AI36="NF",6, IF(AI36="NFO",6, IF(AI36="NFS",2,""))))))) -> 8
