Workbook

Sheet Ficha_Técnica
A1: CLASIFICACIÓN UNSPSC | B1: DESCRIPCIÓN
A2: 20102301 | B2: Transporte de personal
A3: 47131700 | B3: Suministro para aseo
A4: 90101600 | B4: Servicios de cátering
A5: 93111501 | B5: Hoteles
A6: 80111623 | B6: Servicios temporales de compra y de logística
A7: 93131608 | B7: Servicio de suministro de alimentos
A8: 43210000 | B8: Equipos y accesorios informáticos
A9: 14111500 | B9: Papel de impresión y escritura
A10: 44120000 | B10: Suministros de oficina

Sheet PROVEEDOR_No_1
A1: COMERCIALIZADORA E INVERSIONES D.O.
A2: CONSOLIDADO - FICHA TÉCNICA DE SERVICIOS Y PRODUCTOS
A3: ÍTEM | B3: DETALLE / PRODUCTO | C3: UNIDAD DE MEDIDA | D3: CANT | E3: VALOR SERVIDO EN RESTAURANTE | F3: VALOR SERVIDO EN BIODEGRADABLE
A4: 1. ALIMENTACIÓN
A5: 1.1 | B5: DESAYUNO 1 | C5: unidad | D5: 1 | E5: 24000 | F5: 27000
B6: Proteína 1: huevo cocido, frito o revuelto
B7: Proteína 2: queso, quesito o cuajada
B8: Carbohidrato: arepa o pan, o galletas o buñuelo
B9: Bebida: chocolate, café, café con leche o aguapanela
A10: 1.2 | B10: DESAYUNO 2 | C10: unidad | D10: 1 | E10: 27000 | F10: 30000
B11: Proteína 1: huevo cocido, frito o revuelto
B12: Proteína 2: carne de res o cerdo o pollo o chicharrón
B13: Proteína 3: queso, quesito o cuajada
B14: Carbohidrato 1: arepa o pan, o galletas o buñuelo
B15: Carbohidrato 2: arroz, calentado
B16: Bebida: chocolate, café, café con leche o aguapanela
A17: 1.3 | B17: ALMUERZO 1 | C17: unidad | D17: 1 | E17: 29000 | F17: 32000
B18: Proteína 1: (carne de res o cerdo, pollo o pescado)
B19: Proteína 2: (huevo cocido o frito)
B20: Carbohidrato 1: arroz
B21: Carbohidrato 2: (papa en migote, papas fritas o tajadas de maduro)
B22: Sopa: (frijoles, lentejas, arvejas, garbanzos, verduras, mondongo, pastas, guineo, patacón, sancocho, cremas o la sopa del día) Ensalada: (la del día) Bebida: (limonada, o jugo en agua, mazamorra o claro)
A23: 1.4 | B23: ALMUERZO 2: | C23: unidad | D23: 1 | E23: 27000 | F23: 30000
B24: Proteína 1: carne de res, cerdo o pollo o chicharrón.
B25: Carbohidrato1: arroz
B26: Sopa: compuesta con yuca, plátano, papa común y papa criolla
B27: Ensalada: la del día
B28: Acompañante: aguacate o banano o arepa
B29: Bebida: limonada, jugo natural, te, mazamorra o claro
A30: 1.5 | B30: CENA | C30: unidad | D30: 1 | E30: 27000 | F30: 30000
B31: Proteína 1: (carne de res o cerdo, pollo o pescado)
B32: Proteína 2: (huevo cocido o frito)
B33: Carbohidrato 1: arroz
B34: Carbohidrato 2: (papa en migote, papas fritas o tajadas de maduro)
B35: Sopa: (frijoles, lentejas, arvejas, garbanzos, verduras, mondongo, pastas, guineo, patacón, sancocho, cremas o la sopa del día)
B36: Ensalada: (la del día)
B37: Bebida: (limonada, jugo en agua, mazamorra o claro)
A38: 1.6 | B38: ALMUERZO O CENA ENVUELTO | C38: unidad | D38: 1 | E38: 35000 | F38: 38000
B39: Proteína 1: carne de res o cerdo o pollo o Chicharrón(2 opciones)
B40: Proteína 2: chorizo de cerdo, pollo o ternera
...

Sheet PROVEEDOR_No_2
A1: SOLUCIONES ANGEL DE MURANO ZOMAC SAS
A2: CONSOLIDADO - FICHA TÉCNICA DE SERVICIOS Y PRODUCTOS
A3: ÍTEM | B3: DETALLE / PRODUCTO | C3: UNIDAD DE MEDIDA | D3: CANT | E3: VALOR SERVIDO EN RESTAURANTE | F3: VALOR SERVIDO EN BIODEGRADABLE
A4: 1. ALIMENTACIÓN
A5: 1.1 | B5: DESAYUNO 1 | C5: unidad | D5: 1 | E5: 24000 | F5: 27500
B6: Proteína 1: huevo cocido, frito o revuelto
B7: Proteína 2: queso, quesito o cuajada
B8: Carbohidrato: arepa o pan, o galletas o buñuelo
B9: Bebida: chocolate, café, café con leche o aguapanela
A10: 1.2 | B10: DESAYUNO 2 | C10: unidad | D10: 1 | E10: 26500 | F10: 30000
B11: Proteína 1: huevo cocido, frito o revuelto
B12: Proteína 2: carne de res o cerdo o pollo o chicharrón
B13: Proteína 3: queso, quesito o cuajada
B14: Carbohidrato 1: arepa o pan, o galletas o buñuelo
B15: Carbohidrato 2: arroz, calentado
B16: Bebida: chocolate, café, café con leche o aguapanela
A17: 1.3 | B17: ALMUERZO 1 | C17: unidad | D17: 1 | E17: 28500 | F17: 32000
B18: Proteína 1: (carne de res o cerdo, pollo o pescado)
B19: Proteína 2: (huevo cocido o frito)
B20: Carbohidrato 1: arroz
B21: Carbohidrato 2: (papa en migote, papas fritas o tajadas de maduro)
B22: Sopa: (frijoles, lentejas, arvejas, garbanzos, verduras, mondongo, pastas, guineo, patacón, sancocho, cremas o la sopa del día) Ensalada: (la del día) Bebida: (limonada, o jugo en agua, mazamorra o claro)
A23: 1.4 | B23: ALMUERZO 2: | C23: unidad | D23: 1 | E23: 27500 | F23: 31000
B24: Proteína 1: carne de res, cerdo o pollo o chicharrón.
B25: Carbohidrato1: arroz
B26: Sopa: compuesta con yuca, plátano, papa común y papa criolla
B27: Ensalada: la del día
B28: Acompañante: aguacate o banano o arepa
B29: Bebida: limonada, jugo natural, te, mazamorra o claro
A30: 1.5 | B30: CENA | C30: unidad | D30: 1 | E30: 28000 | F30: 31000
B31: Proteína 1: (carne de res o cerdo, pollo o pescado)
B32: Proteína 2: (huevo cocido o frito)
B33: Carbohidrato 1: arroz
B34: Carbohidrato 2: (papa en migote, papas fritas o tajadas de maduro)
B35: Sopa: (frijoles, lentejas, arvejas, garbanzos, verduras, mondongo, pastas, guineo, patacón, sancocho, cremas o la sopa del día)
B36: Ensalada: (la del día)
B37: Bebida: (limonada, jugo en agua, mazamorra o claro)
A38: 1.6 | B38: ALMUERZO O CENA ENVUELTO | C38: unidad | D38: 1 | E38: 35000 | F38: 40000
B39: Proteína 1: carne de res o cerdo o pollo o Chicharrón(2 opciones)
B40: Proteína 2: chorizo de cerdo, pollo o ternera
...

Sheet PROVEEDOR_No_3
A2: CONSOLIDADO - FICHA TÉCNICA DE SERVICIOS Y PRODUCTOS
A3: ÍTEM | B3: DETALLE / PRODUCTO | C3: UNIDAD DE MEDIDA | D3: CANT | E3: VALOR SERVIDO EN RESTAURANTE | F3: VALOR SERVIDO EN BIODEGRADABLE
A4: 1. ALIMENTACIÓN
A5: 1.1 | B5: DESAYUNO 1 | C5: unidad | D5: 1 | E5: 24500 | F5: 27000
B6: Proteína 1: huevo cocido, frito o revuelto
B7: Proteína 2: queso, quesito o cuajada
B8: Carbohidrato: arepa o pan, o galletas o buñuelo
B9: Bebida: chocolate, café, café con leche o aguapanela
A10: 1.2 | B10: DESAYUNO 2 | C10: unidad | D10: 1 | E10: 27000 | F10: 30000
B11: Proteína 1: huevo cocido, frito o revuelto
B12: Proteína 2: carne de res o cerdo o pollo o chicharrón
B13: Proteína 3: queso, quesito o cuajada
B14: Carbohidrato 1: arepa o pan, o galletas o buñuelo
B15: Carbohidrato 2: arroz, calentado
B16: Bebida: chocolate, café, café con leche o aguapanela
A17: 1.3 | B17: ALMUERZO 1 | C17: unidad | D17: 1 | E17: 29000 | F17: 32000
B18: Proteína 1: (carne de res o cerdo, pollo o pescado)
B19: Proteína 2: (huevo cocido o frito)
B20: Carbohidrato 1: arroz
B21: Carbohidrato 2: (papa en migote, papas fritas o tajadas de maduro)
B22: Sopa: (frijoles, lentejas, arvejas, garbanzos, verduras, mondongo, pastas, guineo, patacón, sancocho, cremas o la sopa del día) Ensalada: (la del día) Bebida: (limonada, o jugo en agua, mazamorra o claro)
A23: 1.4 | B23: ALMUERZO 2: | C23: unidad | D23: 1 | E23: 27000 | F23: 30000
B24: Proteína 1: carne de res, cerdo o pollo o chicharrón.
B25: Carbohidrato1: arroz
B26: Sopa: compuesta con yuca, plátano, papa común y papa criolla
B27: Ensalada: la del día
B28: Acompañante: aguacate o banano o arepa
B29: Bebida: limonada, jugo natural, te, mazamorra o claro
A30: 1.5 | B30: CENA | C30: unidad | D30: 1 | E30: 27000 | F30: 30000
B31: Proteína 1: (carne de res o cerdo, pollo o pescado)
B32: Proteína 2: (huevo cocido o frito)
B33: Carbohidrato 1: arroz
B34: Carbohidrato 2: (papa en migote, papas fritas o tajadas de maduro)
B35: Sopa: (frijoles, lentejas, arvejas, garbanzos, verduras, mondongo, pastas, guineo, patacón, sancocho, cremas o la sopa del día)
B36: Ensalada: (la del día)
B37: Bebida: (limonada, jugo en agua, mazamorra o claro)
A38: 1.6 | B38: ALMUERZO O CENA ENVUELTO | C38: unidad | D38: 1 | E38: 35000 | F38: 38000
B39: Proteína 1: carne de res o cerdo o pollo o Chicharrón(2 opciones)
B40: Proteína 2: chorizo de cerdo, pollo o ternera
B41: Proteína 3: huevo cocido o frito
...

Sheet CONSOLIDADO_-_PRECIO_PROMEDIO
A1: CONSOLIDADO - FICHA TÉCNICA DE SERVICIOS Y PRODUCTOS
A2: ÍTEM | B2: DETALLE / PRODUCTO | C2: UNIDAD DE MEDIDA | D2: CANT | E2: Consolidado Promedio VALOR SERVIDO EN RESTAURANTE | F2: Consolidado Promedio Valor para llevar/servir en biodegradable
A3: 1. ALIMENTACIÓN
A4: 1.1 | B4: DESAYUNO 1 | C4: unidad | D4: 1 | E4: =(PROVEEDOR_No_1!E5+PROVEEDOR_No_2!E5+PROVEEDOR_No_3!E5)/3 -> 24166.667 | F4: =(PROVEEDOR_No_1!F5+PROVEEDOR_No_2!F5+PROVEEDOR_No_3!F5)/3 -> 27166.667
B5: Proteína 1: huevo cocido, frito o revuelto
B6: Proteína 2: queso, quesito o cuajada
B7: Carbohidrato: arepa o pan, o galletas o buñuelo
B8: Bebida: chocolate, café, café con leche o aguapanela
A9: 1.2 | B9: DESAYUNO 2 | C9: unidad | D9: 1 | E9: =(PROVEEDOR_No_1!E10+PROVEEDOR_No_2!E10+PROVEEDOR_No_3!E10)/3 -> 26833.333 | F9: =(PROVEEDOR_No_1!F10+PROVEEDOR_No_2!F10+PROVEEDOR_No_3!F10)/3 -> 30000
B10: Proteína 1: huevo cocido, frito o revuelto
B11: Proteína 2: carne de res o cerdo o pollo o chicharrón
B12: Proteína 3: queso, quesito o cuajada
B13: Carbohidrato 1: arepa o pan, o galletas o buñuelo
B14: Carbohidrato 2: arroz, calentado
B15: Bebida: chocolate, café, café con leche o aguapanela
A16: 1.3 | B16: ALMUERZO 1 | C16: unidad | D16: 1 | E16: =(PROVEEDOR_No_1!E17+PROVEEDOR_No_2!E17+PROVEEDOR_No_3!E17)/3 -> 28833.333 | F16: =(PROVEEDOR_No_1!F17+PROVEEDOR_No_2!F17+PROVEEDOR_No_3!F17)/3 -> 32000
B17: Proteína 1: (carne de res o cerdo, pollo o pescado)
B18: Proteína 2: (huevo cocido o frito)
B19: Carbohidrato 1: arroz
B20: Carbohidrato 2: (papa en migote, papas fritas o tajadas de maduro)
B21: Sopa: (frijoles, lentejas, arvejas, garbanzos, verduras, mondongo, pastas, guineo, patacón, sancocho, cremas o la sopa del día) Ensalada: (la del día) Bebida: (limonada, o jugo en agua, mazamorra o claro)
A22: 1.4 | B22: ALMUERZO 2: | C22: unidad | D22: 1 | E22: =(PROVEEDOR_No_1!E23+PROVEEDOR_No_2!E23+PROVEEDOR_No_3!E23)/3 -> 27166.667 | F22: =(PROVEEDOR_No_1!F23+PROVEEDOR_No_2!F23+PROVEEDOR_No_3!F23)/3 -> 30333.333
B23: Proteína 1: carne de res, cerdo o pollo o chicharrón.
B24: Carbohidrato1: arroz
B25: Sopa: compuesta con yuca, plátano, papa común y papa criolla
B26: Ensalada: la del día
B27: Acompañante: aguacate o banano o arepa
B28: Bebida: limonada, jugo natural, te, mazamorra o claro
A29: 1.5 | B29: CENA | C29: unidad | D29: 1 | E29: =(PROVEEDOR_No_1!E30+PROVEEDOR_No_2!E30+PROVEEDOR_No_3!E30)/3 -> 27333.333 | F29: =(PROVEEDOR_No_1!F30+PROVEEDOR_No_2!F30+PROVEEDOR_No_3!F30)/3 -> 30333.333
B30: Proteína 1: (carne de res o cerdo, pollo o pescado)
B31: Proteína 2: (huevo cocido o frito)
B32: Carbohidrato 1: arroz
B33: Carbohidrato 2: (papa en migote, papas fritas o tajadas de maduro)
B34: Sopa: (frijoles, lentejas, arvejas, garbanzos, verduras, mondongo, pastas, guineo, patacón, sancocho, cremas o la sopa del día)
B35: Ensalada: (la del día)
B36: Bebida: (limonada, jugo en agua, mazamorra o claro)
A37: 1.6 | B37: ALMUERZO O CENA ENVUELTO | C37: unidad | D37: 1 | E37: =(PROVEEDOR_No_1!E38+PROVEEDOR_No_2!E38+PROVEEDOR_No_3!E38)/3 -> 35000 | F37: =(PROVEEDOR_No_1!F38+PROVEEDOR_No_2!F38+PROVEEDOR_No_3!F38)/3 -> 38666.667
B38: Proteína 1: carne de res o cerdo o pollo o Chicharrón(2 opciones)
B39: Proteína 2: chorizo de cerdo, pollo o ternera
B40: Proteína 3: huevo cocido o frito
...
