Workbook
Name \b: #REF!
Name \c: #REF!
Name \e: #REF!
Name \i: #REF!
Name \m: #REF!
Name \r: #REF!
Name \t: #REF!
Name \x: #REF!
Name \z: #REF!
Name __________________________________________________________Po2: #REF!
Name __________________________________________________________TPE1132: #REF!
Name __________________________________________________________TPE1331: #REF!
Name __________________________________________________________TPE1702: #REF!
Name __________________________________________________________TPE1703: #REF!
Name __________________________________________________________TPE1704: #REF!
Name __________________________________________________________TPE1706: #REF!
Name __________________________________________________________TPE1708: #REF!
Name __________________________________________________________TPE1710: #REF!
Name __________________________________________________________TPE1735: #REF!
Name __________________________________________________________TPE1763: #REF!
Name __________________________________________________________TPE1790: #REF!
Name __________________________________________________________TUZ22: #REF!
Name __________________________________________________________TUZ36: #REF!
Name __________________________________________________________TZ323: #REF!
Name __________________________________________________________TZ324: #REF!
Name ________________________________________________________AIU1: #REF!
Name ________________________________________________________AIU2: #REF!
Name ________________________________________________________Cod1: #REF!
Name ________________________________________________________Po2: #REF!
Name ________________________________________________________TPE1132: #REF!
Name ________________________________________________________TPE1331: #REF!
Name ________________________________________________________TPE1702: #REF!
Name ________________________________________________________TPE1703: #REF!
Name ________________________________________________________TPE1704: #REF!
Name ________________________________________________________TPE1706: #REF!
Name ________________________________________________________TPE1708: #REF!
Name ________________________________________________________TPE1710: #REF!
Name ________________________________________________________TPE1735: #REF!
Name ________________________________________________________TPE1763: #REF!
Name ________________________________________________________TPE1790: #REF!
Name ________________________________________________________TUZ22: #REF!
Name ________________________________________________________TUZ36: #REF!
Name ________________________________________________________TZ323: #REF!
Name ________________________________________________________TZ324: #REF!
Name _______________________________________________________AIU1: #REF!
Name _______________________________________________________AIU2: #REF!
Name _______________________________________________________CAN28: #REF!
Name _______________________________________________________Cod1: #REF!
Name _______________________________________________________Po2: #REF!
Name _______________________________________________________REP43: #REF!
Name _______________________________________________________TPE1132: #REF!
Name _______________________________________________________TPE12: #REF!
Name _______________________________________________________TPE1331: #REF!
Name _______________________________________________________TPE1702: #REF!
Name _______________________________________________________TPE1703: #REF!
Name _______________________________________________________TPE1704: #REF!
Name _______________________________________________________TPE1706: #REF!
Name _______________________________________________________TPE1708: #REF!
Name _______________________________________________________TPE1710: #REF!
Name _______________________________________________________TPE1735: #REF!

Sheet RESUMEN APUS
A1: LISTADO DE PRECIOS UNITARIOS
A5: LISTADO DE PRECIOS UNITARIOS DE OBRA
A6: EJECUCIÓN DE MEJORAMIENTOS DE VIVIENDAS URBANAS Y RURALES EN EL DEPARTAMENTO DE ANTIOQUIA
A7: Item | B7: Descripción | C7: Unidad | D7: Valor unitario
A8: 1.0.0 | B8: RETIROS Y DEMOLICIONES
A9: 1.2 | B9: RETIRO DE TUBERÍA DE AGUAS RESIDUALES y/o LLUVIAS colgadas o expuestas. Incluye el cargue y transporte de los materiales aprovechables hasta la bodega o donde lo indique la interventoría, el cargue transporte y botada de los escombros generados en botaderos oficiales o donde lo indique la interventoría. | C9: =+APUS!F5 -> m | D9: =+APUS!E19 -> 5843
A10: 1.3 | B10: RETIRO DE APARATOS SANITARIOS, incluye el cargue, transporte, botada o recuperación de aparatos sanitarios, lavamanos, lavaderos, orinales. Incluye botada en botaderos oficiales y la recuperación de los materiales aprovechables y/o su transporte hasta la bodega o el sitio que indique la interventoría. | C10: =+APUS!F23 -> un | D10: =+APUS!E36 -> 52308
A11: 1.4 | B11: DEMOLICIÓN MAMPOSTERÍA EN LADRILLO DE 10 a 15 cm DE ESPESOR, incluye cargue, transporte y botada de escombros en botaderos oficiales, demolición de revoques y enchapes aplicados en el muro a demoler e instalaciones embebidas, además recuperación de los materiales aprovechables o su transporte hasta el sitio que lo indique la interventoría. | C11: =+APUS!F40 -> m2 | D11: =+APUS!E55 -> 42563
A12: 1.5 | B12: DEMOLICIÓN PISO EN CONCRETO de cualquier resistencia con espesor hasta de 12 cm, manual o mecánicamente. Incluye cargue, transporte y botada de escombros, retiro de refuerzo e instalaciones embebidas, además recuperación de los materiales aprovechables y su transporte hasta el sitio que lo indique la interventoría. | C12: =+APUS!F59 -> m2 | D12: =+APUS!E73 -> 28210
A13: 1.6 | B13: DEMOLICIÓN DE ENCHAPE, espesores entre 0.03 y 0.05 m. Incluye cargue, transporte y botada de escombros en botaderos oficiales, demolición de revoques y enchapes aplicados en el muro a demoler e instalaciones embebidas, además recuperación de los materiales aprovechables o su transporte hasta el sitio que lo indique la interventoría. | C13: =+APUS!F77 -> m2 | D13: =+APUS!E92 -> 22813
A14: 1.7 | B14: DEMOLICIÓN PISO EN BALDOSA sobre terreno. cargue, transporte y botada de escombros, Incluye demolición del mortero de nivelación espesor máximo 0.07m, refuerzo e instalaciones embebidas. Además recuperación de los materiales aprovechables o su transporte hasta el sitio que lo indique la interventoría. | C14: =+APUS!F96 -> m2 | D14: =+APUS!E110 -> 20525
A15: 1.8 | B15: DEMOLICIÓN ESTRUCTURAS DE CONCRETO cargue, transporte y botada de escombros, manual o mecánicamente, de cualquier resistencia, reforzado o ciclópeo, y en cualquier clase de estructura. Incluye retiro de refuerzo y cualquier tipo de acabado (revoques y enchapes) o piso (en losas) e instalaciones embebidas, compresor neumático con martillo, además recuperación de los materiales aprovechables o su transporte hasta el sitio que lo indique la interventoría. | C15: =+APUS!F115 -> m3 | D15: =+APUS!E130 -> 293378
A16: 1.9 | B16: RETIRO DE PUERTAS (marco y ala) metálicas, en aluminio, en madera o puerta reja. Incluye el retiro, cargue, transporte, botada de escombros en botaderos oficiales y recuperación de los materiales aprovechables y su transporte hasta la bodega o el sitio que lo indique la interventoría. Ancho variable desde 0,60 a 1,20 m. | C16: =+APUS!F134 -> un | D16: =+APUS!E145 -> 45939
A17: 1.10 | B17: DEMOLICIÓN DE REVOQUE, espesores entre 0.02 y 0.03 m. Incluye cargue, transporte y botada de escombros en botaderos oficiales, transporte hasta el sitio que lo indique la interventoría. | C17: =+APUS!F149 -> m2 | D17: =+APUS!E163 -> 17580
A18: 2.0.0 | B18: EXCAVACIÓN Y RETIRO
A19: 2.1 | B19: EXCAVACIÓN MANUAL de material heterogéneo DE 0-2 m., bajo cualquier grado de humedad. Incluye: roca descompuesta, bolas de roca de volumen inferior a 0.35 m³., el cargue, transporte interno y externo, botada de material proveniente de las excavaciones en los sitios donde lo indique la interventoría y su medida será en el sitio. No incluye entibado. | C19: =+APUS!F168 -> m3 | D19: =+APUS!E185 -> 142188
A20: 4.0.0 | B20: ACERO DE REFUERZO / MALLAS
A21: 4.1 | B21: Suministro, transporte e instalación de ACERO DE REFUERZO FIGURADO FY= 420 Mpa-60000 PSI, corrugado. Incluye transporte con descarga, transporte interno, alambre de amarre, certificados y todos los elementos necesarios para su correcta instalación, según diseño y recomendaciones estructurales. | C21: =+APUS!F189 -> kg | D21: =+APUS!E204 -> 7445
A22: 4.2 | B22: Colocación de MALLA ELECTROSOLDADA TIPO D 50. Incluye el suministro y el transporte del material y todos los elementos necesarios para su correcta colocación. | C22: =+APUS!F208 -> m2 | D22: =+APUS!E223 -> 9275
A23: 4.3 | B23: Colocación de MALLA ELECTROSOLDADA TIPO D 84. Incluye el suministro y el transporte del material y todos los elementos necesarios para su correcta colocación. | C23: =+APUS!F227 -> m2 | D23: =+APUS!E242 -> 12996
A24: 4.4 | B24: Colocación de MALLA ELECTROSOLDADA TIPO D 188. Incluye el suministro y el transporte del material y todos los elementos necesarios para su correcta colocación. | C24: =+APUS!F246 -> m2 | D24: =+APUS!E261 -> 11128
A25: 5.0.0 | B25: MAMPOSTERIA / REVOQUES
A26: 5.1 | B26: Construcción de MAMPOSTERÍA EN LADRILLO PARA REVOCAR O ENCHAPAR una cara o dos caras, DE 10 x 20 x 40 cm. ESPESOR DE 10 cm. Incluye el suministro, el mortero de pega 1:4 espesor max=0.01 m y todos los demás elementos necesarios para su correcta construcción y funcionamiento. | C26: =+APUS!F265 -> m2 | D26: =+APUS!E285 -> 88802
A27: 5.2 | B27: Construcción de MAMPOSTERIA EN LADRILLO CALADO de 0,10 m x 0,20 m x 0,20 m, Incluye el suministro, el mortero de pega 1:4 espesor max=0.01 m, revitado liso y todos los materiales necesarios para su correcta ejecución. | C27: =+APUS!F289 -> m2 | D27: =+APUS!E309 -> 150988
A28: 5.3 | B28: Construcción de MAMPOSTERÍA EN BLOQUE DE CONCRETO DE 10x20x30 cm. ESPESOR DE 10. resistencia 8 Mpa 3P NO ESTRUCTURAL. Para alturas hasta 3.50m. Incluye el suministro y transporte del bloque, el mortero de pega 0,25:1:5,(cal-cemento-arena) espesor max=0.01 m, trabas, columnas, machones, cuchillas, buitrones (para bajantes de redes en general), remates de enrases, de aristas con esquineros de fabrica, encorozados, áticos y chapas necesarias por detalles de construcción que se ejecuten en el mismo material que se está midiendo. Todos los cortes serán realizados a máquina. (Según norma Icontec 451, 296 y la Astm C-652 y C-34). | C28: =+APUS!F314 -> m2 | D28: =+APUS!E336 -> 115865
A29: 5.4 | B29: Construcción de caja de registro en mampostería de bloque de concreto con revoque interno, dimensiones de 0,5 m x 0,5 m, con altura de 0,5 m-espesor de paredes 0,1 m. Incluye tapa. | C29: =+APUS!F340 -> un | D29: =+APUS!E360 -> 326518
A30: 5.5 | B30: Colocación de REVOQUE con mortero 1:4 EN MUROS INTERNOS. Incluye suministro y transporte de los materiales, ranuras, filetes y todos los demás elementos necesarios para su correcta construcción. | C30: =+APUS!F364 -> m2 | D30: =+APUS!E382 -> 33970
A31: 5.6 | B31: Colocación de REVOQUE con mortero 1:4 IMPERMEABILIZADO con Sika 1 o equivalente, EN MUROS DE BAÑOS. Incluye suministro y transporte de los materiales, ranuras, filetes, y todos los demás elementos necesarios para su correcta construcción. | C31: =+APUS!F386 -> m2 | D31: =+APUS!E405 -> 50450
A32: 5.7 | B32: PREPARACIÓN DE SUPERFICIE DE MURO. Incluye el retiro de pintura, cal y/o superficies contaminadas garantizando adherencia, durabilidad y uniformidad superficial. | C32: =+APUS!F409 -> m2 | D32: =+APUS!E428 -> 8818
A33: 6.0.0 | B33: PISOS
A34: 6.1 | B34: ACOMODAMIENTO Y NIVELACIÓN DE PIEDRA DE ENTRESUELO, espesor de 0.15 m, entresuelo en piedra (e=0,10 m.), arenilla compactada (e=0,05 m.) Incluye suministro y transporte de materiales, compactación mecánica, polietileno de baja densidad y todo lo necesario para su correcta colocación. La piedra seleccionada debe ser aprobada por la interventoría. | C34: =+APUS!F433 -> m2 | D34: =+APUS!E450 -> 57272
A35: 6.2 | B35: Instalación de suelo-cemento 1:12 elaborado en obra, con material proveniente de la excavación. Compactación manual con pisón en capas de 15 cm de espesor. | C35: =+APUS!F454 -> m3 | D35: =+APUS!E468 -> 250191
A36: 6.3 | B36: Construcción de PISO O PLACA en concreto de 21 Mpa, espesor de 0,08 m. sobre el terreno y/o entresuelo. Incluye nivelación del terreno y adecuación de la superficie, mano de obra y todos los demás elementos necesarios para su correcta construcción. No incluye entresuelo. | C36: =+APUS!F472 -> m3 | D36: =+APUS!E492 -> 924452
A37: 6.4 | B37: Preparación de superficie de losa existente para adherencia de enchape. Incluye escarificación superficial de losa existente. | C37: =+APUS!F496 -> m2 | D37: =+APUS!E512 -> 9330
A38: 6.5 | B38: Adherente para junta en frío (concreto existente con mortero) | C38: =+APUS!F516 -> m2 | D38: =+APUS!E527 -> 8485
A39: 6.6 | B39: Construcción de PISO EN MORTERO 1:5 de NIVELACIÓN, espesor de 0.05m. Incluye suministro y transporte de los materiales y todo lo necesario para su correcta construcción y funcionamiento. | C39: =+APUS!F531 -> m3 | D39: =+APUS!E545 -> 925139
A40: 7.0.0 | B40: ENCHAPES / PINTURAS
A41: 7.1 | B41: Colocación de PISO CERÁMICO PARA PISOS TRAFICO RESIDENCIAL GENERAL, tipo Belaya beige o similar. Incluye suministro y transporte de los materiales, pegante para cerámica tipo Pegacor o equivalente, lechada con Boquilla Blanca para cerámica, remates, cortes con máquina y todo lo necesario para su correcta instalación. . | C41: =+APUS!F549 -> m2 | D41: =+APUS!E570 -> 120646
A42: 7.2 | B42: Construcción de pisos en cemento esmaltado mortero 1:5 , e= 0,1 m, juntas inducidas, sellador elástico de poliuretano hasta una profundidad de 5mm, limpieza de la junta, garantizar acabado uniforme, incluye todos los materiales necesario para su correcta ejecución. | C42: =+APUS!F574 -> m2 | D42: =+APUS!E591 -> 116824
A43: 7.3 | B43: Instalación de ENCHAPE CERÁMICO PARED y de cualquier otro requerimiento del proyecto. Incluye suministro y transporte de los materiales, mortero adhesivo para enchapes tipo pegacor o equivalente, lechada preparada (boquilla) tipo Concolor de sumicol o equivalente del mismo color del enchape, moldura PVC remates toro acolillada y todos los elementos necesarios para su correcta instalación y funcionamiento. | C43: =+APUS!F595 -> m2 | D43: =+APUS!E617 -> 121596
...

Sheet APUS
A1: ANÁLISIS DE PRECIOS UNITARIOS | J1: 1.13 | K1: SMLV YA SE HABIA INCREMENTADO EL 10% TOTAL INCREM 23%
A3: ANALISIS DE PRECIOS UNITARIOS
A4: =+'RESUMEN APUS'!B9 -> RETIRO DE TUBERÍA DE AGUAS RESIDUALES y/o LLUVIAS colgadas o expuestas. Incluye el cargue y transporte de los materiales aprovechables hasta la bodega o donde lo indique la interventoría, el cargue transporte y botada de los escombros generados en botaderos oficiales o donde lo indique la interventoría. | E4: No. Item | F4: Unidad
E5: 1.2 | F5: m
A6: Clave | B6: Mano de Obra | C6: Unidad | D6: Cantidad | E6: V/Unitario | F6: V/Total
A7: CUAD RETIROS | B7: Cuadrilla Retiros | C7: jor | D7: 0.01492 | E7: =262000*1.1*$J$1 -> 325666 | F7: =ROUND(D7*E7,0) -> 4859
A8: Importe de Mano de Obra | C8: 81.419477 | E8: SUBTOTAL | F8: =SUM(F7) -> 4859
A9: Clave | B9: Herramienta | C9: Unidad | D9: Cantidad | E9: V/Unitario | F9: V/Total
A10: HERRAMIENTA MENOR | B10: Herramienta menor | C10: (%)mo | D10: 0.05 | E10: =F8 -> 4859 | F10: =ROUND(D10*E10,0) -> 243
A11: Importe de Herramienta | C11: 4.0792266 | E11: SUBTOTAL | F11: =SUM(F10) -> 243
A12: Clave | B12: Equipo | C12: Unidad | D12: Cantidad | E12: V/Unitario | F12: V/Total
A13: CAN ZUNCHADO ALQUILE | B13: Can zunchado en madera común de 5,0cmx20cmx3,0m (alquiler). Incluye transporte. | C13: día | D13: 0.03 | E13: =+E49 -> 4100 | F13: =ROUND(D13*E13,0) -> 123
A14: ANDAMIO COMPLE+ RUED | B14: Sección completa de andamio (1.2m-1.5m) x 1.5 m. (+ 4 ruedas) Incluye transporte. | C14: día | D14: 0.0143 | E14: =+E48 -> 5200 | F14: =ROUND(D14*E14,0) -> 74
A15: Importe de Equipo | C15: 1.4619194 | E15: SUBTOTAL | F15: =SUM(F13:F14) -> 197
A16: Clave | B16: Auxiliares | C16: Unidad | D16: Cantidad | E16: V/Unitario | F16: V/Total
A17: CARGUE/TRANS/BOTAD | B17: Cargue (Paleros), transporte de materiales y derechos de botadero y/o almacenamiento en bodega. | C17: m3 | D17: 0.009 | E17: =57458.778*1.052 -> 60446.634 | F17: =ROUND(D17*E17,0) -> 544
E18: SUBTOTAL | F18: =SUM(F17) -> 544
A19: P R E C I O U N I T A R I O | E19: =F8+F11+F15+F18 -> 5843
A21: ANALISIS DE PRECIOS UNITARIOS
A22: =+'RESUMEN APUS'!B10 -> RETIRO DE APARATOS SANITARIOS, incluye el cargue, transporte, botada o recuperación de aparatos sanitarios, lavamanos, lavaderos, orinales. Incluye botada en botaderos oficiales y la recuperación de los materiales aprovechables y/o su transporte hasta la bodega o el sitio que indique la interventoría. | E22: No. Item | F22: Unidad
E23: 1.3 | F23: un
A24: Clave | B24: Materiales | C24: Unidad | D24: Cantidad | E24: V/Unitario | F24: V/Total
A25: TAPON PVC-P SOLDA1 | B25: Tapón PVC-P soldado 1" | C25: un | D25: 1 | E25: =1336.154*1.052 -> 1405.634 | F25: =ROUND(D25*E25,0) -> 1406
A26: Importe de Materiales | C26: 3.323255 | E26: SUBTOTAL | F26: =SUM(F25) -> 1406
A27: Clave | B27: Mano de Obra | C27: Unidad | D27: Cantidad | E27: V/Unitario | F27: V/Total
A28: CUAD RETIROS | B28: Cuadrilla Retiros | C28: jor | D28: 0.12918 | E28: =262477.681158667*1.1*$J$1 -> 326259.76 | F28: =ROUND(D28*E28,0) -> 42146
A29: Importe de Mano de Obra | C29: 74.380443 | E29: SUBTOTAL | F29: =SUM(F28) -> 42146
A30: Clave | B30: Herramienta | C30: Unidad | D30: Cantidad | E30: V/Unitario | F30: V/Total
A31: HERRAMIENTA MENOR | B31: Herramienta menor | C31: (%)mo | D31: 0.05 | E31: =F29 -> 42146 | F31: =ROUND(D31*E31,0) -> 2107
A32: Importe de Herramienta | C32: 3.7186345 | E32: SUBTOTAL | F32: =SUM(F31) -> 2107
A33: Clave | B33: Auxiliares | C33: Unidad | D33: Cantidad | E33: V/Unitario | F33: V/Total
A34: CARGUE/TRANS/BOTAD | B34: Cargue (Paleros), transporte de materiales y derechos de botadero y/o almacenamiento en bodega. | C34: m3 | D34: 0.11 | E34: =57458.778*1.052 -> 60446.634 | F34: =ROUND(D34*E34,0) -> 6649
E35: SUBTOTAL | F35: =SUM(F34) -> 6649
A36: P R E C I O U N I T A R I O | E36: =F26+F29+F32+F35 -> 52308
A38: ANALISIS DE PRECIOS UNITARIOS
A39: =+'RESUMEN APUS'!B11 -> DEMOLICIÓN MAMPOSTERÍA EN LADRILLO DE 10 a 15 cm DE ESPESOR, incluye cargue, transporte y botada de escombros en botaderos oficiales, demolición de revoques y enchapes aplicados en el muro a demoler e instalaciones embebidas, además recuperación de los materiales aprovechables o su transporte hasta el sitio que lo indique la interventoría. | E39: No. Item | F39: Unidad
E40: 1.4 | F40: m2
A41: Clave | B41: Mano de Obra | C41: Unidad | D41: Cantidad | E41: V/Unitario | F41: V/Total
A42: CUAD DEMOLICIONES | B42: Cuadrilla Demoliciones | C42: jor | D42: 0.066285 | E42: =312364.759126667*1.1*$J$1 -> 388269.4 | F42: =ROUND(D42*E42,0) -> 25736
A43: Importe de Mano de Obra | C43: 55.91536 | E43: SUBTOTAL | F43: =SUM(F42) -> 25736
...
