Workbook
Name \b: #REF!
Name \c: #REF!
Name \e: #REF!
Name \i: #REF!
Name \m: #REF!
Name \r: #REF!
Name \t: #REF!
Name \x: #REF!
Name \z: #REF!
Name __________________________________________________________Po2: #REF!
Name __________________________________________________________TPE1132: #REF!
Name __________________________________________________________TPE1331: #REF!
Name __________________________________________________________TPE1702: #REF!
Name __________________________________________________________TPE1703: #REF!
Name __________________________________________________________TPE1704: #REF!
Name __________________________________________________________TPE1706: #REF!
Name __________________________________________________________TPE1708: #REF!
Name __________________________________________________________TPE1710: #REF!
Name __________________________________________________________TPE1735: #REF!
Name __________________________________________________________TPE1763: #REF!
Name __________________________________________________________TPE1790: #REF!
Name __________________________________________________________TUZ22: #REF!
Name __________________________________________________________TUZ36: #REF!
Name __________________________________________________________TZ323: #REF!
Name __________________________________________________________TZ324: #REF!
Name ________________________________________________________AIU1: #REF!
Name ________________________________________________________AIU2: #REF!
Name ________________________________________________________Cod1: #REF!
Name ________________________________________________________Po2: #REF!
Name ________________________________________________________TPE1132: #REF!
Name ________________________________________________________TPE1331: #REF!
Name ________________________________________________________TPE1702: #REF!
Name ________________________________________________________TPE1703: #REF!
Name ________________________________________________________TPE1704: #REF!
Name ________________________________________________________TPE1706: #REF!
Name ________________________________________________________TPE1708: #REF!
Name ________________________________________________________TPE1710: #REF!
Name ________________________________________________________TPE1735: #REF!
Name ________________________________________________________TPE1763: #REF!
Name ________________________________________________________TPE1790: #REF!
Name ________________________________________________________TUZ22: #REF!
Name ________________________________________________________TUZ36: #REF!
Name ________________________________________________________TZ323: #REF!
Name ________________________________________________________TZ324: #REF!
Name _______________________________________________________AIU1: #REF!
Name _______________________________________________________AIU2: #REF!
Name _______________________________________________________CAN28: #REF!
Name _______________________________________________________Cod1: #REF!
Name _______________________________________________________Po2: #REF!
Name _______________________________________________________REP43: #REF!
Name _______________________________________________________TPE1132: #REF!
Name _______________________________________________________TPE12: #REF!
Name _______________________________________________________TPE1331: #REF!
Name _______________________________________________________TPE1702: #REF!
Name _______________________________________________________TPE1703: #REF!
Name _______________________________________________________TPE1704: #REF!
Name _______________________________________________________TPE1706: #REF!
Name _______________________________________________________TPE1708: #REF!
Name _______________________________________________________TPE1710: #REF!
Name _______________________________________________________TPE1735: #REF!

Sheet RESUMEN APUS
A1: LISTADO DE PRECIOS UNITARIOS
A5: LISTADO DE PRECIOS UNITARIOS DE OBRA
A6: EJECUCIÓN DE MEJORAMIENTOS DE VIVIENDAS URBANAS Y RURALES EN EL DEPARTAMENTO DE ANTIOQUIA
A7: Item | B7: Descripción | C7: Unidad | D7: Valor unitario
A8: 1.0.0 | B8: RETIROS Y DEMOLICIONES
A9: 1.2 | B9: RETIRO DE TUBERÍA DE AGUAS RESIDUALES y/o LLUVIAS colgadas o expuestas. Incluye el cargue y transporte de los materiales aprovechables hasta la bodega o donde lo indique la interventoría, el cargue transporte y botada de los escombros generados en botaderos oficiales o donde lo indique la interventoría. | C9: =+APUS!F5 -> m | D9: =+APUS!E19 -> 5843
A10: 1.3 | B10: RETIRO DE APARATOS SANITARIOS, incluye el cargue, transporte, botada o recuperación de aparatos sanitarios, lavamanos, lavaderos, orinales. Incluye botada en botaderos oficiales y la recuperación de los materiales aprovechables y/o su transporte hasta la bodega o el sitio que indique la interventoría. | C10: =+APUS!F23 -> un | D10: =+APUS!E36 -> 52308
A11: 1.4 | B11: DEMOLICIÓN MAMPOSTERÍA EN LADRILLO DE 10 a 15 cm DE ESPESOR, incluye cargue, transporte y botada de escombros en botaderos oficiales, demolición de revoques y enchapes aplicados en el muro a demoler e instalaciones embebidas, además recuperación de los materiales aprovechables o su transporte hasta el sitio que lo indique la interventoría. | C11: =+APUS!F40 -> m2 | D11: =+APUS!E55 -> 42563
A12: 1.5 | B12: DEMOLICIÓN PISO EN CONCRETO de cualquier resistencia con espesor hasta de 12 cm, manual o mecánicamente. Incluye cargue, transporte y botada de escombros, retiro de refuerzo e instalaciones embebidas, además recuperación de los materiales aprovechables y su transporte hasta el sitio que lo indique la interventoría. | C12: =+APUS!F59 -> m2 | D12: =+APUS!E73 -> 28210
A13: 1.6 | B13: DEMOLICIÓN DE ENCHAPE, espesores entre 0.03 y 0.05 m. Incluye cargue, transporte y botada de escombros en botaderos oficiales, demolición de revoques y enchapes aplicados en el muro a demoler e instalaciones embebidas, además recuperación de los materiales aprovechables o su transporte hasta el sitio que lo indique la interventoría. | C13: =+APUS!F77 -> m2 | D13: =+APUS!E92 -> 22813
A14: 1.7 | B14: DEMOLICIÓN PISO EN BALDOSA sobre terreno. cargue, transporte y botada de escombros, Incluye demolición del mortero de nivelación espesor máximo 0.07m, refuerzo e instalaciones embebidas. Además recuperación de los materiales aprovechables o su transporte hasta el sitio que lo indique la interventoría. | C14: =+APUS!F96 -> m2 | D14: =+APUS!E110 -> 20525
A15: 1.8 | B15: DEMOLICIÓN ESTRUCTURAS DE CONCRETO cargue, transporte y botada de escombros, manual o mecánicamente, de cualquier resistencia, reforzado o ciclópeo, y en cualquier clase de estructura. Incluye retiro de refuerzo y cualquier tipo de acabado (revoques y enchapes) o piso (en losas) e instalaciones embebidas, compresor neumático con martillo, además recuperación de los materiales aprovechables o su transporte hasta el sitio que lo indique la interventoría. | C15: =+APUS!F115 -> m3 | D15: =+APUS!E130 -> 293378
A16: 1.9 | B16: RETIRO DE PUERTAS (marco y ala) metálicas, en aluminio, en madera o puerta reja. Incluye el retiro, cargue, transporte, botada de escombros en botaderos oficiales y recuperación de los materiales aprovechables y su transporte hasta la bodega o el sitio que lo indique la interventoría. Ancho variable desde 0,60 a 1,20 m. | C16: =+APUS!F134 -> un | D16: =+APUS!E145 -> 45939
A17: 1.10 | B17: DEMOLICIÓN DE REVOQUE, espesores entre 0.02 y 0.03 m. Incluye cargue, transporte y botada de escombros en botaderos oficiales, transporte hasta el sitio que lo indique la interventoría. | C17: =+APUS!F149 -> m2 | D17: =+APUS!E163 -> 17580
A18: 2.0.0 | B18: EXCAVACIÓN Y RETIRO
A19: 2.1 | B19: EXCAVACIÓN MANUAL de material heterogéneo DE 0-2 m., bajo cualquier grado de humedad. Incluye: roca descompuesta, bolas de roca de volumen inferior a 0.35 m³., el cargue, transporte interno y externo, botada de material proveniente de las excavaciones en los sitios donde lo indique la interventoría y su medida será en el sitio. No incluye entibado. | C19: =+APUS!F168 -> m3 | D19: =+APUS!E185 -> 142188
A20: 4.0.0 | B20: ACERO DE REFUERZO / MALLAS
A21: 4.1 | B21: Suministro, transporte e instalación de ACERO DE REFUERZO FIGURADO FY= 420 Mpa-60000 PSI, corrugado. Incluye transporte con descarga, transporte interno, alambre de amarre, certificados y todos los elementos necesarios para su correcta instalación, según diseño y recomendaciones estructurales. | C21: =+APUS!F189 -> kg | D21: =+APUS!E204 -> 7445
A22: 4.2 | B22: Colocación de MALLA ELECTROSOLDADA TIPO D 50. Incluye el suministro y el transporte del material y todos los elementos necesarios para su correcta colocación. | C22: =+APUS!F208 -> m2 | D22: =+APUS!E223 -> 9275
A23: 4.3 | B23: Colocación de MALLA ELECTROSOLDADA TIPO D 84. Incluye el suministro y el transporte del material y todos los elementos necesarios para su correcta colocación. | C23: =+APUS!F227 -> m2 | D23: =+APUS!E242 -> 12996
A24: 4.4 | B24: Colocación de MALLA ELECTROSOLDADA TIPO D 188. Incluye el suministro y el transporte del material y todos los elementos necesarios para su correcta colocación. | C24: =+APUS!F246 -> m2 | D24: =+APUS!E261 -> 11128
A25: 5.0.0 | B25: MAMPOSTERIA / REVOQUES
A26: 5.1 | B26: Construcción de MAMPOSTERÍA EN LADRILLO PARA REVOCAR O ENCHAPAR una cara o dos caras, DE 10 x 20 x 40 cm. ESPESOR DE 10 cm. Incluye el suministro, el mortero de pega 1:4 espesor max=0.01 m y todos los demás elementos necesarios para su correcta construcción y funcionamiento. | C26: =+APUS!F265 -> m2 | D26: =+APUS!E285 -> 88802
A27: 5.2 | B27: Construcción de MAMPOSTERIA EN LADRILLO CALADO de 0,10 m x 0,20 m x 0,20 m, Incluye el suministro, el mortero de pega 1:4 espesor max=0.01 m, revitado liso y todos los materiales necesarios para su correcta ejecución. | C27: =+APUS!F289 -> m2 | D27: =+APUS!E309 -> 150988
A28: 5.3 | B28: Construcción de MAMPOSTERÍA EN BLOQUE DE CONCRETO DE 10x20x30 cm. ESPESOR DE 10. resistencia 8 Mpa 3P NO ESTRUCTURAL. Para alturas hasta 3.50m. Incluye el suministro y transporte del bloque, el mortero de pega 0,25:1:5,(cal-cemento-arena) espesor max=0.01 m, trabas, columnas, machones, cuchillas, buitrones (para bajantes de redes en general), remates de enrases, de aristas con esquineros de fabrica, encorozados, áticos y chapas necesarias por detalles de construcción que se ejecuten en el mismo material que se está midiendo. Todos los cortes serán realizados a máquina. (Según norma Icontec 451, 296 y la Astm C-652 y C-34). | C28: =+APUS!F314 -> m2 | D28: =+APUS!E336 -> 115865
A29: 5.4 | B29: Construcción de caja de registro en mampostería de bloque de concreto con revoque interno, dimensiones de 0,5 m x 0,5 m, con altura de 0,5 m-espesor de paredes 0,1 m. Incluye tapa. | C29: =+APUS!F340 -> un | D29: =+APUS!E360 -> 326518
A30: 5.5 | B30: Colocación de REVOQUE con mortero 1:4 EN MUROS INTERNOS. Incluye suministro y transporte de los materiales, ranuras, filetes y todos los demás elementos necesarios para su correcta construcción. | C30: =+APUS!F364 -> m2 | D30: =+APUS!E382 -> 33970
A31: 5.6 | B31: Colocación de REVOQUE con mortero 1:4 IMPERMEABILIZADO con Sika 1 o equivalente, EN MUROS DE BAÑOS. Incluye suministro y transporte de los materiales, ranuras, filetes, y todos los demás elementos necesarios para su correcta construcción. | C31: =+APUS!F386 -> m2 | D31: =+APUS!E405 -> 50450
A32: 5.7 | B32: PREPARACIÓN DE SUPERFICIE DE MURO. Incluye el retiro de pintura, cal y/o superficies contaminadas garantizando adherencia, durabilidad y uniformidad superficial. | C32: =+APUS!F409 -> m2 | D32: =+APUS!E428 -> 8818
A33: 6.0.0 | B33: PISOS
A34: 6.1 | B34: ACOMODAMIENTO Y NIVELACIÓN DE PIEDRA DE ENTRESUELO, espesor de 0.15 m, entresuelo en piedra (e=0,10 m.), arenilla compactada (e=0,05 m.) Incluye suministro y transporte de materiales, compactación mecánica, polietileno de baja densidad y todo lo necesario para su correcta colocación. La piedra seleccionada debe ser aprobada por la interventoría. | C34: =+APUS!F433 -> m2 | D34: =+APUS!E450 -> 57272
A35: 6.2 | B35: Instalación de suelo-cemento 1:12 elaborado en obra, con material proveniente de la excavación. Compactación manual con pisón en capas de 15 cm de espesor. | C35: =+APUS!F454 -> m3 | D35: =+APUS!E468 -> 250191
A36: 6.3 | B36: Construcción de PISO O PLACA en concreto de 21 Mpa, espesor de 0,08 m. sobre el terreno y/o entresuelo. Incluye nivelación del terreno y adecuación de la superficie, mano de obra y todos los demás elementos necesarios para su correcta construcción. No incluye entresuelo. | C36: =+APUS!F472 -> m3 | D36: =+APUS!E492 -> 924452
A37: 6.4 | B37: Preparación de superficie de losa existente para adherencia de enchape. Incluye escarificación superficial de losa existente. | C37: =+APUS!F496 -> m2 | D37: =+APUS!E512 -> 9330
A38: 6.5 | B38: Adherente para junta en frío (concreto existente con mortero) | C38: =+APUS!F516 -> m2 | D38: =+APUS!E527 -> 8485
A39: 6.6 | B39: Construcción de PISO EN MORTERO 1:5 de NIVELACIÓN, espesor de 0.05m. Incluye suministro y transporte de los materiales y todo lo necesario para su correcta construcción y funcionamiento. | C39: =+APUS!F531 -> m3 | D39: =+APUS!E545 -> 925139
A40: 7.0.0 | B40: ENCHAPES / PINTURAS
A41: 7.1 | B41: Colocación de PISO CERÁMICO PARA PISOS TRAFICO RESIDENCIAL GENERAL, tipo Belaya beige o similar. Incluye suministro y transporte de los materiales, pegante para cerámica tipo Pegacor o equivalente, lechada con Boquilla Blanca para cerámica, remates, cortes con máquina y todo lo necesario para su correcta instalación. . | C41: =+APUS!F549 -> m2 | D41: =+APUS!E570 -> 120646
A42: 7.2 | B42: Construcción de pisos en cemento esmaltado mortero 1:5 , e= 0,1 m, juntas inducidas, sellador elástico de poliuretano hasta una profundidad de 5mm, limpieza de la junta, garantizar acabado uniforme, incluye todos los materiales necesario para su correcta ejecución. | C42: =+APUS!F574 -> m2 | D42: =+APUS!E591 -> 116824
A43: 7.3 | B43: Instalación de ENCHAPE CERÁMICO PARED y de cualquier otro requerimiento del proyecto. Incluye suministro y transporte de los materiales, mortero adhesivo para enchapes tipo pegacor o equivalente, lechada preparada (boquilla) tipo Concolor de sumicol o equivalente del mismo color del enchape, moldura PVC remates toro acolillada y todos los elementos necesarios para su correcta instalación y funcionamiento. | C43: =+APUS!F595 -> m2 | D43: =+APUS!E617 -> 121596
A44: 7.4 | B44: Suministro, transporte y colocación de pirlan en aluminio. | C44: =+APUS!F621 -> m | D44: =+APUS!E631 -> 23102
A45: 7.5 | B45: Colocación de ZÓCALO EN PISO CERÁMICO PARA PISOS TRAFICO RESIDENCIAL GENERAL, tipo Belaya beige o similiar DE 0.10 cms, Incluye suministro y transporte de los materiales, cortes con máquina, pegacor para pega de la cerámica, lechada con boquilla de Sumicol o equivalente, varilla de dilatación y todo lo necesario para su correcta instalación y funcionamiento. | C45: =+APUS!F635 -> m | D45: =+APUS!E655 -> 25581
A46: 7.6 | B46: Colocación de ESTUCO ACRÍLICO PROFESIONAL, SOBRE MUROS REVOCADOS, 3 manos mínimo, o las que sean necesarias para obtener una superficie pareja y homogénea. Incluye suministro y transporte de los materiales, ranuras, filetes, dilataciones y todos los elementos necesarios para su correcta aplicación y funcionamiento. | C46: =+APUS!F659 -> m2 | D46: =+APUS!E676 -> 16739
A47: 7.7 | B47: Aplicación de PINTURA A BASE DE AGUA EN MUROS, CON VINILO TIPO 1 de primera calidad sobre muros revocados y/o estucados, tres manos o las necesarias hasta obtener una superficie pareja y homogénea. Incluye suministro y transporte de los materiales, resanes, tapa poros en estuco plástico tipo plastestuco o equivalente diluido en agua proporción 1:2, adecuación de la superficie a intervenir hasta obtener una superficie pareja y homogénea, color a definir según aprobación de la interventoría. | C47: =+APUS!F680 -> m2 | D47: =+APUS!E698 -> 20608
A48: 7.8 | B48: Aplicación de ESMALTE A BASE DE ACEITE, sobre elementos metálicos, dos manos o las necesarias hasta obtener una superficie pareja y homogénea. Incluye suministro y transporte de los materiales, disolvente para pinturas a base de aceite, anticorrosivo, adecuación de la superficie a intervenir hasta obtener una superficie pareja y homogénea, color a definir según aprobación de la interventoría. | C48: =+APUS!F702 -> m2 | D48: =+APUS!E717 -> 16676
A49: 7.9 | B49: Aplicación de PINTURA ACRÍLICA en muros para exteriores (hidrorepelente) tipo koraza o equivalente de primera calidad que cumpla con la Norma NTC 1335, con sellante para poros tipo Sellamax de Pintuco o su equivalente, 3 manos o las que sean necesarias para obtener una superficie pareja y homogénea, a satisfacción de la interventoría. Incluye suministro y transporte de los materiales, preparada y adecuación de la superficie a intervenir. Color a definir aprobado por la interventoría. | C49: =+APUS!F721 -> m2 | D49: =+APUS!E740 -> 29774
A50: 7.10 | B50: Suministro e instalación de salpicadero cerámico para pared en cocina y lavadero de 0,60m de altura. incluye todos los materiales necesarios para su correcta ejecución. | C50: ml | D50: =+APUS!E762 -> 62447
A51: 8.0.0 | B51: APARATOS SANITARIOS
A52: 8.1 | B52: Suministro e instalación de COMBO SANITARIO tipo Acuacer o similar. Incluye los accesorios para baño, jabonera, papelera, toallera y todos los demás elementos necesarios para su correcta construcción y funcionamiento. | C52: =+APUS!F766 -> un | D52: =+APUS!E787 -> 868295
A53: 8.2 | B53: Suministro e instalación de SANITARIO INTEGRAL (línea Acuacer o equivalente) color BLANCO, bajo consumo 6lt, diseño de dos piezas, taza redonda, incluye transporte del sanitario, sifón esmaltado, grifería antisifón, anillo abierto, abasto metálico, válvula de regulación metálica con manguera flexible, brida de fijación, tapón roscado y todos los demás elementos necesarios para su correcta instalación y funcionamiento. | C53: =+APUS!F791 -> un | D53: =+APUS!E812 -> 502277
A54: 8.3 | B54: Suministro, transporte y colocación de accesorios para baño tipo mancesa o equivalente. Incluye jabonera, papelera, toallera y todos los demás elementos necesarios para su correcta construcción y funcionamiento. | C54: =+APUS!F816 -> juego | D54: =+APUS!E830 -> 113710
A55: 8.4 | B55: Suministro e instalación de teleducha. Incluye todos los elementos necesarios para su correcta instalación. | C55: =+APUS!F834 -> un | D55: =+APUS!E848 -> 107832
A56: 8.5 | B56: Colocación de duchas tipo Piscis sencilla de Grival o equivalente. Incluye suministro y transporte de los materiales, regadera cromada, llave con escudo cromados, tubería agua fría, accesorios, válvula economizadora y todos los demás elementos necesarios para su correcta instalación y funcionamiento. | C56: =+APUS!F852 -> un | D56: =+APUS!E868 -> 195655
A57: 8.6 | B57: Suministro, transporte y colocación de barra de seguridad para discapacitados, con una longitud de 40 cm. y un diámetro de 1¼" en acero inoxidable. Incluye pernos para anclaje, escudos en acero inoxidable y todos los elementos necesarios para su correcta instalación y funcionamiento. | C57: =+APUS!F872 -> un | D57: =+APUS!E886 -> 130080
A58: 8.7 | B58: Suministro e instalación de Lavadero en cerámica 0.70*0.60 m, incluye machones de soporte acabados con pintura, grifería, llave bocamanguera y todos los materiales necesarios para su correcta ejecución | C58: =+APUS!F890 -> un | D58: =+APUS!E915 -> 576222
A59: 8.8 | B59: Reinstalación de aparato sanitario, incluye el remplazo de los accesorios y todos los materiales necesarios para su correcta ejecución. | C59: =+APUS!F919 -> un | D59: =+APUS!E937 -> 129830
A60: 8.9 | B60: Suministro, transporte y colocación de lavamanos de colgar tipo Acuacer o equivalente. Incluye Grifería galaxia, abasto metálico, sifón botella y todos los demás elementos necesarios para su correcta instalación y funcionamiento. | C60: =APUS!F941 -> un | D60: =+APUS!E957 -> 289637
A61: 10.0.0 | B61: CARPINTERIA METALICA Y EN MADERA
A62: 10.5 | B62: =+APUS!A961 -> Suministro e instalación de PUERTA METÁLICA PARA BAÑO con marco, chapa y ala, ancho de 60 cm. Incluye los materiales, accesorios y elementos necesarios para su correcta instalación y funcionamiento, incluye pintura y anticorrosivo. | C62: =+APUS!F962 -> un | D62: =+APUS!E980 -> 657614
A63: 10.6 | B63: =+APUS!A983 -> Suministro e instalación de PUERTA METÁLICA PARA BAÑO con marco, chapa y ala, ancho de 70 cm. Incluye los materiales, accesorios y elementos necesarios para su correcta instalación y funcionamiento, incluye pintura y anticorrosivo. | C63: =+APUS!F984 -> un | D63: =+APUS!E1002 -> 657614
A64: 10.7 | B64: =+APUS!A1005 -> Suministro e instalación de PUERTA METÁLICA PARA BAÑO con marco, chapa y ala, ancho de 80 cm. Incluye los materiales, accesorios y elementos necesarios para su correcta instalación y funcionamiento, incluye pintura y anticorrosivo. | C64: =+APUS!F1006 -> un | D64: =+APUS!E1024 -> 714060
A65: 10.8 | B65: Suministro e instalación de puerta para baño de 0,70 a 0,90 m, incluye, marco en aluminio, ala perfil en acrílico blanco 2,8 mm y todos los materiales para su correcta ejecución, batiente. | C65: =+APUS!F1028 -> un | D65: =+APUS!E1044 -> 708465
A66: 10.9 | B66: Suministro e instalación de puerta en madera de 0.70 x 2.10 m a 0.90 x 2.10 m, incluye, marco en madera, ala en triplex, cerradura de pomo y todos los elementos para su ejecución. | C66: =+APUS!F1048 -> un | D66: =+APUS!E1064 -> 451970
A67: 10.11 | B67: Suministro e instalación de mueble Inferior para cocina, en lamina RH; entre muros (Incluye 2 puertas, 3 cajones, divisorios, entrepaños y todos los elementros para el corrrecto funcionamiento) | C67: ml | D67: =+APUS!E1091 -> 714620
A68: 10.12 | B68: Suministro e instalación de mueble Superior para cocina, en lamina RH, (Incluye 2 niveles de rejilla metalica para losa-platos-pocillos-vasos y todos los elementros para el corrrecto funcionamiento) | C68: ml | D68: =+APUS!E1110 -> 694920
A69: 10.13 | B69: Reinstalación de puertas y/o ventanas. Incluye canchas, resane y todo lo necesario para su correcta instalación y funcionamiento. | C69: =+APUS!F1114 -> und | D69: =+APUS!E1130 -> 127587
A70: 10.14 | B70: Suministro e instalación de mesón prefabricado en acero inoxidable 1.5 x 0.52 m socoda o similar, incluye machón de soporte acabados con revoque y pintura, pozuelo, grifería y todos los materiales necesarios para su correcta ejecución. | C70: =+APUS!F1135 -> Und | D70: =+APUS!E1154 -> 880360.65
A71: 10.15 | B71: Suministro e instalación de mesón prefabricado en acero inoxidable 1.5 x 0.52 m socoda o similar, incluye machón de soporte acabados con revoque y pintura, pozuelo, cubierta en acero inox. cuatro quemadores a gas, grifería y todos los materiales necesarios para su correcta ejecución | C71: =+APUS!F1158 -> Und | D71: =+APUS!E1178 -> 1374538.6
A72: 10.16 | B72: Suministro e instalación de mesón prefabricado en acero inoxidable 1.8 x 0.52 m socoda o similar, incluye tres machones de soporte acabados con revoque y pintura, pozuelo, grifería y todos los materiales necesarios para su correcta ejecución. | C72: =+APUS!F1182 -> Und | D72: =+APUS!E1201 -> 1130384
A73: 10.17 | B73: Suministro e instalación de mesón prefabricado en acero inoxidable 1.8 x 0.52 m socoda o similar, incluye tres machones de soporte acabados con revoque y pintura, pozuelo, cubierta en acero inox. cuatro quemadores a gas, grifería y todos los materiales necesarios para su correcta ejecución. | C73: =+APUS!F1205 -> Und | D73: =+APUS!E1225 -> 1651124
A74: 10.18 | B74: Suministro e instalación de mesón prefabricado en acero inoxidable 2.1 x 0.52 m socoda o similar, incluye tres machones de soporte acabados con revoque y pintura, pozuelo, grifería y todos los materiales necesarios para su correcta ejecución. | C74: =+APUS!F1229 -> Und | D74: =+APUS!E1248 -> 1280325.9
A75: 10.19 | B75: Suministro e instalación de mesón prefabricado en acero inoxidable 2.1 x 0.52 m socoda o similar, incluye tres machones de soporte acabados con revoque y pintura, pozuelo, cubierta en acero inox. cuatro quemadores a gas, grifería y todos los materiales necesarios para su correcta ejecución. | C75: =+APUS!F1252 -> Und | D75: =+APUS!E1272 -> 1804865.6
A76: 10.20 | B76: Suministro e instalación de mueble Inferior de 1.5 m en lamina RH con entrepaños, mínimo una línea con tres cajones y el restante con entrepaño 0,45m de fondo, riel de extención de 40 cm, manijas en aluminio, patas niveladoras. Incluye Pozuelo, cubierta en acero inox. cuatro quemadores a gas, grifería y todos los materiales necesarios para su correcta ejecución | C76: =+APUS!F1276 -> und | D76: =+APUS!E1292 -> 2234344.8
A77: 10.21 | B77: Suministro e instalación de mueble Inferior de 1.8m en lamina RH con entrepaños, mínimo una línea con tres cajones y el restante con entrepaño 0,45m de fondo, riel de extención de 40 cm, manijas en aluminio, patas niveladoras. Incluye Pozuelo, cubierta en acero inox. cuatro quemadores a gas, grifería y todos los materiales necesarios para su correcta ejecución. | C77: =+APUS!F1296 -> und | D77: =+APUS!E1312 -> 2632412
A78: 10.22 | B78: Suministro e instalación de mueble Inferior de 2.10m en lamina RH con entrepaños, mínimo una línea con tres cajones y el restante con entrepaño 0,45m de fondo, riel de extención de 40 cm, manijas en aluminio, patas niveladoras. Incluye Pozuelo, cubierta en acero inox. cuatro quemadores a gas, grifería y todos los materiales necesarios para su correcta ejecución. | C78: =+APUS!F1316 -> und | D78: =+APUS!E1332 -> 3027973.2
A79: 10.23 | B79: Suministro e instalación de mueble Inferior de 1.5m en lamina RH con entrepaños, mínimo una línea con tres cajones y el restante con entrepaño 0,45m de fondo, riel de extención de 40 cm, manijas en aluminio, patas niveladoras. Incluye Mesón Poceta Izquierda o derecha en Acero Inoxidable Con 4 Fogones A Gas (griferia) y mueble superior para cocina en lámina RH. Todo lo necesario para su correcta instalación. | C79: =+APUS!F1336 -> und | D79: =+APUS!E1353 -> 2958527.8
A80: 10.24 | B80: Suministro e instalación de mueble Inferior de 1.8m en lámina RH con entrepaños, mínimo una línea con tres cajones y el restante con entrepaño 0,45m de fondo, riel de extención de 40 cm, manijas en aluminio, patas niveladoras.Incluye Mesón Poceta Izquierda o derecha en Acero Inoxidable Con 4 Fogones A Gas (griferia) y mueble superior para cocina en lámina RH. Todo lo necesario para su correcta instalación. | C80: =+APUS!F1357 -> und | D80: =+APUS!E1374 -> 3620147.5
A81: 10.25 | B81: Suministro e instalación de mueble Inferior de 2.10m en lámina RH con entrepaños, mínimo una línea con tres cajones y el restante con entrepaño 0,45m de fondo, riel de extención de 40 cm, manijas en aluminio, patas niveladoras.Incluye Mesón Poceta Izquierda o derecha en Acero Inoxidable Con 4 Fogones A Gas (griferia) y mueble superior para cocina en lámina RH. Todo lo necesario para su correcta instalación. | C81: =+APUS!F1378 -> und | D81: =+APUS!E1395 -> 4116653.2
A82: 10.26 | B82: Suministro, transporte e instalación de mueble modular vertical de cocina, en lámina RH (0,30m de fondo), tornillo de ensamble para madera de 6x2", chazo plástico para drywall. incluye puertas, divisorios, entrepaños y accesorios y todos los materiales necesarios para su correcta ejecución. | C82: =+APUS!F1399 -> und | D82: =+APUS!E1414 -> 940600
A83: 11.0.0 | B83: INSTALACIONES HIDROSANITARIAS
A84: 11.1 | B84: Suministro, transporte e instalación de salidas de abasto en DIÁMETRO DE 1/2"con tubería RDE 9, 500 PSI, incluye todos los accesorios en PVC de diámetro 1/2" que se requieran para su correcta instalación. Estos deberán estar correctamente pegados usando limpiador, soldadura y teflón apropiados, sin presentar fugas, fisuras o cualquier otra clase de anomalía. Se debe garantizar la correcta instalación y funcionamiento. Incluye además las perforaciones (canchas) de paredes o pisos que lo requieran incluyendo cargue, transporte y botada de escombros en botaderos oficiales o donde indique la interventoría. | C84: =+APUS!F1419 -> un | D84: =+APUS!E1443 -> 55691
A85: 11.2 | B85: Suministro, transporte e instalación de tubería PVC-P, RDE 9, 500 PSI, diámetro 1/2", incluye todos los accesorios en PVC de diámetro 1/2" incluyendo todos los accesorios reducidos que se requieran para su correcta instalación. Estos deberán estar correctamente pegados usando limpiador, soldadura y teflón apropiados, sin presentar fugas, fisuras o cualquier otra clase de anomalía. Se debe garantizar la correcta instalación y funcionamiento. Incluye además las perforaciones (canchas) de paredes o pisos que lo requieran incluyendo cargue, transporte y botada de escombros en botaderos oficiales o donde indique la interventoría. | C85: =+APUS!F1447 -> m | D85: =+APUS!E1467 -> 14286
A86: 11.3 | B86: Suministro, transporte e instalación de SALIDA SANITARIA DE 2". Incluye todos los accesorios hasta el tapón de prueba. Se pagará dicha salida hasta un recorrido máximo de tubería no mayor a 2 m. Estos deberán estar correctamente pegados usando limpiador, soldadura y teflón apropiados, sin presentar fugas, fisuras o cualquier otra clase de anomalía. Incluye además las perforaciones (canchas) de paredes o pisos que lo requieran incluyendo cargue, transporte y botada de escombros en botaderos oficiales o donde indique la interventoría. | C86: =+APUS!F1471 -> un | D86: =+APUS!E1495 -> 115362
A87: 11.4 | B87: Suministro, transporte e instalación de SALIDA SANITARIA DE 3". Incluye todos los accesorios hasta el tapón de prueba. Se pagará dicha salida hasta un recorrido máximo de tubería no mayor a 2 m. Estos deberán estar correctamente pegados usando limpiador, soldadura y teflón apropiados, sin presentar fugas, fisuras o cualquier otra clase de anomalía. Incluye además las perforaciones (canchas) de paredes o pisos que lo requieran incluyendo cargue, transporte y botada de escombros en botaderos oficiales o donde indique la interventoría. | C87: =+APUS!F1499 -> un | D87: =+APUS!E1523 -> 148287
A88: 11.5 | B88: Suministro, transporte e instalación de SALIDA SANITARIA DE 4". Incluye todos los accesorios hasta el tapón de prueba. Se pagará dicha salida hasta un recorrido máximo de tubería no mayor a 2 m. Estos deberán estar correctamente pegados usando limpiador, soldadura y teflón apropiados, sin presentar fugas, fisuras o cualquier otra clase de anomalía. Incluye además las perforaciones (canchas) de paredes o pisos que lo requieran incluyendo cargue, transporte y botada de escombros en botaderos oficiales o donde indique la interventoría. | C88: =+APUS!F1527 -> un | D88: =+APUS!E1548 -> 190444
A89: 11.6 | B89: Suministro, transporte e instalación de TUBERÍA PVC-SANITARIA, con un DIÁMETRO DE 2", para aguas residuales ENTERRADA y/o EMPOTRADA por losas. Incluye suministro y transporte de los materiales, accesorios, pegante, limpiador y todos los elementos necesarios para su correcta instalación y funcionamiento. La excavación y los llenos se pagaran en su ítem respectivo. | C89: =+APUS!F1552 -> m | D89: =+APUS!E1574 -> 35696
A90: 11.7 | B90: Suministro, transporte e instalación de TUBERÍA PVC-SANITARIA, con un DIÁMETRO DE 3", para aguas residuales o lluvia ENTERRADA y/o EMPOTRADA por losas. Incluye suministro y transporte de los materiales, accesorios, pegante, limpiador y todos los elementos necesarios para su correcta instalación y funcionamiento. La excavación y los llenos se pagaran en su ítem respectivo. | C90: =+APUS!F1578 -> m | D90: =+APUS!E1601 -> 53399
A91: 11.8 | B91: Suministro, transporte e instalación de TUBERÍA PVC-SANITARIA, con un DIÁMETRO DE 4", para aguas residuales o lluvia ENTERRADA y/o EMPOTRADA por losas. Incluye suministro y transporte de los materiales, accesorios, pegante, limpiador y todos los elementos necesarios para su correcta instalación y funcionamiento. La excavación y los llenos se pagaran en su ítem respectivo. | C91: =+APUS!F1605 -> m | D91: =+APUS!E1631 -> 68920
A92: 11.9 | B92: Suministro, transporte e instalación de REJILLA METÁLICA DE PISO combinada Aluminio/bronce DE 3x2" para desagüe de 2". Incluye suministro y transporte de los materiales y todos los elementos necesarios para su correcta instalación. | C92: =+APUS!F1635 -> un | D92: =+APUS!E1646 -> 47095
A93: 11.10 | B93: Suministro, transporte e instalación de REJILLA METÁLICA DE PISO combinada Aluminio/bronce DE 4x3" para desagüe de 3". Incluye suministro y transporte de los materiales y todos los elementos necesarios para su correcta instalación. | C93: =+APUS!F1650 -> un | D93: =+APUS!E1661 -> 50409
A94: 11.11 | B94: KIT SÉPTICO: Trampa de Grasa 250 Lt, Tanque 500 Lt, FAFA 500 Lt. Incluye la excavación, suministro e instalación de todos los accesorios y materiales necesarios para su correcta instalación que se encontraran dispuestos en el sitio del proyecto. | C94: =+APUS!F1665 -> un | D94: =+APUS!E1698 -> 3845524
A95: 11.12 | B95: Construcción en sitio de pozo de absorción de 1.50m de diámetro interno, profundidad de referencia de 2.0 m en mampostería, para disposición final de aguas provenientes de sistema séptico. Incluye excavación, lleno en gravilla, accesorios en PVC, concreto, formaletas, refuerzos, tapa y disposición de material de excavación. | C95: =+APUS!F1702 -> un | D95: =+APUS!E1728 -> 3520226
A96: 12.0.0 | B96: INSTALACIONES ELECTRICAS
A97: 12.1 | B97: Construcción de SALIDA INSTALACIONES ELÉCTRICAS, incluye la instalación de materiales, accesorios y elementos necesarios para puntos, salidas, cableado, tubería Conduit o canaleta, aparatos eléctricos, cajas, plafones, accesorios y los materiales necesarios para la ejecución de la actividad. Incluye además las perforaciones (canchas) de paredes o pisos que lo requieran con su respectivo resane, acabado. | C97: un | D97: =+APUS!E1757 -> 185335
A98: 12.2 | B98: Construcción de SALIDA INSTALACIONES ELÉCTRICAS TOMACORRIENTE GFCI, incluye la instalación de materiales, accesorios y elementos necesarios para puntos, salidas, cableado, tubería Conduit o canaleta, aparatos eléctricos, cajas, accesorios y los materiales necesarios para la ejecución de la actividad. Incluye además las perforaciones (canchas) de paredes o pisos que lo requieran con su respectivo resane, acabado. | C98: =+APUS!F1761 -> un | D98: =+APUS!E1782 -> 217003
A99: 12.3 | B99: Construcción de SALIDA INSTALACIONES ELÉCTRICAS TABLERO DE DISTRIBUCIÓN DE 8 CIRCUITOS, incluye la instalación de materiales, accesorios y elementos necesarios para puntos, Caja, breaker, accesorios y los materiales necesarios para la ejecución de la actividad. Incluye además las perforaciones (canchas) de paredes o pisos que lo requieran con su respectivo resane, acabado. | C99: =+APUS!F1812 -> un | D99: =+APUS!E1831 -> 462874
A100: 13.0.0 | B100: LLENOS
A101: 13.1 | B101: LLENOS EN ARENILLA, compactados mecánicamente hasta obtener una densidad del 98% de la máxima obtenida en el ensayo del Próctor modificado. Incluye el suministro, transporte, colocación de la arenilla, la compactación de la misma y transporte interno. Y su medida será en sitio ya compactado. | C101: =+APUS!F1835 -> m3 | D101: =+APUS!E1852 -> 203763
A102: 13.2 | B102: LLENOS EN MATERIAL PROVENIENTES DE LA EXCAVACIÓN, compactados mecánicamente hasta obtener una densidad del 95% de la máxima obtenida en el ensayo del próctor modificado. Incluye transporte interno. Su medida será en sitio ya compactado. | C102: =+APUS!F1856 -> m3 | D102: =+APUS!E1869 -> 58712
A103: 13.3 | B103: Construcción de SOBRECIMIENTO EN BLOQUE DE CONCRETO DE 10 x 20 x 40 cm. ESPESOR de 10 cm, (bloque de primera calidad, 2 HILADAS), resistencia 8 Mpa (3p, no estructural). Incluye el suministro y el transporte de materiales, mortero de pega 1:4, relleno en concreto fluido de 10.5Mpa en todas las celdas, y todos los elementos necesarios para su correcta ejecución y funcionamiento. | C103: =+APUS!F1873 -> m | D103: =+APUS!E1889 -> 40786

Sheet APUS
A1: ANÁLISIS DE PRECIOS UNITARIOS | J1: 1.13 | K1: SMLV YA SE HABIA INCREMENTADO EL 10% TOTAL INCREM 23%
A3: ANALISIS DE PRECIOS UNITARIOS
A4: =+'RESUMEN APUS'!B9 -> RETIRO DE TUBERÍA DE AGUAS RESIDUALES y/o LLUVIAS colgadas o expuestas. Incluye el cargue y transporte de los materiales aprovechables hasta la bodega o donde lo indique la interventoría, el cargue transporte y botada de los escombros generados en botaderos oficiales o donde lo indique la interventoría. | E4: No. Item | F4: Unidad
E5: 1.2 | F5: m
A6: Clave | B6: Mano de Obra | C6: Unidad | D6: Cantidad | E6: V/Unitario | F6: V/Total
A7: CUAD RETIROS | B7: Cuadrilla Retiros | C7: jor | D7: 0.01492 | E7: =262000*1.1*$J$1 -> 325666 | F7: =ROUND(D7*E7,0) -> 4859
A8: Importe de Mano de Obra | C8: 81.419477 | E8: SUBTOTAL | F8: =SUM(F7) -> 4859
A9: Clave | B9: Herramienta | C9: Unidad | D9: Cantidad | E9: V/Unitario | F9: V/Total
A10: HERRAMIENTA MENOR | B10: Herramienta menor | C10: (%)mo | D10: 0.05 | E10: =F8 -> 4859 | F10: =ROUND(D10*E10,0) -> 243
A11: Importe de Herramienta | C11: 4.0792266 | E11: SUBTOTAL | F11: =SUM(F10) -> 243
A12: Clave | B12: Equipo | C12: Unidad | D12: Cantidad | E12: V/Unitario | F12: V/Total
A13: CAN ZUNCHADO ALQUILE | B13: Can zunchado en madera común de 5,0cmx20cmx3,0m (alquiler). Incluye transporte. | C13: día | D13: 0.03 | E13: =+E49 -> 4100 | F13: =ROUND(D13*E13,0) -> 123
A14: ANDAMIO COMPLE+ RUED | B14: Sección completa de andamio (1.2m-1.5m) x 1.5 m. (+ 4 ruedas) Incluye transporte. | C14: día | D14: 0.0143 | E14: =+E48 -> 5200 | F14: =ROUND(D14*E14,0) -> 74
A15: Importe de Equipo | C15: 1.4619194 | E15: SUBTOTAL | F15: =SUM(F13:F14) -> 197
A16: Clave | B16: Auxiliares | C16: Unidad | D16: Cantidad | E16: V/Unitario | F16: V/Total
A17: CARGUE/TRANS/BOTAD | B17: Cargue (Paleros), transporte de materiales y derechos de botadero y/o almacenamiento en bodega. | C17: m3 | D17: 0.009 | E17: =57458.778*1.052 -> 60446.634 | F17: =ROUND(D17*E17,0) -> 544
E18: SUBTOTAL | F18: =SUM(F17) -> 544
A19: P R E C I O U N I T A R I O | E19: =F8+F11+F15+F18 -> 5843
A21: ANALISIS DE PRECIOS UNITARIOS
A22: =+'RESUMEN APUS'!B10 -> RETIRO DE APARATOS SANITARIOS, incluye el cargue, transporte, botada o recuperación de aparatos sanitarios, lavamanos, lavaderos, orinales. Incluye botada en botaderos oficiales y la recuperación de los materiales aprovechables y/o su transporte hasta la bodega o el sitio que indique la interventoría. | E22: No. Item | F22: Unidad
E23: 1.3 | F23: un
A24: Clave | B24: Materiales | C24: Unidad | D24: Cantidad | E24: V/Unitario | F24: V/Total
A25: TAPON PVC-P SOLDA1 | B25: Tapón PVC-P soldado 1" | C25: un | D25: 1 | E25: =1336.154*1.052 -> 1405.634 | F25: =ROUND(D25*E25,0) -> 1406
A26: Importe de Materiales | C26: 3.323255 | E26: SUBTOTAL | F26: =SUM(F25) -> 1406
A27: Clave | B27: Mano de Obra | C27: Unidad | D27: Cantidad | E27: V/Unitario | F27: V/Total
A28: CUAD RETIROS | B28: Cuadrilla Retiros | C28: jor | D28: 0.12918 | E28: =262477.681158667*1.1*$J$1 -> 326259.76 | F28: =ROUND(D28*E28,0) -> 42146
A29: Importe de Mano de Obra | C29: 74.380443 | E29: SUBTOTAL | F29: =SUM(F28) -> 42146
A30: Clave | B30: Herramienta | C30: Unidad | D30: Cantidad | E30: V/Unitario | F30: V/Total
A31: HERRAMIENTA MENOR | B31: Herramienta menor | C31: (%)mo | D31: 0.05 | E31: =F29 -> 42146 | F31: =ROUND(D31*E31,0) -> 2107
A32: Importe de Herramienta | C32: 3.7186345 | E32: SUBTOTAL | F32: =SUM(F31) -> 2107
A33: Clave | B33: Auxiliares | C33: Unidad | D33: Cantidad | E33: V/Unitario | F33: V/Total
A34: CARGUE/TRANS/BOTAD | B34: Cargue (Paleros), transporte de materiales y derechos de botadero y/o almacenamiento en bodega. | C34: m3 | D34: 0.11 | E34: =57458.778*1.052 -> 60446.634 | F34: =ROUND(D34*E34,0) -> 6649
E35: SUBTOTAL | F35: =SUM(F34) -> 6649
A36: P R E C I O U N I T A R I O | E36: =F26+F29+F32+F35 -> 52308
A38: ANALISIS DE PRECIOS UNITARIOS
A39: =+'RESUMEN APUS'!B11 -> DEMOLICIÓN MAMPOSTERÍA EN LADRILLO DE 10 a 15 cm DE ESPESOR, incluye cargue, transporte y botada de escombros en botaderos oficiales, demolición de revoques y enchapes aplicados en el muro a demoler e instalaciones embebidas, además recuperación de los materiales aprovechables o su transporte hasta el sitio que lo indique la interventoría. | E39: No. Item | F39: Unidad
E40: 1.4 | F40: m2
A41: Clave | B41: Mano de Obra | C41: Unidad | D41: Cantidad | E41: V/Unitario | F41: V/Total
A42: CUAD DEMOLICIONES | B42: Cuadrilla Demoliciones | C42: jor | D42: 0.066285 | E42: =312364.759126667*1.1*$J$1 -> 388269.4 | F42: =ROUND(D42*E42,0) -> 25736
A43: Importe de Mano de Obra | C43: 55.91536 | E43: SUBTOTAL | F43: =SUM(F42) -> 25736
A44: Clave | B44: Herramienta | C44: Unidad | D44: Cantidad | E44: V/Unitario | F44: V/Total
A45: HERRAMIENTA MENOR | B45: Herramienta menor | C45: (%)mo | D45: 0.05 | E45: =F43 -> 25736 | F45: =ROUND(D45*E45,0) -> 1287
A46: Importe de Herramienta | C46: 2.7956252 | E46: SUBTOTAL | F46: =SUM(F45) -> 1287
A47: Clave | B47: Equipo | C47: Unidad | D47: Cantidad | E47: V/Unitario | F47: V/Total
A48: ANDAMIO COMPLE+ RUED | B48: Sección completa de andamio (1.2m-1.5m) x 1.5 m. (+ 4 ruedas) Incluye transporte. | C48: día | D48: 0.1 | E48: =+E85 -> 5200 | F48: =ROUND(D48*E48,0) -> 520
A49: CAN ZUNCHADO ALQUILE | B49: Can zunchado en madera común de 5,0cmx20cmx3,0m (alquiler). Incluye transporte. | C49: día | D49: 0.26 | E49: =+E86 -> 4100 | F49: =ROUND(D49*E49,0) -> 1066
A50: Importe de Equipo | C50: 1.3421286 | E50: SUBTOTAL | F50: =SUM(F48:F49) -> 1586
A51: Clave | B51: Auxiliares | C51: Unidad | D51: Cantidad | E51: V/Unitario | F51: V/Total
A52: CARGUE/TRANS/BOTAD | B52: Cargue (Paleros), transporte de materiales y derechos de botadero y/o almacenamiento en bodega. | C52: m3 | D52: 0.18 | E52: =57458.778*1.052 -> 60446.634 | F52: =ROUND(D52*E52,0) -> 10880
A53: ACARREO INT MAT (M3) | B53: Acarreo interno de materiales | C53: m3 | D53: 0.18 | E53: 17078.043 | F53: =ROUND(D53*E53,0) -> 3074
E54: SUBTOTAL | F54: =SUM(F52:F53) -> 13954
A55: P R E C I O U N I T A R I O | E55: =F43+F46+F50+F54 -> 42563
A57: ANALISIS DE PRECIOS UNITARIOS
A58: =+'RESUMEN APUS'!B12 -> DEMOLICIÓN PISO EN CONCRETO de cualquier resistencia con espesor hasta de 12 cm, manual o mecánicamente. Incluye cargue, transporte y botada de escombros, retiro de refuerzo e instalaciones embebidas, además recuperación de los materiales aprovechables y su transporte hasta el sitio que lo indique la interventoría. | E58: No. Item | F58: Unidad
E59: 1.5 | F59: m2
A60: Clave | B60: Mano de Obra | C60: Unidad | D60: Cantidad | E60: V/Unitario | F60: V/Total
A61: AYUDANTE RASO | B61: Ayudante raso | C61: jor | D61: 0.060947972 | E61: =80365.8349622223*1.1*$J$1 -> 99894.733 | F61: =ROUND(D61*E61,0) -> 6088
A62: Importe de Mano de Obra | C62: 17.079132 | E62: SUBTOTAL | F62: =SUM(F61) -> 6088
A63: Clave | B63: Herramienta | C63: Unidad | D63: Cantidad | E63: V/Unitario | F63: V/Total
A64: HERRAMIENTA MENOR | B64: Herramienta menor | C64: (%)mo | D64: 0.05 | E64: =F62 -> 6088 | F64: =ROUND(D64*E64,0) -> 304
A65: Importe de Herramienta | C65: 0.85548427 | E65: SUBTOTAL | F65: =SUM(F64) -> 304
A66: Clave | B66: Equipo | C66: Unidad | D66: Cantidad | E66: V/Unitario | F66: V/Total
A67: COMPRESOR NEU+MARTIL | B67: Compresor Neumático con martillo demoledor o perforador en superficie, punta, combustible y operador. | C67: hr | D67: 0.10836 | E67: =78500*1.052 -> 82582 | F67: =ROUND(D67*E67,0) -> 8949
A68: Importe de Equipo | C68: 33.219851 | E68: SUBTOTAL | F68: =SUM(F67) -> 8949
A69: Clave | B69: Auxiliares | C69: Unidad | D69: Cantidad | E69: V/Unitario | F69: V/Total
A70: CARGUE/TRANS/BOTAD | B70: Cargue (Paleros), transporte de materiales y derechos de botadero y/o almacenamiento en bodega. | C70: m3 | D70: 0.166 | E70: =57458.778*1.052 -> 60446.634 | F70: =ROUND(D70*E70,0) -> 10034
A71: ACARREO INT MAT (M3) | B71: Acarreo interno de materiales | C71: m3 | D71: 0.166 | E71: 17078.043 | F71: =ROUND(D71*E71,0) -> 2835
E72: SUBTOTAL | F72: =SUM(F70:F71) -> 12869
A73: P R E C I O U N I T A R I O | E73: =F62+F65+F68+F72 -> 28210
A75: ANALISIS DE PRECIOS UNITARIOS
A76: =+'RESUMEN APUS'!B13 -> DEMOLICIÓN DE ENCHAPE, espesores entre 0.03 y 0.05 m. Incluye cargue, transporte y botada de escombros en botaderos oficiales, demolición de revoques y enchapes aplicados en el muro a demoler e instalaciones embebidas, además recuperación de los materiales aprovechables o su transporte hasta el sitio que lo indique la interventoría. | E76: No. Item | F76: Unidad
E77: 1.6 | F77: m2
A78: Clave | B78: Mano de Obra | C78: Unidad | D78: Cantidad | E78: V/Unitario | F78: V/Total
A79: CUAD DEMOLICIONES | B79: Cuadrilla Demoliciones | C79: jor | D79: 0.043454 | E79: =312364.759126667*1.1*$J$1 -> 388269.4 | F79: =ROUND(D79*E79,0) -> 16872
A80: Importe de Mano de Obra | C80: 73.197069 | E80: SUBTOTAL | F80: =SUM(F79) -> 16872
A81: Clave | B81: Herramienta | C81: Unidad | D81: Cantidad | E81: V/Unitario | F81: V/Total
A82: HERRAMIENTA MENOR | B82: Herramienta menor | C82: (%)mo | D82: 0.05 | E82: =F80 -> 16872 | F82: =ROUND(D82*E82,0) -> 844
A83: Importe de Herramienta | C83: 3.6582007 | E83: SUBTOTAL | F83: =SUM(F82) -> 844
A84: Clave | B84: Equipo | C84: Unidad | D84: Cantidad | E84: V/Unitario | F84: V/Total
A85: ANDAMIO COMPLE+ RUED | B85: Sección completa de andamio (1.2m-1.5m) x 1.5 m. (+ 4 ruedas) Incluye transporte. | C85: día | D85: 0.08 | E85: =+E375 -> 5200 | F85: =ROUND(D85*E85,0) -> 416
A86: CAN ZUNCHADO ALQUILE | B86: Can zunchado en madera común de 5,0cmx20cmx3,0m (alquiler). Incluye transporte. | C86: día | D86: 0.27 | E86: =+E399 -> 4100 | F86: =ROUND(D86*E86,0) -> 1107
A87: Importe de Equipo | C87: 2.589389 | E87: SUBTOTAL | F87: =SUM(F85:F86) -> 1523
A88: Clave | B88: Auxiliares | C88: Unidad | D88: Cantidad | E88: V/Unitario | F88: V/Total
A89: CARGUE/TRANS/BOTAD | B89: Cargue (Paleros), transporte de materiales y derechos de botadero y/o almacenamiento en bodega. | C89: m3 | D89: 0.044 | E89: =57458.778*1.052 -> 60446.634 | F89: =ROUND(D89*E89,0) -> 2660
A90: ACARREO INT MAT (M3) | B90: Acarreo interno de materiales | C90: m3 | D90: 0.0535 | E90: 17078.043 | F90: =ROUND(D90*E90,0) -> 914
E91: SUBTOTAL | F91: =SUM(F89:F90) -> 3574
A92: P R E C I O U N I T A R I O | E92: =F80+F83+F87+F91 -> 22813
A94: ANALISIS DE PRECIOS UNITARIOS
A95: =+'RESUMEN APUS'!B14 -> DEMOLICIÓN PISO EN BALDOSA sobre terreno. cargue, transporte y botada de escombros, Incluye demolición del mortero de nivelación espesor máximo 0.07m, refuerzo e instalaciones embebidas. Además recuperación de los materiales aprovechables o su transporte hasta el sitio que lo indique la interventoría. | E95: No. Item | F95: Unidad
E96: 1.7 | F96: m2
A97: Clave | B97: Materiales | C97: Unidad | D97: Cantidad | E97: V/Unitario | F97: V/Total
A98: COSTAL FIBRA | B98: Costal de fibra | C98: un | D98: 2 | E98: =1350.7*1.052 -> 1420.9364 | F98: =ROUND(D98*E98,0) -> 2842
A99: Importe de Materiales | C99: 0.14787846 | E99: SUBTOTAL | F99: =SUM(F98) -> 2842
A100: Clave | B100: Mano de Obra | C100: Unidad | D100: Cantidad | E100: V/Unitario | F100: V/Total
A101: AYUDANTE RASO | B101: Ayudante raso | C101: jor | D101: 0.087278467 | E101: =80365.8349622223*1.1*$J$1 -> 99894.733 | F101: =ROUND(D101*E101,0) -> 8719
A102: Importe de Mano de Obra | C102: 0.38401314 | E102: SUBTOTAL | F102: =SUM(F101) -> 8719
A103: Clave | B103: Herramienta | C103: Unidad | D103: Cantidad | E103: V/Unitario | F103: V/Total
A104: HERRAMIENTA MENOR | B104: Herramienta menor | C104: (%)mo | D104: 0.05 | E104: =F102 -> 8719 | F104: =ROUND(D104*E104,0) -> 436
A105: Importe de Herramienta | C105: 0.017246099 | E105: SUBTOTAL | F105: =SUM(F104) -> 436
A106: Clave | B106: Auxiliares | C106: Unidad | D106: Cantidad | E106: V/Unitario | F106: V/Total
...
