Workbook

Sheet SMMLV
A1: AÑO | B1: SMMLV
A2: 2007 | B2: 433700
A3: 2008 | B3: 461500
A4: 2009 | B4: 496900
A5: 2010 | B5: 515000
A6: 2011 | B6: 535600
A7: 2012 | B7: 566700
A8: 2013 | B8: 589500
A9: 2014 | B9: 616000
A10: 2015 | B10: 644350
A11: 2016 | B11: 689454
A12: 2017 | B12: 737717
A13: 2018 | B13: 781242
... A21: 2026 | B21: 1750905

Sheet HP1
A1: VERIFICACIÓN DE REQUISITOS HABILITANTES | L1: LP-SEG-03746-2025
A2: MEJORAMIENTO Y FORTALECIMIENTO INTEGRAL DEL ÁREA DE ALMACÉN DE LA GOBERNACIÓN DE NORTE DE SANTANDER
A3: =+A7 -> PROPONENTE 1 | H3: =+A8 -> CONSORCIO CONSTRUCTORES UNIDOS 148
A5: San José de Cúcuta, 23 de febrero de 2026
A7: PROPONENTE 1 | M7: REPRESENTANTE LEGAL
A8: CONSORCIO CONSTRUCTORES UNIDOS 148 | M8: VIVIANA OSORIO JARAMILLO C.C. 1.090.406.524 de Cúcuta
A10: INTEGRANTES | M10: NIT. | R10: PARTICIPACIÓN
A11: IDC OBRAS CIVILES S.A.S | M11: 901386951-4 | R11: 0.95
A12: COTES Y COTES SAS | M12: 900336724-1 | R12: 0.05
A14: INFORMACION GENERAL
A16: FECHA DE CIERRE DEL PPRESENTE PROCESO | Q16: 16 DE FEBRERO DE 2026
A17: PLAZO DE EJECUCIÓN | Q17: 7 MESES
A19: 100% PTO OFICIAL | H19: 3362026089 | L19: SMMLV 2026 | S19: =+H19/SMMLV!B21 -> 1920.1648 | W19: 3361110528
A21: IX. JUSTIFICACIÓN DE LOS FACTORES DE SELECCIÓN QUE PERMITAN IDENTIFICAR LA OFERTA MÁS FAVORABLE:
A23: 9.1. Criterios Técnicos Habilitantes Documentos y Requisitos de Contenido Mínimo Técnico.
A25: A. Experiencia
A27: Para acreditar esta experiencia, cada proponente deberá presentar la relación de contratos ya ejecutados de la siguiente manera: UN (01) contrato terminado en el que el ejecutor demuestre con certificación y/o acta de liquidación, expedida por entidad pública o privada que ha ejecutado actividades de obra, y cuya sumatoria sea igual o superior al cien por ciento (100%) del presupuesto oficial estimado para el presente proceso de contratación.
A29: El proponente deberá indicar el consecutivo del contrato que presenta como experiencia resaltando en su RUP con color fluorescente cada uno de los códigos a acreditar, que deberán corresponder a los señalados en la siguiente tabla:
A31: Códigos estándar de productos y servicios de Naciones Unidas
A32: CODIGO UNSPSC | H32: DESCRIPCION
A33: 72103300 | H33: Servicios de mantenimiento y reparación de infraestructura
A34: 72121400 | H34: Servicios de construcción de edificios públicos especializados
A35: 72101500 | H35: Servicios de apoyo para la construcción
A37: VERIFICACIÓN CONTRATOS EN OBRAS CIVILES
A39: El oferente presenta los siguientes contratos para acreditar la experiencia general:
A41: PROPONENTE | D41: OBJETO | H41: VALOR | K41: CONTRATO No. | N41: CONTRATANTE | Q41: PARTICIP. | S41: CONSECUTIVO RUP | U41: VP CONTRATO ACTUALIZADO SMMLV
K42: No. | L42: AÑO DE TERMINACIÓN
A43: COTES Y COTES SAS Aporta: Certificación en la que describe la ejecución de un contrato de obra | D43: DISEÑOS, DEMOLICION, REFORZAMIENTO ESTRUCTURAL, AMPLIACION Y CONSTRUCCION DE EDIFICACION COMERCIAL DE AUTORIENTAL SAS | H43: 2752786644 | K43: 001 DE 2019 ACTA INICIO 08AGO2019 TERMINACION 20NOV2020 | L43: 2020 | N43: AUTO ORIENTAL S.A.S | Q43: 1 | S43: CONSEC. 7 RUP COTES FOLIO RUP 28 CODIGO 721033 721214 721015 | U43: =+H43*Q43/((VLOOKUP(L43,SMMLV!A:B,2,FALSE))) -> 3135.9959
A44: VALOR DEL CONTRATO EJECUTADO ACREDITADO (SMMLV) | U44: =+U43 -> 3135.9959
A46: VALOR EJECUTADO, MAYOR O IGUAL AL 100% P.O. (según numeral 9.1) | S46: 3.136,00 > | U46: =+S19 -> 1920.1648
A48: Para la experiencia requerida en el numeral 9.1 del capitulo IX. JUSTIFICACIÓN DE LOS FACTORES DE SELECCIÓN QUE PERMITAN IDENTIFICAR LA OFERTA MÁS FAVORABLE, el proponente presentó un (1) contrato: No. 001 DE 2019, aportando certificación expedida el 16 de diciembre de 2020. El contrato está terminado, ejecutado con entidad privada, esta registrado en el RUP y clasificado con los códigos 721033, 721214, 721015, el valor del contrato es superior al 100% del presupuesto oficial. Por tanto, una vez vertificados los documentos, el oferente CUMPLE con la totalidad de los requisitos establecidos en el pliego de condiciones para la experiencia.
A50: C5. Capacidad Residual
A52: El Proponente debe acreditar una capacidad residual o K de Contratación igual o superior a: | Q52: =+H19 -> 3362026089
A54: Para su cálculo, el evaluador se basó en la siguiente información, de acuerdo a lo aportado por el oferente:
A56: INTEGRANTE | J56: =+A11 -> IDC OBRAS CIVILES S.A.S
A57: 1. SCE. LISTA DE CONTRATOS EN EJECUCIÓN. | J57: ADJUNTA FORMATO. Relaciona 9 contratos. Se solicita subsanar: Indicar la fecha de suspensión de los contratos que relaciona con SI suspendidos, y aclarar si los contratos que relacionado como sin contrato solo tienen adjudicación o si a cierre del proceso ya se encontraban celebrados.
A58: 2. CAPACIDAD DE ORGANIZACIÓN. ESTADO DE RESULTADOS Y BALANCE GENERAL DEL MEJOR INGRESO OPERACIONAL DE LOS ULTIMOS 5 AÑOS. | J58: ADJUNTA FORMATO en el que reporta el Mayor ingreso operacional por valor $38.603.842.625, no adjunta estado de resultados ni balance general. Se solicita subsanar: Allegar estado de resultados auditado que contenga el mejor ingreso operacional de los últimos cinco (5) años, el balance general auditado del último año, los cuales deben estar suscritos por el representante legal y el revisor fiscal, documentos del revisor fiscal. (cc, tp, certificado junta de contadores vigente).
A59: 3. EXPERIENCIA. VALOR TOTAL DE LOS CONTRATOS INSCRITOS EN EL RUP EN EL SEGMENTO 72. | J59: ADJUNTA FORMATO, sin embargo los valores relacionados no coinciden con los reportados en el RUP. Se solicita subsanar: Diligenciar el formato de forma correcta de los contratos ejecutados e inscritos en el RUP con el Segmento 72, indicando consecutivo según RUP, SMMLV, % participación, valor ejecutado actualizado a 2026
A60: 4. CAPACIDAD TÉCNICA. FORMATO EN EL QUE INDIQUE NUMERO DE SOCIOS O PROFESIONALES DE ARQUITECTURA, INGENIERÍA Y GEOLOGÍA VINCULADOS. | J60: ADJUNTA FORMATO CAPACIDAD TÉCNICA Relacionando Profesionales vinculados: 2
A61: 5. CAPACIDAD FINANCIERA. INDICE DE LIQUIDEZ. | J61: 3.05
...

Sheet rev 72 p1
E1: 1750905
A2: COTES
A3: 1 | B3: 524.34 | C3: 1 | D3: =+B3*C3 -> 524.34 | E3: =+$E$1*D3 -> 9.1806953e+08
A4: 2 | B4: 61.69 | C4: 1 | D4: =+B4*C4 -> 61.69 | E4: =+$E$1*D4 -> 1.0801333e+08
A5: 3 | B5: 74.8 | C5: 1 | D5: =+B5*C5 -> 74.8 | E5: =+$E$1*D5 -> 130967694
A6: 4 | B6: 4160.9 | C6: 0.25 | D6: =+B6*C6 -> 1040.225 | E6: =+$E$1*D6 -> 1.8213352e+09
A7: 5 | B7: 2986.67 | C7: 0.3 | D7: =+B7*C7 -> 896.001 | E7: =+$E$1*D7 -> 1.5688126e+09
A8: 6 | B8: 943.22 | C8: 0.7 | D8: =+B8*C8 -> 660.254 | E8: =+$E$1*D8 -> 1.156042e+09
A9: 7 | B9: 3029.94 | C9: 1 | D9: =+B9*C9 -> 3029.94 | E9: =+$E$1*D9 -> 5.3051371e+09
A10: 8 | B10: 2897.39 | C10: 1 | D10: =+B10*C10 -> 2897.39 | E10: =+$E$1*D10 -> 5.0730546e+09
A11: 9 | B11: 2604.41 | C11: 1 | D11: =+B11*C11 -> 2604.41 | E11: =+$E$1*D11 -> 4.5600745e+09
A12: 10 | B12: 630.95 | C12: 0.7 | D12: =+B12*C12 -> 441.665 | E12: =+$E$1*D12 -> 7.7331346e+08
A13: 11 | B13: 4394.51 | C13: 0.4 | D13: =+B13*C13 -> 1757.804 | E13: =+$E$1*D13 -> 3.0777478e+09
A14: 12 | B14: 12649.97 | C14: 0.28 | D14: =+B14*C14 -> 3541.9916 | E14: =+$E$1*D14 -> 6.2016908e+09
... A16: 14 | B16: 25110.54 | C16: 1 | D16: =+B16*C16 -> 25110.54 | E16: =+$E$1*D16 -> 4.396617e+10
E17: =SUM(E3:E16) -> 7.5649237e+10
A19: IDC
A20: 1 | B20: 44.23 | C20: 1 | D20: =+B20*C20 -> 44.23 | E20: =+$E$1*D20 -> 77442528
A21: 2 | B21: 15.72 | C21: 1 | D21: =+B21*C21 -> 15.72 | E21: =+$E$1*D21 -> 27524227
A22: 3 | B22: 43.51 | C22: 1 | D22: =+B22*C22 -> 43.51 | E22: =+$E$1*D22 -> 76181877
A23: 4 | B23: 0.01 | C23: 1 | D23: =+B23*C23 -> 0.01 | E23: =+$E$1*D23 -> 17509.05
A24: 5 | B24: 74.79 | C24: 1 | D24: =+B24*C24 -> 74.79 | E24: =+$E$1*D24 -> 1.3095018e+08
A25: 6 | B25: 14.76 | C25: 1 | D25: =+B25*C25 -> 14.76 | E25: =+$E$1*D25 -> 25843358
A26: 7 | B26: 385.24 | C26: 1 | D26: =+B26*C26 -> 385.24 | E26: =+$E$1*D26 -> 6.7451864e+08
A27: 8 | B27: 43.51 | C27: 1 | D27: =+B27*C27 -> 43.51 | E27: =+$E$1*D27 -> 76181877
A28: 9 | B28: 23.04 | C28: 1 | D28: =+B28*C28 -> 23.04 | E28: =+$E$1*D28 -> 40340851
A29: 10 | B29: 86.75 | C29: 1 | D29: =+B29*C29 -> 86.75 | E29: =+$E$1*D29 -> 1.5189101e+08
A30: 11 | B30: 19.73 | C30: 1 | D30: =+B30*C30 -> 19.73 | E30: =+$E$1*D30 -> 34545356
A31: 12 | B31: 12.22 | C31: 1 | D31: =+B31*C31 -> 12.22 | E31: =+$E$1*D31 -> 21396059
... A71: 64 | B71: 1.49 | C71: 1 | D71: =+B71*C71 -> 1.49 | E71: =+$E$1*D71 -> 2608848.5
E72: =SUM(E20:E71) -> 9.346077e+09

Sheet EP1
A1: EVALUACIÓN TÉCNICA | I1: =+'HP1'!L1 -> LP-SEG-03746-2025
A2: =+'HP1'!A2 -> MEJORAMIENTO Y FORTALECIMIENTO INTEGRAL DEL ÁREA DE ALMACÉN DE LA GOBERNACIÓN DE NORTE DE SANTANDER
A3: =+'HP1'!A7 -> PROPONENTE 1 | G3: =+'HP1'!A8 -> CONSORCIO CONSTRUCTORES UNIDOS 148
A5: San José de Cúcuta, xx de xxxxx de 2026
A7: Se procede a evaluar la oferta del proponente ya que acreditó los requisitos habilitantes requeridos en el pliego de condiciones. Por tanto, se verifica los documentos a los que se les asigna puntaje diferentes a la oferta económica como sigue a continuación:
A9: 6. EVALUACIÓN DE LA OFERTA
A11: En la evaluación de las ofertas, la Secretaría General del Departamento Norte de Santander realizará ponderación del factor económico y el técnico de acuerdo con los porcentajes indicados en la Tabla Puntajes por criterios de evaluación:
C13: FACTOR DE EVALUACIÓN | O13: PUNTAJE PLIEGO DE CONDICIONES
C14: ECONÓMICO | O14: 39
C15: CALIDAD – Desempeño del contratista en contratos anteriores | O15: =+M16+M17+M18 -> 49.75
C16: 1. CERTIFICACIONES DE CALIDAD OBTENIDA EN OTROS PROYECTOS DE OBRA SIMILARES CARACTERISTICAS | M16: 30
C17: 2. FACTOR CUMPLIMIENTO CONTRATOS ANTERIORES | M17: 5
C18: 3.CERTIFICACION DE CONTRATOS TERMINADOS OPORTUNAMENTE ADICIONALES | M18: 14.75
C19: APOYO A LA INDUSTRIA NACIONAL | O19: 10
C20: EMPRENDIMIENTO Y EMPRESAS DE MUJERES | O20: 0.25
C21: PUNTAJE ADICIONAL PARA PROPONENTES CON TRABAJADORES CON DISCAPACIDAD (DECRETO 392 DE 2018) | O21: 1
C22: TOTAL | O22: =SUM(O14:O21) -> 100
A24: A. FACTOR ECONOMICO (39 PUNTOS)
J26: VALOR | N26: PUNTAJE PLIEGO | R26: PUNTAJE ASIGNADO
A27: PRESUPUESTO OFICIAL | J27: =+#REF! -> #REF! | N27: =+O14 -> 39 | W27: 400039226
A28: =+#REF! -> #REF! | J28: =+R50 -> 0
B30: METODOS DE EVALUACIÓN DE LA OFERTA ECONÓMICA | K30: ASIGNACIÓN DE MÉTODO DE EVALUACIÓN SEGÚN TRM
B31: MEDIA ARITMÉTICA | K31: El método debe ser escogido de acuerdo a los rangos establecidos en la tabla que se presenta a continuación.
B32: MEDIA ARITMÉTICA ALTA
B33: MEDIA GEOMETRICA CON PRESUPUESTO OFICIAL | K33: RANGO (INCLUSIVE) | O33: NUMERO | Q33: MÉTODO | W33: cierre 15julio2025
B34: MENOR VALOR | K34: DE 0.00 A 0.24 | O34: 1 | Q34: =+B31 -> MEDIA ARITMÉTICA
B35: PARA LA DETERMINACIÓN DEL MÉTODO SE TOMARÁN LOS PRIMEROS DOS DECIMALES DE LA TRM A LA FECHA DE ADJUDUCACION DEL PRESENTE PROCESO | K35: DE 0.25 A 0.49 | O35: 2 | Q35: =+B32 -> MEDIA ARITMÉTICA ALTA
K36: DE 0.50 A 0.74 | O36: 3 | Q36: =+B33 -> MEDIA GEOMETRICA CON PRESUPUESTO OFICIAL
K37: DE 0.75 A 0.99 | O37: 4 | Q37: =+B34 -> MENOR VALOR
A39: ITEM | B39: DESCRIPCION | K39: UND | M39: CANTIDAD | O39: VR. UNITARIO | R39: VR. PARCIAL
R42: =ROUND((M42*O42),0) -> 0
R43: =ROUND((M43*O43),0) -> 0
R44: =ROUND((M44*O44),0) -> 0
A45: COSTO DIRECTO | R45: =SUM(R41:R44) -> 0 | W45: =+'[1]UT CASA ARTESANOS '!$H$105 -> 660398961
A46: =+[2]OFERTA!A32 -> ADMINISTRACIÓN | R46: =ROUND((O46*$R$45),0) -> 0
A47: =+[2]OFERTA!A33 -> IMPREVISTOS | R47: =ROUND((O47*$R$45),0) -> 0
A48: =+[2]OFERTA!A34 -> UTILIDAD | R48: =ROUND((O48*$R$45),0) -> 0
A49: COSTO INDIRECTO | R49: =SUM(R46:R48) -> 0
A50: =+[2]OFERTA!A35 -> VALOR TOTAL OBRA | R50: =+R49+R45 -> 0
A54: B. FACTOR TECNICO
...

Sheet prof
A2: DIRECTOR
A3: palustre | B3: residente | C3: 41485 | D3: 42369 | F3: no valida, no es director
A4: idc | B4: director | C4: 43988 | D4: 46062 | E4: 5años, 8m, 4d
A5: codimo | B5: supervisora | C5: 42374 | D5: 43465 | F5: no valida, no es director
A9: RESIDENTE
A10: U nacional | B10: director interv | F10: no valida, no es residente obra
A11: construjardin | B11: director interv | F11: no valida, no es residente obra
A12: consorcio tunal | B12: director proy | F12: no valida, no es residente obra
A13: min defensa | B13: director interv | F13: no valida, no es residente obra
A14: ut herran | B14: residente obra | C14: 43766 | D14: 43897 | E14: 4m, 10d
A15: ut parque colon | B15: residente obra | C15: 43598 | D15: 43764 | E15: 5m, 14d
A16: ut vias claret | B16: residente obra | C16: 43252 | D16: 43454 | E16: 6m, 20d
A17: angelica patiño | B17: residente interv | F17: no valida, no es residente obra
A18: gerardo | B18: director proy | F18: no valida, no es residente obra
A19: ut pav 2016 | B19: interv obra | F19: no valida, no es residente obra
A20: municipio cucutilla | B20: interventor | F20: no valida, no es residente obra
A21: municipio cucutilla | B21: interventor | F21: no valida, no es residente obra
A22: consorcio msd | B22: residente interv | F22: no valida, no es residente obra
A23: ut asturias | B23: residente obra | C23: 42036 | D23: 42124 | E23: 3m
A24: copavicol | B24: residente obra | C24: 41708 | D24: 41804 | E24: 3m, 4d
A25: ut | B25: residente obra | C25: 41501 | D25: 41685 | E25: 6m, 1d
A26: carlos cardenas | B26: residente interv | F26: no valida, no es residente obra
A27: vivitar | B27: residente obra | C27: 40969 | D27: 41258 | E27: 4m, 15d
A28: JC nieto | B28: residente obra | C28: 40816 | D28: 40967 | E28: 5m
C29: 40724 | D29: 40785 | E29: 2m
A30: NTN | B30: residente interv | F30: no valida, no es residente obra
A31: maritza | B31: residente obra | C31: 40424 | D31: 40485 | E31: 2m
A32: maritza | B32: residente obra | C32: 40162 | D32: 40215 | E32: 1m, 22d
C33: 40240 | D33: 40298 | E33: 1m, 28d
A34: maritza | B34: residente obra | C34: 40071 | D34: 40162 | E34: 3m
A35: alix | B35: intervntoria | F35: no valida, no es residente obra
A36: JC nieto | B36: residente obra | C36: 39811 | D36: 39965 | E36: 5m, 3d
A37: incimel | B37: residente obra | C37: 39722 | D37: 39797 | E37: 2m, 15d
A38: alonso | B38: residente obra | C38: 39533 | D38: 39619 | E38: 2m, 25d
A39: ingecon | B39: inspector interv | F39: no valida, no es residente obra
C40: =4+5+6+3+3+6+4+5+2+2+1+1+3+5+2+2+(5) -> 59 | D40: =10+14+20+4+1+15+22+28+3+15+25 -> 157
C41: =+C40/12 -> 4.9166667 | D41: =+D40/30 -> 5.2333333
C42: =4*12 -> 48
A45: SST
A46: SINCOC | B46: coord sst | C46: 44625 | D46: 45015 | E46: 12m, 26d
...

Sheet HP2
A1: VERIFICACIÓN DE REQUISITOS HABILITANTES | L1: LP-SEG-03746-2025
A2: MEJORAMIENTO Y FORTALECIMIENTO INTEGRAL DEL ÁREA DE ALMACÉN DE LA GOBERNACIÓN DE NORTE DE SANTANDER
A3: =+A7 -> PROPONENTE 2 | H3: =+A8 -> CONSTRUCCIONES MONTAJES Y PARTES ELECTRICAS SAS
A5: San José de Cúcuta, 23 de febrero de 2026
A7: PROPONENTE 2 | M7: NIT | P7: REPRESENTANTE LEGAL
A8: CONSTRUCCIONES MONTAJES Y PARTES ELECTRICAS SAS | M8: 900320303-4 | P8: MARISELA BERNAL AGUIRRE C.C. 52.959.207 de Bogotá DC
A10: INFORMACION GENERAL
A12: FECHA DE CIERRE DEL PPRESENTE PROCESO | Q12: 16 DE FEBRERO DE 2026
A13: PLAZO DE EJECUCIÓN | Q13: 7 MESES
A15: 100% PTO OFICIAL | H15: 3362026089 | L15: SMMLV 2026 | S15: =+H15/SMMLV!B21 -> 1920.1648
A17: IX. JUSTIFICACIÓN DE LOS FACTORES DE SELECCIÓN QUE PERMITAN IDENTIFICAR LA OFERTA MÁS FAVORABLE:
A19: 9.1. Criterios Técnicos Habilitantes Documentos y Requisitos de Contenido Mínimo Técnico.
A21: A. Experiencia
A23: Para acreditar esta experiencia, cada proponente deberá presentar la relación de contratos ya ejecutados de la siguiente manera: UN (01) contrato terminado en el que el ejecutor demuestre con certificación y/o acta de liquidación, expedida por entidad pública o privada que ha ejecutado actividades de obra, y cuya sumatoria sea igual o superior al cien por ciento (100%) del presupuesto oficial estimado para el presente proceso de contratación.
A25: El proponente deberá indicar el consecutivo del contrato que presenta como experiencia resaltando en su RUP con color fluorescente cada uno de los códigos a acreditar, que deberán corresponder a los señalados en la siguiente tabla:
A27: Códigos estándar de productos y servicios de Naciones Unidas
A28: CODIGO UNSPSC | H28: DESCRIPCION
A29: 72103300 | H29: Servicios de mantenimiento y reparación de infraestructura
A30: 72121400 | H30: Servicios de construcción de edificios públicos especializados
A31: 72101500 | H31: Servicios de apoyo para la construcción
A33: VERIFICACIÓN CONTRATOS EN OBRAS CIVILES
A35: El oferente presenta los siguientes contratos para acreditar la experiencia general:
A37: PROPONENTE | D37: OBJETO | H37: VALOR | K37: CONTRATO No. | N37: CONTRATANTE | Q37: PARTICIP. | S37: CONSECUTIVO RUP | U37: VP CONTRATO ACTUALIZADO SMMLV
K38: No. | L38: AÑO DE TERMINACIÓN | W38: 3115616364 | X38: CERTIFICADO
A39: CONSTRUCCIONES MONTAJES Y PARTES ELECTRICAS SAS Aporta: Certificación en la que describe la ejecución de actividades | D39: MANO DE OBRA CIVIL, INCLUYE EXC, RELLENOS, CIMENT, CERRAM, OBRA ELÉCTRICA, TRAMITES, MONTAJE, Y ACTIVIDADES COMPLEMENTARIAS PARA RADIOBASES DE TELECOMUNICACIO NES. | H39: =+W39 -> 1673992541 | K39: NO ESPECIFICA ACTA INICIO 10FEB2022 TERMINACION 14DIC2022 | L39: 2022 | N39: GOLDEN OPERACIONES SAS | Q39: 1 | S39: CONSEC. 35 RUP CONSMOELEC FOLIO RUP 59 CODIGO 721033 721015 | U39: =+H39*Q39/((VLOOKUP(L39,SMMLV!A:B,2,FALSE))) -> 1673.9925 | W39: =+'rev certificacion'!B58 -> 1673992541 | X39: =+W39/SMMLV!B17 -> 1673.9925
A40: VALOR VALIDADO DE LA CERTIFICACIÓN APORTADA (SMMLV) | U40: =+U39 -> 1673.9925
A42: VALOR EJECUTADO, MAYOR O IGUAL AL 100% P.O. (según numeral 9.1) | S42: 1.673,99 > | U42: =+S15 -> 1920.1648
A44: Para la experiencia requerida en el numeral 9.1 del capitulo IX. JUSTIFICACIÓN DE LOS FACTORES DE SELECCIÓN QUE PERMITAN IDENTIFICAR LA OFERTA MÁS FAVORABLE, el proponente presentó una certificación en la que se describe la ejecución de actividades y no de un contrato, de lo cual discrimina las actividades ejecutadas y para lo cual solo se tuvo en cuenta las actividades de obra. En la certificación se acredita haber ejecutado actividades con entidad privada, la ejecución esta registrada en el RUP y clasificado solo con los códigos 721033, 721015, el valor validado es menor al 100% del presupuesto oficial. Por tanto, una vez vertificados los documentos, el oferente NO CUMPLE con la totalidad de los requisitos establecidos en el pliego de condiciones para la experiencia requerida.
A46: C5. Capacidad Residual
A48: El Proponente debe acreditar una capacidad residual o K de Contratación igual o superior a: | Q48: =+H15 -> 3362026089
A50: Para su cálculo, el evaluador se basó en la siguiente información, de acuerdo a lo aportado por el oferente:
A52: PROPONENTE | J52: =+A8 -> CONSTRUCCIONES MONTAJES Y PARTES ELECTRICAS SAS
A53: 1. SCE. LISTA DE CONTRATOS EN EJECUCIÓN. | J53: NO ADJUNTA FORMATO que relacione si tiene o no contratos en ejecución.
A54: 2. CAPACIDAD DE ORGANIZACIÓN. ESTADO DE RESULTADOS Y BALANCE GENERAL DEL MEJOR INGRESO OPERACIONAL DE LOS ULTIMOS 5 AÑOS. | J54: NO ADJUNTA FORMATO ni presentó estado de resultados auditado que contenga el mejor ingreso operacional de los últimos cinco (5) años, el balance general auditado del último año, documentos del contador y/o revisor fiscal. (cedula, tarjeta profesional, certificado vigente).
A55: 3. EXPERIENCIA. VALOR TOTAL DE LOS CONTRATOS INSCRITOS EN EL RUP EN EL SEGMENTO 72. | J55: NO ADJUNTA FORMATO en el que relacione contratos ejecutados e inscritos en el RUP con el Segmento 72, indicando consecutivo según RUP, SMMLV, % participación, valor ejecutado actualizado a 2026.
A56: 4. CAPACIDAD TÉCNICA. FORMATO EN EL QUE INDIQUE NUMERO DE SOCIOS O PROFESIONALES DE ARQUITECTURA, INGENIERÍA Y GEOLOGÍA VINCULADOS. | J56: NO ADJUNTA FORMATO que relacione los profesionales vinculados.
A57: 5. CAPACIDAD FINANCIERA. INDICE DE LIQUIDEZ. | J57: 3.05
A59: El oferente no aportó formatos para el registro de la información en el aplicativo de cálculo de capacidad residual de Colombia Compra Eficiente. Por tanto, el oferente NO CUMPLE con la totalidad de los requisitos establecidos para el cálculo de la capacidad residual, y debe subsanar la información de acuerdo a lo establecido en el pliego de condiciones electronico y formatos del proceso.
A61: VERIFICACIÓN
A65: D. Condiciones técnicas mínimas
...

Sheet rev certificacion
A1: item | B1: valor
A2: 3 | B2: 18398281
A3: 4 | B3: 29060215
A4: 7 | B4: 14045149
A5: 9 | B5: 16569927
A6: 12 | B6: 3303151
A7: 13 | B7: 86710047
A8: 14 | B8: 12700973
A9: 15 | B9: 2776064
A10: 16 | B10: 97321195
A11: 17 | B11: 36796561
A12: 18 | B12: 43313168
A13: 19 | B13: 43313168
... A56: 80 | B56: 47736274
B58: =SUM(B2:B57) -> 1673992541
