Workbook
Name Display_Week: '[1]Plan de trabajo'!$E$4
Name Project_Start: '[1]Plan de trabajo'!$E$3

Sheet Presupuesto Inversión Directa
D1: 13 | K1: 57
A2: Material biológico | B2: Especificaciones | C2: Unidad | D2: Cantidad UP | E2: Valor unitario | F2: Valor X Unidad Productiva | G2: Unidades Productivas | H2: Valor total | I2: Aporte FCP | J2: Aporte Alcaldia
A3: =+'MTF_APICULTURA (10+45)'!B39 -> MATERIAL BIOLÓGICO | B3: Núcleo de 4 marcos (3 marcos con cria, 1 marco con alimento); 1 kl de abejas ; con una reina joven , marcada y fecundada | C3: Global | D3: =+$D$1 -> 13 | E3: =+'MTF_APICULTURA (10+45)'!G39 -> 270000 | F3: =+E3*D3 -> 3510000 | G3: =+$K$1 -> 57 | H3: =+G3*E3*D3 -> 200070000 | I3: =+H3-J3 -> 156620000 | J3: 43450000
B4: Subtotal material biológico | H4: =SUM(H3:H3) -> 200070000 | I4: =SUM(I3:I3) -> 156620000 | J4: =SUM(J3:J3) -> 43450000
A6: Colmenas y equipos | B6: Especificaciones | C6: Unidad | D6: Cantidad UP | E6: Valor unitario | F6: Valor X Unidad Productiva | G6: Unidades productivas | H6: Valor total | I6: Valor total | J6: Valor total
A7: =+'MTF_APICULTURA (10+45)'!B31 -> MEDIA ALZA | B7: Media alza vacía en madera moncoro, medidas estándar | C7: Global | D7: =+$D$1 -> 13 | E7: =+'MTF_APICULTURA (10+45)'!G31 -> 35000 | F7: =+E7*D7 -> 455000 | G7: =+$K$1 -> 57 | H7: =+D7*E7*G7 -> 25935000 | I7: =+H7 -> 25935000
A8: =+'MTF_APICULTURA (10+45)'!B32 -> PIQUERA | B8: Base o piquera de la colmena en madera moncoro o acacia (de bosque reforestado), medidas estándar | C8: Global | D8: =+$D$1 -> 13 | E8: =+'MTF_APICULTURA (10+45)'!G32 -> 30000 | F8: =+E8*D8 -> 390000 | G8: =+$K$1 -> 57 | H8: =+D8*E8*G8 -> 22230000 | I8: =+H8 -> 22230000
A9: =+'MTF_APICULTURA (10+45)'!B33 -> ALZA PROFUNDA | B9: Alza profunda vacia en madera moncoro, medidas estándar. | C9: Global | D9: =+$D$1 -> 13 | E9: =+'MTF_APICULTURA (10+45)'!G33 -> 47000 | F9: =+E9*D9 -> 611000 | G9: =+$K$1 -> 57 | H9: =+D9*E9*G9 -> 34827000 | I9: =+H9 -> 34827000
A10: =+'MTF_APICULTURA (10+45)'!B34 -> TECHO | B10: Techo forrado en lámina de aluminio de 60cm x 48cm. | C10: Global | D10: =+$D$1 -> 13 | E10: =+'MTF_APICULTURA (10+45)'!G34 -> 36000 | F10: =+E10*D10 -> 468000 | G10: =+$K$1 -> 57 | H10: =+D10*E10*G10 -> 26676000 | I10: =+H10 -> 26676000
A11: =+'MTF_APICULTURA (10+45)'!B35 -> EXCLUIDOR | B11: Rejilla excluidora de reinas en plástico de alta resistencia, importada para colmena tipo langstroth | C11: Global | D11: =+$D$1 -> 13 | E11: =+'MTF_APICULTURA (10+45)'!G35 -> 22000 | F11: =+E11*D11 -> 286000 | G11: =+$K$1 -> 57 | H11: =+D11*E11*G11 -> 16302000 | I11: =+H11 -> 16302000
A12: =+'MTF_APICULTURA (10+45)'!B36 -> LÁMINA DE CERA | B12: Lámina de cera estampada para cuadro de alza profunda importada, tamaño del alveolo de 4,9mm | C12: Global | D12: =$D$1*15 -> 195 | E12: =+'MTF_APICULTURA (10+45)'!G36 -> 3750 | F12: =+E12*D12 -> 731250 | G12: =+$K$1 -> 57 | H12: =+D12*E12*G12 -> 41681250 | I12: =+H12 -> 41681250
A13: =+'MTF_APICULTURA (10+45)'!B37 -> MARCO ALAMBRADO | B13: Marco alambrado para alza profunda, medidas estandar | C13: Global | D13: =$D$1*15 -> 195 | E13: =+'MTF_APICULTURA (10+45)'!G37 -> 4300 | F13: =+E13*D13 -> 838500 | G13: =+$K$1 -> 57 | H13: =+D13*E13*G13 -> 47794500 | I13: =+H13 -> 47794500
A14: =+'MTF_APICULTURA (10+45)'!B38 -> ENTRETAPA | B14: Tapa interna en madera moncoro, medidas estándar | C14: Global | D14: =+$D$1 -> 13 | E14: =+'MTF_APICULTURA (10+45)'!G38 -> 23000 | F14: =+E14*D14 -> 299000 | G14: =+$K$1 -> 57 | H14: =+D14*E14*G14 -> 17043000 | I14: =+H14 -> 17043000
A15: Kit de extracción | B15: Especificaciones
A16: =+'MTF_APICULTURA (10+45)'!B91 -> TOLDILLO | B16: Carpa para extracción de miel de 2,5x3x2,4m, doble compartimento | C16: Unidad | D16: 5 | E16: =+'MTF_APICULTURA (10+45)'!G91 -> 325000 | H16: =+E16*D16 -> 1625000 | I16: =+H16 -> 1625000
A17: =+'MTF_APICULTURA (10+45)'!B90 -> CENTRIFUGA | B17: Centrifuga de 4 marcos de alza profunda, en acero inoxidable 304 calidad alimentaria, herrajes y llave tipo guillotina en acero. | C17: Unidad | D17: 5 | E17: =+'MTF_APICULTURA (10+45)'!G90 -> 1875000 | H17: =+E17*D17 -> 9375000 | I17: =+H17 -> 9375000
A18: =+'MTF_APICULTURA (10+45)'!B94 -> BANDEJA | B18: Bandeja para desopercular en acero, 65cm x 45cm con soporte para apoyar el cuadro | C18: Unidad | D18: 10 | E18: =+'MTF_APICULTURA (10+45)'!G94 -> 685000 | H18: =+E18*D18 -> 6850000 | I18: =+H18 -> 6850000
A19: =+'MTF_APICULTURA (10+45)'!B93 -> FILTRO DOBLE | B19: Filtro doble en acero inoxidable, Importado con extensión para colgar en cuñete de 20 litros | C19: Unidad | D19: 5 | E19: =+'MTF_APICULTURA (10+45)'!G93 -> 150000 | H19: =+E19*D19 -> 750000 | I19: =+H19 -> 750000
A20: =+'MTF_APICULTURA (10+45)'!B92 -> CUCHILLO DESOPERCULADOR | B20: Cuchillo desoperculador en acero inoxidable, plano o en Z | C20: Unidad | D20: 5 | E20: =+'MTF_APICULTURA (10+45)'!G92 -> 57500 | H20: =+E20*D20 -> 287500 | I20: =+H20 -> 287500
B21: Subtotal colmenas y equipos | H21: =SUM(H7:H20) -> 251376250 | I21: =SUM(I7:I20) -> 251376250 | J21: =SUM(J7:J20) -> 0
A23: Equipos | B23: Especificaciones | C23: Unidad | D23: Cantidad UP | E23: Valor unitario | H23: Valor total | I23: Valor total | J23: Valor total
A24: =+'MTF_APICULTURA (10+45)'!B102 -> TANQUE DECANTADOR | B24: Tanque decantador en acero inoxidable calibre 18 , capacidad 150kg con llave desalida tipo guillotina, tapa repujada con manija y gancho para soportar contra el tanque. | C24: Unidad | D24: 1 | E24: =+'MTF_APICULTURA (10+45)'!G102 -> 1975000 | H24: =+E24*D24 -> 1975000 | I24: =+H24 -> 1975000
A25: =+'MTF_APICULTURA (10+45)'!B103 -> MARCO DE SEGUETA | B25: Marco de segueta estandar | C25: Unidad | D25: 1 | E25: =+'MTF_APICULTURA (10+45)'!G103 -> 29000 | H25: =+E25*D25 -> 29000 | I25: =+H25 -> 29000
A26: =+'MTF_APICULTURA (10+45)'!B106 -> CABLE | B26: Cable duplex de 2x 12 x metro | C26: Unidad | D26: 1 | E26: =+'MTF_APICULTURA (10+45)'!G106 -> 7500 | H26: =+E26*D26 -> 7500 | I26: =+H26 -> 7500
A27: =+'MTF_APICULTURA (10+45)'!B107 -> CALENTADOR DE AGUA | B27: Churrusco calentador de agua | C27: Unidad | D27: 1 | E27: =+'MTF_APICULTURA (10+45)'!G107 -> 10400 | H27: =+E27*D27 -> 10400 | I27: =+H27 -> 10400
A28: =+'MTF_APICULTURA (10+45)'!B104 -> CINTA | C28: Unidad | D28: 1 | E28: =+'MTF_APICULTURA (10+45)'!G104 -> 5500 | H28: =+E28*D28 -> 5500 | I28: =+H28 -> 5500
A29: =+'MTF_APICULTURA (10+45)'!B105 -> SEGUETA | C29: Unidad | D29: 1 | E29: =+'MTF_APICULTURA (10+45)'!G105 -> 5500 | H29: =+E29*D29 -> 5500 | I29: =+H29 -> 5500
A30: EQUIPO DE DESTILACIÓN DE ACEITES ESENCIALES | B30: El equipo esta conformado por: un quemador de gas, un alambique – calderín con espacio para el material vegetal, un condensador, un vaso florentino y sus conexiones. Estas piezas se dimensionan para procesar lotes de 7 Kg de citronela, limoncillo, Lippia alba o romero. Las piezas principales del equipo se construyen en acero inoxidable. | C30: Unidad | D30: 1 | E30: =+'MTF_APICULTURA (10+45)'!G108 -> 12624000 | H30: =+E30*D30 -> 12624000 | I30: =+H30 -> 12624000
A31: ENVASADORA | B31: Envasadora semiautomática de líquidos y viscosos, capacidad 20 botellas por minuto; material acero inoxidable 304; modo de funcinamiento tipo pisto neumático; usos envasado de miel; eficiencia de +- 50gramos de precisión; voltaje 110-220V | C31: Unidad | D31: 1 | E31: =+'MTF_APICULTURA (10+45)'!G109 -> 11400000 | H31: =+E31*D31 -> 11400000 | I31: =+H31 -> 11400000
H32: =SUM(H24:H31) -> 26056900 | I32: =SUM(I24:I31) -> 26056900 | J32: =SUM(J24:J31) -> 0
A33: INFRAESTURA PRODUCTIVA
A34: CONTAINER | C34: Unidad | D34: 2 | E34: =+'MTF_APICULTURA (10+45)'!G110 -> 95666606 | H34: =+E34*D34 -> 191333212 | I34: =+H34 -> 191333212
A35: Mejoramiento vial | C35: Unidad | D35: 1 | E35: =+'MTF_APICULTURA (10+45)'!G112 -> 79913678 | H35: =+E35*D35 -> 79913678 | I35: =+H35 -> 79913678
A36: VIVERO | C36: Unidad | D36: 1 | E36: =+'MTF_APICULTURA (10+45)'!G111 -> 36535747 | H36: =+E36*D36 -> 36535747 | I36: =+H36 -> 36535747
H37: =SUM(H34:H36) -> 307782637 | I37: =SUM(I34:I36) -> 307782637 | J37: =SUM(J34:J36) -> 0
A40: Insumos | B40: Especificaciones | C40: Unidad | D40: Cantidad UP | E40: Valor unitario | G40: Unidades productivas | H40: Valor total | I40: Valor total | J40: Valor total
A41: PANELA | B41: =+'MTF_APICULTURA (10+45)'!B66 -> Panela x 1 kg (3 kg/colmena) | C41: Bulto x 50 kg | D41: =+D1*3 -> 39 | E41: =+'MTF_APICULTURA (10+45)'!G66 -> 8300 | G41: =+$K$1 -> 57 | H41: =+ROUND(D41*E41*G41,0) -> 18450900 | I41: =+H41 -> 18450900
A42: PROMOCALIER | B42: =+'MTF_APICULTURA (10+45)'!B67 -> Promocalier (suplemento vitaminas y aminoacidos): 2 cc/colmena. | C42: =+'MTF_APICULTURA (10+45)'!F67 -> Mililitro | D42: 200 | E42: =+'MTF_APICULTURA (10+45)'!G67 -> 105 | G42: =+$K$1 -> 57 | H42: =+ROUND(D42*E42*G42,0) -> 1197000 | I42: =+H42 -> 1197000 | L42: =5*57*15 -> 4275
A43: =+'[2]Análisis cotizaciones'!$A$12 -> AHUMADOR | B43: =+'[2]Análisis cotizaciones'!$B$12 -> Ahumador en coll rolled, pintado con pintura electrostatica, salida en boca de pato | C43: Unidad | D43: 1 | E43: =+'MTF_APICULTURA (10+45)'!G68 -> 165000 | G43: =+$K$1 -> 57 | H43: =+ROUND(D43*E43*G43,0) -> 9405000 | I43: =+H43 -> 9405000 | L43: =+L42*5000 -> 21375000
A44: =+'MTF_APICULTURA (10+45)'!B69 -> TRAJE APÍCOLA | C44: Unidad | D44: 2 | E44: =+'MTF_APICULTURA (10+45)'!G69 -> 190000 | G44: =+$K$1 -> 57 | H44: =+ROUND(D44*E44*G44,0) -> 21660000 | I44: =+H44 -> 21660000
...

Sheet Análisis cotizaciones VF
A2: Elemento | B2: Descripcion | C2: Cantidad | D2: Cotización 1 | E2: Cotización 2 | F2: Cotización 3 | G2: Etereo | H2: Homecenter | I2: Página WEB | J2: Cotizaciones todas | K2: Promedio | L2: Desviación | M2: Lím Inf | N2: Lím Sup | O2: rango X prom
A3: MEDIA ALZA | B3: Media alza vacía en madera moncoro o aceituno o pino cipres o acacia o melina (en todo caso maderas certificadas) medidas estándar | C3: 1 | D3: 35000 | F3: 35000 | K3: =ROUND((AVERAGE(D3:F3)),0) -> 35000 | L3: =ROUND((STDEVA(D3:I3)),0) -> 0 | M3: =+K3-L3 -> 35000 | N3: =+K3+L3 -> 35000 | O3: =IF(AND(K3>=M3, K3<=N3), "OK ", "fuera del rango") -> OK
A4: PIQUERA | B4: Base o piquera de la colmena en madera moncoro o aceituno o pino cipres o acacia o melina (en todo caso maderas certificadas) (de bosque reforestado), medidas estándar | C4: 1 | D4: 26000 | F4: 34000 | K4: =ROUND((AVERAGE(D4:F4)),0) -> 30000 | L4: =ROUND((STDEVA(D4:I4)),0) -> 5657 | M4: =+K4-L4 -> 24343 | N4: =+K4+L4 -> 35657 | O4: =IF(AND(K4>=M4, K4<=N4), "OK ", "fuera del rango") -> OK
A5: ALZA PROFUNDA | B5: Alza profunda vacia en madera moncoro o aceituno o pino cipres o acacia o melina (en todo caso maderas certificadas)medidas estándar. | C5: 1 | D5: 45000 | F5: 49000 | K5: =ROUND((AVERAGE(D5:F5)),0) -> 47000 | L5: =ROUND((STDEVA(D5:I5)),0) -> 2828 | M5: =+K5-L5 -> 44172 | N5: =+K5+L5 -> 49828 | O5: =IF(AND(K5>=M5, K5<=N5), "OK ", "fuera del rango") -> OK
A6: TECHO | B6: Techo forrado en lámina de aluminio de 60cm x 48cm. | C6: 1 | D6: 27000 | F6: 45000 | K6: =ROUND((AVERAGE(D6:F6)),0) -> 36000 | L6: =ROUND((STDEVA(D6:I6)),0) -> 12728 | M6: =+K6-L6 -> 23272 | N6: =+K6+L6 -> 48728 | O6: =IF(AND(K6>=M6, K6<=N6), "OK ", "fuera del rango") -> OK
A7: EXCLUIDOR | B7: Rejilla excluidora de reinas en plástico de alta resistencia, importada para colmena tipo langstroth | C7: 1 | D7: 22000 | F7: 22000 | K7: =ROUND((AVERAGE(D7:F7)),0) -> 22000 | L7: =ROUND((STDEVA(D7:I7)),0) -> 0 | M7: =+K7-L7 -> 22000 | N7: =+K7+L7 -> 22000 | O7: =IF(AND(K7>=M7, K7<=N7), "OK ", "fuera del rango") -> OK
A8: LÁMINA DE CERA | B8: Lámina de cera estampada para cuadro de alza profunda importada, tamaño del alveolo de 4,9mm | C8: 1 | D8: 3700 | F8: 3800 | K8: =ROUND((AVERAGE(D8:F8)),0) -> 3750 | L8: =ROUND((STDEVA(D8:I8)),0) -> 71 | M8: =+K8-L8 -> 3679 | N8: =+K8+L8 -> 3821 | O8: =IF(AND(K8>=M8, K8<=N8), "OK ", "fuera del rango") -> OK
A9: MARCO ALAMBRADO | B9: Marco alambrado para alza profunda, medidas estandar | C9: 1 | D9: 3800 | F9: 4800 | K9: =ROUND((AVERAGE(D9:F9)),0) -> 4300 | L9: =ROUND((STDEVA(D9:I9)),0) -> 707 | M9: =+K9-L9 -> 3593 | N9: =+K9+L9 -> 5007 | O9: =IF(AND(K9>=M9, K9<=N9), "OK ", "fuera del rango") -> OK
A10: ENTRETAPA | B10: Tapa interna en madera moncoro o aceituno o pino cipres o acacia o melina (en todo caso maderas certificadas) medidas estándar | C10: 1 | D10: 22000 | F10: 24000 | K10: =ROUND((AVERAGE(D10:F10)),0) -> 23000 | L10: =ROUND((STDEVA(D10:I10)),0) -> 1414 | M10: =+K10-L10 -> 21586 | N10: =+K10+L10 -> 24414 | O10: =IF(AND(K10>=M10, K10<=N10), "OK ", "fuera del rango") -> OK
A11: MATERIAL BIOLÓGICO | B11: Núcleo de 4 marcos (3 marcos con cria, 1 marco con alimento); 1 kl de abejas ; con una reina joven , marcada y fecundada | C11: 1 | D11: 270000 | F11: 270000 | K11: =ROUND((AVERAGE(D11:F11)),0) -> 270000 | L11: =ROUND((STDEVA(D11:I11)),0) -> 0 | M11: =+K11-L11 -> 270000 | N11: =+K11+L11 -> 270000 | O11: =IF(AND(K11>=M11, K11<=N11), "OK ", "fuera del rango") -> OK
A12: AHUMADOR | B12: Ahumador en coll rolled, pintado con pintura electrostatica, salida en boca de pato | C12: 1 | D12: 140000 | F12: 190000 | K12: =ROUND((AVERAGE(D12:F12)),0) -> 165000 | L12: =ROUND((STDEVA(D12:I12)),0) -> 35355 | M12: =+K12-L12 -> 129645 | N12: =+K12+L12 -> 200355 | O12: =IF(AND(K12>=M12, K12<=N12), "OK ", "fuera del rango") -> OK
A13: TRAJE APÍCOLA | B13: Overol para apicultura elaborado en drill vulcano, posee 4 bolsillos con 4 cremalleras, liviano, facil lavado , cremallera frontal y careta removible , caucho en puños y mangas. Color amarillo. Incluye guantes de apicultura | C13: 1 | D13: 190000 | F13: 190000 | K13: =ROUND((AVERAGE(D13:F13)),0) -> 190000 | L13: =ROUND((STDEVA(D13:I13)),0) -> 0 | M13: =+K13-L13 -> 190000 | N13: =+K13+L13 -> 190000 | O13: =IF(AND(K13>=M13, K13<=N13), "OK ", "fuera del rango") -> OK
A14: GANCHO PALANCA | B14: Gancho palanca en acero, doble propósito, importado. | C14: 1 | D14: 37000 | F14: 37000 | K14: =ROUND((AVERAGE(D14:F14)),0) -> 37000 | L14: =ROUND((STDEVA(D14:I14)),0) -> 0 | M14: =+K14-L14 -> 37000 | N14: =+K14+L14 -> 37000 | O14: =IF(AND(K14>=M14, K14<=N14), "OK ", "fuera del rango") -> OK
... A16: TOLDILLO | B16: Carpa para extracción de miel de 2,5x3x2,4m, doble comoartimento | C16: 1 | D16: 300000 | F16: 350000 | K16: =ROUND((AVERAGE(D16:F16)),0) -> 325000 | L16: =ROUND((STDEVA(D16:I16)),0) -> 35355 | M16: =+K16-L16 -> 289645 | N16: =+K16+L16 -> 360355 | O16: =IF(AND(K16>=M16, K16<=N16), "OK ", "fuera del rango") -> OK
A17: MARCO DE MEDIA | B17: Marco alambrado de media alza, en madera moncoro. | C17: 1 | D17: 3300 | F17: 3300 | K17: =AVERAGE(D17:F17) -> 3300 | L17: =ROUND((STDEVA(D17:I17)),0) -> 0 | M17: =+K17-L17 -> 3300 | N17: =+K17+L17 -> 3300 | O17: =IF(AND(K17>=M17, K17<=N17), "OK ", "fuera del rango") -> OK
A18: LAMINA DE CERA | B18: Lámina de cera estampada para cuadro de media alza, tamaño del alveolo de 4,9mm. | C18: 1 | D18: 2000 | F18: 2000 | K18: =AVERAGE(D18:F18) -> 2000 | L18: =ROUND((STDEVA(D18:I18)),0) -> 0 | M18: =+K18-L18 -> 2000 | N18: =+K18+L18 -> 2000 | O18: =IF(AND(K18>=M18, K18<=N18), "OK ", "fuera del rango") -> OK
A19: VARILLA | B19: Varilla corrugada de 12mm x 6m, cortada en 4 partes de 1,5m | C19: 1 | D19: 33000 | F19: 60000 | K19: =ROUND((AVERAGE(D19:F19)),0) -> 46500 | L19: =ROUND((STDEVA(D19:I19)),0) -> 19092 | M19: =+K19-L19 -> 27408 | N19: =+K19+L19 -> 65592 | O19: =IF(AND(K19>=M19, K19<=N19), "OK ", "fuera del rango") -> OK
A20: EMBUDO | B20: Embudo en plástico pequeño | C20: 1 | D20: 8000 | F20: 22000 | K20: =ROUND((AVERAGE(D20:F20)),0) -> 15000 | L20: =ROUND((STDEVA(D20:I20)),0) -> 9899 | M20: =+K20-L20 -> 5101 | N20: =+K20+L20 -> 24899 | O20: =IF(AND(K20>=M20, K20<=N20), "OK ", "fuera del rango") -> OK
A21: CUCHILLO DESOPERCULADOR | B21: Cuchillo desoperculador en acero inoxidable, plano o en Z | C21: 1 | D21: 35000 | F21: 80000 | K21: =ROUND((AVERAGE(D21:F21)),0) -> 57500 | L21: =ROUND((STDEVA(D21:I21)),0) -> 31820 | M21: =+K21-L21 -> 25680 | N21: =+K21+L21 -> 89320 | O21: =IF(AND(K21>=M21, K21<=N21), "OK ", "fuera del rango") -> OK
A22: TENEDOR DESOPERCULADOR | B22: Tenedor desoperculador con mango en plástico y 18 dientes en acero inoxidable | C22: 1 | D22: 19000 | F22: 42000 | K22: =ROUND((AVERAGE(D22:F22)),0) -> 30500 | L22: =ROUND((STDEVA(D22:I22)),0) -> 16263 | M22: =+K22-L22 -> 14237 | N22: =+K22+L22 -> 46763 | O22: =IF(AND(K22>=M22, K22<=N22), "OK ", "fuera del rango") -> OK
A23: FILTRO DOBLE | B23: Filtro doble en acero inoxidable, Importado con extensión para colgar en cuñete de 20 litros | C23: 1 | D23: 120000 | F23: 180000 | K23: =ROUND((AVERAGE(D23:F23)),0) -> 150000 | L23: =ROUND((STDEVA(D23:I23)),0) -> 42426 | M23: =+K23-L23 -> 107574 | N23: =+K23+L23 -> 192426 | O23: =IF(AND(K23>=M23, K23<=N23), "OK ", "fuera del rango") -> OK
A24: BANDEJA | B24: Bandeja para desopercular en acero, 65cm x 45cm con soporte para apoyar el cuadro | C24: 1 | D24: 270000 | F24: 1100000 | K24: =ROUND((AVERAGE(D24:F24)),0) -> 685000 | L24: =ROUND((STDEVA(D24:I24)),0) -> 586899 | M24: =+K24-L24 -> 98101 | N24: =+K24+L24 -> 1271899 | O24: =IF(AND(K24>=M24, K24<=N24), "OK ", "fuera del rango") -> OK
A25: TANQUE DECANTADOR | B25: Tanque decantador en acero inoxidable, capacidad 150kg con llave desalida tipo guillotina, tapa repujada con manija y gancho para soportar contra el tanque. | C25: 1 | D25: 1750000 | F25: 2200000 | K25: =ROUND((AVERAGE(D25:F25)),0) -> 1975000 | L25: =ROUND((STDEVA(D25:I25)),0) -> 318198 | M25: =+K25-L25 -> 1656802 | N25: =+K25+L25 -> 2293198 | O25: =IF(AND(K25>=M25, K25<=N25), "OK ", "fuera del rango") -> OK
A26: MARCO DE SEGUETA | B26: Marco de segueta estandar | C26: 1 | D26: 30000 | F26: 28000 | K26: =ROUND((AVERAGE(D26:F26)),0) -> 29000 | L26: =ROUND((STDEVA(D26:I26)),0) -> 1414 | M26: =+K26-L26 -> 27586 | N26: =+K26+L26 -> 30414 | O26: =IF(AND(K26>=M26, K26<=N26), "OK ", "fuera del rango") -> OK
A27: CABLE | B27: Cable duplex de 2x 12 x metro | C27: 1 | D27: 5000 | F27: 10000 | K27: =ROUND((AVERAGE(D27:F27)),0) -> 7500 | L27: =ROUND((STDEVA(D27:I27)),0) -> 3536 | M27: =+K27-L27 -> 3964 | N27: =+K27+L27 -> 11036 | O27: =IF(AND(K27>=M27, K27<=N27), "OK ", "fuera del rango") -> OK
A28: CALENTADOR DE AGUA | B28: Churrusco calentador de agua | C28: 1 | D28: 16000 | F28: 4800 | K28: =ROUND((AVERAGE(D28:F28)),0) -> 10400 | L28: =ROUND((STDEVA(D28:I28)),0) -> 7920 | M28: =+K28-L28 -> 2480 | N28: =+K28+L28 -> 18320 | O28: =IF(AND(K28>=M28, K28<=N28), "OK ", "fuera del rango") -> OK
A29: CINTA | B29: cinta aislante negra | C29: 1 | D29: 5500 | F29: 5500 | K29: =ROUND((AVERAGE(D29:F29)),0) -> 5500 | L29: =ROUND((STDEVA(D29:I29)),0) -> 0 | M29: =+K29-L29 -> 5500 | N29: =+K29+L29 -> 5500 | O29: =IF(AND(K29>=M29, K29<=N29), "OK ", "fuera del rango") -> OK
A30: SEGUETA | B30: Segueta | C30: 1 | D30: 5500 | F30: 5500 | K30: =ROUND((AVERAGE(D30:F30)),0) -> 5500 | L30: =ROUND((STDEVA(D30:I30)),0) -> 0 | M30: =+K30-L30 -> 5500 | N30: =+K30+L30 -> 5500 | O30: =IF(AND(K30>=M30, K30<=N30), "OK ", "fuera del rango") -> OK
... A34: CUÑETES PLASTICOS | B34: Para alimentos, envase pástico blanco para alimentos, material polietileno de alta densidad con precintos de seguridad, tapa ancha y manija con capacidad de 5 galones | C34: 1 | D34: 35000 | F34: 30000 | K34: =ROUND((AVERAGE(D34:F34)),0) -> 32500 | L34: =ROUND((STDEVA(D34:I34)),0) -> 3536 | M34: =+K34-L34 -> 28964 | N34: =+K34+L34 -> 36036 | O34: =IF(AND(K34>=M34, K34<=N34), "OK ", "fuera del rango") -> OK
A35: Equipo de destilación de aceites esenciales por arrastre con vapor | B35: Equipo de destilación de aceites esenciales por arrastre con vapor | C35: 1 | G35: =12000000*1.052 -> 12624000 | I35: =12000000*1.052 -> 12624000 | K35: =AVERAGE(D35:I35) -> 12624000 | L35: =ROUND((STDEVA(D35:I35)),0) -> 0 | M35: =+K35-L35 -> 12624000 | N35: =+K35+L35 -> 12624000 | O35: =IF(AND(K35>=M35, K35<=N35), "OK ", "fuera del rango") -> OK
A36: Escritorio en L oficina (mdetal-madera) | B36: Escritorio en L oficina (mdetal-madera) Altura 73cm, Largo 154 cm, Ancho 106cm, Profundidad 48cm | C36: 1 | H36: =349900*1.052 -> 368094.8 | I36: =398000*1.052 -> 418696 | K36: =AVERAGE(D36:I36) -> 393395.4 | L36: =ROUND((STDEVA(D36:I36)),0) -> 35780 | M36: =+K36-L36 -> 357615.4 | N36: =+K36+L36 -> 429175.4 | O36: =IF(AND(K36>=M36, K36<=N36), "OK ", "fuera del rango") -> OK
A37: Silla Oficina Lyn 110X64X64 Negro | B37: Silla Oficina Lyn 110X64X64 Negro | C37: 1 | H37: =339900*1.052 -> 357574.8 | I37: =299900*1.052 -> 315494.8 | K37: =AVERAGE(D37:I37) -> 336534.8 | L37: =ROUND((STDEVA(D37:I37)),0) -> 29755 | M37: =+K37-L37 -> 306779.8 | N37: =+K37+L37 -> 366289.8 | O37: =IF(AND(K37>=M37, K37<=N37), "OK ", "fuera del rango") -> OK
A38: Archivador metálico | B38: Archivador metalico ref. 2x1 38x48x70 negro | C38: 1 | H38: =425900*1.052 -> 448046.8 | I38: =584900*1.052 -> 615314.8 | K38: =AVERAGE(D38:I38) -> 531680.8 | L38: =ROUND((STDEVA(D38:I38)),0) -> 118276 | M38: =+K38-L38 -> 413404.8 | N38: =+K38+L38 -> 649956.8 | O38: =IF(AND(K38>=M38, K38<=N38), "OK ", "fuera del rango") -> OK
A39: Computador | B39: Computador All In One HP Pavilion 32-b1001la I7 16GB RAM 512GB SSD | C39: 1 | H39: =3299000*1.052 -> 3470548 | I39: =1999990*1.052 -> 2103989.5 | K39: =AVERAGE(D39:I39) -> 2787268.7 | L39: =ROUND((STDEVA(D39:I39)),0) -> 966303 | M39: =+K39-L39 -> 1820965.7 | N39: =+K39+L39 -> 3753571.7 | O39: =IF(AND(K39>=M39, K39<=N39), "OK ", "fuera del rango") -> OK
A40: Impresora | B40: Impresora Multifuncional EPSON Ecotank L5590 WiFi Hg-Of - Negro | C40: 1 | H40: =1299000*1.052 -> 1366548 | I40: =1489900*1.052 -> 1567374.8 | K40: =AVERAGE(D40:I40) -> 1466961.4 | L40: =ROUND((STDEVA(D40:I40)),0) -> 142006 | M40: =+K40-L40 -> 1324955.4 | N40: =+K40+L40 -> 1608967.4 | O40: =IF(AND(K40>=M40, K40<=N40), "OK ", "fuera del rango") -> OK
A41: Container | B41: Container | C41: 1 | I41: =+'[3]PRESUPUESTO OBRA'!$E$18 -> 44698895 | J41: =+'[3]PRESUPUESTO OBRA'!$E$18 -> 44698895 | K41: =AVERAGE(D41:J41) -> 44698895 | L41: =ROUND((STDEVA(D41:J41)),0) -> 0 | M41: =+K41-L41 -> 44698895 | N41: =+K41+L41 -> 44698895 | O41: =IF(AND(K41>=M41, K41<=N41), "OK ", "fuera del rango") -> OK
A42: Baño portatil | C42: 1 | I42: =+'[4]PRESUPUESTO OBRA'!$E$22 -> 9042850 | J42: =+'[4]PRESUPUESTO OBRA'!$E$22 -> 9042850 | K42: =AVERAGE(D42:J42) -> 9042850 | L42: =ROUND((STDEVA(D42:J42)),0) -> 0 | M42: =+K42-L42 -> 9042850 | N42: =+K42+L42 -> 9042850 | O42: =IF(AND(K42>=M42, K42<=N42), "OK ", "fuera del rango") -> OK
A43: Generador eléctrico | C43: 1 | I43: =+'[4]PRESUPUESTO OBRA'!$E$19 -> 6319016.6 | J43: =+'[4]PRESUPUESTO OBRA'!$E$19 -> 6319016.6 | K43: =AVERAGE(D43:J43) -> 6319016.6 | L43: =ROUND((STDEVA(D43:J43)),0) -> 0 | M43: =+K43-L43 -> 6319016.6 | N43: =+K43+L43 -> 6319016.6 | O43: =IF(AND(K43>=M43, K43<=N43), "OK ", "fuera del rango") -> OK
A44: =+'Presupuesto Inversión Directa'!B66 -> Estrategia de comercialización | B44: =+A44 -> Estrategia de comercialización | C44: 1 | F44: 14041666 | G44: 14041666 | K44: =AVERAGE(D44:J44) -> 14041666 | L44: =ROUND((STDEVA(D44:J44)),0) -> 0 | M44: =+K44-L44 -> 14041666 | N44: =+K44+L44 -> 14041666 | O44: =IF(AND(K44>=M44, K44<=N44), "OK ", "fuera del rango") -> OK

Sheet Flujo caja 2025
D1: 13 | K1: 57 | L1: Alistamiento | O1: Ejecución | W1: Cierre
A2: Material biológico | B2: Especificaciones | C2: Unidad | D2: Cantidad UP | E2: Valor unitario | F2: Valor X Unidad Productiva | G2: Unidades Productivas | H2: Valor total | I2: Aporte FCP | J2: Aporte Alcaldia | L2: Mes 1 | M2: Mes 2 | N2: Mes 3 | O2: Mes 4 | P2: Mes 5 | Q2: Mes 6 | R2: Mes 7 | S2: Mes 8 | T2: Mes 9 | U2: Mes 10 | V2: Mes 11 | W2: Mes 12 | X2: Total | Y2: Control
A3: =+'MTF_APICULTURA (10+45)'!B39 -> MATERIAL BIOLÓGICO | B3: Núcleo de 4 marcos (3 marcos con cria, 1 marco con alimento); 1 kl de abejas ; con una reina joven , marcada y fecundada | C3: Global | D3: =+$D$1 -> 13 | E3: =+'MTF_APICULTURA (10+45)'!G39 -> 270000 | F3: =+E3*D3 -> 3510000 | G3: =+$K$1 -> 57 | H3: =+G3*E3*D3 -> 200070000 | I3: =+H3-J3 -> 156620000 | J3: 43450000 | O3: =+ROUND((I3/2),0) -> 78310000 | P3: =+ROUND((I3/2),0) -> 78310000 | X3: =SUM(L3:W3) -> 156620000 | Y3: =+X3-I3 -> 0
B4: Subtotal material biológico | H4: =SUM(H3:H3) -> 200070000 | I4: =SUM(I3:I3) -> 156620000 | J4: =SUM(J3:J3) -> 43450000
A6: Colmenas y equipos | B6: Especificaciones | C6: Unidad | D6: Cantidad UP | E6: Valor unitario | F6: Valor X Unidad Productiva | G6: Unidades productivas | H6: Valor total | I6: Valor total | J6: Valor total
A7: =+'MTF_APICULTURA (10+45)'!B31 -> MEDIA ALZA | B7: Media alza vacía en madera moncoro, medidas estándar | C7: Global | D7: =+$D$1 -> 13 | E7: =+'MTF_APICULTURA (10+45)'!G31 -> 35000 | F7: =+E7*D7 -> 455000 | G7: =+$K$1 -> 57 | H7: =+D7*E7*G7 -> 25935000 | I7: =+H7 -> 25935000 | O7: =+ROUND((I7/2),0) -> 12967500 | P7: =+ROUND((I7/2),0) -> 12967500 | X7: =SUM(L7:W7) -> 25935000 | Y7: =+X7-I7 -> 0
A8: =+'MTF_APICULTURA (10+45)'!B32 -> PIQUERA | B8: Base o piquera de la colmena en madera moncoro o acacia (de bosque reforestado), medidas estándar | C8: Global | D8: =+$D$1 -> 13 | E8: =+'MTF_APICULTURA (10+45)'!G32 -> 30000 | F8: =+E8*D8 -> 390000 | G8: =+$K$1 -> 57 | H8: =+D8*E8*G8 -> 22230000 | I8: =+H8 -> 22230000 | O8: =+ROUND((I8/2),0) -> 11115000 | P8: =+ROUND((I8/2),0) -> 11115000 | X8: =SUM(L8:W8) -> 22230000 | Y8: =+X8-I8 -> 0
A9: =+'MTF_APICULTURA (10+45)'!B33 -> ALZA PROFUNDA | B9: Alza profunda vacia en madera moncoro, medidas estándar. | C9: Global | D9: =+$D$1 -> 13 | E9: =+'MTF_APICULTURA (10+45)'!G33 -> 47000 | F9: =+E9*D9 -> 611000 | G9: =+$K$1 -> 57 | H9: =+D9*E9*G9 -> 34827000 | I9: =+H9 -> 34827000 | O9: =+ROUND((I9/2),0) -> 17413500 | P9: =+ROUND((I9/2),0) -> 17413500 | X9: =SUM(L9:W9) -> 34827000 | Y9: =+X9-I9 -> 0
A10: =+'MTF_APICULTURA (10+45)'!B34 -> TECHO | B10: Techo forrado en lámina de aluminio de 60cm x 48cm. | C10: Global | D10: =+$D$1 -> 13 | E10: =+'MTF_APICULTURA (10+45)'!G34 -> 36000 | F10: =+E10*D10 -> 468000 | G10: =+$K$1 -> 57 | H10: =+D10*E10*G10 -> 26676000 | I10: =+H10 -> 26676000 | O10: =+ROUND((I10/2),0) -> 13338000 | P10: =+ROUND((I10/2),0) -> 13338000 | X10: =SUM(L10:W10) -> 26676000 | Y10: =+X10-I10 -> 0
A11: =+'MTF_APICULTURA (10+45)'!B35 -> EXCLUIDOR | B11: Rejilla excluidora de reinas en plástico de alta resistencia, importada para colmena tipo langstroth | C11: Global | D11: =+$D$1 -> 13 | E11: =+'MTF_APICULTURA (10+45)'!G35 -> 22000 | F11: =+E11*D11 -> 286000 | G11: =+$K$1 -> 57 | H11: =+D11*E11*G11 -> 16302000 | I11: =+H11 -> 16302000 | O11: =+ROUND((I11/2),0) -> 8151000 | P11: =+ROUND((I11/2),0) -> 8151000 | X11: =SUM(L11:W11) -> 16302000 | Y11: =+X11-I11 -> 0
A12: =+'MTF_APICULTURA (10+45)'!B36 -> LÁMINA DE CERA | B12: Lámina de cera estampada para cuadro de alza profunda importada, tamaño del alveolo de 4,9mm | C12: Global | D12: =$D$1*15 -> 195 | E12: =+'MTF_APICULTURA (10+45)'!G36 -> 3750 | F12: =+E12*D12 -> 731250 | G12: =+$K$1 -> 57 | H12: =+D12*E12*G12 -> 41681250 | I12: =+H12 -> 41681250 | O12: =+ROUND((I12/2),0) -> 20840625 | P12: =+ROUND((I12/2),0) -> 20840625 | X12: =SUM(L12:W12) -> 41681250 | Y12: =+X12-I12 -> 0
A13: =+'MTF_APICULTURA (10+45)'!B37 -> MARCO ALAMBRADO | B13: Marco alambrado para alza profunda, medidas estandar | C13: Global | D13: =$D$1*15 -> 195 | E13: =+'MTF_APICULTURA (10+45)'!G37 -> 4300 | F13: =+E13*D13 -> 838500 | G13: =+$K$1 -> 57 | H13: =+D13*E13*G13 -> 47794500 | I13: =+H13 -> 47794500 | O13: =+ROUND((I13/2),0) -> 23897250 | P13: =+ROUND((I13/2),0) -> 23897250 | X13: =SUM(L13:W13) -> 47794500 | Y13: =+X13-I13 -> 0
A14: =+'MTF_APICULTURA (10+45)'!B38 -> ENTRETAPA | B14: Tapa interna en madera moncoro, medidas estándar | C14: Global | D14: =+$D$1 -> 13 | E14: =+'MTF_APICULTURA (10+45)'!G38 -> 23000 | F14: =+E14*D14 -> 299000 | G14: =+$K$1 -> 57 | H14: =+D14*E14*G14 -> 17043000 | I14: =+H14 -> 17043000 | O14: =+ROUND((I14/2),0) -> 8521500 | P14: =+ROUND((I14/2),0) -> 8521500 | X14: =SUM(L14:W14) -> 17043000 | Y14: =+X14-I14 -> 0
A15: Kit de extracción | B15: Especificaciones
A16: =+'MTF_APICULTURA (10+45)'!B91 -> TOLDILLO | B16: Carpa para extracción de miel de 2,5x3x2,4m, doble compartimento | C16: Unidad | D16: 5 | E16: =+'MTF_APICULTURA (10+45)'!G91 -> 325000 | H16: =+E16*D16 -> 1625000 | I16: =+H16 -> 1625000 | U16: =+I16 -> 1625000 | X16: =SUM(L16:W16) -> 1625000 | Y16: =+X16-I16 -> 0
A17: =+'MTF_APICULTURA (10+45)'!B90 -> CENTRIFUGA | B17: Centrifuga de 4 marcos de alza profunda, en acero inoxidable 304 calidad alimentaria, herrajes y llave tipo guillotina en acero. | C17: Unidad | D17: 5 | E17: =+'MTF_APICULTURA (10+45)'!G90 -> 1875000 | H17: =+E17*D17 -> 9375000 | I17: =+H17 -> 9375000 | U17: =+I17 -> 9375000 | X17: =SUM(L17:W17) -> 9375000 | Y17: =+X17-I17 -> 0
A18: =+'MTF_APICULTURA (10+45)'!B94 -> BANDEJA | B18: Bandeja para desopercular en acero, 65cm x 45cm con soporte para apoyar el cuadro | C18: Unidad | D18: 10 | E18: =+'MTF_APICULTURA (10+45)'!G94 -> 685000 | H18: =+E18*D18 -> 6850000 | I18: =+H18 -> 6850000 | U18: =+I18 -> 6850000 | X18: =SUM(L18:W18) -> 6850000 | Y18: =+X18-I18 -> 0
A19: =+'MTF_APICULTURA (10+45)'!B93 -> FILTRO DOBLE | B19: Filtro doble en acero inoxidable, Importado con extensión para colgar en cuñete de 20 litros | C19: Unidad | D19: 5 | E19: =+'MTF_APICULTURA (10+45)'!G93 -> 150000 | H19: =+E19*D19 -> 750000 | I19: =+H19 -> 750000 | U19: =+I19 -> 750000 | X19: =SUM(L19:W19) -> 750000 | Y19: =+X19-I19 -> 0
A20: =+'MTF_APICULTURA (10+45)'!B92 -> CUCHILLO DESOPERCULADOR | B20: Cuchillo desoperculador en acero inoxidable, plano o en Z | C20: Unidad | D20: 5 | E20: =+'MTF_APICULTURA (10+45)'!G92 -> 57500 | H20: =+E20*D20 -> 287500 | I20: =+H20 -> 287500 | U20: =+I20 -> 287500 | X20: =SUM(L20:W20) -> 287500 | Y20: =+X20-I20 -> 0
B21: Subtotal colmenas y equipos | H21: =SUM(H7:H20) -> 251376250 | I21: =SUM(I7:I20) -> 251376250 | J21: =SUM(J7:J20) -> 0
A23: Equipos | B23: Especificaciones | C23: Unidad | D23: Cantidad UP | E23: Valor unitario | H23: Valor total | I23: Valor total | J23: Valor total
A24: =+'MTF_APICULTURA (10+45)'!B102 -> TANQUE DECANTADOR | B24: Tanque decantador en acero inoxidable calibre 18 , capacidad 150kg con llave desalida tipo guillotina, tapa repujada con manija y gancho para soportar contra el tanque. | C24: Unidad | D24: 1 | E24: =+'MTF_APICULTURA (10+45)'!G102 -> 1975000 | H24: =+E24*D24 -> 1975000 | I24: =+H24 -> 1975000 | U24: =+I24 -> 1975000 | X24: =SUM(L24:W24) -> 1975000 | Y24: =+X24-I24 -> 0
A25: =+'MTF_APICULTURA (10+45)'!B103 -> MARCO DE SEGUETA | B25: Marco de segueta estandar | C25: Unidad | D25: 1 | E25: =+'MTF_APICULTURA (10+45)'!G103 -> 29000 | H25: =+E25*D25 -> 29000 | I25: =+H25 -> 29000 | U25: =+I25 -> 29000 | X25: =SUM(L25:W25) -> 29000 | Y25: =+X25-I25 -> 0
A26: =+'MTF_APICULTURA (10+45)'!B106 -> CABLE | B26: Cable duplex de 2x 12 x metro | C26: Unidad | D26: 1 | E26: =+'MTF_APICULTURA (10+45)'!G106 -> 7500 | H26: =+E26*D26 -> 7500 | I26: =+H26 -> 7500 | U26: =+I26 -> 7500 | X26: =SUM(L26:W26) -> 7500 | Y26: =+X26-I26 -> 0
A27: =+'MTF_APICULTURA (10+45)'!B107 -> CALENTADOR DE AGUA | B27: Churrusco calentador de agua | C27: Unidad | D27: 1 | E27: =+'MTF_APICULTURA (10+45)'!G107 -> 10400 | H27: =+E27*D27 -> 10400 | I27: =+H27 -> 10400 | U27: =+I27 -> 10400 | X27: =SUM(L27:W27) -> 10400 | Y27: =+X27-I27 -> 0
A28: =+'MTF_APICULTURA (10+45)'!B104 -> CINTA | C28: Unidad | D28: 1 | E28: =+'MTF_APICULTURA (10+45)'!G104 -> 5500 | H28: =+E28*D28 -> 5500 | I28: =+H28 -> 5500 | U28: =+I28 -> 5500 | X28: =SUM(L28:W28) -> 5500 | Y28: =+X28-I28 -> 0
A29: =+'MTF_APICULTURA (10+45)'!B105 -> SEGUETA | C29: Unidad | D29: 1 | E29: =+'MTF_APICULTURA (10+45)'!G105 -> 5500 | H29: =+E29*D29 -> 5500 | I29: =+H29 -> 5500 | U29: =+I29 -> 5500 | X29: =SUM(L29:W29) -> 5500 | Y29: =+X29-I29 -> 0
A30: EQUIPO DE DESTILACIÓN DE ACEITES ESENCIALES | B30: El equipo esta conformado por: un quemador de gas, un alambique – calderín con espacio para el material vegetal, un condensador, un vaso florentino y sus conexiones. Estas piezas se dimensionan para procesar lotes de 7 Kg de citronela, limoncillo, Lippia alba o romero. Las piezas principales del equipo se construyen en acero inoxidable. | C30: Unidad | D30: 1 | E30: =+'MTF_APICULTURA (10+45)'!G108 -> 12624000 | H30: =+E30*D30 -> 12624000 | I30: =+H30 -> 12624000 | R30: =+I30 -> 12624000 | X30: =SUM(L30:W30) -> 12624000 | Y30: =+X30-I30 -> 0
A31: ENVASADORA | B31: Envasadora semiautomática de líquidos y viscosos, capacidad 20 botellas por minuto; material acero inoxidable 304; modo de funcinamiento tipo pisto neumático; usos envasado de miel; eficiencia de +- 50gramos de precisión; voltaje 110-220V | C31: Unidad | D31: 1 | E31: =+'MTF_APICULTURA (10+45)'!G109 -> 11400000 | H31: =+E31*D31 -> 11400000 | I31: =+H31 -> 11400000 | U31: =+I31 -> 11400000 | X31: =SUM(L31:W31) -> 11400000 | Y31: =+X31-I31 -> 0
H32: =SUM(H24:H31) -> 26056900 | I32: =SUM(I24:I31) -> 26056900 | J32: =SUM(J24:J31) -> 0
A33: INFRAESTURA PRODUCTIVA
A34: CONTAINER | C34: Unidad | D34: 2 | E34: =+'MTF_APICULTURA (10+45)'!G110 -> 95666606 | H34: =+E34*D34 -> 191333212 | I34: =+H34 -> 191333212 | Q34: =+I34 -> 191333212 | X34: =SUM(L34:W34) -> 191333212 | Y34: =+X34-I34 -> 0
A35: Mejoramiento vial | C35: Unidad | D35: 1 | E35: =+'MTF_APICULTURA (10+45)'!G112 -> 79913678 | H35: =+E35*D35 -> 79913678 | I35: =+H35 -> 79913678 | P35: =+I35 -> 79913678 | X35: =SUM(L35:W35) -> 79913678 | Y35: =+X35-I35 -> 0
A36: VIVERO | C36: Unidad | D36: 1 | E36: =+'MTF_APICULTURA (10+45)'!G111 -> 36535747 | H36: =+E36*D36 -> 36535747 | I36: =+H36 -> 36535747 | P36: =+I36 -> 36535747 | X36: =SUM(L36:W36) -> 36535747 | Y36: =+X36-I36 -> 0
H37: =SUM(H34:H36) -> 307782637 | I37: =SUM(I34:I36) -> 307782637 | J37: =SUM(J34:J36) -> 0
A40: Insumos | B40: Especificaciones | C40: Unidad | D40: Cantidad UP | E40: Valor unitario | G40: Unidades productivas | H40: Valor total | I40: Valor total | J40: Valor total
A41: PANELA | B41: =+'MTF_APICULTURA (10+45)'!B66 -> Panela x 1 kg (3 kg/colmena) | C41: Bulto x 50 kg | D41: =+D1*3 -> 39 | E41: =+'MTF_APICULTURA (10+45)'!G66 -> 8300 | G41: =+$K$1 -> 57 | H41: =+ROUND(D41*E41*G41,0) -> 18450900 | I41: =+H41 -> 18450900 | P41: =+I41 -> 18450900 | X41: =SUM(L41:W41) -> 18450900 | Y41: =+X41-I41 -> 0
A42: PROMOCALIER | B42: =+'MTF_APICULTURA (10+45)'!B67 -> Promocalier (suplemento vitaminas y aminoacidos): 2 cc/colmena. | C42: =+'MTF_APICULTURA (10+45)'!F67 -> Mililitro | D42: 200 | E42: =+'MTF_APICULTURA (10+45)'!G67 -> 105 | G42: =+$K$1 -> 57 | H42: =+ROUND(D42*E42*G42,0) -> 1197000 | I42: =+H42 -> 1197000 | P42: =+I42 -> 1197000 | X42: =SUM(L42:W42) -> 1197000 | Y42: =+X42-I42 -> 0
A43: =+'[2]Análisis cotizaciones'!$A$12 -> AHUMADOR | B43: =+'[2]Análisis cotizaciones'!$B$12 -> Ahumador en coll rolled, pintado con pintura electrostatica, salida en boca de pato | C43: Unidad | D43: 1 | E43: =+'MTF_APICULTURA (10+45)'!G68 -> 165000 | G43: =+$K$1 -> 57 | H43: =+ROUND(D43*E43*G43,0) -> 9405000 | I43: =+H43 -> 9405000 | P43: =+I43 -> 9405000 | X43: =SUM(L43:W43) -> 9405000 | Y43: =+X43-I43 -> 0
A44: =+'MTF_APICULTURA (10+45)'!B69 -> TRAJE APÍCOLA | C44: Unidad | D44: 2 | E44: =+'MTF_APICULTURA (10+45)'!G69 -> 190000 | G44: =+$K$1 -> 57 | H44: =+ROUND(D44*E44*G44,0) -> 21660000 | I44: =+H44 -> 21660000 | P44: =+I44 -> 21660000 | X44: =SUM(L44:W44) -> 21660000 | Y44: =+X44-I44 -> 0
...

Sheet Flujo Caja Contrapartida 
B2: CONTRAPARTIDA | K2: Alistamiento | N2: Ejecución | V2: Cierre
B3: ÍTEM | C3: DESCRIPCION DE LA ACTIVIDAD | D3: UNIDAD | E3: CANTIDAD | F3: COSTO UNITARIO | G3: % | H3: VALOR TOTAL | I3: Aporte Alcaldía | K3: Mes 1 | L3: Mes 2 | M3: Mes 3 | N3: Mes 4 | O3: Mes 5 | P3: Mes 6 | Q3: Mes 7 | R3: Mes 8 | S3: Mes 9 | T3: Mes 10 | U3: Mes 11 | V3: Mes 12 | W3: Total
B4: Inversión Directa | I4: Efectivo | J4: Especie
B5: 1 | C5: =+'Presupuesto Inversión Directa'!A3 -> MATERIAL BIOLÓGICO | D5: =+'Presupuesto Inversión Directa'!J3 -> 43450000 | G5: 1 | H5: =+D5 -> 43450000 | I5: =+H5 -> 43450000 | N5: =+H5*0.5 -> 21725000 | O5: =+H5*0.5 -> 21725000 | W5: =SUM(L5:V5) -> 43450000
I10: =33240000/2400000000 -> 0.01385

Sheet Costos de implementación
B1: COSTOS DE IMPLETACIÓN
B2: ÍTEM | C2: DESCRIPCION DE LA ACTIVIDAD | D2: UNIDAD | E2: CANTIDAD | F2: COSTO UNITARIO | G2: % | H2: VALOR TOTAL | I2: Aporte Alcaldía | K2: Aporte FCP
B3: A. PERSONAL | I3: Efectivo | J3: Especie | K3: Efectivo | M3: 1.6
B4: 1 | C4: Profesional Coordiandor | D4: Mes | E4: 12 | F4: =3147287*$M$3 -> 5035659.2 | G4: 1 | H4: =+E4*F4 -> 60427910
B5: 2 | C5: Profesional Adminstrativo | D5: Mes | E5: 12 | F5: =2724337*$M$3 -> 4358939.2 | G5: 0.5 | H5: =+E5*F5*G5 -> 26153635 | M5: 10
B6: 3 | C6: Profesional Contable | D6: Mes | E6: 12 | F6: =2724337*$M$3 -> 4358939.2 | G6: 0.25 | H6: =+E6*F6*G6 -> 13076818 | M6: =+M5/1000 -> 0.01
B7: SUBTOTAL COSTOS DE PERSONAL | H7: =SUM(H4:H6) -> 99658363 | I7: =SUM(I5:I5) -> 0 | J7: =SUM(J5:J6) -> 0 | K7: =K4 -> 0 | M7: =+M6*5% -> 0.0005
M8: =+M6+M7 -> 0.0105
B9: B. OTROS COSTOS ADMINISTRATIVOS | I9: Aporte Alcaldía | K9: Aporte FCP
B10: ÍTEM | C10: DESCRIPCION DE LA ACTIVIDAD | F10: PORCENTAJE | H10: VALOR TOTAL | I10: Efectivo | J10: Especie | K10: Efectivo | M10: =+H7+'Presupuesto Inversión Directa'!H86 -> 1.1048835e+09
B11: 1 | C11: Papelería 0,2% (se calcula sobre los costos directos) | G11: 0.002 | H11: =+'Presupuesto Inversión Directa'!H86*G11 -> 2010450.3 | M11: =+M10*0.01 -> 11048835
B12: =+B11+1 -> 2 | C12: Reunión de socialización | H12: =+'[5]Análisis costos proceso (2)'!H12 -> 2000000 | M12: =+M11*0.05 -> 552441.76
B13: =+B12+1 -> 3 | C13: Identidad gráfica | H13: =+'[5]Análisis costos proceso (2)'!H13 -> 2000000
B14: =+B13+1 -> 4 | C14: BODEGAJE (se calcula, sobre el valor de bienes e insumos que requieren bodegaje, para el presente caso el cálculo se realiza sobre $519.862.650) | F14: 0.01 | H14: =(+'Presupuesto Inversión Directa'!H4+'Presupuesto Inversión Directa'!H21+'Presupuesto Inversión Directa'!H51)*F14 -> 5169221.5
C15: Póliza contratación derivada | F15: 0.01 | G15: =+'Cálculo póliza'!H12 -> 0.014500234 | H15: =+G15*'Presupuesto Inversión Directa'!H86 -> 14576000
C16: Imprevistos | F16: =+H16/'Presupuesto Inversión Directa'!H86 -> 0.014627034 | H16: =47142092-1-1970760+5172601-16609727-3614078-14565000-500768-350897 -> 14703462
B17: =+B14+1 -> 5 | C17: Impuestos | F17: =0.04+0.01+0.015+(0.008*1.05)+0.01+0.025+0.01 -> 0.1184 | H17: =(+'Presupuesto Inversión Directa'!H86)*F17 -> 1.1901866e+08
B19: SUBTOTAL COSTOS ADMINISTRATIVOS | H19: =SUM(H11:H18) -> 1.5947779e+08 | I19: =SUM(I11:I18) -> 0 | J19: =SUM(J11:J18) -> 0 | K19: 0
B21: TOTAL COSTOS DE PERSONAL + COSTOS ADMINISTRATIVOS | H21: =+H7+H19 -> 2.5913616e+08 | I21: =+I7+I19 -> 0 | J21: =+J7+J19 -> 0 | K21: =K4 -> 0

Sheet Desembolsos FCP
B2: No Desembolso | C2: Entregables | D2: % desembolso | E2: Fases del Convenio | F2: Valor
B3: 1 | C3: Informe de avance de las actividades, con los siguientes soportes, aprobado por el supervisor del proyecto: 1. Apropiación del proyecto por parte del CONVINIENTE 2. Contratación del Profesinal Coordinador 3. Transferencia conceptual de la ART al equipo implementador 4. Visita territorial de contextualización 5. Verificación de beneficiaros del proyecto 6. Elaboración del Plan Operativo de Actividades -POA- del proyecto | D3: 0.3 | E3: Alistamiento | F3: =+'Flujo caja 2025'!N101 -> 366273392
B4: 2 | C4: Informe de avance de las actividades, con los siguientes soportes, aprobado por el supervisor del proyecto: 1. Acta de socializacion del proyecto. 2.Contratos y pagos que evidencien la contratación del Profesional Coordinador y técnico agropecuario comunitario del proyecto. 3. Un Plan de compras aprobado por la supervisión 8. Actas de entrega a beneficiarios que evidencien el 35% Apiarios adecuados 9.Actas de entrega a beneficiarios que evidencien el 35% de indumentaria e insumos 11. Un Informe de financiero que evidencie el 80% de ejecución del desembolso anterior y que contenga los soportes respectivos, como facturas, cuentas de cobro, estados de cuenta y demás soportes y documentación contable que avale la ejecución de los recursos; dos capítulos independientes, uno con el detalle de la ejecución de los recursos del FCP y otro con el aporte de la contrapartida. | D4: 0.3 | E4: Ejecución | F4: =+'Flujo caja 2025'!P101 -> 366273392
B5: 3 | C5: Informe de avance de las actividades, con los siguientes soportes, aprobado por el supervisor del proyecto: 1.Contratos y pagos que evidencien la contratación del Profesional Coordinador y técnico agropecuario comunitario del proyecto. 2. Informe técnico que evidencie la implementación del vivero 3. Publicación de pliegos en SECOP para la contratación de la implementación de la infraestructura productiva. 3. Actas de entrega a beneficiarios que evidencien el 100% Apiarios adecuados 9.Actas de entrega a beneficiarios que evidencien el 80% de indumentaria e insumos 11. Un Informe financiero que evidencie el 80% de ejecución del total desembolsado, que contenga los soportes respectivos, como facturas, cuentas de cobro, estados de cuenta y demás soportes y documentación contable que avale la ejecución de los recursos; dos capítulos independientes, uno con el detalle de la ejecución de los recursos del FCP y otro con el aporte de la contrapartida. | D5: 0.35 | E5: Ejecución | F5: =+'Flujo caja 2025'!Q101 -> 427318958
B6: 4 | C6: 1. Informe técnico final de ejecución con soportes aprobado por la supervisión 2. Informe financiero final de ejecución de los recursos aportados por la subcuenta PDET, así como de los recursos aportados por el Municipio en el marco de la contrapartida, el cual deberá ser aprobado por la supervisión. 3. Acta de entrega formal a las comunidades 4. Expediente digital y físico autorizado 5. Acta de cierre del proyecto. | D6: 0.05 | E6: Ejecución | F6: =+'Flujo caja 2025'!W101 -> 61045566
B17: TOTAL | D17: =SUM(D3:D16) -> 1 | F17: =SUM(F3:F16) -> 1220911308

Sheet Cálculo póliza
C3: Amparos | D3: % | E3: Valor | F3: Vlr Asegurado | G3: Tasa | H3: Prima
F4: Desde
C6: Cumplimiento | D6: 0.2 | E6: =+'Presupuesto Inversión Directa'!H86 -> 1.0052252e+09 | F6: =+E6*D6 -> 2.0104503e+08 | G6: 0.0225 | H6: =+G6*F6 -> 4523513.2 | J6: 0.0045
C7: Pago de salarios | D7: 0.05 | E7: =+E6 -> 1.0052252e+09 | F7: =+E7*D7 -> 50261258 | G7: 0.0225 | H7: =+G7*F7 -> 1130878.3 | J7: 0.0011
C8: Calidad del servicio | D8: 0.2 | E8: =+E7 -> 1.0052252e+09 | F8: =+E8*D8 -> 2.0104503e+08 | G8: 0.0225 | H8: =+G8*F8 -> 4523513.2 | J8: 0.0045
C9: Responsabilidad civil | D9: 0.25 | E9: =+E8 -> 1.0052252e+09 | F9: =+E9*D9 -> 2.5130629e+08 | G9: 0.0175 | H9: =+G9*F9 -> 4397860 | J9: 0.0031
F10: 0.0189
H11: =ROUND((SUM(H6:H10)),-3) -> 14576000 | L11: 19612040
H12: =+H11/E9 -> 0.014500234 | J12: 0.013249514
D14: 0.0208
G18: 519575829 | H18: 103915166 | J18: 2078303320 | K18: 0.0011
G19: 2314626 | H19: 415660663
G20: 0.0045 | H20: 415660663
H21: 415660663
H22: 1350897155
H23: 19239548
H24: 0.0142
F27: 1500000000 | G27: 22000000
G28: =+G27/F27 -> 0.014666667
F29: =+'Presupuesto Inversión Directa'!H88 -> 1.2643613e+09 | G29: =+F29*G28 -> 18543966

Sheet Presupuesto de obra
A1: FORTALECIMIENTO A PROYECTOS PRODUCTIVOS MIEL Y ESENCIAS LA MONTAÑA, QUE IMPACTARÁ A FIRMANTES DE PAZ Y COMUNIDADES ALEDAÑAS AL PREDIO VILLA FÁTIMA MUNICIPIO DE ANORÍ, DEPARTAMENTO DE ANTIOQUIA
A3: PRESUPUESTO CONSTRUCCIÓN
A5: ITEM | B5: ACTIVIDAD | C5: UNIDAD | D5: CANTIDAD | E5: VR UNITARIO | F5: VR PARCIAL
A6: CONTEINER
A7: 1. | B7: PRELIMINARES | F7: =ROUNDUP(SUM(F8:F11),0) -> 2633137 | G7: =+F7+F13+F17+F20+F27 -> 146118285
A8: 1.1 | B8: Localización y replanteo obra arquitectónica | C8: m2 | D8: ='[3]Cantidad de obra 1 '!J18 -> 142.646 | E8: ='[3]APU 1'!N24*1.052 -> 7938.392 | F8: =ROUNDUP(D8*E8,0) -> 1132380 | G8: =+G7*1.4052 -> 2.0532541e+08
A9: 1.2 | B9: Descapote manual (Hasta 20 cm) | C9: m2 | D9: ='[3]Cantidad de obra 1 '!J31 -> 142.646 | E9: ='[3]APU 1'!N46*1.052 -> 8571.696 | F9: =ROUNDUP(D9*E9,0) -> 1222719
A10: 1.3 | B10: Excavación manual en material común | C10: m3 | D10: ='[3]Cantidad de obra 1 '!J45 -> 28.5292 | E10: ='[3]APU 1'!N68*1.052 -> 7765.864 | F10: =ROUNDUP(D10*E10,0) -> 221554
A11: 1.4 | B11: BASE EN MATERIAL DE AFIRMADO COMPACTADO | C11: m3 | D11: ='[3]Cantidad de obra 1 '!J58 -> 28.5292 | E11: =1882*1.052 -> 1979.864 | F11: =ROUNDUP(D11*E11,0) -> 56484
A13: 2. | B13: PLACA DE CONCRETO | F13: =SUM(F14:F16) -> 27975224
A14: 2.1 | B14: Solado de limpieza en concreto pobre 5cm de espesor | C14: m2 | D14: ='[3]Cantidad de obra 2'!J18 -> 142.646 | E14: {='[3]APU 2'!N22:N22} -> 33939 | F14: =ROUNDUP(D14*E14,0) -> 4841263
A15: 2.2 | B15: Placa de contrapiso en concreto de 3000 PSI e=0,20m | C15: m2 | D15: ='[3]Cantidad de obra 2'!J31 -> 142.646 | E15: {='[3]APU 2'!N46:N46} -> 155311 | F15: =ROUNDUP(D15*E15,0) -> 22154493
A16: 2.3 | B16: Malla electrosoldada 0.15 X 0.15 M D= 5MM (INCLUYE SUMINISTRO FIJACION E INSTALACION) | C16: kg | D16: ='[3]Cantidad de obra 2'!J45 -> 128.3814 | E16: ='[3]APU 2'!N69 -> 7629.3594 | F16: =ROUNDUP(D16*E16,0) -> 979468
A17: 3. | B17: CONTAINER CON INSTALACIONES ELÉCTRICAS | F17: =ROUNDUP(SUM(F18:F19),0) -> 103233303
A18: 3.1 | B18: Contenedor marítimo de 20 pies. Tipo Mitad Oficina Mitad Bodega. Incluye: Red eléctrica con 1 tablero eléctrico de 6 circuitos, 1 toma VCP 220 V para acometida principal, 1 toma sencillo a 220 V, 3 tomas dobles a 110 V, 1 salida para voz y datos, 1 Aire Acondicionado de 12.000 BTU R410 a 220V, iluminación con panel LED redondo de 12 W y 1 interruptor sencillo. Recubrimiento en paredes con placa OSB, piso en vinilo PVC y cielo en placa PVC (SOLO MITAD OFICINA), división en placa OSB. 1 puerta peatonal de 2.0m x 0.8m y 1 ventana corrediza de 1.00 x 1.00 m. Pintura en anticorrosivo para interior de bodega y exterior de todo el contenedo | C18: UND | D18: 2 | E18: =[3]INSUMOS!H10 -> 44698895 | F18: =ROUNDUP(D18*E18,0) -> 89397790
A19: 3.2 | B19: Generador electrico 6000W velocidad de 3.000 R.P.M.Su presión de trabajo es 6.000 PSI.Posee un motor de tipo bencinero de cuatro tiempos y 419 cc. | C19: UND | D19: 2 | E19: =[3]INSUMOS!H27 -> 6917756.1 | F19: =ROUNDUP(D19*E19,0) -> 13835513
A20: 4 | B20: INSTALACIONES HIDROSANITARIAS | F20: =SUM(F21:F24) -> 11397778
A21: 4.1 | B21: SUMINISTRO E INSTALACIÓN DE POZO SEPTICO PLASTICO ANAEROBICO DE 2000LTS | C21: Und | D21: 1 | E21: {='[3]APU 4 '!N27:N27} -> 47708 | F21: =ROUNDUP(D21*E21,0) -> 47708
A22: =+A21+0.1 -> 4.2 | B22: INSTALACION BAÑO PORTATIL | C22: Und | D22: 1 | E22: ='[3]APU 4 '!N53 -> 9729405 | F22: =ROUNDUP(D22*E22,0) -> 9729405
A23: 4.3 | B23: SUMINISTRO E INSTALACIÓN TANQUE ELEVADO PVC 1000 LTS. INC. ACCESORIOS | C23: UND | D23: 2 | E23: ='[3]APU 4 '!M83 -> 761852.86 | F23: =ROUNDUP(D23*E23,0) -> 1523706
A24: 4.4 | B24: SUMINISTRO E INSTALACION DE BAJANTE DE AGUA LLUVIA PVC 4" | C24: m | D24: 1 | E24: ='[3]APU 4 '!M109 -> 96958.706 | F24: =ROUNDUP(D24*E24,0) -> 96959
A27: 8 | B27: Limpieza General Entrega | F27: =ROUNDUP(F28,0) -> 878843
A28: 8.1 | B28: Limpieza General Entrega | C28: m2 | D28: =+D8 -> 142.646 | E28: =+'[6]APU 8'!J17 -> 6161 | F28: =ROUNDUP(D28*E28,0) -> 878843
A30: VIVERO
A31: 9 | B31: PRELIMINARES | F31: =ROUNDUP(SUM(F32:F34),0) -> 3968743 | G31: =+F31+F36+F43 -> 27901799
A32: 9.1 | B32: Localización y replanteo obra arquitectónica | C32: m2 | D32: ='[3]Cantidad de obra 9'!J18 -> 252.3747 | E32: ='[3]APU 9'!N24 -> 7546 | F32: =ROUNDUP(D32*E32,0) -> 1904420 | G32: =+G31*1.4052 -> 39207607
A33: 9.2 | B33: Descapote manual (Hasta 20 cm) | C33: m2 | D33: ='[3]Cantidad de obra 9'!J37 -> 252.3747 | E33: ='[3]APU 9'!N46 -> 8148 | F33: =ROUNDUP(D33*E33,0) -> 2056350
A34: 9.3 | B34: Excavación manual en material común | C34: m3 | D34: ='[3]Cantidad de obra 9'!J54 -> 1.08 | E34: ='[3]APU 9'!N68 -> 7382 | F34: =ROUNDUP(D34*E34,0) -> 7973
A36: 10 | B36: ESTRUCTURA | F36: =SUM(F37:F41) -> 11154385
A37: 10.1 | B37: Madera inmunizada de Ø15cm para columnas | C37: UND | D37: ='[3]Cantidad de obra 10'!J18 -> 40 | E37: =[3]INSUMOS!$H$29 -> 98663.693 | F37: =D37*E37 -> 3946547.7
A38: 10.3 | B38: Alambre de acero para sostener la polisombra | C38: UND | D38: 5 | E38: =[3]INSUMOS!$H$30 -> 271930.09 | F38: =D38*E38 -> 1359650.4
A39: 10.4 | B39: Tensor de alambre | C39: UND | D39: ='[3]Cantidad de obra 10'!J75 -> 98 | E39: =[3]INSUMOS!$H$31 -> 10355.629 | F39: =D39*E39 -> 1014851.6
A40: 10.5 | B40: Polisombra del vivero 100 m | C40: UND | D40: ='[3]Cantidad de obra 10'!J94/100 -> 2.523747 | E40: =[3]INSUMOS!$H$32 -> 1680644.8 | F40: =D40*E40 -> 4241522.2
A41: 10.6 | B41: Grapas de amarre polisombra | C41: UND | D41: 625 | E41: =[3]INSUMOS!$H$33 -> 946.9 | F41: =D41*E41 -> 591812.5
A43: 11 | B43: PLANTULAS | F43: =ROUNDUP(SUM(F44:F45),0) -> 12778671
A44: 11.1 | B44: Acero galvanizado para acarreo de eras | C44: m | D44: ='[3]Cantidad de obra 11'!J18 -> 98 | E44: =[3]INSUMOS!H35 -> 9348.182 | F44: =ROUNDUP(D44*E44,0) -> 916122
A45: 11.2 | B45: Estacas para Acarreo de ERAS | C45: UND | D45: ='[3]Cantidad de obra 11'!J37 -> 490 | E45: =[3]INSUMOS!H36 -> 24209.283 | F45: =ROUNDUP(D45*E45,0) -> 11862549
A46: Mejoramiento Vial
A47: 11 | B47: Mejoramiento vial Anori | F47: =ROUNDUP(SUM(F48:F49),0) -> 61028869 | G47: =+F47*1.4056 -> 85782178
A48: 11.1 | B48: Sub- base clase C (NT1) gradación SBG-50 | C48: m3 | D48: ='[3]Cantidad de obra 12'!J18 -> 445 | E48: ='[3]APU 12'!N31*1.052 -> 136036.22 | F48: =ROUNDUP(D48*E48,0) -> 60536120
...

Sheet MTF_APICULTURA (10+45)
B3: 1. Cultivo(s) | D3: Abejas | H3: 2. Producto Comercializado | I3: Miel | L3: 3. UFH (veredas):
B5: 5. Distancia(s) de siembra: | D5: N/A | H5: 6. Densidad(es) de siembra | I5: N/A | L5: PROFESIONAL RESPONSABLE | N5: NELLY ANDREA BAUTISTA RAMOS
B7: 7. Duración del (los) ciclo(s) productivo(s) | H7: 8. Número de ciclos por años | L7: 9. Mes(es) de cosecha
B9: 10. Rendimiento mínimo (ton) | D9: 36 | H9: 11. Rendimiento Minimo Anual (Ton) | J9: 36 | L9: 12. Destino(s) de la producción | N9: CAMPO DULCE
B11: 13. Rendimiento máximo (ton) | D11: 45 | H11: 14. Rendimiento Maximo Anual (Ton) | J11: 45 | L11: 15. Año de estabilización (Permanentes) | N11: 3
B13: 1. COSTOS DIRECTOS
B14: 1. 1 Establecimiento | F14: Unidad | G14: Valor unitario | H14: Año 0 | J14: Año 1 | L14: Año 2 | N14: Año 3 | P14: Año 4 | R14: Año 5 | T14: Año 6 | V14: Año 7 | X14: Año 8 | Z14: Año 9 | AB14: Año 10 | AD14: Año 11 | AF14: Año 12
H15: Cant. | I15: Valor total | J15: Cant. | K15: Valor total | L15: Cant. | M15: Valor total | N15: Cant. | O15: Valor total | P15: Cant. | Q15: Valor total | R15: Cant. | S15: Valor total | T15: Cant. | U15: Valor total | V15: Cant. | W15: Valor total | X15: Cant. | Y15: Valor total | Z15: Cant. | AA15: Valor total | AB15: Cant. | AC15: Valor total | AD15: Cant. | AE15: Valor total | AF15: Cant. | AG15: Valor total
B16: 1.1.1 Labores | I16: =+SUM(I17:I28) -> 7257688 | K16: =+SUM(K17:K28) -> 0 | M16: =+SUM(M17:M28) -> 0 | O16: =+SUM(O17:O28) -> 0 | Q16: =+SUM(Q17:Q28) -> 0 | S16: =+SUM(S17:S28) -> 0 | U16: =+SUM(U17:U28) -> 0 | W16: =+SUM(W17:W28) -> 0 | X16: =+SUM(X17:X28) -> 0 | Y16: =+SUM(Y17:Y28) -> 0 | AA16: =+SUM(AA17:AA28) -> 0 | AB16: =+SUM(AB17:AB28) -> 0 | AC16: =+SUM(AC17:AC28) -> 0 | AE16: =+SUM(AE17:AE28) -> 0 | AG16: =+SUM(AG17:AG28) -> 0 | AH16: =SUM(I16:AG16) -> 7257688
B17: Selección del terreno para instalación apiarios | F17: Jornal | G17: =+ROUND((43297.9857738095),0) -> 43298 | H17: =ROUND((0.25*(45+10)),0) -> 14 | I17: =+H17*G17 -> 606172 | L17: 0 | M17: =+$G$17*L17 -> 0 | N17: =L17 -> 0 | O17: =+$G$17*N17 -> 0 | P17: =N17 -> 0 | Q17: =+$G$17*P17 -> 0 | R17: =P17 -> 0 | S17: =+$G$17*R17 -> 0 | T17: =R17 -> 0 | U17: =+$G$17*T17 -> 0 | V17: =T17 -> 0 | W17: =+$G$17*V17 -> 0 | X17: =V17 -> 0 | Y17: =+$G17*X17 -> 0 | Z17: =X17 -> 0 | AA17: =+$G17*Z17 -> 0 | AB17: =Z17 -> 0 | AC17: =+$G$17*AB17 -> 0 | AD17: =AB17 -> 0 | AE17: =+$G$17*AD17 -> 0 | AF17: =AD17 -> 0 | AG17: =+$G$17*AF17 -> 0
B18: Adecuación del apiario | F18: Jornal | G18: =+ROUND((43297.9857738095),0) -> 43298 | H18: =ROUND((0.25*(45+10)),0) -> 14 | I18: =+H18*G18 -> 606172 | L18: 0 | M18: =+$G$17*L18 -> 0 | N18: =L18 -> 0 | O18: =+$G$17*N18 -> 0 | P18: =N18 -> 0 | Q18: =+$G$17*P18 -> 0 | R18: =P18 -> 0 | S18: =+$G$17*R18 -> 0 | T18: =R18 -> 0 | U18: =+$G$17*T18 -> 0 | V18: =T18 -> 0 | W18: =+$G$17*V18 -> 0 | X18: =V18 -> 0 | Y18: =+$G18*X18 -> 0 | Z18: =X18 -> 0 | AA18: =+$G18*Z18 -> 0 | AB18: =Z18 -> 0 | AC18: =+$G$17*AB18 -> 0 | AD18: =AB18 -> 0 | AE18: =+$G$17*AD18 -> 0 | AF18: =AD18 -> 0 | AG18: =+$G$17*AF18 -> 0
B19: Recepción de núcleos e instalación | F19: Jornal | G19: =+ROUND((43297.9857738095),0) -> 43298 | H19: =ROUND((0.25*(45+10)),0) -> 14 | I19: =+H19*G19 -> 606172 | L19: 0 | M19: =+$G$17*L19 -> 0 | N19: =L19 -> 0 | O19: =+$G$17*N19 -> 0 | P19: =N19 -> 0 | Q19: =+$G$17*P19 -> 0 | R19: =P19 -> 0 | S19: =+$G$17*R19 -> 0 | T19: =R19 -> 0 | U19: =+$G$17*T19 -> 0 | V19: =T19 -> 0 | W19: =+$G$17*V19 -> 0 | X19: =V19 -> 0 | Y19: =+$G19*X19 -> 0 | Z19: =X19 -> 0 | AA19: =+$G19*Z19 -> 0 | AB19: =Z19 -> 0 | AC19: =+$G$17*AB19 -> 0 | AD19: =AB19 -> 0 | AE19: =+$G$17*AD19 -> 0 | AF19: =AD19 -> 0 | AG19: =+$G$17*AF19 -> 0
B20: Traspaso de núcleos biológicos a cámaras de cría. | F20: Jornal | G20: =+ROUND((43297.9857738095),0) -> 43298 | H20: =ROUND((0.25*(45+10)),0) -> 14 | I20: =+H20*G20 -> 606172 | L20: 0 | M20: =+$G$20*L20 -> 0 | N20: =L20 -> 0 | O20: =+$G$20*N20 -> 0 | P20: =N20 -> 0 | Q20: =+$G$20*P20 -> 0 | R20: =P20 -> 0 | S20: =+$G$20*R20 -> 0 | T20: =R20 -> 0 | U20: =+$G$20*T20 -> 0 | V20: =T20 -> 0 | W20: =+$G$20*V20 -> 0 | X20: =V20 -> 0 | Y20: =+$G20*X20 -> 0 | Z20: =X20 -> 0 | AA20: =+$G20*Z20 -> 0 | AB20: =Z20 -> 0 | AC20: =+$G$20*AB20 -> 0 | AD20: =AB20 -> 0 | AE20: =+$G$20*AD20 -> 0 | AF20: =AD20 -> 0 | AG20: =+$G$20*AF20 -> 0
B21: Transporte de colmena y núcleo | F21: Viaje | G21: =+'[2]Análisis cotizaciones'!$I$35 -> 4833333 | H21: 1 | I21: =+ROUND($G$21*H21,-3) -> 4833000 | L21: 0 | M21: =+$G$21*L21 -> 0 | N21: =L21 -> 0 | O21: =+$G$21*N21 -> 0 | P21: =N21 -> 0 | Q21: =+$G$21*P21 -> 0 | R21: =P21 -> 0 | S21: =+$G$21*R21 -> 0 | T21: =R21 -> 0 | U21: =+$G$21*T21 -> 0 | V21: =T21 -> 0 | W21: =+$G$21*V21 -> 0 | X21: =V21 -> 0 | Y21: =+$G21*X21 -> 0 | Z21: =X21 -> 0 | AA21: =+$G21*Z21 -> 0 | AB21: =Z21 -> 0 | AC21: =+$G$21*AB21 -> 0 | AD21: =AB21 -> 0 | AE21: =+$G$21*AD21 -> 0 | AF21: =AD21 -> 0 | AG21: =+$G$21*AF21 -> 0
I22: =+$G$22*H22 -> 0 | M22: =+$G$22*L22 -> 0 | O22: =+$G$22*N22 -> 0 | Q22: =+$G$22*P22 -> 0 | S22: =+$G$22*R22 -> 0 | U22: =+$G$22*T22 -> 0 | W22: =+$G$22*V22 -> 0 | Y22: =+$G22*X22 -> 0 | AA22: =+$G22*Z22 -> 0 | AC22: =+$G$22*AB22 -> 0 | AE22: =+$G$22*AD22 -> 0 | AG22: =+$G$22*AF22 -> 0
I23: =+$G$23*H23 -> 0 | M23: =+$G$23*L23 -> 0 | O23: =+$G$23*N23 -> 0 | Q23: =+$G$23*P23 -> 0 | S23: =+$G$23*R23 -> 0 | U23: =+$G$23*T23 -> 0 | W23: =+$G$23*V23 -> 0 | Y23: =+$G23*X23 -> 0 | AA23: =+$G23*Z23 -> 0 | AC23: =+$G$23*AB23 -> 0 | AE23: =+$G$23*AD23 -> 0 | AG23: =+$G$23*AF23 -> 0
I24: =+$G$23*H24 -> 0 | M24: =+$G$24*L24 -> 0 | O24: =+$G$24*N24 -> 0 | Q24: =+$G$24*P24 -> 0 | S24: =+$G$24*R24 -> 0 | U24: =+$G$24*T24 -> 0 | W24: =+$G24*V24 -> 0 | Y24: =+$G24*X24 -> 0 | AA24: =+$G24*Z24 -> 0
I25: =+$G$25*H25 -> 0 | M25: =+$G$25*L25 -> 0 | O25: =+$G$25*N25 -> 0 | Q25: =+$G$25*P25 -> 0 | S25: =+$G$25*R25 -> 0 | U25: =+$G$25*T25 -> 0 | W25: =+$G25*V25 -> 0 | Y25: =+$G25*X25 -> 0 | AA25: =+$G25*Z25 -> 0 | AC25: =+$G$25*AB25 -> 0 | AE25: =+$G$25*AD25 -> 0 | AG25: =+$G$25*AF25 -> 0
I26: =+$G$26*H26 -> 0 | M26: =+$G$26*L26 -> 0 | O26: =+$G$26*N26 -> 0 | Q26: =+$G$26*P26 -> 0 | S26: =+$G$26*R26 -> 0 | U26: =+$G$26*T26 -> 0 | W26: =+$G26*V26 -> 0 | Y26: =+$G26*X26 -> 0 | AA26: =+$G26*Z26 -> 0 | AC26: =+$G$26*AB26 -> 0 | AE26: =+$G$26*AD26 -> 0 | AG26: =+$G$26*AF26 -> 0
I27: =+$G$27*H27 -> 0 | M27: =+$G$27*L27 -> 0 | O27: =+$G$27*N27 -> 0 | Q27: =+$G$27*P27 -> 0 | S27: =+$G$27*R27 -> 0 | U27: =+$G$27*T27 -> 0 | W27: =+$G27*V27 -> 0 | Y27: =+$G27*X27 -> 0 | AA27: , | AC27: =+$G$27*AB27 -> 0 | AE27: =+$G$27*AD27 -> 0 | AG27: =+$G$27*AF27 -> 0
I28: =+$G$27*H28 -> 0 | M28: =+$G27*L28 -> 0 | O28: =+$G28*N28 -> 0 | Q28: =+$G28*P28 -> 0 | S28: =+$G28*R28 -> 0 | U28: =+$G28*T28 -> 0 | W28: =+$G28*V28 -> 0 | Y28: =+$G28*X28 -> 0 | AA28: =+$G28*Z28 -> 0 | AC28: =+$G28*AB28 -> 0 | AE28: =+$G28*AD28 -> 0 | AG28: =+$G28*AF28 -> 0
B30: 1.1.2 Insumos, materiales y equipos | I30: =+SUM(I31:I39) -> 432558750 | K30: =+SUM(K31:K39) -> 0 | M30: =+SUM(M31:M39) -> 0 | O30: =+SUM(O31:O39) -> 0 | Q30: =+SUM(Q31:Q39) -> 0 | S30: =+SUM(S31:S39) -> 0 | U30: =+SUM(U31:U39) -> 0 | W30: =+SUM(W31:W39) -> 0 | Y30: =+SUM(Y31:Y39) -> 0 | AA30: =+SUM(AA31:AA39) -> 0 | AC30: =+SUM(AC31:AC39) -> 0 | AE30: =+SUM(AE31:AE39) -> 0 | AG30: =+SUM(AG31:AG39) -> 0
B31: =+[7]Hoja1!$A3 -> MEDIA ALZA | F31: Unidad | G31: =+'Análisis cotizaciones VF'!K3 -> 35000 | H31: =13*(57) -> 741 | I31: =+G31*H31 -> 25935000 | L31: 0 | M31: =+$G31*L31 -> 0 | N31: =L31 -> 0 | O31: =+$G31*N31 -> 0 | P31: =N31 -> 0 | Q31: =+$G31*P31 -> 0 | R31: =P31 -> 0 | S31: =+$G$31*R31 -> 0 | T31: =R31 -> 0 | U31: =+$G$31*T31 -> 0 | V31: =T31 -> 0 | W31: =+$G$31*V31 -> 0 | X31: =V31 -> 0 | Y31: =+$G$31*X31 -> 0 | Z31: =X31 -> 0 | AA31: =+$G31*Z31 -> 0 | AB31: =Z31 -> 0 | AC31: =+$G31*AB31 -> 0 | AD31: =AB31 -> 0 | AE31: =+$G31*AD31 -> 0 | AF31: =AD31 -> 0 | AG31: =+$G31*AF31 -> 0
B32: =+[7]Hoja1!$A4 -> PIQUERA | F32: Unidad | G32: =+'Análisis cotizaciones VF'!K4 -> 30000 | H32: =13*(57) -> 741 | I32: =+G32*H32 -> 22230000 | L32: 0 | M32: =+$G32*L32 -> 0 | N32: =L32 -> 0 | O32: =+$G32*N32 -> 0 | P32: =N32 -> 0 | Q32: =+$G32*P32 -> 0 | R32: =P32 -> 0 | S32: =$G$32*R32 -> 0 | T32: =R32 -> 0 | U32: =$G$32*T32 -> 0 | V32: =T32 -> 0 | W32: =$G$32*V32 -> 0 | X32: =V32 -> 0 | Y32: =$G$32*X32 -> 0 | Z32: =X32 -> 0 | AA32: =+$G32*Z32 -> 0 | AB32: =Z32 -> 0 | AC32: =+$G32*AB32 -> 0 | AD32: =AB32 -> 0 | AE32: =+$G32*AD32 -> 0 | AF32: =AD32 -> 0 | AG32: =+$G32*AF32 -> 0
B33: =+[7]Hoja1!$A5 -> ALZA PROFUNDA | F33: Unidad | G33: =+'Análisis cotizaciones VF'!K5 -> 47000 | H33: =13*(57) -> 741 | I33: =+G33*H33 -> 34827000 | L33: 0 | M33: =+$G33*L33 -> 0 | N33: =L33 -> 0 | O33: =+$G33*N33 -> 0 | P33: =N33 -> 0 | Q33: =+$G33*P33 -> 0 | R33: =P33 -> 0 | S33: =+$G$33*R33 -> 0 | T33: =R33 -> 0 | U33: =+$G$33*T33 -> 0 | V33: =T33 -> 0 | W33: =+$G$33*V33 -> 0 | X33: =V33 -> 0 | Y33: =+$G$33*X33 -> 0 | Z33: =X33 -> 0 | AA33: =+$G33*Z33 -> 0 | AB33: =Z33 -> 0 | AC33: =+$G33*AB33 -> 0 | AD33: =AB33 -> 0 | AE33: =+$G33*AD33 -> 0 | AF33: =AD33 -> 0 | AG33: =+$G33*AF33 -> 0
B34: =+[7]Hoja1!$A6 -> TECHO | F34: Unidad | G34: =+'Análisis cotizaciones VF'!K6 -> 36000 | H34: =13*(57) -> 741 | I34: =+G34*H34 -> 26676000
B35: =+[7]Hoja1!$A7 -> EXCLUIDOR | F35: Unidad | G35: =+'Análisis cotizaciones VF'!K7 -> 22000 | H35: =13*(57) -> 741 | I35: =+G35*H35 -> 16302000
B36: =+[7]Hoja1!$A8 -> LÁMINA DE CERA | F36: Unidad | G36: =+'Análisis cotizaciones VF'!K8 -> 3750 | H36: =13*15*(57) -> 11115 | I36: =+G36*H36 -> 41681250
B37: =+[7]Hoja1!$A9 -> MARCO ALAMBRADO | F37: Unidad | G37: =+'Análisis cotizaciones VF'!K9 -> 4300 | H37: =13*15*(57) -> 11115 | I37: =+G37*H37 -> 47794500
B38: =+[7]Hoja1!$A10 -> ENTRETAPA | F38: Unidad | G38: =+'Análisis cotizaciones VF'!K10 -> 23000 | H38: =13*(57) -> 741 | I38: =+G38*H38 -> 17043000
B39: =+[7]Hoja1!$A11 -> MATERIAL BIOLÓGICO | F39: Unidad | G39: =+'Análisis cotizaciones VF'!K11 -> 270000 | H39: =13*(57) -> 741 | I39: =+G39*H39 -> 200070000
B40: Subtotal Establecimiento (No. 1.1) | I40: =+I16+I30 -> 439816438 | K40: =+K16+K30 -> 0 | M40: =+M16+M30 -> 0 | O40: =+O16+O30 -> 0 | Q40: =+Q16+Q30 -> 0 | S40: =+S16+S30 -> 0 | U40: =+U16+U30 -> 0 | W40: =+W16+W30 -> 0 | Y40: =+Y16+Y30 -> 0 | AA40: =+AA16+AA30 -> 0 | AC40: =+AC16+AC30 -> 0 | AE40: =+AE16+AE30 -> 0 | AG40: =+AG16+AG30 -> 0
B43: 1.2 Sostenimiento | F43: Unidad | G43: Valor unitario | H43: Año 0 | J43: Año 1 | L43: Año 2 | N43: Año 3 | P43: Año 4 | R43: Año 5 | T43: Año 6 | V43: Año 7 | X43: Año 8 | Z43: Año 9 | AB43: Año 10 | AD43: Año 11 | AF43: Año 12
