Workbook
Name \a: #REF!
Name \b: [1]INSUMOS!#REF!
Name \i: [1]INSUMOS!#REF!
Name \m: [1]INSUMOS!#REF!
Name \r: [1]INSUMOS!#REF!
Name \s: #REF!
Name \t: [1]INSUMOS!#REF!
Name \X: [2]!ERR
Name \Z: [2]!ERR
Name _________AFC1: [3]INV!$A$25:$D$28
Name _________AFC3: [3]INV!$F$25:$I$28
Name _________AFC5: [3]INV!$K$25:$N$28
Name _________BGC1: [3]INV!$A$5:$D$8
Name _________BGC3: [3]INV!$F$5:$I$8
Name _________BGC5: [3]INV!$K$5:$N$8
Name _________CAC1: [3]INV!$A$19:$D$22
Name _________CAC3: [3]INV!$F$19:$I$22
Name _________CAC5: [3]INV!$K$19:$N$22
Name _________PJ50: #REF!
Name _________SBC1: [3]INV!$A$12:$D$15
Name _________SBC3: [3]INV!$F$12:$I$15
Name _________SBC5: [3]INV!$K$12:$N$15
Name ________AFC1: [3]INV!$A$25:$D$28
Name ________AFC3: [3]INV!$F$25:$I$28
Name ________AFC5: [3]INV!$K$25:$N$28
Name ________BGC1: [3]INV!$A$5:$D$8
Name ________BGC3: [3]INV!$F$5:$I$8
Name ________BGC5: [3]INV!$K$5:$N$8
Name ________CAC1: [3]INV!$A$19:$D$22
Name ________CAC3: [3]INV!$F$19:$I$22
Name ________CAC5: [3]INV!$K$19:$N$22
Name ________MA2: #REF!
Name ________PJ50: #REF!
Name ________SBC1: [3]INV!$A$12:$D$15
Name ________SBC3: [3]INV!$F$12:$I$15
Name ________SBC5: [3]INV!$K$12:$N$15
Name _______AFC1: [3]INV!$A$25:$D$28
Name _______AFC3: [3]INV!$F$25:$I$28
Name _______AFC5: [3]INV!$K$25:$N$28
Name _______BGC1: [3]INV!$A$5:$D$8
Name _______BGC3: [3]INV!$F$5:$I$8
Name _______BGC5: [3]INV!$K$5:$N$8
Name _______CAC1: [3]INV!$A$19:$D$22
Name _______CAC3: [3]INV!$F$19:$I$22
Name _______CAC5: [3]INV!$K$19:$N$22
Name _______MA2: #REF!
Name _______PJ50: #REF!
Name _______SBC1: [3]INV!$A$12:$D$15
Name _______SBC3: [3]INV!$F$12:$I$15
Name _______SBC5: [3]INV!$K$12:$N$15
Name ______AFC1: [3]INV!$A$25:$D$28
Name ______AFC3: [3]INV!$F$25:$I$28
Name ______AFC5: [3]INV!$K$25:$N$28
Name ______BGC1: [3]INV!$A$5:$D$8
Name ______BGC3: [3]INV!$F$5:$I$8
Name ______BGC5: [3]INV!$K$5:$N$8
Name ______CAC1: [3]INV!$A$19:$D$22
Name ______CAC3: [3]INV!$F$19:$I$22
Name ______CAC5: [3]INV!$K$19:$N$22
Name ______INF1: #REF!

Sheet MatrizdecotizacionPlatano
A1: FECHA | B1: MUNICIPIO | C1: EMPRESA | D1: CONTACTO | E1: TELEFONO | F1: CORREO | G1: N° | H1: NOMBRE DEL PRODUCTO (insumo/material/herramienta/equipos) (1.185 productores de platano) | I1: UNIDAD | J1: CANTIDAD PARA UN (1) KIT | K1: CANTIDAD DE PRODUCTO PARA 1.185 KITS | L1: VALOR UNITARIO ANTES DE IVA ($) | M1: IVA (%) | N1: VALOR UNITARIO INCLUIDO IVA ($) | O1: VALOR TOTAL INCLUIDO IVA - COSTO POR KIT | P1: VALOR TOTAL INCUIDO IVA DE 1.185 KITS
A2: 46073 | B2: Apartado | C2: Uniban | D2: Andres Marin | E2: 3176403359 | F2: amarinb@uniban.com.co | G2: 1 | H2: Enmienda (cal dolomita) | I2: Bulto de (50Kg) | J2: 10 | K2: 11850 | L2: =N2/(1+M2) -> 24255.225 | M2: 0 | N2: 24255.225 | O2: =J2*N2 -> 242552.25 | P2: =K2*N2 -> 2.8742442e+08
A3: 46073 | B3: Apartado | C3: Uniban | D3: Andres Marin | E3: 3176403359 | F3: amarinb@uniban.com.co | G3: 2 | H3: Micorriza | I3: Bulto de (50Kg) | J3: 5 | K3: 5925 | L3: =N3/(1+M3) -> 63755.025 | M3: 0 | N3: 63755.025 | O3: =J3*N3 -> 318775.12 | P3: =K3*N3 -> 3.7774852e+08
A4: 46073 | B4: Apartado | C4: Uniban | D4: Andres Marin | E4: 3176403359 | F4: amarinb@uniban.com.co | G4: 3 | H4: Abono orgánico | I4: Bulto de (50Kg) | J4: 32 | K4: 37920 | L4: =N4/(1+M4) -> 23564 | M4: 0 | N4: 23564 | O4: =J4*N4 -> 754048 | P4: =K4*N4 -> 893546880
A5: 46073 | B5: Apartado | C5: Uniban | D5: Andres Marin | E5: 3176403359 | F5: amarinb@uniban.com.co | G5: 4 | H5: Fertilizantes DAP | I5: Bulto de (50Kg) | J5: 2 | K5: 2370 | L5: =N5/(1+M5) -> 232432.2 | M5: 0 | N5: 232432.2 | O5: =J5*N5 -> 464864.4 | P5: =K5*N5 -> 550864314
A6: 46073 | B6: Apartado | C6: Uniban | D6: Andres Marin | E6: 3176403359 | F6: amarinb@uniban.com.co | G6: 5 | H6: Urea | I6: Bulto de (50Kg) | J6: 2 | K6: 2370 | L6: =N6/(1+M6) -> 141601.15 | M6: 0 | N6: 141601.15 | O6: =J6*N6 -> 283202.3 | P6: =K6*N6 -> 3.3559473e+08
A7: 46073 | B7: Apartado | C7: Uniban | D7: Andres Marin | E7: 3176403359 | F7: amarinb@uniban.com.co | G7: 6 | H7: Fertilizante 15-4-23+4MgO+2S+0.1B+0.1Zn | I7: Bulto de (50 Kg) | J7: 2 | K7: 2370 | L7: =N7/(1+M7) -> 173849 | M7: 0 | N7: 173849 | O7: =J7*N7 -> 347698 | P7: =K7*N7 -> 412022130
A8: 46073 | B8: Apartado | C8: Uniban | D8: Andres Marin | E8: 3176403359 | F8: amarinb@uniban.com.co | G8: 7 | H8: Elementos menores | I8: Bulto de (46 Kg) | J8: 2 | K8: 2370 | L8: =N8/(1+M8) -> 131531.62 | M8: 0 | N8: 131531.62 | O8: =J8*N8 -> 263063.25 | P8: =K8*N8 -> 3.1172995e+08
A9: 46073 | B9: Apartado | C9: Uniban | D9: Andres Marin | E9: 3176403359 | F9: amarinb@uniban.com.co | G9: 8 | H9: Boro -zinc | I9: Litro | J9: 2 | K9: 2370 | L9: =N9/(1+M9) -> 32932.625 | M9: 0 | N9: 32932.625 | O9: =J9*N9 -> 65865.25 | P9: =K9*N9 -> 78050321
A10: 46073 | B10: Apartado | C10: Uniban | D10: Andres Marin | E10: 3176403359 | F10: amarinb@uniban.com.co | G10: 9 | H10: Fertilizante Mezclado NPK de aplicación foliar | I10: 900 g | J10: 2 | K10: 2370 | L10: =N10/(1+M10) -> 14572.7 | M10: 0 | N10: 14572.7 | O10: =J10*N10 -> 29145.4 | P10: =K10*N10 -> 34537299
A11: 46073 | B11: Apartado | C11: Uniban | D11: Andres Marin | E11: 3176403359 | F11: amarinb@uniban.com.co | G11: 10 | H11: Fertilizante liquido quelatado de alta asimilación | I11: Litro | J11: 4 | K11: 4740 | L11: =N11/(1+M11) -> 48520.125 | M11: 0 | N11: 48520.125 | O11: =J11*N11 -> 194080.5 | P11: =K11*N11 -> 2.2998539e+08
A12: 46073 | B12: Apartado | C12: Uniban | D12: Andres Marin | E12: 3176403359 | F12: amarinb@uniban.com.co | G12: 11 | H12: Herbicidas (Paraquat) | I12: Litro | J12: 1 | K12: 1185 | L12: =N12/(1+M12) -> 16063.725 | M12: 0 | N12: 16063.725 | O12: =J12*N12 -> 16063.725 | P12: =K12*N12 -> 19035514
A13: 46073 | B13: Apartado | C13: Uniban | D13: Andres Marin | E13: 3176403359 | F13: amarinb@uniban.com.co | G13: 12 | H13: Fertilizante completo (15-15-15) | I13: Bulto de (50Kg) | J13: 3 | K13: 3555 | L13: =N13/(1+M13) -> 144677.8 | M13: 0 | N13: 144677.8 | O13: =J13*N13 -> 434033.4 | P13: =K13*N13 -> 5.1432958e+08
... A24: 46073 | B24: Apartado | C24: Uniban | D24: Andres Marin | E24: 3176403360 | F24: amarinb@uniban.com.co | G24: 22 | H24: Fumigadora de espalda | I24: Unidad | J24: 1 | K24: 1185 | L24: =N24/(1+M24) -> 256415.14 | M24: 0.05 | N24: 269235.9 | O24: =J24*N24 -> 269235.9 | P24: =K24*N24 -> 3.1904454e+08
H25: TOTAL | O25: =SUM(O2:O24) -> 4323957.5 | P25: =SUM(P2:P24) -> 5.1238896e+09
A26: 46073 | B26: Bello | C26: Carmenagro | D26: Henry Mauricio Gil Rivillas | E26: 316 2906138 | F26: carmenagro2020@gmail.com | G26: 1 | H26: Enmienda (cal dolomita) | I26: Bulto de (50Kg) | J26: 10 | K26: 11850 | L26: =N26/(1+M26) -> 22200 | M26: 0 | N26: 22200 | O26: =J26*N26 -> 222000 | P26: =K26*N26 -> 263070000
A27: 46073 | B27: Bello | C27: Carmenagro | D27: Henry Mauricio Gil Rivillas | E27: 316 2906138 | F27: carmenagro2020@gmail.com | G27: 2 | H27: Micorriza | I27: Bulto de (50Kg) | J27: 5 | K27: 5925 | L27: =N27/(1+M27) -> 89000 | M27: 0 | N27: 89000 | O27: =J27*N27 -> 445000 | P27: =K27*N27 -> 527325000
A28: 46073 | B28: Bello | C28: Carmenagro | D28: Henry Mauricio Gil Rivillas | E28: 316 2906138 | F28: carmenagro2020@gmail.com | G28: 3 | H28: Abono orgánico | I28: Bulto de (50Kg) | J28: 32 | K28: 37920 | L28: =N28/(1+M28) -> 30000 | M28: 0 | N28: 30000 | O28: =J28*N28 -> 960000 | P28: =K28*N28 -> 1137600000
A29: 46073 | B29: Bello | C29: Carmenagro | D29: Henry Mauricio Gil Rivillas | E29: 316 2906138 | F29: carmenagro2020@gmail.com | G29: 4 | H29: Fertilizantes DAP | I29: Bulto de (50Kg) | J29: 2 | K29: 2370 | L29: =N29/(1+M29) -> 269000 | M29: 0 | N29: 269000 | O29: =J29*N29 -> 538000 | P29: =K29*N29 -> 637530000
A30: 46073 | B30: Bello | C30: Carmenagro | D30: Henry Mauricio Gil Rivillas | E30: 316 2906138 | F30: carmenagro2020@gmail.com | G30: 5 | H30: Urea | I30: Bulto de (50Kg) | J30: 2 | K30: 2370 | L30: =N30/(1+M30) -> 176000 | M30: 0 | N30: 176000 | O30: =J30*N30 -> 352000 | P30: =K30*N30 -> 417120000
A31: 46073 | B31: Bello | C31: Carmenagro | D31: Henry Mauricio Gil Rivillas | E31: 316 2906138 | F31: carmenagro2020@gmail.com | G31: 6 | H31: Fertilizante 15-4-23+4MgO+2S+0.1B+0.1Zn | I31: Bulto de (50 Kg) | J31: 2 | K31: 2370 | L31: =N31/(1+M31) -> 197000 | M31: 0 | N31: 197000 | O31: =J31*N31 -> 394000 | P31: =K31*N31 -> 466890000
A32: 46073 | B32: Bello | C32: Carmenagro | D32: Henry Mauricio Gil Rivillas | E32: 316 2906138 | F32: carmenagro2020@gmail.com | G32: 7 | H32: Elementos menores | I32: Bulto de (46 Kg) | J32: 2 | K32: 2370 | L32: =N32/(1+M32) -> 188000 | M32: 0 | N32: 188000 | O32: =J32*N32 -> 376000 | P32: =K32*N32 -> 445560000
A33: 46073 | B33: Bello | C33: Carmenagro | D33: Henry Mauricio Gil Rivillas | E33: 316 2906138 | F33: carmenagro2020@gmail.com | G33: 8 | H33: Boro -zinc | I33: Litro | J33: 2 | K33: 2370 | L33: =N33/(1+M33) -> 41000 | M33: 0 | N33: 41000 | O33: =J33*N33 -> 82000 | P33: =K33*N33 -> 97170000
A34: 46073 | B34: Bello | C34: Carmenagro | D34: Henry Mauricio Gil Rivillas | E34: 316 2906138 | F34: carmenagro2020@gmail.com | G34: 9 | H34: Fertilizante Mezclado NPK de aplicación foliar | I34: 900 g | J34: 2 | K34: 2370 | L34: =N34/(1+M34) -> 18500 | M34: 0 | N34: 18500 | O34: =J34*N34 -> 37000 | P34: =K34*N34 -> 43845000
A35: 46073 | B35: Bello | C35: Carmenagro | D35: Henry Mauricio Gil Rivillas | E35: 316 2906138 | F35: carmenagro2020@gmail.com | G35: 10 | H35: Fertilizante liquido quelatado de alta asimilación | I35: Litro | J35: 4 | K35: 4740 | L35: =N35/(1+M35) -> 14880 | M35: 0 | N35: 14880 | O35: =J35*N35 -> 59520 | P35: =K35*N35 -> 70531200
A36: 46073 | B36: Bello | C36: Carmenagro | D36: Henry Mauricio Gil Rivillas | E36: 316 2906138 | F36: carmenagro2020@gmail.com | G36: 11 | H36: Herbicidas (Paraquat) | I36: Litro | J36: 1 | K36: 1185 | L36: =N36/(1+M36) -> 22200 | M36: 0 | N36: 22200 | O36: =J36*N36 -> 22200 | P36: =K36*N36 -> 26307000
A37: 46073 | B37: Bello | C37: Carmenagro | D37: Henry Mauricio Gil Rivillas | E37: 316 2906138 | F37: carmenagro2020@gmail.com | G37: 12 | H37: Fertilizante completo (15-15-15) | I37: Bulto de (50Kg) | J37: 3 | K37: 3555 | L37: =N37/(1+M37) -> 199000 | M37: 0 | N37: 199000 | O37: =J37*N37 -> 597000 | P37: =K37*N37 -> 707445000
... A48: 46073 | B48: Bello | C48: Carmenagro | D48: Henry Mauricio Gil Rivillas | E48: 316 2906138 | F48: carmenagro2020@gmail.com | G48: 23 | H48: Fumigadora de espalda | I48: Unidad | J48: 1 | K48: 1185 | L48: =N48/(1+M48) -> 360000 | M48: 0.05 | N48: 378000 | O48: =J48*N48 -> 378000 | P48: =K48*N48 -> 447930000
O49: =SUM(O26:O48) -> 5323327 | P49: =SUM(P26:P48) -> 6308142495
A50: 46076 | B50: Medellin | C50: Comunfer SAS | D50: Diana Solis | E50: 3028268754 | F50: comunfersas@gmail.com | G50: 1 | H50: Enmienda (cal dolomita) | I50: Bulto de (50Kg) | J50: 10 | K50: 11850 | L50: =N50/(1+M50) -> 30000 | M50: 0 | N50: 30000 | O50: =J50*N50 -> 300000 | P50: =K50*N50 -> 355500000
A51: 46076 | B51: Medellin | C51: Comunfer SAS | D51: Diana Solis | E51: 3028268754 | F51: comunfersas@gmail.com | G51: 2 | H51: Micorriza | I51: Bulto de (50Kg) | J51: 5 | K51: 5925 | L51: =N51/(1+M51) -> 108667 | M51: 0 | N51: 108667 | O51: =J51*N51 -> 543335 | P51: =K51*N51 -> 643851975
A52: 46076 | B52: Medellin | C52: Comunfer SAS | D52: Diana Solis | E52: 3028268754 | F52: comunfersas@gmail.com | G52: 3 | H52: Abono orgánico | I52: Bulto de (50Kg) | J52: 32 | K52: 37920 | L52: =N52/(1+M52) -> 85167 | M52: 0 | N52: 85167 | O52: =J52*N52 -> 2725344 | P52: =K52*N52 -> 3229532640
A53: 46076 | B53: Medellin | C53: Comunfer SAS | D53: Diana Solis | E53: 3028268754 | F53: comunfersas@gmail.com | G53: 4 | H53: Fertilizantes DAP | I53: Bulto de (50Kg) | J53: 2 | K53: 2370 | L53: =N53/(1+M53) -> 349833 | M53: 0 | N53: 349833 | O53: =J53*N53 -> 699666 | P53: =K53*N53 -> 829104210
A54: 46076 | B54: Medellin | C54: Comunfer SAS | D54: Diana Solis | E54: 3028268754 | F54: comunfersas@gmail.com | G54: 5 | H54: Urea | I54: Bulto de (50Kg) | J54: 2 | K54: 2370 | L54: =N54/(1+M54) -> 211667 | M54: 0 | N54: 211667 | O54: =J54*N54 -> 423334 | P54: =K54*N54 -> 501650790
A55: 46076 | B55: Medellin | C55: Comunfer SAS | D55: Diana Solis | E55: 3028268754 | F55: comunfersas@gmail.com | G55: 6 | H55: Fertilizante 15-4-23+4MgO+2S+0.1B+0.1Zn | I55: Bulto de (50 Kg) | J55: 2 | K55: 2370 | L55: =N55/(1+M55) -> 245000 | M55: 0 | N55: 245000 | O55: =J55*N55 -> 490000 | P55: =K55*N55 -> 580650000
A56: 46076 | B56: Medellin | C56: Comunfer SAS | D56: Diana Solis | E56: 3028268754 | F56: comunfersas@gmail.com | G56: 7 | H56: Elementos menores | I56: Bulto de (46 Kg) | J56: 2 | K56: 2370 | L56: =N56/(1+M56) -> 212000 | M56: 0 | N56: 212000 | O56: =J56*N56 -> 424000 | P56: =K56*N56 -> 502440000
A57: 46076 | B57: Medellin | C57: Comunfer SAS | D57: Diana Solis | E57: 3028268754 | F57: comunfersas@gmail.com | G57: 8 | H57: Boro -zinc | I57: Litro | J57: 2 | K57: 2370 | L57: =N57/(1+M57) -> 71000 | M57: 0 | N57: 71000 | O57: =J57*N57 -> 142000 | P57: =K57*N57 -> 168270000
A58: 46076 | B58: Medellin | C58: Comunfer SAS | D58: Diana Solis | E58: 3028268754 | F58: comunfersas@gmail.com | G58: 9 | H58: Fertilizante Mezclado NPK de aplicación foliar | I58: 900 g | J58: 2 | K58: 2370 | L58: =N58/(1+M58) -> 55833 | M58: 0 | N58: 55833 | O58: =J58*N58 -> 111666 | P58: =K58*N58 -> 132324210
A59: 46076 | B59: Medellin | C59: Comunfer SAS | D59: Diana Solis | E59: 3028268754 | F59: comunfersas@gmail.com | G59: 10 | H59: Fertilizante liquido quelatado de alta asimilación | I59: Litro | J59: 4 | K59: 4740 | L59: =N59/(1+M59) -> 45500 | M59: 0 | N59: 45500 | O59: =J59*N59 -> 182000 | P59: =K59*N59 -> 215670000
A60: 46076 | B60: Medellin | C60: Comunfer SAS | D60: Diana Solis | E60: 3028268754 | F60: comunfersas@gmail.com | G60: 11 | H60: Herbicidas (Paraquat) | I60: Litro | J60: 1 | K60: 1185 | L60: =N60/(1+M60) -> 34333 | M60: 0 | N60: 34333 | O60: =J60*N60 -> 34333 | P60: =K60*N60 -> 40684605
...

Sheet Matriz de Insumos platano
A1: N° | B1: NOMBRE DEL PRODUCTO (insumo/material/herramienta/equipos) | C1: UNIDAD | D1: Cotizacion Uniban -Apartadó | E1: Cotizacion Carmenagro | F1: Cotizacion Comunfer | G1: Cotizacion Agrofacil | I1: MEDIDA ESTADÍSTICA SELECCIONADA | J1: VALOR UNITARIO INCLUIDO IVA
A2: 1 | B2: Enmienda (cal dolomita) | C2: Bulto de (50Kg) | D2: =MatrizdecotizacionPlatano!N2 -> 24255.225 | E2: =MatrizdecotizacionPlatano!N26 -> 22200 | F2: =MatrizdecotizacionPlatano!N50 -> 30000 | G2: =MatrizdecotizacionPlatano!N74 -> 29700 | I2: Promedio | J2: =+IFERROR(ROUNDUP(IF(I2="Promedio",AVERAGE(D2:H2),IF(I2="Mínimo",MIN(#REF!),IF(I2="Máximo",MAX(#REF!),IF(I2="Moda",MODE(#REF!),IF(I2="Mediana",MEDIAN(#REF!),""))))),0),"") -> 26539
A3: 2 | B3: Micorriza | C3: Bulto de (50Kg) | D3: =MatrizdecotizacionPlatano!N3 -> 63755.025 | E3: =MatrizdecotizacionPlatano!N27 -> 89000 | F3: =MatrizdecotizacionPlatano!N51 -> 108667 | G3: =MatrizdecotizacionPlatano!N75 -> 117750 | I3: Promedio | J3: =+IFERROR(ROUNDUP(IF(I3="Promedio",AVERAGE(D3:H3),IF(I3="Mínimo",MIN(#REF!),IF(I3="Máximo",MAX(#REF!),IF(I3="Moda",MODE(#REF!),IF(I3="Mediana",MEDIAN(#REF!),""))))),0),"") -> 94794
A4: 3 | B4: Abono orgánico | C4: Bulto de (50Kg) | D4: =MatrizdecotizacionPlatano!N4 -> 23564 | E4: =MatrizdecotizacionPlatano!N28 -> 30000 | F4: =MatrizdecotizacionPlatano!N52 -> 85167 | G4: =MatrizdecotizacionPlatano!N76 -> 36300 | I4: Promedio | J4: =+IFERROR(ROUNDUP(IF(I4="Promedio",AVERAGE(D4:H4),IF(I4="Mínimo",MIN(#REF!),IF(I4="Máximo",MAX(#REF!),IF(I4="Moda",MODE(#REF!),IF(I4="Mediana",MEDIAN(#REF!),""))))),0),"") -> 43758
A5: 4 | B5: Fertilizantes DAP | C5: Bulto de (50Kg) | D5: =MatrizdecotizacionPlatano!N5 -> 232432.2 | E5: =MatrizdecotizacionPlatano!N29 -> 269000 | F5: =MatrizdecotizacionPlatano!N53 -> 349833 | G5: =MatrizdecotizacionPlatano!N77 -> 339900 | I5: Promedio | J5: =+IFERROR(ROUNDUP(IF(I5="Promedio",AVERAGE(D5:H5),IF(I5="Mínimo",MIN(#REF!),IF(I5="Máximo",MAX(#REF!),IF(I5="Moda",MODE(#REF!),IF(I5="Mediana",MEDIAN(#REF!),""))))),0),"") -> 297792
A6: 5 | B6: Urea | C6: Bulto de (50Kg) | D6: =MatrizdecotizacionPlatano!N6 -> 141601.15 | E6: =MatrizdecotizacionPlatano!N30 -> 176000 | F6: =MatrizdecotizacionPlatano!N54 -> 211667 | G6: =MatrizdecotizacionPlatano!N78 -> 209550 | I6: Promedio | J6: =+IFERROR(ROUNDUP(IF(I6="Promedio",AVERAGE(D6:H6),IF(I6="Mínimo",MIN(#REF!),IF(I6="Máximo",MAX(#REF!),IF(I6="Moda",MODE(#REF!),IF(I6="Mediana",MEDIAN(#REF!),""))))),0),"") -> 184705
A7: 6 | B7: Fertilizante 15-4-23+4MgO+2S+0.1B+0.1Zn | C7: Bulto de (50 Kg) | D7: =MatrizdecotizacionPlatano!N7 -> 173849 | E7: =MatrizdecotizacionPlatano!N31 -> 197000 | F7: =MatrizdecotizacionPlatano!N55 -> 245000 | G7: =MatrizdecotizacionPlatano!N79 -> 264000 | I7: Promedio | J7: =+IFERROR(ROUNDUP(IF(I7="Promedio",AVERAGE(D7:H7),IF(I7="Mínimo",MIN(#REF!),IF(I7="Máximo",MAX(#REF!),IF(I7="Moda",MODE(#REF!),IF(I7="Mediana",MEDIAN(#REF!),""))))),0),"") -> 219963
A8: 7 | B8: Elementos menores | C8: Bulto de (46 Kg) | D8: =MatrizdecotizacionPlatano!N8 -> 131531.62 | E8: =MatrizdecotizacionPlatano!N32 -> 188000 | F8: =MatrizdecotizacionPlatano!N56 -> 212000 | G8: =MatrizdecotizacionPlatano!N80 -> 204600 | I8: Promedio | J8: =+IFERROR(ROUNDUP(IF(I8="Promedio",AVERAGE(D8:H8),IF(I8="Mínimo",MIN(#REF!),IF(I8="Máximo",MAX(#REF!),IF(I8="Moda",MODE(#REF!),IF(I8="Mediana",MEDIAN(#REF!),""))))),0),"") -> 184033
A9: 8 | B9: Boro -zinc | C9: Litro | D9: =MatrizdecotizacionPlatano!N9 -> 32932.625 | E9: =MatrizdecotizacionPlatano!N33 -> 41000 | F9: =MatrizdecotizacionPlatano!N57 -> 71000 | G9: =MatrizdecotizacionPlatano!N81 -> 46365 | I9: Promedio | J9: =+IFERROR(ROUNDUP(IF(I9="Promedio",AVERAGE(D9:H9),IF(I9="Mínimo",MIN(#REF!),IF(I9="Máximo",MAX(#REF!),IF(I9="Moda",MODE(#REF!),IF(I9="Mediana",MEDIAN(#REF!),""))))),0),"") -> 47825
A10: 9 | B10: Fertilizante Mezclado NPK de aplicación foliar | C10: 900 g | D10: =MatrizdecotizacionPlatano!N10 -> 14572.7 | E10: =MatrizdecotizacionPlatano!N34 -> 18500 | F10: =MatrizdecotizacionPlatano!N58 -> 55833 | G10: =MatrizdecotizacionPlatano!N82 -> 33000 | I10: Promedio | J10: =+IFERROR(ROUNDUP(IF(I10="Promedio",AVERAGE(D10:H10),IF(I10="Mínimo",MIN(#REF!),IF(I10="Máximo",MAX(#REF!),IF(I10="Moda",MODE(#REF!),IF(I10="Mediana",MEDIAN(#REF!),""))))),0),"") -> 30477
A11: 10 | B11: Fertilizante liquido quelatado de alta asimilación | C11: Litro | D11: =MatrizdecotizacionPlatano!N11 -> 48520.125 | E11: =MatrizdecotizacionPlatano!N35 -> 14880 | F11: =MatrizdecotizacionPlatano!N59 -> 45500 | G11: =MatrizdecotizacionPlatano!N83 -> 41250 | I11: Promedio | J11: =+IFERROR(ROUNDUP(IF(I11="Promedio",AVERAGE(D11:H11),IF(I11="Mínimo",MIN(#REF!),IF(I11="Máximo",MAX(#REF!),IF(I11="Moda",MODE(#REF!),IF(I11="Mediana",MEDIAN(#REF!),""))))),0),"") -> 37538
A12: 11 | B12: Herbicidas (Paraquat) | C12: Litro | D12: =MatrizdecotizacionPlatano!N12 -> 16063.725 | E12: =MatrizdecotizacionPlatano!N36 -> 22200 | F12: =MatrizdecotizacionPlatano!N60 -> 34333 | G12: =MatrizdecotizacionPlatano!N84 -> 24750 | I12: Promedio | J12: =+IFERROR(ROUNDUP(IF(I12="Promedio",AVERAGE(D12:H12),IF(I12="Mínimo",MIN(#REF!),IF(I12="Máximo",MAX(#REF!),IF(I12="Moda",MODE(#REF!),IF(I12="Mediana",MEDIAN(#REF!),""))))),0),"") -> 24337
A13: 12 | B13: Fertilizante completo (15-15-15) | C13: Bulto de (50Kg) | D13: =MatrizdecotizacionPlatano!N13 -> 144677.8 | E13: =MatrizdecotizacionPlatano!N37 -> 199000 | F13: =MatrizdecotizacionPlatano!N61 -> 243333 | G13: =MatrizdecotizacionPlatano!N85 -> 237600 | I13: Promedio | J13: =+IFERROR(ROUNDUP(IF(I13="Promedio",AVERAGE(D13:H13),IF(I13="Mínimo",MIN(#REF!),IF(I13="Máximo",MAX(#REF!),IF(I13="Moda",MODE(#REF!),IF(I13="Mediana",MEDIAN(#REF!),""))))),0),"") -> 206153
... A24: 23 | B24: Fumigadora de espalda | C24: Unidad | D24: =MatrizdecotizacionPlatano!N24 -> 269235.9 | E24: =MatrizdecotizacionPlatano!N48 -> 378000 | F24: =MatrizdecotizacionPlatano!N72 -> 800238 | G24: =MatrizdecotizacionPlatano!N96 -> 148498.35 | I24: Promedio | J24: =+IFERROR(ROUNDUP(IF(I24="Promedio",AVERAGE(D24:H24),IF(I24="Mínimo",MIN(#REF!),IF(I24="Máximo",MAX(#REF!),IF(I24="Moda",MODE(#REF!),IF(I24="Mediana",MEDIAN(#REF!),""))))),0),"") -> 398994

Sheet Presupuesto_promedio_platano
A1: N° | B1: NOMBRE DEL PRODUCTO (insumo/material/herramienta/equipos) | C1: UNIDAD | D1: CANTIDAD PARA UN (1) KIT | E1: NUMERO DE KITS PARA PLATANO | F1: CANTIDAD DE PRODUCTO PARA 1.185 KITS | G1: VALOR UNITARIO ANTES DE IVA ($) | H1: IVA (%) | I1: VALOR UNITARIO INCLUIDO IVA ($) | J1: VALOR TOTAL INCLUIDO IVA - COSTO POR KIT | K1: VALOR TOTAL INCUIDO IVA DE 1.185 KITS
A2: 1 | B2: Enmienda (cal dolomita) | C2: Bulto de (50Kg) | D2: 10 | E2: =230+289+62+464+140 -> 1185 | F2: 11850 | G2: =I2/(1+H2) -> 26539 | H2: 0 | I2: ='Matriz de Insumos platano'!J2 -> 26539 | J2: =D2*I2 -> 265390 | K2: =F2*I2 -> 314487150
A3: 2 | B3: Micorriza | C3: Bulto de (50Kg) | D3: 5 | E3: =230+289+62+464+140 -> 1185 | F3: 5925 | G3: =I3/(1+H3) -> 94794 | H3: 0 | I3: ='Matriz de Insumos platano'!J3 -> 94794 | J3: =D3*I3 -> 473970 | K3: =F3*I3 -> 561654450
A4: 3 | B4: Abono orgánico | C4: Bulto de (50Kg) | D4: 32 | E4: =230+289+62+464+140 -> 1185 | F4: 37920 | G4: =I4/(1+H4) -> 43758 | H4: 0 | I4: ='Matriz de Insumos platano'!J4 -> 43758 | J4: =D4*I4 -> 1400256 | K4: =F4*I4 -> 1659303360
A5: 4 | B5: Fertilizantes DAP | C5: Bulto de (50Kg) | D5: 2 | E5: =230+289+62+464+140 -> 1185 | F5: 2370 | G5: =I5/(1+H5) -> 297792 | H5: 0 | I5: ='Matriz de Insumos platano'!J5 -> 297792 | J5: =D5*I5 -> 595584 | K5: =F5*I5 -> 705767040
A6: 5 | B6: Urea | C6: Bulto de (50Kg) | D6: 2 | E6: =230+289+62+464+140 -> 1185 | F6: 2370 | G6: =I6/(1+H6) -> 184705 | H6: 0 | I6: ='Matriz de Insumos platano'!J6 -> 184705 | J6: =D6*I6 -> 369410 | K6: =F6*I6 -> 437750850
A7: 6 | B7: Fertilizante 15-4-23+4MgO+2S+0.1B+0.1Zn | C7: Bulto de (50 Kg) | D7: 2 | E7: =230+289+62+464+140 -> 1185 | F7: 2370 | G7: =I7/(1+H7) -> 219963 | H7: 0 | I7: ='Matriz de Insumos platano'!J7 -> 219963 | J7: =D7*I7 -> 439926 | K7: =F7*I7 -> 521312310
A8: 7 | B8: Elementos menores | C8: Bulto de (46 Kg) | D8: 2 | E8: =230+289+62+464+140 -> 1185 | F8: 2370 | G8: =I8/(1+H8) -> 184033 | H8: 0 | I8: ='Matriz de Insumos platano'!J8 -> 184033 | J8: =D8*I8 -> 368066 | K8: =F8*I8 -> 436158210
A9: 8 | B9: Boro -zinc | C9: Litro | D9: 2 | E9: =230+289+62+464+140 -> 1185 | F9: 2370 | G9: =I9/(1+H9) -> 47825 | H9: 0 | I9: ='Matriz de Insumos platano'!J9 -> 47825 | J9: =D9*I9 -> 95650 | K9: =F9*I9 -> 113345250
A10: 9 | B10: Fertilizante Mezclado NPK de aplicación foliar | C10: 900 g | D10: 2 | E10: =230+289+62+464+140 -> 1185 | F10: 2370 | G10: =I10/(1+H10) -> 30477 | H10: 0 | I10: ='Matriz de Insumos platano'!J10 -> 30477 | J10: =D10*I10 -> 60954 | K10: =F10*I10 -> 72230490
A11: 10 | B11: Fertilizante liquido quelatado de alta asimilación | C11: Litro | D11: 4 | E11: =230+289+62+464+140 -> 1185 | F11: 4740 | G11: =I11/(1+H11) -> 37538 | H11: 0 | I11: ='Matriz de Insumos platano'!J11 -> 37538 | J11: =D11*I11 -> 150152 | K11: =F11*I11 -> 177930120
A12: 11 | B12: Herbicidas (Paraquat) | C12: Litro | D12: 1 | E12: =230+289+62+464+140 -> 1185 | F12: 1185 | G12: =I12/(1+H12) -> 24337 | H12: 0 | I12: ='Matriz de Insumos platano'!J12 -> 24337 | J12: =D12*I12 -> 24337 | K12: =F12*I12 -> 28839345
A13: 12 | B13: Fertilizante completo (15-15-15) | C13: Bulto de (50Kg) | D13: 3 | E13: =230+289+62+464+140 -> 1185 | F13: 3555 | G13: =I13/(1+H13) -> 206153 | H13: 0 | I13: ='Matriz de Insumos platano'!J13 -> 206153 | J13: =D13*I13 -> 618459 | K13: =F13*I13 -> 732873915
... A24: 23 | B24: Fumigadora de espalda | C24: Unidad | D24: 1 | E24: =230+289+62+464+140 -> 1185 | F24: 1185 | G24: =I24/(1+H24) -> 379994.29 | H24: 0.05 | I24: ='Matriz de Insumos platano'!J24 -> 398994 | J24: =D24*I24 -> 398994 | K24: =F24*I24 -> 472807890
J25: =SUM(J2:J24) -> 6153829 | K25: =SUM(K2:K24) -> 7292287365

Sheet Cuadro Comparativo
G1: UNIBAN | L1: CARMENAGRO SAS | Q1: COMUNFER SAS | V1: AGROFACIL
A2: N° | B2: NOMBRE DEL PRODUCTO (insumo/material/herramienta/equipos) | C2: UNIDAD | D2: CANTIDAD PARA UN (1) KIT | E2: NUMERO DE KITS | F2: CANTIDAD DE PRODUCTO PARA 1.387 KITS | G2: VALOR UNITARIO ANTES DE IVA ($) | H2: IVA (%) | I2: VALOR UNITARIO INCLUIDO IVA ($) | J2: VALOR TOTAL INCLUIDO IVA - COSTO POR KIT | K2: VALOR TOTAL INCUIDO IVA DE 1.387 KITS | L2: VALOR UNITARIO ANTES DE IVA ($) | M2: IVA (%) | N2: VALOR UNITARIO INCLUIDO IVA ($) | O2: VALOR TOTAL INCLUIDO IVA - COSTO POR KIT | P2: VALOR TOTAL INCUIDO IVA DE 1.387 KITS | Q2: VALOR UNITARIO ANTES DE IVA ($) | R2: IVA (%) | S2: VALOR UNITARIO INCLUIDO IVA ($) | T2: VALOR TOTAL INCLUIDO IVA - COSTO POR KIT | U2: VALOR TOTAL INCUIDO IVA DE 1.387 KITS | V2: VALOR UNITARIO ANTES DE IVA ($) | W2: IVA (%) | X2: VALOR UNITARIO INCLUIDO IVA ($) | Y2: VALOR TOTAL INCLUIDO IVA - COSTO POR KIT | Z2: VALOR TOTAL INCUIDO IVA DE 1.387 KITS
A3: 1 | B3: Enmienda (cal dolomita) | C3: Bulto de (50Kg) | D3: 10 | E3: 1387 | F3: =D3*E3 -> 13870 | G3: =I3/(1+H3) -> 24255.225 | H3: 0 | I3: ='Matriz de Insumos platano'!D2 -> 24255.225 | J3: =D3*I3 -> 242552.25 | K3: =F3*I3 -> 3.3641997e+08 | L3: =N3/(1+M3) -> 22200 | M3: 0 | N3: ='Matriz de Insumos platano'!E2 -> 22200 | O3: =D3*N3 -> 222000 | P3: =F3*N3 -> 307914000 | Q3: =S3/(1+R3) -> 30000 | R3: 0 | S3: ='Matriz de Insumos platano'!F2 -> 30000 | T3: =D3*S3 -> 300000 | U3: =F3*S3 -> 416100000 | V3: =X3/(1+W3) -> 29700 | W3: 0 | X3: ='Matriz de Insumos platano'!G2 -> 29700 | Y3: =D3*X3 -> 297000 | Z3: =F3*X3 -> 411939000
A4: 2 | B4: Micorriza | C4: Bulto de (50Kg) | D4: 5 | E4: 1387 | F4: =D4*E4 -> 6935 | G4: =I4/(1+H4) -> 63755.025 | H4: 0 | I4: ='Matriz de Insumos platano'!D3 -> 63755.025 | J4: =D4*I4 -> 318775.12 | K4: =F4*I4 -> 4.421411e+08 | L4: =N4/(1+M4) -> 89000 | M4: 0 | N4: ='Matriz de Insumos platano'!E3 -> 89000 | O4: =D4*N4 -> 445000 | P4: =F4*N4 -> 617215000 | Q4: =S4/(1+R4) -> 108667 | R4: 0 | S4: ='Matriz de Insumos platano'!F3 -> 108667 | T4: =D4*S4 -> 543335 | U4: =F4*S4 -> 753605645 | V4: =X4/(1+W4) -> 117750 | W4: 0 | X4: ='Matriz de Insumos platano'!G3 -> 117750 | Y4: =D4*X4 -> 588750 | Z4: =F4*X4 -> 816596250
A5: 3 | B5: Abono orgánico | C5: Bulto de (50Kg) | D5: 32 | E5: 1387 | F5: =D5*E5 -> 44384 | G5: =I5/(1+H5) -> 23564 | H5: 0 | I5: ='Matriz de Insumos platano'!D4 -> 23564 | J5: =D5*I5 -> 754048 | K5: =F5*I5 -> 1045864576 | L5: =N5/(1+M5) -> 30000 | M5: 0 | N5: ='Matriz de Insumos platano'!E4 -> 30000 | O5: =D5*N5 -> 960000 | P5: =F5*N5 -> 1331520000 | Q5: =S5/(1+R5) -> 85167 | R5: 0 | S5: ='Matriz de Insumos platano'!F4 -> 85167 | T5: =D5*S5 -> 2725344 | U5: =F5*S5 -> 3780052128 | V5: =X5/(1+W5) -> 36300 | W5: 0 | X5: ='Matriz de Insumos platano'!G4 -> 36300 | Y5: =D5*X5 -> 1161600 | Z5: =F5*X5 -> 1611139200
A6: 4 | B6: Fertilizantes DAP | C6: Bulto de (50Kg) | D6: 2 | E6: 1387 | F6: =D6*E6 -> 2774 | G6: =I6/(1+H6) -> 232432.2 | H6: 0 | I6: ='Matriz de Insumos platano'!D5 -> 232432.2 | J6: =D6*I6 -> 464864.4 | K6: =F6*I6 -> 6.4476692e+08 | L6: =N6/(1+M6) -> 269000 | M6: 0 | N6: ='Matriz de Insumos platano'!E5 -> 269000 | O6: =D6*N6 -> 538000 | P6: =F6*N6 -> 746206000 | Q6: =S6/(1+R6) -> 349833 | R6: 0 | S6: ='Matriz de Insumos platano'!F5 -> 349833 | T6: =D6*S6 -> 699666 | U6: =F6*S6 -> 970436742 | V6: =X6/(1+W6) -> 339900 | W6: 0 | X6: ='Matriz de Insumos platano'!G5 -> 339900 | Y6: =D6*X6 -> 679800 | Z6: =F6*X6 -> 942882600
A7: 5 | B7: Urea | C7: Bulto de (50Kg) | D7: 2 | E7: 1387 | F7: =D7*E7 -> 2774 | G7: =I7/(1+H7) -> 141601.15 | H7: 0 | I7: ='Matriz de Insumos platano'!D6 -> 141601.15 | J7: =D7*I7 -> 283202.3 | K7: =F7*I7 -> 3.9280159e+08 | L7: =N7/(1+M7) -> 176000 | M7: 0 | N7: ='Matriz de Insumos platano'!E6 -> 176000 | O7: =D7*N7 -> 352000 | P7: =F7*N7 -> 488224000 | Q7: =S7/(1+R7) -> 211667 | R7: 0 | S7: ='Matriz de Insumos platano'!F6 -> 211667 | T7: =D7*S7 -> 423334 | U7: =F7*S7 -> 587164258 | V7: =X7/(1+W7) -> 209550 | W7: 0 | X7: ='Matriz de Insumos platano'!G6 -> 209550 | Y7: =D7*X7 -> 419100 | Z7: =F7*X7 -> 581291700
A8: 6 | B8: Fertilizante 15-4-23+4MgO+2S+0.1B+0.1Zn | C8: Bulto de (50 Kg) | D8: 2 | E8: 1387 | F8: =D8*E8 -> 2774 | G8: =I8/(1+H8) -> 173849 | H8: 0 | I8: ='Matriz de Insumos platano'!D7 -> 173849 | J8: =D8*I8 -> 347698 | K8: =F8*I8 -> 482257126 | L8: =N8/(1+M8) -> 197000 | M8: 0 | N8: ='Matriz de Insumos platano'!E7 -> 197000 | O8: =D8*N8 -> 394000 | P8: =F8*N8 -> 546478000 | Q8: =S8/(1+R8) -> 245000 | R8: 0 | S8: ='Matriz de Insumos platano'!F7 -> 245000 | T8: =D8*S8 -> 490000 | U8: =F8*S8 -> 679630000 | V8: =X8/(1+W8) -> 264000 | W8: 0 | X8: ='Matriz de Insumos platano'!G7 -> 264000 | Y8: =D8*X8 -> 528000 | Z8: =F8*X8 -> 732336000
A9: 7 | B9: Elementos menores | C9: Bulto de (46 Kg) | D9: 2 | E9: 1387 | F9: =D9*E9 -> 2774 | G9: =I9/(1+H9) -> 131531.62 | H9: 0 | I9: ='Matriz de Insumos platano'!D8 -> 131531.62 | J9: =D9*I9 -> 263063.25 | K9: =F9*I9 -> 3.6486873e+08 | L9: =N9/(1+M9) -> 188000 | M9: 0 | N9: ='Matriz de Insumos platano'!E8 -> 188000 | O9: =D9*N9 -> 376000 | P9: =F9*N9 -> 521512000 | Q9: =S9/(1+R9) -> 212000 | R9: 0 | S9: ='Matriz de Insumos platano'!F8 -> 212000 | T9: =D9*S9 -> 424000 | U9: =F9*S9 -> 588088000 | V9: =X9/(1+W9) -> 204600 | W9: 0 | X9: ='Matriz de Insumos platano'!G8 -> 204600 | Y9: =D9*X9 -> 409200 | Z9: =F9*X9 -> 567560400
A10: 8 | B10: Boro -zinc | C10: Litro | D10: 2 | E10: 1387 | F10: =D10*E10 -> 2774 | G10: =I10/(1+H10) -> 32932.625 | H10: 0 | I10: ='Matriz de Insumos platano'!D9 -> 32932.625 | J10: =D10*I10 -> 65865.25 | K10: =F10*I10 -> 91355102 | L10: =N10/(1+M10) -> 41000 | M10: 0 | N10: ='Matriz de Insumos platano'!E9 -> 41000 | O10: =D10*N10 -> 82000 | P10: =F10*N10 -> 113734000 | Q10: =S10/(1+R10) -> 71000 | R10: 0 | S10: ='Matriz de Insumos platano'!F9 -> 71000 | T10: =D10*S10 -> 142000 | U10: =F10*S10 -> 196954000 | V10: =X10/(1+W10) -> 46365 | W10: 0 | X10: ='Matriz de Insumos platano'!G9 -> 46365 | Y10: =D10*X10 -> 92730 | Z10: =F10*X10 -> 128616510
A11: 9 | B11: Fertilizante Mezclado NPK de aplicación foliar | C11: 900 g | D11: 2 | E11: 1387 | F11: =D11*E11 -> 2774 | G11: =I11/(1+H11) -> 14572.7 | H11: 0 | I11: ='Matriz de Insumos platano'!D10 -> 14572.7 | J11: =D11*I11 -> 29145.4 | K11: =F11*I11 -> 40424670 | L11: =N11/(1+M11) -> 18500 | M11: 0 | N11: ='Matriz de Insumos platano'!E10 -> 18500 | O11: =D11*N11 -> 37000 | P11: =F11*N11 -> 51319000 | Q11: =S11/(1+R11) -> 55833 | R11: 0 | S11: ='Matriz de Insumos platano'!F10 -> 55833 | T11: =D11*S11 -> 111666 | U11: =F11*S11 -> 154880742 | V11: =X11/(1+W11) -> 33000 | W11: 0 | X11: ='Matriz de Insumos platano'!G10 -> 33000 | Y11: =D11*X11 -> 66000 | Z11: =F11*X11 -> 91542000
A12: 10 | B12: Fertilizante liquido quelatado de alta asimilación | C12: Litro | D12: 4 | E12: 1387 | F12: =D12*E12 -> 5548 | G12: =I12/(1+H12) -> 48520.125 | H12: 0 | I12: ='Matriz de Insumos platano'!D11 -> 48520.125 | J12: =D12*I12 -> 194080.5 | K12: =F12*I12 -> 2.6918965e+08 | L12: =N12/(1+M12) -> 14880 | M12: 0 | N12: ='Matriz de Insumos platano'!E11 -> 14880 | O12: =D12*N12 -> 59520 | P12: =F12*N12 -> 82554240 | Q12: =S12/(1+R12) -> 45500 | R12: 0 | S12: ='Matriz de Insumos platano'!F11 -> 45500 | T12: =D12*S12 -> 182000 | U12: =F12*S12 -> 252434000 | V12: =X12/(1+W12) -> 41250 | W12: 0 | X12: ='Matriz de Insumos platano'!G11 -> 41250 | Y12: =D12*X12 -> 165000 | Z12: =F12*X12 -> 228855000
A13: 11 | B13: Herbicidas (Paraquat) | C13: Litro | D13: 1 | E13: 1387 | F13: =D13*E13 -> 1387 | G13: =I13/(1+H13) -> 16063.725 | H13: 0 | I13: ='Matriz de Insumos platano'!D12 -> 16063.725 | J13: =D13*I13 -> 16063.725 | K13: =F13*I13 -> 22280387 | L13: =N13/(1+M13) -> 22200 | M13: 0 | N13: ='Matriz de Insumos platano'!E12 -> 22200 | O13: =D13*N13 -> 22200 | P13: =F13*N13 -> 30791400 | Q13: =S13/(1+R13) -> 34333 | R13: 0 | S13: ='Matriz de Insumos platano'!F12 -> 34333 | T13: =D13*S13 -> 34333 | U13: =F13*S13 -> 47619871 | V13: =X13/(1+W13) -> 24750 | W13: 0 | X13: ='Matriz de Insumos platano'!G12 -> 24750 | Y13: =D13*X13 -> 24750 | Z13: =F13*X13 -> 34328250
A14: 12 | B14: Fertilizante completo (15-15-15) | C14: Bulto de (50Kg) | D14: 3 | E14: 1387 | F14: =D14*E14 -> 4161 | G14: =I14/(1+H14) -> 144677.8 | H14: 0 | I14: ='Matriz de Insumos platano'!D13 -> 144677.8 | J14: =D14*I14 -> 434033.4 | K14: =F14*I14 -> 6.0200433e+08 | L14: =N14/(1+M14) -> 199000 | M14: 0 | N14: ='Matriz de Insumos platano'!E13 -> 199000 | O14: =D14*N14 -> 597000 | P14: =F14*N14 -> 828039000 | Q14: =S14/(1+R14) -> 243333 | R14: 0 | S14: ='Matriz de Insumos platano'!F13 -> 243333 | T14: =D14*S14 -> 729999 | U14: =F14*S14 -> 1012508613 | V14: =X14/(1+W14) -> 237600 | W14: 0 | X14: ='Matriz de Insumos platano'!G13 -> 237600 | Y14: =D14*X14 -> 712800 | Z14: =F14*X14 -> 988653600
... A25: 23 | B25: Fumigadora de espalda | C25: Unidad | D25: 1 | E25: 1387 | F25: =D25*E25 -> 1387 | G25: =I25/(1+H25) -> 256415.14 | H25: 0.05 | I25: ='Matriz de Insumos platano'!D24 -> 269235.9 | J25: =D25*I25 -> 269235.9 | K25: =F25*I25 -> 3.7343019e+08 | L25: =N25/(1+M25) -> 360000 | M25: 0.05 | N25: ='Matriz de Insumos platano'!E24 -> 378000 | O25: =D25*N25 -> 378000 | P25: =F25*N25 -> 524286000 | Q25: =S25/(1+R25) -> 762131.43 | R25: 0.05 | S25: ='Matriz de Insumos platano'!F24 -> 800238 | T25: =D25*S25 -> 800238 | U25: =F25*S25 -> 1109930106 | V25: =X25/(1+W25) -> 141427 | W25: 0.05 | X25: ='Matriz de Insumos platano'!G24 -> 148498.35 | Y25: =D25*X25 -> 148498.35 | Z25: =F25*X25 -> 2.0596721e+08
B26: TOTAL | J26: =SUM(J3:J25) -> 4323957.5 | K26: =SUM(K3:K25) -> 5.997329e+09 | O26: =SUM(O3:O25) -> 5323327 | P26: =SUM(P3:P25) -> 7383454549 | T26: =SUM(T3:T25) -> 8745229 | U26: =SUM(U3:U25) -> 12129632623 | Y26: =SUM(Y3:Y25) -> 6222658.5 | Z26: =SUM(Z3:Z25) -> 8.6308273e+09

Sheet presupuesto_Uniban_1387kits
A1: N° | B1: NOMBRE DEL PRODUCTO (insumo/material/herramienta/equipos) | C1: UNIDAD | D1: CANTIDAD PARA UN (1) KIT | E1: NUMERO DE KITS | F1: CANTIDAD DE PRODUCTO PARA 1.387 KITS | G1: VALOR UNITARIO ANTES DE IVA ($) | H1: IVA (%) | I1: VALOR UNITARIO INCLUIDO IVA ($) | J1: VALOR TOTAL INCLUIDO IVA - COSTO POR KIT | K1: VALOR TOTAL INCUIDO IVA DE 1.387 KITS
A2: 1 | B2: Enmienda (cal dolomita) | C2: Bulto de (50Kg) | D2: 10 | E2: 1387 | F2: =D2*E2 -> 13870 | G2: =I2/(1+H2) -> 24255.225 | H2: 0 | I2: =MatrizdecotizacionPlatano!N2 -> 24255.225 | J2: =D2*I2 -> 242552.25 | K2: =F2*I2 -> 3.3641997e+08
A3: 2 | B3: Micorriza | C3: Bulto de (50Kg) | D3: 5 | E3: 1387 | F3: =D3*E3 -> 6935 | G3: =I3/(1+H3) -> 63755.025 | H3: 0 | I3: =MatrizdecotizacionPlatano!N3 -> 63755.025 | J3: =D3*I3 -> 318775.12 | K3: =F3*I3 -> 4.421411e+08
A4: 3 | B4: Abono orgánico | C4: Bulto de (50Kg) | D4: 32 | E4: 1387 | F4: =D4*E4 -> 44384 | G4: =I4/(1+H4) -> 23564 | H4: 0 | I4: =MatrizdecotizacionPlatano!N4 -> 23564 | J4: =D4*I4 -> 754048 | K4: =F4*I4 -> 1045864576
A5: 4 | B5: Fertilizantes DAP | C5: Bulto de (50Kg) | D5: 2 | E5: 1387 | F5: =D5*E5 -> 2774 | G5: =I5/(1+H5) -> 232432.2 | H5: 0 | I5: =MatrizdecotizacionPlatano!N5 -> 232432.2 | J5: =D5*I5 -> 464864.4 | K5: =F5*I5 -> 6.4476692e+08
A6: 5 | B6: Urea | C6: Bulto de (50Kg) | D6: 2 | E6: 1387 | F6: =D6*E6 -> 2774 | G6: =I6/(1+H6) -> 141601.15 | H6: 0 | I6: =MatrizdecotizacionPlatano!N6 -> 141601.15 | J6: =D6*I6 -> 283202.3 | K6: =F6*I6 -> 3.9280159e+08
A7: 6 | B7: Fertilizante 15-4-23+4MgO+2S+0.1B+0.1Zn | C7: Bulto de (50 Kg) | D7: 2 | E7: 1387 | F7: =D7*E7 -> 2774 | G7: =I7/(1+H7) -> 173849 | H7: 0 | I7: =MatrizdecotizacionPlatano!N7 -> 173849 | J7: =D7*I7 -> 347698 | K7: =F7*I7 -> 482257126
A8: 7 | B8: Elementos menores | C8: Bulto de (46 Kg) | D8: 2 | E8: 1387 | F8: =D8*E8 -> 2774 | G8: =I8/(1+H8) -> 131531.62 | H8: 0 | I8: =MatrizdecotizacionPlatano!N8 -> 131531.62 | J8: =D8*I8 -> 263063.25 | K8: =F8*I8 -> 3.6486873e+08
A9: 8 | B9: Boro -zinc | C9: Litro | D9: 2 | E9: 1387 | F9: =D9*E9 -> 2774 | G9: =I9/(1+H9) -> 32932.625 | H9: 0 | I9: =MatrizdecotizacionPlatano!N9 -> 32932.625 | J9: =D9*I9 -> 65865.25 | K9: =F9*I9 -> 91355102
A10: 9 | B10: Fertilizante Mezclado NPK de aplicación foliar | C10: 900 g | D10: 2 | E10: 1387 | F10: =D10*E10 -> 2774 | G10: =I10/(1+H10) -> 14572.7 | H10: 0 | I10: =MatrizdecotizacionPlatano!N10 -> 14572.7 | J10: =D10*I10 -> 29145.4 | K10: =F10*I10 -> 40424670
A11: 10 | B11: Fertilizante liquido quelatado de alta asimilación | C11: Litro | D11: 4 | E11: 1387 | F11: =D11*E11 -> 5548 | G11: =I11/(1+H11) -> 48520.125 | H11: 0 | I11: =MatrizdecotizacionPlatano!N11 -> 48520.125 | J11: =D11*I11 -> 194080.5 | K11: =F11*I11 -> 2.6918965e+08
A12: 11 | B12: Herbicidas (Paraquat) | C12: Litro | D12: 1 | E12: 1387 | F12: =D12*E12 -> 1387 | G12: =I12/(1+H12) -> 16063.725 | H12: 0 | I12: =MatrizdecotizacionPlatano!N12 -> 16063.725 | J12: =D12*I12 -> 16063.725 | K12: =F12*I12 -> 22280387
A13: 12 | B13: Fertilizante completo (15-15-15) | C13: Bulto de (50Kg) | D13: 3 | E13: 1387 | F13: =D13*E13 -> 4161 | G13: =I13/(1+H13) -> 144677.8 | H13: 0 | I13: =MatrizdecotizacionPlatano!N13 -> 144677.8 | J13: =D13*I13 -> 434033.4 | K13: =F13*I13 -> 6.0200433e+08
... A24: 23 | B24: Fumigadora de espalda | C24: Unidad | D24: 1 | E24: 1387 | F24: =D24*E24 -> 1387 | G24: =I24/(1+H24) -> 256415.14 | H24: 0.05 | I24: =MatrizdecotizacionPlatano!N24 -> 269235.9 | J24: =D24*I24 -> 269235.9 | K24: =F24*I24 -> 3.7343019e+08
B25: TOTAL | J25: =SUM(J2:J24) -> 4323957.5 | K25: =SUM(K2:K24) -> 5.997329e+09 | L25: 6000000000 | M25: =L25/J25 -> 1387.6177

Sheet Resumen
A2: PROVEEDOR | B2: VALOR POR KIT PLATANO ($) | C2: VALOR TOTAL 1.387 KITS ($) | D2: OBSERVACIONES
A3: UNIBAN | B3: 4323957.5 | C3: =B3*1387 -> 5.997329e+09 | D3: 1.387 Kits
A4: CARMENAGRO SAS | B4: 5323327 | C4: =B4*1387 -> 7383454549 | D4: Tomando como base el presupuesto de 6 mil millones solo alcanza para 1.127 kits
A5: COMUNFER SAS | B5: 8745229 | C5: =B5*1387 -> 12129632623 | D5: Tomando como base el presupuesto de 6 mil millones solo alcanza para 686 kits
A6: AGROFACIL | B6: 6222658.5 | C6: =B6*1387 -> 8.6308273e+09 | D6: Tomando como base el presupuesto de 6 mil millones solo alcanza para 964 kits

Sheet Hoja1
A1: SUBREGION | B1: MUNICIPIO | C1: NUMERO DE PRODUCTORES/BENEFICIARIOS | D1: NUMERO DE KITS | I1: SUBREGION | J1: MUNICIPIO | K1: NUMERO DE PRODUCTORES/BENEFICIARIOS | L1: NUMERO DE KITS
A2: Urabá | B2: Arboletes | C2: 259 | D2: 259 | I2: Urabá | J2: Arboletes | K2: 230 | L2: 230 | M2: 130
A3: Urabá | B3: Necoclí | C3: 324 | D3: 324 | I3: Urabá | J3: Necoclí | K3: 294 | L3: 294 | M3: 310
A4: Urabá | B4: San Juan de Urabá | C4: 453 | D4: 453 | E4: =C4/E7 -> 0.77835052 | F4: =E4*92 -> 71.608247 | G4: 72 | I4: Urabá | J4: San Juan de Urabá | K4: 403 | L4: 403 | M4: 434
A5: Urabá | B5: San Pedro de Urabá | C5: 130 | D5: 130 | I5: Urabá | J5: San Pedro de Urabá | K5: 130 | L5: 130 | M5: 180
A6: Urabá | B6: Turbo | C6: 129 | D6: 129 | E6: =C6/E7 -> 0.22164948 | F6: =E6*92 -> 20.391753 | G6: 20 | I6: Urabá | J6: Turbo | K6: 330 | L6: 330 | M6: 333
A7: Total | C7: 1295 | D7: 1295 | E7: =C4+C6 -> 582 | F7: 92 | I7: TOTAL | K7: =SUM(K2:K6) -> 1387 | L7: =SUM(L2:L6) -> 1387 | M7: =SUM(M2:M6) -> 1387 | N7: =1387-M7 -> 0
A10: SUBREGION | B10: MUNICIPIO | C10: NUMERO DE PRODUCTORES/BENEFICIARIOS | D10: NUMERO DE KITS
A11: Urabá | B11: Arboletes | C11: 259 | D11: 259
A12: Urabá | B12: Necoclí | C12: 324 | D12: 324
A13: Urabá | B13: San Juan de Urabá | C13: =453+72 -> 525 | D13: 525
A14: Urabá | B14: San Pedro de Urabá | C14: 130 | D14: 130
A15: Urabá | B15: Turbo | C15: =129+20 -> 149 | D15: 149
A16: Total | C16: =SUM(C11:C15) -> 1387 | D16: =SUM(D11:D15) -> 1387
A18: SUBREGION | B18: MUNICIPIO | C18: NUMERO DE PRODUCTORES/BENEFICIARIOS | D18: NUMERO DE KITS
A19: Urabá | B19: Arboletes | C19: 130 | D19: 130
A20: Urabá | B20: Necoclí | C20: 310 | D20: 310
A21: Urabá | B21: San Juan de Urabá | C21: 434 | D21: 434
A22: Urabá | B22: San Pedro de Urabá | C22: 180 | D22: 180
A23: Urabá | B23: Turbo | C23: 333 | D23: 333
A24: Total | C24: =SUM(C19:C23) -> 1387 | D24: =SUM(D19:D23) -> 1387
