Workbook
Name _670_1200_40: '[1]CONTROL DE PAGOS - OCT 20'!#REF!
Name _670_1200_40: '[1]CONTROL DE PAGOS - OCT 20'!#REF!
Name CONTRATO: 'Indice Informe Financiero'!$D$10
Name FECHA: 'Indice Informe Financiero'!$M$14
Name MATRIZBASE: [2]CONSOLIDADO!$A$3:$AG$98
Name MATRIZBASE: #REF!
Name MATRIZBASE: #REF!
Name MATRIZBASE: [3]CONSOLIDADO!$A$3:$AI$124
Name OBRA: '[2]PAGOS OBRA'!$A$3:$B$93
Name OBRA: '[2]PAGOS OBRA'!$A$3:$B$93
Name OBRA: '[2]PAGOS OBRA'!$A$3:$B$93
Name OBRA: '[3]PAGOS OBRA'!$A$3:$B$94
Name periodo: [4]INFORME!$D$14
Name periodo: 'Indice Informe Financiero'!$D$14
Name RENDIMIENTOS: '6.Reportes de Pagos'!#REF!
Name RENDIMIENTOS: '6.Reportes de Pagos'!#REF!
Name VRASITENCIA: '[4]REMUNERACIÓN FINDETER'!$F$17
Name VRCOMPROMISOS: '4.E.F. Contratación Derivada'!$H$112
Name VRCONTRATOS: '[4]CONTROL CONTRATOS'!$T$30
Name VRCONTRATOS: '4.E.F. Contratación Derivada'!$Z$112
Name VRCXCCTO: '[4]CONTROL CONTRATOS'!$AC$30
Name VRCXCCTO: '4.E.F. Contratación Derivada'!#REF!
Name VRFACT: '5.Pagos Asistencia Ténica'!$F$19
Name VRFINDETER: '[4]REMUNERACIÓN FINDETER'!$C$17
Name VRFINDETER: '5.Pagos Asistencia Ténica'!$C$19
Name VRLIBERACIONES: '4.E.F. Contratación Derivada'!$AI$112
Name VRPAGOSCTOS: '[4]CONTROL CONTRATOS'!$AA$30
Name VRPAGOSCTOS: '4.E.F. Contratación Derivada'!$AG$112
Name VRRTEGTIACTO: '[4]CONTROL CONTRATOS'!$AB$30
Name VRRTEGTIACTO: '4.E.F. Contratación Derivada'!$AH$112

Sheet Indice Informe Financiero
A8: INFORME FINANCIERO
A10: Contrato: | D10: Contrato Interadministrativo No. CO1.PCCNTR.5090635
A11: Fecha firma: | D11: 20 de junio de 2023
A12: Cliente: | D12: Ministerio de Educación Nacional
A14: Peridodo Informe: | D14: ="01 de "&TEXT(FECHA,"mmmm")&" al "&TEXT(FECHA,"dd")&" de "&TEXT(FECHA,"mmmm")&" de "&TEXT(FECHA,"yyyy") -> 01 de julio al 31 de julio de 2025 | M14: 45869
A16: Anexos:
A17: 0 | D17: Ficha Técnica
A18: 1 | D18: Resumen Financiero del Contrato
A19: 2 | D19: Resumen Presupuestal
A20: 3 | D20: Ingresos del Contrato
A21: 4 | D21: Ejecución Financiera Contratación Derivada
A22: 5 | D22: Pagos Asistencia Ténica
A23: 6 | D23: Reportes de Pagos
A24: 7 | D24: Rendimientos Financieros

Sheet 0.Ficha Técnica
A1: =CONTRATO -> Contrato Interadministrativo No. CO1.PCCNTR.5090635
A2: Ministerio de Educación Nacional
A3: Financiera del Desarrollo S.A.
A4: 0. FICHA TECNICA
A7: No. | B7: No. Contrato o Convenio Interadministrativo | C7: Objeto del Contrato o Convenio | D7: Entidad | E7: NIT | F7: Estado del Contrato | G7: Sector | H7: Fecha de Suscripción | I7: Valor Inicial | J7: Fecha de Terminación inicial | K7: Cuenta Bancaria | L7: FONDO DE INVERION COLECTIVA - FIC | M7: Modificacion No. 1 | Q7: Modificacion No. 2 | U7: Modificacion No. 3 | Y7: Modificacion No. 4 | AC7: Modificacion No. 5 | AG7: Modificacion No. 6 | AK7: Modificacion No. 7 | AO7: Modificacion No. 8 | AS7: Modificacion No. 9 | AW7: Modificacion No. 10 | BA7: Modificacion No. 11 | BE7: Modificacion No. 12 | BI7: Valor Total Adiciones | BJ7: Valor Final Contrato | BK7: Fecha de Terminación Final | BL7: Fecha Liquidación
M8: Fecha | N8: Objeto Modificación | O8: Adición | P8: Prórroga | Q8: Fecha | R8: Objeto Modificación | S8: Adición | T8: Prórroga | U8: Fecha | V8: Objeto Modificación | W8: Adición | X8: Prórroga | Y8: Fecha | Z8: Objeto Modificación | AA8: Adición | AB8: Prórroga | AC8: Fecha | AD8: Objeto Modificación | AE8: Adición | AF8: Prórroga | AG8: Fecha | AH8: Objeto Modificación | AI8: Adición | AJ8: Prórroga | AK8: Fecha | AL8: Objeto Modificación | AM8: Adición | AN8: Prórroga | AO8: Fecha | AP8: Objeto Modificación | AQ8: Adición | AR8: Prórroga | AS8: Fecha | AT8: Objeto Modificación | AU8: Adición | AV8: Prórroga | AW8: Fecha | AX8: Objeto Modificación | AY8: Adición | AZ8: Prórroga | BA8: Fecha | BB8: Objeto Modificación | BC8: Adición | BD8: Prórroga | BE8: Fecha | BF8: Objeto Modificación | BG8: Adición | BH8: Prórroga
A9: 1 | B9: CO1.PCCNTR.5090635 | C9: Administrar recursos y brindar asistencia técnica para la atención de proyectos de infraestructura y dotación de establecimientos educativos que sean priorizados por el Ministerio de Educación Nacional. | D9: MINISTERIO DE EDUCACION NACIONAL | E9: 899.999.001-7 | F9: VIGENTE | G9: EDUCACION | H9: 45097 | I9: 294145282376 | J9: =EDATE(H9,18) -> 45646 | K9: BANCO BOGOTA AHORROS No. 000-47970-9 (Cancelada) BANCO OCCIDENTE AHORROS No. 256-14436-1 | L9: FIC 109536 (Cancelado) FIC 1900014 (Cancelado) FIC 2000011 | M9: 45637 | N9: ADICIÓN Y PRORROGA DEL CONTRATO | O9: 99930804343 | P9: 46171 | AC9: - | AD9: - | AE9: 0 | AF9: - | AG9: - | AH9: - | AI9: 0 | AJ9: - | AK9: - | AL9: - | AM9: 0 | AN9: - | AO9: - | AP9: - | AQ9: 0 | AR9: - | AS9: - | AT9: - | AU9: 0 | AV9: - | AW9: - | AX9: 0 | AY9: 0 | AZ9: - | BA9: - | BB9: - | BC9: 0 | BD9: - | BE9: - | BF9: - | BG9: 0 | BH9: - | BI9: =+S9+W9+AA9+O9 -> 99930804343 | BJ9: =+I9+BI9 -> 394076086719 | BK9: =+P9 -> 46171 | BL9: N/A

Sheet 1.Resumen Financiero Contrato
A1: =CONTRATO -> Contrato Interadministrativo No. CO1.PCCNTR.5090635
A2: Ministerio de Educación Nacional
A3: Financiera del Desarrollo S.A.
A4: 1. RESUMEN FINANCIERO DEL CONTRATO
A5: =periodo -> 01 de julio al 31 de julio de 2025
A7: FECHA | B7: CONTRATO | C7: 1. DESEMBOLSOS (+) | F7: 2. PAGOS (-) | I7: 3. RENDIMIENTOS, VALORACION Y DESVALORIZACION (+) | M7: 4. SALDO DISPONIBLE EN CUENTAS CONTRATO Y/O CONVENIO (1.3 - 2.3 + 3.4) | N7: Saldo Extracto (Cuenta Bancaria + FIC) | O7: Partidas Conciliatorias Fiduciaria (*)
C8: 1.1. DESEMBOLSOS ACUMULADOS MES ANTERIOR | D8: 1.2. DESEMBOLSOS MES ACTUAL | E8: 1.3. SALDO ACUMULADO MES ACTUAL (1.1 + 1.2 ) | F8: 2.1. PAGOS ACUMULADOS MES ANTERIOR (VALOR NETO) | G8: 2.2. PAGADO MES ACTUAL (VALOR NETO) | H8: 2.3. PAGOS ACUMULADOS MES ACTUAL (VALOR NETO) (2.1. + 2.2) | I8: 3.1. RENDIMIENTOS, VALORACION Y DESVALORIZACION ACUMULADOS MES ANTERIOR | J8: 3.2. RENDIMIENTOS, VALORACION Y DESVALORIZACION GENERADOS MES ACTUAL | K8: 3.3. (MENOS) REINTEGRO DE RENDIMIENTOS | L8: 3.4. SALDO DE RENDIMIENTOS, VALORACION Y DESVALORIZACION ACUMULADA (3.1. + 3.2. - 3.3)
A9: 45107 | B9: CO1.PCCNTR.5090635 | C9: =SUMIFS('3.Ingresos del Contrato'!J:J,'3.Ingresos del Contrato'!H:H,"<="&(EOMONTH($A9,-1))) -> 0 | D9: =SUMIFS('3.Ingresos del Contrato'!J:J,'3.Ingresos del Contrato'!H:H,">"&(EOMONTH($A9,-1)),'3.Ingresos del Contrato'!H:H,"<="&(EOMONTH($A9,0))) -> 0 | E9: =SUM(C9:D9) -> 0 | F9: =SUMIFS('6.Reportes de Pagos'!N:N,'6.Reportes de Pagos'!H:H,"<="&(EOMONTH($A9,-1))) -> 0 | G9: =SUMIFS('6.Reportes de Pagos'!N:N,'6.Reportes de Pagos'!H:H,">"&(EOMONTH($A9,-1)),'6.Reportes de Pagos'!H:H,"<="&(EOMONTH($A9,0))) -> 0 | H9: =SUM(F9:G9) -> 0 | I9: =SUMIFS('7.Rendimientos Financieros'!D:D,'7.Rendimientos Financieros'!A:A,"<="&(EOMONTH($A9,-1))) -> 0 | J9: =SUMIFS('7.Rendimientos Financieros'!D:D,'7.Rendimientos Financieros'!A:A,">"&(EOMONTH($A9,-1)),'7.Rendimientos Financieros'!A:A,"<="&(EOMONTH($A9,0))) -> 0 | K9: =SUMIFS('7.Rendimientos Financieros'!F:F,'7.Rendimientos Financieros'!E:E,"<="&(EOMONTH($A9,0))) -> 0 | L9: =SUM(I9:J9)-SUM(K9) -> 0 | M9: =+E9-H9+L9 -> 0 | N9: 0 | O9: =+N9-M9 -> 0
A10: 45138 | B10: CO1.PCCNTR.5090635 | C10: =SUMIFS('3.Ingresos del Contrato'!J:J,'3.Ingresos del Contrato'!H:H,"<="&(EOMONTH($A10,-1))) -> 0 | D10: =SUMIFS('3.Ingresos del Contrato'!J:J,'3.Ingresos del Contrato'!H:H,">"&(EOMONTH($A10,-1)),'3.Ingresos del Contrato'!H:H,"<="&(EOMONTH($A10,0))) -> 294145282376 | E10: =SUM(C10:D10) -> 294145282376 | F10: =SUMIFS('6.Reportes de Pagos'!N:N,'6.Reportes de Pagos'!H:H,"<="&(EOMONTH($A10,-1))) -> 0 | G10: =SUMIFS('6.Reportes de Pagos'!N:N,'6.Reportes de Pagos'!H:H,">"&(EOMONTH($A10,-1)),'6.Reportes de Pagos'!H:H,"<="&(EOMONTH($A10,0))) -> 0 | H10: =SUM(F10:G10) -> 0 | I10: =SUMIFS('7.Rendimientos Financieros'!D:D,'7.Rendimientos Financieros'!A:A,"<="&(EOMONTH($A10,-1))) -> 0 | J10: =SUMIFS('7.Rendimientos Financieros'!D:D,'7.Rendimientos Financieros'!A:A,">"&(EOMONTH($A10,-1)),'7.Rendimientos Financieros'!A:A,"<="&(EOMONTH($A10,0))) -> 8.0232792e+08 | K10: =SUMIFS('7.Rendimientos Financieros'!F:F,'7.Rendimientos Financieros'!E:E,"<="&(EOMONTH($A10,0))) -> 0 | L10: =SUM(I10:J10)-SUM(K10) -> 8.0232792e+08 | M10: =+E10-H10+L10 -> 2.9494761e+11 | N10: =58829046127.2+236118554108.41 -> 2.949476e+11 | O10: =+N10-M10 -> -10060
A11: 45169 | B11: CO1.PCCNTR.5090635 | C11: =SUMIFS('3.Ingresos del Contrato'!J:J,'3.Ingresos del Contrato'!H:H,"<="&(EOMONTH($A11,-1))) -> 294145282376 | D11: =SUMIFS('3.Ingresos del Contrato'!J:J,'3.Ingresos del Contrato'!H:H,">"&(EOMONTH($A11,-1)),'3.Ingresos del Contrato'!H:H,"<="&(EOMONTH($A11,0))) -> 0 | E11: =SUM(C11:D11) -> 294145282376 | F11: =SUMIFS('6.Reportes de Pagos'!N:N,'6.Reportes de Pagos'!H:H,"<="&(EOMONTH($A11,-1))) -> 0 | G11: =SUMIFS('6.Reportes de Pagos'!N:N,'6.Reportes de Pagos'!H:H,">"&(EOMONTH($A11,-1)),'6.Reportes de Pagos'!H:H,"<="&(EOMONTH($A11,0))) -> 0 | H11: =SUM(F11:G11) -> 0 | I11: =SUMIFS('7.Rendimientos Financieros'!D:D,'7.Rendimientos Financieros'!A:A,"<="&(EOMONTH($A11,-1))) -> 8.0232792e+08 | J11: =SUMIFS('7.Rendimientos Financieros'!D:D,'7.Rendimientos Financieros'!A:A,">"&(EOMONTH($A11,-1)),'7.Rendimientos Financieros'!A:A,"<="&(EOMONTH($A11,0))) -> 3.9102898e+09 | K11: =SUMIFS('7.Rendimientos Financieros'!F:F,'7.Rendimientos Financieros'!E:E,"<="&(EOMONTH($A11,0))) -> 0 | L11: =SUM(I11:J11)-SUM(K11) -> 4712617700 | M11: =+E11-H11+L11 -> 298857900076 | N11: =10060.2+60056143970.29+0+238734304507.51 -> 298790458538 | O11: =+N11-M11 -> -67441538
A12: 45199 | B12: CO1.PCCNTR.5090635 | C12: =SUMIFS('3.Ingresos del Contrato'!J:J,'3.Ingresos del Contrato'!H:H,"<="&(EOMONTH($A12,-1))) -> 294145282376 | D12: =SUMIFS('3.Ingresos del Contrato'!J:J,'3.Ingresos del Contrato'!H:H,">"&(EOMONTH($A12,-1)),'3.Ingresos del Contrato'!H:H,"<="&(EOMONTH($A12,0))) -> 0 | E12: =SUM(C12:D12) -> 294145282376 | F12: =SUMIFS('6.Reportes de Pagos'!N:N,'6.Reportes de Pagos'!H:H,"<="&(EOMONTH($A12,-1))) -> 0 | G12: =SUMIFS('6.Reportes de Pagos'!N:N,'6.Reportes de Pagos'!H:H,">"&(EOMONTH($A12,-1)),'6.Reportes de Pagos'!H:H,"<="&(EOMONTH($A12,0))) -> 0 | H12: =SUM(F12:G12) -> 0 | I12: =SUMIFS('7.Rendimientos Financieros'!D:D,'7.Rendimientos Financieros'!A:A,"<="&(EOMONTH($A12,-1))) -> 4712617700 | J12: =SUMIFS('7.Rendimientos Financieros'!D:D,'7.Rendimientos Financieros'!A:A,">"&(EOMONTH($A12,-1)),'7.Rendimientos Financieros'!A:A,"<="&(EOMONTH($A12,0))) -> 2.8177129e+09 | K12: =SUMIFS('7.Rendimientos Financieros'!F:F,'7.Rendimientos Financieros'!E:E,"<="&(EOMONTH($A12,0))) -> 0 | L12: =SUM(I12:J12)-SUM(K12) -> 7.5303306e+09 | M12: =+E12-H12+L12 -> 3.0167561e+11 | N12: =265202414.2+60562171462.96+240847915522.75 -> 3.0167529e+11 | O12: =+N12-M12 -> -323534
A13: 45230 | B13: CO1.PCCNTR.5090635 | C13: =SUMIFS('3.Ingresos del Contrato'!J:J,'3.Ingresos del Contrato'!H:H,"<="&(EOMONTH($A13,-1))) -> 294145282376 | D13: =SUMIFS('3.Ingresos del Contrato'!J:J,'3.Ingresos del Contrato'!H:H,">"&(EOMONTH($A13,-1)),'3.Ingresos del Contrato'!H:H,"<="&(EOMONTH($A13,0))) -> 0 | E13: =SUM(C13:D13) -> 294145282376 | F13: =SUMIFS('6.Reportes de Pagos'!N:N,'6.Reportes de Pagos'!H:H,"<="&(EOMONTH($A13,-1))) -> 0 | G13: =SUMIFS('6.Reportes de Pagos'!N:N,'6.Reportes de Pagos'!H:H,">"&(EOMONTH($A13,-1)),'6.Reportes de Pagos'!H:H,"<="&(EOMONTH($A13,0))) -> 0 | H13: =SUM(F13:G13) -> 0 | I13: =SUMIFS('7.Rendimientos Financieros'!D:D,'7.Rendimientos Financieros'!A:A,"<="&(EOMONTH($A13,-1))) -> 7.5303306e+09 | J13: =SUMIFS('7.Rendimientos Financieros'!D:D,'7.Rendimientos Financieros'!A:A,">"&(EOMONTH($A13,-1)),'7.Rendimientos Financieros'!A:A,"<="&(EOMONTH($A13,0))) -> 3.0912115e+09 | K13: =SUMIFS('7.Rendimientos Financieros'!F:F,'7.Rendimientos Financieros'!E:E,"<="&(EOMONTH($A13,0))) -> 0 | L13: =SUM(I13:J13)-SUM(K13) -> 1.0621542e+10 | M13: =+E13-H13+L13 -> 3.0476682e+11 | N13: =270717475.2+61089546253.66+243406560692.79 -> 3.0476682e+11 | O13: =+N13-M13 -> 0
A14: 45260 | B14: CO1.PCCNTR.5090635 | C14: =SUMIFS('3.Ingresos del Contrato'!J:J,'3.Ingresos del Contrato'!H:H,"<="&(EOMONTH($A14,-1))) -> 294145282376 | D14: =SUMIFS('3.Ingresos del Contrato'!J:J,'3.Ingresos del Contrato'!H:H,">"&(EOMONTH($A14,-1)),'3.Ingresos del Contrato'!H:H,"<="&(EOMONTH($A14,0))) -> 0 | E14: =SUM(C14:D14) -> 294145282376 | F14: =SUMIFS('6.Reportes de Pagos'!N:N,'6.Reportes de Pagos'!H:H,"<="&(EOMONTH($A14,-1))) -> 0 | G14: =SUMIFS('6.Reportes de Pagos'!N:N,'6.Reportes de Pagos'!H:H,">"&(EOMONTH($A14,-1)),'6.Reportes de Pagos'!H:H,"<="&(EOMONTH($A14,0))) -> 0 | H14: =SUM(F14:G14) -> 0 | I14: =SUMIFS('7.Rendimientos Financieros'!D:D,'7.Rendimientos Financieros'!A:A,"<="&(EOMONTH($A14,-1))) -> 1.0621542e+10 | J14: =SUMIFS('7.Rendimientos Financieros'!D:D,'7.Rendimientos Financieros'!A:A,">"&(EOMONTH($A14,-1)),'7.Rendimientos Financieros'!A:A,"<="&(EOMONTH($A14,0))) -> 2.8830707e+09 | K14: =SUMIFS('7.Rendimientos Financieros'!F:F,'7.Rendimientos Financieros'!E:E,"<="&(EOMONTH($A14,0))) -> 0 | L14: =SUM(I14:J14)-SUM(K14) -> 1.3504613e+10 | M14: =+E14-H14+L14 -> 3.076499e+11 | N14: =246045614026.28+61604281098.03 -> 3.076499e+11 | O14: =+N14-M14 -> 0
A15: 45291 | B15: CO1.PCCNTR.5090635 | C15: =SUMIFS('3.Ingresos del Contrato'!J:J,'3.Ingresos del Contrato'!H:H,"<="&(EOMONTH($A15,-1))) -> 294145282376 | D15: =SUMIFS('3.Ingresos del Contrato'!J:J,'3.Ingresos del Contrato'!H:H,">"&(EOMONTH($A15,-1)),'3.Ingresos del Contrato'!H:H,"<="&(EOMONTH($A15,0))) -> 0 | E15: =SUM(C15:D15) -> 294145282376 | F15: =SUMIFS('6.Reportes de Pagos'!N:N,'6.Reportes de Pagos'!H:H,"<="&(EOMONTH($A15,-1))) -> 0 | G15: =SUMIFS('6.Reportes de Pagos'!N:N,'6.Reportes de Pagos'!H:H,">"&(EOMONTH($A15,-1)),'6.Reportes de Pagos'!H:H,"<="&(EOMONTH($A15,0))) -> 1140978 | H15: =SUM(F15:G15) -> 1140978 | I15: =SUMIFS('7.Rendimientos Financieros'!D:D,'7.Rendimientos Financieros'!A:A,"<="&(EOMONTH($A15,-1))) -> 1.3504613e+10 | J15: =SUMIFS('7.Rendimientos Financieros'!D:D,'7.Rendimientos Financieros'!A:A,">"&(EOMONTH($A15,-1)),'7.Rendimientos Financieros'!A:A,"<="&(EOMONTH($A15,0))) -> 2.841769e+09 | K15: =SUMIFS('7.Rendimientos Financieros'!F:F,'7.Rendimientos Financieros'!E:E,"<="&(EOMONTH($A15,0))) -> 1.3504613e+10 | L15: =SUM(I15:J15)-SUM(K15) -> 2.841769e+09 | M15: =+E15-H15+L15 -> 2.9698591e+11 | N15: =237582875923.73+59403025679.85 -> 2.969859e+11 | O15: =+N15-M15 -> -8806
A16: 45322 | B16: CO1.PCCNTR.5090635 | C16: =SUMIFS('3.Ingresos del Contrato'!J:J,'3.Ingresos del Contrato'!H:H,"<="&(EOMONTH($A16,-1))) -> 294145282376 | D16: =SUMIFS('3.Ingresos del Contrato'!J:J,'3.Ingresos del Contrato'!H:H,">"&(EOMONTH($A16,-1)),'3.Ingresos del Contrato'!H:H,"<="&(EOMONTH($A16,0))) -> 0 | E16: =SUM(C16:D16) -> 294145282376 | F16: =SUMIFS('6.Reportes de Pagos'!N:N,'6.Reportes de Pagos'!H:H,"<="&(EOMONTH($A16,-1))) -> 1140978 | G16: =SUMIFS('6.Reportes de Pagos'!N:N,'6.Reportes de Pagos'!H:H,">"&(EOMONTH($A16,-1)),'6.Reportes de Pagos'!H:H,"<="&(EOMONTH($A16,0))) -> 122061.68 | H16: =SUM(F16:G16) -> 1263039.7 | I16: =SUMIFS('7.Rendimientos Financieros'!D:D,'7.Rendimientos Financieros'!A:A,"<="&(EOMONTH($A16,-1))) -> 1.6346382e+10 | J16: =SUMIFS('7.Rendimientos Financieros'!D:D,'7.Rendimientos Financieros'!A:A,">"&(EOMONTH($A16,-1)),'7.Rendimientos Financieros'!A:A,"<="&(EOMONTH($A16,0))) -> 2.4518196e+09 | K16: =SUMIFS('7.Rendimientos Financieros'!F:F,'7.Rendimientos Financieros'!E:E,"<="&(EOMONTH($A16,0))) -> 1.6282887e+10 | L16: =SUM(I16:J16)-SUM(K16) -> 2.5153139e+09 | M16: =+E16-H16+L16 -> 2.9665933e+11 | N16: 2.9665933e+11 | O16: =+N16-M16 -> 0
A17: 45350 | B17: CO1.PCCNTR.5090635 | C17: =SUMIFS('3.Ingresos del Contrato'!J:J,'3.Ingresos del Contrato'!H:H,"<="&(EOMONTH($A17,-1))) -> 294145282376 | D17: =SUMIFS('3.Ingresos del Contrato'!J:J,'3.Ingresos del Contrato'!H:H,">"&(EOMONTH($A17,-1)),'3.Ingresos del Contrato'!H:H,"<="&(EOMONTH($A17,0))) -> 0 | E17: =SUM(C17:D17) -> 294145282376 | F17: =SUMIFS('6.Reportes de Pagos'!N:N,'6.Reportes de Pagos'!H:H,"<="&(EOMONTH($A17,-1))) -> 1263039.7 | G17: =SUMIFS('6.Reportes de Pagos'!N:N,'6.Reportes de Pagos'!H:H,">"&(EOMONTH($A17,-1)),'6.Reportes de Pagos'!H:H,"<="&(EOMONTH($A17,0))) -> 0 | H17: =SUM(F17:G17) -> 1263039.7 | I17: =SUMIFS('7.Rendimientos Financieros'!D:D,'7.Rendimientos Financieros'!A:A,"<="&(EOMONTH($A17,-1))) -> 1.8798201e+10 | J17: =SUMIFS('7.Rendimientos Financieros'!D:D,'7.Rendimientos Financieros'!A:A,">"&(EOMONTH($A17,-1)),'7.Rendimientos Financieros'!A:A,"<="&(EOMONTH($A17,0))) -> 2.4975675e+09 | K17: =SUMIFS('7.Rendimientos Financieros'!F:F,'7.Rendimientos Financieros'!E:E,"<="&(EOMONTH($A17,0))) -> 1.8798201e+10 | L17: =SUM(I17:J17)-SUM(K17) -> 2.4975675e+09 | M17: =+E17-H17+L17 -> 2.9664159e+11 | N17: 2.9664158e+11 | O17: =+N17-M17 -> -8806
A18: 45382 | B18: CO1.PCCNTR.5090635 | C18: =SUMIFS('3.Ingresos del Contrato'!J:J,'3.Ingresos del Contrato'!H:H,"<="&(EOMONTH($A18,-1))) -> 294145282376 | D18: =SUMIFS('3.Ingresos del Contrato'!J:J,'3.Ingresos del Contrato'!H:H,">"&(EOMONTH($A18,-1)),'3.Ingresos del Contrato'!H:H,"<="&(EOMONTH($A18,0))) -> 0 | E18: =SUM(C18:D18) -> 294145282376 | F18: =SUMIFS('6.Reportes de Pagos'!N:N,'6.Reportes de Pagos'!H:H,"<="&(EOMONTH($A18,-1))) -> 1263039.7 | G18: =SUMIFS('6.Reportes de Pagos'!N:N,'6.Reportes de Pagos'!H:H,">"&(EOMONTH($A18,-1)),'6.Reportes de Pagos'!H:H,"<="&(EOMONTH($A18,0))) -> 0 | H18: =SUM(F18:G18) -> 1263039.7 | I18: =SUMIFS('7.Rendimientos Financieros'!D:D,'7.Rendimientos Financieros'!A:A,"<="&(EOMONTH($A18,-1))) -> 2.1295769e+10 | J18: =SUMIFS('7.Rendimientos Financieros'!D:D,'7.Rendimientos Financieros'!A:A,">"&(EOMONTH($A18,-1)),'7.Rendimientos Financieros'!A:A,"<="&(EOMONTH($A18,0))) -> 2.578374e+09 | K18: =SUMIFS('7.Rendimientos Financieros'!F:F,'7.Rendimientos Financieros'!E:E,"<="&(EOMONTH($A18,0))) -> 2.1295769e+10 | L18: =SUM(I18:J18)-SUM(K18) -> 2.578374e+09 | M18: =+E18-H18+L18 -> 2.9672239e+11 | N18: 2.9672239e+11 | O18: =+N18-M18 -> 0
A19: 45412 | B19: CO1.PCCNTR.5090635 | C19: =SUMIFS('3.Ingresos del Contrato'!J:J,'3.Ingresos del Contrato'!H:H,"<="&(EOMONTH($A19,-1))) -> 294145282376 | D19: =SUMIFS('3.Ingresos del Contrato'!J:J,'3.Ingresos del Contrato'!H:H,">"&(EOMONTH($A19,-1)),'3.Ingresos del Contrato'!H:H,"<="&(EOMONTH($A19,0))) -> 0 | E19: =SUM(C19:D19) -> 294145282376 | F19: =SUMIFS('6.Reportes de Pagos'!N:N,'6.Reportes de Pagos'!H:H,"<="&(EOMONTH($A19,-1))) -> 1263039.7 | G19: =SUMIFS('6.Reportes de Pagos'!N:N,'6.Reportes de Pagos'!H:H,">"&(EOMONTH($A19,-1)),'6.Reportes de Pagos'!H:H,"<="&(EOMONTH($A19,0))) -> 0 | H19: =SUM(F19:G19) -> 1263039.7 | I19: =SUMIFS('7.Rendimientos Financieros'!D:D,'7.Rendimientos Financieros'!A:A,"<="&(EOMONTH($A19,-1))) -> 2.3874143e+10 | J19: =SUMIFS('7.Rendimientos Financieros'!D:D,'7.Rendimientos Financieros'!A:A,">"&(EOMONTH($A19,-1)),'7.Rendimientos Financieros'!A:A,"<="&(EOMONTH($A19,0))) -> 2.1793858e+09 | K19: =SUMIFS('7.Rendimientos Financieros'!F:F,'7.Rendimientos Financieros'!E:E,"<="&(EOMONTH($A19,0))) -> 2.3874143e+10 | L19: =SUM(I19:J19)-SUM(K19) -> 2.1793858e+09 | M19: =+E19-H19+L19 -> 2.9632341e+11 | N19: 2.9632341e+11 | O19: =+N19-M19 -> 0
A20: 45443 | B20: CO1.PCCNTR.5090635 | C20: =SUMIFS('3.Ingresos del Contrato'!J:J,'3.Ingresos del Contrato'!H:H,"<="&(EOMONTH($A20,-1))) -> 294145282376 | D20: =SUMIFS('3.Ingresos del Contrato'!J:J,'3.Ingresos del Contrato'!H:H,">"&(EOMONTH($A20,-1)),'3.Ingresos del Contrato'!H:H,"<="&(EOMONTH($A20,0))) -> 0 | E20: =SUM(C20:D20) -> 294145282376 | F20: =SUMIFS('6.Reportes de Pagos'!N:N,'6.Reportes de Pagos'!H:H,"<="&(EOMONTH($A20,-1))) -> 1263039.7 | G20: =SUMIFS('6.Reportes de Pagos'!N:N,'6.Reportes de Pagos'!H:H,">"&(EOMONTH($A20,-1)),'6.Reportes de Pagos'!H:H,"<="&(EOMONTH($A20,0))) -> 1.6962388e+09 | H20: =SUM(F20:G20) -> 1.6975018e+09 | I20: =SUMIFS('7.Rendimientos Financieros'!D:D,'7.Rendimientos Financieros'!A:A,"<="&(EOMONTH($A20,-1))) -> 2.6053529e+10 | J20: =SUMIFS('7.Rendimientos Financieros'!D:D,'7.Rendimientos Financieros'!A:A,">"&(EOMONTH($A20,-1)),'7.Rendimientos Financieros'!A:A,"<="&(EOMONTH($A20,0))) -> 2.3769145e+09 | K20: =SUMIFS('7.Rendimientos Financieros'!F:F,'7.Rendimientos Financieros'!E:E,"<="&(EOMONTH($A20,0))) -> 2.6053529e+10 | L20: =SUM(I20:J20)-SUM(K20) -> 2.3769145e+09 | M20: =+E20-H20+L20 -> 2.948247e+11 | N20: 2.948247e+11 | O20: =+N20-M20 -> 0
A21: 45473 | B21: CO1.PCCNTR.5090635 | C21: =SUMIFS('3.Ingresos del Contrato'!J:J,'3.Ingresos del Contrato'!H:H,"<="&(EOMONTH($A21,-1))) -> 294145282376 | D21: =SUMIFS('3.Ingresos del Contrato'!J:J,'3.Ingresos del Contrato'!H:H,">"&(EOMONTH($A21,-1)),'3.Ingresos del Contrato'!H:H,"<="&(EOMONTH($A21,0))) -> 0 | E21: =SUM(C21:D21) -> 294145282376 | F21: =SUMIFS('6.Reportes de Pagos'!N:N,'6.Reportes de Pagos'!H:H,"<="&(EOMONTH($A21,-1))) -> 1.6975018e+09 | G21: =SUMIFS('6.Reportes de Pagos'!N:N,'6.Reportes de Pagos'!H:H,">"&(EOMONTH($A21,-1)),'6.Reportes de Pagos'!H:H,"<="&(EOMONTH($A21,0))) -> 2.6970417e+09 | H21: =SUM(F21:G21) -> 4.3945436e+09 | I21: =SUMIFS('7.Rendimientos Financieros'!D:D,'7.Rendimientos Financieros'!A:A,"<="&(EOMONTH($A21,-1))) -> 2.8430443e+10 | J21: =SUMIFS('7.Rendimientos Financieros'!D:D,'7.Rendimientos Financieros'!A:A,">"&(EOMONTH($A21,-1)),'7.Rendimientos Financieros'!A:A,"<="&(EOMONTH($A21,0))) -> 2.1125421e+09 | K21: =SUMIFS('7.Rendimientos Financieros'!F:F,'7.Rendimientos Financieros'!E:E,"<="&(EOMONTH($A21,0))) -> 2.8430443e+10 | L21: =SUM(I21:J21)-SUM(K21) -> 2.1125421e+09 | M21: =+E21-H21+L21 -> 2.9186328e+11 | N21: 2.877913e+11 | O21: =+N21-M21 -> -4.071976e+09
A22: 45504 | B22: CO1.PCCNTR.5090635 | C22: =SUMIFS('3.Ingresos del Contrato'!J:J,'3.Ingresos del Contrato'!H:H,"<="&(EOMONTH($A22,-1))) -> 294145282376 | D22: =SUMIFS('3.Ingresos del Contrato'!J:J,'3.Ingresos del Contrato'!H:H,">"&(EOMONTH($A22,-1)),'3.Ingresos del Contrato'!H:H,"<="&(EOMONTH($A22,0))) -> 0 | E22: =SUM(C22:D22) -> 294145282376 | F22: =SUMIFS('6.Reportes de Pagos'!N:N,'6.Reportes de Pagos'!H:H,"<="&(EOMONTH($A22,-1))) -> 4.3945436e+09 | G22: =SUMIFS('6.Reportes de Pagos'!N:N,'6.Reportes de Pagos'!H:H,">"&(EOMONTH($A22,-1)),'6.Reportes de Pagos'!H:H,"<="&(EOMONTH($A22,0))) -> 7.3711446e+09 | H22: =SUM(F22:G22) -> 1.1765688e+10 | I22: =SUMIFS('7.Rendimientos Financieros'!D:D,'7.Rendimientos Financieros'!A:A,"<="&(EOMONTH($A22,-1))) -> 3.0542985e+10 | J22: =SUMIFS('7.Rendimientos Financieros'!D:D,'7.Rendimientos Financieros'!A:A,">"&(EOMONTH($A22,-1)),'7.Rendimientos Financieros'!A:A,"<="&(EOMONTH($A22,0))) -> 2.2287913e+09 | K22: =SUMIFS('7.Rendimientos Financieros'!F:F,'7.Rendimientos Financieros'!E:E,"<="&(EOMONTH($A22,0))) -> 3.0542985e+10 | L22: =SUM(I22:J22)-SUM(K22) -> 2.2287913e+09 | M22: =+E22-H22+L22 -> 2.8460839e+11 | N22: 2.8460836e+11 | O22: =+N22-M22 -> -21182
A23: 45534 | B23: CO1.PCCNTR.5090635 | C23: =SUMIFS('3.Ingresos del Contrato'!J:J,'3.Ingresos del Contrato'!H:H,"<="&(EOMONTH($A23,-1))) -> 294145282376 | D23: =SUMIFS('3.Ingresos del Contrato'!J:J,'3.Ingresos del Contrato'!H:H,">"&(EOMONTH($A23,-1)),'3.Ingresos del Contrato'!H:H,"<="&(EOMONTH($A23,0))) -> 0 | E23: =SUM(C23:D23) -> 294145282376 | F23: =SUMIFS('6.Reportes de Pagos'!N:N,'6.Reportes de Pagos'!H:H,"<="&(EOMONTH($A23,-1))) -> 1.1765688e+10 | G23: =SUMIFS('6.Reportes de Pagos'!N:N,'6.Reportes de Pagos'!H:H,">"&(EOMONTH($A23,-1)),'6.Reportes de Pagos'!H:H,"<="&(EOMONTH($A23,0))) -> 7.8686305e+09 | H23: =SUM(F23:G23) -> 1.9634319e+10 | I23: =SUMIFS('7.Rendimientos Financieros'!D:D,'7.Rendimientos Financieros'!A:A,"<="&(EOMONTH($A23,-1))) -> 3.2771777e+10 | J23: =SUMIFS('7.Rendimientos Financieros'!D:D,'7.Rendimientos Financieros'!A:A,">"&(EOMONTH($A23,-1)),'7.Rendimientos Financieros'!A:A,"<="&(EOMONTH($A23,0))) -> 2.0892637e+09 | K23: =SUMIFS('7.Rendimientos Financieros'!F:F,'7.Rendimientos Financieros'!E:E,"<="&(EOMONTH($A23,0))) -> 3.2771777e+10 | L23: =SUM(I23:J23)-SUM(K23) -> 2.0892637e+09 | M23: =+E23-H23+L23 -> 2.7660023e+11 | N23: 2.7660022e+11 | O23: =+N23-M23 -> -12376
A24: 45565 | B24: CO1.PCCNTR.5090635 | C24: =SUMIFS('3.Ingresos del Contrato'!J:J,'3.Ingresos del Contrato'!H:H,"<="&(EOMONTH($A24,-1))) -> 294145282376 | D24: =SUMIFS('3.Ingresos del Contrato'!J:J,'3.Ingresos del Contrato'!H:H,">"&(EOMONTH($A24,-1)),'3.Ingresos del Contrato'!H:H,"<="&(EOMONTH($A24,0))) -> 0 | E24: =SUM(C24:D24) -> 294145282376 | F24: =SUMIFS('6.Reportes de Pagos'!N:N,'6.Reportes de Pagos'!H:H,"<="&(EOMONTH($A24,-1))) -> 1.9634319e+10 | G24: =SUMIFS('6.Reportes de Pagos'!N:N,'6.Reportes de Pagos'!H:H,">"&(EOMONTH($A24,-1)),'6.Reportes de Pagos'!H:H,"<="&(EOMONTH($A24,0))) -> 8.8820817e+09 | H24: =SUM(F24:G24) -> 2.85164e+10 | I24: =SUMIFS('7.Rendimientos Financieros'!D:D,'7.Rendimientos Financieros'!A:A,"<="&(EOMONTH($A24,-1))) -> 3.486104e+10 | J24: =SUMIFS('7.Rendimientos Financieros'!D:D,'7.Rendimientos Financieros'!A:A,">"&(EOMONTH($A24,-1)),'7.Rendimientos Financieros'!A:A,"<="&(EOMONTH($A24,0))) -> 1.8322342e+09 | K24: =SUMIFS('7.Rendimientos Financieros'!F:F,'7.Rendimientos Financieros'!E:E,"<="&(EOMONTH($A24,0))) -> 3.486104e+10 | L24: =SUM(I24:J24)-SUM(K24) -> 1.8322342e+09 | M24: =+E24-H24+L24 -> 2.6746112e+11 | N24: =213947610571.03+53513484534.34 -> 2.674611e+11 | O24: =+N24-M24 -> -21182
A25: 45596 | B25: CO1.PCCNTR.5090635 | C25: =SUMIFS('3.Ingresos del Contrato'!J:J,'3.Ingresos del Contrato'!H:H,"<="&(EOMONTH($A25,-1))) -> 294145282376 | D25: =SUMIFS('3.Ingresos del Contrato'!J:J,'3.Ingresos del Contrato'!H:H,">"&(EOMONTH($A25,-1)),'3.Ingresos del Contrato'!H:H,"<="&(EOMONTH($A25,0))) -> 0 | E25: =SUM(C25:D25) -> 294145282376 | F25: =SUMIFS('6.Reportes de Pagos'!N:N,'6.Reportes de Pagos'!H:H,"<="&(EOMONTH($A25,-1))) -> 2.85164e+10 | G25: =SUMIFS('6.Reportes de Pagos'!N:N,'6.Reportes de Pagos'!H:H,">"&(EOMONTH($A25,-1)),'6.Reportes de Pagos'!H:H,"<="&(EOMONTH($A25,0))) -> 8.8545991e+09 | H25: =SUM(F25:G25) -> 3.7370999e+10 | I25: =SUMIFS('7.Rendimientos Financieros'!D:D,'7.Rendimientos Financieros'!A:A,"<="&(EOMONTH($A25,-1))) -> 3.6693275e+10 | J25: =SUMIFS('7.Rendimientos Financieros'!D:D,'7.Rendimientos Financieros'!A:A,">"&(EOMONTH($A25,-1)),'7.Rendimientos Financieros'!A:A,"<="&(EOMONTH($A25,0))) -> 1.6856229e+09 | K25: =SUMIFS('7.Rendimientos Financieros'!F:F,'7.Rendimientos Financieros'!E:E,"<="&(EOMONTH($A25,0))) -> 3.6693275e+10 | L25: =SUM(I25:J25)-SUM(K25) -> 1.6856229e+09 | M25: =+E25-H25+L25 -> 2.5845991e+11 | N25: =51697339067.98+206762549162.34 -> 2.5845989e+11 | O25: =+N25-M25 -> -17612
A26: 45626 | B26: CO1.PCCNTR.5090635 | C26: =SUMIFS('3.Ingresos del Contrato'!J:J,'3.Ingresos del Contrato'!H:H,"<="&(EOMONTH($A26,-1))) -> 294145282376 | D26: =SUMIFS('3.Ingresos del Contrato'!J:J,'3.Ingresos del Contrato'!H:H,">"&(EOMONTH($A26,-1)),'3.Ingresos del Contrato'!H:H,"<="&(EOMONTH($A26,0))) -> 0 | E26: =SUM(C26:D26) -> 294145282376 | F26: =SUMIFS('6.Reportes de Pagos'!N:N,'6.Reportes de Pagos'!H:H,"<="&(EOMONTH($A26,-1))) -> 3.7370999e+10 | G26: =SUMIFS('6.Reportes de Pagos'!N:N,'6.Reportes de Pagos'!H:H,">"&(EOMONTH($A26,-1)),'6.Reportes de Pagos'!H:H,"<="&(EOMONTH($A26,0))) -> 8.6417033e+09 | H26: =SUM(F26:G26) -> 4.6012703e+10 | I26: =SUMIFS('7.Rendimientos Financieros'!D:D,'7.Rendimientos Financieros'!A:A,"<="&(EOMONTH($A26,-1))) -> 3.8378897e+10 | J26: =SUMIFS('7.Rendimientos Financieros'!D:D,'7.Rendimientos Financieros'!A:A,">"&(EOMONTH($A26,-1)),'7.Rendimientos Financieros'!A:A,"<="&(EOMONTH($A26,0))) -> 1.5376641e+09 | K26: =SUMIFS('7.Rendimientos Financieros'!F:F,'7.Rendimientos Financieros'!E:E,"<="&(EOMONTH($A26,0))) -> 3.8378897e+10 | L26: =SUM(I26:J26)-SUM(K26) -> 1.5376641e+09 | M26: =+E26-H26+L26 -> 2.4967024e+11 | N26: =49938064753.91+199732170168.45 -> 2.4967023e+11 | O26: =+N26-M26 -> -8806
A27: 45657 | B27: CO1.PCCNTR.5090635 | C27: =SUMIFS('3.Ingresos del Contrato'!J:J,'3.Ingresos del Contrato'!H:H,"<="&(EOMONTH($A27,-1))) -> 294145282376 | D27: =SUMIFS('3.Ingresos del Contrato'!J:J,'3.Ingresos del Contrato'!H:H,">"&(EOMONTH($A27,-1)),'3.Ingresos del Contrato'!H:H,"<="&(EOMONTH($A27,0))) -> 0 | E27: =SUM(C27:D27) -> 294145282376 | F27: =SUMIFS('6.Reportes de Pagos'!N:N,'6.Reportes de Pagos'!H:H,"<="&(EOMONTH($A27,-1))) -> 4.6012703e+10 | G27: =SUMIFS('6.Reportes de Pagos'!N:N,'6.Reportes de Pagos'!H:H,">"&(EOMONTH($A27,-1)),'6.Reportes de Pagos'!H:H,"<="&(EOMONTH($A27,0))) -> 8.1481365e+09 | H27: =SUM(F27:G27) -> 5.4160839e+10 | I27: =SUMIFS('7.Rendimientos Financieros'!D:D,'7.Rendimientos Financieros'!A:A,"<="&(EOMONTH($A27,-1))) -> 3.9916561e+10 | J27: =SUMIFS('7.Rendimientos Financieros'!D:D,'7.Rendimientos Financieros'!A:A,">"&(EOMONTH($A27,-1)),'7.Rendimientos Financieros'!A:A,"<="&(EOMONTH($A27,0))) -> 1.4688631e+09 | K27: =SUMIFS('7.Rendimientos Financieros'!F:F,'7.Rendimientos Financieros'!E:E,"<="&(EOMONTH($A27,0))) -> 3.9916561e+10 | L27: =SUM(I27:J27)-SUM(K27) -> 1.4688631e+09 | M27: =+E27-H27+L27 -> 2.4145331e+11 | N27: 2.414533e+11 | O27: =+N27-M27 -> -8806
A28: 45688 | B28: CO1.PCCNTR.5090635 | C28: =SUMIFS('3.Ingresos del Contrato'!J:J,'3.Ingresos del Contrato'!H:H,"<="&(EOMONTH($A28,-1))) -> 294145282376 | D28: =SUMIFS('3.Ingresos del Contrato'!J:J,'3.Ingresos del Contrato'!H:H,">"&(EOMONTH($A28,-1)),'3.Ingresos del Contrato'!H:H,"<="&(EOMONTH($A28,0))) -> 99930804343 | E28: =SUM(C28:D28) -> 394076086719 | F28: =SUMIFS('6.Reportes de Pagos'!N:N,'6.Reportes de Pagos'!H:H,"<="&(EOMONTH($A28,-1))) -> 5.4160839e+10 | G28: =SUMIFS('6.Reportes de Pagos'!N:N,'6.Reportes de Pagos'!H:H,">"&(EOMONTH($A28,-1)),'6.Reportes de Pagos'!H:H,"<="&(EOMONTH($A28,0))) -> 6.1990866e+09 | H28: =SUM(F28:G28) -> 6.0359926e+10 | I28: =SUMIFS('7.Rendimientos Financieros'!D:D,'7.Rendimientos Financieros'!A:A,"<="&(EOMONTH($A28,-1))) -> 4.1385425e+10 | J28: =SUMIFS('7.Rendimientos Financieros'!D:D,'7.Rendimientos Financieros'!A:A,">"&(EOMONTH($A28,-1)),'7.Rendimientos Financieros'!A:A,"<="&(EOMONTH($A28,0))) -> 1.8501815e+09 | K28: =SUMIFS('7.Rendimientos Financieros'!F:F,'7.Rendimientos Financieros'!E:E,"<="&(EOMONTH($A28,0))) -> 4.1346161e+10 | L28: =SUM(I28:J28)-SUM(K28) -> 1.8894452e+09 | M28: =+E28-H28+L28 -> 3.3560561e+11 | N28: 3.356056e+11 | O28: =+N28-M28 -> -8806
A29: 45716 | B29: CO1.PCCNTR.5090635 | C29: =SUMIFS('3.Ingresos del Contrato'!J:J,'3.Ingresos del Contrato'!H:H,"<="&(EOMONTH($A29,-1))) -> 394076086719 | D29: =SUMIFS('3.Ingresos del Contrato'!J:J,'3.Ingresos del Contrato'!H:H,">"&(EOMONTH($A29,-1)),'3.Ingresos del Contrato'!H:H,"<="&(EOMONTH($A29,0))) -> 0 | E29: =SUM(C29:D29) -> 394076086719 | F29: =SUMIFS('6.Reportes de Pagos'!N:N,'6.Reportes de Pagos'!H:H,"<="&(EOMONTH($A29,-1))) -> 6.0359926e+10 | G29: =SUMIFS('6.Reportes de Pagos'!N:N,'6.Reportes de Pagos'!H:H,">"&(EOMONTH($A29,-1)),'6.Reportes de Pagos'!H:H,"<="&(EOMONTH($A29,0))) -> 7.4190322e+09 | H29: =SUM(F29:G29) -> 6.7778958e+10 | I29: =SUMIFS('7.Rendimientos Financieros'!D:D,'7.Rendimientos Financieros'!A:A,"<="&(EOMONTH($A29,-1))) -> 4.3235606e+10 | J29: =SUMIFS('7.Rendimientos Financieros'!D:D,'7.Rendimientos Financieros'!A:A,">"&(EOMONTH($A29,-1)),'7.Rendimientos Financieros'!A:A,"<="&(EOMONTH($A29,0))) -> 1.9713299e+09 | K29: =SUMIFS('7.Rendimientos Financieros'!F:F,'7.Rendimientos Financieros'!E:E,"<="&(EOMONTH($A29,0))) -> 4.3235606e+10 | L29: =SUM(I29:J29)-SUM(K29) -> 1.9713299e+09 | M29: =+E29-H29+L29 -> 3.2826846e+11 | N29: 3.2826845e+11 | O29: =+N29-M29 -> -8806
A30: 45747 | B30: CO1.PCCNTR.5090635 | C30: =SUMIFS('3.Ingresos del Contrato'!J:J,'3.Ingresos del Contrato'!H:H,"<="&(EOMONTH($A30,-1))) -> 394076086719 | D30: =SUMIFS('3.Ingresos del Contrato'!J:J,'3.Ingresos del Contrato'!H:H,">"&(EOMONTH($A30,-1)),'3.Ingresos del Contrato'!H:H,"<="&(EOMONTH($A30,0))) -> 0 | E30: =SUM(C30:D30) -> 394076086719 | F30: =SUMIFS('6.Reportes de Pagos'!N:N,'6.Reportes de Pagos'!H:H,"<="&(EOMONTH($A30,-1))) -> 6.7778958e+10 | G30: =SUMIFS('6.Reportes de Pagos'!N:N,'6.Reportes de Pagos'!H:H,">"&(EOMONTH($A30,-1)),'6.Reportes de Pagos'!H:H,"<="&(EOMONTH($A30,0))) -> 1.0934956e+10 | H30: =SUM(F30:G30) -> 7.8713914e+10 | I30: =SUMIFS('7.Rendimientos Financieros'!D:D,'7.Rendimientos Financieros'!A:A,"<="&(EOMONTH($A30,-1))) -> 4.5206936e+10 | J30: =SUMIFS('7.Rendimientos Financieros'!D:D,'7.Rendimientos Financieros'!A:A,">"&(EOMONTH($A30,-1)),'7.Rendimientos Financieros'!A:A,"<="&(EOMONTH($A30,0))) -> 2083753038 | K30: =SUMIFS('7.Rendimientos Financieros'!F:F,'7.Rendimientos Financieros'!E:E,"<="&(EOMONTH($A30,0))) -> 4.5206936e+10 | L30: =SUM(I30:J30)-SUM(K30) -> 2.083753e+09 | M30: =+E30-H30+L30 -> 3.1744593e+11 | N30: =63508039429.96+253937769179.11 -> 3.1744581e+11 | O30: =+N30-M30 -> -117215
A31: 45777 | B31: CO1.PCCNTR.5090635 | C31: =SUMIFS('3.Ingresos del Contrato'!J:J,'3.Ingresos del Contrato'!H:H,"<="&(EOMONTH($A31,-1))) -> 394076086719 | D31: =SUMIFS('3.Ingresos del Contrato'!J:J,'3.Ingresos del Contrato'!H:H,">"&(EOMONTH($A31,-1)),'3.Ingresos del Contrato'!H:H,"<="&(EOMONTH($A31,0))) -> 0 | E31: =SUM(C31:D31) -> 394076086719 | F31: =SUMIFS('6.Reportes de Pagos'!N:N,'6.Reportes de Pagos'!H:H,"<="&(EOMONTH($A31,-1))) -> 7.8713914e+10 | G31: =SUMIFS('6.Reportes de Pagos'!N:N,'6.Reportes de Pagos'!H:H,">"&(EOMONTH($A31,-1)),'6.Reportes de Pagos'!H:H,"<="&(EOMONTH($A31,0))) -> 1.010258e+10 | H31: =SUM(F31:G31) -> 8.8816494e+10 | I31: =SUMIFS('7.Rendimientos Financieros'!D:D,'7.Rendimientos Financieros'!A:A,"<="&(EOMONTH($A31,-1))) -> 4.7290689e+10 | J31: =SUMIFS('7.Rendimientos Financieros'!D:D,'7.Rendimientos Financieros'!A:A,">"&(EOMONTH($A31,-1)),'7.Rendimientos Financieros'!A:A,"<="&(EOMONTH($A31,0))) -> 2.008502e+09 | K31: =SUMIFS('7.Rendimientos Financieros'!F:F,'7.Rendimientos Financieros'!E:E,"<="&(EOMONTH($A31,0))) -> 4.7284357e+10 | L31: =SUM(I31:J31)-SUM(K31) -> 2.0148343e+09 | M31: =+E31-H31+L31 -> 3.0727443e+11 | N31: =61458531935.91+245815792972.49 -> 3.0727432e+11 | O31: =+N31-M31 -> -102215
A32: 45808 | B32: CO1.PCCNTR.5090635 | C32: =SUMIFS('3.Ingresos del Contrato'!J:J,'3.Ingresos del Contrato'!H:H,"<="&(EOMONTH($A32,-1))) -> 394076086719 | D32: =SUMIFS('3.Ingresos del Contrato'!J:J,'3.Ingresos del Contrato'!H:H,">"&(EOMONTH($A32,-1)),'3.Ingresos del Contrato'!H:H,"<="&(EOMONTH($A32,0))) -> 0 | E32: =SUM(C32:D32) -> 394076086719 | F32: =SUMIFS('6.Reportes de Pagos'!N:N,'6.Reportes de Pagos'!H:H,"<="&(EOMONTH($A32,-1))) -> 8.8816494e+10 | G32: =SUMIFS('6.Reportes de Pagos'!N:N,'6.Reportes de Pagos'!H:H,">"&(EOMONTH($A32,-1)),'6.Reportes de Pagos'!H:H,"<="&(EOMONTH($A32,0))) -> 9.6132561e+09 | H32: =SUM(F32:G32) -> 9.842975e+10 | I32: =SUMIFS('7.Rendimientos Financieros'!D:D,'7.Rendimientos Financieros'!A:A,"<="&(EOMONTH($A32,-1))) -> 4.9299191e+10 | J32: =SUMIFS('7.Rendimientos Financieros'!D:D,'7.Rendimientos Financieros'!A:A,">"&(EOMONTH($A32,-1)),'7.Rendimientos Financieros'!A:A,"<="&(EOMONTH($A32,0))) -> 1.9490075e+09 | K32: =SUMIFS('7.Rendimientos Financieros'!F:F,'7.Rendimientos Financieros'!E:E,"<="&(EOMONTH($A32,0))) -> 4.9299191e+10 | L32: =SUM(I32:J32)-SUM(K32) -> 1.9490075e+09 | M32: =+E32-H32+L32 -> 2.9759534e+11 | N32: =59514570417.85+238080656584.75 -> 2.9759523e+11 | O32: =+N32-M32 -> -117215
A33: 45838 | B33: CO1.PCCNTR.5090635 | C33: =SUMIFS('3.Ingresos del Contrato'!J:J,'3.Ingresos del Contrato'!H:H,"<="&(EOMONTH($A33,-1))) -> 394076086719 | D33: =SUMIFS('3.Ingresos del Contrato'!J:J,'3.Ingresos del Contrato'!H:H,">"&(EOMONTH($A33,-1)),'3.Ingresos del Contrato'!H:H,"<="&(EOMONTH($A33,0))) -> 0 | E33: =SUM(C33:D33) -> 394076086719 | F33: =SUMIFS('6.Reportes de Pagos'!N:N,'6.Reportes de Pagos'!H:H,"<="&(EOMONTH($A33,-1))) -> 9.842975e+10 | G33: =SUMIFS('6.Reportes de Pagos'!N:N,'6.Reportes de Pagos'!H:H,">"&(EOMONTH($A33,-1)),'6.Reportes de Pagos'!H:H,"<="&(EOMONTH($A33,0))) -> 6.2571117e+09 | H33: =SUM(F33:G33) -> 1.0468686e+11 | I33: =SUMIFS('7.Rendimientos Financieros'!D:D,'7.Rendimientos Financieros'!A:A,"<="&(EOMONTH($A33,-1))) -> 5.1248198e+10 | J33: =SUMIFS('7.Rendimientos Financieros'!D:D,'7.Rendimientos Financieros'!A:A,">"&(EOMONTH($A33,-1)),'7.Rendimientos Financieros'!A:A,"<="&(EOMONTH($A33,0))) -> 1.6882063e+09 | K33: =SUMIFS('7.Rendimientos Financieros'!F:F,'7.Rendimientos Financieros'!E:E,"<="&(EOMONTH($A33,0))) -> 5.1248198e+10 | L33: =SUM(I33:J33)-SUM(K33) -> 1.6882063e+09 | M33: =+E33-H33+L33 -> 2.9107743e+11 | N33: =232857657218.42+58219774045.48 -> 2.9107743e+11 | O33: =+N33-M33 -> 0
A34: =FECHA -> 45869 | B34: CO1.PCCNTR.5090635 | C34: =SUMIFS('3.Ingresos del Contrato'!J:J,'3.Ingresos del Contrato'!H:H,"<="&(EOMONTH($A34,-1))) -> 394076086719 | D34: =SUMIFS('3.Ingresos del Contrato'!J:J,'3.Ingresos del Contrato'!H:H,">"&(EOMONTH($A34,-1)),'3.Ingresos del Contrato'!H:H,"<="&(EOMONTH($A34,0))) -> 0 | E34: =SUM(C34:D34) -> 394076086719 | F34: =SUMIFS('6.Reportes de Pagos'!N:N,'6.Reportes de Pagos'!H:H,"<="&(EOMONTH($A34,-1))) -> 1.0468686e+11 | G34: =SUMIFS('6.Reportes de Pagos'!N:N,'6.Reportes de Pagos'!H:H,">"&(EOMONTH($A34,-1)),'6.Reportes de Pagos'!H:H,"<="&(EOMONTH($A34,0))) -> 6.2431837e+09 | H34: =SUM(F34:G34) -> 1.1093005e+11 | I34: =SUMIFS('7.Rendimientos Financieros'!D:D,'7.Rendimientos Financieros'!A:A,"<="&(EOMONTH($A34,-1))) -> 5.2936405e+10 | J34: =SUMIFS('7.Rendimientos Financieros'!D:D,'7.Rendimientos Financieros'!A:A,">"&(EOMONTH($A34,-1)),'7.Rendimientos Financieros'!A:A,"<="&(EOMONTH($A34,0))) -> 1.8376419e+09 | K34: =SUMIFS('7.Rendimientos Financieros'!F:F,'7.Rendimientos Financieros'!E:E,"<="&(EOMONTH($A34,0))) -> 5.2936405e+10 | L34: =SUM(I34:J34)-SUM(K34) -> 1.8376419e+09 | M34: =+E34-H34+L34 -> 2.8498368e+11 | N34: =57002364272.86+227981318912.1 -> 2.8498368e+11 | O34: =+N34-M34 -> 0
A36: (*)Se registra una cuenta por cobrar por valor de $57.588,73, correspondiente a un impuesto de Sobretasa Bomberil del Municipio de SAN BENITO ABAD que deben reintegrar los contratistas del Grupo 7 de la Linea de Emergencias, cuenta sobre la que se ha registrado deterioro al corte de junio por valor de $19.004,28 por tratarse de una cuenta registrada en diciembre de 2024 y conforme lo definido en la Circular Externa 030 de 2017 de la Superintendencia Financiera de Colombia. Así mismo se esta registrado Deterioro de cuentas por cobrar por concepto de impuestos de tiembre que fueorn registradas por la Fiduciaria cuya contrapartida es una cuenta por pagar de dicho impuestos, la cual es registrada como control en los Estados Financieros del Patrimonio Autónomo y que sestan siendo objeto de validación por parte de la Fiduciaria; para ajuste en los siguientes meses.
F40: VALOR | G40: DESCRIPCION | J40: SALDO PATRIMONIO CONTRATO INTER ADMINISTRATIVO
F41: =+N34 -> 2.8498368e+11 | G41: SALDO RECURSOS LÍQUIDOS (SALDO CUENTA DE AHORROS + SALDO FIC)
F42: =57588.73 -> 57588.73 | G42: (*)CUENTAS X COBRAR
F43: 1087200.9 | G43: (*)CUENTAS X COBRAR- DETERIORO
F44: =+'7.Rendimientos Financieros'!H33 -> 1.8376419e+09 | G44: TOTAL RENDIMIENTOS POR GIRAR
F45: =978851131.85-74159684.75 -> 9.0469145e+08 | G45: INGRESOS RECIBIDOS PARA TERCEROS (DESCUENTOS MAYOR PERMANENCIA INTERVENTORIA Y APREMIOS)
...

Sheet 2.Resumen Presupuestal
A1: =CONTRATO -> Contrato Interadministrativo No. CO1.PCCNTR.5090635
A2: Ministerio de Educación Nacional
A3: Financiera del Desarrollo S.A.
A4: 2. RESUMEN PRESUPUESTAL
A5: =periodo -> 01 de julio al 31 de julio de 2025
A7: CDP | B7: VIGENCIA FISCAL | C7: VALOR CDP | D7: ADICION | E7: VALOR PRESUPUESTO (A) | F7: FUENTE | G7: ORIGEN DE LOS RECURSOS | H7: RECURSOS RECIBIDOS | I7: REFORMULACIÓN Y/O ADICIONES AL CONTRATO | J7: ASISTENCIA TECNICA COMPROMISOS (B) | K7: COMPROMISOS -CDR (C) | L7: CONTRATOS FIRMADOS Y ADICIONES (D) | M7: LIBERACIONES SALDOS CDR CONTRATOS FIRMADOS (E) | N7: LIBERACIONES ACTAS DE LIQUIDACION CONTRATOS (F) | O7: SALDO DISPONIBLE POR COMPROMETER (G) = (A)-(B)-(C)-(E)+(F) | P7: PAGOS ADJUDICACIONES Y/O COMPROMISOS (H) | Q7: SALDO POR PAGAR ADJUDICACIONES Y/O COMPROMISOS (I) = ((B)+(D))-((H)+(F)) | R7: APREMIOS APLICADOS A CONTRATISTAS (J)
A8: 87123 | B8: 2023 | C8: 294145282376 | D8: 0 | E8: =SUM(C8:D8) -> 294145282376 | F8: NACION | G8: 10 | H8: 294145282376 | I8: 0 | J8: =VRFINDETER -> 15746080000 | K8: =+SUMIFS('4.E.F. Contratación Derivada'!H:H,'4.E.F. Contratación Derivada'!C:C,'2.Resumen Presupuestal'!A8) -> 2.4770552e+11 | L8: =VRCONTRATOS-'4.E.F. Contratación Derivada'!Y112 -> 2.3884336e+11 | M8: 412040770 | N8: =VRLIBERACIONES -> 1.1909653e+09 | O8: =E8-J8-K8+M8+N8 -> 3.2296692e+10 | P8: =VRFACT+(VRPAGOSCTOS-VRRTEGTIACTO) -> 1.1234971e+11 | Q8: =(L8+J8)-(P8+N8) -> 1.4104877e+11 | R8: =+'4.E.F. Contratación Derivada'!AJ112 -> 158895414
A9: 11424 | B9: 2024 | C9: 41100000000 | D9: 0 | E9: =SUM(C9:D9) -> 41100000000 | F9: NACION | G9: 10 | H9: 41100000000 | I9: =+E9 -> 41100000000 | J9: 7307943705 | K9: =+SUMIFS('4.E.F. Contratación Derivada'!H:H,'4.E.F. Contratación Derivada'!C:C,'2.Resumen Presupuestal'!A9) -> 3.3021248e+09 | O9: =+E9-J9-K9-M9+N9 -> 3.0489931e+10 | P9: 0 | Q9: =(L9+J9)-(P9+N9) -> 7307943705
A10: 11524 | B10: 2024 | C10: 33010746802 | D10: 0 | E10: =SUM(C10:D10) -> 33010746802 | F10: NACION | G10: 10 | H10: 33010746802 | I10: =+E10 -> 33010746802 | K10: =+SUMIFS('4.E.F. Contratación Derivada'!H:H,'4.E.F. Contratación Derivada'!C:C,'2.Resumen Presupuestal'!A10) -> 0 | O10: =+E10-J10-K10-M10+N10 -> 33010746802 | P10: 0 | Q10: =(L10+J10)-(P10+N10) -> 0
A11: 11624 | B11: 2024 | C11: 25820057541 | E11: =SUM(C11:D11) -> 25820057541 | F11: NACION | G11: 10 | H11: 25820057541 | I11: =+E11 -> 25820057541 | K11: =+SUMIFS('4.E.F. Contratación Derivada'!H:H,'4.E.F. Contratación Derivada'!C:C,'2.Resumen Presupuestal'!A11) -> 0 | O11: =+E11-J11-K11-M11+N11 -> 25820057541 | P11: 0 | Q11: =(L11+J11)-(P11+N11) -> 0
A12: TOTAL | C12: =SUM(C8:C11) -> 394076086719 | D12: =SUM(D8:D11) -> 0 | E12: =SUM(E8:E11) -> 394076086719 | H12: =SUM(H8:H11) -> 394076086719 | I12: =SUM(I8:I11) -> 99930804343 | J12: =SUM(J8:J11) -> 23054023705 | K12: =SUM(K8:K11) -> 2.5100764e+11 | L12: =SUM(L8:L11) -> 2.3884336e+11 | M12: =SUM(M8:M11) -> 412040770 | N12: =SUM(N8:N11) -> 1.1909653e+09 | O12: =SUM(O8:O11) -> 1.2161743e+11 | ... R12: =SUM(R8:R11) -> 158895414
K13: VALOR PRESUPUESTO | L13: =+E12 -> 394076086719 | O13: =+H12-L12-J12 -> 1.321787e+11
K14: VALOR CONTRATACIÓN DERIVADA | L14: =+L12 -> 2.3884336e+11
K15: VALOR ASISTENCIA TECNICA | L15: =+J12 -> 23054023705
K16: TOTAL COMPROMETIDO | L16: =+L14+L15 -> 2.6189738e+11
K17: % EJECUTADO (Comprometido) | L17: =+L16/L13 -> 0.66458583

Sheet 3.Ingresos del Contrato
A1: =CONTRATO -> Contrato Interadministrativo No. CO1.PCCNTR.5090635
A2: Ministerio de Educación Nacional
A3: Financiera del Desarrollo S.A.
A4: 3. INGRESOS DEL CONTRATO
A5: =periodo -> 01 de julio al 31 de julio de 2025
A7: CDP | B7: VIGENCIA FISCAL | C7: VALOR CDP | D7: ADICION CDP | E7: VALOR PRESUPUESTO | F7: FUENTE | G7: VALOR DESEMBOLSO | H7: FECHA | I7: TRASLADO | J7: TOTAL DESEMBOLSOS | K7: SALDO POR DESEMBOLSAR
A8: 87123 | B8: 2023 | C8: 294145282376 | D8: 0 | E8: =SUM(C8:D8) -> 294145282376 | F8: NACION | G8: =+E8 -> 294145282376 | H8: 45118 | I8: FIDUCIARIA - PA ASISTENCIA TECNICA SUBCUENTA MEN INFRAESTRUCTURA Y DOTACIÓN | J8: 294145282376 | K8: =+E8-SUM(J8:J8) -> 0
A9: 11424 | B9: 2024 | C9: 41100000000 | D9: 0 | E9: =SUM(C9:D9) -> 41100000000 | F9: NACION | G9: 41100000000 | H9: 45665 | I9: FIDUCIARIA - PA ASISTENCIA TECNICA SUBCUENTA MEN INFRAESTRUCTURA Y DOTACIÓN | J9: =+G9 -> 41100000000 | K9: =+E9-SUM(J9:J9) -> 0
A10: 11524 | B10: 2024 | C10: 33010746802 | D10: 0 | E10: =SUM(C10:D10) -> 33010746802 | F10: NACION | G10: 33010746802 | H10: 45665 | I10: FIDUCIARIA - PA ASISTENCIA TECNICA SUBCUENTA MEN INFRAESTRUCTURA Y DOTACIÓN | J10: =+G10 -> 33010746802 | K10: =+E10-SUM(J10:J10) -> 0
A11: 11624 | B11: 2024 | C11: 25820057541 | D11: 0 | E11: =SUM(C11:D11) -> 25820057541 | F11: NACION | G11: 25820057541 | H11: 45665 | I11: FIDUCIARIA - PA ASISTENCIA TECNICA SUBCUENTA MEN INFRAESTRUCTURA Y DOTACIÓN | J11: =+G11 -> 25820057541 | K11: =+E11-SUM(J11:J11) -> 0
A12: TOTAL | C12: =SUM(C8:C8) -> 294145282376 | D12: =SUM(D8:D8) -> 0 | E12: =SUM(E8:E11) -> 394076086719 | G12: =SUM(G8:G11) -> 394076086719 | J12: =+SUM(J8:J11) -> 394076086719 | K12: =SUM(K8:K11) -> 0

Sheet 4.E.F. Contratación Derivada
A1: =CONTRATO -> Contrato Interadministrativo No. CO1.PCCNTR.5090635
A2: Ministerio de Educación Nacional
A3: Financiera del Desarrollo S.A.
A4: 4. EJECUCION FINANCIERA CONTRATACION DERIVADA
A5: =periodo -> 01 de julio al 31 de julio de 2025
A7: ITEM | B7: CONTRATO | C7: CDP | D7: FUENTE | E7: VIGENCIA FISCAL | F7: CDR (*) | G7: FECHA | H7: VALOR PRESUPUESTO | I7: LINEA DEL PROYECTO | J7: PROYECTO | K7: MUNICIPIO | L7: DEPARTAMENTO | M7: GRUPO | N7: CANTIDAD SEDES | O7: CONVOCATORIA No. | P7: CONTRATO No. | Q7: FECHA SUSCRIPCION | R7: TIPO CONTRATO | S7: CONTRATADO O POR CONTRATAR | T7: CONTRATISTA | U7: CC / NIT | V7: VALOR ADJUDICADO | W7: VALOR POR ADJUDICAR Y/O LIBERAR | X7: ADICIONES / MODIFICACIONES CONTRATO | Y7: MAYOR PERMANENCIA INTERVENTORIA (Asumido por Contratista) | Z7: VALOR FINAL CONTRATO | AA7: ="VALOR ACUMULADO PAGADO AL" &CHAR(10)&UPPER(TEXT((EOMONTH(FECHA,-1)),"dd/mmm/yy")) -> VALOR ACUMULADO PAGADO AL 30/JUN/25 | AB7: ="VALOR ACUMULADO RETEGARANTIA AL" &CHAR(10)&UPPER(TEXT((EOMONTH(FECHA,-1)),"dd/mmm/yy")) -> VALOR ACUMULADO RETEGARANTIA AL 30/JUN/25 | AC7: ="VALOR LIBERACIONES ACTA DE LIQUIDACION AL" &CHAR(10)&UPPER(TEXT((EOMONTH(FECHA,-1)),"dd/mmm/yy")) -> VALOR LIBERACIONES ACTA DE LIQUIDACION AL 30/JUN/25 | AD7: ="VALOR PAGADO"&CHAR(10)&UPPER(TEXT(FECHA,"mmmm/yyyy")) -> VALOR PAGADO JULIO/2025 | AE7: ="VALOR RETEGARANTIA "&CHAR(10)&UPPER(TEXT(FECHA,"mmmm/yyyy")) -> VALOR RETEGARANTIA JULIO/2025 | AF7: ="VALOR LIBERACIONES ACTA DE LIQUIDACION "&CHAR(10)&UPPER(TEXT(FECHA,"mmmm/yyyy")) -> VALOR LIBERACIONES ACTA DE LIQUIDACION JULIO/2025 | AG7: ="VALOR ACUMULADO PAGADO AL" &CHAR(10)&UPPER(TEXT(FECHA,"dd/mmm/yy")) -> VALOR ACUMULADO PAGADO AL 31/JUL/25 | AH7: ="VALOR ACUMULADO RETEGARANTIA AL"&CHAR(10)&UPPER(TEXT(FECHA,"dd/mmm/yy")) -> VALOR ACUMULADO RETEGARANTIA AL 31/JUL/25 | AI7: ="VALOR LIBERACIONES ACTA DE LIQUIDACION AL"&CHAR(10)&UPPER(TEXT(FECHA,"dd/mmm/yy")) -> VALOR LIBERACIONES ACTA DE LIQUIDACION AL 31/JUL/25 | AJ7: ="APREMIOS RATIFICADOS Y DESCONTADOS AL"&CHAR(10)&UPPER(TEXT(FECHA,"dd/mmm/yy")) -> APREMIOS RATIFICADOS Y DESCONTADOS AL 31/JUL/25 | AK7: SALDO POR PAGAR | AL7: % AVANCE FINANCIERO | AM7: ESTADO
A8: 1 | B8: CO1.PCCNTR.5090635 | C8: 87123 | D8: NACION | E8: 2023 | F8: 45 | G8: 45259 | H8: 1262766 | I8: Proyectos Estrategicos | J8: Instrucción de giro recursos para el pago de la prórroga de la licencia de construcción correspondiente a la ejecución del proyecto Institución Educativa Jose Antonio Ricaurte Sede Principal ubicada en el Municipio de Ibagué, Departamento de Tolima., los cuales se realizarán con cargo a los recursos del CONTRATO INTERADMINISTRATIVO CO1.PCCNTR.5090635 de 2023, que se encuentran en el PATRIMONIO AUTÓNOMO ALIADOS FINDETER PARA LA ASISTENCIA TÉCNICA Y ADMINISTRACIÓN DE RECURSOS –SUBCUENTA MEN PROGRAMA DE INFRAESTRUCTURA Y DOTACIÓN. | K8: N/A | L8: N/A | M8: NA | N8: NA | O8: N/A | P8: LICENCIA | Q8: N/A | R8: OTRO- EXPENSAS | S8: CONTRATADO | T8: N/A | U8: N/A | V8: 1262766 | W8: =+H8-V8 -> 0 | Z8: =+V8+X8 -> 1262766 | AA8: =SUMIFS('6.Reportes de Pagos'!I:I,'6.Reportes de Pagos'!H:H,"<="&(EOMONTH(FECHA,-1)),'6.Reportes de Pagos'!D:D,$P8) -> 1262766 | AB8: =SUMIFS('6.Reportes de Pagos'!J:J,'6.Reportes de Pagos'!H:H,"<="&(EOMONTH(FECHA,-1)),'6.Reportes de Pagos'!D:D,$P8) -> 0 | AC8: 0 | AD8: =SUMIFS('6.Reportes de Pagos'!I:I,'6.Reportes de Pagos'!H:H,">"&(EOMONTH(FECHA,-1)),'6.Reportes de Pagos'!H:H,"<="&(EOMONTH(FECHA,0)),'6.Reportes de Pagos'!D:D,$P8) -> 0 | AE8: =SUMIFS('6.Reportes de Pagos'!J:J,'6.Reportes de Pagos'!H:H,">"&(EOMONTH(FECHA,-1)),'6.Reportes de Pagos'!H:H,"<="&(EOMONTH(FECHA,0)),'6.Reportes de Pagos'!D:D,$P8) -> 0 | AF8: 0 | AG8: =SUMIFS('6.Reportes de Pagos'!I:I,'6.Reportes de Pagos'!H:H,"<="&(EOMONTH(FECHA,0)),'6.Reportes de Pagos'!D:D,$P8) -> 1262766 | AH8: =SUMIFS('6.Reportes de Pagos'!J:J,'6.Reportes de Pagos'!H:H,"<="&(EOMONTH(FECHA,0)),'6.Reportes de Pagos'!D:D,$P8) -> 0 | AI8: =+AC8+AF8 -> 0 | AK8: =+Z8-(AG8-AH8)-AI8 -> 0 | AL8: =IFERROR(((AG8-AH8+AI8)/Z8),0) -> 1 | AM8: N/A
A9: =+A8+1 -> 2 | B9: CO1.PCCNTR.5090635 | C9: 87123 | D9: NACION | E9: 2023 | F9: 1 193 | G9: 27/10/2023 01/04/2025 | H9: =11881579210+201196870 -> 12082776080 | I9: Proyectos Estrategicos | J9: LA REVISIÓN, AJUSTE Y COMPLEMENTACIÓN DE ESTUDIOS Y DISEÑOS, ASÍ COMO LA AMPLIACIÓN Y MEJORAMIENTO DE LA INSTITUCIÓN EDUCATIVA EUGENIO DIAZ CASTRO SEDE EL CHARQUITO UBICADA EN EL MUNICIPIO DE SOACHA, DEPARTAMENTO CUNDINAMARCA. | K9: SOACHA | L9: CUNDINAMARCA | M9: NA | N9: 1 | O9: PAF-MENPNIE-O-101-2023 | P9: 014-2023 | Q9: 45308 | R9: OBRA | S9: CONTRATADO | T9: SITTCA CONSTRUCCIONES S.A.S. | U9: 900206662 | V9: 11406316041 | W9: =+H9-V9-201196870 -> 475263169 | X9: 201196870 | Y9: =116750900+66917270 -> 183668170 | Z9: =+V9+X9 -> 11607512911 | AA9: =SUMIFS('6.Reportes de Pagos'!I:I,'6.Reportes de Pagos'!H:H,"<="&(EOMONTH(FECHA,-1)),'6.Reportes de Pagos'!D:D,$P9) -> 0 | AB9: =SUMIFS('6.Reportes de Pagos'!J:J,'6.Reportes de Pagos'!H:H,"<="&(EOMONTH(FECHA,-1)),'6.Reportes de Pagos'!D:D,$P9) -> 0 | AC9: 0 | AD9: =SUMIFS('6.Reportes de Pagos'!I:I,'6.Reportes de Pagos'!H:H,">"&(EOMONTH(FECHA,-1)),'6.Reportes de Pagos'!H:H,"<="&(EOMONTH(FECHA,0)),'6.Reportes de Pagos'!D:D,$P9) -> 0 | AE9: =SUMIFS('6.Reportes de Pagos'!J:J,'6.Reportes de Pagos'!H:H,">"&(EOMONTH(FECHA,-1)),'6.Reportes de Pagos'!H:H,"<="&(EOMONTH(FECHA,0)),'6.Reportes de Pagos'!D:D,$P9) -> 0 | AF9: 0 | AG9: =SUMIFS('6.Reportes de Pagos'!I:I,'6.Reportes de Pagos'!H:H,"<="&(EOMONTH(FECHA,0)),'6.Reportes de Pagos'!D:D,$P9) -> 0 | AH9: =SUMIFS('6.Reportes de Pagos'!J:J,'6.Reportes de Pagos'!H:H,"<="&(EOMONTH(FECHA,0)),'6.Reportes de Pagos'!D:D,$P9) -> 0 | AI9: =+AC9+AF9 -> 0 | AK9: =+Z9-(AG9-AH9)-AI9 -> 11607512911 | AL9: =IFERROR(((AG9-AH9+AI9)/Z9),0) -> 0 | AM9: Vigente
A10: =+A9+1 -> 3 | B10: CO1.PCCNTR.5090635 | C10: 87123 | D10: NACION | E10: 2023 | F10: 18 192 | G10: 31/10/2023 01/04/2025 | H10: =1038090820+196922985 -> 1235013805 | I10: Proyectos Estrategicos | J10: INTERVENTORÍA TÉCNICA, ADMINISTRATIVA, FINANCIERA, CONTABLE, AMBIENTAL, SOCIAL Y JURÍDICA A LA REVISIÓN, AJUSTE Y COMPLEMENTACIÓN DE ESTUDIOS Y DISEÑOS, ASÍ COMO A LA AMPLIACIÓN Y MEJORAMIENTO DE LA INSTITUCIÓN EDUCATIVA EUGENIO DIAZ CASTRO SEDE EL CHARQUITO UBICADA EN EL MUNICIPIO DE SOACHA, DEPARTAMENTO CUNDINAMARCA | K10: SOACHA | L10: CUNDINAMARCA | M10: NA | N10: 1 | O10: PAF-MENPNIE-I-096-2023 | P10: 003-2023 | Q10: 45308 | R10: INTERVENTORIA | S10: CONTRATADO | T10: CONSORCIO CHARQUITO ET | U10: 901786465 | V10: 984452667 | W10: =+H10-V10-196922985 -> 53638153 | X10: =116750900+196922985+66917270 -> 380591155 | Z10: =+V10+X10 -> 1365043822 | AA10: =SUMIFS('6.Reportes de Pagos'!I:I,'6.Reportes de Pagos'!H:H,"<="&(EOMONTH(FECHA,-1)),'6.Reportes de Pagos'!D:D,$P10) -> 0 | AB10: =SUMIFS('6.Reportes de Pagos'!J:J,'6.Reportes de Pagos'!H:H,"<="&(EOMONTH(FECHA,-1)),'6.Reportes de Pagos'!D:D,$P10) -> 0 | AC10: 0 | AD10: =SUMIFS('6.Reportes de Pagos'!I:I,'6.Reportes de Pagos'!H:H,">"&(EOMONTH(FECHA,-1)),'6.Reportes de Pagos'!H:H,"<="&(EOMONTH(FECHA,0)),'6.Reportes de Pagos'!D:D,$P10) -> 0 | AE10: =SUMIFS('6.Reportes de Pagos'!J:J,'6.Reportes de Pagos'!H:H,">"&(EOMONTH(FECHA,-1)),'6.Reportes de Pagos'!H:H,"<="&(EOMONTH(FECHA,0)),'6.Reportes de Pagos'!D:D,$P10) -> 0 | AF10: 0 | AG10: =SUMIFS('6.Reportes de Pagos'!I:I,'6.Reportes de Pagos'!H:H,"<="&(EOMONTH(FECHA,0)),'6.Reportes de Pagos'!D:D,$P10) -> 0 | AH10: =SUMIFS('6.Reportes de Pagos'!J:J,'6.Reportes de Pagos'!H:H,"<="&(EOMONTH(FECHA,0)),'6.Reportes de Pagos'!D:D,$P10) -> 0 | AI10: =+AC10+AF10 -> 0 | AK10: =+Z10-(AG10-AH10)-AI10 -> 1365043822 | AL10: =IFERROR(((AG10-AH10+AI10)/Z10),0) -> 0 | AM10: Vigente
A11: =+A10+1 -> 4 | B11: CO1.PCCNTR.5090635 | C11: 87123 | D11: NACION | E11: 2023 | F11: 49 | G11: 45274 | H11: 16809507226 | I11: Proyectos Estrategicos | J11: LA CONSTRUCCIÓN DE LA INSTITUCIÓN EDUCATIVA JOSE ANTONIO RICAURTE UBICADA EN EL MUNICIPIO DE IBAGUE, DEPARTAMENTO DEL TOLIMA. | K11: IBAGUE | L11: TOLIMA | M11: NA | N11: 1 | O11: PAF-MENPNIE-O-127-2023 | P11: 014-2024 | Q11: 45397 | R11: OBRA | S11: CONTRATADO | T11: CONSORCIO BB – IBAGUE | U11: 901811721 | V11: 16014417534 | W11: =+H11-V11 -> 795089692 | Z11: =+V11+X11 -> 16014417534 | AA11: =SUMIFS('6.Reportes de Pagos'!I:I,'6.Reportes de Pagos'!H:H,"<="&(EOMONTH(FECHA,-1)),'6.Reportes de Pagos'!D:D,$P11) -> 10822448177 | AB11: =SUMIFS('6.Reportes de Pagos'!J:J,'6.Reportes de Pagos'!H:H,"<="&(EOMONTH(FECHA,-1)),'6.Reportes de Pagos'!D:D,$P11) -> 1082244817 | AC11: 0 | AD11: =SUMIFS('6.Reportes de Pagos'!I:I,'6.Reportes de Pagos'!H:H,">"&(EOMONTH(FECHA,-1)),'6.Reportes de Pagos'!H:H,"<="&(EOMONTH(FECHA,0)),'6.Reportes de Pagos'!D:D,$P11) -> 0 | AE11: =SUMIFS('6.Reportes de Pagos'!J:J,'6.Reportes de Pagos'!H:H,">"&(EOMONTH(FECHA,-1)),'6.Reportes de Pagos'!H:H,"<="&(EOMONTH(FECHA,0)),'6.Reportes de Pagos'!D:D,$P11) -> 0 | AF11: 0 | AG11: =SUMIFS('6.Reportes de Pagos'!I:I,'6.Reportes de Pagos'!H:H,"<="&(EOMONTH(FECHA,0)),'6.Reportes de Pagos'!D:D,$P11) -> 10822448177 | AH11: =SUMIFS('6.Reportes de Pagos'!J:J,'6.Reportes de Pagos'!H:H,"<="&(EOMONTH(FECHA,0)),'6.Reportes de Pagos'!D:D,$P11) -> 1082244817 | AI11: =+AC11+AF11 -> 0 | AK11: =+Z11-(AG11-AH11)-AI11 -> 6274214174 | AL11: =IFERROR(((AG11-AH11+AI11)/Z11),0) -> 0.60821465 | AM11: Vigente
A12: =+A11+1 -> 5 | B12: CO1.PCCNTR.5090635 | C12: 87123 | D12: NACION | E12: 2023 | F12: 52 148 | G12: 20/12/2023 29/08/2024 | H12: =1320560410+65049428 -> 1385609838 | I12: Proyectos Estrategicos | J12: INTERVENTORÍA TÉCNICA, ADMINISTRATIVA, FINANCIERA, CONTABLE, AMBIENTAL, SOCIAL Y JURÍDICA A LA CONSTRUCCIÓN DE LA INSTITUCIÓN EDUCATIVA JOSE ANTONIO RICAURTE UBICADA EN EL MUNICIPIO DE IBAGUE, DEPARTAMENTO DEL TOLIMA | K12: IBAGUE | L12: TOLIMA | M12: NA | N12: 1 | O12: PAF-MENPNIE-I-125-2023 | P12: 011-2024 | Q12: 45398 | R12: INTERVENTORIA | S12: CONTRATADO | T12: CONSORCIO EDIFICACIONES 2024 | U12: 901808808 | V12: 1204351093 | W12: =+H12-V12-65049428 -> 116209317 | X12: 65049428 | Z12: =+V12+X12 -> 1269400521 | AA12: =SUMIFS('6.Reportes de Pagos'!I:I,'6.Reportes de Pagos'!H:H,"<="&(EOMONTH(FECHA,-1)),'6.Reportes de Pagos'!D:D,$P12) -> 8.9981755e+08 | AB12: =SUMIFS('6.Reportes de Pagos'!J:J,'6.Reportes de Pagos'!H:H,"<="&(EOMONTH(FECHA,-1)),'6.Reportes de Pagos'!D:D,$P12) -> 89981756 | AC12: 0 | AD12: =SUMIFS('6.Reportes de Pagos'!I:I,'6.Reportes de Pagos'!H:H,">"&(EOMONTH(FECHA,-1)),'6.Reportes de Pagos'!H:H,"<="&(EOMONTH(FECHA,0)),'6.Reportes de Pagos'!D:D,$P12) -> 0 | AE12: =SUMIFS('6.Reportes de Pagos'!J:J,'6.Reportes de Pagos'!H:H,">"&(EOMONTH(FECHA,-1)),'6.Reportes de Pagos'!H:H,"<="&(EOMONTH(FECHA,0)),'6.Reportes de Pagos'!D:D,$P12) -> 0 | AF12: 0 | AG12: =SUMIFS('6.Reportes de Pagos'!I:I,'6.Reportes de Pagos'!H:H,"<="&(EOMONTH(FECHA,0)),'6.Reportes de Pagos'!D:D,$P12) -> 8.9981755e+08 | AH12: =SUMIFS('6.Reportes de Pagos'!J:J,'6.Reportes de Pagos'!H:H,"<="&(EOMONTH(FECHA,0)),'6.Reportes de Pagos'!D:D,$P12) -> 89981756 | AI12: =+AC12+AF12 -> 0 | AK12: =+Z12-(AG12-AH12)-AI12 -> 4.5956473e+08 | AL12: =IFERROR(((AG12-AH12+AI12)/Z12),0) -> 0.63796712 | AM12: Vigente
A13: =+A12+1 -> 6 | B13: CO1.PCCNTR.5090635 | C13: 87123 | D13: NACION | E13: 2023 | F13: 2 132 | G13: 27/10/2023 02/07/2024 | H13: =6061878367+206479290 -> 6268357657 | I13: Mejoramientos | J13: ELABORACIÓN DE DIAGNÓSTICOS, ESTUDIOS TÉCNICOS, DISEÑOS Y EJECUCIÓN DE OBRAS DE MEJORAMIENTO EN LAS INSTITUCIONES EDUCATIVAS OFICIALES DEL DEPARTAMENTO DE TOLIMA (GRUPO 1), PRIORIZADAS POR EL MINISTERIO DE EDUCACION NACIONAL Y VIABILIZADOS POR FINDETER. | K13: RIOBLANCO CHAPARRAL | L13: TOLIMA | M13: 1 | N13: 32 | O13: PAF-MENPNIE-O-090-2023 | P13: 004-2023 | Q13: 45307 | R13: OBRA | S13: CONTRATADO | T13: CDC INGENIERIA Y ARQUITECTURA S.A.S. | U13: 900584208 | V13: 5849106437 | W13: =+H13-V13-206479290-212771930 -> 0 | X13: 206479290 | Z13: =+V13+X13 -> 6055585727 | AA13: =SUMIFS('6.Reportes de Pagos'!I:I,'6.Reportes de Pagos'!H:H,"<="&(EOMONTH(FECHA,-1)),'6.Reportes de Pagos'!D:D,$P13) -> 6055585727 | AB13: =SUMIFS('6.Reportes de Pagos'!J:J,'6.Reportes de Pagos'!H:H,"<="&(EOMONTH(FECHA,-1)),'6.Reportes de Pagos'!D:D,$P13) -> 0 | AC13: 0 | AD13: =SUMIFS('6.Reportes de Pagos'!I:I,'6.Reportes de Pagos'!H:H,">"&(EOMONTH(FECHA,-1)),'6.Reportes de Pagos'!H:H,"<="&(EOMONTH(FECHA,0)),'6.Reportes de Pagos'!D:D,$P13) -> 0 | AE13: =SUMIFS('6.Reportes de Pagos'!J:J,'6.Reportes de Pagos'!H:H,">"&(EOMONTH(FECHA,-1)),'6.Reportes de Pagos'!H:H,"<="&(EOMONTH(FECHA,0)),'6.Reportes de Pagos'!D:D,$P13) -> 0 | AF13: 0 | AG13: =SUMIFS('6.Reportes de Pagos'!I:I,'6.Reportes de Pagos'!H:H,"<="&(EOMONTH(FECHA,0)),'6.Reportes de Pagos'!D:D,$P13) -> 6055585727 | AH13: =SUMIFS('6.Reportes de Pagos'!J:J,'6.Reportes de Pagos'!H:H,"<="&(EOMONTH(FECHA,0)),'6.Reportes de Pagos'!D:D,$P13) -> 0 | AI13: =+AC13+AF13 -> 0 | AK13: =+Z13-(AG13-AH13)-AI13 -> 0 | AL13: =IFERROR(((AG13-AH13+AI13)/Z13),0) -> 1 | AM13: LIQUIDADO ABRIL 2025
A14: =+A13+1 -> 7 | B14: CO1.PCCNTR.5090635 | C14: 87123 | D14: NACION | E14: 2023 | F14: 3 133 | G14: 27/10/2023 02/07/2024 | H14: =338617160+103140950 -> 441758110 | I14: Mejoramientos | J14: INTERVENTORÍA INTEGRAL (TÉCNICA, ADMINISTRATIVA, FINANCIERA, CONTABLE, AMBIENTAL, SOCIAL Y JURÍDICA) PARA LA ELABORACIÓN DE DIAGNÓSTICOS, ESTUDIOS TÉCNICOS, DISEÑOS Y EJECUCIÓN DE OBRAS DE MEJORAMIENTO EN LAS INSTITUCIONES EDUCATIVAS OFICIALES DEL DEPARTAMENTO DE TOLIMA (GRUPO 1), PRIORIZADAS POR EL MINISTERIO DE EDUCACION NACIONAL Y VIABILIZADOS POR FINDETER. | K14: RIOBLANCO CHAPARRAL | L14: TOLIMA | M14: 1 | N14: 32 | O14: PAF-MENPNIE-I-085-2023 | P14: 007-2023 | Q14: 45307 | R14: INTERVENTORIA | S14: CONTRATADO | T14: CONSTRUOBRAS C&M SAS | U14: 900506471 | V14: 318271450 | W14: =+H14-V14-20345710-103140950 -> 0 | X14: 103140950 | Z14: =+V14+X14 -> 421412400 | AA14: =SUMIFS('6.Reportes de Pagos'!I:I,'6.Reportes de Pagos'!H:H,"<="&(EOMONTH(FECHA,-1)),'6.Reportes de Pagos'!D:D,$P14) -> 421412400 | AB14: =SUMIFS('6.Reportes de Pagos'!J:J,'6.Reportes de Pagos'!H:H,"<="&(EOMONTH(FECHA,-1)),'6.Reportes de Pagos'!D:D,$P14) -> 0 | AC14: 0 | AD14: =SUMIFS('6.Reportes de Pagos'!I:I,'6.Reportes de Pagos'!H:H,">"&(EOMONTH(FECHA,-1)),'6.Reportes de Pagos'!H:H,"<="&(EOMONTH(FECHA,0)),'6.Reportes de Pagos'!D:D,$P14) -> 0 | AE14: =SUMIFS('6.Reportes de Pagos'!J:J,'6.Reportes de Pagos'!H:H,">"&(EOMONTH(FECHA,-1)),'6.Reportes de Pagos'!H:H,"<="&(EOMONTH(FECHA,0)),'6.Reportes de Pagos'!D:D,$P14) -> 0 | AF14: 0 | AG14: =SUMIFS('6.Reportes de Pagos'!I:I,'6.Reportes de Pagos'!H:H,"<="&(EOMONTH(FECHA,0)),'6.Reportes de Pagos'!D:D,$P14) -> 421412400 | AH14: =SUMIFS('6.Reportes de Pagos'!J:J,'6.Reportes de Pagos'!H:H,"<="&(EOMONTH(FECHA,0)),'6.Reportes de Pagos'!D:D,$P14) -> 0 | AI14: =+AC14+AF14 -> 0 | AK14: =+Z14-(AG14-AH14)-AI14 -> 0 | AL14: =IFERROR(((AG14-AH14+AI14)/Z14),0) -> 1 | AM14: LIQUIDADO ABRIL 2025
