Workbook

Sheet PROMEDIO DE MERCADO
A1: ESTUDIO DE MERCADO
A2: Contratar los servicios especializados para el manejo integral de residuos sólidos y líquidos (incluyendo la destrucción, desnaturalización y transporte de sustancias estupefacientes, insumos químicos y material desechable contaminado) producidos durante las actividades propias de policía judicial, cuyos investigadores líderes, junto a su equipo, pertenezcan al Cuerpo Técnico de Investigación CTI de Tolima, Huila, Caquetá y Putumayo, a precio fijo y monto agotable.
A3: SECCIONAL TOLIMA
A4: ITEM | B4: CONCEPTO | C4: UNID. MED | D4: CAN. | F4: COTIZACIÓN TRACOL SAS | H4: VALOR UNITARIO TOTAL | J4: COTIZACIÓN SERVIECOLÓGICO SAS | L4: VALOR UNITARIO TOTAL | N4: PROMEDIO DE MERCADO | P4: VALOR UNITARIO TOTAL
F5: VALOR COTIZACIÓN | G5: I.V.A. | J5: VALOR INDEXADO 2025 | K5: I.V.A. | N5: VALOR INDEXADO 2025 | O5: I.V.A.
A6: 1 | B6: Destrucción de elementos prendas de vestir y textiles, elementos calzado y cueros. | C6: Kilogramo | D6: 1 | F6: 4060 | G6: 0 | H6: =ROUND(F6+G6,0.1) -> 4060 | J6: 3970 | K6: 0 | L6: =ROUND(J6+K6,0.1) -> 3970 | N6: =ROUND(AVERAGE(F6,J6),0.1) -> 4015 | O6: 0 | P6: =ROUND(N6+O6,0.1) -> 4015
A7: 2 | B7: Destrucción elementos plasticos, papel CDs | C7: Kilogramo | D7: 1 | F7: 4053 | G7: 0 | H7: =ROUND(F7+G7,0.1) -> 4053 | J7: 3970 | K7: 0 | L7: =ROUND(J7+K7,0.1) -> 3970 | N7: =ROUND(AVERAGE(F7,J7),0.1) -> 4012 | O7: 0 | P7: =ROUND(N7+O7,0.1) -> 4012
A8: 3 | B8: Destrucción elementos informaticos, quemadores, FTA´S, Breakers/Computadores, cargadores impresoras, IPADS, celulares, IPOD, planchas para el pelo | C8: Kilogramo | D8: 1 | F8: 4053 | G8: 0 | H8: =ROUND(F8+G8,0.1) -> 4053 | J8: 3970 | K8: 0 | L8: =ROUND(J8+K8,0.1) -> 3970 | N8: =ROUND(AVERAGE(F8,J8),0.1) -> 4012 | O8: 0 | P8: =ROUND(N8+O8,0.1) -> 4012
A9: 4 | B9: Destrucción medicamentos | C9: Kilogramo | D9: 1 | F9: 3905 | G9: 0 | H9: =ROUND(F9+G9,0.1) -> 3905 | J9: 3970 | K9: 0 | L9: =ROUND(J9+K9,0.1) -> 3970 | N9: =ROUND(AVERAGE(F9,J9),0.1) -> 3938 | O9: 0 | P9: =ROUND(N9+O9,0.1) -> 3938
A10: 5 | B10: Destrucción Hierro y Acero, Planchas litograficas metálicas, Maquinaria metálica | C10: Kilogramo | D10: 1 | F10: 3954 | G10: 0 | H10: =ROUND(F10+G10,0.1) -> 3954 | J10: 3970 | K10: 0 | L10: =ROUND(J10+K10,0.1) -> 3970 | N10: =ROUND(AVERAGE(F10,J10),0.1) -> 3962 | O10: 0 | P10: =ROUND(N10+O10,0.1) -> 3962
A11: 6 | B11: Destrucción sustancias Químicas, materias primas Químicas y productos químicos (Celda seguridad) | C11: Kilogramo | D11: 1 | F11: 4427 | G11: 0 | H11: =ROUND(F11+G11,0.1) -> 4427 | J11: 3970 | K11: 0 | L11: =ROUND(J11+K11,0.1) -> 3970 | N11: =ROUND(AVERAGE(F11,J11),0.1) -> 4199 | O11: 0 | P11: =ROUND(N11+O11,0.1) -> 4199
A12: 7 | B12: Destrucción estupefacientes | C12: Kilogramo | D12: 1 | F12: 4186 | G12: 0 | H12: =ROUND(F12+G12,0.1) -> 4186 | J12: 3970 | K12: 0 | L12: =ROUND(J12+K12,0.1) -> 3970 | N12: =ROUND(AVERAGE(F12,J12),0.1) -> 4078 | O12: 0 | P12: =ROUND(N12+O12,0.1) -> 4078
A13: 8 | B13: Destrucción de sustancias peligrosas Controladas Mercurio (Celda seguridad) | C13: Kilogramo | D13: 1 | F13: 4712 | G13: 0 | H13: =ROUND(F13+G13,0.1) -> 4712 | J13: 3970 | K13: 0 | L13: =ROUND(J13+K13,0.1) -> 3970 | N13: =ROUND(AVERAGE(F13,J13),0.1) -> 4341 | O13: 0 | P13: =ROUND(N13+O13,0.1) -> 4341
A14: 9 | B14: Destrucción de sustancias peligrosas Controladas Permanganato de Potasio (Celda seguridad) | C14: Kilogramo | D14: 1 | F14: 5013 | G14: 0 | H14: =ROUND(F14+G14,0.1) -> 5013 | J14: 3970 | K14: 0 | L14: =ROUND(J14+K14,0.1) -> 3970 | N14: =ROUND(AVERAGE(F14,J14),0.1) -> 4492 | O14: 0 | P14: =ROUND(N14+O14,0.1) -> 4492
A15: 10 | B15: Destrucción de elementos de Riesgo Biológico, residuos anatomopatologicos | C15: Kilogramo | D15: 1 | F15: 4541 | G15: 0 | H15: =ROUND(F15+G15,0.1) -> 4541 | J15: 3970 | K15: 0 | L15: =ROUND(J15+K15,0.1) -> 3970 | N15: =ROUND(AVERAGE(F15,J15),0.1) -> 4256 | O15: 0 | P15: =ROUND(N15+O15,0.1) -> 4256
A16: 11 | B16: Destrucción de alimentos y bebidas | C16: Kilogramo | D16: 1 | F16: 3514 | G16: 0 | H16: =ROUND(F16+G16,0.1) -> 3514 | J16: 3970 | K16: 0 | L16: =ROUND(J16+K16,0.1) -> 3970 | N16: =ROUND(AVERAGE(F16,J16),0.1) -> 3742 | O16: 0 | P16: =ROUND(N16+O16,0.1) -> 3742
A17: TOTAL | H17: =ROUND(SUM(H6:H16),0.1) -> 46418 | L17: =ROUND(SUM(L6:L16),0.1) -> 43670 | P17: =ROUND(SUM(P6:P16),0.1) -> 45047
A19: SECCIONAL HUILA
A20: ITEM | B20: CONCEPTO | C20: UNID. MED | D20: CAN. | F20: COTIZACIÓN TRACOL SAS | H20: VALOR UNITARIO TOTAL | J20: COTIZACIÓN SERVIECOLÓGICO SAS | L20: VALOR UNITARIO TOTAL | N20: PROMEDIO DE MERCADO | P20: VALOR UNITARIO TOTAL
F21: VALOR COTIZACIÓN | G21: I.V.A. | J21: VALOR INDEXADO 2025 | K21: I.V.A. | N21: VALOR INDEXADO 2025 | O21: I.V.A.
A22: 1 | B22: Destrucción de elementos prendas de vestir y textiles, elementos calzado y cueros. | C22: Kilogramo | D22: 1 | F22: 4622 | G22: 0 | H22: =ROUND(F22+G22,0.1) -> 4622 | J22: 3970 | K22: 0 | L22: =ROUND(J22+K22,0.1) -> 3970 | N22: =ROUND(AVERAGE(F22,J22),0.1) -> 4296 | O22: 0 | P22: =ROUND(N22+O22,0.1) -> 4296
A23: 2 | B23: Destrucción elementos plasticos, papel CDs | C23: Kilogramo | D23: 1 | F23: 4587 | G23: 0 | H23: =ROUND(F23+G23,0.1) -> 4587 | J23: 3970 | K23: 0 | L23: =ROUND(J23+K23,0.1) -> 3970 | N23: =ROUND(AVERAGE(F23,J23),0.1) -> 4279 | O23: 0 | P23: =ROUND(N23+O23,0.1) -> 4279
A24: 3 | B24: Destrucción elementos informaticos, quemadores, FTA´S, Breakers/Computadores, cargadores impresoras, IPADS, celulares, IPOD, planchas para el pelo | C24: Kilogramo | D24: 1 | F24: 4507 | G24: 0 | H24: =ROUND(F24+G24,0.1) -> 4507 | J24: 3970 | K24: 0 | L24: =ROUND(J24+K24,0.1) -> 3970 | N24: =ROUND(AVERAGE(F24,J24),0.1) -> 4239 | O24: 0 | P24: =ROUND(N24+O24,0.1) -> 4239
A25: 4 | B25: Destrucción medicamentos | C25: Kilogramo | D25: 1 | F25: 4451 | G25: 0 | H25: =ROUND(F25+G25,0.1) -> 4451 | J25: 3970 | K25: 0 | L25: =ROUND(J25+K25,0.1) -> 3970 | N25: =ROUND(AVERAGE(F25,J25),0.1) -> 4211 | O25: 0 | P25: =ROUND(N25+O25,0.1) -> 4211
A26: 5 | B26: Destrucción Hierro y Acero, Planchas litograficas metálicas, Maquinaria metálica | C26: Kilogramo | D26: 1 | F26: 4507 | G26: 0 | H26: =ROUND(F26+G26,0.1) -> 4507 | J26: 3970 | K26: 0 | L26: =ROUND(J26+K26,0.1) -> 3970 | N26: =ROUND(AVERAGE(F26,J26),0.1) -> 4239 | O26: 0 | P26: =ROUND(N26+O26,0.1) -> 4239
A27: 6 | B27: Destrucción sustancias Químicas, materias primas Químicas y productos químicos (Celda seguridad) | C27: Kilogramo | D27: 1 | F27: 5026 | G27: 0 | H27: =ROUND(F27+G27,0.1) -> 5026 | J27: 3970 | K27: 0 | L27: =ROUND(J27+K27,0.1) -> 3970 | N27: =ROUND(AVERAGE(F27,J27),0.1) -> 4498 | O27: 0 | P27: =ROUND(N27+O27,0.1) -> 4498
A28: 7 | B28: Destrucción estupefacientes | C28: Kilogramo | D28: 1 | F28: 4760 | G28: 0 | H28: =ROUND(F28+G28,0.1) -> 4760 | J28: 3970 | K28: 0 | L28: =ROUND(J28+K28,0.1) -> 3970 | N28: =ROUND(AVERAGE(F28,J28),0.1) -> 4365 | O28: 0 | P28: =ROUND(N28+O28,0.1) -> 4365
A29: 8 | B29: Destrucción de sustancias peligrosas Controladas Mercurio (Celda seguridad) | C29: Kilogramo | D29: 1 | F29: 5339 | G29: 0 | H29: =ROUND(F29+G29,0.1) -> 5339 | J29: 3970 | K29: 0 | L29: =ROUND(J29+K29,0.1) -> 3970 | N29: =ROUND(AVERAGE(F29,J29),0.1) -> 4655 | O29: 0 | P29: =ROUND(N29+O29,0.1) -> 4655
A30: 9 | B30: Destrucción de sustancias peligrosas Controladas Permanganato de Potasio (Celda seguridad) | C30: Kilogramo | D30: 1 | F30: 5670 | G30: 0 | H30: =ROUND(F30+G30,0.1) -> 5670 | J30: 3970 | K30: 0 | L30: =ROUND(J30+K30,0.1) -> 3970 | N30: =ROUND(AVERAGE(F30,J30),0.1) -> 4820 | O30: 0 | P30: =ROUND(N30+O30,0.1) -> 4820
A31: 10 | B31: Destrucción de elementos de Riesgo Biológico, residuos anatomopatologicos | C31: Kilogramo | D31: 1 | F31: 4722 | G31: 0 | H31: =ROUND(F31+G31,0.1) -> 4722 | J31: 3970 | K31: 0 | L31: =ROUND(J31+K31,0.1) -> 3970 | N31: =ROUND(AVERAGE(F31,J31),0.1) -> 4346 | O31: 0 | P31: =ROUND(N31+O31,0.1) -> 4346
A32: 11 | B32: Destrucción de alimentos y bebidas | C32: Kilogramo | D32: 1 | F32: 3942 | G32: 0 | H32: =ROUND(F32+G32,0.1) -> 3942 | J32: 3970 | K32: 0 | L32: =ROUND(J32+K32,0.1) -> 3970 | N32: =ROUND(AVERAGE(F32,J32),0.1) -> 3956 | O32: 0 | P32: =ROUND(N32+O32,0.1) -> 3956
A33: TOTAL | H33: =ROUND(SUM(H22:H32),0.1) -> 52133 | L33: =ROUND(SUM(L22:L32),0.1) -> 43670 | P33: =ROUND(SUM(P22:P32),0.1) -> 47904
A36: SECCIONAL CAQUETÁ
A37: ITEM | B37: CONCEPTO | C37: UNID. MED | D37: CAN. | F37: COTIZACIÓN TRACOL SAS | H37: VALOR UNITARIO TOTAL | J37: COTIZACIÓN SERVIECOLÓGICO SAS | L37: VALOR UNITARIO TOTAL | N37: PROMEDIO DE MERCADO | P37: VALOR UNITARIO TOTAL
F38: VALOR COTIZACIÓN | G38: I.V.A. | J38: VALOR INDEXADO 2025 | K38: I.V.A. | N38: VALOR INDEXADO 2025 | O38: I.V.A.
A39: 1 | B39: Destrucción de elementos prendas de vestir y textiles, elementos calzado y cueros. | C39: Kilogramo | D39: 1 | F39: 6092 | G39: 0 | H39: =ROUND(F39+G39,0.1) -> 6092 | J39: 4630 | K39: 0 | L39: =ROUND(J39+K39,0.1) -> 4630 | N39: =ROUND(AVERAGE(F39,J39),0.1) -> 5361 | O39: 0 | P39: =ROUND(N39+O39,0.1) -> 5361
A40: 2 | B40: Destrucción elementos plasticos, papel CDs | C40: Kilogramo | D40: 1 | F40: 6052 | G40: 0 | H40: =ROUND(F40+G40,0.1) -> 6052 | J40: 4630 | K40: 0 | L40: =ROUND(J40+K40,0.1) -> 4630 | N40: =ROUND(AVERAGE(F40,J40),0.1) -> 5341 | O40: 0 | P40: =ROUND(N40+O40,0.1) -> 5341
A41: 3 | B41: Destrucción elementos informaticos, quemadores, FTA´S, Breakers/Computadores, cargadores impresoras, IPADS, celulares, IPOD, planchas para el pelo | C41: Kilogramo | D41: 1 | F41: 5961 | G41: 0 | H41: =ROUND(F41+G41,0.1) -> 5961 | J41: 4630 | K41: 0 | L41: =ROUND(J41+K41,0.1) -> 4630 | N41: =ROUND(AVERAGE(F41,J41),0.1) -> 5296 | O41: 0 | P41: =ROUND(N41+O41,0.1) -> 5296
A42: 4 | B42: Destrucción medicamentos | C42: Kilogramo | D42: 1 | F42: 5898 | G42: 0 | H42: =ROUND(F42+G42,0.1) -> 5898 | J42: 4630 | K42: 0 | L42: =ROUND(J42+K42,0.1) -> 4630 | N42: =ROUND(AVERAGE(F42,J42),0.1) -> 5264 | O42: 0 | P42: =ROUND(N42+O42,0.1) -> 5264
A43: 5 | B43: Destrucción Hierro y Acero, Planchas litograficas metálicas, Maquinaria metálica | C43: Kilogramo | D43: 1 | F43: 5968 | G43: 0 | H43: =ROUND(F43+G43,0.1) -> 5968 | J43: 4630 | K43: 0 | L43: =ROUND(J43+K43,0.1) -> 4630 | N43: =ROUND(AVERAGE(F43,J43),0.1) -> 5299 | O43: 0 | P43: =ROUND(N43+O43,0.1) -> 5299
A44: 6 | B44: Destrucción sustancias Químicas, materias primas Químicas y productos químicos (Celda seguridad) | C44: Kilogramo | D44: 1 | F44: 6555 | G44: 0 | H44: =ROUND(F44+G44,0.1) -> 6555 | J44: 4630 | K44: 0 | L44: =ROUND(J44+K44,0.1) -> 4630 | N44: =ROUND(AVERAGE(F44,J44),0.1) -> 5593 | O44: 0 | P44: =ROUND(N44+O44,0.1) -> 5593 | T44: =318-320 -> -2
A45: 7 | B45: Destrucción estupefacientes | C45: Kilogramo | D45: 1 | F45: 6251 | G45: 0 | H45: =ROUND(F45+G45,0.1) -> 6251 | J45: 4630 | K45: 0 | L45: =ROUND(J45+K45,0.1) -> 4630 | N45: =ROUND(AVERAGE(F45,J45),0.1) -> 5441 | O45: 0 | P45: =ROUND(N45+O45,0.1) -> 5441
A46: 8 | B46: Destrucción de sustancias peligrosas Controladas Mercurio (Celda seguridad) | C46: Kilogramo | D46: 1 | F46: 6924 | G46: 0 | H46: =ROUND(F46+G46,0.1) -> 6924 | J46: 4630 | K46: 0 | L46: =ROUND(J46+K46,0.1) -> 4630 | N46: =ROUND(AVERAGE(F46,J46),0.1) -> 5777 | O46: 0 | P46: =ROUND(N46+O46,0.1) -> 5777
A47: 9 | B47: Destrucción de sustancias peligrosas Controladas Permanganato de Potasio (Celda seguridad) | C47: Kilogramo | D47: 1 | F47: 7309 | G47: 0 | H47: =ROUND(F47+G47,0.1) -> 7309 | J47: 4630 | K47: 0 | L47: =ROUND(J47+K47,0.1) -> 4630 | N47: =ROUND(AVERAGE(F47,J47),0.1) -> 5970 | O47: 0 | P47: =ROUND(N47+O47,0.1) -> 5970
A48: 10 | B48: Destrucción de elementos de Riesgo Biológico, residuos anatomopatologicos | C48: Kilogramo | D48: 1 | F48: 6098 | G48: 0 | H48: =ROUND(F48+G48,0.1) -> 6098 | J48: 4630 | K48: 0 | L48: =ROUND(J48+K48,0.1) -> 4630 | N48: =ROUND(AVERAGE(F48,J48),0.1) -> 5364 | O48: 0 | P48: =ROUND(N48+O48,0.1) -> 5364
A49: 11 | B49: Destrucción de alimentos y bebidas | C49: Kilogramo | D49: 1 | F49: 5212 | G49: 0 | H49: =ROUND(F49+G49,0.1) -> 5212 | J49: 4630 | K49: 0 | L49: =ROUND(J49+K49,0.1) -> 4630 | N49: =ROUND(AVERAGE(F49,J49),0.1) -> 4921 | O49: 0 | P49: =ROUND(N49+O49,0.1) -> 4921
A50: TOTAL | H50: =ROUND(SUM(H39:H49),0.1) -> 68320 | L50: =ROUND(SUM(L39:L49),0.1) -> 50930 | P50: =ROUND(SUM(P39:P49),0.1) -> 59627
A53: SECCIONAL PUTUMAYO
A54: ITEM | B54: CONCEPTO | C54: UNID. MED | D54: CAN. | F54: COTIZACIÓN TRACOL SAS | H54: VALOR UNITARIO TOTAL | J54: COTIZACIÓN SERVIECOLÓGICO SAS | L54: VALOR UNITARIO TOTAL | N54: PROMEDIO DE MERCADO | P54: VALOR UNITARIO TOTAL
F55: VALOR COTIZACIÓN | G55: I.V.A. | J55: VALOR INDEXADO 2025 | K55: I.V.A. | N55: VALOR INDEXADO 2025 | O55: I.V.A.
A56: 1 | B56: Destrucción de elementos prendas de vestir y textiles, elementos calzado y cueros. | C56: Kilogramo | D56: 1 | F56: 6144 | G56: 0 | H56: =ROUND(F56,0.1) -> 6144 | J56: 7590 | K56: 0 | L56: =ROUND(J56+K56,0.1) -> 7590 | N56: =ROUND(AVERAGE(F56,J56),0.1) -> 6867 | O56: 0 | P56: =ROUND(N56+O56,0.1) -> 6867
A57: 2 | B57: Destrucción elementos plasticos, papel CDs | C57: Kilogramo | D57: 1 | F57: 6096 | G57: 0 | H57: =ROUND(F57,0.1) -> 6096 | J57: 7590 | K57: 0 | L57: =ROUND(J57+K57,0.1) -> 7590 | N57: =ROUND(AVERAGE(F57,J57),0.1) -> 6843 | O57: 0 | P57: =ROUND(N57+O57,0.1) -> 6843
A58: 3 | B58: Destrucción elementos informaticos, quemadores, FTA´S, Breakers/Computadores, cargadores impresoras, IPADS, celulares, IPOD, planchas para el pelo | C58: Kilogramo | D58: 1 | F58: 6021 | G58: 0 | H58: =ROUND(F58,0.1) -> 6021 | J58: 7590 | K58: 0 | L58: =ROUND(J58+K58,0.1) -> 7590 | N58: =ROUND(AVERAGE(F58,J58),0.1) -> 6806 | O58: 0 | P58: =ROUND(N58+O58,0.1) -> 6806
A59: 4 | B59: Destrucción medicamentos | C59: Kilogramo | D59: 1 | F59: 5950 | G59: 0 | H59: =ROUND(F59,0.1) -> 5950 | J59: 7590 | K59: 0 | L59: =ROUND(J59+K59,0.1) -> 7590 | N59: =ROUND(AVERAGE(F59,J59),0.1) -> 6770 | O59: 0 | P59: =ROUND(N59+O59,0.1) -> 6770
A60: 5 | B60: Destrucción Hierro y Acero, Planchas litograficas metálicas, Maquinaria metálica | C60: Kilogramo | D60: 1 | F60: 6012 | G60: 0 | H60: =ROUND(F60,0.1) -> 6012 | J60: 7590 | K60: 0 | L60: =ROUND(J60+K60,0.1) -> 7590 | N60: =ROUND(AVERAGE(F60,J60),0.1) -> 6801 | O60: 0 | P60: =ROUND(N60+O60,0.1) -> 6801
A61: 6 | B61: Destrucción sustancias Químicas, materias primas Químicas y productos químicos (Celda seguridad) | C61: Kilogramo | D61: 1 | F61: 6608 | G61: 0 | H61: =ROUND(F61,0.1) -> 6608 | J61: 7590 | K61: 0 | L61: =ROUND(J61+K61,0.1) -> 7590 | N61: =ROUND(AVERAGE(F61,J61),0.1) -> 7099 | O61: 0 | P61: =ROUND(N61+O61,0.1) -> 7099
A62: 7 | B62: Destrucción estupefacientes | C62: Kilogramo | D62: 1 | F62: 6305 | G62: 0 | H62: =ROUND(F62,0.1) -> 6305 | J62: 7590 | K62: 0 | L62: =ROUND(J62+K62,0.1) -> 7590 | N62: =ROUND(AVERAGE(F62,J62),0.1) -> 6948 | O62: 0 | P62: =ROUND(N62+O62,0.1) -> 6948
A63: 8 | B63: Destrucción de sustancias peligrosas Controladas Mercurio (Celda seguridad) | C63: Kilogramo | D63: 1 | F63: 6975 | G63: 0 | H63: =ROUND(F63,0.1) -> 6975 | J63: 7590 | K63: 0 | L63: =ROUND(J63+K63,0.1) -> 7590 | N63: =ROUND(AVERAGE(F63,J63),0.1) -> 7283 | O63: 0 | P63: =ROUND(N63+O63,0.1) -> 7283
A64: 9 | B64: Destrucción de sustancias peligrosas Controladas Permanganato de Potasio (Celda seguridad) | C64: Kilogramo | D64: 1 | F64: 7363 | G64: 0 | H64: =ROUND(F64,0.1) -> 7363 | J64: 7590 | K64: 0 | L64: =ROUND(J64+K64,0.1) -> 7590 | N64: =ROUND(AVERAGE(F64,J64),0.1) -> 7477 | O64: 0 | P64: =ROUND(N64+O64,0.1) -> 7477
A65: 10 | B65: Destrucción de elementos de Riesgo Biológico, residuos anatomopatologicos | C65: Kilogramo | D65: 1 | F65: 6159 | G65: 0 | H65: =ROUND(F65,0.1) -> 6159 | J65: 7590 | K65: 0 | L65: =ROUND(J65+K65,0.1) -> 7590 | N65: =ROUND(AVERAGE(F65,J65),0.1) -> 6875 | O65: 0 | P65: =ROUND(N65+O65,0.1) -> 6875
A66: 11 | B66: Destrucción de alimentos y bebidas | C66: Kilogramo | D66: 1 | F66: 5272 | G66: 0 | H66: =ROUND(F66,0.1) -> 5272 | J66: 7590 | K66: 0 | L66: =ROUND(J66+K66,0.1) -> 7590 | N66: =ROUND(AVERAGE(F66,J66),0.1) -> 6431 | O66: 0 | P66: =ROUND(N66+O66,0.1) -> 6431
A67: VALOR TOTAL DE LA COTIZACION | H67: =ROUND(SUM(H56:H66),0) -> 68905 | L67: =ROUND(SUM(L56:L66),0.1) -> 83490 | P67: =ROUND(SUM(P56:P66),0.1) -> 76200
A69: TOTAL ESTUDIO DE MERCADO | O69: =SUM(P17,P33,P50,P67) -> 228778

Sheet VALOR HISTÓRICO DE LA ENTIDAD
I1: SERIE DE EMPALME DANE
I2: MARZO 22 | J2: 44958
A3: ITEM | B3: DESCRIPCION | C3: UNIDAD DE MEDIDA | D3: CANT | E3: VALOR UNITARIO | F3: I.V.A. | G3: VR. UNIT. INCLUIDO IVA | H3: VALOR TOTAL | I3: 116.26 | J3: 130.4
A4: 1 | B4: Destrucción elementos prendas de vestir y textiles, elementos calzado y cueros | C4: Kilogramo | D4: 1 | E4: 3770 | F4: 0 | G4: =+E4+F4 -> 3770 | H4: 3770 | I4: =ROUND(H4*$J$3/$I$3,0.1) -> 4229
A5: 2 | B5: Destrucción elementos plásticos, papel y CD´s | C5: Kilogramo | D5: 1 | E5: 3528 | F5: 0 | G5: =+E5+F5 -> 3528 | H5: 3528 | I5: =ROUND(H5*$J$3/$I$3,0.1) -> 3957
A6: 3 | B6: Destrucción elementos informáticos, quemadores, FTA´S, Breakers / Computadores, cargadores, impresoras, IPADS, celulares, IPOD, planchas para el pelo | C6: Kilogramo | D6: 1 | E6: 3442 | F6: 0 | G6: =+E6+F6 -> 3442 | H6: 3442 | I6: =ROUND(H6*$J$3/$I$3,0.1) -> 3861
A7: 4 | B7: Destrucción medicamentos | C7: Kilogramo | D7: 1 | E7: 3477 | F7: 0 | G7: =+E7+F7 -> 3477 | H7: 3477 | I7: =ROUND(H7*$J$3/$I$3,0.1) -> 3900
A8: 5 | B8: Destrucción Hierro y Acero,Planchas litográficas metálicas, Maquinaria metálica | C8: Kilogramo | D8: 1 | E8: 3142 | F8: 0 | G8: =+E8+F8 -> 3142 | H8: 3142 | I8: =ROUND(H8*$J$3/$I$3,0.1) -> 3524
A9: 6 | B9: Destrucción sustancias Químicas, materias primas Químicas y productos químicos. | C9: Kilogramo | D9: 1 | E9: 5858 | F9: 0 | G9: =+E9+F9 -> 5858 | H9: 5858 | I9: =ROUND(H9*$J$3/$I$3,0.1) -> 6570
A10: 7 | B10: Destrucción estupefacientes | C10: Kilogramo | D10: 1 | E10: 5469 | F10: 0 | G10: =+E10+F10 -> 5469 | H10: 5469 | I10: =ROUND(H10*$J$3/$I$3,0.1) -> 6134
A11: 8 | B11: Destrucción de sustancias, peligrosas Controladas. Mercurio | C11: Kilogramo | D11: 1 | E11: 4630 | F11: 0 | G11: =+E11+F11 -> 4630 | H11: 4630 | I11: =ROUND(H11*$J$3/$I$3,0.1) -> 5193
A12: 9 | B12: Destrucción de sustancias peligrosas Controladas. Permanganato de Potasio | C12: Kilogramo | D12: 1 | E12: 6422 | F12: 0 | G12: =+E12+F12 -> 6422 | H12: 6422 | I12: =ROUND(H12*$J$3/$I$3,0.1) -> 7203
A13: 10 | B13: Destrucción de elementos de Riesgo Biológico, residuos anatomopatologicos | C13: Kilogramo | D13: 1 | E13: 3907 | F13: 0 | G13: =+E13+F13 -> 3907 | H13: 3907 | I13: =ROUND(H13*$J$3/$I$3,0.1) -> 4382
A14: 11 | B14: Destrucción de Alimentos y Bebidas | C14: Kilogramo | D14: 1 | E14: 3130 | F14: 0 | G14: =+E14+F14 -> 3130 | H14: 3130 | I14: =ROUND(H14*$J$3/$I$3,0.1) -> 3511
A15: SUBTOTAL SECCIONAL TOLIMA ………………. | H15: =SUM(H4:H14) -> 46775 | I15: =SUM(I4:I14) -> 52464
A19: SECCIONAL : HUILA
A21: ITEM | B21: DESCRIPCION | C21: UNIDAD DE MEDIDA | D21: CANT | E21: VALOR UNITARIO | F21: I.V.A. | G21: VR. UNIT. INCLUIDO IVA | H21: VALOR TOTAL | I21: VALOR EN PRECIOS PRESENTES
A22: 1 | B22: Destrucción elementos prendas de vestir y textiles, elementos calzado y cueros | C22: Kilogramo | D22: 1 | E22: 3770 | F22: 0 | G22: =+E22+F22 -> 3770 | H22: 3770 | I22: =ROUND(H22*$J$3/$I$3,0.1) -> 4229
A23: 2 | B23: Destrucción elementos plásticos, papel y CD´s | C23: Kilogramo | D23: 1 | E23: 3528 | F23: 0 | G23: =+E23+F23 -> 3528 | H23: 3528 | I23: =ROUND(H23*$J$3/$I$3,0.1) -> 3957
A24: 3 | B24: Destrucción elementos informáticos, quemadores, FTA´S, Breakers / Computadores, cargadores, impresoras, IPADS, celulares, IPOD, planchas para el pelo | C24: Kilogramo | D24: 1 | E24: 3442 | F24: 0 | G24: =+E24+F24 -> 3442 | H24: 3442 | I24: =ROUND(H24*$J$3/$I$3,0.1) -> 3861
A25: 4 | B25: Destrucción medicamentos | C25: Kilogramo | D25: 1 | E25: 3477 | F25: 0 | G25: =+E25+F25 -> 3477 | H25: 3477 | I25: =ROUND(H25*$J$3/$I$3,0.1) -> 3900
A26: 5 | B26: Destrucción Hierro y Acero,Planchas litográficas metálicas, Maquinaria metálica | C26: Kilogramo | D26: 1 | E26: 3142 | F26: 0 | G26: =+E26+F26 -> 3142 | H26: 3142 | I26: =ROUND(H26*$J$3/$I$3,0.1) -> 3524
A27: 6 | B27: Destrucción sustancias Químicas, materias primas Químicas y productos químicos. | C27: Kilogramo | D27: 1 | E27: 5858 | F27: 0 | G27: =+E27+F27 -> 5858 | H27: 5858 | I27: =ROUND(H27*$J$3/$I$3,0.1) -> 6570
A28: 7 | B28: Destrucción estupefacientes | C28: Kilogramo | D28: 1 | E28: 5469 | F28: 0 | G28: =+E28+F28 -> 5469 | H28: 5469 | I28: =ROUND(H28*$J$3/$I$3,0.1) -> 6134
A29: 8 | B29: Destrucción de sustancias, peligrosas Controladas. Mercurio | C29: Kilogramo | D29: 1 | E29: 4630 | F29: 0 | G29: =+E29+F29 -> 4630 | H29: 4630 | I29: =ROUND(H29*$J$3/$I$3,0.1) -> 5193
A30: 9 | B30: Destrucción de sustancias peligrosas Controladas. Permanganato de Potasio | C30: Kilogramo | D30: 1 | E30: 6422 | F30: 0 | G30: =+E30+F30 -> 6422 | H30: 6422 | I30: =ROUND(H30*$J$3/$I$3,0.1) -> 7203
A31: 10 | B31: Destrucción de elementos de Riesgo Biológico, residuos anatomopatologicos | C31: Kilogramo | D31: 1 | E31: 3907 | F31: 0 | G31: =+E31+F31 -> 3907 | H31: 3907 | I31: =ROUND(H31*$J$3/$I$3,0.1) -> 4382
A32: 11 | B32: Destrucción de Alimentos y Bebidas | C32: Kilogramo | D32: 1 | E32: 3130 | F32: 0 | G32: =+E32+F32 -> 3130 | H32: 3130 | I32: =ROUND(H32*$J$3/$I$3,0.1) -> 3511
A33: SUBTOTAL SECCIONAL HUILA ………………. | H33: =SUM(H22:H32) -> 46775 | I33: =SUM(I22:I32) -> 52464
A36: SECCIONAL : CAQUETA
A38: ITEM | B38: DESCRIPCION | C38: UNIDAD DE MEDIDA | D38: CANT | E38: VALOR UNITARIO | F38: I.V.A. | G38: VR. UNIT. INCLUIDO IVA | H38: VALOR TOTAL | I38: VALOR EN PRECIOS PRESENTES
A39: 1 | B39: Destrucción elementos prendas de vestir y textiles, elementos calzado y cueros | C39: Kilogramo | D39: 1 | E39: 4793 | F39: 0 | G39: =+E39+F39 -> 4793 | H39: 4793 | I39: =ROUND(H39*$J$3/$I$3,0.1) -> 5376
A40: 2 | B40: Destrucción elementos plásticos, papel y CD´s | C40: Kilogramo | D40: 1 | E40: 4449 | F40: 0 | G40: =+E40+F40 -> 4449 | H40: =+G40*D40 -> 4449 | I40: =ROUND(H40*$J$3/$I$3,0.1) -> 4990
A41: 3 | B41: Destrucción elementos informáticos, quemadores, FTA´S, Breakers / Computadores, cargadores, impresoras, IPADS, celulares, IPOD, planchas para el pelo | C41: Kilogramo | D41: 1 | E41: 4359 | F41: 0 | G41: =+E41+F41 -> 4359 | H41: =+G41*D41 -> 4359 | I41: =ROUND(H41*$J$3/$I$3,0.1) -> 4889
A42: 4 | B42: Destrucción medicamentos | C42: Kilogramo | D42: 1 | E42: 4291 | F42: 0 | G42: =+E42+F42 -> 4291 | H42: =+G42*D42 -> 4291 | I42: =ROUND(H42*$J$3/$I$3,0.1) -> 4813
A43: 5 | B43: Destrucción Hierro y Acero,Planchas litográficas metálicas, Maquinaria metálica | C43: Kilogramo | D43: 1 | E43: 4359 | F43: 0 | G43: =+E43+F43 -> 4359 | H43: =+G43*D43 -> 4359 | I43: =ROUND(H43*$J$3/$I$3,0.1) -> 4889
A44: 6 | B44: Destrucción sustancias Químicas, materias primas Químicas y productos químicos. | C44: Kilogramo | D44: 1 | E44: 7355 | F44: 0 | G44: =+E44+F44 -> 7355 | H44: =+G44*D44 -> 7355 | I44: =ROUND(H44*$J$3/$I$3,0.1) -> 8250
A45: 7 | B45: Destrucción estupefacientes | C45: Kilogramo | D45: 1 | E45: 7026 | F45: 0 | G45: =+E45+F45 -> 7026 | H45: =+G45*D45 -> 7026 | I45: =ROUND(H45*$J$3/$I$3,0.1) -> 7881
A46: 8 | B46: Destrucción de sustancias, peligrosas Controladas. Mercurio | C46: Kilogramo | D46: 1 | E46: 5797 | F46: 0 | G46: =+E46+F46 -> 5797 | H46: =+G46*D46 -> 5797 | I46: =ROUND(H46*$J$3/$I$3,0.1) -> 6502
A47: 9 | B47: Destrucción de sustancias peligrosas Controladas. Permanganato de Potasio | C47: Kilogramo | D47: 1 | E47: 8159 | F47: 0 | G47: =+E47+F47 -> 8159 | H47: =+G47*D47 -> 8159 | I47: =ROUND(H47*$J$3/$I$3,0.1) -> 9151
A48: 10 | B48: Destrucción de elementos de Riesgo Biológico, residuos anatomopatologicos | C48: Kilogramo | D48: 1 | E48: 5053 | F48: 0 | G48: =+E48+F48 -> 5053 | H48: =+G48*D48 -> 5053 | I48: =ROUND(H48*$J$3/$I$3,0.1) -> 5668
A49: 11 | B49: Destrucción de Alimentos y Bebidas | C49: Kilogramo | D49: 1 | E49: 4142 | F49: 0 | G49: =+E49+F49 -> 4142 | H49: =+G49*D49 -> 4142 | I49: =ROUND(H49*$J$3/$I$3,0.1) -> 4646
A50: SUBTOTAL SECCIONAL CAQUETÁ ………………. | H50: =SUM(H39:H49) -> 59783 | I50: =SUM(I39:I49) -> 67055
A53: SECCIONAL : PUTUMAYO
A55: ITEM | B55: DESCRIPCION | C55: UNIDAD DE MEDIDA | D55: CANT | E55: VALOR UNITARIO | F55: I.V.A. | G55: VR. UNIT. INCLUIDO IVA | H55: VALOR TOTAL | I55: VALOR EN PRECIOS PRESENTES
A56: 1 | B56: Destrucción elementos prendas de vestir y textiles, elementos calzado y cueros | C56: Kilogramo | D56: 1 | E56: 4793 | F56: 0 | G56: =+E56+F56 -> 4793 | H56: =+G56*D56 -> 4793 | I56: =ROUND(H56*$J$3/$I$3,0.1) -> 5376
A57: 2 | B57: Destrucción elementos plásticos, papel y CD´s | C57: Kilogramo | D57: 1 | E57: 4449 | F57: 0 | G57: =+E57+F57 -> 4449 | H57: =+G57*D57 -> 4449 | I57: =ROUND(H57*$J$3/$I$3,0.1) -> 4990
A58: 3 | B58: Destrucción elementos informáticos, quemadores, FTA´S, Breakers / Computadores, cargadores, impresoras, IPADS, celulares, IPOD, planchas para el pelo | C58: Kilogramo | D58: 1 | E58: 4359 | F58: 0 | G58: =+E58+F58 -> 4359 | H58: =+G58*D58 -> 4359 | I58: =ROUND(H58*$J$3/$I$3,0.1) -> 4889
A59: 4 | B59: Destrucción medicamentos | C59: Kilogramo | D59: 1 | E59: 4291 | F59: 0 | G59: =+E59+F59 -> 4291 | H59: =+G59*D59 -> 4291 | I59: =ROUND(H59*$J$3/$I$3,0.1) -> 4813
A60: 5 | B60: Destrucción Hierro y Acero,Planchas litográficas metálicas, Maquinaria metálica | C60: Kilogramo | D60: 1 | E60: 4359 | F60: 0 | G60: =+E60+F60 -> 4359 | H60: =+G60*D60 -> 4359 | I60: =ROUND(H60*$J$3/$I$3,0.1) -> 4889
A61: 6 | B61: Destrucción sustancias Químicas, materias primas Químicas y productos químicos. | C61: Kilogramo | D61: 1 | E61: 7355 | F61: 0 | G61: =+E61+F61 -> 7355 | H61: =+G61*D61 -> 7355 | I61: =ROUND(H61*$J$3/$I$3,0.1) -> 8250
A62: 7 | B62: Destrucción estupefacientes | C62: Kilogramo | D62: 1 | E62: 7026 | F62: 0 | G62: =+E62+F62 -> 7026 | H62: =+G62*D62 -> 7026 | I62: =ROUND(H62*$J$3/$I$3,0.1) -> 7881
A63: 8 | B63: Destrucción de sustancias, peligrosas Controladas. Mercurio | C63: Kilogramo | D63: 1 | E63: 5797 | F63: 0 | G63: =+E63+F63 -> 5797 | H63: =+G63*D63 -> 5797 | I63: =ROUND(H63*$J$3/$I$3,0.1) -> 6502
A64: 9 | B64: Destrucción de sustancias peligrosas Controladas. Permanganato de Potasio | C64: Kilogramo | D64: 1 | E64: 8159 | F64: 0 | G64: =+E64+F64 -> 8159 | H64: =+G64*D64 -> 8159 | I64: =ROUND(H64*$J$3/$I$3,0.1) -> 9151
A65: 10 | B65: Destrucción de elementos de Riesgo Biológico, residuos anatomopatologicos | C65: Kilogramo | D65: 1 | E65: 5063 | F65: 0 | G65: =+E65+F65 -> 5063 | H65: =+G65*D65 -> 5063 | I65: =ROUND(H65*$J$3/$I$3,0.1) -> 5679
A66: 11 | B66: Destrucción de Alimentos y Bebidas | C66: Kilogramo | D66: 1 | E66: 4142 | F66: 0 | G66: =+E66+F66 -> 4142 | H66: =+G66*D66 -> 4142 | I66: =ROUND(H66*$J$3/$I$3,0.1) -> 4646
A67: SUBTOTAL SECCIONAL PUTUMAYO ………………. | H67: =SUM(H56:H66) -> 59793 | I67: =SUM(I56:I66) -> 67066
A68: TOTAL

Sheet COMPARACIÓN HISTÓRICO-PROMEDIO
A1: ESTUDIO DE MERCADO
A2: COMPARACIÓN VALOR HISTORICOS FRENTE A VALORES DE PROMEDIO DE MERCADO
A3: ITEM | B3: DESCRIPCION | C3: UNIDAD DE MEDIDA | D3: CANT | E3: VALOR HISTÓRICO - VALOR PRESENTE | F3: VALOR PROMEDIO DE MERCADO | G3: DIFERENCIA
A4: 1 | B4: Destrucción elementos prendas de vestir y textiles, elementos calzado y cueros | C4: Kilogramo | D4: 1 | E4: ='VALOR HISTÓRICO DE LA ENTIDAD'!I4 -> 4229 | F4: ='PROMEDIO DE MERCADO'!#REF! -> #REF! | G4: =F4-E4 -> #REF!
A5: 2 | B5: Destrucción elementos plásticos, papel y CD´s | C5: Kilogramo | D5: 1 | E5: ='VALOR HISTÓRICO DE LA ENTIDAD'!I5 -> 3957 | F5: ='PROMEDIO DE MERCADO'!#REF! -> #REF! | G5: =F5-E5 -> #REF!
A6: 3 | B6: Destrucción elementos informáticos, quemadores, FTA´S, Breakers / Computadores, cargadores, impresoras, IPADS, celulares, IPOD, planchas para el pelo | C6: Kilogramo | D6: 1 | E6: ='VALOR HISTÓRICO DE LA ENTIDAD'!I6 -> 3861 | F6: ='PROMEDIO DE MERCADO'!#REF! -> #REF! | G6: =F6-E6 -> #REF!
A7: 4 | B7: Destrucción medicamentos | C7: Kilogramo | D7: 1 | E7: ='VALOR HISTÓRICO DE LA ENTIDAD'!I7 -> 3900 | F7: ='PROMEDIO DE MERCADO'!#REF! -> #REF! | G7: =F7-E7 -> #REF!
A8: 5 | B8: Destrucción Hierro y Acero,Planchas litográficas metálicas, Maquinaria metálica | C8: Kilogramo | D8: 1 | E8: ='VALOR HISTÓRICO DE LA ENTIDAD'!I8 -> 3524 | F8: ='PROMEDIO DE MERCADO'!#REF! -> #REF! | G8: =F8-E8 -> #REF!
A9: 6 | B9: Destrucción sustancias Químicas, materias primas Químicas y productos químicos. | C9: Kilogramo | D9: 1 | E9: ='VALOR HISTÓRICO DE LA ENTIDAD'!I9 -> 6570 | F9: ='PROMEDIO DE MERCADO'!#REF! -> #REF! | G9: =F9-E9 -> #REF!
A10: 7 | B10: Destrucción estupefacientes | C10: Kilogramo | D10: 1 | E10: ='VALOR HISTÓRICO DE LA ENTIDAD'!I10 -> 6134 | F10: ='PROMEDIO DE MERCADO'!#REF! -> #REF! | G10: =F10-E10 -> #REF!
A11: 8 | B11: Destrucción de sustancias, peligrosas Controladas. Mercurio | C11: Kilogramo | D11: 1 | E11: ='VALOR HISTÓRICO DE LA ENTIDAD'!I11 -> 5193 | F11: ='PROMEDIO DE MERCADO'!#REF! -> #REF! | G11: =F11-E11 -> #REF!
A12: 9 | B12: Destrucción de sustancias peligrosas Controladas. Permanganato de Potasio | C12: Kilogramo | D12: 1 | E12: ='VALOR HISTÓRICO DE LA ENTIDAD'!I12 -> 7203 | F12: ='PROMEDIO DE MERCADO'!#REF! -> #REF! | G12: =F12-E12 -> #REF!
A13: 10 | B13: Destrucción de elementos de Riesgo Biológico, residuos anatomopatologicos | C13: Kilogramo | D13: 1 | E13: ='VALOR HISTÓRICO DE LA ENTIDAD'!I13 -> 4382 | F13: ='PROMEDIO DE MERCADO'!#REF! -> #REF! | G13: =F13-E13 -> #REF!
A14: 11 | B14: Destrucción de Alimentos y Bebidas | C14: Kilogramo | D14: 1 | E14: ='VALOR HISTÓRICO DE LA ENTIDAD'!I14 -> 3511 | F14: ='PROMEDIO DE MERCADO'!#REF! -> #REF! | G14: =F14-E14 -> #REF!
A15: SUBTOTAL SECCIONAL TOLIMA ………………. | E15: =SUM(E4:E14) -> 52464 | F15: =SUM(F4:F14) -> #REF!
A19: SECCIONAL : HUILA
A21: ITEM | B21: DESCRIPCION | C21: UNIDAD DE MEDIDA | D21: CANT | E21: VALOR HISTÓRICO - VALOR PRESENTE | F21: VALOR PROMEDIO DE MERCADO | G21: DIFERENCIA
A22: 1 | B22: Destrucción elementos prendas de vestir y textiles, elementos calzado y cueros | C22: Kilogramo | D22: 1 | E22: ='VALOR HISTÓRICO DE LA ENTIDAD'!I22 -> 4229 | F22: ='PROMEDIO DE MERCADO'!#REF! -> #REF! | G22: =F22-E22 -> #REF!
A23: 2 | B23: Destrucción elementos plásticos, papel y CD´s | C23: Kilogramo | D23: 1 | E23: ='VALOR HISTÓRICO DE LA ENTIDAD'!I23 -> 3957 | F23: ='PROMEDIO DE MERCADO'!#REF! -> #REF! | G23: =F23-E23 -> #REF!
A24: 3 | B24: Destrucción elementos informáticos, quemadores, FTA´S, Breakers / Computadores, cargadores, impresoras, IPADS, celulares, IPOD, planchas para el pelo | C24: Kilogramo | D24: 1 | E24: ='VALOR HISTÓRICO DE LA ENTIDAD'!I24 -> 3861 | F24: ='PROMEDIO DE MERCADO'!#REF! -> #REF! | G24: =F24-E24 -> #REF!
A25: 4 | B25: Destrucción medicamentos | C25: Kilogramo | D25: 1 | E25: ='VALOR HISTÓRICO DE LA ENTIDAD'!I25 -> 3900 | F25: ='PROMEDIO DE MERCADO'!#REF! -> #REF! | G25: =F25-E25 -> #REF!
A26: 5 | B26: Destrucción Hierro y Acero,Planchas litográficas metálicas, Maquinaria metálica | C26: Kilogramo | D26: 1 | E26: ='VALOR HISTÓRICO DE LA ENTIDAD'!I26 -> 3524 | F26: ='PROMEDIO DE MERCADO'!#REF! -> #REF! | G26: =F26-E26 -> #REF!
A27: 6 | B27: Destrucción sustancias Químicas, materias primas Químicas y productos químicos. | C27: Kilogramo | D27: 1 | E27: ='VALOR HISTÓRICO DE LA ENTIDAD'!I27 -> 6570 | F27: ='PROMEDIO DE MERCADO'!#REF! -> #REF! | G27: =F27-E27 -> #REF!
A28: 7 | B28: Destrucción estupefacientes | C28: Kilogramo | D28: 1 | E28: ='VALOR HISTÓRICO DE LA ENTIDAD'!I28 -> 6134 | F28: ='PROMEDIO DE MERCADO'!#REF! -> #REF! | G28: =F28-E28 -> #REF!
A29: 8 | B29: Destrucción de sustancias, peligrosas Controladas. Mercurio | C29: Kilogramo | D29: 1 | E29: ='VALOR HISTÓRICO DE LA ENTIDAD'!I29 -> 5193 | F29: ='PROMEDIO DE MERCADO'!#REF! -> #REF! | G29: =F29-E29 -> #REF!
A30: 9 | B30: Destrucción de sustancias peligrosas Controladas. Permanganato de Potasio | C30: Kilogramo | D30: 1 | E30: ='VALOR HISTÓRICO DE LA ENTIDAD'!I30 -> 7203 | F30: ='PROMEDIO DE MERCADO'!#REF! -> #REF! | G30: =F30-E30 -> #REF!
A31: 10 | B31: Destrucción de elementos de Riesgo Biológico, residuos anatomopatologicos | C31: Kilogramo | D31: 1 | E31: ='VALOR HISTÓRICO DE LA ENTIDAD'!I31 -> 4382 | F31: ='PROMEDIO DE MERCADO'!#REF! -> #REF! | G31: =F31-E31 -> #REF!
A32: 11 | B32: Destrucción de Alimentos y Bebidas | C32: Kilogramo | D32: 1 | E32: ='VALOR HISTÓRICO DE LA ENTIDAD'!I32 -> 3511 | F32: ='PROMEDIO DE MERCADO'!#REF! -> #REF! | G32: =F32-E32 -> #REF!
A33: SUBTOTAL SECCIONAL HUILA ………………. | E33: =SUM(E22:E32) -> 52464 | F33: =SUM(F22:F32) -> #REF!
A36: SECCIONAL : CAQUETA
A38: ITEM | B38: DESCRIPCION | C38: UNIDAD DE MEDIDA | D38: CANT | E38: VALOR HISTÓRICO - VALOR PRESENTE | F38: VALOR PROMEDIO DE MERCADO | G38: DIFERENCIA
A39: 1 | B39: Destrucción elementos prendas de vestir y textiles, elementos calzado y cueros | C39: Kilogramo | D39: 1 | E39: ='VALOR HISTÓRICO DE LA ENTIDAD'!I39 -> 5376 | F39: ='PROMEDIO DE MERCADO'!#REF! -> #REF! | G39: =F39-E39 -> #REF!
A40: 2 | B40: Destrucción elementos plásticos, papel y CD´s | C40: Kilogramo | D40: 1 | E40: ='VALOR HISTÓRICO DE LA ENTIDAD'!I40 -> 4990 | F40: ='PROMEDIO DE MERCADO'!#REF! -> #REF! | G40: =F40-E40 -> #REF!
A41: 3 | B41: Destrucción elementos informáticos, quemadores, FTA´S, Breakers / Computadores, cargadores, impresoras, IPADS, celulares, IPOD, planchas para el pelo | C41: Kilogramo | D41: 1 | E41: ='VALOR HISTÓRICO DE LA ENTIDAD'!I41 -> 4889 | F41: ='PROMEDIO DE MERCADO'!#REF! -> #REF! | G41: =F41-E41 -> #REF!
A42: 4 | B42: Destrucción medicamentos | C42: Kilogramo | D42: 1 | E42: ='VALOR HISTÓRICO DE LA ENTIDAD'!I42 -> 4813 | F42: ='PROMEDIO DE MERCADO'!#REF! -> #REF! | G42: =F42-E42 -> #REF!
A43: 5 | B43: Destrucción Hierro y Acero,Planchas litográficas metálicas, Maquinaria metálica | C43: Kilogramo | D43: 1 | E43: ='VALOR HISTÓRICO DE LA ENTIDAD'!I43 -> 4889 | F43: ='PROMEDIO DE MERCADO'!#REF! -> #REF! | G43: =F43-E43 -> #REF!
A44: 6 | B44: Destrucción sustancias Químicas, materias primas Químicas y productos químicos. | C44: Kilogramo | D44: 1 | E44: ='VALOR HISTÓRICO DE LA ENTIDAD'!I44 -> 8250 | F44: ='PROMEDIO DE MERCADO'!#REF! -> #REF! | G44: =F44-E44 -> #REF!
A45: 7 | B45: Destrucción estupefacientes | C45: Kilogramo | D45: 1 | E45: ='VALOR HISTÓRICO DE LA ENTIDAD'!I45 -> 7881 | F45: ='PROMEDIO DE MERCADO'!#REF! -> #REF! | G45: =F45-E45 -> #REF!
A46: 8 | B46: Destrucción de sustancias, peligrosas Controladas. Mercurio | C46: Kilogramo | D46: 1 | E46: ='VALOR HISTÓRICO DE LA ENTIDAD'!I46 -> 6502 | F46: ='PROMEDIO DE MERCADO'!#REF! -> #REF! | G46: =F46-E46 -> #REF!
A47: 9 | B47: Destrucción de sustancias peligrosas Controladas. Permanganato de Potasio | C47: Kilogramo | D47: 1 | E47: ='VALOR HISTÓRICO DE LA ENTIDAD'!I47 -> 9151 | F47: ='PROMEDIO DE MERCADO'!#REF! -> #REF! | G47: =F47-E47 -> #REF!
A48: 10 | B48: Destrucción de elementos de Riesgo Biológico, residuos anatomopatologicos | C48: Kilogramo | D48: 1 | E48: ='VALOR HISTÓRICO DE LA ENTIDAD'!I48 -> 5668 | F48: ='PROMEDIO DE MERCADO'!#REF! -> #REF! | G48: =F48-E48 -> #REF!
A49: 11 | B49: Destrucción de Alimentos y Bebidas | C49: Kilogramo | D49: 1 | E49: ='VALOR HISTÓRICO DE LA ENTIDAD'!I49 -> 4646 | F49: ='PROMEDIO DE MERCADO'!#REF! -> #REF! | G49: =F49-E49 -> #REF!
A50: SUBTOTAL SECCIONAL CAQUETÁ ………………. | E50: =SUM(E39:E49) -> 67055 | F50: =SUM(F39:F49) -> #REF!
A53: SECCIONAL : PUTUMAYO
A55: ITEM | B55: DESCRIPCION | C55: UNIDAD DE MEDIDA | D55: CANT | E55: VALOR HISTÓRICO - VALOR PRESENTE | F55: VALOR PROMEDIO DE MERCADO | G55: DIFERENCIA
A56: 1 | B56: Destrucción elementos prendas de vestir y textiles, elementos calzado y cueros | C56: Kilogramo | D56: 1 | E56: ='VALOR HISTÓRICO DE LA ENTIDAD'!I56 -> 5376 | F56: ='PROMEDIO DE MERCADO'!#REF! -> #REF! | G56: =F56-E56 -> #REF!
A57: 2 | B57: Destrucción elementos plásticos, papel y CD´s | C57: Kilogramo | D57: 1 | E57: ='VALOR HISTÓRICO DE LA ENTIDAD'!I57 -> 4990 | F57: ='PROMEDIO DE MERCADO'!#REF! -> #REF! | G57: =F57-E57 -> #REF!
A58: 3 | B58: Destrucción elementos informáticos, quemadores, FTA´S, Breakers / Computadores, cargadores, impresoras, IPADS, celulares, IPOD, planchas para el pelo | C58: Kilogramo | D58: 1 | E58: ='VALOR HISTÓRICO DE LA ENTIDAD'!I58 -> 4889 | F58: ='PROMEDIO DE MERCADO'!#REF! -> #REF! | G58: =F58-E58 -> #REF!
A59: 4 | B59: Destrucción medicamentos | C59: Kilogramo | D59: 1 | E59: ='VALOR HISTÓRICO DE LA ENTIDAD'!I59 -> 4813 | F59: ='PROMEDIO DE MERCADO'!#REF! -> #REF! | G59: =F59-E59 -> #REF!
A60: 5 | B60: Destrucción Hierro y Acero,Planchas litográficas metálicas, Maquinaria metálica | C60: Kilogramo | D60: 1 | E60: ='VALOR HISTÓRICO DE LA ENTIDAD'!I60 -> 4889 | F60: ='PROMEDIO DE MERCADO'!#REF! -> #REF! | G60: =F60-E60 -> #REF!
A61: 6 | B61: Destrucción sustancias Químicas, materias primas Químicas y productos químicos. | C61: Kilogramo | D61: 1 | E61: ='VALOR HISTÓRICO DE LA ENTIDAD'!I61 -> 8250 | F61: ='PROMEDIO DE MERCADO'!#REF! -> #REF! | G61: =F61-E61 -> #REF!
A62: 7 | B62: Destrucción estupefacientes | C62: Kilogramo | D62: 1 | E62: ='VALOR HISTÓRICO DE LA ENTIDAD'!I62 -> 7881 | F62: ='PROMEDIO DE MERCADO'!#REF! -> #REF! | G62: =F62-E62 -> #REF!
A63: 8 | B63: Destrucción de sustancias, peligrosas Controladas. Mercurio | C63: Kilogramo | D63: 1 | E63: ='VALOR HISTÓRICO DE LA ENTIDAD'!I63 -> 6502 | F63: ='PROMEDIO DE MERCADO'!#REF! -> #REF! | G63: =F63-E63 -> #REF!
A64: 9 | B64: Destrucción de sustancias peligrosas Controladas. Permanganato de Potasio | C64: Kilogramo | D64: 1 | E64: ='VALOR HISTÓRICO DE LA ENTIDAD'!I64 -> 9151 | F64: ='PROMEDIO DE MERCADO'!#REF! -> #REF! | G64: =F64-E64 -> #REF!
A65: 10 | B65: Destrucción de elementos de Riesgo Biológico, residuos anatomopatologicos | C65: Kilogramo | D65: 1 | E65: ='VALOR HISTÓRICO DE LA ENTIDAD'!I65 -> 5679 | F65: ='PROMEDIO DE MERCADO'!#REF! -> #REF! | G65: =F65-E65 -> #REF!
A66: 11 | B66: Destrucción de Alimentos y Bebidas | C66: Kilogramo | D66: 1 | E66: ='VALOR HISTÓRICO DE LA ENTIDAD'!I66 -> 4646 | F66: ='PROMEDIO DE MERCADO'!#REF! -> #REF! | G66: =F66-E66 -> #REF!
A67: SUBTOTAL SECCIONAL PUTUMAYO ………………. | E67: =SUM(E56:E66) -> 67066 | F67: =SUM(F56:F66) -> #REF!
A68: TOTAL
