Workbook
Name Print_Area: 'LISTA VEHICULOS'!$A$9:$B$36
Name Print_Area: 'RETRO 2006'!$A$1:$C$517
Name Print_Area: VOLQUETAS!$A$100:$B$113

Sheet LISTA VEHICULOS
A7: CONSOLIDADO PARQUE AUTOMOTOR
A9: ITEM | B9: TIPO VEHÍCULO | C9: VALOR PROPUESTA, IVA INCLUIDO | D9: VALOR TECHO
A10: 1 | B10: RETROEXCAVADORA CATERPILLAR 420D PLACA: RLZ 88A MODELO 2006 | D10: =+'RETRO 2006'!E515 -> 1.2960737e+09
A11: 2 | B11: RETROEXCAVADORA CATERPILLAR 420 PLACA: MC 350295 MODELO 2021 | D11: =+'RETRO 2021'!E520 -> 1.4316933e+09
A12: 3 | B12: MOTONIVELADORA NEW HOLLAND PLACA: MCO 12827 | D12: =+'NIVELADORA '!E544 -> 1280685000
A13: 4 | B13: VIBROCOMPACTADOR PLACA: MCO 13666 | D13: =+VIBRO!E473 -> 1.1346927e+09
A14: 5 | B14: VOLQUETA INTERNATIONAL PLACAS: OZM 035, OCF 330, OJZ 231, OJZ 232, OJZ 233 | D14: =+VOLQUETAS!E461 -> 5.7613533e+08
A15: 6 | B15: CAMIONETA NISSAN FRONTIER PLACAS: OCF 334, OJZ 230 | D15: =+FRONTIER!E446 -> 4.5474667e+08
A16: 7 | B16: CAMIONETA CHEVROLET COLORADO PLACAS: OJZ 235, OJZ 237, KPP 846, LCT 535 | D16: =+COLORADO!E379 -> 4.8769367e+08
A17: 8 | B17: CAMIONETA CHEVROLET DMAX PLACAS: DIW 955; DDB 096 | D17: =+'DMAX '!E379 -> 4.7799867e+08
A18: 9 | B18: CAMIONETA DODGE RAM 2500 PLACA: GAT 042 | D18: =+DODGE!E379 -> 4.9253967e+08
A19: 10 | B19: CAMIONETA RENAUL DUSTER OROCH PLACA: OLN 835 | D19: =+DUSTER!E442 -> 3.97555e+08
A20: 11 | B20: CAMIONETA CHEVROLET SAIL PLACA: FDV 085 | D20: =+SAIL!E442 -> 3.9350333e+08
A21: 12 | B21: CAMIONETA TOYOTA 4 RUNNER PLACA: OJZ 234 | D21: =+'4RUNNER'!E442 -> 4.0561e+08
A22: 13 | B22: CAMIONETA RENAULT TRAFIC 2.0 PLACA: OCI 941 | D22: =+TRAFIC!E444 -> 4.58391e+08
A23: 14 | B23: CAMIÓN GRÚA CHEVROLET NPR PLACA: OJZ228 | D23: =+NPR!E390 -> 4.9666693e+08
A24: 15 | B24: MOTOCARGUERO AKT200 PLACAS: 506 ADH, 511 ADH, 512 ADH, 535 ADH, 356AEU | D24: =+CARGUERO!E267 -> 1.6065867e+08
A25: 16 | B25: MOTOCICLETA AKT 150TT PLACAS: FFV 89C, FFV 90C, FFV 91C, FFV 92C | D25: =+'AKT 150TT'!E232 -> 95189000
A26: 17 | B26: MOTOCICLETA SUZUKI 125 PLACAS: LXV 41D, LXV 42D, LXV 43D | D26: =+'SUSUKI 125'!E231 -> 90474000
A27: 18 | B27: MOTOCICLETA YAMAHA DT 125 PLACAS: EPH 70A, RKC 11A, RKC 12A , UZE 61A, LAD 07A | D27: =+'DT 125'!E231 -> 90359333
A28: 19 | B28: MOTOCICLETA YAMAHA CRIPTON 115 PLACA: FFX 03C, XVF 88D, XVF 89D | D28: =+'CIPTON 115'!E231 -> 85872000
A29: 20 | B29: MOTOCICLETA YAMAHA XTZ 125 PLACAS: HXC 29E, JIN 45G, JIN 46G, JIN 47G, FFX 04C, XTK 54E, XVF 93D | D29: =+'XTZ 125'!E231 -> 90359333
A30: 21 | B30: MOTOCICLETA YAMAHA YBR 125 PLACA: FFX 10C | D30: =+'YBR 125'!E231 -> 90359333
A31: 22 | B31: MOTOCICLETA HONDA XR 150 PLACAS: OBE 53F, OBE 54F, JIO 43G | D31: =+'XR 150'!E231 -> 94879000
A32: 23 | B32: MOTOCICLETA AKT 250 ADVENTURE PLACA: XVD 29D MODELO 2016 | D32: =+'AKT 250'!E231 -> 99422667
A33: 24 | B33: MOTOCICLETA HONDA XRE 300 ABS PLACAS: ZPZ 74F, ZPZ 75F, ZPZ 76F, ODG 62G, ODG 63G, ODG 64G | D33: =+'XRE 300'!E231 -> 99422667
A34: 25 | B34: MOTOCICLETA YAMAHA XTZ 250 JIO 33G | D34: =+'XTZ 250'!E231 -> 94939000
A35: 26 | B35: MOTOCICLETA HONDA WAVE 110 JIO 44G | D35: =+'HONDA 110'!E231 -> 85872000
A36: VALOR TOTAL PRESUPUESTO BOLSA, IVA INCLUIDO: | D36: =SUM(D10:D35) -> 1.0961792e+10

Sheet RETRO 2006
B7: MUNICIPIO DE EL CARMEN DE VIBORAL
B9: VEHICULO COTIZADO:
A10: RETROEXCAVADORA CATERPILLAR 420D PLACA: RLZ 88A MODELO 2006
A11: ITEM | B11: SERVICIO REQUERIDO | C11: UNIDAD DE MEDIDA | D11: VALOR PROPUESTA, IVA INCLUIDO | E11: VALOR TECHO
B12: SISTEMA MOTOR
A13: 1 | C13: =IF(COUNTIF(B13,"SIPS*"),"UND ","SERV") -> SERV | E13: 56582333
A14: 2 | B14: ANILLADA DE MOTOR INCLUYE SIPS DE CASQUETERIA, SIPS EMPAQUETADURA DE MOTOR | C14: =IF(COUNTIF(B14,"SIPS*"),"UND ","SERV") -> SERV | E14: 8395000
A15: 3 | B15: SIPS KIT DE REPARACION CULATA; JUEGO VALVULAS AD, JUEGO VALVULAS EX, JUEGO GUIAS EX, JUEGO GUIAS AD, JUEGO ASIENTOS AD. JUEGO ASIENTOS EX, JUEGO INPULSADORES VALVULAS, JUEGO GORROS VALVULAS | C15: =IF(COUNTIF(B15,"SIPS*"),"UND ","SERV") -> UND | E15: 11002000
A16: 4 | B16: SIPS EMPAQUE DE CULATA | C16: =IF(COUNTIF(B16,"SIPS*"),"UND ","SERV") -> UND | E16: 4328000
A17: 5 | B17: SIPS PISTON DE MOTOR | C17: =IF(COUNTIF(B17,"SIPS*"),"UND ","SERV") -> UND | E17: 3929333.3
A18: 6 | B18: SIPS ANILLOS DE PISTON DE MOTOR | C18: =IF(COUNTIF(B18,"SIPS*"),"UND ","SERV") -> UND | E18: 2357333.3
A19: 7 | B19: SIPS JUEGO DE IMPULSADORES HIDRAULICOS | C19: UND | E19: 3539333.3
A20: 8 | B20: SIPS JUEGO DE IMPULSADORES Y VARILLAS IMPULSORAS | C20: UND | E20: 3813666.7
A21: 9 | B21: SIPS JUEGO DE BALANCINES | C21: =IF(COUNTIF(B21,"SIPS*"),"UND ","SERV") -> UND | E21: 4372333.3
A22: 10 | B22: SIPS POLEA DEL MOTOR | C22: =IF(COUNTIF(B22,"SIPS*"),"UND ","SERV") -> UND | E22: 1514333.3
A23: 11 | B23: SIPS DE CIGÜEÑAL | C23: =IF(COUNTIF(B23,"SIPS*"),"UND ","SERV") -> UND | E23: 13383333
A24: 12 | B24: SIPS DE JUEGO DE CASQUETES DE VIELA Y BANCADA | C24: =IF(COUNTIF(B24,"SIPS*"),"UND ","SERV") -> UND | E24: 9888000
A25: 13 | B25: SIPS TAPON BLOQUE MOTOR | C25: =IF(COUNTIF(B25,"SIPS*"),"UND ","SERV") -> UND | E25: 421000
A26: 14 | B26: SIPS EMPAQUE DE CARTER | C26: =IF(COUNTIF(B26,"SIPS*"),"UND ","SERV") -> UND | E26: 1177000
A27: 15 | B27: SIPS VOLANTE DE MOTOR | C27: =IF(COUNTIF(B27,"SIPS*"),"UND ","SERV") -> UND | E27: 6431333.3
A28: 16 | B28: SIPS RODAMIENTO DEL VOLANTE | C28: =IF(COUNTIF(B28,"SIPS*"),"UND ","SERV") -> UND | E28: 840000
A29: 17 | B29: SIPS CREMALLERA DEL VOLANTE | C29: =IF(COUNTIF(B29,"SIPS*"),"UND ","SERV") -> UND | E29: 2186000
A30: 18 | B30: SIPS DE CORREA DE ACCESORIOS | C30: =IF(COUNTIF(B30,"SIPS*"),"UND ","SERV") -> UND | E30: 571333.33
A31: 19 | B31: SIPS DAMPER DE MOTOR | C31: =IF(COUNTIF(B31,"SIPS*"),"UND ","SERV") -> UND | E31: 1850333.3
A32: 20 | B32: SIPS TAQUE IMPULSADOR DE MOTOR | C32: =IF(COUNTIF(B32,"SIPS*"),"UND ","SERV") -> UND | E32: 543000
... A46: 34 | B46: SIPS COMPUTADORA Y PROGRAMACION | C46: =IF(COUNTIF(B46,"SIPS*"),"UND ","SERV") -> UND | E46: 32756000
E47: 0
B48: SISTEMA ALIMENTACION AIRE/COMBUSTIBLE | E48: 0
A49: 35 | B49: SIPS DE LA BOMBA DE INYECCION | C49: =IF(COUNTIF(B49,"SIPS*"),"UND ","SERV") -> UND | E49: 23545000
A50: 36 | B50: SIPS KIT REPARACION DE LA BOMBA DE INYECCION | C50: =IF(COUNTIF(B50,"SIPS*"),"UND ","SERV") -> UND | E50: 11772667
A51: 37 | B51: SIPS DE INYECTOR DE COMBUSTIBLE | C51: =IF(COUNTIF(B51,"SIPS*"),"UND ","SERV") -> UND | E51: 9753333.3
A52: 38 | B52: SIPS KIT REPARCION DE INYECTOR | C52: =IF(COUNTIF(B52,"SIPS*"),"UND ","SERV") -> UND | E52: 4036333.3
A53: 39 | B53: SIPS JUEGO DE TOBERAS INYECTOR | C53: =IF(COUNTIF(B53,"SIPS*"),"UND ","SERV") -> UND | E53: 10090667
A54: 40 | B54: SIPS DE TURBO ALIMENTADOR | C54: =IF(COUNTIF(B54,"SIPS*"),"UND ","SERV") -> UND | E54: 13453667
A55: 41 | B55: SIPS DE KIT DE REPARACION DE TURBO ALIMENTADOR | C55: =IF(COUNTIF(B55,"SIPS*"),"UND ","SERV") -> UND | E55: 6727333.3
A56: 42 | B56: SIPS EMPAQUTADURA DEL TURBO | C56: =IF(COUNTIF(B56,"SIPS*"),"UND ","SERV") -> UND | E56: 1177000
A57: 43 | B57: SIPS TORNILLO DEL TURBO | C57: =IF(COUNTIF(B57,"SIPS*"),"UND ","SERV") -> UND | E57: 85000
A58: 44 | B58: SIPS TRAPECIO DE ACELERACION | C58: =IF(COUNTIF(B58,"SIPS*"),"UND ","SERV") -> UND | E58: 312000
A59: 45 | B59: SIPS DE BOMBA DE SUMINISTRO DE COMBUSTBLE ELECTRICA | C59: =IF(COUNTIF(B59,"SIPS*"),"UND ","SERV") -> UND | E59: 6390333.3
A60: 46 | B60: SIPS FLOTADOR Y MECANISMOS DE INDICACION DE NIVEL DE COMBUSTIBLE | C60: =IF(COUNTIF(B60,"SIPS*"),"UND ","SERV") -> UND | E60: 1714666.7
...

Sheet RETRO 2021
B7: MUNICIPIO DE EL CARMEN DE VIBORAL
B9: VEHICULO COTIZADO:
A10: RETROEXCAVADORA CATERPILLAR 420 PLACA: MC 350295 MODELO 2021
A11: ITEM | B11: SERVICIO REQUERIDO | C11: UNIDAD DE MEDIDA | D11: VALOR PROPUESTA, IVA INCLUIDO | E11: VALOR TECHO
B12: SISTEMA MOTOR
A13: 1 | B13: SIPS KIT DE REPARACION DE MOTOR; JUEGO PISTONES, JUEGO ANILLOS, JUEGO BULONES Y SEGUROS PISTONES, JUEGO CAMISAS, JUEGO CASQUETES BANCADA, JUEGO CASQUETES BIELA, JUEGO AXIALES, JUEGO BUJES BIELA, JUEGO BUJES LEVA, JUEGO RETENEDORES MOTOR, JUEGO EMPAQUES MOTOR | C13: =IF(COUNTIF(B13,"SIPS*"),"UND ","SERV") -> UND | E13: 62241000
A14: 2 | B14: ANILLADA DE MOTOR INCLUYE SIPS DE CASQUETERIA, SIPS EMPAQUETADURA DE MOTOR | C14: =IF(COUNTIF(B14,"SIPS*"),"UND ","SERV") -> SERV | E14: 9233666.7
A15: 3 | B15: SIPS KIT DE REPARACION CULATA; JUEGO VALVULAS AD, JUEGO VALVULAS EX, JUEGO GUIAS EX, JUEGO GUIAS AD, JUEGO ASIENTOS AD. JUEGO ASIENTOS EX, JUEGO INPULSADORES VALVULAS, JUEGO GORROS VALVULAS | C15: =IF(COUNTIF(B15,"SIPS*"),"UND ","SERV") -> UND | E15: 12102333
A16: 4 | B16: SIPS EMPAQUE DE CULATA | C16: =IF(COUNTIF(B16,"SIPS*"),"UND ","SERV") -> UND | E16: 4761666.7
A17: 5 | B17: SIPS PISTON DE MOTOR | C17: =IF(COUNTIF(B17,"SIPS*"),"UND ","SERV") -> UND | E17: 4321666.7
A18: 6 | B18: SIPS ANILLOS DE PISTON DE MOTOR | C18: =IF(COUNTIF(B18,"SIPS*"),"UND ","SERV") -> UND | E18: 2593333.3
A19: 7 | B19: SIPS JUEGO DE IMPULSADORES HIDRAULICOS | C19: UND | E19: 3893333.3
A20: 8 | B20: SIPS JUEGO DE IMPULSADORES Y VARILLAS IMPULSORAS | C20: UND | E20: 4195000
A21: 9 | B21: SIPS JUEGO DE BALANCINES | C21: =IF(COUNTIF(B21,"SIPS*"),"UND ","SERV") -> UND | E21: 4809000
A22: 10 | B22: SIPS POLEA DEL MOTOR | C22: =IF(COUNTIF(B22,"SIPS*"),"UND ","SERV") -> UND | E22: 1665333.3
A23: 11 | B23: SIPS DE CIGÜEÑAL | C23: =IF(COUNTIF(B23,"SIPS*"),"UND ","SERV") -> UND | E23: 14722000
A24: 12 | B24: SIPS DE JUEGO DE CASQUETES DE VIELA Y BANCADA | C24: =IF(COUNTIF(B24,"SIPS*"),"UND ","SERV") -> UND | E24: 10878000
A25: 13 | B25: SIPS TAPON BLOQUE MOTOR | C25: =IF(COUNTIF(B25,"SIPS*"),"UND ","SERV") -> UND | E25: 463000
A26: 14 | B26: SIPS EMPAQUE DE CARTER | C26: =IF(COUNTIF(B26,"SIPS*"),"UND ","SERV") -> UND | E26: 1295666.7
A27: 15 | B27: SIPS VOLANTE DE MOTOR | C27: =IF(COUNTIF(B27,"SIPS*"),"UND ","SERV") -> UND | E27: 7073666.7
A28: 16 | B28: SIPS RODAMIENTO DEL VOLANTE | C28: =IF(COUNTIF(B28,"SIPS*"),"UND ","SERV") -> UND | E28: 925000
A29: 17 | B29: SIPS CREMALLERA DEL VOLANTE | C29: =IF(COUNTIF(B29,"SIPS*"),"UND ","SERV") -> UND | E29: 2405333.3
A30: 18 | B30: SIPS DE CORREA DE ACCESORIOS | C30: =IF(COUNTIF(B30,"SIPS*"),"UND ","SERV") -> UND | E30: 629000
A31: 19 | B31: SIPS DAMPER DE MOTOR | C31: =IF(COUNTIF(B31,"SIPS*"),"UND ","SERV") -> UND | E31: 2034666.7
A32: 20 | B32: SIPS TAQUE IMPULSADOR DE MOTOR | C32: =IF(COUNTIF(B32,"SIPS*"),"UND ","SERV") -> UND | E32: 597333.33
... A46: 34 | B46: SIPS COMPUTADORA Y PROGRAMACION | C46: =IF(COUNTIF(B46,"SIPS*"),"UND ","SERV") -> UND | E46: 36030667
E47: 0
B48: SISTEMA ALIMENTACION AIRE/COMBUSTIBLE | E48: 0
A49: 35 | B49: SIPS DE LA BOMBA DE INYECCION | C49: =IF(COUNTIF(B49,"SIPS*"),"UND ","SERV") -> UND | E49: 25899333
A50: 36 | B50: SIPS KIT REPARACION DE LA BOMBA DE INYECCION | C50: =IF(COUNTIF(B50,"SIPS*"),"UND ","SERV") -> UND | E50: 12949667
A51: 37 | B51: SIPS DE INYECTOR DE COMBUSTIBLE | C51: =IF(COUNTIF(B51,"SIPS*"),"UND ","SERV") -> UND | E51: 10730000
A52: 38 | B52: SIPS KIT REPARCION DE INYECTOR | C52: =IF(COUNTIF(B52,"SIPS*"),"UND ","SERV") -> UND | E52: 4439666.7
A53: 39 | B53: SIPS JUEGO DE TOBERAS INYECTOR | C53: =IF(COUNTIF(B53,"SIPS*"),"UND ","SERV") -> UND | E53: 11098333
A54: 40 | B54: SIPS DE TURBO ALIMENTADOR | C54: =IF(COUNTIF(B54,"SIPS*"),"UND ","SERV") -> UND | E54: 14798667
A55: 41 | B55: SIPS DE KIT DE REPARACION DE TURBO ALIMENTADOR | C55: =IF(COUNTIF(B55,"SIPS*"),"UND ","SERV") -> UND | E55: 7400333.3
A56: 42 | B56: SIPS EMPAQUTADURA DEL TURBO | C56: =IF(COUNTIF(B56,"SIPS*"),"UND ","SERV") -> UND | E56: 1295666.7
A57: 43 | B57: SIPS TORNILLO DEL TURBO | C57: =IF(COUNTIF(B57,"SIPS*"),"UND ","SERV") -> UND | E57: 92333.333
A58: 44 | B58: SIPS TRAPECIO DE ACELERACION | C58: =IF(COUNTIF(B58,"SIPS*"),"UND ","SERV") -> UND | E58: 343333.33
A59: 45 | B59: SIPS DE BOMBA DE SUMINISTRO DE COMBUSTBLE ELECTRICA | C59: =IF(COUNTIF(B59,"SIPS*"),"UND ","SERV") -> UND | E59: 7030000
A60: 46 | B60: SIPS FLOTADOR Y MECANISMOS DE INDICACION DE NIVEL DE COMBUSTIBLE | C60: =IF(COUNTIF(B60,"SIPS*"),"UND ","SERV") -> UND | E60: 1887000
...

Sheet NIVELADORA 
B7: MUNICIPIO DE EL CARMEN DE VIBORAL
B9: VEHICULO COTIZADO:
A10: MOTONIVELADORA NEW HOLLAND PLACA: MCO 12827
A11: ITEM | B11: SERVICIO REQUERIDO | C11: UNIDAD DE MEDIDA | D11: VALOR PROPUESTA, IVA INCLUIDO | E11: VALOR TECHO
B12: SISTEMA MOTOR
A13: 1 | B13: SIPS KIT DE REPARACION DE MOTOR; JUEGO PISTONES, JUEGO ANILLOS, JUEGO BULONES Y SEGUROS PISTONES, JUEGO CAMISAS, JUEGO CASQUETES BANCADA, JUEGO CASQUETES BIELA, JUEGO AXIALES, JUEGO BUJES BIELA, JUEGO BUJES LEVA, JUEGO RETENEDORES MOTOR, JUEGO EMPAQUES MOTOR | C13: =IF(COUNTIF(B13,"SIPS*"),"UND ","SERV") -> UND | E13: 60946333
A14: 2 | B14: ANILLADA DE MOTOR INCLUYE SIPS DE CASQUETERIA, SIPS EMPAQUETADURA DE MOTOR | C14: =IF(COUNTIF(B14,"SIPS*"),"UND ","SERV") -> SERV | E14: 9981333.3
A15: 3 | B15: SIPS KIT DE REPARACION CULATA; JUEGO VALVULAS AD, JUEGO VALVULAS EX, JUEGO GUIAS EX, JUEGO GUIAS AD, JUEGO ASIENTOS AD. JUEGO ASIENTOS EX, JUEGO INPULSADORES VALVULAS, JUEGO GORROS VALVULAS | C15: =IF(COUNTIF(B15,"SIPS*"),"UND ","SERV") -> UND | E15: 25469667
A16: 4 | B16: SIPS EMPAQUE DE CULATA | C16: =IF(COUNTIF(B16,"SIPS*"),"UND ","SERV") -> UND | E16: 4978000
A17: 5 | B17: SIPS PISTON DE MOTOR | C17: =IF(COUNTIF(B17,"SIPS*"),"UND ","SERV") -> UND | E17: 4518000
A18: 6 | B18: SIPS ANILLOS DE PISTON DE MOTOR | C18: =IF(COUNTIF(B18,"SIPS*"),"UND ","SERV") -> UND | E18: 2712000
A19: 7 | B19: SIPS JUEGO DE IMPULSADORES HIDRAULICOS | C19: UND | E19: 3658333.3
A20: 8 | B20: SIPS JUEGO DE IMPULSADORES Y VARILLAS IMPULSORAS | C20: UND | E20: 4065333.3
A21: 9 | B21: SIPS JUEGO DE BALANCINES | C21: =IF(COUNTIF(B21,"SIPS*"),"UND ","SERV") -> UND | E21: 5028333.3
A22: 10 | B22: SIPS POLEA DEL MOTOR | C22: =IF(COUNTIF(B22,"SIPS*"),"UND ","SERV") -> UND | E22: 1740666.7
A23: 11 | B23: SIPS DE CIGÜEÑAL | C23: =IF(COUNTIF(B23,"SIPS*"),"UND ","SERV") -> UND | E23: 15389667
A24: 12 | B24: SIPS DE JUEGO DE CASQUETES DE VIELA Y BANCADA | C24: =IF(COUNTIF(B24,"SIPS*"),"UND ","SERV") -> UND | E24: 11372667
A25: 13 | B25: SIPS TAPON BLOQUE MOTOR | C25: =IF(COUNTIF(B25,"SIPS*"),"UND ","SERV") -> UND | E25: 485333.33
A26: 14 | B26: SIPS EMPAQUE DE CARTER | C26: =IF(COUNTIF(B26,"SIPS*"),"UND ","SERV") -> UND | E26: 1352333.3
A27: 15 | B27: SIPS VOLANTE DE MOTOR | C27: =IF(COUNTIF(B27,"SIPS*"),"UND ","SERV") -> UND | E27: 7395333.3
A28: 16 | B28: SIPS RODAMIENTO DEL VOLANTE | C28: =IF(COUNTIF(B28,"SIPS*"),"UND ","SERV") -> UND | E28: 967000
A29: 17 | B29: SIPS CREMALLERA DEL VOLANTE | C29: =IF(COUNTIF(B29,"SIPS*"),"UND ","SERV") -> UND | E29: 2515000
A30: 18 | B30: SIPS DE CORREA DE ACCESORIOS | C30: =IF(COUNTIF(B30,"SIPS*"),"UND ","SERV") -> UND | E30: 657333.33
A31: 19 | B31: SIPS DAMPER DE MOTOR | C31: =IF(COUNTIF(B31,"SIPS*"),"UND ","SERV") -> UND | E31: 2128333.3
A32: 20 | B32: SIPS TAPON DEL CARTER | C32: =IF(COUNTIF(B32,"SIPS*"),"UND ","SERV") -> UND | E32: 189000
... A45: 33 | B45: SIPS COMPUTADORA Y PROGRAMACION | C45: =IF(COUNTIF(B45,"SIPS*"),"UND ","SERV") -> UND | E45: 37669000
E46: 0
B47: SISTEMA ALIMENTACION AIRE/COMBUSTIBLE | E47: 0
A48: 34 | B48: SIPS DE LA BOMBA DE INYECCION | C48: =IF(COUNTIF(B48,"SIPS*"),"UND ","SERV") -> UND | E48: 27076333
A49: 35 | B49: SIPS KIT REPARACION DE LA BOMBA DE INYECCION | C49: =IF(COUNTIF(B49,"SIPS*"),"UND ","SERV") -> UND | E49: 13538667
A50: 36 | B50: SIPS DE INYECTOR DE COMBUSTIBLE | C50: =IF(COUNTIF(B50,"SIPS*"),"UND ","SERV") -> UND | E50: 11218333
A51: 37 | B51: SIPS KIT REPARCION DE INYECTOR | C51: =IF(COUNTIF(B51,"SIPS*"),"UND ","SERV") -> UND | E51: 4643000
A52: 38 | B52: SIPS JUEGO DE TOBERAS INYECTOR | C52: =IF(COUNTIF(B52,"SIPS*"),"UND ","SERV") -> UND | E52: 11603667
A53: 39 | B53: SIPS DE TURBO ALIMENTADOR | C53: =IF(COUNTIF(B53,"SIPS*"),"UND ","SERV") -> UND | E53: 15472667
A54: 40 | B54: SIPS DE KIT DE REPARACION DE TURBO ALIMENTADOR | C54: =IF(COUNTIF(B54,"SIPS*"),"UND ","SERV") -> UND | E54: 7736333.3
A55: 41 | B55: SIPS EMPAQUTADURA DEL TURBO | C55: =IF(COUNTIF(B55,"SIPS*"),"UND ","SERV") -> UND | E55: 1352333.3
A56: 42 | B56: SIPS TORNILLO DEL TURBO | C56: =IF(COUNTIF(B56,"SIPS*"),"UND ","SERV") -> UND | E56: 97666.667
A57: 43 | B57: SIPS DE BOMBA DE SUMINISTRO DE COMBUSTBLE ELECTRICA | C57: =IF(COUNTIF(B57,"SIPS*"),"UND ","SERV") -> UND | E57: 7349000
A58: 44 | B58: SIPS FLOTADOR Y MECANISMOS DE INDICACION DE NIVEL DE COMBUSTIBLE | C58: =IF(COUNTIF(B58,"SIPS*"),"UND ","SERV") -> UND | E58: 1971000
A59: 45 | B59: SIPS TANQUE DE COMBUSTIBLE | C59: =IF(COUNTIF(B59,"SIPS*"),"UND ","SERV") -> UND | E59: 7736333.3
...

Sheet VIBRO
B7: MUNICIPIO DE EL CARMEN DE VIBORAL
B9: VEHICULO COTIZADO:
A10: VIBROCOMPACTADOR PLACA: MCO 13666
A11: ITEM | B11: SERVICIO REQUERIDO | C11: UNIDAD DE MEDIDA | D11: VALOR PROPUESTA, IVA INCLUIDO | E11: VALOR TECHO
B12: SISTEMA MOTOR
A13: 1 | B13: SIPS KIT DE REPARACION DE MOTOR; JUEGO PISTONES, JUEGO ANILLOS, JUEGO BULONES Y SEGUROS PISTONES, JUEGO CAMISAS, JUEGO CASQUETES BANCADA, JUEGO CASQUETES BIELA, JUEGO AXIALES, JUEGO BUJES BIELA, JUEGO BUJES LEVA, JUEGO RETENEDORES MOTOR, JUEGO EMPAQUES MOTOR | C13: =IF(COUNTIF(B13,"SIPS*"),"UND ","SERV") -> UND | E13: 61249667
A14: 2 | B14: ANILLADA DE MOTOR INCLUYE SIPS DE CASQUETERIA, SIPS EMPAQUETADURA DE MOTOR | C14: =IF(COUNTIF(B14,"SIPS*"),"UND ","SERV") -> SERV | E14: 9981333.3
A15: 3 | B15: SIPS KIT DE REPARACION CULATA; JUEGO VALVULAS AD, JUEGO VALVULAS EX, JUEGO GUIAS EX, JUEGO GUIAS AD, JUEGO ASIENTOS AD. JUEGO ASIENTOS EX, JUEGO INPULSADORES VALVULAS, JUEGO GORROS VALVULAS | C15: =IF(COUNTIF(B15,"SIPS*"),"UND ","SERV") -> UND | E15: 25598000
A16: 4 | B16: SIPS EMPAQUE DE CULATA | C16: =IF(COUNTIF(B16,"SIPS*"),"UND ","SERV") -> UND | E16: 5002333.3
A17: 5 | B17: SIPS PISTON DE MOTOR | C17: =IF(COUNTIF(B17,"SIPS*"),"UND ","SERV") -> UND | E17: 4541333.3
A18: 6 | B18: SIPS ANILLOS DE PISTON DE MOTOR | C18: =IF(COUNTIF(B18,"SIPS*"),"UND ","SERV") -> UND | E18: 2725000
A19: 7 | B19: SIPS JUEGO DE IMPULSADORES HIDRAULICOS | C19: UND | E19: 3658333.3
A20: 8 | B20: SIPS JUEGO DE IMPULSADORES Y VARILLAS IMPULSORAS | C20: UND | E20: 4065333.3
A21: 9 | B21: SIPS JUEGO DE BALANCINES | C21: =IF(COUNTIF(B21,"SIPS*"),"UND ","SERV") -> UND | E21: 5053666.7
A22: 10 | B22: SIPS POLEA DEL MOTOR | C22: =IF(COUNTIF(B22,"SIPS*"),"UND ","SERV") -> UND | E22: 1749333.3
A23: 11 | B23: SIPS DE CIGÜEÑAL | C23: =IF(COUNTIF(B23,"SIPS*"),"UND ","SERV") -> UND | E23: 15466667
A24: 12 | B24: SIPS DE JUEGO DE CASQUETES DE VIELA Y BANCADA | C24: =IF(COUNTIF(B24,"SIPS*"),"UND ","SERV") -> UND | E24: 11429333
A25: 13 | B25: SIPS TAPON BLOQUE MOTOR | C25: =IF(COUNTIF(B25,"SIPS*"),"UND ","SERV") -> UND | E25: 487333.33
A26: 14 | B26: SIPS EMPAQUE DE CARTER | C26: =IF(COUNTIF(B26,"SIPS*"),"UND ","SERV") -> UND | E26: 1360000
A27: 15 | B27: SIPS VOLANTE DE MOTOR | C27: =IF(COUNTIF(B27,"SIPS*"),"UND ","SERV") -> UND | E27: 7432000
A28: 16 | B28: SIPS RODAMIENTO DEL VOLANTE | C28: =IF(COUNTIF(B28,"SIPS*"),"UND ","SERV") -> UND | E28: 971333.33
A29: 17 | B29: SIPS CREMALLERA DEL VOLANTE | C29: =IF(COUNTIF(B29,"SIPS*"),"UND ","SERV") -> UND | E29: 2528333.3
A30: 18 | B30: SIPS DE CORREA DE ACCESORIOS | C30: =IF(COUNTIF(B30,"SIPS*"),"UND ","SERV") -> UND | E30: 659666.67
A31: 19 | B31: SIPS DAMPER DE MOTOR | C31: =IF(COUNTIF(B31,"SIPS*"),"UND ","SERV") -> UND | E31: 2137666.7
A32: 20 | B32: SIPS TAPON DEL CARTER | C32: =IF(COUNTIF(B32,"SIPS*"),"UND ","SERV") -> UND | E32: 191000
... A45: 33 | B45: SIPS COMPUTADORA Y PROGRAMACION | C45: =IF(COUNTIF(B45,"SIPS*"),"UND ","SERV") -> UND | E45: 37857667
E46: 0
B47: SISTEMA ALIMENTACION AIRE/COMBUSTIBLE | E47: 0
A48: 34 | B48: SIPS DE LA BOMBA DE INYECCION | C48: =IF(COUNTIF(B48,"SIPS*"),"UND ","SERV") -> UND | E48: 27211667
A49: 35 | B49: SIPS KIT REPARACION DE LA BOMBA DE INYECCION | C49: =IF(COUNTIF(B49,"SIPS*"),"UND ","SERV") -> UND | E49: 13604667
A50: 36 | B50: SIPS DE INYECTOR DE COMBUSTIBLE | C50: =IF(COUNTIF(B50,"SIPS*"),"UND ","SERV") -> UND | E50: 11272667
A51: 37 | B51: SIPS KIT REPARCION DE INYECTOR | C51: =IF(COUNTIF(B51,"SIPS*"),"UND ","SERV") -> UND | E51: 4665333.3
A52: 38 | B52: SIPS JUEGO DE TOBERAS INYECTOR | C52: =IF(COUNTIF(B52,"SIPS*"),"UND ","SERV") -> UND | E52: 11662333
A53: 39 | B53: SIPS DE TURBO ALIMENTADOR | C53: =IF(COUNTIF(B53,"SIPS*"),"UND ","SERV") -> UND | E53: 15548333
A54: 40 | B54: SIPS DE KIT DE REPARACION DE TURBO ALIMENTADOR | C54: =IF(COUNTIF(B54,"SIPS*"),"UND ","SERV") -> UND | E54: 7774000
A55: 41 | B55: SIPS EMPAQUTADURA DEL TURBO | C55: =IF(COUNTIF(B55,"SIPS*"),"UND ","SERV") -> UND | E55: 1360000
A56: 42 | B56: SIPS TORNILLO DEL TURBO | C56: =IF(COUNTIF(B56,"SIPS*"),"UND ","SERV") -> UND | E56: 97666.667
A57: 43 | B57: SIPS DE BOMBA DE SUMINISTRO DE COMBUSTBLE ELECTRICA | C57: =IF(COUNTIF(B57,"SIPS*"),"UND ","SERV") -> UND | E57: 5956666.7
A58: 44 | B58: SIPS FLOTADOR Y MECANISMOS DE INDICACION DE NIVEL DE COMBUSTIBLE | C58: =IF(COUNTIF(B58,"SIPS*"),"UND ","SERV") -> UND | E58: 1981333.3
A59: 45 | B59: SIPS TANQUE DE COMBUSTIBLE | C59: =IF(COUNTIF(B59,"SIPS*"),"UND ","SERV") -> UND | E59: 7774000
...

Sheet VOLQUETAS
B7: MUNICIPIO DE EL CARMEN DE VIBORAL
B9: VEHICULO COTIZADO:
A10: VOLQUETA INTERNATIONAL PLACAS: OZM 035, OCF 330, OJZ 230, OJZ 231, OJZ 232
A11: ITEM | B11: SERVICIO REQUERIDO | C11: UNIDAD DE MEDIDA | D11: VALOR PROPUESTA, IVA INCLUIDO | E11: VALOR TECHO
B12: SISTEMA MOTOR
A13: 1 | B13: REPARACION GENERAL DE MOTOR AL OVERSIDE SIGUIENTE O ENCAMISADA SI SE REQUIERE | C13: UND | E13: 28319333
A14: 2 | B14: ANILLADA DE MOTOR INCLUYE SIPS DE CASQUETERIA, SIPS EMPAQUETADURA DE MOTOR | C14: SERV | E14: 10230333
A15: 3 | B15: REPARACION DE CULATA | C15: UND | E15: 8143666.7
A16: 4 | B16: SIPS EMPAQUE DE CULATA | C16: UND | E16: 1489000
A17: 5 | B17: SIPS DE GUIAS DE VÁLVULAS Y VÁLVULAS | C17: UND | E17: 2054666.7
A18: 6 | B18: CALIBRACION DE VALVULAS | C18: UND | E18: 270666.67
A19: 7 | B19: SIPS JUEGO DE IMPULSADORES HIDRAULICOS | C19: UND | E19: 3539333.3
A20: 8 | B20: SIPS JUEGO DE IMPULSADORES Y VARILLAS IMPULSORAS | C20: UND | E20: 3813666.7
A21: 9 | B21: SIPS JUEGO DE BALANCINES | C21: UND | E21: 2300333.3
A22: 10 | B22: RECTIFICACION CIGÜEÑAL INCLUYE SIPS CASQUETERIA | C22: SERV | E22: 1841666.7
A23: 11 | B23: SIPS VOLANTE | C23: UND | E23: 1947666.7
A24: 12 | B24: SIPS RODAMIENTO DEL VOLANTE | C24: UND | E24: 923000
... A47: 35 | B47: SINCRONIZACION DE MOTOR INCLUYE REPUESTOS NECESARIOS PARA UNA OPTIMA SINCRONIZACION | C47: SERV | E47: 423000
E48: 0
B49: SISTEMA ALIMENTACION AIRE/COMBUSTIBLE | E49: 0
A50: 36 | B50: CALIBRACION DE LA BOMBA DE INYECCION E INYECTORES EN BANCO DE PRUEBA | C50: SERV | E50: 7749000
A51: 37 | B51: SIPS GUAYA DE ACELERACION | C51: UND | E51: 923000
A52: 38 | B52: CALIBRACION DE LA BOMBA DE INYECCION | C52: SERV | E52: 5105333.3
A53: 39 | B53: CALIBRACION JUEGO DE INYECTORES | C53: SERV | E53: 2643000
A54: 40 | B54: LAVADA JUEGO DE INYECTORES POR ULTRASONIDO INCLUYE SIPS DE FILTROS DE INYECTORES Y ORINGS | C54: SERV | E54: 1363000
A55: 41 | B55: SIPS DE UN INYECTOR INCLUYE INSTALACION | C55: UND | E55: 1064666.7
A56: 42 | B56: REPARACION DEL TURBO | C56: SERV | E56: 8350666.7
A57: 43 | B57: SIPS PESCADOR TANQUE DE COMBUSTIBLE | C57: =IF(COUNTIF(B57,"SIPS*"),"UND ","SERV") -> UND | E57: 3531333.3
A58: 44 | B58: LIMPIEZA CUERPO DE ACELERACION Y VALVULA IAC | C58: SERV | E58: 780333.33
A59: 45 | B59: SIPS MARIPOSAS DEL CARBURADOR | C59: UND | E59: 979666.67
A60: 46 | B60: SIPS EMPAQUETADURA DE CARBURADOR | C60: UND | E60: 563666.67
A61: 47 | B61: SAMBLASTEO MULTIPLE DE ADMISION | C61: SERV | E61: 497666.67
A62: 48 | B62: LAVADA TANQUE DE COMBUSTIBLE | C62: SERV | E62: 584666.67
A63: 49 | B63: SIPS JUEGO DE FILTROS DE COMBUSTIBLE | C63: UND | E63: 619333.33
A64: 50 | B64: SIPS REGULADOR DE PRESION DE COMBUSTIBLE | C64: UND | E64: 992333.33
A65: 51 | B65: SIPS RIEL DE INYECTORES | C65: UND | E65: 1700000
A66: 52 | B66: SIPS JUEGO DE FILTROS DE AIRE | C66: UND | E66: 298333.33
A67: 53 | B67: SIPS SENSOR MAP | C67: UND | E67: 836000
A68: 54 | B68: SIPS SENSOR MAF | C68: UND | E68: 701333.33
A69: 55 | B69: SIPS SENSOR IAT | C69: UND | E69: 866333.33
...

Sheet FRONTIER
B7: MUNICIPIO DE EL CARMEN DE VIBORAL
B9: VEHICULO COTIZADO:
A10: CAMIONETA NISSAN FRONTIER PLACAS: OCF 334, OJZ 230
A11: ITEM | B11: SERVICIO REQUERIDO | C11: UNIDAD DE MEDIDA | D11: VALOR PROPUESTA, IVA INCLUIDO | E11: VALOR TECHO
B12: SISTEMA MOTOR
A13: 1 | B13: REPARACION GENERAL DE MOTOR AL OVERSIDE SIGUIENTE O ENCAMISADA SI SE REQUIERE | C13: UND | E13: 24518667
A14: 2 | B14: ANILLADA DE MOTOR INCLUYE SIPS DE CASQUETERIA, SIPS EMPAQUETADURA DE MOTOR | C14: SERV | E14: 8857666.7
A15: 3 | B15: REPARACION DE CULATA | C15: UND | E15: 7051666.7
A16: 4 | B16: SIPS EMPAQUE DE CULATA | C16: UND | E16: 1288333.3
A17: 5 | B17: SIPS DE GUIAS DE VÁLVULAS Y VÁLVULAS | C17: UND | E17: 1780000
A18: 6 | B18: CALIBRACION DE VALVULAS | C18: UND | E18: 236333.33
A19: 7 | B19: SIPS JUEGO DE IMPULSADORES HIDRAULICOS | C19: UND | E19: 3065000
A20: 8 | B20: SIPS JUEGO DE IMPULSADORES Y VARILLAS IMPULSORAS | C20: UND | E20: 3301333.3
A21: 9 | B21: SIPS JUEGO DE BALANCINES | C21: UND | E21: 1992000
A22: 10 | B22: RECTIFICACION CIGÜEÑAL INCLUYE SIPS CASQUETERIA | C22: SERV | E22: 1593000
A23: 11 | B23: SIPS VOLANTE | C23: UND | E23: 1685000
A24: 12 | B24: SIPS RODAMIENTO DEL VOLANTE | C24: UND | E24: 799000
... A47: 35 | B47: SINCRONIZACION DE MOTOR INCLUYE REPUESTOS NECESARIOS PARA UNA OPTIMA SINCRONIZACION | C47: SERV | E47: 367666.67
E48: 0
B49: SISTEMA ALIMENTACION AIRE/COMBUSTIBLE | E49: 0
A50: 36 | B50: CALIBRACION DE LA BOMBA DE INYECCION E INYECTORES EN BANCO DE PRUEBA | C50: SERV | E50: 3615333.3
A51: 37 | B51: SIPS GUAYA DE ACELERACION | C51: UND | E51: 799000
A52: 38 | B52: CALIBRACION DE LA BOMBA DE INYECCION | C52: SERV | E52: 2357333.3
A53: 39 | B53: CALIBRACION JUEGO DE INYECTORES | C53: SERV | E53: 1257000
A54: 40 | B54: LAVADA JUEGO DE INYECTORES POR ULTRASONIDO INCLUYE SIPS DE FILTROS DE INYECTORES Y ORINGS | C54: SERV | E54: 1178000
A55: 41 | B55: SIPS DE UN INYECTOR INCLUYE INSTALACION | C55: UND | E55: 922000
A56: 42 | B56: REPARACION DEL TURBO | C56: SERV | E56: 7230333.3
A57: 43 | B57: SIPS PESCADOR TANQUE DE COMBUSTIBLE | C57: =IF(COUNTIF(B57,"SIPS*"),"UND ","SERV") -> UND | E57: 459666.67
A58: 44 | B58: LIMPIEZA CUERPO DE ACELERACION Y VALVULA IAC | C58: SERV | E58: 676333.33
A59: 45 | B59: SIPS MARIPOSAS DEL CARBURADOR | C59: UND | E59: 849666.67
A60: 46 | B60: SIPS EMPAQUETADURA DE CARBURADOR | C60: UND | E60: 487333.33
A61: 47 | B61: SAMBLASTEO MULTIPLE DE ADMISION | C61: SERV | E61: 430666.67
A62: 48 | B62: LAVADA TANQUE DE COMBUSTIBLE | C62: SERV | E62: 506000
A63: 49 | B63: SIPS JUEGO DE FILTROS DE COMBUSTIBLE | C63: UND | E63: 107000
A64: 50 | B64: SIPS REGULADOR DE PRESION DE COMBUSTIBLE | C64: UND | E64: 859000
A65: 51 | B65: SIPS RIEL DE INYECTORES | C65: UND | E65: 1472000
A66: 52 | B66: SIPS JUEGO DE FILTROS DE AIRE | C66: UND | E66: 81000
A67: 53 | B67: SIPS SENSOR MAP | C67: UND | E67: 724333.33
A68: 54 | B68: SIPS SENSOR MAF | C68: UND | E68: 608000
A69: 55 | B69: SIPS SENSOR IAT | C69: UND | E69: 750666.67
...

Sheet COLORADO
B7: MUNICIPIO DE EL CARMEN DE VIBORAL
B9: VEHICULO COTIZADO:
A10: CAMIONETA CHEVROLET COLORADO PLACAS: OJZ 237, KPP 846, LCT 535
A11: ITEM | B11: SERVICIO REQUERIDO | C11: UNIDAD DE MEDIDA | D11: VALOR PROPUESTA, IVA INCLUIDO | E11: VALOR TECHO
B12: SISTEMA MOTOR
A13: 1 | B13: SIPS KIT DE REPARACION DE MOTOR; JUEGO PISTONES, JUEGO ANILLOS, JUEGO BULONES Y SEGUROS PISTONES, JUEGO CAMISAS, JUEGO CASQUETES BANCADA, JUEGO CASQUETES BIELA, JUEGO AXIALES, JUEGO BUJES BIELA, JUEGO BUJES LEVA, JUEGO RETENEDORES MOTOR, JUEGO EMPAQUES MOTOR | C13: =IF(COUNTIF(B13,"SIPS*"),"UND ","SERV") -> UND | E13: 49929667
A14: 2 | B14: ANILLADA DE MOTOR INCLUYE SIPS DE CASQUETERIA, SIPS EMPAQUETADURA DE MOTOR | C14: =IF(COUNTIF(B14,"SIPS*"),"UND ","SERV") -> SERV | E14: 12304000
A15: 3 | B15: SIPS KIT DE REPARACION CULATA; JUEGO VALVULAS AD, JUEGO VALVULAS EX, JUEGO GUIAS EX, JUEGO GUIAS AD, JUEGO ASIENTOS AD. JUEGO ASIENTOS EX, JUEGO INPULSADORES VALVULAS, JUEGO GORROS VALVULAS | C15: =IF(COUNTIF(B15,"SIPS*"),"UND ","SERV") -> UND | E15: 12483333
A16: 4 | B16: SIPS EMPAQUE DE CULATA | C16: =IF(COUNTIF(B16,"SIPS*"),"UND ","SERV") -> UND | E16: 1855333.3
A17: 5 | B17: SIPS DE GUIAS DE VALVULAS Y VALVULAS | C17: =IF(COUNTIF(B17,"SIPS*"),"UND ","SERV") -> UND | E17: 2460333.3
A18: 6 | B18: SIPS JUEGO DE IMPULSADORES HIDRAULICOS | C18: =IF(COUNTIF(B18,"SIPS*"),"UND ","SERV") -> UND | E18: 6418666.7
A19: 7 | B19: SIPS JUEGO DE BALANCINES | C19: =IF(COUNTIF(B19,"SIPS*"),"UND ","SERV") -> UND | E19: 5352000
A20: 8 | B20: RECTIFICACION CIGÜEÑAL INCLUYE SIPS CASQUETERIA | C20: =IF(COUNTIF(B20,"SIPS*"),"UND ","SERV") -> SERV | E20: 5352000
A21: 9 | B21: SIPS VOLANTE | C21: =IF(COUNTIF(B21,"SIPS*"),"UND ","SERV") -> UND | E21: 4991666.7
A22: 10 | B22: SIPS RODAMIENTO DEL VOLANTE | C22: =IF(COUNTIF(B22,"SIPS*"),"UND ","SERV") -> UND | E22: 1997000
A23: 11 | B23: SIPS CREMALLERA DEL VOLANTE | C23: =IF(COUNTIF(B23,"SIPS*"),"UND ","SERV") -> UND | E23: 2853000
A24: 12 | B24: SIPS CORREA REPARTICION | C24: =IF(COUNTIF(B24,"SIPS*"),"UND ","SERV") -> UND | E24: 1855333.3
... A43: 31 | B43: SINCRONIZACION DE MOTOR INCLUYE REPUESTOS NECESARIOS PARA UNA OPTIMA SINCRONIZACION | C43: =IF(COUNTIF(B43,"SIPS*"),"UND ","SERV") -> SERV | E43: 713000
E44: 0
B45: SISTEMA ALIMENTACION AIRE/COMBUSTIBLE | E45: 0
A46: 32 | B46: CALIBRACION DE LA BOMBA DE INYECCION E INYECTORES EN BANCO DE PRUEBA | C46: =IF(COUNTIF(B46,"SIPS*"),"UND ","SERV") -> SERV | E46: 9273666.7
A47: 33 | B47: SIPS GUAYA DE ACELERACION | C47: =IF(COUNTIF(B47,"SIPS*"),"UND ","SERV") -> UND | E47: 890333.33
A48: 34 | B48: CALIBRACION DE LA BOMBA DE INYECCION | C48: =IF(COUNTIF(B48,"SIPS*"),"UND ","SERV") -> SERV | E48: 5705666.7
A49: 35 | B49: CALIBRACION JUEGO DE INYECTORES | C49: =IF(COUNTIF(B49,"SIPS*"),"UND ","SERV") -> SERV | E49: 4280000
A50: 36 | B50: LAVADA JUEGO DE INYECTORES POR ULTRASONIDO INCLUYE SIPS DE FILTROS DE INYECTORES Y ORINGS | C50: =IF(COUNTIF(B50,"SIPS*"),"UND ","SERV") -> SERV | E50: 4638000
A51: 37 | B51: SIPS DE UN INYECTOR INCLUYE INSTALACION | C51: =IF(COUNTIF(B51,"SIPS*"),"UND ","SERV") -> UND | E51: 3496666.7
A52: 38 | B52: REPARACION DEL TURBO | C52: =IF(COUNTIF(B52,"SIPS*"),"UND ","SERV") -> SERV | E52: 3924666.7
A53: 39 | B53: LIMPIEZA CUERPO DE ACELERACION Y VALVULA IAC | C53: =IF(COUNTIF(B53,"SIPS*"),"UND ","SERV") -> SERV | E53: 1604666.7
A54: 40 | B54: SAMBLASTEO MULTIPLE DE ADMISION | C54: =IF(COUNTIF(B54,"SIPS*"),"UND ","SERV") -> SERV | E54: 890333.33
A55: 41 | B55: LAVADA TANQUE DE COMBUSTIBLE | C55: =IF(COUNTIF(B55,"SIPS*"),"UND ","SERV") -> SERV | E55: 713000
A56: 42 | B56: SIPS JUEGO DE FILTROS DE COMBUSTIBLE | C56: =IF(COUNTIF(B56,"SIPS*"),"UND ","SERV") -> UND | E56: 312000
A57: 43 | B57: SIPS REGULADOR DE PRESION DE COMBUSTIBLE | C57: =IF(COUNTIF(B57,"SIPS*"),"UND ","SERV") -> UND | E57: 1427000
... A72: 58 | B72: SIPS TUBO DE ADMISION DEL FILTRO AL CUERPO DE ACELERACION O CARBURADOR | C72: =IF(COUNTIF(B72,"SIPS*"),"UND ","SERV") -> UND | E72: 928333.33
E73: 0
B74: SISTEMA DE ESCAPE | E74: 0
A75: 59 | B75: REPARACION DE SILENCIADOR | C75: =IF(COUNTIF(B75,"SIPS*"),"UND ","SERV") -> SERV | E75: 928333.33
A76: 60 | B76: REPARACION TUBO DE ESCAPE | C76: =IF(COUNTIF(B76,"SIPS*"),"UND ","SERV") -> SERV | E76: 856666.67
A77: 61 | B77: SIPS DE SILINCIADOR | C77: =IF(COUNTIF(B77,"SIPS*"),"UND ","SERV") -> UND | E77: 1925666.7
A78: 62 | B78: SIPS FLEXIBLE DEL ESCAPE | C78: =IF(COUNTIF(B78,"SIPS*"),"UND ","SERV") -> UND | E78: 501000
A79: 63 | B79: SIPS EMPAQUES O ANILLOS MULTIPLE DE ESCAPE | C79: =IF(COUNTIF(B79,"SIPS*"),"UND ","SERV") -> UND | E79: 570333.33
...

Sheet DMAX 
B7: MUNICIPIO DE EL CARMEN DE VIBORAL
B9: VEHICULO COTIZADO:
A10: CAMIONETA CHEVROLET DMAX PLACAS: DIW 955; DDB 096
A11: ITEM | B11: SERVICIO REQUERIDO | C11: UNIDAD DE MEDIDA | D11: VALOR PROPUESTA, IVA INCLUIDO | E11: VALOR TECHO
B12: SISTEMA MOTOR
A13: 1 | B13: SIPS KIT DE REPARACION DE MOTOR; JUEGO PISTONES, JUEGO ANILLOS, JUEGO BULONES Y SEGUROS PISTONES, JUEGO CAMISAS, JUEGO CASQUETES BANCADA, JUEGO CASQUETES BIELA, JUEGO AXIALES, JUEGO BUJES BIELA, JUEGO BUJES LEVA, JUEGO RETENEDORES MOTOR, JUEGO EMPAQUES MOTOR | C13: =IF(COUNTIF(B13,"SIPS*"),"UND ","SERV") -> UND | E13: 48931000
A14: 2 | B14: ANILLADA DE MOTOR INCLUYE SIPS DE CASQUETERIA, SIPS EMPAQUETADURA DE MOTOR | C14: =IF(COUNTIF(B14,"SIPS*"),"UND ","SERV") -> SERV | E14: 12058333
A15: 3 | B15: SIPS KIT DE REPARACION CULATA; JUEGO VALVULAS AD, JUEGO VALVULAS EX, JUEGO GUIAS EX, JUEGO GUIAS AD, JUEGO ASIENTOS AD. JUEGO ASIENTOS EX, JUEGO INPULSADORES VALVULAS, JUEGO GORROS VALVULAS | C15: =IF(COUNTIF(B15,"SIPS*"),"UND ","SERV") -> UND | E15: 12233667
A16: 4 | B16: SIPS EMPAQUE DE CULATA | C16: =IF(COUNTIF(B16,"SIPS*"),"UND ","SERV") -> UND | E16: 1818666.7
A17: 5 | B17: SIPS DE GUIAS DE VALVULAS Y VALVULAS | C17: =IF(COUNTIF(B17,"SIPS*"),"UND ","SERV") -> UND | E17: 2411000
A18: 6 | B18: SIPS JUEGO DE IMPULSADORES HIDRAULICOS | C18: =IF(COUNTIF(B18,"SIPS*"),"UND ","SERV") -> UND | E18: 6290333.3
A19: 7 | B19: SIPS JUEGO DE BALANCINES | C19: =IF(COUNTIF(B19,"SIPS*"),"UND ","SERV") -> UND | E19: 5245000
A20: 8 | B20: RECTIFICACION CIGÜEÑAL INCLUYE SIPS CASQUETERIA | C20: =IF(COUNTIF(B20,"SIPS*"),"UND ","SERV") -> SERV | E20: 5245000
A21: 9 | B21: SIPS VOLANTE | C21: =IF(COUNTIF(B21,"SIPS*"),"UND ","SERV") -> UND | E21: 4892000
A22: 10 | B22: SIPS RODAMIENTO DEL VOLANTE | C22: =IF(COUNTIF(B22,"SIPS*"),"UND ","SERV") -> UND | E22: 1957333.3
A23: 11 | B23: SIPS CREMALLERA DEL VOLANTE | C23: =IF(COUNTIF(B23,"SIPS*"),"UND ","SERV") -> UND | E23: 2796333.3
A24: 12 | B24: SIPS CORREA REPARTICION | C24: =IF(COUNTIF(B24,"SIPS*"),"UND ","SERV") -> UND | E24: 1818666.7
... A43: 31 | B43: SINCRONIZACION DE MOTOR INCLUYE REPUESTOS NECESARIOS PARA UNA OPTIMA SINCRONIZACION | C43: =IF(COUNTIF(B43,"SIPS*"),"UND ","SERV") -> SERV | E43: 698333.33
E44: 0
B45: SISTEMA ALIMENTACION AIRE/COMBUSTIBLE | E45: 0
A46: 32 | B46: CALIBRACION DE LA BOMBA DE INYECCION E INYECTORES EN BANCO DE PRUEBA | C46: =IF(COUNTIF(B46,"SIPS*"),"UND ","SERV") -> SERV | E46: 9087666.7
A47: 33 | B47: SIPS GUAYA DE ACELERACION | C47: =IF(COUNTIF(B47,"SIPS*"),"UND ","SERV") -> UND | E47: 872666.67
A48: 34 | B48: CALIBRACION DE LA BOMBA DE INYECCION | C48: =IF(COUNTIF(B48,"SIPS*"),"UND ","SERV") -> SERV | E48: 5591333.3
A49: 35 | B49: CALIBRACION JUEGO DE INYECTORES | C49: =IF(COUNTIF(B49,"SIPS*"),"UND ","SERV") -> SERV | E49: 4193666.7
A50: 36 | B50: LAVADA JUEGO DE INYECTORES POR ULTRASONIDO INCLUYE SIPS DE FILTROS DE INYECTORES Y ORINGS | C50: =IF(COUNTIF(B50,"SIPS*"),"UND ","SERV") -> SERV | E50: 4545666.7
A51: 37 | B51: SIPS DE UN INYECTOR INCLUYE INSTALACION | C51: =IF(COUNTIF(B51,"SIPS*"),"UND ","SERV") -> UND | E51: 3426333.3
A52: 38 | B52: REPARACION DEL TURBO | C52: =IF(COUNTIF(B52,"SIPS*"),"UND ","SERV") -> SERV | E52: 3846333.3
A53: 39 | B53: LIMPIEZA CUERPO DE ACELERACION Y VALVULA IAC | C53: =IF(COUNTIF(B53,"SIPS*"),"UND ","SERV") -> SERV | E53: 1572000
A54: 40 | B54: SAMBLASTEO MULTIPLE DE ADMISION | C54: =IF(COUNTIF(B54,"SIPS*"),"UND ","SERV") -> SERV | E54: 872666.67
A55: 41 | B55: LAVADA TANQUE DE COMBUSTIBLE | C55: =IF(COUNTIF(B55,"SIPS*"),"UND ","SERV") -> SERV | E55: 698333.33
A56: 42 | B56: SIPS JUEGO DE FILTROS DE COMBUSTIBLE | C56: =IF(COUNTIF(B56,"SIPS*"),"UND ","SERV") -> UND | E56: 305333.33
A57: 43 | B57: SIPS REGULADOR DE PRESION DE COMBUSTIBLE | C57: =IF(COUNTIF(B57,"SIPS*"),"UND ","SERV") -> UND | E57: 1398666.7
... A72: 58 | B72: SIPS TUBO DE ADMISION DEL FILTRO AL CUERPO DE ACELERACION O CARBURADOR | C72: =IF(COUNTIF(B72,"SIPS*"),"UND ","SERV") -> UND | E72: 909333.33
E73: 0
B74: SISTEMA DE ESCAPE | E74: 0
A75: 59 | B75: REPARACION DE SILENCIADOR | C75: =IF(COUNTIF(B75,"SIPS*"),"UND ","SERV") -> SERV | E75: 909333.33
A76: 60 | B76: REPARACION TUBO DE ESCAPE | C76: =IF(COUNTIF(B76,"SIPS*"),"UND ","SERV") -> SERV | E76: 840000
A77: 61 | B77: SIPS DE SILINCIADOR | C77: =IF(COUNTIF(B77,"SIPS*"),"UND ","SERV") -> UND | E77: 1887000
A78: 62 | B78: SIPS FLEXIBLE DEL ESCAPE | C78: =IF(COUNTIF(B78,"SIPS*"),"UND ","SERV") -> UND | E78: 490333.33
A79: 63 | B79: SIPS EMPAQUES O ANILLOS MULTIPLE DE ESCAPE | C79: =IF(COUNTIF(B79,"SIPS*"),"UND ","SERV") -> UND | E79: 558666.67
...

Sheet DODGE
B7: MUNICIPIO DE EL CARMEN DE VIBORAL
B9: VEHICULO COTIZADO:
A10: CAMIONETA DODGE RAM 2500 PLACA: GAT 042
A11: ITEM | B11: SERVICIO REQUERIDO | C11: UNIDAD DE MEDIDA | D11: VALOR PROPUESTA, IVA INCLUIDO | E11: VALOR TECHO
B12: SISTEMA MOTOR
A13: 1 | B13: SIPS KIT DE REPARACION DE MOTOR; JUEGO PISTONES, JUEGO ANILLOS, JUEGO BULONES Y SEGUROS PISTONES, JUEGO CAMISAS, JUEGO CASQUETES BANCADA, JUEGO CASQUETES BIELA, JUEGO AXIALES, JUEGO BUJES BIELA, JUEGO BUJES LEVA, JUEGO RETENEDORES MOTOR, JUEGO EMPAQUES MOTOR | C13: =IF(COUNTIF(B13,"SIPS*"),"UND ","SERV") -> UND | E13: 50429667
A14: 2 | B14: ANILLADA DE MOTOR INCLUYE SIPS DE CASQUETERIA, SIPS EMPAQUETADURA DE MOTOR | C14: =IF(COUNTIF(B14,"SIPS*"),"UND ","SERV") -> SERV | E14: 12426667
A15: 3 | B15: SIPS KIT DE REPARACION CULATA; JUEGO VALVULAS AD, JUEGO VALVULAS EX, JUEGO GUIAS EX, JUEGO GUIAS AD, JUEGO ASIENTOS AD. JUEGO ASIENTOS EX, JUEGO INPULSADORES VALVULAS, JUEGO GORROS VALVULAS | C15: =IF(COUNTIF(B15,"SIPS*"),"UND ","SERV") -> UND | E15: 12608333
A16: 4 | B16: SIPS EMPAQUE DE CULATA | C16: =IF(COUNTIF(B16,"SIPS*"),"UND ","SERV") -> UND | E16: 1874333.3
A17: 5 | B17: SIPS DE GUIAS DE VALVULAS Y VALVULAS | C17: =IF(COUNTIF(B17,"SIPS*"),"UND ","SERV") -> UND | E17: 2484333.3
A18: 6 | B18: SIPS JUEGO DE IMPULSADORES HIDRAULICOS | C18: =IF(COUNTIF(B18,"SIPS*"),"UND ","SERV") -> UND | E18: 6482666.7
A19: 7 | B19: SIPS JUEGO DE BALANCINES | C19: =IF(COUNTIF(B19,"SIPS*"),"UND ","SERV") -> UND | E19: 5405333.3
A20: 8 | B20: RECTIFICACION CIGÜEÑAL INCLUYE SIPS CASQUETERIA | C20: =IF(COUNTIF(B20,"SIPS*"),"UND ","SERV") -> SERV | E20: 5405333.3
A21: 9 | B21: SIPS VOLANTE | C21: =IF(COUNTIF(B21,"SIPS*"),"UND ","SERV") -> UND | E21: 5042000
A22: 10 | B22: SIPS RODAMIENTO DEL VOLANTE | C22: =IF(COUNTIF(B22,"SIPS*"),"UND ","SERV") -> UND | E22: 2017000
A23: 11 | B23: SIPS CREMALLERA DEL VOLANTE | C23: =IF(COUNTIF(B23,"SIPS*"),"UND ","SERV") -> UND | E23: 2881333.3
A24: 12 | B24: SIPS CORREA REPARTICION | C24: =IF(COUNTIF(B24,"SIPS*"),"UND ","SERV") -> UND | E24: 1874333.3
... A43: 31 | B43: SINCRONIZACION DE MOTOR INCLUYE REPUESTOS NECESARIOS PARA UNA OPTIMA SINCRONIZACION | C43: =IF(COUNTIF(B43,"SIPS*"),"UND ","SERV") -> SERV | E43: 720333.33
E44: 0
B45: SISTEMA ALIMENTACION AIRE/COMBUSTIBLE | E45: 0
A46: 32 | B46: CALIBRACION DE LA BOMBA DE INYECCION E INYECTORES EN BANCO DE PRUEBA | C46: =IF(COUNTIF(B46,"SIPS*"),"UND ","SERV") -> SERV | E46: 9366000
A47: 33 | B47: SIPS GUAYA DE ACELERACION | C47: =IF(COUNTIF(B47,"SIPS*"),"UND ","SERV") -> UND | E47: 898666.67
A48: 34 | B48: CALIBRACION DE LA BOMBA DE INYECCION | C48: =IF(COUNTIF(B48,"SIPS*"),"UND ","SERV") -> SERV | E48: 5762333.3
A49: 35 | B49: CALIBRACION JUEGO DE INYECTORES | C49: =IF(COUNTIF(B49,"SIPS*"),"UND ","SERV") -> SERV | E49: 4323000
A50: 36 | B50: LAVADA JUEGO DE INYECTORES POR ULTRASONIDO INCLUYE SIPS DE FILTROS DE INYECTORES Y ORINGS | C50: =IF(COUNTIF(B50,"SIPS*"),"UND ","SERV") -> SERV | E50: 4684000
A51: 37 | B51: SIPS DE UN INYECTOR INCLUYE INSTALACION | C51: =IF(COUNTIF(B51,"SIPS*"),"UND ","SERV") -> UND | E51: 3531333.3
A52: 38 | B52: REPARACION DEL TURBO | C52: =IF(COUNTIF(B52,"SIPS*"),"UND ","SERV") -> SERV | E52: 3964000
A53: 39 | B53: LIMPIEZA CUERPO DE ACELERACION Y VALVULA IAC | C53: =IF(COUNTIF(B53,"SIPS*"),"UND ","SERV") -> SERV | E53: 1620333.3
A54: 40 | B54: SAMBLASTEO MULTIPLE DE ADMISION | C54: =IF(COUNTIF(B54,"SIPS*"),"UND ","SERV") -> SERV | E54: 898666.67
A55: 41 | B55: LAVADA TANQUE DE COMBUSTIBLE | C55: =IF(COUNTIF(B55,"SIPS*"),"UND ","SERV") -> SERV | E55: 720333.33
A56: 42 | B56: SIPS JUEGO DE FILTROS DE COMBUSTIBLE | C56: =IF(COUNTIF(B56,"SIPS*"),"UND ","SERV") -> UND | E56: 315000
A57: 43 | B57: SIPS REGULADOR DE PRESION DE COMBUSTIBLE | C57: =IF(COUNTIF(B57,"SIPS*"),"UND ","SERV") -> UND | E57: 1441666.7
... A72: 58 | B72: SIPS TUBO DE ADMISION DEL FILTRO AL CUERPO DE ACELERACION O CARBURADOR | C72: =IF(COUNTIF(B72,"SIPS*"),"UND ","SERV") -> UND | E72: 937666.67
E73: 0
B74: SISTEMA DE ESCAPE | E74: 0
A75: 59 | B75: REPARACION DE SILENCIADOR | C75: =IF(COUNTIF(B75,"SIPS*"),"UND ","SERV") -> SERV | E75: 937666.67
A76: 60 | B76: REPARACION TUBO DE ESCAPE | C76: =IF(COUNTIF(B76,"SIPS*"),"UND ","SERV") -> SERV | E76: 865000
A77: 61 | B77: SIPS DE SILINCIADOR | C77: =IF(COUNTIF(B77,"SIPS*"),"UND ","SERV") -> UND | E77: 1944666.7
A78: 62 | B78: SIPS FLEXIBLE DEL ESCAPE | C78: =IF(COUNTIF(B78,"SIPS*"),"UND ","SERV") -> UND | E78: 506000
A79: 63 | B79: SIPS EMPAQUES O ANILLOS MULTIPLE DE ESCAPE | C79: =IF(COUNTIF(B79,"SIPS*"),"UND ","SERV") -> UND | E79: 575333.33
...

Sheet DUSTER
B7: MUNICIPIO DE EL CARMEN DE VIBORAL
B9: VEHICULO COTIZADO:
A10: CAMIONETA RENAUL DUSTER OROCH PLACA: OLN 835
A11: ITEM | B11: SERVICIO REQUERIDO | C11: UNIDAD DE MEDIDA | D11: VALOR PROPUESTA, IVA INCLUIDO | E11: VALOR TECHO
B12: SISTEMA MOTOR
A13: 1 | B13: REPARACION GENERAL DE MOTOR AL OVERSIDE SIGUIENTE O ENCAMISADA SI SE REQUIERE | C13: UND | E13: 21844000
A14: 2 | B14: ANILLADA DE MOTOR INCLUYE SIPS DE CASQUETERIA, SIPS EMPAQUETADURA DE MOTOR | C14: SERV | E14: 7890666.7
A15: 3 | B15: REPARACION DE CULATA | C15: UND | E15: 6282000
A16: 4 | B16: SIPS EMPAQUE DE CULATA | C16: UND | E16: 1148666.7
A17: 5 | B17: SIPS DE GUIAS DE VÁLVULAS Y VÁLVULAS | C17: UND | E17: 1584666.7
A18: 6 | B18: CALIBRACION DE VALVULAS | C18: UND | E18: 210000
A19: 7 | B19: SIPS JUEGO DE IMPULSADORES HIDRAULICOS | C19: UND | E19: 2730000
A20: 8 | B20: SIPS JUEGO DE IMPULSADORES Y VARILLAS IMPULSORAS | C20: UND | E20: 2941000
A21: 9 | B21: SIPS JUEGO DE BALANCINES | C21: UND | E21: 1774333.3
A22: 10 | B22: RECTIFICACION CIGÜEÑAL INCLUYE SIPS CASQUETERIA | C22: SERV | E22: 1419666.7
A23: 11 | B23: SIPS VOLANTE | C23: UND | E23: 1503666.7
A24: 12 | B24: SIPS RODAMIENTO DEL VOLANTE | C24: UND | E24: 712000
... A47: 35 | B47: SINCRONIZACION DE MOTOR INCLUYE REPUESTOS NECESARIOS PARA UNA OPTIMA SINCRONIZACION | C47: SERV | E47: 327666.67
E48: 0
B49: SISTEMA ALIMENTACION AIRE/COMBUSTIBLE | E49: 0
A50: 36 | B50: CALIBRACION DE LA BOMBA DE INYECCION E INYECTORES EN BANCO DE PRUEBA | C50: SERV | E50: 3220333.3
A51: 37 | B51: SIPS GUAYA DE ACELERACION | C51: UND | E51: 712000
A52: 38 | B52: CALIBRACION DE LA BOMBA DE INYECCION | C52: SERV | E52: 2100000
A53: 39 | B53: CALIBRACION JUEGO DE INYECTORES | C53: SERV | E53: 1120333.3
A54: 40 | B54: LAVADA JUEGO DE INYECTORES POR ULTRASONIDO INCLUYE SIPS DE FILTROS DE INYECTORES Y ORINGS | C54: SERV | E54: 1051000
A55: 41 | B55: SIPS DE UN INYECTOR INCLUYE INSTALACION | C55: UND | E55: 820000
A56: 42 | B56: REPARACION DEL TURBO | C56: SERV | E56: 6441666.7
A57: 43 | B57: SIPS PESCADOR TANQUE DE COMBUSTIBLE | C57: =IF(COUNTIF(B57,"SIPS*"),"UND ","SERV") -> UND | E57: 312000
A58: 44 | B58: LIMPIEZA CUERPO DE ACELERACION Y VALVULA IAC | C58: SERV | E58: 601666.67
A59: 45 | B59: SIPS MARIPOSAS DEL CARBURADOR | C59: UND | E59: 756000
A60: 46 | B60: SIPS EMPAQUETADURA DE CARBURADOR | C60: UND | E60: 434666.67
A61: 47 | B61: SAMBLASTEO MULTIPLE DE ADMISION | C61: SERV | E61: 384333.33
A62: 48 | B62: LAVADA TANQUE DE COMBUSTIBLE | C62: SERV | E62: 450666.67
A63: 49 | B63: SIPS JUEGO DE FILTROS DE COMBUSTIBLE | C63: UND | E63: 95333.333
A64: 50 | B64: SIPS REGULADOR DE PRESION DE COMBUSTIBLE | C64: UND | E64: 763333.33
A65: 51 | B65: SIPS RIEL DE INYECTORES | C65: UND | E65: 1311333.3
A66: 52 | B66: SIPS JUEGO DE FILTROS DE AIRE | C66: UND | E66: 113333.33
A67: 53 | B67: SIPS SENSOR MAP | C67: UND | E67: 644666.67
A68: 54 | B68: SIPS SENSOR MAF | C68: UND | E68: 540666.67
A69: 55 | B69: SIPS SENSOR IAT | C69: UND | E69: 669666.67
...

Sheet SAIL
B7: MUNICIPIO DE EL CARMEN DE VIBORAL
B9: VEHICULO COTIZADO:
A10: CAMIONETA CHEVROLET SAIL PLACA: FDV 085
A11: ITEM | B11: SERVICIO REQUERIDO | C11: UNIDAD DE MEDIDA | D11: VALOR PROPUESTA, IVA INCLUIDO | E11: VALOR TECHO
B12: SISTEMA MOTOR
A13: 1 | B13: REPARACION GENERAL DE MOTOR AL OVERSIDE SIGUIENTE O ENCAMISADA SI SE REQUIERE | C13: UND | E13: 21621667
A14: 2 | B14: ANILLADA DE MOTOR INCLUYE SIPS DE CASQUETERIA, SIPS EMPAQUETADURA DE MOTOR | C14: SERV | E14: 7809666.7
A15: 3 | B15: REPARACION DE CULATA | C15: UND | E15: 6218000
A16: 4 | B16: SIPS EMPAQUE DE CULATA | C16: UND | E16: 1137000
A17: 5 | B17: SIPS DE GUIAS DE VÁLVULAS Y VÁLVULAS | C17: UND | E17: 1568666.7
A18: 6 | B18: CALIBRACION DE VALVULAS | C18: UND | E18: 208000
A19: 7 | B19: SIPS JUEGO DE IMPULSADORES HIDRAULICOS | C19: UND | E19: 2701666.7
A20: 8 | B20: SIPS JUEGO DE IMPULSADORES Y VARILLAS IMPULSORAS | C20: UND | E20: 2910333.3
A21: 9 | B21: SIPS JUEGO DE BALANCINES | C21: UND | E21: 1755333.3
A22: 10 | B22: RECTIFICACION CIGÜEÑAL INCLUYE SIPS CASQUETERIA | C22: SERV | E22: 1406000
A23: 11 | B23: SIPS VOLANTE | C23: UND | E23: 1488000
A24: 12 | B24: SIPS RODAMIENTO DEL VOLANTE | C24: UND | E24: 704333.33
... A47: 35 | B47: SINCRONIZACION DE MOTOR INCLUYE REPUESTOS NECESARIOS PARA UNA OPTIMA SINCRONIZACION | C47: SERV | E47: 323333.33
E48: 0
B49: SISTEMA ALIMENTACION AIRE/COMBUSTIBLE | E49: 0
A50: 36 | B50: CALIBRACION DE LA BOMBA DE INYECCION E INYECTORES EN BANCO DE PRUEBA | C50: SERV | E50: 3187666.7
A51: 37 | B51: SIPS GUAYA DE ACELERACION | C51: UND | E51: 704333.33
A52: 38 | B52: CALIBRACION DE LA BOMBA DE INYECCION | C52: SERV | E52: 2079000
A53: 39 | B53: CALIBRACION JUEGO DE INYECTORES | C53: SERV | E53: 1108666.7
A54: 40 | B54: LAVADA JUEGO DE INYECTORES POR ULTRASONIDO INCLUYE SIPS DE FILTROS DE INYECTORES Y ORINGS | C54: SERV | E54: 1039333.3
A55: 41 | B55: SIPS DE UN INYECTOR INCLUYE INSTALACION | C55: UND | E55: 811666.67
A56: 42 | B56: REPARACION DEL TURBO | C56: SERV | E56: 6375333.3
A57: 43 | B57: SIPS PESCADOR TANQUE DE COMBUSTIBLE | C57: =IF(COUNTIF(B57,"SIPS*"),"UND ","SERV") -> UND | E57: 308666.67
A58: 44 | B58: LIMPIEZA CUERPO DE ACELERACION Y VALVULA IAC | C58: SERV | E58: 595333.33
A59: 45 | B59: SIPS MARIPOSAS DEL CARBURADOR | C59: UND | E59: 748666.67
A60: 46 | B60: SIPS EMPAQUETADURA DE CARBURADOR | C60: UND | E60: 429666.67
A61: 47 | B61: SAMBLASTEO MULTIPLE DE ADMISION | C61: SERV | E61: 380333.33
A62: 48 | B62: LAVADA TANQUE DE COMBUSTIBLE | C62: SERV | E62: 446333.33
A63: 49 | B63: SIPS JUEGO DE FILTROS DE COMBUSTIBLE | C63: UND | E63: 94333.333
A64: 50 | B64: SIPS REGULADOR DE PRESION DE COMBUSTIBLE | C64: UND | E64: 756000
A65: 51 | B65: SIPS RIEL DE INYECTORES | C65: UND | E65: 1297666.7
A66: 52 | B66: SIPS JUEGO DE FILTROS DE AIRE | C66: UND | E66: 112333.33
A67: 53 | B67: SIPS SENSOR MAP | C67: UND | E67: 638333.33
A68: 54 | B68: SIPS SENSOR MAF | C68: UND | E68: 534666.67
A69: 55 | B69: SIPS SENSOR IAT | C69: UND | E69: 662666.67
...

Sheet 4RUNNER
B7: MUNICIPIO DE EL CARMEN DE VIBORAL
B9: VEHICULO COTIZADO:
A10: CAMIONETA TOYOTA 4 RUNNER PLACA: OJZ 234
A11: ITEM | B11: SERVICIO REQUERIDO | C11: UNIDAD DE MEDIDA | D11: VALOR PROPUESTA, IVA INCLUIDO | E11: VALOR TECHO
B12: SISTEMA MOTOR
A13: 1 | B13: REPARACION GENERAL DE MOTOR AL OVERSIDE SIGUIENTE O ENCAMISADA SI SE REQUIERE | C13: UND | E13: 22290667
A14: 2 | B14: ANILLADA DE MOTOR INCLUYE SIPS DE CASQUETERIA, SIPS EMPAQUETADURA DE MOTOR | C14: SERV | E14: 8051333.3
A15: 3 | B15: REPARACION DE CULATA | C15: UND | E15: 6410000
A16: 4 | B16: SIPS EMPAQUE DE CULATA | C16: UND | E16: 1171666.7
A17: 5 | B17: SIPS DE GUIAS DE VÁLVULAS Y VÁLVULAS | C17: UND | E17: 1617000
A18: 6 | B18: CALIBRACION DE VALVULAS | C18: UND | E18: 214000
A19: 7 | B19: SIPS JUEGO DE IMPULSADORES HIDRAULICOS | C19: UND | E19: 2785666.7
A20: 8 | B20: SIPS JUEGO DE IMPULSADORES Y VARILLAS IMPULSORAS | C20: UND | E20: 3000666.7
A21: 9 | B21: SIPS JUEGO DE BALANCINES | C21: UND | E21: 1810000
A22: 10 | B22: RECTIFICACION CIGÜEÑAL INCLUYE SIPS CASQUETERIA | C22: SERV | E22: 1449000
A23: 11 | B23: SIPS VOLANTE | C23: UND | E23: 1534000
A24: 12 | B24: SIPS RODAMIENTO DEL VOLANTE | C24: UND | E24: 726666.67
... A47: 35 | B47: SINCRONIZACION DE MOTOR INCLUYE REPUESTOS NECESARIOS PARA UNA OPTIMA SINCRONIZACION | C47: SERV | E47: 334000
E48: 0
B49: SISTEMA ALIMENTACION AIRE/COMBUSTIBLE | E49: 0
A50: 36 | B50: CALIBRACION DE LA BOMBA DE INYECCION E INYECTORES EN BANCO DE PRUEBA | C50: SERV | E50: 3286666.7
A51: 37 | B51: SIPS GUAYA DE ACELERACION | C51: UND | E51: 726666.67
A52: 38 | B52: CALIBRACION DE LA BOMBA DE INYECCION | C52: SERV | E52: 2143000
A53: 39 | B53: CALIBRACION JUEGO DE INYECTORES | C53: SERV | E53: 1143333.3
A54: 40 | B54: LAVADA JUEGO DE INYECTORES POR ULTRASONIDO INCLUYE SIPS DE FILTROS DE INYECTORES Y ORINGS | C54: SERV | E54: 1072000
A55: 41 | B55: SIPS DE UN INYECTOR INCLUYE INSTALACION | C55: UND | E55: 837000
A56: 42 | B56: REPARACION DEL TURBO | C56: SERV | E56: 6573000
A57: 43 | B57: SIPS PESCADOR TANQUE DE COMBUSTIBLE | C57: =IF(COUNTIF(B57,"SIPS*"),"UND ","SERV") -> UND | E57: 318000
A58: 44 | B58: LIMPIEZA CUERPO DE ACELERACION Y VALVULA IAC | C58: SERV | E58: 614333.33
A59: 45 | B59: SIPS MARIPOSAS DEL CARBURADOR | C59: UND | E59: 771666.67
A60: 46 | B60: SIPS EMPAQUETADURA DE CARBURADOR | C60: UND | E60: 443000
A61: 47 | B61: SAMBLASTEO MULTIPLE DE ADMISION | C61: SERV | E61: 391666.67
A62: 48 | B62: LAVADA TANQUE DE COMBUSTIBLE | C62: SERV | E62: 459666.67
A63: 49 | B63: SIPS JUEGO DE FILTROS DE COMBUSTIBLE | C63: UND | E63: 97666.667
A64: 50 | B64: SIPS REGULADOR DE PRESION DE COMBUSTIBLE | C64: UND | E64: 779333.33
A65: 51 | B65: SIPS RIEL DE INYECTORES | C65: UND | E65: 1337666.7
A66: 52 | B66: SIPS JUEGO DE FILTROS DE AIRE | C66: UND | E66: 115666.67
A67: 53 | B67: SIPS SENSOR MAP | C67: UND | E67: 658333.33
A68: 54 | B68: SIPS SENSOR MAF | C68: UND | E68: 551333.33
A69: 55 | B69: SIPS SENSOR IAT | C69: UND | E69: 683666.67
...

Sheet TRAFIC
B7: MUNICIPIO DE EL CARMEN DE VIBORAL
B9: VEHICULO COTIZADO:
A10: CAMIONETA RENAULT TRAFIC 2.0 PLACA: OCI 941
A11: ITEM | B11: SERVICIO REQUERIDO | C11: UNIDAD DE MEDIDA | D11: VALOR PROPUESTA, IVA INCLUIDO | E11: VALOR TECHO
B12: SISTEMA MOTOR
A13: 1 | B13: REPARACION GENERAL DE MOTOR AL OVERSIDE SIGUIENTE O ENCAMISADA SI SE REQUIERE | C13: UND | E13: 24518667
A14: 2 | B14: ANILLADA DE MOTOR INCLUYE SIPS DE CASQUETERIA, SIPS EMPAQUETADURA DE MOTOR | C14: SERV | E14: 8857666.7
A15: 3 | B15: REPARACION DE CULATA | C15: UND | E15: 7051666.7
A16: 4 | B16: SIPS EMPAQUE DE CULATA | C16: UND | E16: 1288333.3
A17: 5 | B17: SIPS DE GUIAS DE VÁLVULAS Y VÁLVULAS | C17: UND | E17: 1780000
A18: 6 | B18: CALIBRACION DE VALVULAS | C18: UND | E18: 236333.33
A19: 7 | B19: SIPS JUEGO DE IMPULSADORES HIDRAULICOS | C19: UND | E19: 3065000
A20: 8 | B20: SIPS JUEGO DE IMPULSADORES Y VARILLAS IMPULSORAS | C20: UND | E20: 3301333.3
A21: 9 | B21: SIPS JUEGO DE BALANCINES | C21: UND | E21: 1992000
A22: 10 | B22: RECTIFICACION CIGÜEÑAL INCLUYE SIPS CASQUETERIA | C22: SERV | E22: 1593000
A23: 11 | B23: SIPS VOLANTE | C23: UND | E23: 1685000
A24: 12 | B24: SIPS RODAMIENTO DEL VOLANTE | C24: UND | E24: 799000
... A46: 34 | B46: SCANEO | C46: SERV | E46: 185000
E47: 0
B48: SISTEMA ALIMENTACION AIRE/COMBUSTIBLE | E48: 0
A49: 35 | B49: CALIBRACION DE LA BOMBA DE INYECCION E INYECTORES EN BANCO DE PRUEBA | C49: SERV | E49: 3615333.3
A50: 36 | B50: SIPS GUAYA DE ACELERACION | C50: UND | E50: 799000
A51: 37 | B51: CALIBRACION DE LA BOMBA DE INYECCION | C51: SERV | E51: 2357333.3
A52: 38 | B52: CALIBRACION JUEGO DE INYECTORES | C52: SERV | E52: 1257000
A53: 39 | B53: LAVADA JUEGO DE INYECTORES POR ULTRASONIDO INCLUYE SIPS DE FILTROS DE INYECTORES Y ORINGS | C53: SERV | E53: 1178000
A54: 40 | B54: SIPS DE UN INYECTOR INCLUYE INSTALACION | C54: UND | E54: 922000
A55: 41 | B55: REPARACION DEL TURBO | C55: SERV | E55: 7230333.3
A56: 42 | B56: SIPS PESCADOR TANQUE DE COMBUSTIBLE | C56: =IF(COUNTIF(B56,"SIPS*"),"UND ","SERV") -> UND | E56: 257333.33
A57: 43 | B57: LIMPIEZA CUERPO DE ACELERACION Y VALVULA IAC | C57: SERV | E57: 676333.33
A58: 44 | B58: SIPS MARIPOSAS DEL CARBURADOR | C58: UND | E58: 849666.67
A59: 45 | B59: SIPS EMPAQUETADURA DE CARBURADOR | C59: UND | E59: 487333.33
A60: 46 | B60: SAMBLASTEO MULTIPLE DE ADMISION | C60: SERV | E60: 430666.67
A61: 47 | B61: LAVADA TANQUE DE COMBUSTIBLE | C61: SERV | E61: 506000
A62: 48 | B62: SIPS JUEGO DE FILTROS DE COMBUSTIBLE | C62: UND | E62: 107000
A63: 49 | B63: SIPS REGULADOR DE PRESION DE COMBUSTIBLE | C63: UND | E63: 859000
A64: 50 | B64: SIPS RIEL DE INYECTORES | C64: UND | E64: 1472000
A65: 51 | B65: SIPS JUEGO DE FILTROS DE AIRE | C65: UND | E65: 81000
A66: 52 | B66: SIPS SENSOR MAP | C66: UND | E66: 724333.33
A67: 53 | B67: SIPS SENSOR MAF | C67: UND | E67: 608000
A68: 54 | B68: SIPS SENSOR IAT | C68: UND | E68: 750666.67
...

Sheet NPR
B7: MUNICIPIO DE EL CARMEN DE VIBORAL
B9: VEHICULO COTIZADO:
A10: CAMIÓN GRÚA CHEVROLET NPR PLACA: OJZ 228
A11: ITEM | B11: SERVICIO REQUERIDO | C11: UNIDAD DE MEDIDA | D11: VALOR PROPUESTA, IVA INCLUIDO | E11: VALOR TECHO
B12: SISTEMA MOTOR
A13: 1 | B13: SIPS KIT DE REPARACION DE MOTOR; JUEGO PISTONES, JUEGO ANILLOS, JUEGO BULONES Y SEGUROS PISTONES, JUEGO CAMISAS, JUEGO CASQUETES BANCADA, JUEGO CASQUETES BIELA, JUEGO AXIALES, JUEGO BUJES BIELA, JUEGO BUJES LEVA, JUEGO RETENEDORES MOTOR, JUEGO EMPAQUES MOTOR | C13: =IF(COUNTIF(B13,"SIPS*"),"UND ","SERV") -> UND | E13: 26115500
A14: 2 | B14: ANILLADA DE MOTOR INCLUYE SIPS DE CASQUETERIA, SIPS EMPAQUETADURA DE MOTOR | C14: =IF(COUNTIF(B14,"SIPS*"),"UND ","SERV") -> SERV | E14: 12303867
A15: 3 | B15: SIPS KIT DE REPARACION CULATA; JUEGO VALVULAS AD, JUEGO VALVULAS EX, JUEGO GUIAS EX, JUEGO GUIAS AD, JUEGO ASIENTOS AD. JUEGO ASIENTOS EX, JUEGO INPULSADORES VALVULAS, JUEGO GORROS VALVULAS | C15: =IF(COUNTIF(B15,"SIPS*"),"UND ","SERV") -> UND | E15: 12483333
A16: 4 | B16: SIPS EMPAQUE DE CULATA | C16: =IF(COUNTIF(B16,"SIPS*"),"UND ","SERV") -> UND | E16: 1855333.3
A17: 5 | B17: SIPS DE GUIAS DE VALVULAS Y VALVULAS | C17: =IF(COUNTIF(B17,"SIPS*"),"UND ","SERV") -> UND | E17: 2460300
A18: 6 | B18: SIPS JUEGO DE IMPULSADORES HIDRAULICOS | C18: =IF(COUNTIF(B18,"SIPS*"),"UND ","SERV") -> UND | E18: 6418733.3
A19: 7 | B19: SIPS JUEGO DE BALANCINES | C19: =IF(COUNTIF(B19,"SIPS*"),"UND ","SERV") -> UND | E19: 5351900
A20: 8 | B20: RECTIFICACION CIGÜEÑAL INCLUYE SIPS CASQUETERIA | C20: =IF(COUNTIF(B20,"SIPS*"),"UND ","SERV") -> SERV | E20: 5351900
A21: 9 | B21: SIPS VOLANTE | C21: =IF(COUNTIF(B21,"SIPS*"),"UND ","SERV") -> UND | E21: 4991633.3
A22: 10 | B22: SIPS RODAMIENTO DEL VOLANTE | C22: =IF(COUNTIF(B22,"SIPS*"),"UND ","SERV") -> UND | E22: 1997066.7
A23: 11 | B23: SIPS CREMALLERA DEL VOLANTE | C23: =IF(COUNTIF(B23,"SIPS*"),"UND ","SERV") -> UND | E23: 2852833.3
A24: 12 | B24: SIPS CORREA REPARTICION | C24: =IF(COUNTIF(B24,"SIPS*"),"UND ","SERV") -> UND | E24: 1855333.3
... A43: 31 | B43: SINCRONIZACION DE MOTOR INCLUYE REPUESTOS NECESARIOS PARA UNA OPTIMA SINCRONIZACION | C43: =IF(COUNTIF(B43,"SIPS*"),"UND ","SERV") -> SERV | E43: 713033.33
E44: 0
B45: SISTEMA ALIMENTACION AIRE/COMBUSTIBLE | E45: 0
A46: 32 | B46: CALIBRACION DE LA BOMBA DE INYECCION E INYECTORES EN BANCO DE PRUEBA | C46: =IF(COUNTIF(B46,"SIPS*"),"UND ","SERV") -> SERV | E46: 9273633.3
A47: 33 | B47: SIPS GUAYA DE ACELERACION | C47: =IF(COUNTIF(B47,"SIPS*"),"UND ","SERV") -> UND | E47: 890433.33
A48: 34 | B48: CALIBRACION DE LA BOMBA DE INYECCION | C48: =IF(COUNTIF(B48,"SIPS*"),"UND ","SERV") -> SERV | E48: 5705700
A49: 35 | B49: CALIBRACION JUEGO DE INYECTORES | C49: =IF(COUNTIF(B49,"SIPS*"),"UND ","SERV") -> SERV | E49: 4279933.3
A50: 36 | B50: LAVADA JUEGO DE INYECTORES POR ULTRASONIDO INCLUYE SIPS DE FILTROS DE INYECTORES Y ORINGS | C50: =IF(COUNTIF(B50,"SIPS*"),"UND ","SERV") -> SERV | E50: 4637833.3
A51: 37 | B51: SIPS DE UN INYECTOR INCLUYE INSTALACION | C51: =IF(COUNTIF(B51,"SIPS*"),"UND ","SERV") -> UND | E51: 3496566.7
A52: 38 | B52: REPARACION DEL TURBO | C52: =IF(COUNTIF(B52,"SIPS*"),"UND ","SERV") -> SERV | E52: 3924800
A53: 39 | B53: SIPS PESCADOR TANQUE DE COMBUSTIBLE | C53: =IF(COUNTIF(B53,"SIPS*"),"UND ","SERV") -> UND | E53: 422066.67
A54: 40 | B54: LIMPIEZA CUERPO DE ACELERACION Y VALVULA IAC | C54: =IF(COUNTIF(B54,"SIPS*"),"UND ","SERV") -> SERV | E54: 1604500
A55: 41 | B55: SAMBLASTEO MULTIPLE DE ADMISION | C55: =IF(COUNTIF(B55,"SIPS*"),"UND ","SERV") -> SERV | E55: 890433.33
A56: 42 | B56: LAVADA TANQUE DE COMBUSTIBLE | C56: =IF(COUNTIF(B56,"SIPS*"),"UND ","SERV") -> SERV | E56: 713033.33
A57: 43 | B57: SIPS JUEGO DE FILTROS DE COMBUSTIBLE | C57: =IF(COUNTIF(B57,"SIPS*"),"UND ","SERV") -> UND | E57: 162666.67
... A73: 59 | B73: SIPS TUBO DE ADMISION DEL FILTRO AL CUERPO DE ACELERACION O CARBURADOR | C73: =IF(COUNTIF(B73,"SIPS*"),"UND ","SERV") -> UND | E73: 928200
E74: 0
B75: SISTEMA DE ESCAPE | E75: 0
A76: 60 | B76: REPARACION DE SILENCIADOR | C76: =IF(COUNTIF(B76,"SIPS*"),"UND ","SERV") -> SERV | E76: 928200
A77: 61 | B77: REPARACION TUBO DE ESCAPE | C77: =IF(COUNTIF(B77,"SIPS*"),"UND ","SERV") -> SERV | E77: 856800
A78: 62 | B78: SIPS DE SILINCIADOR | C78: =IF(COUNTIF(B78,"SIPS*"),"UND ","SERV") -> UND | E78: 1925700
A79: 63 | B79: SIPS FLEXIBLE DEL ESCAPE | C79: =IF(COUNTIF(B79,"SIPS*"),"UND ","SERV") -> UND | E79: 500966.67
A80: 64 | B80: SIPS EMPAQUES O ANILLOS MULTIPLE DE ESCAPE | C80: =IF(COUNTIF(B80,"SIPS*"),"UND ","SERV") -> UND | E80: 570300
...

Sheet CARGUERO
B7: MUNICIPIO DE EL CARMEN DE VIBORAL
B9: MOTOCICLETAS COTIZADAS:
A10: MOTOCARGUERO AKT200 PLACAS: 506ADH, 511ADH, 512ADH
A11: ITEM | B11: DESCRIPCION | C11: UNIDAD DE MEDIDA | D11: VALOR PROPUESTA, IVA INCLUIDO | E11: VALOR TECHO
B12: SISTEMA MOTOR
A13: 1 | B13: SIPS KIT REPARACION GENERAL DE MOTOR ; PISTON, ANILLOS, CAMISA, VIELA, SIGUEÑAL Y EMPAQUETADURA | C13: UND | E13: 5658333.3
A14: 2 | B14: SIPS CULATA | C14: UND | E14: 1507666.7
A15: 3 | B15: SIPS EMPAQUE DE CULATA | C15: UND | E15: 272000
A16: 4 | B16: SIPS JUEGO PISTON DE MOTOR | C16: UND | E16: 1320666.7
A17: 5 | B17: SIPS JUEGO DE ANILLOS DE MOTOR | C17: UND | E17: 906333.33
A18: 6 | B18: SIPS VIELA DE MOTOR | C18: UND | E18: 1131000
A19: 7 | B19: SIPS SIGUEÑAL DE MOTOR | C19: UND | E19: 1698000
A20: 8 | B20: SIPS RODAMIENTOS SIGUEÑAL DE MOTOR | C20: UND | E20: 924000
A21: 9 | B21: SIPS EMPAQUETADURA DE MOTOR | C21: UND | E21: 471333.33
A22: 10 | B22: SIPS CILINDRO MOTOR | C22: UND | E22: 1887000
A23: 11 | B23: SIPS CADENA REPARTICION | C23: UND | E23: 1320666.7
A24: 12 | B24: SIPS TENSOR CADENA REPARTICION | C24: UND | E24: 1131000
... A35: 23 | B35: SINCRONIZACION DE MOTOR INCLUYE REPUESTOS NECESARIOS PARA UNA OPTIMA SINCRONIZACION | C35: SERV | E35: 340000
E36: 0
B37: SISTEMA ALIMENTACION AIRE/COMBUSTIBLE | E37: 0
A38: 24 | B38: SERVICIO LIMPIEZA CUERPO ACELERACION | C38: SERV | E38: 172333.33
A39: 25 | B39: SIPS CUERPO DE ACELERACION | C39: UND | E39: 755000
A40: 26 | B40: SIPS DE GUAYA DE ACELERADOR | C40: UND | E40: 377000
A41: 27 | B41: SIPS TANQUE DE COMBUSTIBLE | C41: UND | E41: 1698000
A42: 28 | B42: SIPS TAPA DE TANQUE DE COMBUSTIBLE | C42: UND | E42: 566000
A43: 29 | B43: SIPS LLAVE DE TANQUE DE COMBUSTIBLE | C43: UND | E43: 471333.33
A44: 30 | B44: SIPS EMPAQUE LLAVE DE TANQUE DE COMBUSTIBLE | C44: UND | E44: 151333.33
A45: 31 | B45: SIPS TORNILLOS LLAVE DE TANQUE DE COMBUSTIBLE | C45: UND | E45: 131333.33
A46: 32 | B46: SIPS REGULADOR DE PRESION DE COMBUSTIBLE | C46: UND | E46: 471333.33
A47: 33 | B47: SIPS FLOTADOR Y MECANISMOS DE INDICACION DE NIVEL DE COMBUSTIBLE | C47: UND | E47: 659666.67
A48: 34 | B48: SIPS MANGUERA DE COMBUSTIBLE | C48: UND | E48: 93333.333
A49: 35 | B49: SIPS DE UNA MANGUERA DE VACIO | C49: UND | E49: 85000
... A59: 45 | B59: SIPS TORQUE | C59: UND | E59: 377000
E60: 0
B61: SISTEMA DE ESCAPE | E61: 0
A62: 46 | B62: ARREGLO DE SILENCIADOR | C62: UND | E62: 447333.33
A63: 47 | B63: ARREGLO TUBO DE ESCAPE | C63: UND | E63: 223666.67
A64: 48 | B64: SIPS EMPAQUES O ANILLOS MULTIPLE DE ESCAPE | C64: UND | E64: 185000
