Workbook
Name \a: #REF!
Name \b: #REF!
Name \b: #REF!
Name \b: #REF!
Name \b: #REF!
Name \b: #REF!
Name \eliminar: #REF!
Name \eliminar1: #REF!
Name \i: #REF!
Name \i: #REF!
Name \i: #REF!
Name \i: #REF!
Name \i: #REF!
Name \m: #REF!
Name \m: #REF!
Name \m: #REF!
Name \m: #REF!
Name \m: #REF!
Name \q: #REF!
Name \r: #REF!
Name \r: #REF!
Name \r: #REF!
Name \r: #REF!
Name \r: #REF!
Name \t: #REF!
Name \t: #REF!
Name \t: #REF!
Name \t: #REF!
Name \t: #REF!
Name \x: #REF!
Name \x: #REF!
Name \x: #REF!
Name \x: #REF!
Name \x: #REF!
Name \z: #REF!
Name \z: #REF!
Name \z: #REF!
Name \z: #REF!
Name \z: #REF!
Name _______________EST1: #REF!
Name _______________EST10: #REF!
Name _______________EST11: #REF!
Name _______________EST12: #REF!
Name _______________EST13: #REF!
Name _______________EST14: #REF!
Name _______________EST15: #REF!
Name _______________EST16: #REF!
Name _______________EST17: #REF!
Name _______________EST18: #REF!
Name _______________EST19: #REF!
Name _______________EST2: #REF!
Name _______________EST3: #REF!
Name _______________EST4: #REF!
Name _______________EST5: #REF!
Name _______________EST6: #REF!
Name _______________EST7: #REF!
Name _______________EST8: #REF!
Name _______________EST9: #REF!
Name _______________EXC1: #REF!
Name _______________EXC10: #REF!

Sheet SMMLV
A3: Año | B3: Salario Mínimo | C3: Variación vs año anterior | D3: Antigüedad
A4: 1980 | B4: 4500 | C4: 0
A5: 1981 | B5: 5700 | C5: 26.67%
A6: 1982 | B6: 7410 | C6: 30.00%
A7: 1983 | B7: 9261 | C7: 24.98%
A8: 1984 | B8: 11298 | C8: 22.00%
A9: 1985 | B9: 13558 | C9: 20.00%
A10: 1986 | B10: 16811 | C10: 23.99%
A11: 1987 | B11: 20510 | C11: 22.00%
A12: 1988 | B12: 25637 | C12: 25.00%
A13: 1989 | B13: 32556 | C13: 26.99%
A14: 1990 | B14: 41025 | C14: 26.01%
A15: 1991 | B15: 51720 | C15: 26.07%
A16: 1992 | B16: 65190 | C16: 26.04%
... A39: 2015 | B39: 644350 | C39: 4.60%
A40: 2016 | B40: 689454 | C40: 7.00% | D40: 10
A41: 2017 | B41: 737717 | C41: 7.00% | D41: 9
A42: 2018 | B42: 781242 | C42: 5.90% | D42: 8
A43: 2019 | B43: 828116 | C43: 6.00% | D43: 7
A44: 2020 | B44: 877803 | C44: 6.00% | D44: 6
A45: 2021 | B45: 908526 | C45: 3.50% | D45: 5
A46: 2022 | B46: 1000000 | C46: 10.07% | D46: 4
A47: 2023 | B47: 1160000 | C47: 16.00% | D47: 3
A48: 2024 | B48: 1300000 | C48: 12.07% | D48: 2
A49: 2025 | B49: 1423500 | C49: 9.50% | D49: 1
A50: 2026 | B50: 1746882

Sheet CRITERIOS HABILITANTES (S)
C1: PROCESO DE CONTRATACIÓN No. INFI-SCM-01-2026
C2: REALIZACIÓN DE LA CONSULTORÍA DE ESTUDIOS Y DISEÑOS TÉCNICOS, A NIVEL DE FASE 3 PARA EL NUEVO EDIFICIO MULTIPLE DE LA PLAZA DE MERCADO DE MANIZALES, A CONSTRUIRSE EN UN LOTE UBICADO ENTRE CALLES 23 Y 24 Y ENTRE CARRERAS 14 Y 15 DE PROPIEDAD DE INFIMANIZALES
C3: REVISIÓN DE LOS CRITERIOS DE EXPERIENCOA HABILITANTES (FORMATOS 3 A DE LAS PROPUESTAS)
B5: REQUISITOS TÉCNICOS HABILITANTES | E5: PROPONENTE 1 : CONSORCIO GALERIA | H5: PROPONENTE 2: CONSORCIO AR+AL2 | K5: PROPONENTE 3: MC ARQUITECTOS SA | N5: PROPONENTE 4: CONSORCIO ARQUITECTURA Y ESPACIO PÚBLICO | Q5: PROPONENTE 5: MAURICIO OTERO LAVADO | T5: PROPONENTE 6: GRUPO M&M CONSULTORIA SAS | W5: PROPONENTE 7: CONSORCIO MANIZALES PLAZA DE MERCADO
E6: INTEGRANTES | F6: JORGE EDIUARDO ALVAREZ GALLEGO 50% JC ECHEVERRY INGENIERA SAS 50% | H6: INTEGRANTES | I6: ALCUADRADO ARQUITECTOS SAS 50% MARTINEZ ARQUITECTURA SAS 50% | K6: INTEGRANTES | L6: MARIO ANDRES CABRERA PINZON 100 % | N6: INTEGRANTES | O6: CARLOS PUERTA AGUDELO 50% VERONICA ORTIZ MURCIA 50% | Q6: INTEGRANTES | R6: MAURICIO OTERO LAVADO 100% | T6: INTEGRANTES | U6: JOHN ALEJANDRO RICO VARGAS 49 % KARENA MEDINA PALLAN 51 % | X6: JUAN PABLO FRANCO TORO 34 % DAVID VALLEJO OSORIO 33 % JUAN CARLOS RODRIGUEZ IZQUIERDO 33 %
E7: VALORACIÓN | F7: OBSERVACIÓN | H7: VALORACIÓN | I7: OBSERVACIÓN | K7: VALORACIÓN | L7: OBSERVACIÓN | N7: VALORACIÓN | O7: OBSERVACIÓN | Q7: VALORACIÓN | R7: OBSERVACIÓN | T7: VALORACIÓN | U7: OBSERVACIÓN | W7: VALORACIÓN | X7: OBSERVACIÓN
B9: Contrato No. 1 | C9: No. Contrato | E9: CM 001-2023 | H9: 3114 | K9: FGN-NC-0243-2020 | N9: 237-2009 | Q9: FUV.PSP.1995.0764-2021 | T9: 2018-9254 | W9: 2111261086
C10: Objeto Contrato | E10: ESTUDIOS Y DISEÑOS PARA LA CONSTRUCCION DE UNA PISCINA SEMIOLIMPLICA CON SUS AREAS COMPLEMENTARIAS | H10: ELABORACION DE ESTUDIOS Y DISEÑOS REQUERIDOS PARA LA OBTENCION DE LICENCIAS DE CONSTRUCCION EN CUALQUIERA DE SUS MODALIDADES Y/O LICENCIAS DE URBANISMO, JUNTO CON LOS PERMISOS Y APROBACIONES NECESARIOS PARA LA CONSTRUCCION DE UN COLEGIO NUEVO EN EL PREDIO DENOMINADO CARDENAL LUQUE LOCALIDAD ENGATIVA DEL DISTRITO CAPITAL | K10: Consultoría para los estudios y diseños Trámite y obtención de licencia de construcción para la sede única de la Fiscalía General de la nación en la ciudad de Popayán Cauca | N10: Elaboración y desarrollo de los diseños arquitectónicos urbanísticos y detalles constructivos completos del proyecto parque biblioteca parque para la cultura y la vida 12 de octubre y la realización de los estudios y diseños técnicos completos para la construcción del parque biblioteca | Q10: Estudios y diseños en el desarrollo de los proyectos de la fundación universidad de el marco administrativo número 1995 de 2020 para realizar los estudios técnicos de las deportivas y panamericanos Miguel Grajales, Piscinas Hernando Botero, O¨ Byrne, Coliseo de Voleibol Francisco Chois, Canchas Voleyplaya, Coliseo Evangelista Mora, Bolera mundialista, Coliseo El Pueblo, Patinódromo Mundialista , Velódromo Alcides Nieto Patiño, Skate Park Cálida, Skateboarding y diseño urbanístico de espacios públicos sobre la calle novena de la unidad deportivo Jaime Aparicio | T10: Realizar la consultoría para la elaboración De los estudios, diseños obtención de permisos y aprobaciones y licencias de construcción del Centro de Desarrollo Comunitario CDC María Goretti BARIOS UNIDOS EN LA CIUDAD DE BOGOTA | W10: RFEALIZAR ESTUDIOS DE VULNERABILIDAD SISMICA, DISEÑO DE REFORZAMIENTO ESTRUCTURAL Y COMPLEMENTARIOS PARA LOS BLOQUES D Y E DE LA INSTITUCION EDUCATIVA INEM BALDOMERO SANIN CANO PROPIEDAD DEL MUNICIPIO DE MANIZALES
C11: Entidad Contratante | E11: ALCALDÍA DE RIOSUCIO | H11: ALCALDIA MAYOR DE BOGOTA | K11: Fiscalía General de la nación | N11: EDU | Q11: FUNDACION UNIVERSIDAD DEL VALLE | T11: SECRETARIA DE INTEGRACION SOCIAL - ALCALDIA MAYOR DE BOGOTA | W11: MUNICIPIO DE MANIZALES
C12: Contratista | E12: JORGE EDUARDO ALVAREZ GALLEGO | H12: MARTINEZ ARQUITECTURA SAS | K12: MC arquitectos SA | N12: VERONICA ORTIZ MURCIA | Q12: MAURICIO OTERO LAVADO | T12: GRUPO M&M CONSULTORIA SAS | W12: CONSORCIO INEM (20% JUAN PABLO FRANCO)
C13: Año de Terminación | E13: 2023 | H13: 2024 | K13: 2021 | N13: 2012 | O13: Contrato con mas de 10 años de ejecutado | Q13: 2022 | T13: 2019 | W13: 2022
C14: Valor Contrato (Pesos) | E14: 187801000 | F14: Valor según certificación | H14: 1215093739 | K14: 682577574 | N14: 684504575 | Q14: 192800000 | T14: 594740342 | W14: 280258078
C15: Valor Contrato (SMMLV) | E15: =+ROUND(E14/SMMLV!B47,2) -> 161.9 | F15: Se calcula a partir de SMMLV del año 2023 | H15: =+ROUND(H14/SMMLV!B46,2) -> 1215.09 | I15: EN EL RUP MUESTRA 1,215,09 CALCULADO EN PESOS DEL 2022 | K15: =+ROUND(K14/SMMLV!B45,2) -> 751.3 | L15: CALCULADO A PESOS DEL 2021 | N15: =+ROUND(N14/SMMLV!B36,2) -> 1207.88 | O15: CALCULADO CON SMLV DE 2017 DIFIERE DEL DATO DEL RUP QUE ES 373,33 | Q15: =+Q14/SMMLV!B45 -> 212.21187 | R15: CALCULADO CON SMMLV DE 2021 | T15: =+T14/SMMLV!B43 -> 718.18482 | U15: CALCULADO SON SMMLV DE 2019 | W15: =+W14/SMMLV!B46 -> 280.25808
C16: % Participación Proponente | E16: 1 | H16: 1 | K16: 1 | N16: 1 | Q16: 1 | T16: 1 | W16: 0.2
C17: Área total de diseño (m2) | F17: NO APARECE AREA PARA VERIFICAR NI EN EL FORMATO 3A, NI EN LA CERTICACION NI EN EL RUP | H17: 7600 | I17: NI EN LA CERTIFICACION NI EN EL RUP APARECE AREA DE DISEÑO. - SE MUETSRA UN VALOR DE 7,600 M2 EN FORMATO 3A | K17: 9478.36 | L17: AREA CUBIERTA TOMADA DEL CERTIFICADO | N17: 3980.22 | O17: TOMADA DEL CERTIFICADO | Q17: =9063.8-3293-2093+15915-15360+2906-50-58.7-75-50-114-267-459+2166.2-1658.29-77.63 -> 6495.38 | R17: NO APARECE AREA DETALLADA EN CERTIFICACION EN DOCUMENTO DE SUBSANACION DE MARZO 6, APORTA INF COMPELEMNTARIA QUE PERMITA VERIFICAR AREAS DISEÑADA POR SER DISPENDIOSA LA VERIFICACION, SOLO SE HACE EL EJERCICIO ARCIALMENTE EN LAS HOJAS 8 A 11 DE LA CERTIFICACION APORTADA CON EL SUBSANE | T17: 7453.68 | W17: =1597.55+5309.68 -> 6907.23
C18: Elaboración de consultoría y/o estudios y diseños de infraestructura de edificaciones de uso institucional o comercial o lugares de reunión/ | E18: NO | F18: SE REPORTA EN LA CERTIFICACION COMO "ESTUDIOS Y DISEÑOS PARA LA CONSTRUCCION DE UNA PISCINA SEMIOLIMPLICA CON SUS AREAS COMPLEMENTARIAS" QUE NO PERMITEN VERIFICAR QUE SEA UNA EDIFICACION NI QUE INCLUYE COMO OBRAS COMPLEMENTARIAS | H18: SI | K18: SI | N18: NO | Q18: SI | T18: SI | W18: SI
C19: Consultoría incluye diseño arquitectónico y estructural. | E19: NO | F19: NO ES VERIFICABLE EN LA CERTIFICACION | H19: SI | K19: SI | N19: NO | Q19: SI | T19: SI | W19: SI
C20: Contrato Reportado en el RUP | E20: SI | F20: ANOTACION 164 - PAGINA 295 | H20: SI | I20: ANOTACION 10 - PAGINA 7 DE MARTINEZ ARQUITECTURA SAS | K20: SI | L20: NO SE ADJUNTA RUP Y NO SE PUEDE HACER VALIDACIONES ANTOTACION 69 RUP PAGINA 83 SE SUBSANA EN MARZO 5 | N20: NO | O20: ANOTACION 6 - PAGINA 56 | Q20: SI | R20: ANOTACION 53 PAGINA 19 | T20: SI | U20: ANOTACION 7 PAGINA 38 | W20: SI | X20: ANOTACION 19 PAGINA 65
C21: Registro RUP con código UNSPSC (80101600, 81101500, 81101600, 81101700) | E21: SI | F21: Código UNSPSC: 81101500 Y 81101700 | H21: SI | I21: Código UNSPSC: 80101600 y 81101500 | K21: SI | L21: (80101600, 81101500, 81101600, 81101700) | N21: NO | O21: código UNSPSC (80101600, 81101500, 81101600, 81101700) | Q21: SI | R21: Código UNSPSC 80101600, 81101500 | T21: SI | U21: código UNSPSC (80101600, 81101500, 81101600, 81101700) | W21: SI | X21: (80101600, 81101500, 81101600, 81101700)
C22: Certificación emitida por una persona autorizada de la entidad contratante | E22: SI | F22: SECRETARIO DE PLANEACION Y OBRAS PUBLICAS DE RIOSUCIO | H22: SI | I22: SECRETARIA DE EDUCACION - ALCALDIA MAYOR DE BOGOTA DC | K22: SI | L22: FISCALIA GENERAL DE LA NACION | N22: NO | O22: GERNETE AUXILIAR DE PROYECTOS URBANOS EDU | Q22: SI | R22: DIRECTOR EJECUTIVO FUNDACION UNIVERSIDAD DEL VALLE | T22: SI | U22: SECRETARIA GENERAL INTEGRACION SOCIAL | W22: SI | X22: SECRETARIA DE OBRAS PUBLICAS
C23: La Certificación cumple con los requisitos previstos en el pliego | E23: NO | F23: No Cumple con todos los requisitos | H23: SI | K23: SI | L23: CUMPLE CON LOS REQUISITOS | N23: NO | Q23: SI | T23: SI | W23: SI
C24: La experiencia y soportes presentados se consideran validos | E24: NO | F24: La certificación no cumple con todos los requerimientos | H24: SI | K24: SI | L24: NO CUMPLE CON TODOS LOS REQUISITOS | N24: NO | Q24: SI | T24: SI | W24: SI
B26: Contrato No. 2 | C26: No. Contrato | E26: 03062020-0623 | H26: 3115 | K26: 2018-8300 | N26: FNTC-044-2017 | Q26: 050,050,3,021,012,931,2024 | W26: 17-05-03-03-29
C27: Objeto Contrato | E27: ELABORAR ESTUDIOS Y DISEÑOS PARA EL MEJORAMIENYO, REMODELACION Y CONSTUCCION DE LOS ESCENARIOS DEPORTIVOS REQUERIDOS PARA LA REALIZACION DE LOS JUEGOS DEPORTIVOS NACIONALES 2023 EN EL MUNICIPIO DE MANIZALES | H27: Elaboración de estudios y diseño requeridos para la obtención de licencias de construcción en cualquiera de sus modalidades Y/O licencias de urbanismo junto con los permisos y aprobaciones necesarios para la construcción del colegio nuevo en diferentes localidades del distrito capital | K27: Realizar la consultoría para la elaboración de los estudios diseños obtención de permisos aprobación y licencias de construcción Y/O urbanismo de un centro de desarrollo comunitario en la ciudad de Bogotá distrito capital | N27: Realizar los estudios y diseño del centro de interpretación reserva de la Biosfera SEA flowers San Andrés | Q27: Realizar los estudios técnicos fase 3 correspondientes a la segunda fase del proyecto de restauración integral de la Casa Soto de la Universidad del Valle en el municipio de Guadalajara de BUGA | T27: Realizar los estudios técnicos trámites y obtención de licencias de construcción de 6 oficinas de registro de instrumentos públicos | W27: ELABORAR LOS ESTUDIOS Y DISEÑOS PARA LA CONSTRUCCION DE LA ESTACION DE POLICIA EN LA COMUNA CIUDADELA DEL NORTE DEL MUNICIPIO DE MANIZALES
C28: Entidad Contratante | E28: DEPARTAMENTO DE CALDAS | H28: Alcaldía mayor de Bogotá Secretaría de Educación del distrito | K28: Secretaria Distrital de integración social | N28: FONTUR | Q28: UNIVERSIDAD DEL VALLE | T28: SUOERINTENDENCIA DE NOTARIADO Y REGISTRO | W28: ALCALDIA DE MANIZALES
C29: Contratista | E29: JORGE EDUARDO ALVAREZ GALLEGO | H29: Martínez arquitectura SAS | K29: MC ARQUITECTOS SA | N29: VERONICA ORTIZ MURCIA | Q29: MAURICIO OTERO LAVADO | T29: GRUPO M&M CONSULTORIA SAS | W29: DAVID VALLEJO OSORIO
C30: Año de Terminación | E30: 2020 | H30: 2022 | K30: 2019 | N30: 2017 | Q30: 2021 | T30: 2020 | W30: 2018
C31: Valor Contrato (Pesos) | E31: 255834012 | H31: 897890581 | K31: 866309945 | N31: 339182267 | Q31: 232075000 | T31: 841394000 | W31: 193220300
C32: Valor Contrato (SMMLV) | E32: =+ROUND(E31/SMMLV!B44,2) -> 291.45 | F32: Se calcula a partir de SMMLV del año 2020 | H32: =+ROUND(H31/SMMLV!B46,2) -> 897.89 | K32: =+ROUND(K31/SMMLV!B43,2) -> 1046.12 | L32: CALCULADO PARA 2019 | N32: =+ROUND(N31/SMMLV!B41,2) -> 459.77 | O32: CALCULADO CON SMLV DE 2012 | Q32: =+Q31/SMMLV!B45 -> 255.44123 | R32: CALCULADO CON SMMLV DE 2021 DIFIERE DEL VALOR DEL RUP DE 178,51 | T32: =+T31/SMMLV!B44 -> 958.52258 | U32: CALCULADO CON SMMLV DE 2020 | W32: =+W31/SMMLV!B41 -> 261.91656 | X32: CALCULADO CON SMMLV DE 2017
C33: % Participación Proponente | E33: 1 | H33: 1 | K33: 1 | N33: 1 | Q33: 1 | T33: 1 | W33: 1
C34: Área total de diseño (m2) | F34: NO SE PUEDE VERIFICAR AREA | H34: 6043.57 | I34: TOMADA DEL CERTIFICADO | K34: 9399.12 | L34: TOMADA DEL CERTIFICADO | N34: 9550 | O34: TOMADA DEL CERTIFICADO | Q34: 2691.12 | R34: TOMADA DE LA CERTIFICACION APORTADA | T34: 3080.5 | W34: 1165.98
C35: Elaboración de consultoría y/o estudios y diseños de infraestructura de edificaciones de uso institucional o comercial o lugares de reunión/ | E35: SI | H35: SI | K35: SI | N35: SI | Q35: SI | T35: SI | W35: SI
C36: Consultoría incluye diseño arquitectónico y estructural. | E36: SI | H36: SI | K36: SI | N36: SI | Q36: SI | T36: SI | W36: SI
C37: Contrato Reportado en el RUP | E37: SI | F37: ANOTACION 141 PAGINA 250 | H37: SI | I37: ANOTACION 8 PAGINA 7 | K37: SI | L37: NO SE ADJUNTA RUP Y NO SE PUEDE HACER VALIDACIONES SESUBSANO EN MARZO 5 ANOTACION 59 PAGINA 65 | N37: SI | O37: ANOTACION 35 - PAGINA 81 | Q37: SI | R37: ANOTACION 78 PAGINA 29 | T37: SI | U37: ANOTACION 17 PAGINA 52 | W37: SI | X37: ANOTACION 20 PAGINA 38
C38: Registro RUP con código UNSPSC (80101600, 81101500, 81101600, 81101700) | E38: SI | F38: Código UNSPSC: 81101500 Y 81101700 | H38: SI | I38: Código UNSPSC: 80101600 Y 81101500 | K38: SI | L38: (80101600, 81101500, 81101600, 81101700) | N38: SI | O38: código UNSPSC (80101600, 81101500, 81101600, 81101700) | Q38: SI | R38: Código UNSPSC 80101600, 81101500, 81101700 | T38: SI | U38: código UNSPSC (80101600, 81101500, 81101600, 81101700) | W38: NO | X38: Codigo UNSPSC (80101600, 81101600, 81101700)
C39: Certificación emitida por una persona autorizada de la entidad contratante | E39: SI | F39: CERIFICACION SECOP II 03062020-0623 | H39: SI | I39: SECRETARIA DE EDUCACION - ALCALDIA MAYOR DE BOGOTA DC | K39: SI | L39: SECRETARIA DISTRITAL DE INTEGRACION SOCIAL - ALCALDIA MAYOR DE BOGOTA | N39: SI | O39: REPRESENTANTE LEGAL FONTUR | Q39: SI | R39: UNIVERSIDAD DEL VALLE | T39: SI | U39: SUPERINTENDENCIA DE NOTARIADO Y REGISTRO - DIRECTORA DE CONTRATACION | W39: SI | X39: ALCALDIA DE MANIZALES - SECRETARIA DE OBRAS PUBLICAS
C40: La Certificación cumple con los requisitos previstos en el pliego | E40: NO | H40: SI | K40: SI | L40: CUMPLE CON LOS REQUISITOS | N40: SI | Q40: SI | T40: SI | W40: SI
C41: La experiencia y soportes presentados se consideran validos | E41: NO | H41: SI | K41: SI | L41: NO CUMPLE CON TODOS LOS REQUISITOS | N41: SI | Q41: SI | T41: SI | W41: SI
B43: Contrato No. 3 | C43: No. Contrato | E43: NO RELACIONA | N43: 548-2013 | Q43: 002-2017 | W43: 051-2021
C44: Objeto Contrato | E44: DISEÑO Y CONSTRUCCION DE REDES ELECTRICAS DE BAJA TENSION, TELECOMUNICACIONES Y SISTEMAS AFINES PARA LA PLANTA DE PRODUCCION FASE II Y FASE III Y EDIFICIO ADMINISTRATIVO HADA INTERNACIONAL | H44: REALIZAR LOS DISEÑOS URBANISTICOS, PAISAJISTICOS Y ARQUITECTÓNICOS DEL PROYECTO PARQUE PACÍFICO DEL DISTRITO ESPECIAL DE SANTIAGO DE CALI. | N44: Elaboración de los diseños arquitectónicos de estudios técnicos topografía suelos estructurales eléctricos comunicaciones hidráulicos hidrosanitarios paisajismo asesoría bioclimática presupuesto y especificaciones y detalles construidos completos para la construcción del proyecto de bloque administrativo y de laboratorios con un area es de 9320 m2 | Q44: Diagnóstico y estudios para la elaboración del plan de ordenamiento físico de la Ciudad de la Universitaria, estudios y diseños técnicos para una nueva construcción de un bloque de aulas en la Ciudad de la Universitaria y estudios y diseños adecuación, modernización de la sede centro ubicada en los predios de la carrera 26#30-58 , 26#30-40 Y CALLE 31#25-43 DEL MUNICIPIO DE TULUA | T44: Servicio de consultoría para realizar el diagnóstico estudios y diseños fase 3 Para la construcción de las obras que brindarán ampliación de la capacidad operativa De las aulas de las facultades de Ciencias contables Económicas y administrativas Ingeniería civil y ingeniería electrónica y telecomunicaciones De la Universidad del Cauca ubicada en la carrera 2 con calle 15 del municipio de Popayán - CAUCA | W44: ESTUDIOS Y DISEÑOS DELCENTRO DE SERVICIOS Y COMERCIO SENA - PROYECTO PLEC, LOGISTICA Y TRANSPORTE, EN CUMPLIOMIENTO D ELOS CONVENIOS INTERADMINISTRATIVOS 1092 Y 1204 DE 2021 SUSCRITOS CON LA SECDRETARIA DE DESARROLLO ECONOMICO Y COMPETITIVIDAD DEL DEPARTAMENTO DE RISARALDA
...

Sheet Hoja1

Sheet EXPERIENCIA ADICIONAL (S)
C1: PROCESO DE CONTRATACIÓN No. INFI-SCM-01-2026
C2: REALIZACIÓN DE LA CONSULTORÍA DE ESTUDIOS Y DISEÑOS TÉCNICOS, A NIVEL DE FASE 3 PARA EL NUEVO EDIFICIO MULTIPLE DE LA PLAZA DE MERCADO DE MANIZALES, A CONSTRUIRSE EN UN LOTE UBICADO ENTRE CALLES 23 Y 24 Y ENTRE CARRERAS 14 Y 15 DE PROPIEDAD DE INFIMANIZALES
C3: REVISIÓN DE LOS CRITERIOS DE EXPERIENCIA ESPECIFICA ADICIONAL A LA MINIMA HABILITANTES (FORMATOS 3 B DE LAS PROPUESTAS)
B5: REQUISITOS TÉCNICOS HABILITANTES | E5: PROPONENTE 1 : CONSORCIO GALERIA | H5: PROPONENTE 2: CONSORCIO AR+AL2 | K5: PROPONENTE 3: MC ARQUITECTOS SA | N5: PROPONENTE 4: CONSORCIO ARQUITECTURA Y ESPACIO URBANO | Q5: PROPONENTE 5: MAURICIO OTERO LAVADO | T5: PROPONENTE 6: GRUPO M&M | W5: PROPONENTE 7: CONSORCIO MANIZALES PLAZA DE MERCADO
E6: INTEGRANTES | F6: JORGE EDIUARDO ALVAREZ GALLEGO 50% JC ECHEVERRY INGENIERA SAS 50% | H6: INTEGRANTES | I6: ALCUADRADO ARQUITECTOS SAS 50% MARTINEZ ARQUITECTURA SAS 50% | K6: INTEGRANTES | L6: MARIO ANDRES CABRERA PINZON 100 % | N6: INTEGRANTES | O6: CARLOS PUERTA AGUDELO 50% VERONICA ORTIZ MURCIA 50% | Q6: INTEGRANTES | R6: MAURICIO OTERO LAVADO 100% | T6: INTEGRANTES | U6: JOHN ALEJANDRO RICO VARGAS 49 % KARENA MEDINA PALLAN 51 % | W6: INTEGRANTES | X6: DAVID VALLEJO OSORIO 33 % JUAN PABLO FRANCO TORO 34 % JUAN CARLOS RODRIGUEZ IZQUIERDO 33 %
E7: VALORACIÓN | F7: OBSERVACIÓN | H7: VALORACIÓN | I7: OBSERVACIÓN | K7: VALORACIÓN | L7: OBSERVACIÓN | N7: VALORACIÓN | O7: OBSERVACIÓN | Q7: VALORACIÓN | R7: OBSERVACIÓN | T7: VALORACIÓN | U7: OBSERVACIÓN | W7: VALORACIÓN | X7: OBSERVACIÓN
B9: Contrato No. 1 | C9: No. Contrato | E9: NR | H9: CO1.PCCNTR.1242250 | K9: 115 de 2015 | N9: 3211-2029 | Q9: 043-2018 | T9: 21000633 H3 01, 02 Y 03 DE 2021 | W9: 1804250493
C10: Objeto Contrato | E10: DISEÑO DE LAS REDES ELECTRICAS EN MEDIA Y BAJA TENSION, TELECOMUNICACIONES, DATA CENTER SISTEMA DE DETECCIÓN DE HUMOS PARA LA OBRA DE LA TORRE EMBLEMATICA MULTIFUNCIONAL Y OBRAS ANEXAS DE LA UNIVERSIDAD DE MANIZALES | H10: Elaboración de estudios y diseños requeridos para la obtención de licencias de construcción en cualquiera de sus modalidades y/o licencia de urbanismo, junto con los permisos y aprobaciones necesarios para la construcción de un colegio nuevo en el predio denominado HIPOTECHO Localidad 8 Kennedy del Distrito Capital. | K10: El consultor se compromete a la elaboración de los estudios y diseños estudios detallado de amenaza y análisis de riesgo Desarrollo de diseños estudios técnicos presupuesto Sensibilización y trámites de licencias y permiso de proyectos educativos en el Departamento de Cundinamarca y vaya que se vieron afectados por el fenómeno de la niña 2010 2011 | N10: REALIZAR POR EL SISTEMA DE PRECIO GLOBAL FIJO LOS ESTUDIOS Y DISEÑOS TECNICOS DE INGENERIA Y ARQUITECTURA EN PARQUES EN DIFERENTES ESCALAS DEL SISTEMA DISTRITAL DE PARQUE DE BOGOTA, CON CARGO AL PROYECTO 1082: CONTRUCCION Y ADECUACION DE PARQUES Y EQUIPAMIENTOS PARA TODOS." PARA EL GRUPO 1 | Q10: REVISION, AJUSTE, OPTIMIZACION J COMPLEMENTACIÓN DE ESTUDIOS Y DISEÑO , LICENCIA DE CONSTRUCCIÓN y PLIEGOS DE CONDICIONES PARA OBRA DEL ESCENARI)O PARQUE DEPORTIVO EN IBAGUÉ, DE ACUERD ) CON LA DESCRIPCIÓN, ESPECIFICACIONES , DEMÁS CONDICIONES ESTABLECIDAS EN EL PLIEGO DE CONDICIONES | T10: El contratista se obliga para la aerocivil a realizar los estudios y diseños para la construcción de la base SEI de los aeropuertos del Riohacha Valledupar y Mompox por lotes: Lote 1 realizar los estudios de diseños para la construcción de la base SEI del aeropuerto de Riohacha Lote dos realizar los estudios y diseños para la construcción de la base sei de la aeropuerto de Valledupar lote 3: realizar los estudios sei para la construcción de la base sei del aeropuerto de Mompox | W10: ELABORAR LOS ESTUDIOS Y DISEÑOS PARA LA AMPLIACION DE LAS PLANTAS FISICAS DE LOS ESTABLECIMIENTOS EDUCATIVOS OFICIALES DE PROPIEDAD DEL MUNICIPIO DE MANIZALES, SEGÚN LISTADO ANEXO
C11: Entidad Contratante | E11: UNIVERSIDAD DE MANIZALES | H11: SECRETARIA DE EDUCACION - ALCALDIA MAYOR DE BOGOTA | K11: Fondo adaptación | N11: IDRD | Q11: IMDRI INSTITUTO MUNICIPAL DE DEPORTES Y RECREACION DE IBAGUE | T11: UNIDAD ADMINISTRATIVA DE LA AERONAUTICA CIVIL | W11: ALCALDIA DE MANIZALES
C12: Contratista | E12: JC ECHEVERRY INGENIERA SAS | H12: MARTINEZ ARQUITECTURA SAS | K12: MC ARQUITECTOS SA | N12: CONSORCIO ARQUITECTURA Y ESPACIO PÚBLICO | Q12: UNION TEMPORAL CO2 ESCENARIOS | T12: GRUPO M&M CONSULTORIA SAS | W12: DAVID VALLEJO OSORIO
C13: Año de Terminación | E13: 2017 | H13: 2021 | K13: 2016 | N13: 2019 | Q13: 2018 | T13: 2022 | W13: 2019
C14: Valor Contrato (Pesos) | E14: 37400000 | F14: SALARIOS DE 2017 | H14: 1226021553 | K14: 773815518 | N14: 1405276768 | Q14: 1176135580 | T14: 1000000000 | W14: 656549945
C15: Valor Contrato (SMMLV) | E15: =+E14/SMMLV!B41 -> 50.696947 | H15: =+H14/SMMLV!B45 -> 1349.4623 | I15: SALARIOS DE 2021 | K15: =+K14/SMMLV!B40 -> 1122.3599 | N15: =+N14/SMMLV!B43 -> 1696.9564 | O15: CCON SMMLV DE 2028 (EN EL RUP 1,631,27) | Q15: =+Q14/SMMLV!B42 -> 1505.469 | R15: SALARIOS DE 2018 (NO APARECE MONTO EN RUP) | T15: =+T14/SMMLV!B45 -> 1100.684 | U15: EN SALARIOS DE 2021 | W15: =+W14/SMMLV!B43 -> 792.82364
C16: % Participación Proponente | E16: 1 | F16: TOMADO DEL CERTIFICADO YA QUE EL RUP MUESTRA 2% | H16: 1 | K16: 1 | N16: 1 | Q16: 0.5 | T16: 1 | W16: 0.5
C17: Área total de diseño (m2) | E17: 17276 | H17: 8834.94 | I17: AREA TOMADA DEL CERTIFICADO | K17: =996.25+297.65+416.31+4900+165.23 -> 6775.44 | L17: VALORES DE AREAS INDIVIDUALES TOMADA DE LA CERTIFICACION | O17: NO SE MUESTRA AREA A CERTIFICAR DE DISEÑOS DE INFRAESTRUCTURA DE EDIFICACIONES COMO EXIGE EL PLIEGO | Q17: 15651.55 | R17: AREA DE COLISEOS | T17: 3378 | U17: TOMADA DE LA CERTIFICACION | W17: 15442.46 | X17: AREA TOTAL DISEÑADA TOMADA DE CERTIFICACION
C18: Consultoría en estudios y diseños de edificaciones institucionales o comerciales | E18: NO | H18: SI | K18: SI | N18: NO | Q18: SI | T18: SI | W18: SI
C19: Consultoría incluye diseño arquitectónico y estructural. | E19: NO | H19: SI | K19: NO | L19: NO SE DETALLA EN LA CERTIFICACION ADJUNTA SI INCLUYE DISEÑO ARQ Y EST | N19: NO | Q19: SI | T19: SI | W19: SI
C20: Contrato Reportado en el RUP | E20: SI | F20: ANOTACION 05 PAGINA 19 | H20: SI | I20: ANOTACION 11 PAGINA 8 | K20: SI | L20: ANOTACION 28 PAGINA 32 | N20: SI | O20: ANOTACION 25 PAGINA 24 | Q20: SI | R20: ANOTACION 26 PAGINA 13 | T20: SI | U20: ANOTACION 53 PAGINA 124 | W20: SI | X20: ANOTACION 026 PAGINA 49
C21: Registro RUP con codigo UNSPSC (80101600, 81101500, 81101600, 81101700) | E21: SI | F21: UNSPSC 81101500, 81101700) | H21: SI | I21: codigo UNSPSC (80101600, 81101500) | K21: SI | L21: UNSPSC (80101600, 81101500, 81101600, 81101700) | N21: NO | O21: (80101600, 81101500, 81101600, 81101700) | Q21: SI | R21: (80101600, 81101500) | T21: SI | U21: UNSPSC (80101600, 81101500, 81101600, 81101700) | W21: SI | X21: (80101600, 81101500, 81101600, 81101700)
C22: Certificación emitida por una persona autorizada de la entidad contratante | E22: SI | F22: UNIVERSIDAD DE MANIZALES GERENTE TORRE EMBLEMATICA | H22: SI | I22: SECRETARIA DE EDICACION JEFE OFOCONA CONTRATOSS | K22: SI | L22: FONDO ADAPTACION - SECRETARIA GENERAL | N22: SI | O22: INTERVENTOR DEL CONTRATO | Q22: SI | R22: SECRETARIO GENERAL INDRI | T22: SI | U22: UNIDAD ADMINISTRATIVA DE LA AERONAUTICA CIVIL - DIRECTOR DE INFRAESTRUCTURA | W22: SI | X22: ALCALDIA DE MANIZALES
C23: La Certificación cumple con los requisitos previstos en el pliego | E23: NO | H23: SI | K23: NO | L23: NO SE DETALLA EN LA CERTIFICACION ADJUNTA SI INCLUYE DISEÑO ARQ Y EST | N23: NO | Q23: SI | R23: PENDIENTE DE ACLARACION | T23: SI | W23: SI
C24: La experiencia y soportes presentados se consideran validos | E24: NO | H24: SI | K24: NO | L24: NO SE DETALLA EN LA CERTIFICACION ADJUNTA SI INCLUYE DISEÑO ARQ Y EST | N24: NO | Q24: SI | R24: PENDIENTE DE ACLARACION | T24: SI | W24: SI
B26: Contrato No. 2 | C26: No. Contrato | E26: OCO-02-2024 | H26: 10.3.4 - 013 - 2021 | K26: 43849 | N26: 14775-003-2021 | Q26: 4589 DE 2021 | T26: PN DIRAF # 06-3-10059-19
C27: Objeto Contrato | E27: REALIZAR LA REVISIÓN, AJUSTE DEL PLAN MAESTRO DE LA SEDE AMAZONÍA Y DISEÑO ARQUITECTÓNICO DE LA NUEVA INFRAESTRUCTURA FASE III, EN EL MARCO DEL PROYECTO DE PLANIFICACIÓN DE LA AMPLIACIÓN DE LA INFRAESTRUCTURA DE LA SEDE AMAZONIA, PARA DAR SOPORTE AL PROGRAMA INTEGRAL DE COBERTURA (PIC). | H27: REALIZAR LOS DISEÑOS URBANISTICOS, PAISAJISTICOS Y ARQUITECTÓNICOS DEL PROYECTO PARQUE PACÍFICO DEL DISTRITO ESPECIAL DE SANTIAGO DE CALI. Se traslado a experiencia habilitante por solicitud del proponente en el subsane d emarzo 6 | K27: Consultoría para la ejecución del diseño arquitectónico y estudios y diseños técnicos complementarios para la construcción de la nueva sede del comando de Departamento de Policía Caldas y área de apoyo para la Policía Metropolitana de Manizales a ubicarse en el municipio de Chinchiná | N27: REALIZAR LOS ESTUDIOS Y DISEÑOS DE URBANISMO PARA LAS UNDADES DE EJECUCION DEL MACROPROYECTO DE INTERES SOCIAL NACIONAL (MISN) SAN JOSE EN EL MUNICIPIO DE MANIZALES | Q27: ESTUDIOS Y DISEÑOS PARA LA CONSTRUCCION Y ADECUACIÓN DE SEIS ESCENARIOS DEPORTIVOS DEL MUNICIPIO DE PEREIRA EN EL MARCO DE LOS JUEGOS DEPORTIVOS NACIONALES EJE CAFETERO 2023” para el GRUPO 3: ESTUDIOS Y DISEÑOS PARA LA CONSTRUCCION DEL ESCENARIO VELODROMO”. | T27: El objeto Terminación de ajustes A los estudios y diseños técnicos ( diseño arquitectónico diseño estructural y de elementos no estructurales diseño de redes hidrosanitarias Diseño mobiliario diseño paisajístico diseñadores eléctricas y voz y datos Diseño de ventilación trámites de licencia y permisoS) Para el comando de Departamento de Policía del Valle DEL Cauca Buga | W27: Desarrollar los estudios y diseños arquitectónicos, estructurales, eléctricos, Hidrosanitarios, de vulnerabilidad sísmica de las tribunas oriental norte y sur, levantamientos generales y topografía general, además de los respectivos presupuestos programaciones y especificaciones técnicas para su construccion, así como la coordinación Objeto del contrato general del proyecto en la fase de consultoría para la modernización en general del estadio Hernán Ramírez Villegas de la ciudad de Pereira | BZ27: Contrato con mas de 10 años de ejecutado
C28: Entidad Contratante | E28: UNIVERSIDAD NACIONAL SEDE AMAZONAS | K28: FICUCIARIA SCOTIABANK COLPATRIA S.A. | N28: PATRIMONIO AUTONOMO MACROPROYECTO SAN JOSE DE MANIZALES PA MATRIZ (3-1-14775) | Q28: MUNICIPIO DE PEREIRA - SECRETARIA DE DEPORTE Y RECREACION | T28: POLICIA NACIONAL | W28: CORPORACION DEPORTIVO PEREIRA | BZ28: Contrato con mas de 10 años de ejecutado
C29: Contratista | E29: JORGE EDIUARDO ALVAREZ GALLEGO 50% | K29: MC ARQUITECTOS SA | N29: CONSORCIO ARQUITECTURA Y ESPACIO URBANO | Q29: CONSORCIO VELODROMO PEREIRA | T29: GRUPO M&M CONSULTORIA SAS | W29: JUAN CARLOS RODRIGUEZ IZQUIERDO
C30: Año de Terminación | E30: 2024 | K30: 2022 | N30: 2022 | Q30: 2022 | T30: 2020 | W30: 2009 | X30: NO CUMPLE CON REQUIEITO DEL PLIEGO DE CONTRATOS CON MENOS DE 10 AÑOS
C31: Valor Contrato (Pesos) | E31: 116620000 | K31: 1253757996 | N31: 1904000000 | Q31: 985303794 | T31: 499810000 | W31: 411300000
C32: Valor Contrato (SMMLV) | E32: =+E31/SMMLV!B48 -> 89.707692 | F32: SALARIOS DE 2024 | K32: =+K31/SMMLV!B46 -> 1253.758 | N32: =+N31/SMMLV!B46 -> 1904 | Q32: =+Q31/SMMLV!B46 -> 985.30379 | T32: =+T31/SMMLV!B44 -> 569.38744 | U32: CALCULADO CON SMMLV DE 2020 DIFIERE DEL VALOR DEL RUP DE 540,9 | W32: =+W31/SMMLV!B33 -> 827.73194
C33: % Participación Proponente | E33: 1 | K33: 1 | N33: 1 | Q33: 0.5 | T33: 1 | W33: 0.75
C34: Área total de diseño (m2) | F34: NO SE DETALLA EL AREA DE DISEÑO EN LA CERTIFICACION | K34: 23255.61 | L34: AREA CONSTRUIDA BAJO CUBIERTA QUE SE SOLICITA VALIDAR CON ALGUN DOCUMENTO ADICIONAL | N34: 31000 | O34: SE DEBE APORTAR INFORMACION QUE PERMITA PRECISAR SI EL AREA CERTIFICADA ES PARA DISEÑOS COMPLETOS FASE 3 O PARA DESARROLLO DE ESQUEMA BASICO SOLAMENTE COMO AFIRMA LA CERTIFICACION | Q34: 12849 | T34: 14509.04 | W34: 17400 | X34: AREA TOMADA DE LA CERTIFICACION
C35: Consultoría en estudios y diseños de edificaciones institucionales o comerciales | E35: NO | K35: SI | N35: NO | Q35: SI | T35: SI | W35: NO
C36: Consultoría incluye diseño arquitectónico y estructural. | E36: NO | K36: SI | N36: NO | Q36: SI | T36: SI | W36: NO
C37: Contrato Reportado en el RUP | E37: NO | F37: ANOTACION 171 PAGINA 27 | K37: SI | L37: ANOTACION 65 PAGINA 76 | N37: SI | O37: ANOTACION 36 Y 33 PAGINA 34 | Q37: SI | R37: ANOTACION 62 PAGINA 22 | T37: SI | U37: ANOTACION 8 PAGINA 39 | W37: NO | X37: ANOTACION 014 PAGINA 41
C38: Registro RUP con codigo UNSPSC (80101600, 81101500, 81101600, 81101700) | E38: NO | K38: SI | L38: UNSPSC (80101600, 81101500, 81101600, 81101700) | N38: SI | O38: (80101600, 81101500, 81101600, 81101700 | Q38: SI | R38: (80101600, 81101500) | T38: SI | U38: UNSPSC (80101600, 81101500, 81101600, 81101700) | W38: NO
C39: Certificación emitida por una persona autorizada de la entidad contratante | E39: NO | K39: SI | L39: FICUCIARIA SCOTIABANK COLPATRIA S.A.- APODERADA | N39: SI | O39: SUPERVISOR ERUM | Q39: SI | R39: SECRETARIO DEL DESPACHO - ALCALDIA DE PEREIRA | T39: SI | U39: POLICIA NACIONAL | W39: NO
C40: La Certificación cumple con los requisitos previstos en el pliego | E40: NO | K40: NO | L40: NO PERMITE LA VALIDACION DE LAS EXIGENCIAS DE AREA S Y ALCANCES | N40: NO | O40: NO CUMPLE | Q40: SI | R40: PENDIENTE DE ACLARACION | T40: SI | W40: NO
C41: La experiencia y soportes presentados se consideran validos | E41: NO | K41: NO | L41: NO PERMITE LA VALIDACION DE LAS EXIGENCIAS DE AREA S Y ALCANCES | N41: NO | O41: NO CUMPLE | Q41: SI | R41: PENDIENTE DE ACLARACION | T41: SI | W41: NO
B45: 1 | E45: 1 - CONSORCIO GALERIA\FORMATO - EXPERIENCIA GENERAL Y ADICIONAL.pdf | H45: 2 - CONSORCIO AR+AL2\02_EXP ESPECIFICA PUNTUABLE\02_EXP ESPECIFICA PUNTUABLE\EXP PUNTUABLE 1- Certificacion Colegio Hipotecho.pdf | K45: 3 - M C ARQUITECTOS\05 PONDERABLES\05 PONDERABLES\01 Experiencia especi╠üfica adicional del proponente\07 RUP 28 FONDO ADAPTACION.pdf | N45: 4 - CONSORCIO ARQUITECTURA Y ESPACIO URBANO\Experiencia\Experiencia\2-Experiencia adicional\1-Contrato 2-IDRD.pdf | Q45: 5 - MAURICIO OTERO LAVADO\PROPONENTE PUNTUABLE\Formato 3 - Experiencia PUNTUABLE.pdf | T45: 6 - GRUPO M&M\03_EXPERIENCIA\03_EXPERIENCIA\02_EXPERIENCIA PUNTUABLE\CONTRATO 1_AERONAUTICA CIVIL.pdf | W45: 7 - CONSORCIO MANIZALES PLAZA DE MERCADO\Puntos Adicionales\Puntos Adicionales\01 Experiencia Proponente Puntos\1. CERTIFICACION ESCUELAS.pdf
K47: LA CERTIFICACION APORTADA EN EL FORMATO 3 B CON NUMERO DE ANOTACION 28, NO ES CLARA NI PERMITE EXPRESAMENTE VERIFICAR LAS EXIGENCIAS DEL PLIEGO PARA EL OBJETO ESPECIFICO REQUERIDO | N47: APROTAR DOCUMENTACION QUE PERMITA DETALLAR AREA DE DISEÑO DE INFRAESTRUCTURA DE EDIFICACIONES EL LOS TRES COLISEOS DISEÑADOS | Q47: CUMPLE
...

Sheet CRITERIOS DE EVALUACIÓN (S)
H2: HABILITADO ? | I2: =+'CRITERIOS HABILITANTES (S)'!E83 -> NO | K2: HABILITADO ? | L2: =+'CRITERIOS HABILITANTES (S)'!H83 -> NO | N2: HABILITADO ? | O2: =+'CRITERIOS HABILITANTES (S)'!K83 -> SI | Q2: HABILITADO ? | R2: =+'CRITERIOS HABILITANTES (S)'!N83 -> NO | T2: HABILITADO ? | U2: =+'CRITERIOS HABILITANTES (S)'!Q83 -> SI | W2: HABILITADO ? | X2: =+'CRITERIOS HABILITANTES (S)'!T83 -> SI | Z2: HABILITADO ? | AA2: =+'CRITERIOS HABILITANTES (S)'!W83 -> NO
B4: #VALUE! | C4: PROCESO DE CONTRATACIÓN No. INFI-SCM-01-2026
C5: REALIZACIÓN DE LA CONSULTORÍA DE ESTUDIOS Y DISEÑOS TÉCNICOS, A NIVEL DE FASE 3 PARA EL NUEVO EDIFICIO MULTIPLE DE LA PLAZA DE MERCADO DE MANIZALES, A CONSTRUIRSE EN UN LOTE UBICADO ENTRE CALLES 23 Y 24 Y ENTRE CARRERAS 14 Y 15 DE PROPIEDAD DE INFIMANIZALES
C6: REVISIÓN DE LOS CRITERIOS DE EVALUACIÓN DE LAS OFERTAS
B8: CRITERIO EVALUACIÓN | C8: SUBCRITERIO | D8: DESCRIPCIÓN | F8: EVALUACIÓN DE INFORMACIÓN APORTADA | H8: PROPONENTE 1 : CONSORCIO GALERIA Jorge Eduardo Álvarez Gallego 50% y JC Echeverri SAS 50% | K8: PROPONENTE 2: CONSORCIO AR+AL2 Martínez Arquitectura SAS (50%) y Alcuadrado Arquitectos SAS (50%) | N8: PROPONENTE 3: MC ARQUITECTOS | Q8: PROPONENTE 4: CONSORCIO ARQUITECTURA Y ESPACIO PÚBLICO Carlos Puerta Agudelo 50% y Verónica Ortiz Murcia 50% | T8: PROPONENTE 5: MAURICIO OTERO LAVADO | W8: PROPONENTE 6: GRUPO M&M | Z8: PROPONENTE 7: CONSORCIO MANIZALES PLAZA DE MERCADO David Vallejo Osorio 33 % Juan Pablo Franco Toro 34 % Juan Carlos Rodríguez Izquierdo 33 %
H9: VALORACIÓN | I9: OBSERVACIÓN | K9: VALORACIÓN | L9: OBSERVACIÓN | N9: VALORACIÓN | O9: OBSERVACIÓN | Q9: VALORACIÓN | R9: OBSERVACIÓN | T9: VALORACIÓN | U9: OBSERVACIÓN | W9: VALORACIÓN | X9: OBSERVACIÓN | Z9: VALORACIÓN | AA9: OBSERVACIÓN
B11: 2.4.1 Experiencia específica adicional a la mínima habilitante del proponente (Máximo 48,5) | C11: Puntaje x Acreditación de valores de contratos adicionales | D11: Se asignarán hasta 22,5 puntos a quienes acrediten hasta dos (2) contratos de consultoría en diseños de edificaciones institucionales o comerciales o lugares de reunión, cuyo valor total sea igual o superior a dos (2) veces el presupuesto oficial; si es menor, el puntaje se calculará con una fórmula proporcional. | F11: Valor Contrato Adicional 1 (SMMLV) | I11: Ninguno de los contratos aportados son validos para las exigencias del pliego | K11: =+'EXPERIENCIA ADICIONAL (S)'!H15*'EXPERIENCIA ADICIONAL (S)'!H16*50% -> 674.73113 | N11: =+'EXPERIENCIA ADICIONAL (S)'!K15 -> 1122.3599 | O11: Se requiere informacion complementaria para validar asignacion de puntaje | Q11: =+'EXPERIENCIA ADICIONAL (S)'!N15*'EXPERIENCIA ADICIONAL (S)'!N16*50% -> 848.47821 | R11: Se requiere informacion complementaria para validar asignacion de puntaje | T11: =+'EXPERIENCIA ADICIONAL (S)'!Q15*'EXPERIENCIA ADICIONAL (S)'!Q16 -> 752.73448 | W11: =+'EXPERIENCIA ADICIONAL (S)'!T15 -> 1100.684 | Z11: =+'EXPERIENCIA ADICIONAL (S)'!W15*'EXPERIENCIA ADICIONAL (S)'!W16*33% -> 130.8159
F12: Valor Contrato Adicional 2 (SMMLV) | N12: =+'EXPERIENCIA ADICIONAL (S)'!K32 -> 1253.758 | Q12: =+'EXPERIENCIA ADICIONAL (S)'!N32*'EXPERIENCIA ADICIONAL (S)'!N33*50% -> 952 | T12: =+'EXPERIENCIA ADICIONAL (S)'!Q32*'EXPERIENCIA ADICIONAL (S)'!Q33 -> 492.6519 | W12: =+'EXPERIENCIA ADICIONAL (S)'!T32 -> 569.38744 | Z12: =+'EXPERIENCIA ADICIONAL (S)'!W32*'EXPERIENCIA ADICIONAL (S)'!W33*0.33 -> 204.86365
F13: Suma Contratos Adicionales | H13: =SUM(H11:H12) -> 0 | K13: =SUM(K11:K12) -> 674.73113 | L13: Los contratos adicionales son menores a dos veces el presupuesto oficial, por lo que la asignación de puntaje se realiza de forma proporcional según la fórmula establecida en los pliegos. | N13: =SUM(N11:N12) -> 2376.1179 | Q13: =SUM(Q11:Q12) -> 1800.4782 | T13: =SUM(T11:T12) -> 1245.3864 | W13: =SUM(W11:W12) -> 1670.0714 | Z13: =SUM(Z11:Z12) -> 335.67956
F14: Suma Contratos Adicionales > 2 Veces* P Oficial = 1,145,0 | H14: =+IF(H13>=2*572.5,"SI","NO") -> NO | K14: =+IF(K13>=2*572.5,"SI","NO") -> NO | N14: =+IF(N13>=2*572.5,"SI","NO") -> SI | Q14: =+IF(Q13>=2*572.5,"SI","NO") -> SI | T14: =+IF(T13>=2*572.5,"SI","NO") -> SI | W14: =+IF(W13>=2*572.5,"SI","NO") -> SI | Z14: =+IF(Z13>=2*572.5,"SI","NO") -> NO
F15: (A) Puntos Asignados x Contratos Adicionales | H15: =ROUND(IF(H14="SI",22.5,(22.5*H13)/(2*572.5)),2) -> 0 | K15: =ROUND(IF(K14="SI",22.5,(22.5*K13)/(2*572.5)),2) -> 13.26 | N15: =ROUND(IF(N14="SI",22.5,(22.5*N13)/(2*572.5)),2) -> 22.5 | Q15: =ROUND(IF(Q14="SI",22.5,(22.5*Q13)/(2*572.5)),2) -> 22.5 | T15: =ROUND(IF(T14="SI",22.5,(22.5*T13)/(2*572.5)),2) -> 22.5 | W15: =ROUND(IF(W14="SI",22.5,(22.5*W13)/(2*572.5)),2) -> 22.5 | Z15: =ROUND(IF(Z14="SI",22.5,(22.5*Z13)/(2*572.5)),2) -> 6.6 | AC15: =SUM(H15:Z15) -> 109.86
C16: Puntaje x Acreditación de actividades específicas | D16: Se otorgarán hasta 20 puntos, distribuidos según las actividades acreditadas por el proponente en los contratos presentados como experiencia específica adicional. En cualquiera de los dos contratos aportados para evaluacion de experiencia especifica adicional. | F16: Diseño estructural (5) | H16: NO | I16: Los contartos aportados no son aceptables para las exigencias del pliego | K16: SI | L16: Los dos contratos adicionales aportados incluyen diseños arquitectónicos, estructurales y de redes humedas y secas por lo que se otrogan todos los puntos | N16: SI | O16: Los dos contratos adicionales aportados incluyen diseños arquitectónicos, estructurales y de redes humedas y secas por lo que se otrogan todos los puntos | Q16: SI | R16: Los dos contratos adicionales aportados incluyen diseños arquitectónicos, estructurales y de redes humedas y secas por lo que se otrogan todos los puntos | T16: SI | U16: Los dos contratos adicionales aportados incluyen diseños arquitectónicos, estructurales y de redes humedas y secas por lo que se otrogan todos los puntos | W16: SI | X16: Los dos contratos adicionales aportados incluyen diseños arquitectónicos, estructurales y de redes humedas y secas por lo que se otrogan todos los puntos | Z16: SI | AA16: Los dos contratos adicionales aportados incluyen diseños arquitectónicos, estructurales y de redes humedas y secas por lo que se otrogan todos los puntos
F17: Diseño arquitectónico (5) | H17: NO | K17: SI | N17: SI | Q17: SI | T17: SI | W17: SI | Z17: SI
F18: Diseño de redes hidrosanitarias (5) | H18: NO | K18: SI | N18: SI | Q18: SI | T18: SI | W18: SI | Z18: SI
F19: Diseño de redes eléctricas y complementarias (5) | H19: NO | K19: SI | N19: SI | Q19: SI | T19: SI | W19: SI | Z19: SI
F20: (B) Puntos Asignados x Actividades Específicas | H20: =COUNTIF(H16:H19,"SI")*5 -> 0 | K20: =COUNTIF(K16:K19,"SI")*5 -> 20 | N20: =COUNTIF(N16:N19,"SI")*5 -> 20 | Q20: =COUNTIF(Q16:Q19,"SI")*5 -> 20 | T20: =COUNTIF(T16:T19,"SI")*5 -> 20 | W20: =COUNTIF(W16:W19,"SI")*5 -> 20 | Z20: =COUNTIF(Z16:Z19,"SI")*5 -> 20 | AC20: =SUM(H20:Z20) -> 120
C21: Puntaje x Acreditación de areas diseñadas en contratos adicionales | D21: Se otorgarán hasta 5 puntos si el área total de los dos contratos aportados es igual o superior a 12.000 m²; si es menor, el puntaje se calculará proporcionalmente. | F21: Áreas Diseñadas Contrato Adicional 1 | I21: Ninguno de los contratos aportados son validos para las exigencias del pliego | K21: =+'EXPERIENCIA ADICIONAL (S)'!H15*'EXPERIENCIA ADICIONAL (S)'!H16*50% -> 674.73113 | N21: =+'EXPERIENCIA ADICIONAL (S)'!K17 -> 6775.44 | O21: Se requiere informacion complementaria para validar asignacion de puntaje | Q21: =+'EXPERIENCIA ADICIONAL (S)'!N17*'EXPERIENCIA ADICIONAL (S)'!N16*50% -> 0 | R21: Se requiere informacion complementaria para validar asignacion de puntaje | T21: =+'EXPERIENCIA ADICIONAL (S)'!Q17*'EXPERIENCIA ADICIONAL (S)'!Q16 -> 7825.775 | W21: =+'EXPERIENCIA ADICIONAL (S)'!T17 -> 3378 | Z21: =+'EXPERIENCIA ADICIONAL (S)'!W17*'EXPERIENCIA ADICIONAL (S)'!W16*33% -> 2548.0059
F22: Áreas Diseñadas Contrato Adicional 2 | N22: =+'EXPERIENCIA ADICIONAL (S)'!K34 -> 23255.61 | Q22: =+'EXPERIENCIA ADICIONAL (S)'!N34*'EXPERIENCIA ADICIONAL (S)'!N33*50% -> 15500 | T22: =+'EXPERIENCIA ADICIONAL (S)'!Q34*'EXPERIENCIA ADICIONAL (S)'!Q33 -> 6424.5 | W22: =+'EXPERIENCIA ADICIONAL (S)'!T34 -> 14509.04 | Z22: =+'EXPERIENCIA ADICIONAL (S)'!W34*'EXPERIENCIA ADICIONAL (S)'!W33*33% -> 4306.5
F23: Suma Áreas Diseñadas Contratos Adicionales | H23: =SUM(H21:H22) -> 0 | K23: =SUM(K21:K22) -> 674.73113 | N23: =SUM(N21:N22) -> 30031.05 | Q23: =SUM(Q21:Q22) -> 15500 | T23: =SUM(T21:T22) -> 14250.275 | W23: =SUM(W21:W22) -> 17887.04 | Z23: =SUM(Z21:Z22) -> 6854.5059
F24: Suma Áreas Diseñadas Contratos Adicionales > 12.000 M2 | H24: =+IF(H23>=12000,"SI","NO") -> NO | K24: =+IF(K23>=12000,"SI","NO") -> NO | N24: =+IF(N23>=12000,"SI","NO") -> SI | Q24: =+IF(Q23>=12000,"SI","NO") -> SI | T24: =+IF(T23>=12000,"SI","NO") -> SI | W24: =+IF(W23>=12000,"SI","NO") -> SI | Z24: =+IF(Z23>=12000,"SI","NO") -> NO
F25: (C) Puntos Asignados x Áreas Diseño Adicionales | H25: =ROUND(IF(H24="SI",5,(5*H23)/(12000)),2) -> 0 | K25: =ROUND(IF(K24="SI",5,(5*K23)/(12000)),2) -> 0.28 | N25: =ROUND(IF(N24="SI",5,(5*N23)/(12000)),2) -> 5 | Q25: =ROUND(IF(Q24="SI",5,(5*Q23)/(12000)),2) -> 5 | T25: =ROUND(IF(T24="SI",5,(5*T23)/(12000)),2) -> 5 | W25: =ROUND(IF(W24="SI",5,(5*W23)/(12000)),2) -> 5 | Z25: =ROUND(IF(Z24="SI",5,(5*Z23)/(12000)),2) -> 2.86 | AC25: =SUM(H25:Z25) -> 23.14
C26: (D) Puntaje Experiencia Específica Adicional (D = A + B + C) | H26: =+H15+H20+H25 -> 0 | K26: =+K15+K20+K25 -> 33.54 | N26: =+N15+N20+N25 -> 47.5 | Q26: =+Q15+Q20+Q25 -> 47.5 | T26: =+T15+T20+T25 -> 47.5 | W26: =+W15+W20+W25 -> 47.5 | Z26: =+Z15+Z20+Z25 -> 29.46 | AC26: =SUM(H26:Z26) -> 253
B27: 2.4.2 Formación Académica adicional del equipo de trabajo (Máximo 20 puntos) | C27: Director de Proyecto | D27: Se otorgarán hasta 20 puntos por formación académica adicional del equipo mínimo, asignando 4 puntos por cada profesional con posgrado adicional o con título de maestría o doctorado, sin acumulación de puntajes por persona. | E27: Posgrado en Diseño o Gerencia de Proyectos o afines | F27: Posgrado Adicional Afin o Maestria o Doctorado | H27: NO | K27: SI | N27: SI | Q27: SI | T27: SI | W27: SI | Z27: SI
C28: Coordinador de Diseños | E28: Posgrado en Diseño o Gerencia de Proyectos o afines | F28: Posgrado Adicional Afin o Maestria o Doctorado | H28: NO | K28: SI | N28: NO | Q28: NO | W28: SI
C29: Arquitecto | E29: Posgrado en Diseño arquitectonico o afines | F29: Posgrado Adicional Afin o Maestria o Doctorado | H29: NO | K29: SI | N29: SI | Q29: NO | T29: SI | W29: SI
C30: Diseñador urbano y paisajista | E30: Posgrado en urbanismo y/o paisajismo | F30: Posgrado Adicional Afin o Maestria o Doctorado | H30: SI | K30: SI | N30: SI | Q30: NO | W30: SI
C31: Modelador BIM | E31: Acreditacion en desarrollo Humano en herramientas de dibujo arquitectonico y modelacion BIM con al menos 320 horas | F31: Posgrado Adicional Afin o Maestria o Doctorado | N31: NO | Q31: NO | W31: NO
C32: Ingeniero estructural | E32: Posgrado en Estructuras | F32: Posgrado Adicional Afin o Maestria o Doctorado | H32: SI | K32: NO | N32: SI | Q32: SI | T32: SI | W32: SI
C33: Ingeniero Hidráulico y RCI | E33: Posgrado en hidráulica o afines | F33: Posgrado Adicional Afin o Maestria o Doctorado | H33: NO | K33: NO | N33: SI | Q33: SI | W33: SI
C34: Ingeniero Electricista y de Redes especiales | E34: Posgrado en áreas relacionadas o afines al componente eléctrico o de redes especiales complementarias | F34: Posgrado Adicional Afin o Maestria o Doctorado | H34: SI | K34: NO | N34: NO | Q34: SI | T34: SI | W34: SI | Z34: SI
C35: Ingeniero mecánico HVAC | E35: No requiere Posgrado | F35: Posgrado Adicional Afin o Maestria o Doctorado | N35: NO | W35: NO
C36: Ingeniero redes de gas | E36: No requiere Posgrado | F36: Posgrado Adicional Afin o Maestria o Doctorado | N36: NO | W36: NO
C37: Ingeniero Ambiental (PGIO - PMT) | E37: No requiere Posgrado | F37: Posgrado Adicional Afin o Maestria o Doctorado | N37: NO | W37: NO
C38: Ing civil o arquitecto (Programación y Presupuesto) | E38: No requiere Posgrado | F38: Posgrado Adicional Afin o Maestria o Doctorado | N38: NO | W38: NO
C39: (E) Puntaje Formación Academica Adicional Equipo de Trabajo | H39: =IF(COUNTIF(H27:H38,"SI")=1,1,IF(COUNTIF(H27:H38,"SI")=2,2,IF(COUNTIF(H27:H38,"SI")=3,3,IF(COUNTIF(H27:H38,"SI")=4,4,IF(COUNTIF(H27:H38,"si")>=5,5,0)))))*4 -> 12 | K39: =IF(COUNTIF(K27:K38,"SI")=1,1,IF(COUNTIF(K27:K38,"SI")=2,2,IF(COUNTIF(K27:K38,"SI")=3,3,IF(COUNTIF(K27:K38,"SI")=4,4,IF(COUNTIF(K27:K38,"si")>=5,5,0)))))*4 -> 16 | N39: =IF(COUNTIF(N27:N38,"SI")=1,1,IF(COUNTIF(N27:N38,"SI")=2,2,IF(COUNTIF(N27:N38,"SI")=3,3,IF(COUNTIF(N27:N38,"SI")=4,4,IF(COUNTIF(N27:N38,"si")>=5,5,0)))))*4 -> 20 | Q39: =IF(COUNTIF(Q27:Q38,"SI")=1,1,IF(COUNTIF(Q27:Q38,"SI")=2,2,IF(COUNTIF(Q27:Q38,"SI")=3,3,IF(COUNTIF(Q27:Q38,"SI")=4,4,IF(COUNTIF(Q27:Q38,"si")>=5,5,0)))))*4 -> 16 | T39: =IF(COUNTIF(T27:T38,"SI")=1,1,IF(COUNTIF(T27:T38,"SI")=2,2,IF(COUNTIF(T27:T38,"SI")=3,3,IF(COUNTIF(T27:T38,"SI")=4,4,IF(COUNTIF(T27:T38,"si")>=5,5,0)))))*4 -> 16 | W39: =IF(COUNTIF(W27:W38,"SI")=1,1,IF(COUNTIF(W27:W38,"SI")=2,2,IF(COUNTIF(W27:W38,"SI")=3,3,IF(COUNTIF(W27:W38,"SI")=4,4,IF(COUNTIF(W27:W38,"si")>=5,5,0)))))*4 -> 20 | Z39: =IF(COUNTIF(Z27:Z38,"SI")=1,1,IF(COUNTIF(Z27:Z38,"SI")=2,2,IF(COUNTIF(Z27:Z38,"SI")=3,3,IF(COUNTIF(Z27:Z38,"SI")=4,4,IF(COUNTIF(Z27:Z38,"si")>=5,5,0)))))*4 -> 8 | AC39: =SUM(H39:Z39) -> 108
B40: 2.4.3 Experiencia especifica adicional del equipo de trabajo (Máximo 20 puntos) | C40: Director de Proyecto | D40: Se otorgarán hasta 20 puntos por experiencia adicional del equipo mínimo, asignando 4 puntos por cada profesional que acredite proyectos adicionales distintos a los exigidos como requisito habilitante. | F40: Experiencia Adicional a la Minima Exigida | H40: NO | K40: SI | N40: SI | Q40: SI | T40: NO | W40: SI | Z40: SI
C41: Coordinador de Diseños | F41: Experiencia Adicional a la Minima Exigida | H41: NO | K41: SI | N41: NO | Q41: SI | T41: SI | W41: SI | Z41: SI
C42: Arquitecto | F42: Experiencia Adicional a la Minima Exigida | H42: NO | K42: SI | N42: SI | Q42: SI | T42: SI | W42: SI
C43: Diseñador urbano y paisajista | F43: Experiencia Adicional a la Minima Exigida | H43: SI | K43: SI | N43: SI | Q43: SI | T43: SI | W43: SI | Z43: SI
C44: Modelador BIM | F44: Experiencia Adicional a la Minima Exigida | N44: NO | W44: NO
...

Sheet Resumen Propuestas
C4: PROCESO INFI-SCM-001-2026
C6: PROPONENTE | D6: INTEGRANTES | E6: VALOR OFERTA ECONOMICA | F6: VALOR OFERTA ECONOMICA SUBSANADA | G6: OBSERVACION | H6: HABILITACION TECNICA | J6: PROPUESTA ECONOMICA | K6: FORMULARIO 11 PERSONAL EQUIPO MIN
C7: PRESUPUESTO OFICIAL | E7: =+'PO Presup Edif Multiple'!H42 -> 1000128925
B8: 1 | C8: CONSORCIO GALERIA | D8: Jorge Eduardo Álvarez Gallego y JC Echeverri SAS (MANIZALES) | E8: 992523386 | F8: 1000121066 | H8: NO | J8: SI - PDF | K8: SI - EXCEL
B9: 2 | C9: CONSORCIO AR+AL2 | D9: Martínez Arquitectura SAS (50%) y Alcuadrado Arquitectos SAS (50%) (CALI) | E9: 1051559902 | F9: 1051559897 | G9: SUBSANAR VALOR >= po queda nuevamente por encima de PO | H9: NO | J9: NO PRESENTA | K9: SI - EXCEL
B10: 3 | C10: MC ARQUITECTOS SA | D10: Rep Legal Mario Andrés Cabrera Pinzón (BOGOTA) | E10: 1051559897 | G10: SUBSANAR VALOR >= po | H10: HABILITADA SI SUBSANA RUP | J10: SI - EXCEL | K10: NO PRESENTA | N10: https://www.mcarquitectos.com/inicio
B11: 4 | C11: CONSORCIO ARQUITECTURA Y ESPACIO PÚBLICO | D11: Carlos Puerta Agudelo y Verónica Ortiz Murcia (ENVIGADO) | E11: 1050536780 | G11: SUBSANAR VALOR >= po | H11: NO | J11: SI - PDF | K11: NO PRESENTA
B12: 5 | C12: MAURICIO OTERO LAVADO | D12: Mauricio Otero Lavado (CALI) | E12: 1000128925 | H12: NO | J12: SI - PDF | K12: SI - EXCEL
B13: 6 | C13: GRUPO M&M CONSULTORIA SAS | D13: Rep Legal John Alejandro Rico Vargas (BOGOTA) | E13: 1000128920 | H13: HABILITADA | J13: SI | K13: SI - EXCEL | N13: https://grupomym.com.co/proyectos/
B14: 7 | C14: CONSORCIO MANIZALES PLAZA DE MERCADO | D14: David Vallejo Juan Pablo Franco Toro Juan Carlos Rodríguez Izquierdo (MANIZALES) | E14: 1000121066 | H14: NO | J14: SI | K14: SI - EXCEL

Sheet Personal Prop 1 - Form 11
B2: Formato 11
B3: Formacion y Experiencia del equipo de trabajo
B5: No. | C5: Cargo a Desempeñar | D5: Formación Académica | E5: Experiencia General Mínima Requerida (años) | F5: Experiencia Específica (años) | G5: Cantidad | H5: Dedicación | I5: Nombre | J5: Documento de Identidad | K5: Hojas de Vida | L5: Profesión | M5: Diplomas y/o Acta de pregrado | N5: Tarjeta Profesional | O5: Certificado de vigencia TP | P5: Especialización | Q5: Diplomas y/o actas de posgrado (aplicables para perfiles solicitados) | R5: Certificaciones Habilitantes | S5: Certificaciones Formación Adicional | T5: Certificaciones Experiencia Adicional | U5: Carta de Intención
I7: Nombre | J7: Adjuntar copia de la cedula de ciudadanía | L7: Titulo | N7: Copia de la Tarjeta Profesional | O7: Certificado de vigencia actualizado | P7: Titulo | Q7: Diplomas y actas de posgrado o especializacion aplicables para perfiles solicitados | R7: Certificaciones expedidas por el contratante con la información requerida para la validación, incluidos objeto, áreas y valores | S7: Diplomas y actas de posgrado o especializacion aplicables para perfiles solicitados | T7: Certificaciones expedidas por el contratante con la información requerida para la validación, incluidos objeto, áreas y valores | U7: Adjuntar Carta Firmada
B8: 1 | C8: Director de Proyecto | D8: Arquitecto o Ingeniero Civil con matrícula profesional vigente con Postgrado en Diseño o Gerencia de Proyectos o afines | E8: Igual o superior a diez (10) años, contados a partir de la fecha de expedición de la matrícula o tarjeta profesional y con anterioridad a la fecha de cierre del presente proceso de selección, debidamente acreditados mediante certificados adjuntos a la propuesta. | F8: Experiencia específica certificada de participación como gerente y/o director y/o coordinador en máximo tres (3) proyectos de consultoría de estudios y diseños para la construcción o adecuación o ampliación de infraestructura para los usos referenciados en tabla J.1.1-1 del título J de la NSR-10 de clasificación Comercial Y/O Institucional y/o lugares de reunión de uso público o privado, cuya área sumada sea igual o superior a 6.000 m2. | G8: 1 | H8: 0.5 | I8: JARRISON FERNANDO MEZA GALVEZ | J8: 75144310 | K8: Ver anexo 1 | L8: INGENIERO CIVIL | M8: Ver anexo 1 | N8: 1720277211 CLD 25 MAYO 1999 | O8: Ver anexo 1 | P8: ESPECIALIZACION EN GERENCIA DE PROYECTOS | Q8: Ver anexo 1 | R8: Ver anexo 1 EL PROFESIONAL NO CUMPLE LAS EXIGENCIAS MINIMAS DEL PLIEGO PARA ESE CARGO | S8: ESPECIALIZACI{ÓN EN PATOLOGIA DE LA CONSTRUCCIÓN (NO SE ENCUENTRA ESTA CERTIFICACION ANUNCIADA | T8: N/A | U8: Ver anexo 1
B9: 2 | C9: Coordinador de Diseños | D9: Arquitecto o Ingeniero Civil o Ingeniero Industrial con Postgrado en diseño o gerencia de proyectos o afines | E9: Igual o superior a ocho (8) años, contados a partir de la fecha de expedición de la matrícula o tarjeta profesional y con anterioridad a la fecha de cierre del presente proceso de selección, debidamente acreditados mediante certificados adjuntos a la propuesta. | F9: Experiencia específica certificada de participación como coordinador, en máximo tres (3) proyectos de consultoría de estudios y diseños para la construcción o adecuación o ampliación de infraestructura para los usos referenciados en tabla J.1.1-1 del título J de la NSR-10 de clasificación Comercial Y/O Institucional y/o lugares de reunión de uso público o privado, cuya área sumada sea igual o superior a 6.000 m2. | G9: 1 | H9: 1 | I9: JOSE LUIS LOPEZ ALVAREZ | J9: 74180525 | K9: Ver anexo 2 | L9: INGENIERO EN TRANSPORTES Y VIAS | M9: Ver anexo 2 | N9: 01107-0914 31 DE OCTUBRE DE 2007 | O9: Ver anexo 2 | P9: ESPECIALIZACIÓN EN GERENCIA DE PROYECTOS | Q9: Ver anexo 2 | R9: Ver anexo 2 SOLO APORTA 1 CERTIFICACION ESPECIFICA DE COORDINADOR DE ESTUDIOS Y DISEÑOS SIN AREA VERIFICABLE | S9: N/A | T9: N/A | U9: Ver anexo 2
B10: 3 | C10: Arquitecto Diseñador | D10: Arquitecto con Postgrado en Diseño Arquitectonico o afines | E10: Igual o superior a ocho (8) años, contados a partir de la fecha de expedición de la matrícula o tarjeta profesional y con anterioridad a la fecha de cierre del presente proceso de selección, debidamente acreditados mediante certificados adjuntos a la propuesta. | F10: Experiencia específica certificada de participación en máximo tres (3) proyectos de diseños arquitectónicos para la construcción o adecuación o ampliación de infraestructura para los usos referenciados en tabla J.1.1-1 del título J de la NSR-10 de clasificación Comercial Y/O Institucional y/o lugares de reunión de uso público o privado, cuya área sumada sea igual o superior a 6.000 m2. | G10: 1 | H10: 1 | I10: CAMILO ERNESTO MEJIA CLAVIJO | J10: 94322043 | K10: Ver anexo 3 | L10: ARQUITECTO | M10: Ver anexo 2 | N10: A17102000-94322043 NO ADJUNTA | O10: Ver anexo 3 | P10: MAGISTER EN ARQUITECTURA | Q10: Ver anexo 3 | R10: Ver anexo 3 LAS CERTIFICACIONES APORTADAS NO PERMITEN VALIDAR LAS EXIGENCIAS DEL PLIEGO PARA EL CARGO DE ARQUITECTO DISEÑADOR | S10: N/A | T10: N/A | U10: Ver anexo 3
B11: 4 | C11: Diseñador Urbano y Paisajista | D11: Arquitecto con Postgrado en Urbanismo y/o Paisajismo | E11: Igual o superior a ocho (8) años, contados a partir de la fecha de expedición de la matrícula o tarjeta profesional y con anterioridad a la fecha de cierre del presente proceso de selección, debidamente acreditados mediante certificados adjuntos a la propuesta. | F11: Experiencia específica certificada de participación en máximo tres (3) proyectos de diseños arquitectónicos Urbanísticos y/o Paisajistyicos para la construcción o adecuación o ampliación de infraestructura para los usos referenciados en tabla J.1.1-1 del título J de la NSR-10 de clasificación Comercial Y/O Institucional y/o lugares de reunión de uso público o privado, cuya área sumada sea igual o superior a 6.000 m2. | G11: 1 | H11: 0.5 | I11: JORGE HUMBERTO ARCILA LOSADA | J11: 10226418 | K11: Ver anexo 4 | L11: ARQUITECTO | M11: Ver anexo 4 | N11: 0000001040 CALDAS, EXP. 1979 | O11: Ver anexo 4 | P11: MAGISTER EN ARQUITECTURA DEL PAISAJE | Q11: Ver anexo 4 | R11: Ver anexo 4 | S11: DOCTOR ARQUITECTO | T11: Ver anexo 4 | U11: Ver anexo 4
B12: 5 | C12: Modelador BIM | D12: Arquitecto o Ingeniero Civil con formación en Educacion Informal o en Educacion para el Trabajo y el desarrollo Humano en herramientas de dibujo arquitectonico (AUTODESK, otras) y modelación BIM, debidamente acreditadas, con al menos 320 horas de formacion acumulada. | E12: Igual o superior a cinco (5) años contados a partir de la expedición de la matrícula o tarjeta profesional y con anterioridad a la fecha de cierre del presente proceso de selección, debidamente acreditados mediante certificados adjuntos a la propuesta | F12: Experiencia específica certificada de participación en máximo tres (3) proyectos de Modelación BIM de proyectos de construcción o adecuación o ampliación de infraestructura de uso público o privado, cuya área sumada sea igual o superior a 6.000 m2. | G12: 1 | H12: 1 | I12: MANUEL FERNANDO SALAZAR ALZATE | J12: 1060647241 | K12: Ver anexo 5 | L12: ARQUITECTO | M12: Ver anexo 5 | N12: A255552010-1060647241 | O12: Ver anexo 5 | P12: N/A | Q12: Ver anexo 5 | R12: Ver anexo 5 | S12: MAGISTER EN CONSTRUCCION | T12: N/A | U12: Ver anexo 5
B13: 6 | C13: Ingeniero Estructural | D13: Ingeniero civil, con Postgrado en Estructuras | E13: Igual o superior a ocho (8) años, contados a partir de la fecha de expedición de la matrícula o tarjeta profesional y con anterioridad a la fecha de cierre del presente proceso de selección, debidamente acreditados mediante certificados adjuntos a la propuesta. | F13: Experiencia específica certificada de participación en máximo tres (3) proyectos de diseño estructural, reforzamiento o estudios de vulnerabilidad sísmica para la construcción o adecuación o ampliación de infraestructura para los usos referenciados en tabla J.1.1-1 del título J de la NSR-10 de clasificación Comercial Y/O Institucional y/o lugares de reunión de uso público o privado, cuya área sumada sea igual o superior a 6.000 m2. | G13: 1 | H13: 1 | I13: ERIKA RINCON VIDAL | J13: 30236695 | K13: Ver anexo 6 | L13: INGENIERA CIVIL | M13: Ver anexo 6 | N13: 17202-259502 19 sept 2013 | O13: Ver anexo 6 | P13: ESPECIALIZACIÓN EN ESTRUCTURAS | Q13: Ver anexo 6 | R13: Ver anexo 6 | S13: ESPECIALIZACI{ÓN EN PATOLOGIA DE LA CONSTRUCCIÓN | T13: Ver anexo 6 | U13: Ver anexo 6
B14: 7 | C14: Ingeniero Hidráulico y RCI | D14: Ingeniero civil o ingeniero hidráulico o ingeniero hidrosanitario o ingeniero sanitario o afines, con Postgrado en hidráulica o afines | E14: Igual o superior a ocho (8) años, contados a partir de la fecha de expedición de la matrícula o tarjeta profesional y con anterioridad a la fecha de cierre del presente proceso de selección, debidamente acreditados mediante certificados adjuntos a la propuesta. | F14: Experiencia específica certificada de participación en máximo tres (3) proyectos de consultoría de estudios y diseños de redes hidrosanitarias y Redes Contraincendios de edificaciones, cuya área sumada sea igual o superior a 6.000 m2. | G14: 1 | H14: 1 | I14: EDUARDO ANDRES BRAND RUIZ | J14: 75087032 | K14: Ver anexo 7 | L14: INGENIERO CIVIL | M14: Ver anexo 7 | N14: 17202-098715 | O14: Ver anexo 7 | P14: ESPECIALISTA EN INGENIERIA HIDRAULICA Y AMBIENTAL | Q14: Ver anexo 7 | R14: Ver anexo 7 | S14: N/A | T14: Ver anexo 7 | U14: Ver anexo 7
B15: 8 | C15: Ingeniero Electricista y de redes especiales | D15: Profesional en ingeniería eléctrica con Posgrado en áreas relacionadas o afines al componente eléctrico o de redes especiales complementarias | E15: Igual o superior a ocho (8) años, contados a partir de la fecha de expedición de la matrícula o tarjeta profesional y con anterioridad a la fecha de cierre del presente proceso de selección, debidamente acreditados mediante certificados adjuntos a la propuesta. | F15: Experiencia específica certificada de participación en máximo tres (3) proyectos de consultoría de estudios y diseños de redes eléctricas, voz , datos y redes especiales para edificaciones, cuya área sumada sea igual o superior a 6.000 m2. | G15: 1 | H15: 1 | I15: LUISA FERNANDA ECHEVERRY CARDONA | J15: 1053816360 | K15: Ver anexo 8 | L15: INGENIERO ELECTRICISTA | M15: Ver anexo 8 | N15: CL205-112829 | O15: Ver anexo 8 | P15: MAGISTER EN INGENIERIA | Q15: Ver anexo 8 | R15: Ver anexo 8 | S15: MAGISTER EN INGENIERIA | T15: N/A | U15: Ver anexo 8
