Workbook

Sheet ZONA 1 9,77
H1: 1750905 | I1: 9.77 | J1: 2850
A2: COSTO DE MODALIDADES VIGILANCIA 2026 ZONA 1 | D2: TARIFAS | E2: =(($H$1*$I$1)+$J$1) -> 17109192 | F2: =(($H$1*$I$1)+$J$1) -> 17109192 | G2: =(($H$1*$I$1)+$J$1) -> 17109192 | H2: =(($H$1*$I$1)+$J$1) -> 17109192 | I2: =(($H$1*$I$1)+$J$1)/30*20 -> 11406128 | J2: =(($H$1*$I$1)+$J$1)/30*24 -> 13687353 | K2: =((($H$1*$I$1)+$J$1)*0.4759/13*5)+((($H$1*$I$1)+$J$1)*0.5241/11*11) -> 12098568 | L2: =((($H$1*$I$1)+$J$1)*0.4759/13*13)+((($H$1*$I$1)+$J$1)*0.5241/11*3) -> 10587790 | M2: =((($H$1*$I$1)+$J$1)*0.4759/30*20/13*13)+((($H$1*$I$1)+$J$1)*0.5241/30*20/11*3) -> 7058526.7 | N2: =((($H$1*$I$1)+$J$1)*0.4759/30*24/13*13)+((($H$1*$I$1)+$J$1)*0.5241/30*24/11*3) -> 8470232.1 | O2: =(($H$1*$I$1)+$J$1)*0.4759/13*12 -> 7515936.4 | P2: =(($H$1*$I$1)+$J$1)*0.4759/30*20/13*12 -> 5010624.2 | Q2: =(($H$1*$I$1)+$J$1)*0.4759/30*24/13*12 -> 6012749.1 | R2: =((($H$1*$I$1)+$J$1)*0.4759/13*1)+((($H$1*$I$1)+$J$1)*0.5241/11*11) -> 9593255.5 | S2: =((($H$1*$I$1)+$J$1)*0.4759/30*24/13*1)+((($H$1*$I$1)+$J$1)*0.5241/30*24/11*11) -> 7674604.4 | T2: =((($H$1*$I$1)+$J$1)*0.4759/13*1)+((($H$1*$I$1)+$J$1)*0.5241/11*11) -> 9593255.5 | U2: =((($H$1*$I$1)+$J$1)*0.5241/11*8) -> 6521401.8 | V2: =((($H$1*$I$1)+$J$1)*0.5241/11*8) -> 6521401.8 | W2: =((($H$1*$I$1)+$J$1)*0.5241/30*20/11*8) -> 4347601.2 | X2: =(($H$1*$I$1)+$J$1)*0.4759/30*24/13*8 -> 4008499.4 | Y2: =(($H$1*$I$1)+$J$1)*0.4759/30*20/13*8 -> 3340416.2 | Z2: =(($H$1*$I$1)+$J$1)*0.4759/13*8 -> 5010624.2 | AB2: 25383.667 | AC2: 98665.667 | AD2: 126394 | AE2: 91776.667 | AF2: 289407.33 | AG2: 97388
D3: AYS | E3: =E2*10% -> 1710919.2 | F3: =F2*8% -> 1368735.3 | G3: =G2*8% -> 1368735.3 | H3: =H2*11% -> 1882011.1 | I3: =I2*8% -> 912490.23 | J3: =J2*8% -> 1094988.3 | K3: =K2*8% -> 967885.41 | L3: =L2*8% -> 847023.21 | M3: =M2*8% -> 564682.14 | N3: =N2*8% -> 677618.56 | O3: =O2*8% -> 601274.91 | P3: =P2*8% -> 400849.94 | ... S3: =S2*8% -> 613968.35 | T3: =T2*10% -> 959325.55 | U3: =U2*10% -> 652140.18 | V3: =V2*8% -> 521712.14 | W3: =W2*8% -> 347808.09 | X3: =X2*8% -> 320679.95 | Y3: =Y2*8% -> 267233.29 | Z3: =Z2*8% -> 400849.94
D4: IVA | E4: =(E2+E3)*0.019 -> 357582.11 | F4: =(F2+F3)*0.019 -> 351080.62 | G4: =(G2+G3)*0.019 -> 351080.62 | H4: =(H2+H3)*0.019 -> 360832.86 | I4: =(I2+I3)*0.019 -> 234053.74 | J4: =(J2+J3)*0.019 -> 280864.49 | K4: =(K2+K3)*0.019 -> 248262.61 | L4: =(L2+L3)*0.019 -> 217261.45 | ... Z4: =(Z2+Z3)*0.019 -> 102818.01 | AB4: =+AB2*0.19 -> 4822.8967 | AC4: =+AC2*0.19 -> 18746.477 | AD4: =+AD2*0.19 -> 24014.86 | AE4: =+AE2*0.19 -> 17437.567 | AF4: =+AF2*0.19 -> 54987.393 | AG4: =+AG2*0.19 -> 18503.72
D5: TOTAL | E5: =+E2+E3+E4 -> 19177693 | F5: =+F2+F3+F4 -> 18829008 | G5: =+G2+G3+G4 -> 18829008 | H5: =+H2+H3+H4 -> 19352036 | I5: =+I2+I3+I4 -> 12552672 | J5: =+J2+J3+J4 -> 15063206 | K5: =+K2+K3+K4 -> 13314716 | L5: =+L2+L3+L4 -> 11652075 | ... Z5: =+Z2+Z3+Z4 -> 5514292.2 | AB5: =+AB2+AB4 -> 30206.563 | AC5: =+AC2+AC4 -> 117412.14 | AD5: =+AD2+AD4 -> 150408.86 | AE5: =+AE2+AE4 -> 109214.23 | AF5: =+AF2+AF4 -> 344394.73 | AG5: =+AG2+AG4 -> 115891.72
A6: REGIONAL | B6: CENTRO | C6: DIRECCIÓN | D6: MUNICIPIO | E6: PUESTO 24 HORAS TODOS LOS DÍAS CON ARMA | F6: PUESTO 24 HORAS TODOS LOS DÍAS SIN ARMA | G6: PUESTO 24 HORAS MONITOREO | H6: PUESTO 24 HORAS TODOS LOS DÍAS CON CANINO | I6: PUESTO 24 HORAS LUNES A VIERNES SIN ARMA | J6: PUESTO 24 HORAS LUNES A SABADO SIN ARMA | K6: PUESTO 16 HORAS (INCLUYE 11 HORAS NOCTURNAS) TODOS LOS DÍAS SIN ARMA | L6: PUESTO 16 HORAS (INCLUYE 3 HORA NOCTURNA) TODOS LOS DÍAS SIN ARMA | M6: PUESTO 16 HORAS (INCLUYE 3 HORA NOCTURNA) LUNES A VIERNES NO INCLUYE FESTIVOS SIN ARMA | N6: PUESTO 16 HORAS (INCLUYE 3 HORA NOCTURNA) LUNES A SÁBADO NO INCLUYE FESTIVOS SIN ARMA | O6: PUESTO 12 HORAS DIURNAS TODOS LOS DÍAS SIN ARMA | P6: PUESTO 12 HORAS DIURNAS LUNES A VIERNES NO INCLUYE FESTIVOS SIN ARMA | Q6: PUESTO 12 HORAS DIURNAS LUNES A SÁBADO NO INCLUYE FESTIVOS SIN ARMA | R6: PUESTO 12 HORAS (INCLUYE 11 HORAS NOCTURNAS) TODOS LOS DIAS SIN ARMA | S6: PUESTO 12 HORAS (INCLUYE 11 HORAS NOCTURNAS) LUNES A SABADO SIN ARMA | T6: PUESTO 12 HORAS (INCLUYE 9 HORAS NOCTURNAS) TODOS LOS DIAS CON ARMA | U6: PUESTO 8 HORAS NOCTURNAS TODOS LOS DÍAS CON ARMA | V6: PUESTO 8 HORAS NOCTURNAS TODOS LOS DÍAS SIN ARMA | W6: PUESTO 8 HORAS NOCTURNAS LUNES A VIERNES SIN ARMA | X6: PUESTO 8 HORAS DIURNAS LUNES A SÁBADO NO INCLUYE FESTIVOS SIN ARMA | Y6: PUESTO 8 HORAS DIURNAS LUNES A VIERNES NO INCLUYE FESTIVOS SIN ARMA | Z6: PUESTO 8 HORAS DIURNAS TODOS LOS DIAS SIN ARMA | AB6: Cámara tipo mini domo | AC6: Cámara PTZ | AD6: DVR | AE6: Monitor | AF6: Control de visitantes y de bienes (para Regionales) | AG6: Alarma
A7: Atlantico | B7: Despacho Dirección | C7: Carrera 43 42-40 Piso 11 SUPERVISOR | D7: Barranquilla | E7: 0 | F7: 1 | G7: 0 | H7: 0 | I7: 0 | J7: 0 | K7: 0 | L7: 0 | M7: 0 | N7: 0 | O7: 0 | P7: 0 | Q7: 0 | R7: 0 | S7: 0 | T7: 0 | U7: 0 | V7: 0 | W7: 0 | X7: 0 | Y7: 0 | Z7: 0 | AB7: 0 | AC7: 0 | AD7: 0 | AE7: 0 | AF7: 0 | AG7: 0
A8: Atlantico | B8: Centro de Comercio y Servicios | C8: Carrera 43 42-40 | D8: Barranquilla | E8: 0 | F8: 2 | G8: 1 | H8: 0 | I8: 0 | J8: 0 | K8: 0 | L8: 0 | M8: 0 | N8: 0 | O8: 0 | P8: 0 | Q8: 5 | R8: 0 | S8: 0 | T8: 0 | U8: 0 | V8: 0 | W8: 0 | X8: 0 | Y8: 0 | Z8: 0 | AB8: 30 | AC8: 0 | AD8: 2 | AE8: 2 | AF8: 1 | AG8: 4
A9: Atlantico | B9: Centro de Comercio y Servicios Nodo SALUD | C9: Cra. 35 calle 32 esquina Hospital Barranquilla | D9: Barranquilla | E9: 0 | F9: 3 | G9: 0 | H9: 0 | I9: 0 | J9: 0 | K9: 0 | L9: 0 | M9: 0 | N9: 0 | O9: 0 | P9: 0 | Q9: 0 | R9: 0 | S9: 0 | T9: 0 | U9: 0 | V9: 0 | W9: 0 | X9: 0 | Y9: 0 | Z9: 0 | AB9: =30-2 -> 28 | AD9: 2 | AE9: 2 | AF9: 1 | AG9: 4
A10: Atlantico | B10: Centro de Comercio y Servicio Nodo Logística y Transporte | C10: Cra. 9 No.127 - 109 Urba. Caribe Verde | D10: Barranquilla | E10: 0 | F10: 3 | G10: 0 | H10: 0 | I10: 0 | J10: 0 | K10: 0 | L10: 0 | M10: 0 | N10: 1 | O10: 0 | P10: 0 | Q10: 0 | R10: 0 | S10: 0 | T10: 0 | U10: 0 | V10: 0 | W10: 0 | X10: 0 | Y10: 0 | Z10: 0 | AB10: 16 | AC10: 0 | AD10: 1 | AE10: 1 | AF10: 0 | AG10: 0
A11: Atlantico | B11: Centro de Comercio y Servicio Nodo Servicios Financieros | C11: Cra 15 Sur # 48-28 cayenas | D11: Barranquilla | E11: 0 | F11: 4 | G11: 0 | H11: 0 | I11: 0 | J11: 0 | K11: 0 | L11: 0 | M11: 0 | N11: 1 | O11: 0 | P11: 0 | Q11: 0 | R11: 0 | S11: 0 | T11: 0 | U11: 0 | V11: 0 | W11: 0 | X11: 0 | Y11: 0 | Z11: 0 | AB11: 8 | AC11: 0 | AD11: 1 | AE11: 1 | AF11: 0 | AG11: 0
A12: Atlantico | B12: Centro de Comercio y Servicio Nodo Servicios Administrativos | C12: Calle 47 # 6-110 Via coordialidad | D12: Barranquilla | E12: 0 | F12: 3 | G12: 0 | H12: 0 | I12: 0 | J12: 0 | K12: 0 | L12: 0 | M12: 0 | N12: 0 | O12: 0 | P12: 0 | Q12: 0 | R12: 0 | S12: 0 | T12: 0 | U12: 0 | V12: 0 | W12: 0 | X12: 0 | Y12: 0 | Z12: 0 | AB12: 4 | AC12: 0 | AD12: 1 | AE12: 1 | AF12: 0 | AG12: 0
A13: Atlantico | B13: Centro para el Desarrollo Agroecologico y Agroindustrial | C13: nodo operaciones comerciales cra 24 M con calle 48 | D13: soledad | E13: 0 | F13: 3 | G13: 0 | H13: 0 | I13: 0 | J13: 0 | K13: 0 | L13: 0 | M13: 0 | N13: 0 | O13: 0 | P13: 0 | Q13: 0 | R13: 0 | S13: 0 | T13: 0 | U13: 0 | V13: 0 | W13: 0 | X13: 0 | Y13: 0 | Z13: 0 | AB13: 8 | AD13: 1 | AE13: 1 | AG13: 1
A14: Atlantico | B14: Centro de Comercio y Servicio NODO DE HOTELERIA Y TURISMO | C14: Cra 50b # 39-86 | D14: Barranquilla | E14: 0 | F14: 3 | G14: 0 | H14: 0 | I14: 0 | J14: 0 | K14: 0 | L14: 0 | M14: 0 | N14: 0 | O14: 0 | P14: 0 | Q14: 0 | R14: 0 | S14: 0 | T14: 0 | U14: 0 | V14: 0 | W14: 0 | X14: 0 | Y14: 0 | Z14: 0 | AB14: 10 | AC14: 2 | AD14: 1 | AE14: 1 | AF14: 1 | AG14: 1
A15: Atlantico | B15: Centro de Comercio y Servicio NODO DE GASTRONOMIA Y BILINGUISMO | C15: Calle 7 1D 155 Juan de Acosta | D15: Juan de acosta | E15: 0 | F15: 2 | G15: 0 | H15: 0 | I15: 0 | J15: 0 | K15: 0 | L15: 0 | M15: 0 | N15: 0 | O15: 0 | P15: 0 | Q15: 0 | R15: 0 | S15: 0 | T15: 0 | U15: 0 | V15: 0 | W15: 0 | X15: 0 | Y15: 0 | Z15: 0 | AB15: 4 | AC15: 0 | AD15: 1 | AE15: 1 | AF15: 0 | AG15: 1
A16: Atlantico | B16: Centro para el Desarrollo Agroecologico y Agroindustrial | C16: Calle 9 No. 19-120 Barrio Santander | D16: Sabanalarga | E16: 0 | F16: 3 | G16: 0 | H16: 0 | I16: 0 | J16: 0 | K16: 0 | L16: 1 | M16: 0 | N16: 0 | O16: 0 | P16: 0 | Q16: 0 | R16: 1 | S16: 0 | T16: 0 | U16: 0 | V16: 0 | W16: 0 | X16: 0 | Y16: 0 | Z16: 0 | AB16: =28 -> 28 | AC16: 4 | AD16: 1 | AE16: 1 | AF16: 1 | AG16: =4-4 -> 0
A17: Atlantico | B17: Centro para el Desarrollo Agroecologico y Agroindustrial FINCA EL CANEY | C17: Kilómetro 35 Margen Oriental Carretera La Cordialidad A 3 Kilómetro. | D17: Sabanalarga | E17: 2 | F17: 3 | G17: 0 | H17: 0 | I17: 0 | J17: 0 | K17: 0 | L17: 0 | M17: 0 | N17: 0 | O17: 0 | P17: 0 | Q17: 0 | R17: 0 | S17: 0 | T17: 0 | U17: 0 | V17: 0 | W17: 0 | X17: 0 | Y17: 0 | Z17: 0 | AB17: 32 | AC17: 5 | AD17: 3 | AE17: 3 | AF17: 1 | AG17: =3-3 -> 0
A18: Atlantico | B18: Centro para el Desarrollo Agroecologico y Agroindustrial | C18: Kilometro 2-101 Vía Luruaco Cartagena | D18: LURUACO | E18: 0 | F18: 2 | G18: 0 | H18: 0 | I18: 0 | J18: 0 | K18: 0 | L18: 0 | M18: 0 | N18: 0 | O18: 0 | P18: 0 | Q18: 0 | R18: 0 | S18: 0 | T18: 0 | U18: 0 | V18: 0 | W18: 0 | X18: 0 | Y18: 0 | Z18: 0 | AB18: 4 | AD18: 1 | AG18: 1
A19: Atlantico | B19: Centro para el Desarrollo Agroecologico y Agroindustrial NODO DE INDUSTRIAS CREATIVAS | C19: Carrera 54 # 49 - 09 | D19: Barranquilla | E19: 0 | F19: 2 | G19: 0 | H19: 0 | I19: 0 | J19: 0 | K19: 0 | L19: 0 | M19: 0 | N19: 0 | O19: 0 | P19: 0 | Q19: 0 | R19: 0 | S19: 0 | T19: 0 | U19: 0 | V19: 0 | W19: 0 | X19: 0 | Y19: 0 | Z19: 0 | AB19: 8 | AC19: 0 | AD19: 1 | AE19: 1 | AF19: 0 | AG19: =1-1 -> 0
A20: Atlantico | B20: CENTRO NACIONAL COLOMBO ALEMAN | C20: Calle 30 No. 3E-164 | D20: Barranquilla | E20: 0 | F20: 2 | G20: 0 | H20: 0 | I20: 0 | J20: 0 | K20: 0 | L20: 1 | M20: 0 | N20: 0 | O20: 0 | P20: 0 | Q20: 1 | R20: 0 | S20: 0 | T20: 0 | U20: 0 | V20: 0 | W20: 0 | X20: 0 | Y20: 0 | Z20: 0 | AB20: =41-8 -> 33 | AC20: 1 | AD20: 2 | AE20: 2 | AF20: 1 | AG20: 4
A21: Atlantico | B21: CENTRO NACIONAL COLOMBO ALEMAN Nodo ENERGIAS | C21: Cra 23 con calle 28 Rebolo | D21: Barranquilla | E21: 0 | F21: 2 | G21: 0 | H21: 0 | I21: 0 | J21: 0 | K21: 0 | L21: 0 | M21: 0 | N21: 0 | O21: 0 | P21: 0 | Q21: 0 | R21: 0 | S21: 0 | T21: 0 | U21: 0 | V21: 1 | W21: 0 | X21: 0 | Y21: 0 | Z21: 0 | AB21: =15 -> 15 | AC21: 0 | AD21: 1 | AE21: 1 | AF21: 1 | AG21: 4
A22: Atlantico | B22: CENTRO NACIONAL COLOMBO ALEMAN Nodo TICS | C22: Barrio Prado | D22: Barranquilla | E22: 0 | F22: 2 | G22: 0 | H22: 0 | I22: 0 | J22: 0 | K22: 0 | L22: 2 | M22: 0 | N22: 0 | O22: 0 | P22: 0 | Q22: 0 | R22: 0 | S22: 0 | T22: 0 | U22: 0 | V22: 0 | W22: 0 | X22: 0 | Y22: 0 | Z22: 0 | AB22: 5 | AC22: 0 | AD22: 1 | AE22: 1 | AF22: 0 | AG22: 0
A23: Atlantico | B23: CENTRO NACIONAL COLOMBO ALEMAN Nodo Refrigeraciion | C23: Carrera 10 # 7E-110 Antiguo Coliseo del Sur lipaya | D23: Barranquilla | E23: 0 | F23: 2 | G23: 0 | H23: 0 | I23: 0 | J23: 0 | K23: 0 | L23: 0 | M23: 0 | N23: 0 | O23: 0 | P23: 0 | Q23: 0 | R23: 0 | S23: 0 | T23: 0 | U23: 0 | V23: 0 | W23: 0 | X23: 0 | Y23: 0 | Z23: 0 | AB23: 13 | AC23: 0 | AD23: 1 | AE23: 1 | AF23: 1 | AG23: 2
A24: Atlantico | B24: CENTRO NACIONAL COLOMBO ALEMAN SUBSEDE MALAMBO | C24: Diagonal 18 No. 16 - 46 via al Caracolí sede metalmecanica | D24: Malambo | E24: 0 | F24: 0 | G24: 0 | H24: 0 | I24: 0 | J24: 0 | K24: 0 | L24: 0 | M24: 0 | N24: 0 | O24: 0 | P24: 0 | Q24: 0 | R24: 0 | S24: 0 | T24: 0 | U24: 0 | V24: 0 | W24: 0 | X24: 0 | Y24: 0 | Z24: 0 | AB24: 0 | AC24: 0 | AD24: 0 | AE24: 0 | AF24: 0 | AG24: 0
A25: Atlantico | B25: CENTRO NACIONAL COLOMBO ALEMAN SUBSEDE MALAMBO NUEVA | C25: Diagonal 18 No. 16 - 46 via al Caracolí sede metalmecanica | D25: Malambo | E25: 0 | F25: 3 | G25: 1 | H25: 0 | I25: 0 | J25: 0 | K25: 0 | L25: 0 | M25: 0 | N25: 0 | O25: 0 | P25: 0 | Q25: 0 | R25: 0 | S25: 0 | T25: 0 | U25: 0 | V25: 0 | W25: 0 | X25: 0 | Y25: 0 | Z25: 0 | AB25: 25 | AC25: 0 | AD25: 2 | AE25: 2 | AF25: 1 | AG25: 2
A26: Atlantico | B26: Centro Industrial y de Aviación sede hangar | C26: CIUDADELA INDUSTRIAL Caribe Verde Carrera 9G - 110 - 187 BO 11 | D26: Soledad | E26: 0 | F26: 1 | G26: 0 | H26: 0 | I26: 0 | J26: 0 | K26: 0 | L26: 0 | M26: 0 | N26: 0 | O26: 0 | P26: 0 | Q26: 0 | R26: 0 | S26: 0 | T26: 0 | U26: 0 | V26: 0 | W26: 0 | X26: 0 | Y26: 0 | Z26: 0 | AB26: 25 | AC26: 5 | AD26: 3 | AE26: 2 | AF26: 1 | AG26: 4
A27: Atlantico | B27: Centro Industrial y de Aviación | C27: Calle 30 No. 3E- 164 SUPERVISOR | D27: Barranquilla | E27: 0 | F27: 1 | G27: 0 | H27: 0 | I27: 0 | J27: 0 | K27: 0 | L27: 0 | M27: 0 | N27: 0 | O27: 0 | P27: 0 | Q27: 0 | R27: 0 | S27: 0 | T27: 0 | U27: 0 | V27: 0 | W27: 0 | X27: 0 | Y27: 0 | Z27: 0 | AB27: =42-7 -> 35 | AC27: 2 | AD27: 2 | AE27: 2 | AF27: 1 | AG27: 5
A28: Atlantico | B28: Centro Industrial y de Aviación | C28: Calle 30 No. 3E- 164 | D28: Barranquilla | E28: 0 | F28: 3 | G28: 1 | H28: 0 | I28: 0 | J28: 0 | K28: 0 | L28: 0 | M28: 0 | N28: 0 | O28: 0 | P28: 0 | Q28: 1 | R28: 0 | S28: 0 | T28: 0 | U28: 0 | V28: 0 | W28: 0 | X28: 0 | Y28: 0 | Z28: 0 | AB28: 0 | AC28: 0 | AD28: 0 | AE28: 0 | AF28: 0 | AG28: 0
A29: Atlantico | B29: Centro Industrial y de Aviación Nodo Construcción e Infraestructura | C29: Diag. 36 No. 9G 20 Villa San Pablo | D29: Barranquilla | E29: 0 | F29: 4 | G29: 0 | H29: 0 | I29: 0 | J29: 0 | K29: 0 | L29: 0 | M29: 0 | N29: 0 | O29: 0 | P29: 0 | Q29: 0 | R29: 0 | S29: 0 | T29: 0 | U29: 0 | V29: 0 | W29: 0 | X29: 0 | Y29: 0 | Z29: 0 | AB29: 21 | AC29: 4 | AD29: 1 | AE29: 0 | AF29: 1 | AG29: 2
A30: Atlantico | B30: centro de confeccion | C30: Centro Industrial y de AviaciónSEDE CENTRO REINDUSTRIALIZACIÓN ZASCA BARANOA-ATLÁNTICOCr 21 No 11-140,Barrio Manzanares Margaritas, Atlántico. | D30: Baranoa | E30: 1 | F30: 1 | G30: 0 | H30: 0 | I30: 0 | J30: 0 | K30: 0 | L30: 0 | M30: 0 | N30: 0 | O30: 0 | P30: 0 | Q30: 0 | R30: 1 | S30: 0 | T30: 0 | U30: 0 | V30: 0 | W30: 0 | X30: 0 | Y30: 0 | Z30: 0 | AB30: 16 | AD30: 1 | AE30: 1 | AG30: 1
A31: Atlantico | B31: Nodo Mobiliario | C31: Centro Industrial y de AviaciónSEDE CENTRO REINDUSTRIALIZACIÓN ZASCA BARANOA-ATLÁNTICOCr 21 No 11-140,Barrio Manzanares Margaritas, Atlántico. | D31: Galapa | E31: 0 | F31: 3 | G31: 0 | H31: 0 | I31: 0 | J31: 0 | K31: 0 | L31: 0 | M31: 0 | N31: 0 | O31: 0 | P31: 0 | Q31: 0 | R31: 0 | S31: 0 | T31: 0 | U31: 0 | V31: 0 | W31: 0 | X31: 0 | Y31: 0 | Z31: 0 | AA31: =AA36*9 -> 1.2452619e+10 | AB31: 16 | AD31: 1 | AE31: 1 | AG31: 1
A32: Atlantico | B32: Centro de Comercio y Servicio Nodo MULTILINGUISMO | C32: Carrera 21B, Calle 40B Esuina Barrio San José | D32: Barranquilla | E32: 0 | F32: 2 | G32: 0 | H32: 0 | I32: 0 | J32: 0 | K32: 0 | L32: 0 | M32: 0 | N32: 0 | O32: 0 | P32: 0 | Q32: 0 | R32: 0 | S32: 0 | T32: 0 | U32: 0 | V32: 0 | W32: 0 | X32: 0 | Y32: 0 | Z32: 0 | AB32: 6 | AC32: 0 | AD32: 1 | AE32: 1 | AF32: 0 | AG32: 1
A33: TOTAL REGIONAL | E33: =SUM(E7:E32) -> 3 | F33: =SUM(F7:F32) -> 60 | G33: =SUM(G7:G32) -> 3 | H33: =SUM(H7:H32) -> 0 | I33: =SUM(I7:I32) -> 0 | J33: =SUM(J7:J32) -> 0 | L33: =SUM(L7:L32) -> 4 | M33: =SUM(M7:M32) -> 0 | N33: =SUM(N7:N32) -> 2 | O33: =SUM(O7:O32) -> 0 | P33: =SUM(P7:P32) -> 0 | Q33: =SUM(Q7:Q32) -> 7 | R33: =SUM(R7:R32) -> 2 | S33: =SUM(S7:S32) -> 0 | ... Z33: =SUM(Z7:Z32) -> 0 | AA33: =SUM(E33:Z33) -> 82 | AB33: =SUM(AB7:AB32) -> 390 | AC33: =SUM(AC7:AC32) -> 23 | AD33: =SUM(AD7:AD32) -> 32 | AE33: =SUM(AE7:AE32) -> 29 | AF33: =SUM(AF7:AF32) -> 12 | AG33: =SUM(AG7:AG32) -> 38
AA34: =SUM(E34:Z34) -> 0
B35: CERTIFICADOS SENA | AA35: =SUM(E35:Z35) -> 0
A36: VALOR POR REGIOANAL | E36: =E33*E5 -> 57533079 | F36: =F33*F5 -> 1.1297405e+09 | G36: =G33*G5 -> 56487023 | H36: =H33*H5 -> 0 | I36: =I33*I5 -> 0 | J36: =J33*J5 -> 0 | L36: =L33*L5 -> 46608299 | M36: =M33*M5 -> 0 | N36: =N33*N5 -> 18643320 | O36: =O33*O5 -> 0 | P36: =P33*P5 -> 0 | Q36: =Q33*Q5 -> 46320054 | R36: =R33*R5 -> 21115139 | S36: =S33*S5 -> 0 | ... Z36: =Z33*Z5 -> 0 | AA36: =SUM(E36:Z36) -> 1.3836243e+09 | AB36: =AB33*AB5 -> 11780560 | AC36: =AC33*AC5 -> 2700479.3 | AD36: =AD33*AD5 -> 4813083.5 | AE36: =AE33*AE5 -> 3167212.8 | AF36: =AF33*AF5 -> 4132736.7 | AG36: =AG33*AG5 -> 4403885.4
A37: Bolivar | B37: Despacho Dirección SUPERVISOR | C37: Cartagena Km 1 Vía Turbaco | D37: Turbaco | E37: 0 | F37: 1 | G37: 0 | H37: 0 | I37: 0 | J37: 0 | K37: 0 | L37: 0 | M37: 0 | N37: 0 | O37: 0 | P37: 0 | Q37: 0 | R37: 0 | S37: 0 | T37: 0 | U37: 0 | V37: 0 | W37: 0 | X37: 0 | Y37: 0 | Z37: 0 | AB37: 0 | AC37: 0 | AD37: 0 | AE37: 0 | AF37: 0 | AG37: 0
A38: Bolivar | B38: Centro Multisectorial Ternera | C38: Cartagena Km 1 Vía Turbaco | D38: Turbaco | E38: 0 | F38: 4 | G38: 1 | H38: 0 | I38: 0 | J38: 0 | K38: 0 | L38: 0 | M38: 0 | N38: 1 | O38: 0 | P38: 0 | Q38: 0 | R38: 0 | S38: 0 | T38: 0 | U38: 0 | V38: 0 | W38: 0 | X38: 0 | Y38: 0 | Z38: 0 | AB38: 60 | AC38: 6 | AD38: 2 | AE38: 2 | AF38: 1 | AG38: 5
A39: Bolivar | B39: Centro Multisectorial Ternera | C39: Cartagena Km 1 Vía Turbaco | D39: Turbaco | E39: 0 | F39: 2 | G39: 0 | H39: 0 | I39: 0 | J39: 0 | K39: 0 | L39: 0 | M39: 0 | N39: 0 | O39: 0 | P39: 0 | Q39: 0 | R39: 0 | S39: 0 | T39: 0 | U39: 0 | V39: 0 | W39: 0 | X39: 0 | Y39: 0 | Z39: 0 | AB39: 0 | AC39: 0 | AD39: 0 | AE39: 0 | AF39: 0 | AG39: 0
A40: Bolivar | B40: Centro de Comercio y Servicios Sede Casa del Marquez | C40: Plaza de la Aduana | D40: Cartagena | E40: 0 | F40: 1 | G40: 0 | H40: 0 | I40: 0 | J40: 0 | K40: 0 | L40: 0 | M40: 0 | N40: 0 | O40: 0 | P40: 0 | Q40: 0 | R40: 0 | S40: 0 | T40: 0 | U40: 0 | V40: 0 | W40: 0 | X40: 0 | Y40: 0 | Z40: 0 | AB40: 6 | AC40: 0 | AD40: 1 | AE40: 1 | AF40: 0 | AG40: 0
A41: Bolivar | B41: Centro Agroempresarial y Minero Sede San Jacinto | C41: Plaza Principal | D41: San Jacinto | E41: 0 | F41: 1 | G41: 0 | H41: 0 | I41: 0 | J41: 0 | K41: 0 | L41: 0 | M41: 0 | N41: 0 | O41: 0 | P41: 0 | Q41: 0 | R41: 0 | S41: 0 | T41: 0 | U41: 0 | V41: 0 | W41: 0 | X41: 0 | Y41: 0 | Z41: 0 | AB41: 11 | AC41: 1 | AD41: 1 | AE41: 1 | AF41: 0 | AG41: 2
A42: Bolivar | B42: Centro Agroempresarial y Minero Sede Mompox | C42: Plaza de la Libertad - Palacio Municipal | D42: Mompox | E42: 0 | F42: 1 | G42: 0 | H42: 0 | I42: 0 | J42: 0 | K42: 0 | L42: 0 | M42: 0 | N42: 0 | O42: 0 | P42: 0 | Q42: 0 | R42: 0 | S42: 0 | T42: 0 | U42: 0 | V42: 0 | W42: 0 | X42: 0 | Y42: 0 | Z42: 0 | AB42: 11 | AC42: 1 | AD42: 1 | AE42: 1 | AF42: 1 | AG42: 0
A43: Bolivar | B43: Centro Internacional Náutico, Fluvial y Portuario | C43: Mamonal Km 5 | D43: Cartagena | E43: 0 | F43: 4 | G43: 1 | H43: 0 | I43: 0 | J43: 0 | K43: 0 | L43: 0 | M43: 0 | N43: 1 | O43: 0 | P43: 0 | Q43: 0 | R43: 0 | S43: 0 | T43: 0 | U43: 0 | V43: 0 | W43: 0 | X43: 0 | Y43: 0 | Z43: 0 | AB43: =23-13 -> 10 | AC43: =2-1 -> 1 | AD43: 1 | AE43: 1 | AF43: 1 | AG43: =5-1 -> 4
A44: Bolivar | B44: Centro para la Industria Petroquímica | C44: calle 31,kra 49A | D44: Cartagena | E44: 0 | F44: 3 | G44: 1 | H44: 0 | I44: 0 | J44: 0 | K44: 0 | L44: 0 | M44: 0 | N44: 1 | O44: 0 | P44: 0 | Q44: 0 | R44: 1 | S44: 0 | T44: 0 | U44: 0 | V44: 0 | W44: 0 | X44: 0 | Y44: 0 | Z44: 0 | AB44: =28 -> 28 | AC44: 4 | AD44: 1 | AE44: 1 | AF44: 1 | AG44: 5
A45: Bolivar | B45: Institución Educativa MANUELA BELTRAN | C45: I.E. Manuela Beltran CASD, Av. Pedro de Heredia | D45: Cartagena | E45: 0 | F45: 1 | G45: 0 | H45: 0 | I45: 0 | J45: 0 | K45: 0 | L45: 0 | M45: 0 | N45: 0 | O45: 0 | P45: 0 | Q45: 0 | R45: 0 | S45: 0 | T45: 0 | U45: 0 | V45: 0 | W45: 0 | X45: 0 | Y45: 0 | Z45: 0 | AB45: 0 | AC45: 0 | AD45: 0 | AE45: 0 | AF45: 0 | AG45: 0
A46: Bolivar | B46: Centro para la Industria PetroquímicaLiceo Bolivar | C46: Barrio Daniel Lemetre | D46: Cartagena | E46: 0 | F46: 0 | G46: 0 | H46: 0 | I46: 0 | J46: 0 | K46: 0 | L46: 0 | M46: 0 | N46: 0 | O46: 1 | P46: 0 | Q46: 0 | R46: 0 | S46: 0 | T46: 1 | U46: 0 | V46: 0 | W46: 0 | X46: 0 | Y46: 0 | Z46: 0 | AA46: =AA51*9 -> 4.4172878e+09 | AB46: 0 | AC46: 0 | AD46: 0 | AE46: 0 | AF46: 0 | AG46: 0
A47: Bolivar | B47: Centro para la Industria Petroquímica Sede INEM | C47: Tranversal 54 Bario Almirante Colon | D47: Cartagena | E47: 0 | F47: 1 | G47: 0 | H47: 0 | I47: 0 | J47: 0 | K47: 0 | L47: 0 | M47: 0 | N47: 0 | O47: 1 | P47: 0 | Q47: 0 | R47: 0 | S47: 0 | T47: 1 | U47: 0 | V47: 0 | W47: 0 | X47: 0 | Y47: 0 | Z47: 0 | AB47: =6 -> 6 | AC47: 1 | AD47: 1 | AE47: 1 | AF47: 0 | AG47: 0
A48: TOTAL REGIONAL | E48: =SUM(E37:E47) -> 0 | F48: =SUM(F37:F47) -> 19 | G48: =SUM(G37:G47) -> 3 | H48: =SUM(H37:H47) -> 0 | I48: =SUM(I37:I47) -> 0 | J48: =SUM(J37:J47) -> 0 | K48: =SUM(K37:K47) -> 0 | L48: =SUM(L37:L47) -> 0 | ... Z48: =SUM(Z37:Z47) -> 0 | AA48: =SUM(E48:Z48) -> 30 | AB48: =SUM(AB37:AB47) -> 132 | AC48: =SUM(AC37:AC47) -> 14 | AD48: =SUM(AD37:AD47) -> 8 | AE48: =SUM(AE37:AE47) -> 8 | AF48: =SUM(AF37:AF47) -> 4 | AG48: =SUM(AG37:AG47) -> 16
AA49: =SUM(E49:Z49) -> 0
B50: CERTIFICADOS SENA | AA50: =SUM(E50:Z50) -> 0
A51: VALOR POR REGIOANAL | E51: =E48*E5 -> 0 | F51: =F48*F5 -> 3.5775115e+08 | G51: =G48*G5 -> 56487023 | H51: =H48*H5 -> 0 | I51: =I48*I5 -> 0 | J51: =J48*J5 -> 0 | L51: =L48*L5 -> 0 | M51: =M48*M5 -> 0 | N51: =N48*N5 -> 27964979 | O51: =O48*O5 -> 16542877 | P51: =P48*P5 -> 0 | Q51: =Q48*Q5 -> 0 | R51: =R48*R5 -> 10557570 | S51: =S48*S5 -> 0 | ... Z51: =Z48*Z5 -> 0 | AA51: =SUM(E51:Z51) -> 4.9080976e+08 | AB51: =AB48*AB5 -> 3987266.4 | AC51: =AC48*AC5 -> 1643770 | AD51: =AD48*AD5 -> 1203270.9 | AE51: =AE48*AE5 -> 873713.87 | AF51: =AF48*AF5 -> 1377578.9 | AG51: =AG48*AG5 -> 1854267.5
A52: Cesar | B52: Despacho Dirección SUPERVISOR | C52: Kra 19 No. 14-78 | D52: Valledupar | E52: 0 | F52: 2 | G52: 0 | H52: 0 | I52: 0 | J52: 0 | K52: 0 | L52: 0 | M52: 0 | N52: 0 | O52: 0 | P52: 0 | Q52: 0 | R52: 0 | S52: 0 | T52: 0 | U52: 0 | V52: 0 | W52: 0 | X52: 0 | Y52: 0 | Z52: 0 | AB52: 2 | AC52: 0 | AD52: 0 | AE52: 1 | AF52: 1 | AG52: 0
A53: Cesar | B53: Centro de Operación y Mantenimiento Minero | C53: Kra 19 No. 14-78 | D53: Valledupar | E53: 0 | F53: 6 | G53: 0 | H53: 0 | I53: 0 | J53: 0 | K53: 0 | L53: 0 | M53: 0 | N53: 0 | O53: 0 | P53: 0 | Q53: 0 | R53: 0 | S53: 0 | T53: 0 | U53: 0 | V53: 0 | W53: 0 | X53: 0 | Y53: 0 | Z53: 0 | AB53: 17 | AC53: 0 | AD53: 0 | AE53: 0 | AF53: 0 | AG53: 1
A54: Cesar | B54: Centro de Operación y Mantenimiento Minero | C54: Kra 19 No. 14-79 APE | D54: Valledupar | E54: 0 | F54: 1 | G54: 0 | H54: 0 | I54: 0 | J54: 0 | K54: 0 | L54: 0 | M54: 0 | N54: 0 | O54: 0 | P54: 0 | Q54: 0 | R54: 0 | S54: 0 | T54: 0 | U54: 0 | V54: 0 | W54: 0 | X54: 0 | Y54: 0 | Z54: 0
A55: Cesar | B55: Centro de Operación y Mantenimiento Minero Tecnoparque | C55: Centro de Emprendimiento y Cultural de Valledupar- Calle 39 No. 5 A- 170 Barrio Panamá | D55: Valledupar | E55: 0 | F55: 3 | G55: 0 | H55: 0 | I55: 0 | J55: 0 | K55: 0 | L55: 0 | M55: 0 | N55: 0 | O55: 0 | P55: 0 | Q55: 0 | R55: 0 | S55: 0 | T55: 0 | U55: 0 | V55: 0 | W55: 0 | X55: 0 | Y55: 0 | Z55: 0 | AB55: 16 | AC55: 0 | AD55: 1 | AE55: 1 | AF55: 0 | AG55: 2
A56: Cesar | B56: Centro de Operación y Mantenimiento Minero | C56: Diagonal 4 Transversal 6 Esquina | D56: La Jagua de Ibirico | E56: 0 | F56: 0 | G56: 0 | H56: 0 | I56: 0 | J56: 0 | K56: 0 | L56: 0 | M56: 0 | N56: 0 | O56: 0 | P56: 0 | Q56: 0 | R56: 0 | S56: 0 | T56: 0 | U56: 0 | V56: 0 | W56: 0 | X56: 0 | Y56: 0 | Z56: 0
A57: Cesar | B57: Centro de Operación y Mantenimiento Minero | C57: sede nueva | D57: La Jagua de Ibirico | E57: 0 | F57: 5 | G57: 0 | H57: 0 | I57: 0 | J57: 0 | K57: 0 | L57: 0 | M57: 0 | N57: 0 | O57: 0 | P57: 0 | Q57: 0 | R57: 0 | S57: 0 | T57: 0 | U57: 0 | V57: 0 | W57: 0 | X57: 0 | Y57: 0 | Z57: 0 | AB57: 15 | AC57: 2 | AD57: 1 | AE57: 0 | AF57: 0 | AG57: 0
A58: Cesar | B58: Centro de Operación y Mantenimiento Minero | C58: Carrera 14A No. 20-04 | D58: Bosconia | E58: 0 | F58: 2 | G58: 0 | H58: 0 | I58: 0 | J58: 0 | K58: 0 | L58: 0 | M58: 0 | N58: 0 | O58: 0 | P58: 0 | Q58: 0 | R58: 0 | S58: 0 | T58: 0 | U58: 0 | V58: 0 | W58: 0 | X58: 0 | Y58: 0 | Z58: 0 | AB58: =10-4 -> 6 | AC58: 2 | AD58: 1 | AE58: 1 | AF58: 0 | AG58: 0
A59: Cesar | B59: Centro de Operación y Mantenimiento Minero | C59: Diagonal 18 A Entre Calle 30 y 31 (Barrio Fundadores - Sabanas del Valle) SUBSEDE CENTRO DE DESARROLLO VECINAL - CDV | D59: Valledupar | E59: 0 | F59: 3 | G59: 0 | H59: 0 | I59: 0 | J59: 0 | K59: 0 | L59: 0 | M59: 0 | N59: 0 | O59: 0 | P59: 0 | Q59: 0 | R59: 0 | S59: 0 | T59: 0 | U59: 0 | V59: 0 | W59: 0 | X59: 0 | Y59: 0 | Z59: 0 | AB59: 14 | AC59: 0 | AD59: 1 | AE59: 1 | AF59: 0 | AG59: 2
A60: Cesar | B60: Centro Biotecnológico del Caribe | C60: Km. 7 Vía a La Paz SUPERVISOR | D60: Valledupar | E60: 0 | F60: 1 | G60: 0 | H60: 0 | I60: 0 | J60: 0 | K60: 0 | L60: 0 | M60: 0 | N60: 0 | O60: 0 | P60: 0 | Q60: 0 | R60: 0 | S60: 0 | T60: 0 | U60: 0 | V60: 0 | W60: 0 | X60: 0 | Y60: 0 | Z60: 0 | AB60: 0 | AC60: 0 | AD60: 0 | AE60: 0 | AF60: 0 | AG60: 0
A61: Cesar | B61: Centro Biotecnológico del Caribe | C61: Km. 7 Vía a La Paz | D61: Valledupar | E61: 2 | F61: 10 | G61: 0 | H61: 0 | I61: 0 | J61: 0 | K61: 0 | L61: 0 | M61: 0 | N61: 0 | O61: 0 | P61: 0 | Q61: 0 | R61: 0 | S61: 0 | T61: 0 | U61: 0 | V61: 0 | W61: 0 | X61: 0 | Y61: 0 | Z61: 0 | AB61: =37-27 -> 10 | AC61: =2 -> 2 | AD61: =2 -> 2 | AE61: =2 -> 2 | AF61: =2 -> 2 | AG61: =1 -> 1
A62: Cesar | B62: Centro Biotecnológico del Caribe | C62: Plantel Educativo “AGUSTIN CODAZZI (Tecnoacademia) | D62: Agustin Codazzi | E62: 0 | F62: 2 | G62: 0 | H62: 0 | I62: 0 | J62: 0 | K62: 0 | L62: 0 | M62: 0 | N62: 0 | O62: 0 | P62: 0 | Q62: 0 | R62: 0 | S62: 0 | T62: 0 | U62: 0 | V62: 0 | W62: 0 | X62: 0 | Y62: 0 | Z62: 0 | AB62: 0 | AC62: 0 | AD62: 0 | AE62: 0 | AF62: 0 | AG62: 0
A63: Cesar | B63: Centro Biotecnológico del Caribe | C63: Barrio El Senado. | D63: Chiriguana | E63: 0 | F63: 3 | G63: 0 | H63: 0 | I63: 0 | J63: 0 | K63: 0 | L63: 0 | M63: 0 | N63: 0 | O63: 0 | P63: 0 | Q63: 0 | R63: 0 | S63: 0 | T63: 0 | U63: 0 | V63: 0 | W63: 0 | X63: 0 | Y63: 0 | Z63: 0 | AB63: 10 | AC63: 2 | AD63: 1 | AE63: 1 | AF63: 1 | AG63: 1
A64: Cesar | B64: Centro Biotecnológico del Caribe | C64: Sector Chambacú, barrio Villa esther | D64: Chimichagua | E64: 0 | F64: 3 | G64: 0 | H64: 0 | I64: 0 | J64: 0 | K64: 0 | L64: 0 | M64: 0 | N64: 0 | O64: 0 | P64: 0 | Q64: 0 | R64: 0 | S64: 0 | T64: 0 | U64: 0 | V64: 0 | W64: 0 | X64: 0 | Y64: 0 | Z64: 0 | AB64: 12 | AC64: 2 | AD64: 1 | AE64: 1 | AF64: 1 | AG64: 1
A65: Cesar | B65: Centro Biotecnológico del Caribe | C65: ETNICO Carrera 42 Diagonal 11a avenida Brisas de la Popa, Valledupar Cesar | D65: Valledupar | E65: 0 | F65: 2 | G65: 0 | H65: 0 | L65: 0 | N65: 0 | O65: 0 | P65: 0 | Q65: 0 | R65: 0 | T65: 0 | U65: 0 | V65: 0 | X65: 0 | AB65: 16 | AC65: 0 | AD65: 1 | AE65: 1 | AF65: 1 | AG65: 1
A66: Cesar | B66: Centro Agroempresarial | C66: Calle 4 No. 20-33 Barrio Camilo Torres. | D66: Curumaní | E66: 0 | F66: 3 | G66: 0 | H66: 0 | I66: 0 | J66: 0 | K66: 0 | L66: 0 | M66: 0 | N66: 0 | O66: 0 | P66: 0 | Q66: 0 | R66: 0 | S66: 0 | T66: 0 | U66: 0 | V66: 0 | W66: 0 | X66: 0 | Y66: 0 | Z66: 0 | AB66: 12 | AC66: 0 | AD66: 1 | AE66: 1 | AF66: 1 | AG66: 1
A67: Cesar | B67: Centro Agroempresarial | C67: Calle 2B No.16-26. | D67: San Alberto | E67: 0 | F67: 3 | G67: 0 | H67: 0 | I67: 0 | J67: 0 | K67: 0 | L67: 0 | M67: 0 | N67: 0 | O67: 0 | P67: 0 | Q67: 0 | R67: 0 | S67: 0 | T67: 0 | U67: 0 | V67: 0 | W67: 0 | X67: 0 | Y67: 0 | Z67: 0 | AB67: 12 | AC67: 0 | AD67: 1 | AE67: 1 | AF67: 1 | AG67: 1
A68: Cesar | B68: Centro Agroempresarial | C68: Kilómetro 1 Vía Bucaramanga | D68: Aguachica | E68: 0 | F68: 4 | G68: 0 | H68: 0 | I68: 0 | J68: 0 | K68: 0 | L68: 0 | M68: 0 | N68: 0 | O68: 0 | P68: 0 | Q68: 0 | R68: 0 | S68: 0 | T68: 0 | U68: 0 | V68: 0 | W68: 0 | X68: 0 | Y68: 0 | Z68: 0 | AA68: =AA73*9 -> 9.3266352e+09 | AB68: 32 | AC68: 0 | AD68: 1 | AE68: 1 | AF68: 1 | AG68: 1
A70: TOTAL REGIONAL | E70: =SUM(E52:E68) -> 2 | F70: =SUM(F52:F69) -> 53 | G70: =SUM(G52:G68) -> 0 | H70: =SUM(H52:H68) -> 0 | I70: =SUM(I52:I68) -> 0 | J70: =SUM(J52:J68) -> 0 | L70: =SUM(L52:L68) -> 0 | M70: =SUM(M52:M68) -> 0 | N70: =SUM(N52:N68) -> 0 | O70: =SUM(O52:O68) -> 0 | P70: =SUM(P52:P68) -> 0 | Q70: =SUM(Q52:Q68) -> 0 | R70: =SUM(R52:R68) -> 0 | S70: =SUM(S52:S68) -> 0 | ... Z70: =SUM(Z52:Z68) -> 0 | AA70: =SUM(E70:Z70) -> 55 | AB70: =SUM(AB52:AB68) -> 174 | AC70: =SUM(AC52:AC68) -> 10 | AD70: =SUM(AD52:AD68) -> 12 | AE70: =SUM(AE52:AE68) -> 12 | AF70: =SUM(AF52:AF68) -> 9 | AG70: =SUM(AG52:AG68) -> 12
AA71: =SUM(E71:Z71) -> 0
B72: CERTIFICADOS SENA | AA72: =SUM(E72:Z72) -> 0
A73: VALOR POR REGIOANAL | E73: =E70*E5 -> 38355386 | F73: =F70*F5 -> 9.9793741e+08 | G73: =G70*G5 -> 0 | H73: =H70*H5 -> 0 | I73: =I70*I5 -> 0 | J73: =J70*J5 -> 0 | L73: =L70*L5 -> 0 | M73: =M70*M5 -> 0 | N73: =N70*N5 -> 0 | O73: =O70*O5 -> 0 | P73: =P70*P5 -> 0 | Q73: =Q70*Q5 -> 0 | R73: =R70*R5 -> 0 | S73: =S70*S5 -> 0 | ... Z73: =Z70*Z5 -> 0 | AA73: =SUM(E73:Z73) -> 1.0362928e+09 | AB73: =AB70*AB5 -> 5255942 | AC73: =AC70*AC5 -> 1174121.4 | AD73: =AD70*AD5 -> 1804906.3 | AE73: =AE70*AE5 -> 1310570.8 | AF73: =AF70*AF5 -> 3099552.5 | AG73: =AG70*AG5 -> 1390700.6
A74: Cordoba | B74: Despacho Dirección | C74: Avenida circunvalar calle 24 y 27 | D74: Montería | E74: 0 | F74: 0 | G74: 0 | H74: 0 | I74: 0 | J74: 0 | K74: 0 | L74: 0 | M74: 0 | N74: 1 | O74: 0 | P74: 0 | Q74: 0 | R74: 0 | S74: 0 | T74: 0 | U74: 0 | V74: 0 | W74: 0 | X74: 0 | Y74: 0 | Z74: 0 | AB74: 10 | AC74: 2 | AD74: 1 | AE74: 1 | AF74: 1 | AG74: 0
A75: Cordoba | B75: Centro de Comercio, Industria y Turismo de Córdoba | C75: Avenida circunvalar calle 24 y 27 | D75: Montería | E75: 0 | F75: 4 | G75: 0 | H75: 0 | I75: 0 | J75: 0 | K75: 0 | L75: 0 | M75: 0 | N75: 1 | O75: 0 | P75: 1 | Q75: 0 | R75: 0 | S75: 0 | T75: 0 | U75: 0 | V75: 0 | W75: 0 | X75: 0 | Y75: 0 | Z75: 0 | AB75: 16 | AC75: 1 | AD75: =1-1 -> 0 | AE75: 1 | AF75: 0 | AG75: 2
A76: Cordoba | B76: Centro de Comercio, Industria y Turismo de Córdoba | C76: Carrera 9 No. 1-35 Antigua Planta de Hielo. | D76: Lorica | E76: 0 | F76: 1 | G76: 0 | H76: 0 | I76: 0 | J76: 0 | K76: 0 | L76: 0 | M76: 0 | N76: 0 | O76: 0 | P76: 0 | Q76: 0 | R76: 0 | S76: 0 | T76: 0 | U76: 0 | V76: 0 | W76: 0 | X76: 0 | Y76: 0 | Z76: 0 | AB76: 15 | AC76: 1 | AD76: 1 | AE76: 1 | AF76: 1 | AG76: 2
A77: Cordoba | B77: Centro de Comercio, Industria y Turismo de Córdoba | C77: Sub sede San Jorge | D77: Montelibano | E77: 0 | F77: 4 | G77: 0 | H77: 0 | I77: 0 | J77: 0 | K77: 0 | L77: 0 | M77: 0 | N77: 0 | O77: 0 | P77: 0 | Q77: 0 | R77: 0 | S77: 0 | T77: 0 | U77: 0 | V77: 0 | W77: 0 | X77: 0 | Y77: 0 | Z77: 0 | AB77: 10 | AC77: 0 | AD77: 1 | AE77: 0 | AF77: 0 | AG77: 1
A78: Cordoba | B78: Centro Agropecuario y de Biotecnología el Porvenir | C78: k. 45 corregimiento Santa Isabel vía Tierralta | D78: Montería | E78: 1 | F78: 5 | G78: 1 | H78: 0 | I78: 0 | J78: 0 | K78: 0 | L78: 0 | M78: 0 | N78: 0 | O78: 0 | P78: 0 | Q78: 0 | R78: 0 | S78: 0 | T78: 0 | U78: 0 | V78: 0 | W78: 0 | X78: 0 | Y78: 0 | Z78: 0 | AB78: 26 | AC78: 2 | AD78: 2 | AE78: 2 | AF78: 1 | AG78: 3
A79: Cordoba | B79: Centro Agropecuario y de Biotecnología el Porvenir | C79: Kilómetro 11 Vía Montería Cereté frente al aeropuerto Los Garzones Sede la Vitrina | D79: Montería | E79: 1 | F79: 4 | G79: 0 | H79: 0 | I79: 0 | J79: 0 | K79: 0 | L79: 0 | M79: 0 | N79: 0 | O79: 0 | P79: 0 | Q79: 0 | R79: 0 | S79: 0 | T79: 0 | U79: 0 | V79: 0 | W79: 0 | X79: 0 | Y79: 0 | Z79: 0 | AA79: =AA83*9 -> 3.7823773e+09 | AB79: 13 | AC79: 0 | AD79: 1 | AE79: 1 | AF79: 1 | AG79: 1
A80: TOTAL REGIONAL | E80: =SUM(E74:E79) -> 2 | F80: =SUM(F74:F79) -> 18 | G80: =SUM(G74:G79) -> 1 | H80: =SUM(H74:H79) -> 0 | I80: =SUM(I74:I79) -> 0 | J80: =SUM(J74:J79) -> 0 | L80: =SUM(L74:L79) -> 0 | M80: =SUM(M74:M79) -> 0 | N80: =SUM(N74:N79) -> 2 | O80: =SUM(O74:O79) -> 0 | P80: =SUM(P74:P79) -> 1 | Q80: =SUM(Q74:Q79) -> 0 | R80: =SUM(R74:R79) -> 0 | S80: =SUM(S74:S79) -> 0 | ... Z80: =SUM(Z74:Z79) -> 0 | AA80: =SUM(E80:Z80) -> 24 | AB80: =SUM(AB74:AB79) -> 90 | AC80: =SUM(AC74:AC79) -> 6 | AD80: =SUM(AD74:AD79) -> 6 | AE80: =SUM(AE74:AE79) -> 6 | AF80: =SUM(AF74:AF79) -> 4 | AG80: =SUM(AG74:AG79) -> 9
AA81: =SUM(E81:Z81) -> 0
B82: CERTIFICADOS SENA | AA82: =SUM(E82:Z82) -> 0
A83: VALOR POR REGIOANAL | E83: =E80*E5 -> 38355386 | F83: =F80*F5 -> 3.3892214e+08 | G83: =G80*G5 -> 18829008 | H83: =H80*H5 -> 0 | I83: =I80*I5 -> 0 | J83: =J80*J5 -> 0 | L83: =L80*L5 -> 0 | M83: =M80*M5 -> 0 | N83: =N80*N5 -> 18643320 | O83: =O80*O5 -> 0 | P83: =P80*P5 -> 5514292.2 | Q83: =Q80*Q5 -> 0 | R83: =R80*R5 -> 0 | S83: =S80*S5 -> 0 | ... Z83: =Z80*Z5 -> 0 | AA83: =SUM(E83:Z83) -> 4.2026415e+08 | AB83: =AB80*AB5 -> 2718590.7 | AC83: =AC80*AC5 -> 704472.86 | AD83: =AD80*AD5 -> 902453.16 | AE83: =AE80*AE5 -> 655285.4 | AF83: =AF80*AF5 -> 1377578.9 | AG83: =AG80*AG5 -> 1043025.5
A84: Guajira | B84: Despacho Direccion SUPERVISOR | C84: Avenida Aeropuerto Calle 21 esquina | D84: Riohacha | E84: 0 | F84: 1 | G84: 0 | H84: 0 | I84: 0 | J84: 0 | K84: 0 | L84: 0 | M84: 0 | N84: 0 | O84: 0 | P84: 0 | Q84: 0 | R84: 0 | S84: 0 | T84: 0 | U84: 0 | V84: 0 | W84: 0 | X84: 0 | Y84: 0 | Z84: 0 | AB84: 0 | AC84: 0 | AD84: 0 | AE84: 0 | AF84: 0 | AG84: 0
A85: Guajira | B85: Centro Industrial y de Energias Alternativas | C85: Calle 21 Carrera 15 Avenida al Aeropuerto Sede Comercioy Servicios | D85: Riohacha | E85: 0 | F85: 6 | G85: 1 | H85: 0 | I85: 0 | J85: 0 | K85: 0 | L85: 0 | M85: 0 | N85: 0 | O85: 0 | P85: 0 | Q85: 0 | R85: 0 | S85: 0 | T85: 0 | U85: 0 | V85: 0 | W85: 0 | X85: 0 | Y85: 0 | Z85: 0 | AB85: 40 | AC85: 5 | AD85: 2 | AE85: 2 | AF85: 1 | AG85: 7
A86: Guajira | B86: Centro Industrial y de Energias Alternativas | C86: Calle 15 No 21-70 Sede Centro Medico | D86: Riohacha | E86: 0 | F86: 0 | G86: 0 | H86: 0 | I86: 0 | J86: 0 | K86: 0 | L86: 0 | M86: 0 | N86: 0 | O86: 0 | P86: 0 | Q86: 0 | R86: 0 | S86: 0 | T86: 0 | U86: 0 | V86: 0 | W86: 0 | X86: 0 | Y86: 0 | Z86: 0 | AB86: 0 | AC86: 0 | AD86: 0 | AE86: 0 | AF86: 0 | AG86: 0
A87: Guajira | B87: Centro Industrial y de Energias Alternativas | C87: Calle 16 No. 44 - 46 Troncal del caribe Sede Maicao | D87: Maicao | E87: 0 | F87: 3 | G87: 0 | H87: 0 | I87: 0 | J87: 0 | K87: 0 | L87: 0 | M87: 0 | N87: 0 | O87: 0 | P87: 0 | Q87: 0 | R87: 0 | S87: 0 | T87: 0 | U87: 0 | V87: 0 | W87: 0 | X87: 0 | Y87: 0 | Z87: 0 | AB87: 13 | AC87: 3 | AD87: 1 | AE87: 1 | AF87: 1 | AG87: 3
A88: Guajira | B88: Centro Industrial y de Energias Alternativas | C88: Kilómetro 5 Salida a Maicao Sede Industrial | D88: Riohacha | E88: 0 | F88: 7 | G88: 0 | H88: 0 | I88: 0 | J88: 0 | K88: 0 | L88: 0 | M88: 0 | N88: 0 | O88: 2 | P88: 0 | Q88: 0 | R88: 0 | S88: 0 | T88: 2 | U88: 0 | V88: 0 | W88: 0 | X88: 0 | Y88: 0 | Z88: 0 | AB88: 26 | AC88: 4 | AD88: 2 | AE88: 2 | AF88: 1 | AG88: 4
A89: Guajira | B89: Centro Industrial y de Energias Alternativas | C89: Cra 7 # 20-15 Sede Archivo | D89: Riohacha | E89: 0 | F89: 0 | G89: 0 | H89: 0 | I89: 0 | J89: 0 | K89: 0 | L89: 0 | M89: 0 | N89: 0 | O89: 0 | P89: 0 | Q89: 0 | R89: 0 | S89: 0 | T89: 0 | U89: 0 | V89: 0 | W89: 0 | X89: 0 | Y89: 0 | Z89: 0
A90: Guajira | B90: Centro Industrial y de Energias Alternativas | C90: cra 44 # 14h - 29 Sede Campoalegre | D90: Riohacha | E90: 0 | F90: 2 | G90: 0 | H90: 0 | I90: 0 | J90: 0 | K90: 0 | L90: 0 | M90: 0 | N90: 0 | O90: 0 | P90: 0 | Q90: 0 | R90: 0 | S90: 0 | T90: 0 | U90: 0 | V90: 0 | W90: 0 | X90: 0 | Y90: 0 | Z90: 0 | AB90: 0 | AC90: 0 | AD90: 0 | AE90: 0 | AF90: 0 | AG90: 0
A91: Guajira | B91: Centro Industrial y de Energias Alternativas | C91: calle 12b # 21-65 barrio marbella Sede Cocina | D91: Riohacha | E91: 0 | F91: 1 | G91: 0 | H91: 0 | I91: 0 | J91: 0 | K91: 0 | L91: 0 | M91: 0 | N91: 0 | O91: 0 | P91: 0 | Q91: 0 | R91: 0 | S91: 0 | T91: 0 | U91: 0 | V91: 0 | W91: 0 | X91: 0 | Y91: 0 | Z91: 0 | AB91: 19 | AC91: 4 | AD91: 1 | AE91: 1 | AF91: 0 | AG91: 2
A92: Guajira | B92: Centro Agroempresarial y Acuícola | C92: Km 0,8 via Barrrancas SUPERVISOR | D92: Fonseca | E92: 0 | F92: 1 | G92: 0 | H92: 0 | I92: 0 | J92: 0 | K92: 0 | L92: 0 | M92: 0 | N92: 0 | O92: 0 | P92: 0 | Q92: 0 | R92: 0 | S92: 0 | T92: 0 | U92: 0 | V92: 0 | W92: 0 | X92: 0 | Y92: 0 | Z92: 0 | AB92: 0 | AC92: 0 | AD92: 0 | AE92: 0 | AF92: 0 | AG92: 0
A93: Guajira | B93: Centro Agroempresarial y Acuícola | C93: Km 0,8 via Barrrancas | D93: Fonseca | E93: 0 | F93: 9 | G93: 1 | H93: 0 | I93: 0 | J93: 0 | K93: 0 | L93: 0 | M93: 0 | N93: 0 | O93: 0 | P93: 0 | Q93: 0 | R93: 0 | S93: 0 | T93: 0 | U93: 0 | V93: 0 | W93: 0 | X93: 0 | Y93: 0 | Z93: 0 | AB93: 0 | AC93: 0 | AD93: 0 | AE93: 0 | AF93: 0 | AG93: 0
A94: Guajira | B94: Centro Agroempresarial y Acuícola | C94: Antígüo Colegio Julia Sierra Iguarán, Barrio Abuchaibe | D94: Uribia | E94: 0 | F94: 1 | G94: 0 | H94: 0 | I94: 0 | J94: 0 | K94: 0 | L94: 0 | M94: 0 | N94: 0 | O94: 0 | P94: 0 | Q94: 0 | R94: 0 | S94: 0 | T94: 0 | U94: 0 | V94: 0 | W94: 0 | X94: 0 | Y94: 0 | Z94: 0 | AA94: =AA99*9 -> 6.1041177e+09 | AB94: 6 | AC94: 0 | AD94: 1 | AE94: 1 | AF94: 0 | AG94: 1
A95: Guajira | B95: Centro Agroempresarial y Acuícola | C95: CREM Villanueva, Carrera 13 No. 11 - 42, Barrio las Delicias | D95: Villanueva | E95: 0 | F95: 1 | G95: 0 | H95: 0 | I95: 0 | J95: 0 | K95: 0 | L95: 0 | M95: 0 | N95: 0 | O95: 0 | P95: 0 | Q95: 0 | R95: 0 | S95: 0 | T95: 0 | U95: 0 | V95: 0 | W95: 0 | X95: 0 | Y95: 0 | Z95: 0
A96: TOTAL REGIONAL | E96: =SUM(E84:E95) -> 0 | F96: =SUM(F84:F95) -> 32 | G96: =SUM(G84:G95) -> 2 | H96: =SUM(H84:H95) -> 0 | I96: =SUM(I84:I95) -> 0 | J96: =SUM(J84:J95) -> 0 | L96: =SUM(L84:L95) -> 0 | M96: =SUM(M84:M95) -> 0 | N96: =SUM(N84:N95) -> 0 | O96: =SUM(O84:O95) -> 2 | P96: =SUM(P84:P95) -> 0 | Q96: =SUM(Q84:Q95) -> 0 | R96: =SUM(R84:R95) -> 0 | S96: =SUM(S84:S95) -> 0 | ... Z96: =SUM(Z84:Z95) -> 0 | AA96: =SUM(E96:Z96) -> 38 | AB96: =SUM(AB84:AB95) -> 104 | AC96: =SUM(AC84:AC95) -> 16 | AD96: =SUM(AD84:AD95) -> 7 | AE96: =SUM(AE84:AE95) -> 7 | AF96: =SUM(AF84:AF95) -> 3 | AG96: =SUM(AG84:AG95) -> 17
AA97: =SUM(E97:Z97) -> 0
B98: CERTIFICADOS SENA | AA98: =SUM(E98:Z98) -> 0
A99: VALOR POR REGIOANAL | E99: =E96*E5 -> 0 | F99: =F96*F5 -> 6.0252825e+08 | G99: =G96*G5 -> 37658016 | H99: =H96*H5 -> 0 | I99: =I96*I5 -> 0 | J99: =J96*J5 -> 0 | L99: =L96*L5 -> 0 | M99: =M96*M5 -> 0 | N99: =N96*N5 -> 0 | O99: =O96*O5 -> 16542877 | P99: =P96*P5 -> 0 | Q99: =Q96*Q5 -> 0 | R99: =R96*R5 -> 0 | S99: =S96*S5 -> 0 | ... Z99: =Z96*Z5 -> 0 | AA99: =SUM(E99:Z99) -> 6.782353e+08 | AB99: =AB96*AB5 -> 3141482.6 | AC99: =AC96*AC5 -> 1878594.3 | AD99: =AD96*AD5 -> 1052862 | AE99: =AE96*AE5 -> 764499.63 | AF99: =AF96*AF5 -> 1033184.2 | AG99: =AG96*AG5 -> 1970159.2
A100: Magdalena | B100: Despacho Dirección SUPERVISOR | C100: Calle 29 # 13 - 127 Barrio Bavaria | D100: Santa Marta | E100: 0 | F100: 1 | G100: 0 | H100: 0 | J100: 0 | K100: 0 | L100: 0 | M100: 0 | N100: 0 | O100: 0 | P100: 0 | Q100: 0 | R100: 0 | S100: 0 | T100: 0 | U100: 0 | V100: 0 | W100: 0 | X100: 0 | Y100: 0 | Z100: 0 | AB100: 8 | AC100: 0 | AD100: 1 | AE100: 1 | AF100: 1 | AG100: 2
A101: Magdalena | B101: Despacho Dirección | C101: Avenida Ferrocarril # 27-97 (APE) | D101: Santa Marta | E101: 0 | F101: 1 | G101: 0 | H101: 0 | I101: 0 | J101: 0 | K101: 0 | L101: 0 | M101: 0 | N101: 0 | O101: 0 | P101: 1 | Q101: 0 | R101: 0 | S101: 0 | T101: 0 | U101: 0 | V101: 0 | W101: 0 | X101: 0 | Y101: 0 | Z101: 0 | AB101: 0 | AC101: 0 | AD101: 0 | AE101: 0 | AF101: 0 | AG101: 0
...

Sheet ZONA 1 9,85 POR 14 DÍAS
H1: 1750905 | I1: 9.85 | J1: 2850
A2: COSTO DE MODALIDADES VIGILANCIA 2026 ZONA 1 | D2: TARIFAS | E2: =(($H$1*$I$1)+$J$1)/30*14 -> 8049656.6 | F2: =(($H$1*$I$1)+$J$1)/30*14 -> 8049656.6 | G2: =(($H$1*$I$1)+$J$1)/30*14 -> 8049656.6 | H2: =(($H$1*$I$1)+$J$1)/30*14 -> 8049656.6 | I2: =(($H$1*$I$1)+$J$1)/30*20/20*10 -> 5749754.8 | J2: =(($H$1*$I$1)+$J$1)/30*24/24*12 -> 6899705.7 | K2: =(((($H$1*$I$1)+$J$1)*0.4759/13*5)+((($H$1*$I$1)+$J$1)*0.5241/11*11))/30*14 -> 5692221.8 | L2: =(((($H$1*$I$1)+$J$1)*0.4759/13*13)+((($H$1*$I$1)+$J$1)*0.5241/11*3))/30*14 -> 4981420.2 | M2: =(((($H$1*$I$1)+$J$1)*0.4759/30*20/13*13)+((($H$1*$I$1)+$J$1)*0.5241/30*20/11*3))/20*10 -> 3558157.3 | N2: =(((($H$1*$I$1)+$J$1)*0.4759/30*24/13*13)+((($H$1*$I$1)+$J$1)*0.5241/30*24/11*3))/24*12 -> 4269788.8 | O2: =((($H$1*$I$1)+$J$1)*0.4759/13*12)/30*14 -> 3536152.2 | P2: =((($H$1*$I$1)+$J$1)*0.4759/30*20/13*12)/20*10 -> 2525823 | Q2: =((($H$1*$I$1)+$J$1)*0.4759/30*24/13*12)/24*12 -> 3030987.6 | R2: =(((($H$1*$I$1)+$J$1)*0.4759/13*1)+((($H$1*$I$1)+$J$1)*0.5241/11*11))/30*14 -> 4513504.4 | S2: =(((($H$1*$I$1)+$J$1)*0.4759/30*24/13*1)+((($H$1*$I$1)+$J$1)*0.5241/30*24/11*11))/24*12 -> 3868718.1 | T2: =(((($H$1*$I$1)+$J$1)*0.4759/13*1)+((($H$1*$I$1)+$J$1)*0.5241/11*11))/30*14 -> 4513504.4 | U2: =(((($H$1*$I$1)+$J$1)*0.5241/11*8))/30*14 -> 3068236.4 | V2: =(((($H$1*$I$1)+$J$1)*0.5241/11*8))/30*14 -> 3068236.4 | W2: =((($H$1*$I$1)+$J$1)*0.5241/30*20/11*8) -> 4383194.9 | X2: =((($H$1*$I$1)+$J$1)*0.4759/30*24/13*8)/24*12 -> 2020658.4 | Y2: =((($H$1*$I$1)+$J$1)*0.4759/30*20/13*8)/20*10 -> 1683882 | Z2: =((($H$1*$I$1)+$J$1)*0.4759/13*8)/30*14 -> 2357434.8 | AB2: =+'ZONA 1 9,77'!AB2/30*14 -> 11845.711 | AC2: =+'ZONA 1 9,77'!AC2/30*14 -> 46043.978 | AD2: =+'ZONA 1 9,77'!AD2/30*14 -> 58983.867 | AE2: =+'ZONA 1 9,77'!AE2/30*14 -> 42829.111 | AF2: =+'ZONA 1 9,77'!AF2/30*14 -> 135056.76 | AG2: =+'ZONA 1 9,77'!AG2/30*14 -> 45447.733
D3: AYS | E3: =E2*10% -> 804965.67 | F3: =F2*8% -> 643972.53 | G3: =G2*8% -> 643972.53 | H3: =H2*11% -> 885462.23 | I3: =I2*8% -> 459980.38 | J3: =J2*8% -> 551976.46 | K3: =K2*8% -> 455377.75 | L3: =L2*8% -> 398513.62 | M3: =M2*8% -> 284652.59 | N3: =N2*8% -> 341583.1 | O3: =O2*8% -> 282892.18 | P3: =P2*8% -> 202065.84 | ... S3: =S2*8% -> 309497.44 | T3: =T2*10% -> 451350.44 | U3: =U2*10% -> 306823.64 | V3: =V2*8% -> 245458.91 | W3: =W2*8% -> 350655.59 | X3: =X2*8% -> 161652.67 | Y3: =Y2*8% -> 134710.56 | Z3: =Z2*8% -> 188594.79
D4: IVA | E4: =(E2+E3)*0.019 -> 168237.82 | F4: =(F2+F3)*0.019 -> 165178.95 | G4: =(G2+G3)*0.019 -> 165178.95 | H4: =(H2+H3)*0.019 -> 169767.26 | I4: =(I2+I3)*0.019 -> 117984.97 | J4: =(J2+J3)*0.019 -> 141581.96 | K4: =(K2+K3)*0.019 -> 116804.39 | L4: =(L2+L3)*0.019 -> 102218.74 | ... Z4: =(Z2+Z3)*0.019 -> 48374.563 | AB4: =+AB2*0.19 -> 2250.6851 | AC4: =+AC2*0.19 -> 8748.3558 | AD4: =+AD2*0.19 -> 11206.935 | AE4: =+AE2*0.19 -> 8137.5311 | AF4: =+AF2*0.19 -> 25660.784 | AG4: =+AG2*0.19 -> 8635.0693
D5: TOTAL | E5: =+E2+E3+E4 -> 9022860.1 | F5: =+F2+F3+F4 -> 8858808.1 | G5: =+G2+G3+G4 -> 8858808.1 | H5: =+H2+H3+H4 -> 9104886.1 | I5: =+I2+I3+I4 -> 6327720.1 | J5: =+J2+J3+J4 -> 7593264.1 | K5: =+K2+K3+K4 -> 6264404 | L5: =+L2+L3+L4 -> 5482152.6 | ... Z5: =+Z2+Z3+Z4 -> 2594404.2 | AB5: =+AB2+AB4 -> 14096.396 | AC5: =+AC2+AC4 -> 54792.334 | AD5: =+AD2+AD4 -> 70190.801 | AE5: =+AE2+AE4 -> 50966.642 | AF5: =+AF2+AF4 -> 160717.54 | AG5: =+AG2+AG4 -> 54082.803
A6: REGIONAL | B6: CENTRO | C6: DIRECCIÓN | D6: MUNICIPIO | E6: PUESTO 24 HORAS TODOS LOS DÍAS CON ARMA | F6: PUESTO 24 HORAS TODOS LOS DÍAS SIN ARMA | G6: PUESTO 24 HORAS MONITOREO | H6: PUESTO 24 HORAS TODOS LOS DÍAS CON CANINO | I6: PUESTO 24 HORAS LUNES A VIERNES SIN ARMA | J6: PUESTO 24 HORAS LUNES A SABADO SIN ARMA | K6: PUESTO 16 HORAS (INCLUYE 11 HORAS NOCTURNAS) TODOS LOS DÍAS SIN ARMA | L6: PUESTO 16 HORAS (INCLUYE 3 HORA NOCTURNA) TODOS LOS DÍAS SIN ARMA | M6: PUESTO 16 HORAS (INCLUYE 3 HORA NOCTURNA) LUNES A VIERNES NO INCLUYE FESTIVOS SIN ARMA | N6: PUESTO 16 HORAS (INCLUYE 3 HORA NOCTURNA) LUNES A SÁBADO NO INCLUYE FESTIVOS SIN ARMA | O6: PUESTO 12 HORAS DIURNAS TODOS LOS DÍAS SIN ARMA | P6: PUESTO 12 HORAS DIURNAS LUNES A VIERNES NO INCLUYE FESTIVOS SIN ARMA | Q6: PUESTO 12 HORAS DIURNAS LUNES A SÁBADO NO INCLUYE FESTIVOS SIN ARMA | R6: PUESTO 12 HORAS (INCLUYE 11 HORAS NOCTURNAS) TODOS LOS DIAS SIN ARMA | S6: PUESTO 12 HORAS (INCLUYE 11 HORAS NOCTURNAS) LUNES A SABADO SIN ARMA | T6: PUESTO 12 HORAS (INCLUYE 9 HORAS NOCTURNAS) TODOS LOS DIAS CON ARMA | U6: PUESTO 8 HORAS NOCTURNAS TODOS LOS DÍAS CON ARMA | V6: PUESTO 8 HORAS NOCTURNAS TODOS LOS DÍAS SIN ARMA | W6: PUESTO 8 HORAS NOCTURNAS LUNES A VIERNES SIN ARMA | X6: PUESTO 8 HORAS DIURNAS LUNES A SÁBADO NO INCLUYE FESTIVOS SIN ARMA | Y6: PUESTO 8 HORAS DIURNAS LUNES A VIERNES NO INCLUYE FESTIVOS SIN ARMA | Z6: PUESTO 8 HORAS DIURNAS TODOS LOS DIAS SIN ARMA | AB6: Cámara tipo mini domo | AC6: Cámara PTZ | AD6: DVR | AE6: Monitor | AF6: Control de visitantes y de bienes (para Regionales) | AG6: Alarma
A7: Atlantico | B7: Despacho Dirección | C7: Carrera 43 42-40 Piso 11 SUPERVISOR | D7: Barranquilla | E7: 0 | F7: 1 | G7: 0 | H7: 0 | I7: 0 | J7: 0 | K7: 0 | L7: 0 | M7: 0 | N7: 0 | O7: 0 | P7: 0 | Q7: 0 | R7: 0 | S7: 0 | T7: 0 | U7: 0 | V7: 0 | W7: 0 | X7: 0 | Y7: 0 | Z7: 0 | AB7: 0 | AC7: 0 | AD7: 0 | AE7: 0 | AF7: 0 | AG7: 0
A8: Atlantico | B8: Centro de Comercio y Servicios | C8: Carrera 43 42-40 | D8: Barranquilla | E8: 0 | F8: 2 | G8: 1 | H8: 0 | I8: 0 | J8: 0 | K8: 0 | L8: 0 | M8: 0 | N8: 0 | O8: 0 | P8: 0 | Q8: 5 | R8: 0 | S8: 0 | T8: 0 | U8: 0 | V8: 0 | W8: 0 | X8: 0 | Y8: 0 | Z8: 0 | AB8: 30 | AC8: 0 | AD8: 2 | AE8: 2 | AF8: 1 | AG8: 4
A9: Atlantico | B9: Centro de Comercio y Servicios Nodo SALUD | C9: Cra. 35 calle 32 esquina Hospital Barranquilla | D9: Barranquilla | E9: 0 | F9: 3 | G9: 0 | H9: 0 | I9: 0 | J9: 0 | K9: 0 | L9: 0 | M9: 0 | N9: 0 | O9: 0 | P9: 0 | Q9: 0 | R9: 0 | S9: 0 | T9: 0 | U9: 0 | V9: 0 | W9: 0 | X9: 0 | Y9: 0 | Z9: 0 | AB9: =30-2 -> 28 | AD9: 2 | AE9: 2 | AF9: 1 | AG9: 4
A10: Atlantico | B10: Centro de Comercio y Servicio Nodo Logística y Transporte | C10: Cra. 9 No.127 - 109 Urba. Caribe Verde | D10: Barranquilla | E10: 0 | F10: 3 | G10: 0 | H10: 0 | I10: 0 | J10: 0 | K10: 0 | L10: 0 | M10: 0 | N10: 1 | O10: 0 | P10: 0 | Q10: 0 | R10: 0 | S10: 0 | T10: 0 | U10: 0 | V10: 0 | W10: 0 | X10: 0 | Y10: 0 | Z10: 0 | AB10: 16 | AC10: 0 | AD10: 1 | AE10: 1 | AF10: 0 | AG10: 0
A11: Atlantico | B11: Centro de Comercio y Servicio Nodo Servicios Financieros | C11: Cra 15 Sur # 48-28 cayenas | D11: Barranquilla | E11: 0 | F11: 4 | G11: 0 | H11: 0 | I11: 0 | J11: 0 | K11: 0 | L11: 0 | M11: 0 | N11: 1 | O11: 0 | P11: 0 | Q11: 0 | R11: 0 | S11: 0 | T11: 0 | U11: 0 | V11: 0 | W11: 0 | X11: 0 | Y11: 0 | Z11: 0 | AB11: 8 | AC11: 0 | AD11: 1 | AE11: 1 | AF11: 0 | AG11: 0
A12: Atlantico | B12: Centro de Comercio y Servicio Nodo Servicios Administrativos | C12: Calle 47 # 6-110 Via coordialidad | D12: Barranquilla | E12: 0 | F12: 3 | G12: 0 | H12: 0 | I12: 0 | J12: 0 | K12: 0 | L12: 0 | M12: 0 | N12: 0 | O12: 0 | P12: 0 | Q12: 0 | R12: 0 | S12: 0 | T12: 0 | U12: 0 | V12: 0 | W12: 0 | X12: 0 | Y12: 0 | Z12: 0 | AB12: 4 | AC12: 0 | AD12: 1 | AE12: 1 | AF12: 0 | AG12: 0
A13: Atlantico | B13: Centro para el Desarrollo Agroecologico y Agroindustrial | C13: nodo operaciones comerciales cra 24 M con calle 48 | D13: soledad | E13: 0 | F13: 3 | G13: 0 | H13: 0 | I13: 0 | J13: 0 | K13: 0 | L13: 0 | M13: 0 | N13: 0 | O13: 0 | P13: 0 | Q13: 0 | R13: 0 | S13: 0 | T13: 0 | U13: 0 | V13: 0 | W13: 0 | X13: 0 | Y13: 0 | Z13: 0 | AB13: 8 | AD13: 1 | AE13: 1 | AG13: 1
A14: Atlantico | B14: Centro de Comercio y Servicio NODO DE HOTELERIA Y TURISMO | C14: Cra 50b # 39-86 | D14: Barranquilla | E14: 0 | F14: 3 | G14: 0 | H14: 0 | I14: 0 | J14: 0 | K14: 0 | L14: 0 | M14: 0 | N14: 0 | O14: 0 | P14: 0 | Q14: 0 | R14: 0 | S14: 0 | T14: 0 | U14: 0 | V14: 0 | W14: 0 | X14: 0 | Y14: 0 | Z14: 0 | AB14: 10 | AC14: 2 | AD14: 1 | AE14: 1 | AF14: 1 | AG14: 1
A15: Atlantico | B15: Centro de Comercio y Servicio NODO DE GASTRONOMIA Y BILINGUISMO | C15: Calle 7 1D 155 Juan de Acosta | D15: Juan de acosta | E15: 0 | F15: 2 | G15: 0 | H15: 0 | I15: 0 | J15: 0 | K15: 0 | L15: 0 | M15: 0 | N15: 0 | O15: 0 | P15: 0 | Q15: 0 | R15: 0 | S15: 0 | T15: 0 | U15: 0 | V15: 0 | W15: 0 | X15: 0 | Y15: 0 | Z15: 0 | AB15: 4 | AC15: 0 | AD15: 1 | AE15: 1 | AF15: 0 | AG15: 1
A16: Atlantico | B16: Centro para el Desarrollo Agroecologico y Agroindustrial | C16: Calle 9 No. 19-120 Barrio Santander | D16: Sabanalarga | E16: 0 | F16: 3 | G16: 0 | H16: 0 | I16: 0 | J16: 0 | K16: 0 | L16: 1 | M16: 0 | N16: 0 | O16: 0 | P16: 0 | Q16: 0 | R16: 1 | S16: 0 | T16: 0 | U16: 0 | V16: 0 | W16: 0 | X16: 0 | Y16: 0 | Z16: 0 | AB16: =28 -> 28 | AC16: 4 | AD16: 1 | AE16: 1 | AF16: 1 | AG16: =4-4 -> 0
A17: Atlantico | B17: Centro para el Desarrollo Agroecologico y Agroindustrial FINCA EL CANEY | C17: Kilómetro 35 Margen Oriental Carretera La Cordialidad A 3 Kilómetro. | D17: Sabanalarga | E17: 2 | F17: 3 | G17: 0 | H17: 0 | I17: 0 | J17: 0 | K17: 0 | L17: 0 | M17: 0 | N17: 0 | O17: 0 | P17: 0 | Q17: 0 | R17: 0 | S17: 0 | T17: 0 | U17: 0 | V17: 0 | W17: 0 | X17: 0 | Y17: 0 | Z17: 0 | AB17: 32 | AC17: 5 | AD17: 3 | AE17: 3 | AF17: 1 | AG17: =3-3 -> 0
A18: Atlantico | B18: Centro para el Desarrollo Agroecologico y Agroindustrial | C18: Kilometro 2-101 Vía Luruaco Cartagena | D18: LURUACO | E18: 0 | F18: 2 | G18: 0 | H18: 0 | I18: 0 | J18: 0 | K18: 0 | L18: 0 | M18: 0 | N18: 0 | O18: 0 | P18: 0 | Q18: 0 | R18: 0 | S18: 0 | T18: 0 | U18: 0 | V18: 0 | W18: 0 | X18: 0 | Y18: 0 | Z18: 0 | AB18: 4 | AD18: 1 | AG18: 1
A19: Atlantico | B19: Centro para el Desarrollo Agroecologico y Agroindustrial NODO DE INDUSTRIAS CREATIVAS | C19: Carrera 54 # 49 - 09 | D19: Barranquilla | E19: 0 | F19: 2 | G19: 0 | H19: 0 | I19: 0 | J19: 0 | K19: 0 | L19: 0 | M19: 0 | N19: 0 | O19: 0 | P19: 0 | Q19: 0 | R19: 0 | S19: 0 | T19: 0 | U19: 0 | V19: 0 | W19: 0 | X19: 0 | Y19: 0 | Z19: 0 | AB19: 8 | AC19: 0 | AD19: 1 | AE19: 1 | AF19: 0 | AG19: =1-1 -> 0
A20: Atlantico | B20: CENTRO NACIONAL COLOMBO ALEMAN | C20: Calle 30 No. 3E-164 | D20: Barranquilla | E20: 0 | F20: 2 | G20: 0 | H20: 0 | I20: 0 | J20: 0 | K20: 0 | L20: 1 | M20: 0 | N20: 0 | O20: 0 | P20: 0 | Q20: 1 | R20: 0 | S20: 0 | T20: 0 | U20: 0 | V20: 0 | W20: 0 | X20: 0 | Y20: 0 | Z20: 0 | AB20: =41-8 -> 33 | AC20: 1 | AD20: 2 | AE20: 2 | AF20: 1 | AG20: 4
A21: Atlantico | B21: CENTRO NACIONAL COLOMBO ALEMAN Nodo ENERGIAS | C21: Cra 23 con calle 28 Rebolo | D21: Barranquilla | E21: 0 | F21: 2 | G21: 0 | H21: 0 | I21: 0 | J21: 0 | K21: 0 | L21: 0 | M21: 0 | N21: 0 | O21: 0 | P21: 0 | Q21: 0 | R21: 0 | S21: 0 | T21: 0 | U21: 0 | V21: 1 | W21: 0 | X21: 0 | Y21: 0 | Z21: 0 | AB21: =15 -> 15 | AC21: 0 | AD21: 1 | AE21: 1 | AF21: 1 | AG21: 4
A22: Atlantico | B22: CENTRO NACIONAL COLOMBO ALEMAN Nodo TICS | C22: Barrio Prado | D22: Barranquilla | E22: 0 | F22: 2 | G22: 0 | H22: 0 | I22: 0 | J22: 0 | K22: 0 | L22: 2 | M22: 0 | N22: 0 | O22: 0 | P22: 0 | Q22: 0 | R22: 0 | S22: 0 | T22: 0 | U22: 0 | V22: 0 | W22: 0 | X22: 0 | Y22: 0 | Z22: 0 | AB22: 5 | AC22: 0 | AD22: 1 | AE22: 1 | AF22: 0 | AG22: 0
A23: Atlantico | B23: CENTRO NACIONAL COLOMBO ALEMAN Nodo Refrigeraciion | C23: Carrera 10 # 7E-110 Antiguo Coliseo del Sur lipaya | D23: Barranquilla | E23: 0 | F23: 2 | G23: 0 | H23: 0 | I23: 0 | J23: 0 | K23: 0 | L23: 0 | M23: 0 | N23: 0 | O23: 0 | P23: 0 | Q23: 0 | R23: 0 | S23: 0 | T23: 0 | U23: 0 | V23: 0 | W23: 0 | X23: 0 | Y23: 0 | Z23: 0 | AB23: 13 | AC23: 0 | AD23: 1 | AE23: 1 | AF23: 1 | AG23: 2
A24: Atlantico | B24: CENTRO NACIONAL COLOMBO ALEMAN SUBSEDE MALAMBO | C24: Diagonal 18 No. 16 - 46 via al Caracolí sede metalmecanica | D24: Malambo | E24: 0 | F24: 0 | G24: 0 | H24: 0 | I24: 0 | J24: 0 | K24: 0 | L24: 0 | M24: 0 | N24: 0 | O24: 0 | P24: 0 | Q24: 0 | R24: 0 | S24: 0 | T24: 0 | U24: 0 | V24: 0 | W24: 0 | X24: 0 | Y24: 0 | Z24: 0 | AB24: 0 | AC24: 0 | AD24: 0 | AE24: 0 | AF24: 0 | AG24: 0
A25: Atlantico | B25: CENTRO NACIONAL COLOMBO ALEMAN SUBSEDE MALAMBO NUEVA | C25: Diagonal 18 No. 16 - 46 via al Caracolí sede metalmecanica | D25: Malambo | E25: 0 | F25: 3 | G25: 1 | H25: 0 | I25: 0 | J25: 0 | K25: 0 | L25: 0 | M25: 0 | N25: 0 | O25: 0 | P25: 0 | Q25: 0 | R25: 0 | S25: 0 | T25: 0 | U25: 0 | V25: 0 | W25: 0 | X25: 0 | Y25: 0 | Z25: 0 | AB25: 25 | AC25: 0 | AD25: 2 | AE25: 2 | AF25: 1 | AG25: 2
A26: Atlantico | B26: Centro Industrial y de Aviación sede hangar | C26: CIUDADELA INDUSTRIAL Caribe Verde Carrera 9G - 110 - 187 BO 11 | D26: Soledad | E26: 0 | F26: 1 | G26: 0 | H26: 0 | I26: 0 | J26: 0 | K26: 0 | L26: 0 | M26: 0 | N26: 0 | O26: 0 | P26: 0 | Q26: 0 | R26: 0 | S26: 0 | T26: 0 | U26: 0 | V26: 0 | W26: 0 | X26: 0 | Y26: 0 | Z26: 0 | AB26: 25 | AC26: 5 | AD26: 3 | AE26: 2 | AF26: 1 | AG26: 4
A27: Atlantico | B27: Centro Industrial y de Aviación | C27: Calle 30 No. 3E- 164 SUPERVISOR | D27: Barranquilla | E27: 0 | F27: 1 | G27: 0 | H27: 0 | I27: 0 | J27: 0 | K27: 0 | L27: 0 | M27: 0 | N27: 0 | O27: 0 | P27: 0 | Q27: 0 | R27: 0 | S27: 0 | T27: 0 | U27: 0 | V27: 0 | W27: 0 | X27: 0 | Y27: 0 | Z27: 0 | AB27: =42-7 -> 35 | AC27: 2 | AD27: 2 | AE27: 2 | AF27: 1 | AG27: 5
A28: Atlantico | B28: Centro Industrial y de Aviación | C28: Calle 30 No. 3E- 164 | D28: Barranquilla | E28: 0 | F28: 3 | G28: 1 | H28: 0 | I28: 0 | J28: 0 | K28: 0 | L28: 0 | M28: 0 | N28: 0 | O28: 0 | P28: 0 | Q28: 1 | R28: 0 | S28: 0 | T28: 0 | U28: 0 | V28: 0 | W28: 0 | X28: 0 | Y28: 0 | Z28: 0 | AB28: 0 | AC28: 0 | AD28: 0 | AE28: 0 | AF28: 0 | AG28: 0
A29: Atlantico | B29: Centro Industrial y de Aviación Nodo Construcción e Infraestructura | C29: Diag. 36 No. 9G 20 Villa San Pablo | D29: Barranquilla | E29: 0 | F29: 4 | G29: 0 | H29: 0 | I29: 0 | J29: 0 | K29: 0 | L29: 0 | M29: 0 | N29: 0 | O29: 0 | P29: 0 | Q29: 0 | R29: 0 | S29: 0 | T29: 0 | U29: 0 | V29: 0 | W29: 0 | X29: 0 | Y29: 0 | Z29: 0 | AB29: 21 | AC29: 4 | AD29: 1 | AE29: 0 | AF29: 1 | AG29: 2
A30: Atlantico | B30: centro de confeccion | C30: Centro Industrial y de AviaciónSEDE CENTRO REINDUSTRIALIZACIÓN ZASCA BARANOA-ATLÁNTICOCr 21 No 11-140,Barrio Manzanares Margaritas, Atlántico. | D30: Baranoa | E30: 1 | F30: 1 | G30: 0 | H30: 0 | I30: 0 | J30: 0 | K30: 0 | L30: 0 | M30: 0 | N30: 0 | O30: 0 | P30: 0 | Q30: 0 | R30: 1 | S30: 0 | T30: 0 | U30: 0 | V30: 0 | W30: 0 | X30: 0 | Y30: 0 | Z30: 0 | AB30: 16 | AD30: 1 | AE30: 1 | AG30: 1
A31: Atlantico | B31: Nodo Mobiliario | C31: Centro Industrial y de AviaciónSEDE CENTRO REINDUSTRIALIZACIÓN ZASCA BARANOA-ATLÁNTICOCr 21 No 11-140,Barrio Manzanares Margaritas, Atlántico. | D31: Galapa | E31: 0 | F31: 3 | G31: 0 | H31: 0 | I31: 0 | J31: 0 | K31: 0 | L31: 0 | M31: 0 | N31: 0 | O31: 0 | P31: 0 | Q31: 0 | R31: 0 | S31: 0 | T31: 0 | U31: 0 | V31: 0 | W31: 0 | X31: 0 | Y31: 0 | Z31: 0 | AA31: =AA36*7.5 -> 4.8987058e+09 | AB31: 16 | AD31: 1 | AE31: 1 | AG31: 1
A32: Atlantico | B32: Centro de Comercio y Servicio Nodo MULTILINGUISMO | C32: Carrera 21B, Calle 40B Esuina Barrio San José | D32: Barranquilla | E32: 0 | F32: 2 | G32: 0 | H32: 0 | I32: 0 | J32: 0 | K32: 0 | L32: 0 | M32: 0 | N32: 0 | O32: 0 | P32: 0 | Q32: 0 | R32: 0 | S32: 0 | T32: 0 | U32: 0 | V32: 0 | W32: 0 | X32: 0 | Y32: 0 | Z32: 0 | AB32: 6 | AC32: 0 | AD32: 1 | AE32: 1 | AF32: 0 | AG32: 1
A33: TOTAL REGIONAL | E33: =SUM(E7:E32) -> 3 | F33: =SUM(F7:F32) -> 60 | G33: =SUM(G7:G32) -> 3 | H33: =SUM(H7:H32) -> 0 | I33: =SUM(I7:I32) -> 0 | J33: =SUM(J7:J32) -> 0 | L33: =SUM(L7:L32) -> 4 | M33: =SUM(M7:M32) -> 0 | N33: =SUM(N7:N32) -> 2 | O33: =SUM(O7:O32) -> 0 | P33: =SUM(P7:P32) -> 0 | Q33: =SUM(Q7:Q32) -> 7 | R33: =SUM(R7:R32) -> 2 | S33: =SUM(S7:S32) -> 0 | ... Z33: =SUM(Z7:Z32) -> 0 | AA33: =SUM(E33:Z33) -> 82 | AB33: =SUM(AB7:AB32) -> 390 | AC33: =SUM(AC7:AC32) -> 23 | AD33: =SUM(AD7:AD32) -> 32 | AE33: =SUM(AE7:AE32) -> 29 | AF33: =SUM(AF7:AF32) -> 12 | AG33: =SUM(AG7:AG32) -> 38
AA34: =SUM(E34:Z34) -> 0
B35: CERTIFICADOS SENA | AA35: =SUM(E35:Z35) -> 0
A36: VALOR POR REGIOANAL | E36: =E33*E5 -> 27068580 | F36: =F33*F5 -> 5.3152849e+08 | G36: =G33*G5 -> 26576424 | H36: =H33*H5 -> 0 | I36: =I33*I5 -> 0 | J36: =J33*J5 -> 0 | L36: =L33*L5 -> 21928610 | M36: =M33*M5 -> 0 | N36: =N33*N5 -> 9397975.9 | O36: =O33*O5 -> 0 | P36: =P33*P5 -> 0 | Q36: =Q33*Q5 -> 23349638 | R36: =R33*R5 -> 9934403.7 | S36: =S33*S5 -> 0 | ... Z36: =Z33*Z5 -> 0 | AA36: =SUM(E36:Z36) -> 6.5316078e+08 | AB36: =AB33*AB5 -> 5497594.5 | AC36: =AC33*AC5 -> 1260223.7 | AD36: =AD33*AD5 -> 2246105.6 | AE36: =AE33*AE5 -> 1478032.6 | AF36: =AF33*AF5 -> 1928610.5 | AG36: =AG33*AG5 -> 2055146.5
A37: Bolivar | B37: Despacho Dirección SUPERVISOR | C37: Cartagena Km 1 Vía Turbaco | D37: Turbaco | E37: 0 | F37: 1 | G37: 0 | H37: 0 | I37: 0 | J37: 0 | K37: 0 | L37: 0 | M37: 0 | N37: 0 | O37: 0 | P37: 0 | Q37: 0 | R37: 0 | S37: 0 | T37: 0 | U37: 0 | V37: 0 | W37: 0 | X37: 0 | Y37: 0 | Z37: 0 | AB37: 0 | AC37: 0 | AD37: 0 | AE37: 0 | AF37: 0 | AG37: 0
A38: Bolivar | B38: Centro Multisectorial Ternera | C38: Cartagena Km 1 Vía Turbaco | D38: Turbaco | E38: 0 | F38: 4 | G38: 1 | H38: 0 | I38: 0 | J38: 0 | K38: 0 | L38: 0 | M38: 0 | N38: 1 | O38: 0 | P38: 0 | Q38: 0 | R38: 0 | S38: 0 | T38: 0 | U38: 0 | V38: 0 | W38: 0 | X38: 0 | Y38: 0 | Z38: 0 | AB38: 60 | AC38: 6 | AD38: 2 | AE38: 2 | AF38: 1 | AG38: 5
A39: Bolivar | B39: Centro Multisectorial Ternera | C39: Cartagena Km 1 Vía Turbaco | D39: Turbaco | E39: 0 | F39: 2 | G39: 0 | H39: 0 | I39: 0 | J39: 0 | K39: 0 | L39: 0 | M39: 0 | N39: 0 | O39: 0 | P39: 0 | Q39: 0 | R39: 0 | S39: 0 | T39: 0 | U39: 0 | V39: 0 | W39: 0 | X39: 0 | Y39: 0 | Z39: 0 | AB39: 0 | AC39: 0 | AD39: 0 | AE39: 0 | AF39: 0 | AG39: 0
A40: Bolivar | B40: Centro de Comercio y Servicios Sede Casa del Marquez | C40: Plaza de la Aduana | D40: Cartagena | E40: 0 | F40: 1 | G40: 0 | H40: 0 | I40: 0 | J40: 0 | K40: 0 | L40: 0 | M40: 0 | N40: 0 | O40: 0 | P40: 0 | Q40: 0 | R40: 0 | S40: 0 | T40: 0 | U40: 0 | V40: 0 | W40: 0 | X40: 0 | Y40: 0 | Z40: 0 | AB40: 6 | AC40: 0 | AD40: 1 | AE40: 1 | AF40: 0 | AG40: 0
A41: Bolivar | B41: Centro Agroempresarial y Minero Sede San Jacinto | C41: Plaza Principal | D41: San Jacinto | E41: 0 | F41: 1 | G41: 0 | H41: 0 | I41: 0 | J41: 0 | K41: 0 | L41: 0 | M41: 0 | N41: 0 | O41: 0 | P41: 0 | Q41: 0 | R41: 0 | S41: 0 | T41: 0 | U41: 0 | V41: 0 | W41: 0 | X41: 0 | Y41: 0 | Z41: 0 | AB41: 11 | AC41: 1 | AD41: 1 | AE41: 1 | AF41: 0 | AG41: 2
A42: Bolivar | B42: Centro Agroempresarial y Minero Sede Mompox | C42: Plaza de la Libertad - Palacio Municipal | D42: Mompox | E42: 0 | F42: 1 | G42: 0 | H42: 0 | I42: 0 | J42: 0 | K42: 0 | L42: 0 | M42: 0 | N42: 0 | O42: 0 | P42: 0 | Q42: 0 | R42: 0 | S42: 0 | T42: 0 | U42: 0 | V42: 0 | W42: 0 | X42: 0 | Y42: 0 | Z42: 0 | AB42: 11 | AC42: 1 | AD42: 1 | AE42: 1 | AF42: 1 | AG42: 0
A43: Bolivar | B43: Centro Internacional Náutico, Fluvial y Portuario | C43: Mamonal Km 5 | D43: Cartagena | E43: 0 | F43: 4 | G43: 1 | H43: 0 | I43: 0 | J43: 0 | K43: 0 | L43: 0 | M43: 0 | N43: 1 | O43: 0 | P43: 0 | Q43: 0 | R43: 0 | S43: 0 | T43: 0 | U43: 0 | V43: 0 | W43: 0 | X43: 0 | Y43: 0 | Z43: 0 | AB43: =23-13 -> 10 | AC43: =2-1 -> 1 | AD43: 1 | AE43: 1 | AF43: 1 | AG43: =5-1 -> 4
A44: Bolivar | B44: Centro para la Industria Petroquímica | C44: calle 31,kra 49A | D44: Cartagena | E44: 0 | F44: 3 | G44: 1 | H44: 0 | I44: 0 | J44: 0 | K44: 0 | L44: 0 | M44: 0 | N44: 1 | O44: 0 | P44: 0 | Q44: 0 | R44: 1 | S44: 0 | T44: 0 | U44: 0 | V44: 0 | W44: 0 | X44: 0 | Y44: 0 | Z44: 0 | AB44: =28 -> 28 | AC44: 4 | AD44: 1 | AE44: 1 | AF44: 1 | AG44: 5
A45: Bolivar | B45: Institución Educativa MANUELA BELTRAN | C45: I.E. Manuela Beltran CASD, Av. Pedro de Heredia | D45: Cartagena | E45: 0 | F45: 1 | G45: 0 | H45: 0 | I45: 0 | J45: 0 | K45: 0 | L45: 0 | M45: 0 | N45: 0 | O45: 0 | P45: 0 | Q45: 0 | R45: 0 | S45: 0 | T45: 0 | U45: 0 | V45: 0 | W45: 0 | X45: 0 | Y45: 0 | Z45: 0 | AB45: 0 | AC45: 0 | AD45: 0 | AE45: 0 | AF45: 0 | AG45: 0
A46: Bolivar | B46: Centro para la Industria PetroquímicaLiceo Bolivar | C46: Barrio Daniel Lemetre | D46: Cartagena | E46: 0 | F46: 0 | G46: 0 | H46: 0 | I46: 0 | J46: 0 | K46: 0 | L46: 0 | M46: 0 | N46: 0 | O46: 1 | P46: 0 | Q46: 0 | R46: 0 | S46: 0 | T46: 1 | U46: 0 | V46: 0 | W46: 0 | X46: 0 | Y46: 0 | Z46: 0 | AA46: =AA51*7.5 -> 1.7389465e+09 | AB46: 0 | AC46: 0 | AD46: 0 | AE46: 0 | AF46: 0 | AG46: 0
A47: Bolivar | B47: Centro para la Industria Petroquímica Sede INEM | C47: Tranversal 54 Bario Almirante Colon | D47: Cartagena | E47: 0 | F47: 1 | G47: 0 | H47: 0 | I47: 0 | J47: 0 | K47: 0 | L47: 0 | M47: 0 | N47: 0 | O47: 1 | P47: 0 | Q47: 0 | R47: 0 | S47: 0 | T47: 1 | U47: 0 | V47: 0 | W47: 0 | X47: 0 | Y47: 0 | Z47: 0 | AB47: =6 -> 6 | AC47: 1 | AD47: 1 | AE47: 1 | AF47: 0 | AG47: 0
A48: TOTAL REGIONAL | E48: =SUM(E37:E47) -> 0 | F48: =SUM(F37:F47) -> 19 | G48: =SUM(G37:G47) -> 3 | H48: =SUM(H37:H47) -> 0 | I48: =SUM(I37:I47) -> 0 | J48: =SUM(J37:J47) -> 0 | K48: =SUM(K37:K47) -> 0 | L48: =SUM(L37:L47) -> 0 | ... Z48: =SUM(Z37:Z47) -> 0 | AA48: =SUM(E48:Z48) -> 30 | AB48: =SUM(AB37:AB47) -> 132 | AC48: =SUM(AC37:AC47) -> 14 | AD48: =SUM(AD37:AD47) -> 8 | AE48: =SUM(AE37:AE47) -> 8 | AF48: =SUM(AF37:AF47) -> 4 | AG48: =SUM(AG37:AG47) -> 16
AA49: =SUM(E49:Z49) -> 0
B50: CERTIFICADOS SENA | AA50: =SUM(E50:Z50) -> 0
A51: VALOR POR REGIOANAL | E51: =E48*E5 -> 0 | F51: =F48*F5 -> 1.6831735e+08 | G51: =G48*G5 -> 26576424 | H51: =H48*H5 -> 0 | I51: =I48*I5 -> 0 | J51: =J48*J5 -> 0 | L51: =L48*L5 -> 0 | M51: =M48*M5 -> 0 | N51: =N48*N5 -> 14096964 | O51: =O48*O5 -> 7783212.5 | P51: =P48*P5 -> 0 | Q51: =Q48*Q5 -> 0 | R51: =R48*R5 -> 4967201.9 | S51: =S48*S5 -> 0 | ... Z51: =Z48*Z5 -> 0 | AA51: =SUM(E51:Z51) -> 2.3185953e+08 | AB51: =AB48*AB5 -> 1860724.3 | AC51: =AC48*AC5 -> 767092.67 | AD51: =AD48*AD5 -> 561526.41 | AE51: =AE48*AE5 -> 407733.14 | AF51: =AF48*AF5 -> 642870.16 | AG51: =AG48*AG5 -> 865324.84
A52: Cesar | B52: Despacho Dirección SUPERVISOR | C52: Kra 19 No. 14-78 | D52: Valledupar | E52: 0 | F52: 2 | G52: 0 | H52: 0 | I52: 0 | J52: 0 | K52: 0 | L52: 0 | M52: 0 | N52: 0 | O52: 0 | P52: 0 | Q52: 0 | R52: 0 | S52: 0 | T52: 0 | U52: 0 | V52: 0 | W52: 0 | X52: 0 | Y52: 0 | Z52: 0 | AB52: 2 | AC52: 0 | AD52: 0 | AE52: 1 | AF52: 1 | AG52: 0
A53: Cesar | B53: Centro de Operación y Mantenimiento Minero | C53: Kra 19 No. 14-78 | D53: Valledupar | E53: 0 | F53: 6 | G53: 0 | H53: 0 | I53: 0 | J53: 0 | K53: 0 | L53: 0 | M53: 0 | N53: 0 | O53: 0 | P53: 0 | Q53: 0 | R53: 0 | S53: 0 | T53: 0 | U53: 0 | V53: 0 | W53: 0 | X53: 0 | Y53: 0 | Z53: 0 | AB53: 17 | AC53: 0 | AD53: 0 | AE53: 0 | AF53: 0 | AG53: 1
A54: Cesar | B54: Centro de Operación y Mantenimiento Minero | C54: Kra 19 No. 14-79 APE | D54: Valledupar | E54: 0 | F54: 1 | G54: 0 | H54: 0 | I54: 0 | J54: 0 | K54: 0 | L54: 0 | M54: 0 | N54: 0 | O54: 0 | P54: 0 | Q54: 0 | R54: 0 | S54: 0 | T54: 0 | U54: 0 | V54: 0 | W54: 0 | X54: 0 | Y54: 0 | Z54: 0
A55: Cesar | B55: Centro de Operación y Mantenimiento Minero Tecnoparque | C55: Centro de Emprendimiento y Cultural de Valledupar- Calle 39 No. 5 A- 170 Barrio Panamá | D55: Valledupar | E55: 0 | F55: 3 | G55: 0 | H55: 0 | I55: 0 | J55: 0 | K55: 0 | L55: 0 | M55: 0 | N55: 0 | O55: 0 | P55: 0 | Q55: 0 | R55: 0 | S55: 0 | T55: 0 | U55: 0 | V55: 0 | W55: 0 | X55: 0 | Y55: 0 | Z55: 0 | AB55: 16 | AC55: 0 | AD55: 1 | AE55: 1 | AF55: 0 | AG55: 2
A56: Cesar | B56: Centro de Operación y Mantenimiento Minero | C56: Diagonal 4 Transversal 6 Esquina | D56: La Jagua de Ibirico | E56: 0 | F56: 0 | G56: 0 | H56: 0 | I56: 0 | J56: 0 | K56: 0 | L56: 0 | M56: 0 | N56: 0 | O56: 0 | P56: 0 | Q56: 0 | R56: 0 | S56: 0 | T56: 0 | U56: 0 | V56: 0 | W56: 0 | X56: 0 | Y56: 0 | Z56: 0
A57: Cesar | B57: Centro de Operación y Mantenimiento Minero | C57: sede nueva | D57: La Jagua de Ibirico | E57: 0 | F57: 5 | G57: 0 | H57: 0 | I57: 0 | J57: 0 | K57: 0 | L57: 0 | M57: 0 | N57: 0 | O57: 0 | P57: 0 | Q57: 0 | R57: 0 | S57: 0 | T57: 0 | U57: 0 | V57: 0 | W57: 0 | X57: 0 | Y57: 0 | Z57: 0 | AB57: 15 | AC57: 2 | AD57: 1 | AE57: 0 | AF57: 0 | AG57: 0
A58: Cesar | B58: Centro de Operación y Mantenimiento Minero | C58: Carrera 14A No. 20-04 | D58: Bosconia | E58: 0 | F58: 2 | G58: 0 | H58: 0 | I58: 0 | J58: 0 | K58: 0 | L58: 0 | M58: 0 | N58: 0 | O58: 0 | P58: 0 | Q58: 0 | R58: 0 | S58: 0 | T58: 0 | U58: 0 | V58: 0 | W58: 0 | X58: 0 | Y58: 0 | Z58: 0 | AB58: =10-4 -> 6 | AC58: 2 | AD58: 1 | AE58: 1 | AF58: 0 | AG58: 0
A59: Cesar | B59: Centro de Operación y Mantenimiento Minero | C59: Diagonal 18 A Entre Calle 30 y 31 (Barrio Fundadores - Sabanas del Valle) SUBSEDE CENTRO DE DESARROLLO VECINAL - CDV | D59: Valledupar | E59: 0 | F59: 3 | G59: 0 | H59: 0 | I59: 0 | J59: 0 | K59: 0 | L59: 0 | M59: 0 | N59: 0 | O59: 0 | P59: 0 | Q59: 0 | R59: 0 | S59: 0 | T59: 0 | U59: 0 | V59: 0 | W59: 0 | X59: 0 | Y59: 0 | Z59: 0 | AB59: 14 | AC59: 0 | AD59: 1 | AE59: 1 | AF59: 0 | AG59: 2
A60: Cesar | B60: Centro Biotecnológico del Caribe | C60: Km. 7 Vía a La Paz SUPERVISOR | D60: Valledupar | E60: 0 | F60: 1 | G60: 0 | H60: 0 | I60: 0 | J60: 0 | K60: 0 | L60: 0 | M60: 0 | N60: 0 | O60: 0 | P60: 0 | Q60: 0 | R60: 0 | S60: 0 | T60: 0 | U60: 0 | V60: 0 | W60: 0 | X60: 0 | Y60: 0 | Z60: 0 | AB60: 0 | AC60: 0 | AD60: 0 | AE60: 0 | AF60: 0 | AG60: 0
A61: Cesar | B61: Centro Biotecnológico del Caribe | C61: Km. 7 Vía a La Paz | D61: Valledupar | E61: 2 | F61: 10 | G61: 0 | H61: 0 | I61: 0 | J61: 0 | K61: 0 | L61: 0 | M61: 0 | N61: 0 | O61: 0 | P61: 0 | Q61: 0 | R61: 0 | S61: 0 | T61: 0 | U61: 0 | V61: 0 | W61: 0 | X61: 0 | Y61: 0 | Z61: 0 | AB61: =37-27 -> 10 | AC61: =2 -> 2 | AD61: =2 -> 2 | AE61: =2 -> 2 | AF61: =2 -> 2 | AG61: =1 -> 1
A62: Cesar | B62: Centro Biotecnológico del Caribe | C62: Plantel Educativo “AGUSTIN CODAZZI (Tecnoacademia) | D62: Agustin Codazzi | E62: 0 | F62: 2 | G62: 0 | H62: 0 | I62: 0 | J62: 0 | K62: 0 | L62: 0 | M62: 0 | N62: 0 | O62: 0 | P62: 0 | Q62: 0 | R62: 0 | S62: 0 | T62: 0 | U62: 0 | V62: 0 | W62: 0 | X62: 0 | Y62: 0 | Z62: 0 | AB62: 0 | AC62: 0 | AD62: 0 | AE62: 0 | AF62: 0 | AG62: 0
A63: Cesar | B63: Centro Biotecnológico del Caribe | C63: Barrio El Senado. | D63: Chiriguana | E63: 0 | F63: 3 | G63: 0 | H63: 0 | I63: 0 | J63: 0 | K63: 0 | L63: 0 | M63: 0 | N63: 0 | O63: 0 | P63: 0 | Q63: 0 | R63: 0 | S63: 0 | T63: 0 | U63: 0 | V63: 0 | W63: 0 | X63: 0 | Y63: 0 | Z63: 0 | AB63: 10 | AC63: 2 | AD63: 1 | AE63: 1 | AF63: 1 | AG63: 1
A64: Cesar | B64: Centro Biotecnológico del Caribe | C64: Sector Chambacú, barrio Villa esther | D64: Chimichagua | E64: 0 | F64: 3 | G64: 0 | H64: 0 | I64: 0 | J64: 0 | K64: 0 | L64: 0 | M64: 0 | N64: 0 | O64: 0 | P64: 0 | Q64: 0 | R64: 0 | S64: 0 | T64: 0 | U64: 0 | V64: 0 | W64: 0 | X64: 0 | Y64: 0 | Z64: 0 | AB64: 12 | AC64: 2 | AD64: 1 | AE64: 1 | AF64: 1 | AG64: 1
A65: Cesar | B65: Centro Biotecnológico del Caribe | C65: ETNICO Carrera 42 Diagonal 11a avenida Brisas de la Popa, Valledupar Cesar | D65: Valledupar | E65: 0 | F65: 2 | G65: 0 | H65: 0 | L65: 0 | N65: 0 | O65: 0 | P65: 0 | Q65: 0 | R65: 0 | T65: 0 | U65: 0 | V65: 0 | X65: 0 | AB65: 16 | AC65: 0 | AD65: 1 | AE65: 1 | AF65: 1 | AG65: 1
A66: Cesar | B66: Centro Agroempresarial | C66: Calle 4 No. 20-33 Barrio Camilo Torres. | D66: Curumaní | E66: 0 | F66: 3 | G66: 0 | H66: 0 | I66: 0 | J66: 0 | K66: 0 | L66: 0 | M66: 0 | N66: 0 | O66: 0 | P66: 0 | Q66: 0 | R66: 0 | S66: 0 | T66: 0 | U66: 0 | V66: 0 | W66: 0 | X66: 0 | Y66: 0 | Z66: 0 | AB66: 12 | AC66: 0 | AD66: 1 | AE66: 1 | AF66: 1 | AG66: 1
A67: Cesar | B67: Centro Agroempresarial | C67: Calle 2B No.16-26. | D67: San Alberto | E67: 0 | F67: 3 | G67: 0 | H67: 0 | I67: 0 | J67: 0 | K67: 0 | L67: 0 | M67: 0 | N67: 0 | O67: 0 | P67: 0 | Q67: 0 | R67: 0 | S67: 0 | T67: 0 | U67: 0 | V67: 0 | W67: 0 | X67: 0 | Y67: 0 | Z67: 0 | AB67: 12 | AC67: 0 | AD67: 1 | AE67: 1 | AF67: 1 | AG67: 1
A68: Cesar | B68: Centro Agroempresarial | C68: Kilómetro 1 Vía Bucaramanga | D68: Aguachica | E68: 0 | F68: 4 | G68: 0 | H68: 0 | I68: 0 | J68: 0 | K68: 0 | L68: 0 | M68: 0 | N68: 0 | O68: 0 | P68: 0 | Q68: 0 | R68: 0 | S68: 0 | T68: 0 | U68: 0 | V68: 0 | W68: 0 | X68: 0 | Y68: 0 | Z68: 0 | AA68: =AA73*7.5 -> 3.6567191e+09 | AB68: 32 | AC68: 0 | AD68: 1 | AE68: 1 | AF68: 1 | AG68: 1
A70: TOTAL REGIONAL | E70: =SUM(E52:E68) -> 2 | F70: =SUM(F52:F69) -> 53 | G70: =SUM(G52:G68) -> 0 | H70: =SUM(H52:H68) -> 0 | I70: =SUM(I52:I68) -> 0 | J70: =SUM(J52:J68) -> 0 | L70: =SUM(L52:L68) -> 0 | M70: =SUM(M52:M68) -> 0 | N70: =SUM(N52:N68) -> 0 | O70: =SUM(O52:O68) -> 0 | P70: =SUM(P52:P68) -> 0 | Q70: =SUM(Q52:Q68) -> 0 | R70: =SUM(R52:R68) -> 0 | S70: =SUM(S52:S68) -> 0 | ... Z70: =SUM(Z52:Z68) -> 0 | AA70: =SUM(E70:Z70) -> 55 | AB70: =SUM(AB52:AB68) -> 174 | AC70: =SUM(AC52:AC68) -> 10 | AD70: =SUM(AD52:AD68) -> 12 | AE70: =SUM(AE52:AE68) -> 12 | AF70: =SUM(AF52:AF68) -> 9 | AG70: =SUM(AG52:AG68) -> 12
AA71: =SUM(E71:Z71) -> 0
B72: CERTIFICADOS SENA | AA72: =SUM(E72:Z72) -> 0
A73: VALOR POR REGIOANAL | E73: =E70*E5 -> 18045720 | F73: =F70*F5 -> 4.6951683e+08 | G73: =G70*G5 -> 0 | H73: =H70*H5 -> 0 | I73: =I70*I5 -> 0 | J73: =J70*J5 -> 0 | L73: =L70*L5 -> 0 | M73: =M70*M5 -> 0 | N73: =N70*N5 -> 0 | O73: =O70*O5 -> 0 | P73: =P70*P5 -> 0 | Q73: =Q70*Q5 -> 0 | R73: =R70*R5 -> 0 | S73: =S70*S5 -> 0 | ... Z73: =Z70*Z5 -> 0 | AA73: =SUM(E73:Z73) -> 4.8756255e+08 | AB73: =AB70*AB5 -> 2452772.9 | AC73: =AC70*AC5 -> 547923.34 | AD73: =AD70*AD5 -> 842289.62 | AE73: =AE70*AE5 -> 611599.71 | AF73: =AF70*AF5 -> 1446457.9 | AG73: =AG70*AG5 -> 648993.63
A74: Cordoba | B74: Despacho Dirección | C74: Avenida circunvalar calle 24 y 27 | D74: Montería | E74: 0 | F74: 0 | G74: 0 | H74: 0 | I74: 0 | J74: 0 | K74: 0 | L74: 0 | M74: 0 | N74: 1 | O74: 0 | P74: 0 | Q74: 0 | R74: 0 | S74: 0 | T74: 0 | U74: 0 | V74: 0 | W74: 0 | X74: 0 | Y74: 0 | Z74: 0 | AB74: 10 | AC74: 2 | AD74: 1 | AE74: 1 | AF74: 1 | AG74: 0
A75: Cordoba | B75: Centro de Comercio, Industria y Turismo de Córdoba | C75: Avenida circunvalar calle 24 y 27 | D75: Montería | E75: 0 | F75: 4 | G75: 0 | H75: 0 | I75: 0 | J75: 0 | K75: 0 | L75: 0 | M75: 0 | N75: 1 | O75: 0 | P75: 1 | Q75: 0 | R75: 0 | S75: 0 | T75: 0 | U75: 0 | V75: 0 | W75: 0 | X75: 0 | Y75: 0 | Z75: 0 | AB75: 16 | AC75: 1 | AD75: =1-1 -> 0 | AE75: 1 | AF75: 0 | AG75: 2
A76: Cordoba | B76: Centro de Comercio, Industria y Turismo de Córdoba | C76: Carrera 9 No. 1-35 Antigua Planta de Hielo. | D76: Lorica | E76: 0 | F76: 1 | G76: 0 | H76: 0 | I76: 0 | J76: 0 | K76: 0 | L76: 0 | M76: 0 | N76: 0 | O76: 0 | P76: 0 | Q76: 0 | R76: 0 | S76: 0 | T76: 0 | U76: 0 | V76: 0 | W76: 0 | X76: 0 | Y76: 0 | Z76: 0 | AB76: 15 | AC76: 1 | AD76: 1 | AE76: 1 | AF76: 1 | AG76: 2
A77: Cordoba | B77: Centro de Comercio, Industria y Turismo de Córdoba | C77: Sub sede San Jorge | D77: Montelibano | E77: 0 | F77: 4 | G77: 0 | H77: 0 | I77: 0 | J77: 0 | K77: 0 | L77: 0 | M77: 0 | N77: 0 | O77: 0 | P77: 0 | Q77: 0 | R77: 0 | S77: 0 | T77: 0 | U77: 0 | V77: 0 | W77: 0 | X77: 0 | Y77: 0 | Z77: 0 | AB77: 10 | AC77: 0 | AD77: 1 | AE77: 0 | AF77: 0 | AG77: 1
A78: Cordoba | B78: Centro Agropecuario y de Biotecnología el Porvenir | C78: k. 45 corregimiento Santa Isabel vía Tierralta | D78: Montería | E78: 1 | F78: 5 | G78: 1 | H78: 0 | I78: 0 | J78: 0 | K78: 0 | L78: 0 | M78: 0 | N78: 0 | O78: 0 | P78: 0 | Q78: 0 | R78: 0 | S78: 0 | T78: 0 | U78: 0 | V78: 0 | W78: 0 | X78: 0 | Y78: 0 | Z78: 0 | AB78: 26 | AC78: 2 | AD78: 2 | AE78: 2 | AF78: 1 | AG78: 3
A79: Cordoba | B79: Centro Agropecuario y de Biotecnología el Porvenir | C79: Kilómetro 11 Vía Montería Cereté frente al aeropuerto Los Garzones Sede la Vitrina | D79: Montería | E79: 1 | F79: 4 | G79: 0 | H79: 0 | I79: 0 | J79: 0 | K79: 0 | L79: 0 | M79: 0 | N79: 0 | O79: 0 | P79: 0 | Q79: 0 | R79: 0 | S79: 0 | T79: 0 | U79: 0 | V79: 0 | W79: 0 | X79: 0 | Y79: 0 | Z79: 0 | AA79: =AA83*7.5 -> 1.4890558e+09 | AB79: 13 | AC79: 0 | AD79: 1 | AE79: 1 | AF79: 1 | AG79: 1
A80: TOTAL REGIONAL | E80: =SUM(E74:E79) -> 2 | F80: =SUM(F74:F79) -> 18 | G80: =SUM(G74:G79) -> 1 | H80: =SUM(H74:H79) -> 0 | I80: =SUM(I74:I79) -> 0 | J80: =SUM(J74:J79) -> 0 | L80: =SUM(L74:L79) -> 0 | M80: =SUM(M74:M79) -> 0 | N80: =SUM(N74:N79) -> 2 | O80: =SUM(O74:O79) -> 0 | P80: =SUM(P74:P79) -> 1 | Q80: =SUM(Q74:Q79) -> 0 | R80: =SUM(R74:R79) -> 0 | S80: =SUM(S74:S79) -> 0 | ... Z80: =SUM(Z74:Z79) -> 0 | AA80: =SUM(E80:Z80) -> 24 | AB80: =SUM(AB74:AB79) -> 90 | AC80: =SUM(AC74:AC79) -> 6 | AD80: =SUM(AD74:AD79) -> 6 | AE80: =SUM(AE74:AE79) -> 6 | AF80: =SUM(AF74:AF79) -> 4 | AG80: =SUM(AG74:AG79) -> 9
AA81: =SUM(E81:Z81) -> 0
B82: CERTIFICADOS SENA | AA82: =SUM(E82:Z82) -> 0
A83: VALOR POR REGIOANAL | E83: =E80*E5 -> 18045720 | F83: =F80*F5 -> 1.5945855e+08 | G83: =G80*G5 -> 8858808.1 | H83: =H80*H5 -> 0 | I83: =I80*I5 -> 0 | J83: =J80*J5 -> 0 | L83: =L80*L5 -> 0 | M83: =M80*M5 -> 0 | N83: =N80*N5 -> 9397975.9 | O83: =O80*O5 -> 0 | P83: =P80*P5 -> 2779718.8 | Q83: =Q80*Q5 -> 0 | R83: =R80*R5 -> 0 | S83: =S80*S5 -> 0 | ... Z83: =Z80*Z5 -> 0 | AA83: =SUM(E83:Z83) -> 1.9854077e+08 | AB83: =AB80*AB5 -> 1268675.7 | AC83: =AC80*AC5 -> 328754 | AD83: =AD80*AD5 -> 421144.81 | AE83: =AE80*AE5 -> 305799.85 | AF83: =AF80*AF5 -> 642870.16 | AG83: =AG80*AG5 -> 486745.22
A84: Guajira | B84: Despacho Direccion SUPERVISOR | C84: Avenida Aeropuerto Calle 21 esquina | D84: Riohacha | E84: 0 | F84: 1 | G84: 0 | H84: 0 | I84: 0 | J84: 0 | K84: 0 | L84: 0 | M84: 0 | N84: 0 | O84: 0 | P84: 0 | Q84: 0 | R84: 0 | S84: 0 | T84: 0 | U84: 0 | V84: 0 | W84: 0 | X84: 0 | Y84: 0 | Z84: 0 | AB84: 0 | AC84: 0 | AD84: 0 | AE84: 0 | AF84: 0 | AG84: 0
A85: Guajira | B85: Centro Industrial y de Energias Alternativas | C85: Calle 21 Carrera 15 Avenida al Aeropuerto Sede Comercioy Servicios | D85: Riohacha | E85: 0 | F85: 6 | G85: 1 | H85: 0 | I85: 0 | J85: 0 | K85: 0 | L85: 0 | M85: 0 | N85: 0 | O85: 0 | P85: 0 | Q85: 0 | R85: 0 | S85: 0 | T85: 0 | U85: 0 | V85: 0 | W85: 0 | X85: 0 | Y85: 0 | Z85: 0 | AB85: 40 | AC85: 5 | AD85: 2 | AE85: 2 | AF85: 1 | AG85: 7
A86: Guajira | B86: Centro Industrial y de Energias Alternativas | C86: Calle 15 No 21-70 Sede Centro Medico | D86: Riohacha | E86: 0 | F86: 0 | G86: 0 | H86: 0 | I86: 0 | J86: 0 | K86: 0 | L86: 0 | M86: 0 | N86: 0 | O86: 0 | P86: 0 | Q86: 0 | R86: 0 | S86: 0 | T86: 0 | U86: 0 | V86: 0 | W86: 0 | X86: 0 | Y86: 0 | Z86: 0 | AB86: 0 | AC86: 0 | AD86: 0 | AE86: 0 | AF86: 0 | AG86: 0
A87: Guajira | B87: Centro Industrial y de Energias Alternativas | C87: Calle 16 No. 44 - 46 Troncal del caribe Sede Maicao | D87: Maicao | E87: 0 | F87: 3 | G87: 0 | H87: 0 | I87: 0 | J87: 0 | K87: 0 | L87: 0 | M87: 0 | N87: 0 | O87: 0 | P87: 0 | Q87: 0 | R87: 0 | S87: 0 | T87: 0 | U87: 0 | V87: 0 | W87: 0 | X87: 0 | Y87: 0 | Z87: 0 | AB87: 13 | AC87: 3 | AD87: 1 | AE87: 1 | AF87: 1 | AG87: 3
A88: Guajira | B88: Centro Industrial y de Energias Alternativas | C88: Kilómetro 5 Salida a Maicao Sede Industrial | D88: Riohacha | E88: 0 | F88: 7 | G88: 0 | H88: 0 | I88: 0 | J88: 0 | K88: 0 | L88: 0 | M88: 0 | N88: 0 | O88: 2 | P88: 0 | Q88: 0 | R88: 0 | S88: 0 | T88: 2 | U88: 0 | V88: 0 | W88: 0 | X88: 0 | Y88: 0 | Z88: 0 | AB88: 26 | AC88: 4 | AD88: 2 | AE88: 2 | AF88: 1 | AG88: 4
A89: Guajira | B89: Centro Industrial y de Energias Alternativas | C89: Cra 7 # 20-15 Sede Archivo | D89: Riohacha | E89: 0 | F89: 0 | G89: 0 | H89: 0 | I89: 0 | J89: 0 | K89: 0 | L89: 0 | M89: 0 | N89: 0 | O89: 0 | P89: 0 | Q89: 0 | R89: 0 | S89: 0 | T89: 0 | U89: 0 | V89: 0 | W89: 0 | X89: 0 | Y89: 0 | Z89: 0
A90: Guajira | B90: Centro Industrial y de Energias Alternativas | C90: cra 44 # 14h - 29 Sede Campoalegre | D90: Riohacha | E90: 0 | F90: 2 | G90: 0 | H90: 0 | I90: 0 | J90: 0 | K90: 0 | L90: 0 | M90: 0 | N90: 0 | O90: 0 | P90: 0 | Q90: 0 | R90: 0 | S90: 0 | T90: 0 | U90: 0 | V90: 0 | W90: 0 | X90: 0 | Y90: 0 | Z90: 0 | AB90: 0 | AC90: 0 | AD90: 0 | AE90: 0 | AF90: 0 | AG90: 0
A91: Guajira | B91: Centro Industrial y de Energias Alternativas | C91: calle 12b # 21-65 barrio marbella Sede Cocina | D91: Riohacha | E91: 0 | F91: 1 | G91: 0 | H91: 0 | I91: 0 | J91: 0 | K91: 0 | L91: 0 | M91: 0 | N91: 0 | O91: 0 | P91: 0 | Q91: 0 | R91: 0 | S91: 0 | T91: 0 | U91: 0 | V91: 0 | W91: 0 | X91: 0 | Y91: 0 | Z91: 0 | AB91: 19 | AC91: 4 | AD91: 1 | AE91: 1 | AF91: 0 | AG91: 2
A92: Guajira | B92: Centro Agroempresarial y Acuícola | C92: Km 0,8 via Barrrancas SUPERVISOR | D92: Fonseca | E92: 0 | F92: 1 | G92: 0 | H92: 0 | I92: 0 | J92: 0 | K92: 0 | L92: 0 | M92: 0 | N92: 0 | O92: 0 | P92: 0 | Q92: 0 | R92: 0 | S92: 0 | T92: 0 | U92: 0 | V92: 0 | W92: 0 | X92: 0 | Y92: 0 | Z92: 0 | AB92: 0 | AC92: 0 | AD92: 0 | AE92: 0 | AF92: 0 | AG92: 0
A93: Guajira | B93: Centro Agroempresarial y Acuícola | C93: Km 0,8 via Barrrancas | D93: Fonseca | E93: 0 | F93: 9 | G93: 1 | H93: 0 | I93: 0 | J93: 0 | K93: 0 | L93: 0 | M93: 0 | N93: 0 | O93: 0 | P93: 0 | Q93: 0 | R93: 0 | S93: 0 | T93: 0 | U93: 0 | V93: 0 | W93: 0 | X93: 0 | Y93: 0 | Z93: 0 | AB93: 0 | AC93: 0 | AD93: 0 | AE93: 0 | AF93: 0 | AG93: 0
A94: Guajira | B94: Centro Agroempresarial y Acuícola | C94: Antígüo Colegio Julia Sierra Iguarán, Barrio Abuchaibe | D94: Uribia | E94: 0 | F94: 1 | G94: 0 | H94: 0 | I94: 0 | J94: 0 | K94: 0 | L94: 0 | M94: 0 | N94: 0 | O94: 0 | P94: 0 | Q94: 0 | R94: 0 | S94: 0 | T94: 0 | U94: 0 | V94: 0 | W94: 0 | X94: 0 | Y94: 0 | Z94: 0 | AA94: =AA99*7.5 -> 2.393258e+09 | AB94: 6 | AC94: 0 | AD94: 1 | AE94: 1 | AF94: 0 | AG94: 1
A95: Guajira | B95: Centro Agroempresarial y Acuícola | C95: CREM Villanueva, Carrera 13 No. 11 - 42, Barrio las Delicias | D95: Villanueva | E95: 0 | F95: 1 | G95: 0 | H95: 0 | I95: 0 | J95: 0 | K95: 0 | L95: 0 | M95: 0 | N95: 0 | O95: 0 | P95: 0 | Q95: 0 | R95: 0 | S95: 0 | T95: 0 | U95: 0 | V95: 0 | W95: 0 | X95: 0 | Y95: 0 | Z95: 0
A96: TOTAL REGIONAL | E96: =SUM(E84:E95) -> 0 | F96: =SUM(F84:F95) -> 32 | G96: =SUM(G84:G95) -> 2 | H96: =SUM(H84:H95) -> 0 | I96: =SUM(I84:I95) -> 0 | J96: =SUM(J84:J95) -> 0 | L96: =SUM(L84:L95) -> 0 | M96: =SUM(M84:M95) -> 0 | N96: =SUM(N84:N95) -> 0 | O96: =SUM(O84:O95) -> 2 | P96: =SUM(P84:P95) -> 0 | Q96: =SUM(Q84:Q95) -> 0 | R96: =SUM(R84:R95) -> 0 | S96: =SUM(S84:S95) -> 0 | ... Z96: =SUM(Z84:Z95) -> 0 | AA96: =SUM(E96:Z96) -> 38 | AB96: =SUM(AB84:AB95) -> 104 | AC96: =SUM(AC84:AC95) -> 16 | AD96: =SUM(AD84:AD95) -> 7 | AE96: =SUM(AE84:AE95) -> 7 | AF96: =SUM(AF84:AF95) -> 3 | AG96: =SUM(AG84:AG95) -> 17
AA97: =SUM(E97:Z97) -> 0
B98: CERTIFICADOS SENA | AA98: =SUM(E98:Z98) -> 0
A99: VALOR POR REGIOANAL | E99: =E96*E5 -> 0 | F99: =F96*F5 -> 2.8348186e+08 | G99: =G96*G5 -> 17717616 | H99: =H96*H5 -> 0 | I99: =I96*I5 -> 0 | J99: =J96*J5 -> 0 | L99: =L96*L5 -> 0 | M99: =M96*M5 -> 0 | N99: =N96*N5 -> 0 | O99: =O96*O5 -> 7783212.5 | P99: =P96*P5 -> 0 | Q99: =Q96*Q5 -> 0 | R99: =R96*R5 -> 0 | S99: =S96*S5 -> 0 | ... Z99: =Z96*Z5 -> 0 | AA99: =SUM(E99:Z99) -> 3.1910106e+08 | AB99: =AB96*AB5 -> 1466025.2 | AC99: =AC96*AC5 -> 876677.34 | AD99: =AD96*AD5 -> 491335.61 | AE99: =AE96*AE5 -> 356766.5 | AF99: =AF96*AF5 -> 482152.62 | AG99: =AG96*AG5 -> 919407.65
A100: Magdalena | B100: Despacho Dirección SUPERVISOR | C100: Calle 29 # 13 - 127 Barrio Bavaria | D100: Santa Marta | E100: 0 | F100: 1 | G100: 0 | H100: 0 | J100: 0 | K100: 0 | L100: 0 | M100: 0 | N100: 0 | O100: 0 | P100: 0 | Q100: 0 | R100: 0 | S100: 0 | T100: 0 | U100: 0 | V100: 0 | W100: 0 | X100: 0 | Y100: 0 | Z100: 0 | AB100: 8 | AC100: 0 | AD100: 1 | AE100: 1 | AF100: 1 | AG100: 2
A101: Magdalena | B101: Despacho Dirección | C101: Avenida Ferrocarril # 27-97 (APE) | D101: Santa Marta | E101: 0 | F101: 1 | G101: 0 | H101: 0 | I101: 0 | J101: 0 | K101: 0 | L101: 0 | M101: 0 | N101: 0 | O101: 0 | P101: 1 | Q101: 0 | R101: 0 | S101: 0 | T101: 0 | U101: 0 | V101: 0 | W101: 0 | X101: 0 | Y101: 0 | Z101: 0 | AB101: 0 | AC101: 0 | AD101: 0 | AE101: 0 | AF101: 0 | AG101: 0
...

Sheet ZONA 1 10,21 POR 16 DÍAS
H1: 1750905 | I1: 10.21 | J1: 2850
A2: COSTO DE MODALIDADES VIGILANCIA 2026 ZONA 1 | D2: TARIFAS | E2: =(($H$1*$I$1)+$J$1)/30*16 -> 9535781.4 | F2: =(($H$1*$I$1)+$J$1)/30*16 -> 9535781.4 | G2: =(($H$1*$I$1)+$J$1)/30*16 -> 9535781.4 | H2: =(($H$1*$I$1)+$J$1)/30*16 -> 9535781.4 | I2: =(($H$1*$I$1)+$J$1)/30*20/20*10 -> 5959863.4 | J2: =(($H$1*$I$1)+$J$1)/30*24/24*12 -> 7151836 | K2: =(((($H$1*$I$1)+$J$1)*0.4759/13*5)+((($H$1*$I$1)+$J$1)*0.5241/11*11))/30*16 -> 6743117.8 | L2: =(((($H$1*$I$1)+$J$1)*0.4759/13*13)+((($H$1*$I$1)+$J$1)*0.5241/11*3))/30*16 -> 5901088.3 | M2: =(((($H$1*$I$1)+$J$1)*0.4759/30*20/13*13)+((($H$1*$I$1)+$J$1)*0.5241/30*20/11*3))/20*10 -> 3688180.2 | N2: =(((($H$1*$I$1)+$J$1)*0.4759/30*24/13*13)+((($H$1*$I$1)+$J$1)*0.5241/30*24/11*3))/24*12 -> 4425816.2 | O2: =((($H$1*$I$1)+$J$1)*0.4759/13*12)/30*16 -> 4188995.4 | P2: =((($H$1*$I$1)+$J$1)*0.4759/30*20/13*12)/20*10 -> 2618122.1 | Q2: =((($H$1*$I$1)+$J$1)*0.4759/30*24/13*12)/24*12 -> 3141746.5 | R2: =(((($H$1*$I$1)+$J$1)*0.4759/13*1)+((($H$1*$I$1)+$J$1)*0.5241/11*11))/30*16 -> 5346786 | S2: =(((($H$1*$I$1)+$J$1)*0.4759/30*24/13*1)+((($H$1*$I$1)+$J$1)*0.5241/30*24/11*11))/24*12 -> 4010089.5 | T2: =(((($H$1*$I$1)+$J$1)*0.4759/13*1)+((($H$1*$I$1)+$J$1)*0.5241/11*11))/30*16 -> 5346786 | U2: =(((($H$1*$I$1)+$J$1)*0.5241/11*8))/30*16 -> 3634693.1 | V2: =(((($H$1*$I$1)+$J$1)*0.5241/11*8))/30*16 -> 3634693.1 | W2: =((($H$1*$I$1)+$J$1)*0.5241/30*20/11*8) -> 4543366.4 | X2: =((($H$1*$I$1)+$J$1)*0.4759/30*24/13*8)/24*12 -> 2094497.7 | Y2: =((($H$1*$I$1)+$J$1)*0.4759/30*20/13*8)/20*10 -> 1745414.7 | Z2: =((($H$1*$I$1)+$J$1)*0.4759/13*8)/30*16 -> 2792663.6 | AB2: =+'ZONA 1 9,77'!AB2/30*16 -> 13537.956 | AC2: =+'ZONA 1 9,77'!AC2/30*16 -> 52621.689 | AD2: =+'ZONA 1 9,77'!AD2/30*16 -> 67410.133 | AE2: =+'ZONA 1 9,77'!AE2/30*16 -> 48947.556 | AF2: =+'ZONA 1 9,77'!AF2/30*16 -> 154350.58 | AG2: =+'ZONA 1 9,77'!AG2/30*16 -> 51940.267
D3: AYS | E3: =E2*10% -> 953578.14 | F3: =F2*8% -> 762862.51 | G3: =G2*8% -> 762862.51 | H3: =H2*11% -> 1048935.9 | I3: =I2*8% -> 476789.07 | J3: =J2*8% -> 572146.88 | K3: =K2*8% -> 539449.42 | L3: =L2*8% -> 472087.06 | M3: =M2*8% -> 295054.41 | N3: =N2*8% -> 354065.3 | O3: =O2*8% -> 335119.63 | P3: =P2*8% -> 209449.77 | ... S3: =S2*8% -> 320807.16 | T3: =T2*10% -> 534678.6 | U3: =U2*10% -> 363469.31 | V3: =V2*8% -> 290775.45 | W3: =W2*8% -> 363469.31 | X3: =X2*8% -> 167559.82 | Y3: =Y2*8% -> 139633.18 | Z3: =Z2*8% -> 223413.09
D4: IVA | E4: =(E2+E3)*0.019 -> 199297.83 | F4: =(F2+F3)*0.019 -> 195674.23 | G4: =(G2+G3)*0.019 -> 195674.23 | H4: =(H2+H3)*0.019 -> 201109.63 | I4: =(I2+I3)*0.019 -> 122296.4 | J4: =(J2+J3)*0.019 -> 146755.68 | K4: =(K2+K3)*0.019 -> 138368.78 | L4: =(L2+L3)*0.019 -> 121090.33 | ... Z4: =(Z2+Z3)*0.019 -> 57305.457 | AB4: =+AB2*0.19 -> 2572.2116 | AC4: =+AC2*0.19 -> 9998.1209 | AD4: =+AD2*0.19 -> 12807.925 | AE4: =+AE2*0.19 -> 9300.0356 | AF4: =+AF2*0.19 -> 29326.61 | AG4: =+AG2*0.19 -> 9868.6507
D5: TOTAL | E5: =+E2+E3+E4 -> 10688657 | F5: =+F2+F3+F4 -> 10494318 | G5: =+G2+G3+G4 -> 10494318 | H5: =+H2+H3+H4 -> 10785827 | I5: =+I2+I3+I4 -> 6558948.8 | J5: =+J2+J3+J4 -> 7870738.6 | K5: =+K2+K3+K4 -> 7420936 | L5: =+L2+L3+L4 -> 6494265.7 | ... Z5: =+Z2+Z3+Z4 -> 3073382.1 | AB5: =+AB2+AB4 -> 16110.167 | AC5: =+AC2+AC4 -> 62619.81 | AD5: =+AD2+AD4 -> 80218.059 | AE5: =+AE2+AE4 -> 58247.591 | AF5: =+AF2+AF4 -> 183677.19 | AG5: =+AG2+AG4 -> 61808.917
A6: REGIONAL | B6: CENTRO | C6: DIRECCIÓN | D6: MUNICIPIO | E6: PUESTO 24 HORAS TODOS LOS DÍAS CON ARMA | F6: PUESTO 24 HORAS TODOS LOS DÍAS SIN ARMA | G6: PUESTO 24 HORAS MONITOREO | H6: PUESTO 24 HORAS TODOS LOS DÍAS CON CANINO | I6: PUESTO 24 HORAS LUNES A VIERNES SIN ARMA | J6: PUESTO 24 HORAS LUNES A SABADO SIN ARMA | K6: PUESTO 16 HORAS (INCLUYE 11 HORAS NOCTURNAS) TODOS LOS DÍAS SIN ARMA | L6: PUESTO 16 HORAS (INCLUYE 3 HORA NOCTURNA) TODOS LOS DÍAS SIN ARMA | M6: PUESTO 16 HORAS (INCLUYE 3 HORA NOCTURNA) LUNES A VIERNES NO INCLUYE FESTIVOS SIN ARMA | N6: PUESTO 16 HORAS (INCLUYE 3 HORA NOCTURNA) LUNES A SÁBADO NO INCLUYE FESTIVOS SIN ARMA | O6: PUESTO 12 HORAS DIURNAS TODOS LOS DÍAS SIN ARMA | P6: PUESTO 12 HORAS DIURNAS LUNES A VIERNES NO INCLUYE FESTIVOS SIN ARMA | Q6: PUESTO 12 HORAS DIURNAS LUNES A SÁBADO NO INCLUYE FESTIVOS SIN ARMA | R6: PUESTO 12 HORAS (INCLUYE 11 HORAS NOCTURNAS) TODOS LOS DIAS SIN ARMA | S6: PUESTO 12 HORAS (INCLUYE 11 HORAS NOCTURNAS) LUNES A SABADO SIN ARMA | T6: PUESTO 12 HORAS (INCLUYE 9 HORAS NOCTURNAS) TODOS LOS DIAS CON ARMA | U6: PUESTO 8 HORAS NOCTURNAS TODOS LOS DÍAS CON ARMA | V6: PUESTO 8 HORAS NOCTURNAS TODOS LOS DÍAS SIN ARMA | W6: PUESTO 8 HORAS NOCTURNAS LUNES A VIERNES SIN ARMA | X6: PUESTO 8 HORAS DIURNAS LUNES A SÁBADO NO INCLUYE FESTIVOS SIN ARMA | Y6: PUESTO 8 HORAS DIURNAS LUNES A VIERNES NO INCLUYE FESTIVOS SIN ARMA | Z6: PUESTO 8 HORAS DIURNAS TODOS LOS DIAS SIN ARMA | AB6: Cámara tipo mini domo | AC6: Cámara PTZ | AD6: DVR | AE6: Monitor | AF6: Control de visitantes y de bienes (para Regionales) | AG6: Alarma
A7: Atlantico | B7: Despacho Dirección | C7: Carrera 43 42-40 Piso 11 SUPERVISOR | D7: Barranquilla | E7: 0 | F7: 1 | G7: 0 | H7: 0 | I7: 0 | J7: 0 | K7: 0 | L7: 0 | M7: 0 | N7: 0 | O7: 0 | P7: 0 | Q7: 0 | R7: 0 | S7: 0 | T7: 0 | U7: 0 | V7: 0 | W7: 0 | X7: 0 | Y7: 0 | Z7: 0 | AB7: 0 | AC7: 0 | AD7: 0 | AE7: 0 | AF7: 0 | AG7: 0
A8: Atlantico | B8: Centro de Comercio y Servicios | C8: Carrera 43 42-40 | D8: Barranquilla | E8: 0 | F8: 2 | G8: 1 | H8: 0 | I8: 0 | J8: 0 | K8: 0 | L8: 0 | M8: 0 | N8: 0 | O8: 0 | P8: 0 | Q8: 5 | R8: 0 | S8: 0 | T8: 0 | U8: 0 | V8: 0 | W8: 0 | X8: 0 | Y8: 0 | Z8: 0 | AB8: 30 | AC8: 0 | AD8: 2 | AE8: 2 | AF8: 1 | AG8: 4
A9: Atlantico | B9: Centro de Comercio y Servicios Nodo SALUD | C9: Cra. 35 calle 32 esquina Hospital Barranquilla | D9: Barranquilla | E9: 0 | F9: 3 | G9: 0 | H9: 0 | I9: 0 | J9: 0 | K9: 0 | L9: 0 | M9: 0 | N9: 0 | O9: 0 | P9: 0 | Q9: 0 | R9: 0 | S9: 0 | T9: 0 | U9: 0 | V9: 0 | W9: 0 | X9: 0 | Y9: 0 | Z9: 0 | AB9: =30-2 -> 28 | AD9: 2 | AE9: 2 | AF9: 1 | AG9: 4
A10: Atlantico | B10: Centro de Comercio y Servicio Nodo Logística y Transporte | C10: Cra. 9 No.127 - 109 Urba. Caribe Verde | D10: Barranquilla | E10: 0 | F10: 3 | G10: 0 | H10: 0 | I10: 0 | J10: 0 | K10: 0 | L10: 0 | M10: 0 | N10: 1 | O10: 0 | P10: 0 | Q10: 0 | R10: 0 | S10: 0 | T10: 0 | U10: 0 | V10: 0 | W10: 0 | X10: 0 | Y10: 0 | Z10: 0 | AB10: 16 | AC10: 0 | AD10: 1 | AE10: 1 | AF10: 0 | AG10: 0
A11: Atlantico | B11: Centro de Comercio y Servicio Nodo Servicios Financieros | C11: Cra 15 Sur # 48-28 cayenas | D11: Barranquilla | E11: 0 | F11: 4 | G11: 0 | H11: 0 | I11: 0 | J11: 0 | K11: 0 | L11: 0 | M11: 0 | N11: 1 | O11: 0 | P11: 0 | Q11: 0 | R11: 0 | S11: 0 | T11: 0 | U11: 0 | V11: 0 | W11: 0 | X11: 0 | Y11: 0 | Z11: 0 | AB11: 8 | AC11: 0 | AD11: 1 | AE11: 1 | AF11: 0 | AG11: 0
A12: Atlantico | B12: Centro de Comercio y Servicio Nodo Servicios Administrativos | C12: Calle 47 # 6-110 Via coordialidad | D12: Barranquilla | E12: 0 | F12: 3 | G12: 0 | H12: 0 | I12: 0 | J12: 0 | K12: 0 | L12: 0 | M12: 0 | N12: 0 | O12: 0 | P12: 0 | Q12: 0 | R12: 0 | S12: 0 | T12: 0 | U12: 0 | V12: 0 | W12: 0 | X12: 0 | Y12: 0 | Z12: 0 | AB12: 4 | AC12: 0 | AD12: 1 | AE12: 1 | AF12: 0 | AG12: 0
A13: Atlantico | B13: Centro para el Desarrollo Agroecologico y Agroindustrial | C13: nodo operaciones comerciales cra 24 M con calle 48 | D13: soledad | E13: 0 | F13: 3 | G13: 0 | H13: 0 | I13: 0 | J13: 0 | K13: 0 | L13: 0 | M13: 0 | N13: 0 | O13: 0 | P13: 0 | Q13: 0 | R13: 0 | S13: 0 | T13: 0 | U13: 0 | V13: 0 | W13: 0 | X13: 0 | Y13: 0 | Z13: 0 | AB13: 8 | AD13: 1 | AE13: 1 | AG13: 1
A14: Atlantico | B14: Centro de Comercio y Servicio NODO DE HOTELERIA Y TURISMO | C14: Cra 50b # 39-86 | D14: Barranquilla | E14: 0 | F14: 3 | G14: 0 | H14: 0 | I14: 0 | J14: 0 | K14: 0 | L14: 0 | M14: 0 | N14: 0 | O14: 0 | P14: 0 | Q14: 0 | R14: 0 | S14: 0 | T14: 0 | U14: 0 | V14: 0 | W14: 0 | X14: 0 | Y14: 0 | Z14: 0 | AB14: 10 | AC14: 2 | AD14: 1 | AE14: 1 | AF14: 1 | AG14: 1
A15: Atlantico | B15: Centro de Comercio y Servicio NODO DE GASTRONOMIA Y BILINGUISMO | C15: Calle 7 1D 155 Juan de Acosta | D15: Juan de acosta | E15: 0 | F15: 2 | G15: 0 | H15: 0 | I15: 0 | J15: 0 | K15: 0 | L15: 0 | M15: 0 | N15: 0 | O15: 0 | P15: 0 | Q15: 0 | R15: 0 | S15: 0 | T15: 0 | U15: 0 | V15: 0 | W15: 0 | X15: 0 | Y15: 0 | Z15: 0 | AB15: 4 | AC15: 0 | AD15: 1 | AE15: 1 | AF15: 0 | AG15: 1
A16: Atlantico | B16: Centro para el Desarrollo Agroecologico y Agroindustrial | C16: Calle 9 No. 19-120 Barrio Santander | D16: Sabanalarga | E16: 0 | F16: 3 | G16: 0 | H16: 0 | I16: 0 | J16: 0 | K16: 0 | L16: 1 | M16: 0 | N16: 0 | O16: 0 | P16: 0 | Q16: 0 | R16: 1 | S16: 0 | T16: 0 | U16: 0 | V16: 0 | W16: 0 | X16: 0 | Y16: 0 | Z16: 0 | AB16: =28 -> 28 | AC16: 4 | AD16: 1 | AE16: 1 | AF16: 1 | AG16: =4-4 -> 0
A17: Atlantico | B17: Centro para el Desarrollo Agroecologico y Agroindustrial FINCA EL CANEY | C17: Kilómetro 35 Margen Oriental Carretera La Cordialidad A 3 Kilómetro. | D17: Sabanalarga | E17: 2 | F17: 3 | G17: 0 | H17: 0 | I17: 0 | J17: 0 | K17: 0 | L17: 0 | M17: 0 | N17: 0 | O17: 0 | P17: 0 | Q17: 0 | R17: 0 | S17: 0 | T17: 0 | U17: 0 | V17: 0 | W17: 0 | X17: 0 | Y17: 0 | Z17: 0 | AB17: 32 | AC17: 5 | AD17: 3 | AE17: 3 | AF17: 1 | AG17: =3-3 -> 0
A18: Atlantico | B18: Centro para el Desarrollo Agroecologico y Agroindustrial | C18: Kilometro 2-101 Vía Luruaco Cartagena | D18: LURUACO | E18: 0 | F18: 2 | G18: 0 | H18: 0 | I18: 0 | J18: 0 | K18: 0 | L18: 0 | M18: 0 | N18: 0 | O18: 0 | P18: 0 | Q18: 0 | R18: 0 | S18: 0 | T18: 0 | U18: 0 | V18: 0 | W18: 0 | X18: 0 | Y18: 0 | Z18: 0 | AB18: 4 | AD18: 1 | AG18: 1
A19: Atlantico | B19: Centro para el Desarrollo Agroecologico y Agroindustrial NODO DE INDUSTRIAS CREATIVAS | C19: Carrera 54 # 49 - 09 | D19: Barranquilla | E19: 0 | F19: 2 | G19: 0 | H19: 0 | I19: 0 | J19: 0 | K19: 0 | L19: 0 | M19: 0 | N19: 0 | O19: 0 | P19: 0 | Q19: 0 | R19: 0 | S19: 0 | T19: 0 | U19: 0 | V19: 0 | W19: 0 | X19: 0 | Y19: 0 | Z19: 0 | AB19: 8 | AC19: 0 | AD19: 1 | AE19: 1 | AF19: 0 | AG19: =1-1 -> 0
A20: Atlantico | B20: CENTRO NACIONAL COLOMBO ALEMAN | C20: Calle 30 No. 3E-164 | D20: Barranquilla | E20: 0 | F20: 2 | G20: 0 | H20: 0 | I20: 0 | J20: 0 | K20: 0 | L20: 1 | M20: 0 | N20: 0 | O20: 0 | P20: 0 | Q20: 1 | R20: 0 | S20: 0 | T20: 0 | U20: 0 | V20: 0 | W20: 0 | X20: 0 | Y20: 0 | Z20: 0 | AB20: =41-8 -> 33 | AC20: 1 | AD20: 2 | AE20: 2 | AF20: 1 | AG20: 4
A21: Atlantico | B21: CENTRO NACIONAL COLOMBO ALEMAN Nodo ENERGIAS | C21: Cra 23 con calle 28 Rebolo | D21: Barranquilla | E21: 0 | F21: 2 | G21: 0 | H21: 0 | I21: 0 | J21: 0 | K21: 0 | L21: 0 | M21: 0 | N21: 0 | O21: 0 | P21: 0 | Q21: 0 | R21: 0 | S21: 0 | T21: 0 | U21: 0 | V21: 1 | W21: 0 | X21: 0 | Y21: 0 | Z21: 0 | AB21: =15 -> 15 | AC21: 0 | AD21: 1 | AE21: 1 | AF21: 1 | AG21: 4
A22: Atlantico | B22: CENTRO NACIONAL COLOMBO ALEMAN Nodo TICS | C22: Barrio Prado | D22: Barranquilla | E22: 0 | F22: 2 | G22: 0 | H22: 0 | I22: 0 | J22: 0 | K22: 0 | L22: 2 | M22: 0 | N22: 0 | O22: 0 | P22: 0 | Q22: 0 | R22: 0 | S22: 0 | T22: 0 | U22: 0 | V22: 0 | W22: 0 | X22: 0 | Y22: 0 | Z22: 0 | AB22: 5 | AC22: 0 | AD22: 1 | AE22: 1 | AF22: 0 | AG22: 0
A23: Atlantico | B23: CENTRO NACIONAL COLOMBO ALEMAN Nodo Refrigeraciion | C23: Carrera 10 # 7E-110 Antiguo Coliseo del Sur lipaya | D23: Barranquilla | E23: 0 | F23: 2 | G23: 0 | H23: 0 | I23: 0 | J23: 0 | K23: 0 | L23: 0 | M23: 0 | N23: 0 | O23: 0 | P23: 0 | Q23: 0 | R23: 0 | S23: 0 | T23: 0 | U23: 0 | V23: 0 | W23: 0 | X23: 0 | Y23: 0 | Z23: 0 | AB23: 13 | AC23: 0 | AD23: 1 | AE23: 1 | AF23: 1 | AG23: 2
A24: Atlantico | B24: CENTRO NACIONAL COLOMBO ALEMAN SUBSEDE MALAMBO | C24: Diagonal 18 No. 16 - 46 via al Caracolí sede metalmecanica | D24: Malambo | E24: 0 | F24: 0 | G24: 0 | H24: 0 | I24: 0 | J24: 0 | K24: 0 | L24: 0 | M24: 0 | N24: 0 | O24: 0 | P24: 0 | Q24: 0 | R24: 0 | S24: 0 | T24: 0 | U24: 0 | V24: 0 | W24: 0 | X24: 0 | Y24: 0 | Z24: 0 | AB24: 0 | AC24: 0 | AD24: 0 | AE24: 0 | AF24: 0 | AG24: 0
A25: Atlantico | B25: CENTRO NACIONAL COLOMBO ALEMAN SUBSEDE MALAMBO NUEVA | C25: Diagonal 18 No. 16 - 46 via al Caracolí sede metalmecanica | D25: Malambo | E25: 0 | F25: 3 | G25: 1 | H25: 0 | I25: 0 | J25: 0 | K25: 0 | L25: 0 | M25: 0 | N25: 0 | O25: 0 | P25: 0 | Q25: 0 | R25: 0 | S25: 0 | T25: 0 | U25: 0 | V25: 0 | W25: 0 | X25: 0 | Y25: 0 | Z25: 0 | AB25: 25 | AC25: 0 | AD25: 2 | AE25: 2 | AF25: 1 | AG25: 2
A26: Atlantico | B26: Centro Industrial y de Aviación sede hangar | C26: CIUDADELA INDUSTRIAL Caribe Verde Carrera 9G - 110 - 187 BO 11 | D26: Soledad | E26: 0 | F26: 1 | G26: 0 | H26: 0 | I26: 0 | J26: 0 | K26: 0 | L26: 0 | M26: 0 | N26: 0 | O26: 0 | P26: 0 | Q26: 0 | R26: 0 | S26: 0 | T26: 0 | U26: 0 | V26: 0 | W26: 0 | X26: 0 | Y26: 0 | Z26: 0 | AB26: 25 | AC26: 5 | AD26: 3 | AE26: 2 | AF26: 1 | AG26: 4
A27: Atlantico | B27: Centro Industrial y de Aviación | C27: Calle 30 No. 3E- 164 SUPERVISOR | D27: Barranquilla | E27: 0 | F27: 1 | G27: 0 | H27: 0 | I27: 0 | J27: 0 | K27: 0 | L27: 0 | M27: 0 | N27: 0 | O27: 0 | P27: 0 | Q27: 0 | R27: 0 | S27: 0 | T27: 0 | U27: 0 | V27: 0 | W27: 0 | X27: 0 | Y27: 0 | Z27: 0 | AB27: =42-7 -> 35 | AC27: 2 | AD27: 2 | AE27: 2 | AF27: 1 | AG27: 5
A28: Atlantico | B28: Centro Industrial y de Aviación | C28: Calle 30 No. 3E- 164 | D28: Barranquilla | E28: 0 | F28: 3 | G28: 1 | H28: 0 | I28: 0 | J28: 0 | K28: 0 | L28: 0 | M28: 0 | N28: 0 | O28: 0 | P28: 0 | Q28: 1 | R28: 0 | S28: 0 | T28: 0 | U28: 0 | V28: 0 | W28: 0 | X28: 0 | Y28: 0 | Z28: 0 | AB28: 0 | AC28: 0 | AD28: 0 | AE28: 0 | AF28: 0 | AG28: 0
A29: Atlantico | B29: Centro Industrial y de Aviación Nodo Construcción e Infraestructura | C29: Diag. 36 No. 9G 20 Villa San Pablo | D29: Barranquilla | E29: 0 | F29: 4 | G29: 0 | H29: 0 | I29: 0 | J29: 0 | K29: 0 | L29: 0 | M29: 0 | N29: 0 | O29: 0 | P29: 0 | Q29: 0 | R29: 0 | S29: 0 | T29: 0 | U29: 0 | V29: 0 | W29: 0 | X29: 0 | Y29: 0 | Z29: 0 | AB29: 21 | AC29: 4 | AD29: 1 | AE29: 0 | AF29: 1 | AG29: 2
A30: Atlantico | B30: centro de confeccion | C30: Centro Industrial y de AviaciónSEDE CENTRO REINDUSTRIALIZACIÓN ZASCA BARANOA-ATLÁNTICOCr 21 No 11-140,Barrio Manzanares Margaritas, Atlántico. | D30: Baranoa | E30: 1 | F30: 1 | G30: 0 | H30: 0 | I30: 0 | J30: 0 | K30: 0 | L30: 0 | M30: 0 | N30: 0 | O30: 0 | P30: 0 | Q30: 0 | R30: 1 | S30: 0 | T30: 0 | U30: 0 | V30: 0 | W30: 0 | X30: 0 | Y30: 0 | Z30: 0 | AB30: 16 | AD30: 1 | AE30: 1 | AG30: 1
A31: Atlantico | B31: Nodo Mobiliario | C31: Centro Industrial y de AviaciónSEDE CENTRO REINDUSTRIALIZACIÓN ZASCA BARANOA-ATLÁNTICOCr 21 No 11-140,Barrio Manzanares Margaritas, Atlántico. | D31: Galapa | E31: 0 | F31: 3 | G31: 0 | H31: 0 | I31: 0 | J31: 0 | K31: 0 | L31: 0 | M31: 0 | N31: 0 | O31: 0 | P31: 0 | Q31: 0 | R31: 0 | S31: 0 | T31: 0 | U31: 0 | V31: 0 | W31: 0 | X31: 0 | Y31: 0 | Z31: 0 | AA31: =AA36*7.5 -> 5.7667343e+09 | AB31: 16 | AD31: 1 | AE31: 1 | AG31: 1
A32: Atlantico | B32: Centro de Comercio y Servicio Nodo MULTILINGUISMO | C32: Carrera 21B, Calle 40B Esuina Barrio San José | D32: Barranquilla | E32: 0 | F32: 2 | G32: 0 | H32: 0 | I32: 0 | J32: 0 | K32: 0 | L32: 0 | M32: 0 | N32: 0 | O32: 0 | P32: 0 | Q32: 0 | R32: 0 | S32: 0 | T32: 0 | U32: 0 | V32: 0 | W32: 0 | X32: 0 | Y32: 0 | Z32: 0 | AB32: 6 | AC32: 0 | AD32: 1 | AE32: 1 | AF32: 0 | AG32: 1
A33: TOTAL REGIONAL | E33: =SUM(E7:E32) -> 3 | F33: =SUM(F7:F32) -> 60 | G33: =SUM(G7:G32) -> 3 | H33: =SUM(H7:H32) -> 0 | I33: =SUM(I7:I32) -> 0 | J33: =SUM(J7:J32) -> 0 | L33: =SUM(L7:L32) -> 4 | M33: =SUM(M7:M32) -> 0 | N33: =SUM(N7:N32) -> 2 | O33: =SUM(O7:O32) -> 0 | P33: =SUM(P7:P32) -> 0 | Q33: =SUM(Q7:Q32) -> 7 | R33: =SUM(R7:R32) -> 2 | S33: =SUM(S7:S32) -> 0 | ... Z33: =SUM(Z7:Z32) -> 0 | AA33: =SUM(E33:Z33) -> 82 | AB33: =SUM(AB7:AB32) -> 390 | AC33: =SUM(AC7:AC32) -> 23 | AD33: =SUM(AD7:AD32) -> 32 | AE33: =SUM(AE7:AE32) -> 29 | AF33: =SUM(AF7:AF32) -> 12 | AG33: =SUM(AG7:AG32) -> 38
AA34: =SUM(E34:Z34) -> 0
B35: CERTIFICADOS SENA | AA35: =SUM(E35:Z35) -> 0
A36: VALOR POR REGIOANAL | E36: =E33*E5 -> 32065972 | F36: =F33*F5 -> 6.2965909e+08 | G36: =G33*G5 -> 31482954 | H36: =H33*H5 -> 0 | I36: =I33*I5 -> 0 | J36: =J33*J5 -> 0 | L36: =L33*L5 -> 25977063 | M36: =M33*M5 -> 0 | N36: =N33*N5 -> 9741398.5 | O36: =O33*O5 -> 0 | P36: =P33*P5 -> 0 | Q36: =Q33*Q5 -> 24202884 | R36: =R33*R5 -> 11768490 | S36: =S33*S5 -> 0 | ... Z36: =Z33*Z5 -> 0 | AA36: =SUM(E36:Z36) -> 7.688979e+08 | AB36: =AB33*AB5 -> 6282965.2 | AC36: =AC33*AC5 -> 1440255.6 | AD36: =AD33*AD5 -> 2566977.9 | AE36: =AE33*AE5 -> 1689180.1 | AF36: =AF33*AF5 -> 2204126.3 | AG36: =AG33*AG5 -> 2348738.9
A37: Bolivar | B37: Despacho Dirección SUPERVISOR | C37: Cartagena Km 1 Vía Turbaco | D37: Turbaco | E37: 0 | F37: 1 | G37: 0 | H37: 0 | I37: 0 | J37: 0 | K37: 0 | L37: 0 | M37: 0 | N37: 0 | O37: 0 | P37: 0 | Q37: 0 | R37: 0 | S37: 0 | T37: 0 | U37: 0 | V37: 0 | W37: 0 | X37: 0 | Y37: 0 | Z37: 0 | AB37: 0 | AC37: 0 | AD37: 0 | AE37: 0 | AF37: 0 | AG37: 0
A38: Bolivar | B38: Centro Multisectorial Ternera | C38: Cartagena Km 1 Vía Turbaco | D38: Turbaco | E38: 0 | F38: 4 | G38: 1 | H38: 0 | I38: 0 | J38: 0 | K38: 0 | L38: 0 | M38: 0 | N38: 1 | O38: 0 | P38: 0 | Q38: 0 | R38: 0 | S38: 0 | T38: 0 | U38: 0 | V38: 0 | W38: 0 | X38: 0 | Y38: 0 | Z38: 0 | AB38: 60 | AC38: 6 | AD38: 2 | AE38: 2 | AF38: 1 | AG38: 5
A39: Bolivar | B39: Centro Multisectorial Ternera | C39: Cartagena Km 1 Vía Turbaco | D39: Turbaco | E39: 0 | F39: 2 | G39: 0 | H39: 0 | I39: 0 | J39: 0 | K39: 0 | L39: 0 | M39: 0 | N39: 0 | O39: 0 | P39: 0 | Q39: 0 | R39: 0 | S39: 0 | T39: 0 | U39: 0 | V39: 0 | W39: 0 | X39: 0 | Y39: 0 | Z39: 0 | AB39: 0 | AC39: 0 | AD39: 0 | AE39: 0 | AF39: 0 | AG39: 0
A40: Bolivar | B40: Centro de Comercio y Servicios Sede Casa del Marquez | C40: Plaza de la Aduana | D40: Cartagena | E40: 0 | F40: 1 | G40: 0 | H40: 0 | I40: 0 | J40: 0 | K40: 0 | L40: 0 | M40: 0 | N40: 0 | O40: 0 | P40: 0 | Q40: 0 | R40: 0 | S40: 0 | T40: 0 | U40: 0 | V40: 0 | W40: 0 | X40: 0 | Y40: 0 | Z40: 0 | AB40: 6 | AC40: 0 | AD40: 1 | AE40: 1 | AF40: 0 | AG40: 0
A41: Bolivar | B41: Centro Agroempresarial y Minero Sede San Jacinto | C41: Plaza Principal | D41: San Jacinto | E41: 0 | F41: 1 | G41: 0 | H41: 0 | I41: 0 | J41: 0 | K41: 0 | L41: 0 | M41: 0 | N41: 0 | O41: 0 | P41: 0 | Q41: 0 | R41: 0 | S41: 0 | T41: 0 | U41: 0 | V41: 0 | W41: 0 | X41: 0 | Y41: 0 | Z41: 0 | AB41: 11 | AC41: 1 | AD41: 1 | AE41: 1 | AF41: 0 | AG41: 2
A42: Bolivar | B42: Centro Agroempresarial y Minero Sede Mompox | C42: Plaza de la Libertad - Palacio Municipal | D42: Mompox | E42: 0 | F42: 1 | G42: 0 | H42: 0 | I42: 0 | J42: 0 | K42: 0 | L42: 0 | M42: 0 | N42: 0 | O42: 0 | P42: 0 | Q42: 0 | R42: 0 | S42: 0 | T42: 0 | U42: 0 | V42: 0 | W42: 0 | X42: 0 | Y42: 0 | Z42: 0 | AB42: 11 | AC42: 1 | AD42: 1 | AE42: 1 | AF42: 1 | AG42: 0
A43: Bolivar | B43: Centro Internacional Náutico, Fluvial y Portuario | C43: Mamonal Km 5 | D43: Cartagena | E43: 0 | F43: 4 | G43: 1 | H43: 0 | I43: 0 | J43: 0 | K43: 0 | L43: 0 | M43: 0 | N43: 1 | O43: 0 | P43: 0 | Q43: 0 | R43: 0 | S43: 0 | T43: 0 | U43: 0 | V43: 0 | W43: 0 | X43: 0 | Y43: 0 | Z43: 0 | AB43: =23-13 -> 10 | AC43: =2-1 -> 1 | AD43: 1 | AE43: 1 | AF43: 1 | AG43: =5-1 -> 4
A44: Bolivar | B44: Centro para la Industria Petroquímica | C44: calle 31,kra 49A | D44: Cartagena | E44: 0 | F44: 3 | G44: 1 | H44: 0 | I44: 0 | J44: 0 | K44: 0 | L44: 0 | M44: 0 | N44: 1 | O44: 0 | P44: 0 | Q44: 0 | R44: 1 | S44: 0 | T44: 0 | U44: 0 | V44: 0 | W44: 0 | X44: 0 | Y44: 0 | Z44: 0 | AB44: =28 -> 28 | AC44: 4 | AD44: 1 | AE44: 1 | AF44: 1 | AG44: 5
A45: Bolivar | B45: Institución Educativa MANUELA BELTRAN | C45: I.E. Manuela Beltran CASD, Av. Pedro de Heredia | D45: Cartagena | E45: 0 | F45: 1 | G45: 0 | H45: 0 | I45: 0 | J45: 0 | K45: 0 | L45: 0 | M45: 0 | N45: 0 | O45: 0 | P45: 0 | Q45: 0 | R45: 0 | S45: 0 | T45: 0 | U45: 0 | V45: 0 | W45: 0 | X45: 0 | Y45: 0 | Z45: 0 | AB45: 0 | AC45: 0 | AD45: 0 | AE45: 0 | AF45: 0 | AG45: 0
A46: Bolivar | B46: Centro para la Industria PetroquímicaLiceo Bolivar | C46: Barrio Daniel Lemetre | D46: Cartagena | E46: 0 | F46: 0 | G46: 0 | H46: 0 | I46: 0 | J46: 0 | K46: 0 | L46: 0 | M46: 0 | N46: 0 | O46: 1 | P46: 0 | Q46: 0 | R46: 0 | S46: 0 | T46: 1 | U46: 0 | V46: 0 | W46: 0 | X46: 0 | Y46: 0 | Z46: 0 | AA46: =AA51*7.5 -> 2.0443343e+09 | AB46: 0 | AC46: 0 | AD46: 0 | AE46: 0 | AF46: 0 | AG46: 0
A47: Bolivar | B47: Centro para la Industria Petroquímica Sede INEM | C47: Tranversal 54 Bario Almirante Colon | D47: Cartagena | E47: 0 | F47: 1 | G47: 0 | H47: 0 | I47: 0 | J47: 0 | K47: 0 | L47: 0 | M47: 0 | N47: 0 | O47: 1 | P47: 0 | Q47: 0 | R47: 0 | S47: 0 | T47: 1 | U47: 0 | V47: 0 | W47: 0 | X47: 0 | Y47: 0 | Z47: 0 | AB47: =6 -> 6 | AC47: 1 | AD47: 1 | AE47: 1 | AF47: 0 | AG47: 0
A48: TOTAL REGIONAL | E48: =SUM(E37:E47) -> 0 | F48: =SUM(F37:F47) -> 19 | G48: =SUM(G37:G47) -> 3 | H48: =SUM(H37:H47) -> 0 | I48: =SUM(I37:I47) -> 0 | J48: =SUM(J37:J47) -> 0 | K48: =SUM(K37:K47) -> 0 | L48: =SUM(L37:L47) -> 0 | ... Z48: =SUM(Z37:Z47) -> 0 | AA48: =SUM(E48:Z48) -> 30 | AB48: =SUM(AB37:AB47) -> 132 | AC48: =SUM(AC37:AC47) -> 14 | AD48: =SUM(AD37:AD47) -> 8 | AE48: =SUM(AE37:AE47) -> 8 | AF48: =SUM(AF37:AF47) -> 4 | AG48: =SUM(AG37:AG47) -> 16
AA49: =SUM(E49:Z49) -> 0
B50: CERTIFICADOS SENA | AA50: =SUM(E50:Z50) -> 0
A51: VALOR POR REGIOANAL | E51: =E48*E5 -> 0 | F51: =F48*F5 -> 1.9939204e+08 | G51: =G48*G5 -> 31482954 | H51: =H48*H5 -> 0 | I51: =I48*I5 -> 0 | J51: =J48*J5 -> 0 | L51: =L48*L5 -> 0 | M51: =M48*M5 -> 0 | N51: =N48*N5 -> 14612098 | O51: =O48*O5 -> 9220146.4 | P51: =P48*P5 -> 0 | Q51: =Q48*Q5 -> 0 | R51: =R48*R5 -> 5884244.9 | S51: =S48*S5 -> 0 | ... Z51: =Z48*Z5 -> 0 | AA51: =SUM(E51:Z51) -> 2.7257791e+08 | AB51: =AB48*AB5 -> 2126542.1 | AC51: =AC48*AC5 -> 876677.34 | AD51: =AD48*AD5 -> 641744.47 | AE51: =AE48*AE5 -> 465980.73 | AF51: =AF48*AF5 -> 734708.75 | AG51: =AG48*AG5 -> 988942.68
A52: Cesar | B52: Despacho Dirección SUPERVISOR | C52: Kra 19 No. 14-78 | D52: Valledupar | E52: 0 | F52: 2 | G52: 0 | H52: 0 | I52: 0 | J52: 0 | K52: 0 | L52: 0 | M52: 0 | N52: 0 | O52: 0 | P52: 0 | Q52: 0 | R52: 0 | S52: 0 | T52: 0 | U52: 0 | V52: 0 | W52: 0 | X52: 0 | Y52: 0 | Z52: 0 | AB52: 2 | AC52: 0 | AD52: 0 | AE52: 1 | AF52: 1 | AG52: 0
A53: Cesar | B53: Centro de Operación y Mantenimiento Minero | C53: Kra 19 No. 14-78 | D53: Valledupar | E53: 0 | F53: 6 | G53: 0 | H53: 0 | I53: 0 | J53: 0 | K53: 0 | L53: 0 | M53: 0 | N53: 0 | O53: 0 | P53: 0 | Q53: 0 | R53: 0 | S53: 0 | T53: 0 | U53: 0 | V53: 0 | W53: 0 | X53: 0 | Y53: 0 | Z53: 0 | AB53: 17 | AC53: 0 | AD53: 0 | AE53: 0 | AF53: 0 | AG53: 1
A54: Cesar | B54: Centro de Operación y Mantenimiento Minero | C54: Kra 19 No. 14-79 APE | D54: Valledupar | E54: 0 | F54: 1 | G54: 0 | H54: 0 | I54: 0 | J54: 0 | K54: 0 | L54: 0 | M54: 0 | N54: 0 | O54: 0 | P54: 0 | Q54: 0 | R54: 0 | S54: 0 | T54: 0 | U54: 0 | V54: 0 | W54: 0 | X54: 0 | Y54: 0 | Z54: 0
A55: Cesar | B55: Centro de Operación y Mantenimiento Minero Tecnoparque | C55: Centro de Emprendimiento y Cultural de Valledupar- Calle 39 No. 5 A- 170 Barrio Panamá | D55: Valledupar | E55: 0 | F55: 3 | G55: 0 | H55: 0 | I55: 0 | J55: 0 | K55: 0 | L55: 0 | M55: 0 | N55: 0 | O55: 0 | P55: 0 | Q55: 0 | R55: 0 | S55: 0 | T55: 0 | U55: 0 | V55: 0 | W55: 0 | X55: 0 | Y55: 0 | Z55: 0 | AB55: 16 | AC55: 0 | AD55: 1 | AE55: 1 | AF55: 0 | AG55: 2
A56: Cesar | B56: Centro de Operación y Mantenimiento Minero | C56: Diagonal 4 Transversal 6 Esquina | D56: La Jagua de Ibirico | E56: 0 | F56: 0 | G56: 0 | H56: 0 | I56: 0 | J56: 0 | K56: 0 | L56: 0 | M56: 0 | N56: 0 | O56: 0 | P56: 0 | Q56: 0 | R56: 0 | S56: 0 | T56: 0 | U56: 0 | V56: 0 | W56: 0 | X56: 0 | Y56: 0 | Z56: 0
A57: Cesar | B57: Centro de Operación y Mantenimiento Minero | C57: sede nueva | D57: La Jagua de Ibirico | E57: 0 | F57: 5 | G57: 0 | H57: 0 | I57: 0 | J57: 0 | K57: 0 | L57: 0 | M57: 0 | N57: 0 | O57: 0 | P57: 0 | Q57: 0 | R57: 0 | S57: 0 | T57: 0 | U57: 0 | V57: 0 | W57: 0 | X57: 0 | Y57: 0 | Z57: 0 | AB57: 15 | AC57: 2 | AD57: 1 | AE57: 0 | AF57: 0 | AG57: 0
A58: Cesar | B58: Centro de Operación y Mantenimiento Minero | C58: Carrera 14A No. 20-04 | D58: Bosconia | E58: 0 | F58: 2 | G58: 0 | H58: 0 | I58: 0 | J58: 0 | K58: 0 | L58: 0 | M58: 0 | N58: 0 | O58: 0 | P58: 0 | Q58: 0 | R58: 0 | S58: 0 | T58: 0 | U58: 0 | V58: 0 | W58: 0 | X58: 0 | Y58: 0 | Z58: 0 | AB58: =10-4 -> 6 | AC58: 2 | AD58: 1 | AE58: 1 | AF58: 0 | AG58: 0
A59: Cesar | B59: Centro de Operación y Mantenimiento Minero | C59: Diagonal 18 A Entre Calle 30 y 31 (Barrio Fundadores - Sabanas del Valle) SUBSEDE CENTRO DE DESARROLLO VECINAL - CDV | D59: Valledupar | E59: 0 | F59: 3 | G59: 0 | H59: 0 | I59: 0 | J59: 0 | K59: 0 | L59: 0 | M59: 0 | N59: 0 | O59: 0 | P59: 0 | Q59: 0 | R59: 0 | S59: 0 | T59: 0 | U59: 0 | V59: 0 | W59: 0 | X59: 0 | Y59: 0 | Z59: 0 | AB59: 14 | AC59: 0 | AD59: 1 | AE59: 1 | AF59: 0 | AG59: 2
A60: Cesar | B60: Centro Biotecnológico del Caribe | C60: Km. 7 Vía a La Paz SUPERVISOR | D60: Valledupar | E60: 0 | F60: 1 | G60: 0 | H60: 0 | I60: 0 | J60: 0 | K60: 0 | L60: 0 | M60: 0 | N60: 0 | O60: 0 | P60: 0 | Q60: 0 | R60: 0 | S60: 0 | T60: 0 | U60: 0 | V60: 0 | W60: 0 | X60: 0 | Y60: 0 | Z60: 0 | AB60: 0 | AC60: 0 | AD60: 0 | AE60: 0 | AF60: 0 | AG60: 0
A61: Cesar | B61: Centro Biotecnológico del Caribe | C61: Km. 7 Vía a La Paz | D61: Valledupar | E61: 2 | F61: 10 | G61: 0 | H61: 0 | I61: 0 | J61: 0 | K61: 0 | L61: 0 | M61: 0 | N61: 0 | O61: 0 | P61: 0 | Q61: 0 | R61: 0 | S61: 0 | T61: 0 | U61: 0 | V61: 0 | W61: 0 | X61: 0 | Y61: 0 | Z61: 0 | AB61: =37-27 -> 10 | AC61: =2 -> 2 | AD61: =2 -> 2 | AE61: =2 -> 2 | AF61: =2 -> 2 | AG61: =1 -> 1
A62: Cesar | B62: Centro Biotecnológico del Caribe | C62: Plantel Educativo “AGUSTIN CODAZZI (Tecnoacademia) | D62: Agustin Codazzi | E62: 0 | F62: 2 | G62: 0 | H62: 0 | I62: 0 | J62: 0 | K62: 0 | L62: 0 | M62: 0 | N62: 0 | O62: 0 | P62: 0 | Q62: 0 | R62: 0 | S62: 0 | T62: 0 | U62: 0 | V62: 0 | W62: 0 | X62: 0 | Y62: 0 | Z62: 0 | AB62: 0 | AC62: 0 | AD62: 0 | AE62: 0 | AF62: 0 | AG62: 0
A63: Cesar | B63: Centro Biotecnológico del Caribe | C63: Barrio El Senado. | D63: Chiriguana | E63: 0 | F63: 3 | G63: 0 | H63: 0 | I63: 0 | J63: 0 | K63: 0 | L63: 0 | M63: 0 | N63: 0 | O63: 0 | P63: 0 | Q63: 0 | R63: 0 | S63: 0 | T63: 0 | U63: 0 | V63: 0 | W63: 0 | X63: 0 | Y63: 0 | Z63: 0 | AB63: 10 | AC63: 2 | AD63: 1 | AE63: 1 | AF63: 1 | AG63: 1
A64: Cesar | B64: Centro Biotecnológico del Caribe | C64: Sector Chambacú, barrio Villa esther | D64: Chimichagua | E64: 0 | F64: 3 | G64: 0 | H64: 0 | I64: 0 | J64: 0 | K64: 0 | L64: 0 | M64: 0 | N64: 0 | O64: 0 | P64: 0 | Q64: 0 | R64: 0 | S64: 0 | T64: 0 | U64: 0 | V64: 0 | W64: 0 | X64: 0 | Y64: 0 | Z64: 0 | AB64: 12 | AC64: 2 | AD64: 1 | AE64: 1 | AF64: 1 | AG64: 1
A65: Cesar | B65: Centro Biotecnológico del Caribe | C65: ETNICO Carrera 42 Diagonal 11a avenida Brisas de la Popa, Valledupar Cesar | D65: Valledupar | E65: 0 | F65: 2 | G65: 0 | H65: 0 | L65: 0 | N65: 0 | O65: 0 | P65: 0 | Q65: 0 | R65: 0 | T65: 0 | U65: 0 | V65: 0 | X65: 0 | AB65: 16 | AC65: 0 | AD65: 1 | AE65: 1 | AF65: 1 | AG65: 1
A66: Cesar | B66: Centro Agroempresarial | C66: Calle 4 No. 20-33 Barrio Camilo Torres. | D66: Curumaní | E66: 0 | F66: 3 | G66: 0 | H66: 0 | I66: 0 | J66: 0 | K66: 0 | L66: 0 | M66: 0 | N66: 0 | O66: 0 | P66: 0 | Q66: 0 | R66: 0 | S66: 0 | T66: 0 | U66: 0 | V66: 0 | W66: 0 | X66: 0 | Y66: 0 | Z66: 0 | AB66: 12 | AC66: 0 | AD66: 1 | AE66: 1 | AF66: 1 | AG66: 1
A67: Cesar | B67: Centro Agroempresarial | C67: Calle 2B No.16-26. | D67: San Alberto | E67: 0 | F67: 3 | G67: 0 | H67: 0 | I67: 0 | J67: 0 | K67: 0 | L67: 0 | M67: 0 | N67: 0 | O67: 0 | P67: 0 | Q67: 0 | R67: 0 | S67: 0 | T67: 0 | U67: 0 | V67: 0 | W67: 0 | X67: 0 | Y67: 0 | Z67: 0 | AB67: 12 | AC67: 0 | AD67: 1 | AE67: 1 | AF67: 1 | AG67: 1
A68: Cesar | B68: Centro Agroempresarial | C68: Kilómetro 1 Vía Bucaramanga | D68: Aguachica | E68: 0 | F68: 4 | G68: 0 | H68: 0 | I68: 0 | J68: 0 | K68: 0 | L68: 0 | M68: 0 | N68: 0 | O68: 0 | P68: 0 | Q68: 0 | R68: 0 | S68: 0 | T68: 0 | U68: 0 | V68: 0 | W68: 0 | X68: 0 | Y68: 0 | Z68: 0 | AA68: =AA73*7.5 -> 4.3318213e+09 | AB68: 32 | AC68: 0 | AD68: 1 | AE68: 1 | AF68: 1 | AG68: 1
A70: TOTAL REGIONAL | E70: =SUM(E52:E68) -> 2 | F70: =SUM(F52:F69) -> 53 | G70: =SUM(G52:G68) -> 0 | H70: =SUM(H52:H68) -> 0 | I70: =SUM(I52:I68) -> 0 | J70: =SUM(J52:J68) -> 0 | L70: =SUM(L52:L68) -> 0 | M70: =SUM(M52:M68) -> 0 | N70: =SUM(N52:N68) -> 0 | O70: =SUM(O52:O68) -> 0 | P70: =SUM(P52:P68) -> 0 | Q70: =SUM(Q52:Q68) -> 0 | R70: =SUM(R52:R68) -> 0 | S70: =SUM(S52:S68) -> 0 | ... Z70: =SUM(Z52:Z68) -> 0 | AA70: =SUM(E70:Z70) -> 55 | AB70: =SUM(AB52:AB68) -> 174 | AC70: =SUM(AC52:AC68) -> 10 | AD70: =SUM(AD52:AD68) -> 12 | AE70: =SUM(AE52:AE68) -> 12 | AF70: =SUM(AF52:AF68) -> 9 | AG70: =SUM(AG52:AG68) -> 12
AA71: =SUM(E71:Z71) -> 0
B72: CERTIFICADOS SENA | AA72: =SUM(E72:Z72) -> 0
A73: VALOR POR REGIOANAL | E73: =E70*E5 -> 21377315 | F73: =F70*F5 -> 5.5619886e+08 | G73: =G70*G5 -> 0 | H73: =H70*H5 -> 0 | I73: =I70*I5 -> 0 | J73: =J70*J5 -> 0 | L73: =L70*L5 -> 0 | M73: =M70*M5 -> 0 | N73: =N70*N5 -> 0 | O73: =O70*O5 -> 0 | P73: =P70*P5 -> 0 | Q73: =Q70*Q5 -> 0 | R73: =R70*R5 -> 0 | S73: =S70*S5 -> 0 | ... Z73: =Z70*Z5 -> 0 | AA73: =SUM(E73:Z73) -> 5.7757617e+08 | AB73: =AB70*AB5 -> 2803169.1 | AC73: =AC70*AC5 -> 626198.1 | AD73: =AD70*AD5 -> 962616.7 | AE73: =AE70*AE5 -> 698971.09 | AF73: =AF70*AF5 -> 1653094.7 | AG73: =AG70*AG5 -> 741707.01
A74: Cordoba | B74: Despacho Dirección | C74: Avenida circunvalar calle 24 y 27 | D74: Montería | E74: 0 | F74: 0 | G74: 0 | H74: 0 | I74: 0 | J74: 0 | K74: 0 | L74: 0 | M74: 0 | N74: 1 | O74: 0 | P74: 0 | Q74: 0 | R74: 0 | S74: 0 | T74: 0 | U74: 0 | V74: 0 | W74: 0 | X74: 0 | Y74: 0 | Z74: 0 | AB74: 10 | AC74: 2 | AD74: 1 | AE74: 1 | AF74: 1 | AG74: 0
A75: Cordoba | B75: Centro de Comercio, Industria y Turismo de Córdoba | C75: Avenida circunvalar calle 24 y 27 | D75: Montería | E75: 0 | F75: 4 | G75: 0 | H75: 0 | I75: 0 | J75: 0 | K75: 0 | L75: 0 | M75: 0 | N75: 1 | O75: 0 | P75: 1 | Q75: 0 | R75: 0 | S75: 0 | T75: 0 | U75: 0 | V75: 0 | W75: 0 | X75: 0 | Y75: 0 | Z75: 0 | AB75: 16 | AC75: 1 | AD75: =1-1 -> 0 | AE75: 1 | AF75: 0 | AG75: 2
A76: Cordoba | B76: Centro de Comercio, Industria y Turismo de Córdoba | C76: Carrera 9 No. 1-35 Antigua Planta de Hielo. | D76: Lorica | E76: 0 | F76: 1 | G76: 0 | H76: 0 | I76: 0 | J76: 0 | K76: 0 | L76: 0 | M76: 0 | N76: 0 | O76: 0 | P76: 0 | Q76: 0 | R76: 0 | S76: 0 | T76: 0 | U76: 0 | V76: 0 | W76: 0 | X76: 0 | Y76: 0 | Z76: 0 | AB76: 15 | AC76: 1 | AD76: 1 | AE76: 1 | AF76: 1 | AG76: 2
A77: Cordoba | B77: Centro de Comercio, Industria y Turismo de Córdoba | C77: Sub sede San Jorge | D77: Montelibano | E77: 0 | F77: 4 | G77: 0 | H77: 0 | I77: 0 | J77: 0 | K77: 0 | L77: 0 | M77: 0 | N77: 0 | O77: 0 | P77: 0 | Q77: 0 | R77: 0 | S77: 0 | T77: 0 | U77: 0 | V77: 0 | W77: 0 | X77: 0 | Y77: 0 | Z77: 0 | AB77: 10 | AC77: 0 | AD77: 1 | AE77: 0 | AF77: 0 | AG77: 1
A78: Cordoba | B78: Centro Agropecuario y de Biotecnología el Porvenir | C78: k. 45 corregimiento Santa Isabel vía Tierralta | D78: Montería | E78: 1 | F78: 5 | G78: 1 | H78: 0 | I78: 0 | J78: 0 | K78: 0 | L78: 0 | M78: 0 | N78: 0 | O78: 0 | P78: 0 | Q78: 0 | R78: 0 | S78: 0 | T78: 0 | U78: 0 | V78: 0 | W78: 0 | X78: 0 | Y78: 0 | Z78: 0 | AB78: 26 | AC78: 2 | AD78: 2 | AE78: 2 | AF78: 1 | AG78: 3
A79: Cordoba | B79: Centro Agropecuario y de Biotecnología el Porvenir | C79: Kilómetro 11 Vía Montería Cereté frente al aeropuerto Los Garzones Sede la Vitrina | D79: Montería | E79: 1 | F79: 4 | G79: 0 | H79: 0 | I79: 0 | J79: 0 | K79: 0 | L79: 0 | M79: 0 | N79: 0 | O79: 0 | P79: 0 | Q79: 0 | R79: 0 | S79: 0 | T79: 0 | U79: 0 | V79: 0 | W79: 0 | X79: 0 | Y79: 0 | Z79: 0 | AA79: =AA83*7.5 -> 1.7504404e+09 | AB79: 13 | AC79: 0 | AD79: 1 | AE79: 1 | AF79: 1 | AG79: 1
A80: TOTAL REGIONAL | E80: =SUM(E74:E79) -> 2 | F80: =SUM(F74:F79) -> 18 | G80: =SUM(G74:G79) -> 1 | H80: =SUM(H74:H79) -> 0 | I80: =SUM(I74:I79) -> 0 | J80: =SUM(J74:J79) -> 0 | L80: =SUM(L74:L79) -> 0 | M80: =SUM(M74:M79) -> 0 | N80: =SUM(N74:N79) -> 2 | O80: =SUM(O74:O79) -> 0 | P80: =SUM(P74:P79) -> 1 | Q80: =SUM(Q74:Q79) -> 0 | R80: =SUM(R74:R79) -> 0 | S80: =SUM(S74:S79) -> 0 | ... Z80: =SUM(Z74:Z79) -> 0 | AA80: =SUM(E80:Z80) -> 24 | AB80: =SUM(AB74:AB79) -> 90 | AC80: =SUM(AC74:AC79) -> 6 | AD80: =SUM(AD74:AD79) -> 6 | AE80: =SUM(AE74:AE79) -> 6 | AF80: =SUM(AF74:AF79) -> 4 | AG80: =SUM(AG74:AG79) -> 9
AA81: =SUM(E81:Z81) -> 0
B82: CERTIFICADOS SENA | AA82: =SUM(E82:Z82) -> 0
A83: VALOR POR REGIOANAL | E83: =E80*E5 -> 21377315 | F83: =F80*F5 -> 1.8889773e+08 | G83: =G80*G5 -> 10494318 | H83: =H80*H5 -> 0 | I83: =I80*I5 -> 0 | J83: =J80*J5 -> 0 | L83: =L80*L5 -> 0 | M83: =M80*M5 -> 0 | N83: =N80*N5 -> 9741398.5 | O83: =O80*O5 -> 0 | P83: =P80*P5 -> 2881295.8 | Q83: =Q80*Q5 -> 0 | R83: =R80*R5 -> 0 | S83: =S80*S5 -> 0 | ... Z83: =Z80*Z5 -> 0 | AA83: =SUM(E83:Z83) -> 2.3339205e+08 | AB83: =AB80*AB5 -> 1449915 | AC83: =AC80*AC5 -> 375718.86 | AD83: =AD80*AD5 -> 481308.35 | AE83: =AE80*AE5 -> 349485.55 | AF83: =AF80*AF5 -> 734708.75 | AG83: =AG80*AG5 -> 556280.26
A84: Guajira | B84: Despacho Direccion SUPERVISOR | C84: Avenida Aeropuerto Calle 21 esquina | D84: Riohacha | E84: 0 | F84: 1 | G84: 0 | H84: 0 | I84: 0 | J84: 0 | K84: 0 | L84: 0 | M84: 0 | N84: 0 | O84: 0 | P84: 0 | Q84: 0 | R84: 0 | S84: 0 | T84: 0 | U84: 0 | V84: 0 | W84: 0 | X84: 0 | Y84: 0 | Z84: 0 | AB84: 0 | AC84: 0 | AD84: 0 | AE84: 0 | AF84: 0 | AG84: 0
A85: Guajira | B85: Centro Industrial y de Energias Alternativas | C85: Calle 21 Carrera 15 Avenida al Aeropuerto Sede Comercioy Servicios | D85: Riohacha | E85: 0 | F85: 6 | G85: 1 | H85: 0 | I85: 0 | J85: 0 | K85: 0 | L85: 0 | M85: 0 | N85: 0 | O85: 0 | P85: 0 | Q85: 0 | R85: 0 | S85: 0 | T85: 0 | U85: 0 | V85: 0 | W85: 0 | X85: 0 | Y85: 0 | Z85: 0 | AB85: 40 | AC85: 5 | AD85: 2 | AE85: 2 | AF85: 1 | AG85: 7
A86: Guajira | B86: Centro Industrial y de Energias Alternativas | C86: Calle 15 No 21-70 Sede Centro Medico | D86: Riohacha | E86: 0 | F86: 0 | G86: 0 | H86: 0 | I86: 0 | J86: 0 | K86: 0 | L86: 0 | M86: 0 | N86: 0 | O86: 0 | P86: 0 | Q86: 0 | R86: 0 | S86: 0 | T86: 0 | U86: 0 | V86: 0 | W86: 0 | X86: 0 | Y86: 0 | Z86: 0 | AB86: 0 | AC86: 0 | AD86: 0 | AE86: 0 | AF86: 0 | AG86: 0
A87: Guajira | B87: Centro Industrial y de Energias Alternativas | C87: Calle 16 No. 44 - 46 Troncal del caribe Sede Maicao | D87: Maicao | E87: 0 | F87: 3 | G87: 0 | H87: 0 | I87: 0 | J87: 0 | K87: 0 | L87: 0 | M87: 0 | N87: 0 | O87: 0 | P87: 0 | Q87: 0 | R87: 0 | S87: 0 | T87: 0 | U87: 0 | V87: 0 | W87: 0 | X87: 0 | Y87: 0 | Z87: 0 | AB87: 13 | AC87: 3 | AD87: 1 | AE87: 1 | AF87: 1 | AG87: 3
A88: Guajira | B88: Centro Industrial y de Energias Alternativas | C88: Kilómetro 5 Salida a Maicao Sede Industrial | D88: Riohacha | E88: 0 | F88: 7 | G88: 0 | H88: 0 | I88: 0 | J88: 0 | K88: 0 | L88: 0 | M88: 0 | N88: 0 | O88: 2 | P88: 0 | Q88: 0 | R88: 0 | S88: 0 | T88: 2 | U88: 0 | V88: 0 | W88: 0 | X88: 0 | Y88: 0 | Z88: 0 | AB88: 26 | AC88: 4 | AD88: 2 | AE88: 2 | AF88: 1 | AG88: 4
A89: Guajira | B89: Centro Industrial y de Energias Alternativas | C89: Cra 7 # 20-15 Sede Archivo | D89: Riohacha | E89: 0 | F89: 0 | G89: 0 | H89: 0 | I89: 0 | J89: 0 | K89: 0 | L89: 0 | M89: 0 | N89: 0 | O89: 0 | P89: 0 | Q89: 0 | R89: 0 | S89: 0 | T89: 0 | U89: 0 | V89: 0 | W89: 0 | X89: 0 | Y89: 0 | Z89: 0
A90: Guajira | B90: Centro Industrial y de Energias Alternativas | C90: cra 44 # 14h - 29 Sede Campoalegre | D90: Riohacha | E90: 0 | F90: 2 | G90: 0 | H90: 0 | I90: 0 | J90: 0 | K90: 0 | L90: 0 | M90: 0 | N90: 0 | O90: 0 | P90: 0 | Q90: 0 | R90: 0 | S90: 0 | T90: 0 | U90: 0 | V90: 0 | W90: 0 | X90: 0 | Y90: 0 | Z90: 0 | AB90: 0 | AC90: 0 | AD90: 0 | AE90: 0 | AF90: 0 | AG90: 0
A91: Guajira | B91: Centro Industrial y de Energias Alternativas | C91: calle 12b # 21-65 barrio marbella Sede Cocina | D91: Riohacha | E91: 0 | F91: 1 | G91: 0 | H91: 0 | I91: 0 | J91: 0 | K91: 0 | L91: 0 | M91: 0 | N91: 0 | O91: 0 | P91: 0 | Q91: 0 | R91: 0 | S91: 0 | T91: 0 | U91: 0 | V91: 0 | W91: 0 | X91: 0 | Y91: 0 | Z91: 0 | AB91: 19 | AC91: 4 | AD91: 1 | AE91: 1 | AF91: 0 | AG91: 2
A92: Guajira | B92: Centro Agroempresarial y Acuícola | C92: Km 0,8 via Barrrancas SUPERVISOR | D92: Fonseca | E92: 0 | F92: 1 | G92: 0 | H92: 0 | I92: 0 | J92: 0 | K92: 0 | L92: 0 | M92: 0 | N92: 0 | O92: 0 | P92: 0 | Q92: 0 | R92: 0 | S92: 0 | T92: 0 | U92: 0 | V92: 0 | W92: 0 | X92: 0 | Y92: 0 | Z92: 0 | AB92: 0 | AC92: 0 | AD92: 0 | AE92: 0 | AF92: 0 | AG92: 0
A93: Guajira | B93: Centro Agroempresarial y Acuícola | C93: Km 0,8 via Barrrancas | D93: Fonseca | E93: 0 | F93: 9 | G93: 1 | H93: 0 | I93: 0 | J93: 0 | K93: 0 | L93: 0 | M93: 0 | N93: 0 | O93: 0 | P93: 0 | Q93: 0 | R93: 0 | S93: 0 | T93: 0 | U93: 0 | V93: 0 | W93: 0 | X93: 0 | Y93: 0 | Z93: 0 | AB93: 0 | AC93: 0 | AD93: 0 | AE93: 0 | AF93: 0 | AG93: 0
A94: Guajira | B94: Centro Agroempresarial y Acuícola | C94: Antígüo Colegio Julia Sierra Iguarán, Barrio Abuchaibe | D94: Uribia | E94: 0 | F94: 1 | G94: 0 | H94: 0 | I94: 0 | J94: 0 | K94: 0 | L94: 0 | M94: 0 | N94: 0 | O94: 0 | P94: 0 | Q94: 0 | R94: 0 | S94: 0 | T94: 0 | U94: 0 | V94: 0 | W94: 0 | X94: 0 | Y94: 0 | Z94: 0 | AA94: =AA99*7.5 -> 2.8351004e+09 | AB94: 6 | AC94: 0 | AD94: 1 | AE94: 1 | AF94: 0 | AG94: 1
A95: Guajira | B95: Centro Agroempresarial y Acuícola | C95: CREM Villanueva, Carrera 13 No. 11 - 42, Barrio las Delicias | D95: Villanueva | E95: 0 | F95: 1 | G95: 0 | H95: 0 | I95: 0 | J95: 0 | K95: 0 | L95: 0 | M95: 0 | N95: 0 | O95: 0 | P95: 0 | Q95: 0 | R95: 0 | S95: 0 | T95: 0 | U95: 0 | V95: 0 | W95: 0 | X95: 0 | Y95: 0 | Z95: 0
A96: TOTAL REGIONAL | E96: =SUM(E84:E95) -> 0 | F96: =SUM(F84:F95) -> 32 | G96: =SUM(G84:G95) -> 2 | H96: =SUM(H84:H95) -> 0 | I96: =SUM(I84:I95) -> 0 | J96: =SUM(J84:J95) -> 0 | L96: =SUM(L84:L95) -> 0 | M96: =SUM(M84:M95) -> 0 | N96: =SUM(N84:N95) -> 0 | O96: =SUM(O84:O95) -> 2 | P96: =SUM(P84:P95) -> 0 | Q96: =SUM(Q84:Q95) -> 0 | R96: =SUM(R84:R95) -> 0 | S96: =SUM(S84:S95) -> 0 | ... Z96: =SUM(Z84:Z95) -> 0 | AA96: =SUM(E96:Z96) -> 38 | AB96: =SUM(AB84:AB95) -> 104 | AC96: =SUM(AC84:AC95) -> 16 | AD96: =SUM(AD84:AD95) -> 7 | AE96: =SUM(AE84:AE95) -> 7 | AF96: =SUM(AF84:AF95) -> 3 | AG96: =SUM(AG84:AG95) -> 17
AA97: =SUM(E97:Z97) -> 0
B98: CERTIFICADOS SENA | AA98: =SUM(E98:Z98) -> 0
A99: VALOR POR REGIOANAL | E99: =E96*E5 -> 0 | F99: =F96*F5 -> 3.3581818e+08 | G99: =G96*G5 -> 20988636 | H99: =H96*H5 -> 0 | I99: =I96*I5 -> 0 | J99: =J96*J5 -> 0 | L99: =L96*L5 -> 0 | M99: =M96*M5 -> 0 | N99: =N96*N5 -> 0 | O99: =O96*O5 -> 9220146.4 | P99: =P96*P5 -> 0 | Q99: =Q96*Q5 -> 0 | R99: =R96*R5 -> 0 | S99: =S96*S5 -> 0 | ... Z99: =Z96*Z5 -> 0 | AA99: =SUM(E99:Z99) -> 3.7801339e+08 | AB99: =AB96*AB5 -> 1675457.4 | AC99: =AC96*AC5 -> 1001917 | AD99: =AD96*AD5 -> 561526.41 | AE99: =AE96*AE5 -> 407733.14 | AF99: =AF96*AF5 -> 551031.56 | AG99: =AG96*AG5 -> 1050751.6
A100: Magdalena | B100: Despacho Dirección SUPERVISOR | C100: Calle 29 # 13 - 127 Barrio Bavaria | D100: Santa Marta | E100: 0 | F100: 1 | G100: 0 | H100: 0 | J100: 0 | K100: 0 | L100: 0 | M100: 0 | N100: 0 | O100: 0 | P100: 0 | Q100: 0 | R100: 0 | S100: 0 | T100: 0 | U100: 0 | V100: 0 | W100: 0 | X100: 0 | Y100: 0 | Z100: 0 | AB100: 8 | AC100: 0 | AD100: 1 | AE100: 1 | AF100: 1 | AG100: 2
A101: Magdalena | B101: Despacho Dirección | C101: Avenida Ferrocarril # 27-97 (APE) | D101: Santa Marta | E101: 0 | F101: 1 | G101: 0 | H101: 0 | I101: 0 | J101: 0 | K101: 0 | L101: 0 | M101: 0 | N101: 0 | O101: 0 | P101: 1 | Q101: 0 | R101: 0 | S101: 0 | T101: 0 | U101: 0 | V101: 0 | W101: 0 | X101: 0 | Y101: 0 | Z101: 0 | AB101: 0 | AC101: 0 | AD101: 0 | AE101: 0 | AF101: 0 | AG101: 0
...

Sheet ZONA 1 10,21
H1: 1750905 | I1: 10.21 | J1: 2850
A2: COSTO DE MODALIDADES VIGILANCIA 2026 ZONA 1 | D2: TARIFAS | E2: =(($H$1*$I$1)+$J$1) -> 17879590 | F2: =(($H$1*$I$1)+$J$1) -> 17879590 | G2: =(($H$1*$I$1)+$J$1) -> 17879590 | H2: =(($H$1*$I$1)+$J$1) -> 17879590 | I2: =(($H$1*$I$1)+$J$1)/30*20 -> 11919727 | J2: =(($H$1*$I$1)+$J$1)/30*24 -> 14303672 | K2: =((($H$1*$I$1)+$J$1)*0.4759/13*5)+((($H$1*$I$1)+$J$1)*0.5241/11*11) -> 12643346 | L2: =((($H$1*$I$1)+$J$1)*0.4759/13*13)+((($H$1*$I$1)+$J$1)*0.5241/11*3) -> 11064540 | M2: =((($H$1*$I$1)+$J$1)*0.4759/30*20/13*13)+((($H$1*$I$1)+$J$1)*0.5241/30*20/11*3) -> 7376360.3 | N2: =((($H$1*$I$1)+$J$1)*0.4759/30*24/13*13)+((($H$1*$I$1)+$J$1)*0.5241/30*24/11*3) -> 8851632.4 | O2: =(($H$1*$I$1)+$J$1)*0.4759/13*12 -> 7854366.4 | P2: =(($H$1*$I$1)+$J$1)*0.4759/30*20/13*12 -> 5236244.2 | Q2: =(($H$1*$I$1)+$J$1)*0.4759/30*24/13*12 -> 6283493.1 | R2: =((($H$1*$I$1)+$J$1)*0.4759/13*1)+((($H$1*$I$1)+$J$1)*0.5241/11*11) -> 10025224 | S2: =((($H$1*$I$1)+$J$1)*0.4759/30*24/13*1)+((($H$1*$I$1)+$J$1)*0.5241/30*24/11*11) -> 8020178.9 | T2: =((($H$1*$I$1)+$J$1)*0.4759/13*1)+((($H$1*$I$1)+$J$1)*0.5241/11*11) -> 10025224 | U2: =((($H$1*$I$1)+$J$1)*0.5241/11*8) -> 6815049.6 | V2: =((($H$1*$I$1)+$J$1)*0.5241/11*8) -> 6815049.6 | W2: =((($H$1*$I$1)+$J$1)*0.5241/30*20/11*8) -> 4543366.4 | X2: =(($H$1*$I$1)+$J$1)*0.4759/30*24/13*8 -> 4188995.4 | Y2: =(($H$1*$I$1)+$J$1)*0.4759/30*20/13*8 -> 3490829.5 | Z2: =(($H$1*$I$1)+$J$1)*0.4759/13*8 -> 5236244.2 | AB2: =+'ZONA 1 9,77'!AB2 -> 25383.667 | AC2: =+'ZONA 1 9,77'!AC2 -> 98665.667 | AD2: =+'ZONA 1 9,77'!AD2 -> 126394 | AE2: =+'ZONA 1 9,77'!AE2 -> 91776.667 | AF2: =+'ZONA 1 9,77'!AF2 -> 289407.33 | AG2: =+'ZONA 1 9,77'!AG2 -> 97388
D3: AYS | E3: =E2*10% -> 1787959 | F3: =F2*8% -> 1430367.2 | G3: =G2*8% -> 1430367.2 | H3: =H2*11% -> 1966754.9 | I3: =I2*8% -> 953578.14 | J3: =J2*8% -> 1144293.8 | K3: =K2*8% -> 1011467.7 | L3: =L2*8% -> 885163.24 | M3: =M2*8% -> 590108.83 | N3: =N2*8% -> 708130.59 | O3: =O2*8% -> 628349.31 | P3: =P2*8% -> 418899.54 | ... S3: =S2*8% -> 641614.32 | T3: =T2*10% -> 1002522.4 | U3: =U2*10% -> 681504.96 | V3: =V2*8% -> 545203.96 | W3: =W2*8% -> 363469.31 | X3: =X2*8% -> 335119.63 | Y3: =Y2*8% -> 279266.36 | Z3: =Z2*8% -> 418899.54
D4: IVA | E4: =(E2+E3)*0.019 -> 373683.43 | F4: =(F2+F3)*0.019 -> 366889.19 | G4: =(G2+G3)*0.019 -> 366889.19 | H4: =(H2+H3)*0.019 -> 377080.55 | I4: =(I2+I3)*0.019 -> 244592.79 | J4: =(J2+J3)*0.019 -> 293511.35 | K4: =(K2+K3)*0.019 -> 259441.46 | L4: =(L2+L3)*0.019 -> 227044.37 | ... Z4: =(Z2+Z3)*0.019 -> 107447.73 | AB4: =+AB2*0.19 -> 4822.8967 | AC4: =+AC2*0.19 -> 18746.477 | AD4: =+AD2*0.19 -> 24014.86 | AE4: =+AE2*0.19 -> 17437.567 | AF4: =+AF2*0.19 -> 54987.393 | AG4: =+AG2*0.19 -> 18503.72
D5: TOTAL | E5: =+E2+E3+E4 -> 20041232 | F5: =+F2+F3+F4 -> 19676846 | G5: =+G2+G3+G4 -> 19676846 | H5: =+H2+H3+H4 -> 20223426 | I5: =+I2+I3+I4 -> 13117898 | J5: =+J2+J3+J4 -> 15741477 | K5: =+K2+K3+K4 -> 13914255 | L5: =+L2+L3+L4 -> 12176748 | ... Z5: =+Z2+Z3+Z4 -> 5762591.5 | AB5: =+AB2+AB4 -> 30206.563 | AC5: =+AC2+AC4 -> 117412.14 | AD5: =+AD2+AD4 -> 150408.86 | AE5: =+AE2+AE4 -> 109214.23 | AF5: =+AF2+AF4 -> 344394.73 | AG5: =+AG2+AG4 -> 115891.72
A6: REGIONAL | B6: CENTRO | C6: DIRECCIÓN | D6: MUNICIPIO | E6: PUESTO 24 HORAS TODOS LOS DÍAS CON ARMA | F6: PUESTO 24 HORAS TODOS LOS DÍAS SIN ARMA | G6: PUESTO 24 HORAS MONITOREO | H6: PUESTO 24 HORAS TODOS LOS DÍAS CON CANINO | I6: PUESTO 24 HORAS LUNES A VIERNES SIN ARMA | J6: PUESTO 24 HORAS LUNES A SABADO SIN ARMA | K6: PUESTO 16 HORAS (INCLUYE 11 HORAS NOCTURNAS) TODOS LOS DÍAS SIN ARMA | L6: PUESTO 16 HORAS (INCLUYE 3 HORA NOCTURNA) TODOS LOS DÍAS SIN ARMA | M6: PUESTO 16 HORAS (INCLUYE 3 HORA NOCTURNA) LUNES A VIERNES NO INCLUYE FESTIVOS SIN ARMA | N6: PUESTO 16 HORAS (INCLUYE 3 HORA NOCTURNA) LUNES A SÁBADO NO INCLUYE FESTIVOS SIN ARMA | O6: PUESTO 12 HORAS DIURNAS TODOS LOS DÍAS SIN ARMA | P6: PUESTO 12 HORAS DIURNAS LUNES A VIERNES NO INCLUYE FESTIVOS SIN ARMA | Q6: PUESTO 12 HORAS DIURNAS LUNES A SÁBADO NO INCLUYE FESTIVOS SIN ARMA | R6: PUESTO 12 HORAS (INCLUYE 11 HORAS NOCTURNAS) TODOS LOS DIAS SIN ARMA | S6: PUESTO 12 HORAS (INCLUYE 11 HORAS NOCTURNAS) LUNES A SABADO SIN ARMA | T6: PUESTO 12 HORAS (INCLUYE 9 HORAS NOCTURNAS) TODOS LOS DIAS CON ARMA | U6: PUESTO 8 HORAS NOCTURNAS TODOS LOS DÍAS CON ARMA | V6: PUESTO 8 HORAS NOCTURNAS TODOS LOS DÍAS SIN ARMA | W6: PUESTO 8 HORAS NOCTURNAS LUNES A VIERNES SIN ARMA | X6: PUESTO 8 HORAS DIURNAS LUNES A SÁBADO NO INCLUYE FESTIVOS SIN ARMA | Y6: PUESTO 8 HORAS DIURNAS LUNES A VIERNES NO INCLUYE FESTIVOS SIN ARMA | Z6: PUESTO 8 HORAS DIURNAS TODOS LOS DIAS SIN ARMA | AB6: Cámara tipo mini domo | AC6: Cámara PTZ | AD6: DVR | AE6: Monitor | AF6: Control de visitantes y de bienes (para Regionales) | AG6: Alarma
A7: Atlantico | B7: Despacho Dirección | C7: Carrera 43 42-40 Piso 11 SUPERVISOR | D7: Barranquilla | E7: 0 | F7: 1 | G7: 0 | H7: 0 | I7: 0 | J7: 0 | K7: 0 | L7: 0 | M7: 0 | N7: 0 | O7: 0 | P7: 0 | Q7: 0 | R7: 0 | S7: 0 | T7: 0 | U7: 0 | V7: 0 | W7: 0 | X7: 0 | Y7: 0 | Z7: 0 | AB7: 0 | AC7: 0 | AD7: 0 | AE7: 0 | AF7: 0 | AG7: 0
A8: Atlantico | B8: Centro de Comercio y Servicios | C8: Carrera 43 42-40 | D8: Barranquilla | E8: 0 | F8: 2 | G8: 1 | H8: 0 | I8: 0 | J8: 0 | K8: 0 | L8: 0 | M8: 0 | N8: 0 | O8: 0 | P8: 0 | Q8: 5 | R8: 0 | S8: 0 | T8: 0 | U8: 0 | V8: 0 | W8: 0 | X8: 0 | Y8: 0 | Z8: 0 | AB8: 30 | AC8: 0 | AD8: 2 | AE8: 2 | AF8: 1 | AG8: 4
A9: Atlantico | B9: Centro de Comercio y Servicios Nodo SALUD | C9: Cra. 35 calle 32 esquina Hospital Barranquilla | D9: Barranquilla | E9: 0 | F9: 3 | G9: 0 | H9: 0 | I9: 0 | J9: 0 | K9: 0 | L9: 0 | M9: 0 | N9: 0 | O9: 0 | P9: 0 | Q9: 0 | R9: 0 | S9: 0 | T9: 0 | U9: 0 | V9: 0 | W9: 0 | X9: 0 | Y9: 0 | Z9: 0 | AB9: =30-2 -> 28 | AD9: 2 | AE9: 2 | AF9: 1 | AG9: 4
A10: Atlantico | B10: Centro de Comercio y Servicio Nodo Logística y Transporte | C10: Cra. 9 No.127 - 109 Urba. Caribe Verde | D10: Barranquilla | E10: 0 | F10: 3 | G10: 0 | H10: 0 | I10: 0 | J10: 0 | K10: 0 | L10: 0 | M10: 0 | N10: 1 | O10: 0 | P10: 0 | Q10: 0 | R10: 0 | S10: 0 | T10: 0 | U10: 0 | V10: 0 | W10: 0 | X10: 0 | Y10: 0 | Z10: 0 | AB10: 16 | AC10: 0 | AD10: 1 | AE10: 1 | AF10: 0 | AG10: 0
A11: Atlantico | B11: Centro de Comercio y Servicio Nodo Servicios Financieros | C11: Cra 15 Sur # 48-28 cayenas | D11: Barranquilla | E11: 0 | F11: 4 | G11: 0 | H11: 0 | I11: 0 | J11: 0 | K11: 0 | L11: 0 | M11: 0 | N11: 1 | O11: 0 | P11: 0 | Q11: 0 | R11: 0 | S11: 0 | T11: 0 | U11: 0 | V11: 0 | W11: 0 | X11: 0 | Y11: 0 | Z11: 0 | AB11: 8 | AC11: 0 | AD11: 1 | AE11: 1 | AF11: 0 | AG11: 0
A12: Atlantico | B12: Centro de Comercio y Servicio Nodo Servicios Administrativos | C12: Calle 47 # 6-110 Via coordialidad | D12: Barranquilla | E12: 0 | F12: 3 | G12: 0 | H12: 0 | I12: 0 | J12: 0 | K12: 0 | L12: 0 | M12: 0 | N12: 0 | O12: 0 | P12: 0 | Q12: 0 | R12: 0 | S12: 0 | T12: 0 | U12: 0 | V12: 0 | W12: 0 | X12: 0 | Y12: 0 | Z12: 0 | AB12: 4 | AC12: 0 | AD12: 1 | AE12: 1 | AF12: 0 | AG12: 0
A13: Atlantico | B13: Centro para el Desarrollo Agroecologico y Agroindustrial | C13: nodo operaciones comerciales cra 24 M con calle 48 | D13: soledad | E13: 0 | F13: 3 | G13: 0 | H13: 0 | I13: 0 | J13: 0 | K13: 0 | L13: 0 | M13: 0 | N13: 0 | O13: 0 | P13: 0 | Q13: 0 | R13: 0 | S13: 0 | T13: 0 | U13: 0 | V13: 0 | W13: 0 | X13: 0 | Y13: 0 | Z13: 0 | AB13: 8 | AD13: 1 | AE13: 1 | AG13: 1
A14: Atlantico | B14: Centro de Comercio y Servicio NODO DE HOTELERIA Y TURISMO | C14: Cra 50b # 39-86 | D14: Barranquilla | E14: 0 | F14: 3 | G14: 0 | H14: 0 | I14: 0 | J14: 0 | K14: 0 | L14: 0 | M14: 0 | N14: 0 | O14: 0 | P14: 0 | Q14: 0 | R14: 0 | S14: 0 | T14: 0 | U14: 0 | V14: 0 | W14: 0 | X14: 0 | Y14: 0 | Z14: 0 | AB14: 10 | AC14: 2 | AD14: 1 | AE14: 1 | AF14: 1 | AG14: 1
A15: Atlantico | B15: Centro de Comercio y Servicio NODO DE GASTRONOMIA Y BILINGUISMO | C15: Calle 7 1D 155 Juan de Acosta | D15: Juan de acosta | E15: 0 | F15: 2 | G15: 0 | H15: 0 | I15: 0 | J15: 0 | K15: 0 | L15: 0 | M15: 0 | N15: 0 | O15: 0 | P15: 0 | Q15: 0 | R15: 0 | S15: 0 | T15: 0 | U15: 0 | V15: 0 | W15: 0 | X15: 0 | Y15: 0 | Z15: 0 | AB15: 4 | AC15: 0 | AD15: 1 | AE15: 1 | AF15: 0 | AG15: 1
A16: Atlantico | B16: Centro para el Desarrollo Agroecologico y Agroindustrial | C16: Calle 9 No. 19-120 Barrio Santander | D16: Sabanalarga | E16: 0 | F16: 3 | G16: 0 | H16: 0 | I16: 0 | J16: 0 | K16: 0 | L16: 1 | M16: 0 | N16: 0 | O16: 0 | P16: 0 | Q16: 0 | R16: 1 | S16: 0 | T16: 0 | U16: 0 | V16: 0 | W16: 0 | X16: 0 | Y16: 0 | Z16: 0 | AB16: =28 -> 28 | AC16: 4 | AD16: 1 | AE16: 1 | AF16: 1 | AG16: =4-4 -> 0
A17: Atlantico | B17: Centro para el Desarrollo Agroecologico y Agroindustrial FINCA EL CANEY | C17: Kilómetro 35 Margen Oriental Carretera La Cordialidad A 3 Kilómetro. | D17: Sabanalarga | E17: 2 | F17: 3 | G17: 0 | H17: 0 | I17: 0 | J17: 0 | K17: 0 | L17: 0 | M17: 0 | N17: 0 | O17: 0 | P17: 0 | Q17: 0 | R17: 0 | S17: 0 | T17: 0 | U17: 0 | V17: 0 | W17: 0 | X17: 0 | Y17: 0 | Z17: 0 | AB17: 32 | AC17: 5 | AD17: 3 | AE17: 3 | AF17: 1 | AG17: =3-3 -> 0
A18: Atlantico | B18: Centro para el Desarrollo Agroecologico y Agroindustrial | C18: Kilometro 2-101 Vía Luruaco Cartagena | D18: LURUACO | E18: 0 | F18: 2 | G18: 0 | H18: 0 | I18: 0 | J18: 0 | K18: 0 | L18: 0 | M18: 0 | N18: 0 | O18: 0 | P18: 0 | Q18: 0 | R18: 0 | S18: 0 | T18: 0 | U18: 0 | V18: 0 | W18: 0 | X18: 0 | Y18: 0 | Z18: 0 | AB18: 4 | AD18: 1 | AG18: 1
A19: Atlantico | B19: Centro para el Desarrollo Agroecologico y Agroindustrial NODO DE INDUSTRIAS CREATIVAS | C19: Carrera 54 # 49 - 09 | D19: Barranquilla | E19: 0 | F19: 2 | G19: 0 | H19: 0 | I19: 0 | J19: 0 | K19: 0 | L19: 0 | M19: 0 | N19: 0 | O19: 0 | P19: 0 | Q19: 0 | R19: 0 | S19: 0 | T19: 0 | U19: 0 | V19: 0 | W19: 0 | X19: 0 | Y19: 0 | Z19: 0 | AB19: 8 | AC19: 0 | AD19: 1 | AE19: 1 | AF19: 0 | AG19: =1-1 -> 0
A20: Atlantico | B20: CENTRO NACIONAL COLOMBO ALEMAN | C20: Calle 30 No. 3E-164 | D20: Barranquilla | E20: 0 | F20: 2 | G20: 0 | H20: 0 | I20: 0 | J20: 0 | K20: 0 | L20: 1 | M20: 0 | N20: 0 | O20: 0 | P20: 0 | Q20: 1 | R20: 0 | S20: 0 | T20: 0 | U20: 0 | V20: 0 | W20: 0 | X20: 0 | Y20: 0 | Z20: 0 | AB20: =41-8 -> 33 | AC20: 1 | AD20: 2 | AE20: 2 | AF20: 1 | AG20: 4
A21: Atlantico | B21: CENTRO NACIONAL COLOMBO ALEMAN Nodo ENERGIAS | C21: Cra 23 con calle 28 Rebolo | D21: Barranquilla | E21: 0 | F21: 2 | G21: 0 | H21: 0 | I21: 0 | J21: 0 | K21: 0 | L21: 0 | M21: 0 | N21: 0 | O21: 0 | P21: 0 | Q21: 0 | R21: 0 | S21: 0 | T21: 0 | U21: 0 | V21: 1 | W21: 0 | X21: 0 | Y21: 0 | Z21: 0 | AB21: =15 -> 15 | AC21: 0 | AD21: 1 | AE21: 1 | AF21: 1 | AG21: 4
A22: Atlantico | B22: CENTRO NACIONAL COLOMBO ALEMAN Nodo TICS | C22: Barrio Prado | D22: Barranquilla | E22: 0 | F22: 2 | G22: 0 | H22: 0 | I22: 0 | J22: 0 | K22: 0 | L22: 2 | M22: 0 | N22: 0 | O22: 0 | P22: 0 | Q22: 0 | R22: 0 | S22: 0 | T22: 0 | U22: 0 | V22: 0 | W22: 0 | X22: 0 | Y22: 0 | Z22: 0 | AB22: 5 | AC22: 0 | AD22: 1 | AE22: 1 | AF22: 0 | AG22: 0
A23: Atlantico | B23: CENTRO NACIONAL COLOMBO ALEMAN Nodo Refrigeraciion | C23: Carrera 10 # 7E-110 Antiguo Coliseo del Sur lipaya | D23: Barranquilla | E23: 0 | F23: 2 | G23: 0 | H23: 0 | I23: 0 | J23: 0 | K23: 0 | L23: 0 | M23: 0 | N23: 0 | O23: 0 | P23: 0 | Q23: 0 | R23: 0 | S23: 0 | T23: 0 | U23: 0 | V23: 0 | W23: 0 | X23: 0 | Y23: 0 | Z23: 0 | AB23: 13 | AC23: 0 | AD23: 1 | AE23: 1 | AF23: 1 | AG23: 2
A24: Atlantico | B24: CENTRO NACIONAL COLOMBO ALEMAN SUBSEDE MALAMBO | C24: Diagonal 18 No. 16 - 46 via al Caracolí sede metalmecanica | D24: Malambo | E24: 0 | F24: 0 | G24: 0 | H24: 0 | I24: 0 | J24: 0 | K24: 0 | L24: 0 | M24: 0 | N24: 0 | O24: 0 | P24: 0 | Q24: 0 | R24: 0 | S24: 0 | T24: 0 | U24: 0 | V24: 0 | W24: 0 | X24: 0 | Y24: 0 | Z24: 0 | AB24: 0 | AC24: 0 | AD24: 0 | AE24: 0 | AF24: 0 | AG24: 0
A25: Atlantico | B25: CENTRO NACIONAL COLOMBO ALEMAN SUBSEDE MALAMBO NUEVA | C25: Diagonal 18 No. 16 - 46 via al Caracolí sede metalmecanica | D25: Malambo | E25: 0 | F25: 3 | G25: 1 | H25: 0 | I25: 0 | J25: 0 | K25: 0 | L25: 0 | M25: 0 | N25: 0 | O25: 0 | P25: 0 | Q25: 0 | R25: 0 | S25: 0 | T25: 0 | U25: 0 | V25: 0 | W25: 0 | X25: 0 | Y25: 0 | Z25: 0 | AB25: 25 | AC25: 0 | AD25: 2 | AE25: 2 | AF25: 1 | AG25: 2
A26: Atlantico | B26: Centro Industrial y de Aviación sede hangar | C26: CIUDADELA INDUSTRIAL Caribe Verde Carrera 9G - 110 - 187 BO 11 | D26: Soledad | E26: 0 | F26: 1 | G26: 0 | H26: 0 | I26: 0 | J26: 0 | K26: 0 | L26: 0 | M26: 0 | N26: 0 | O26: 0 | P26: 0 | Q26: 0 | R26: 0 | S26: 0 | T26: 0 | U26: 0 | V26: 0 | W26: 0 | X26: 0 | Y26: 0 | Z26: 0 | AB26: 25 | AC26: 5 | AD26: 3 | AE26: 2 | AF26: 1 | AG26: 4
A27: Atlantico | B27: Centro Industrial y de Aviación | C27: Calle 30 No. 3E- 164 SUPERVISOR | D27: Barranquilla | E27: 0 | F27: 1 | G27: 0 | H27: 0 | I27: 0 | J27: 0 | K27: 0 | L27: 0 | M27: 0 | N27: 0 | O27: 0 | P27: 0 | Q27: 0 | R27: 0 | S27: 0 | T27: 0 | U27: 0 | V27: 0 | W27: 0 | X27: 0 | Y27: 0 | Z27: 0 | AB27: =42-7 -> 35 | AC27: 2 | AD27: 2 | AE27: 2 | AF27: 1 | AG27: 5
A28: Atlantico | B28: Centro Industrial y de Aviación | C28: Calle 30 No. 3E- 164 | D28: Barranquilla | E28: 0 | F28: 3 | G28: 1 | H28: 0 | I28: 0 | J28: 0 | K28: 0 | L28: 0 | M28: 0 | N28: 0 | O28: 0 | P28: 0 | Q28: 1 | R28: 0 | S28: 0 | T28: 0 | U28: 0 | V28: 0 | W28: 0 | X28: 0 | Y28: 0 | Z28: 0 | AB28: 0 | AC28: 0 | AD28: 0 | AE28: 0 | AF28: 0 | AG28: 0
A29: Atlantico | B29: Centro Industrial y de Aviación Nodo Construcción e Infraestructura | C29: Diag. 36 No. 9G 20 Villa San Pablo | D29: Barranquilla | E29: 0 | F29: 4 | G29: 0 | H29: 0 | I29: 0 | J29: 0 | K29: 0 | L29: 0 | M29: 0 | N29: 0 | O29: 0 | P29: 0 | Q29: 0 | R29: 0 | S29: 0 | T29: 0 | U29: 0 | V29: 0 | W29: 0 | X29: 0 | Y29: 0 | Z29: 0 | AB29: 21 | AC29: 4 | AD29: 1 | AE29: 0 | AF29: 1 | AG29: 2
A30: Atlantico | B30: centro de confeccion | C30: Centro Industrial y de AviaciónSEDE CENTRO REINDUSTRIALIZACIÓN ZASCA BARANOA-ATLÁNTICOCr 21 No 11-140,Barrio Manzanares Margaritas, Atlántico. | D30: Baranoa | E30: 1 | F30: 1 | G30: 0 | H30: 0 | I30: 0 | J30: 0 | K30: 0 | L30: 0 | M30: 0 | N30: 0 | O30: 0 | P30: 0 | Q30: 0 | R30: 1 | S30: 0 | T30: 0 | U30: 0 | V30: 0 | W30: 0 | X30: 0 | Y30: 0 | Z30: 0 | AB30: 16 | AD30: 1 | AE30: 1 | AG30: 1
A31: Atlantico | B31: Nodo Mobiliario | C31: Centro Industrial y de AviaciónSEDE CENTRO REINDUSTRIALIZACIÓN ZASCA BARANOA-ATLÁNTICOCr 21 No 11-140,Barrio Manzanares Margaritas, Atlántico. | D31: Galapa | E31: 0 | F31: 3 | G31: 0 | H31: 0 | I31: 0 | J31: 0 | K31: 0 | L31: 0 | M31: 0 | N31: 0 | O31: 0 | P31: 0 | Q31: 0 | R31: 0 | S31: 0 | T31: 0 | U31: 0 | V31: 0 | W31: 0 | X31: 0 | Y31: 0 | Z31: 0 | AA31: =AA36*7.5 -> 1.0844449e+10 | AB31: 16 | AD31: 1 | AE31: 1 | AG31: 1
A32: Atlantico | B32: Centro de Comercio y Servicio Nodo MULTILINGUISMO | C32: Carrera 21B, Calle 40B Esuina Barrio San José | D32: Barranquilla | E32: 0 | F32: 2 | G32: 0 | H32: 0 | I32: 0 | J32: 0 | K32: 0 | L32: 0 | M32: 0 | N32: 0 | O32: 0 | P32: 0 | Q32: 0 | R32: 0 | S32: 0 | T32: 0 | U32: 0 | V32: 0 | W32: 0 | X32: 0 | Y32: 0 | Z32: 0 | AB32: 6 | AC32: 0 | AD32: 1 | AE32: 1 | AF32: 0 | AG32: 1
A33: TOTAL REGIONAL | E33: =SUM(E7:E32) -> 3 | F33: =SUM(F7:F32) -> 60 | G33: =SUM(G7:G32) -> 3 | H33: =SUM(H7:H32) -> 0 | I33: =SUM(I7:I32) -> 0 | J33: =SUM(J7:J32) -> 0 | L33: =SUM(L7:L32) -> 4 | M33: =SUM(M7:M32) -> 0 | N33: =SUM(N7:N32) -> 2 | O33: =SUM(O7:O32) -> 0 | P33: =SUM(P7:P32) -> 0 | Q33: =SUM(Q7:Q32) -> 7 | R33: =SUM(R7:R32) -> 2 | S33: =SUM(S7:S32) -> 0 | ... Z33: =SUM(Z7:Z32) -> 0 | AA33: =SUM(E33:Z33) -> 82 | AB33: =SUM(AB7:AB32) -> 390 | AC33: =SUM(AC7:AC32) -> 23 | AD33: =SUM(AD7:AD32) -> 32 | AE33: =SUM(AE7:AE32) -> 29 | AF33: =SUM(AF7:AF32) -> 12 | AG33: =SUM(AG7:AG32) -> 38
AA34: =SUM(E34:Z34) -> 0
B35: CERTIFICADOS SENA | AA35: =SUM(E35:Z35) -> 0
A36: VALOR POR REGIOANAL | E36: =E33*E5 -> 60123697 | F36: =F33*F5 -> 1.1806108e+09 | G36: =G33*G5 -> 59030539 | H36: =H33*H5 -> 0 | I36: =I33*I5 -> 0 | J36: =J33*J5 -> 0 | L36: =L33*L5 -> 48706992 | M36: =M33*M5 -> 0 | N36: =N33*N5 -> 19482797 | O36: =O33*O5 -> 0 | P36: =P33*P5 -> 0 | Q36: =Q33*Q5 -> 48405769 | R36: =R33*R5 -> 22065918 | S36: =S33*S5 -> 0 | ... Z36: =Z33*Z5 -> 0 | AA36: =SUM(E36:Z36) -> 1.4459266e+09 | AB36: =AB33*AB5 -> 11780560 | AC36: =AC33*AC5 -> 2700479.3 | AD36: =AD33*AD5 -> 4813083.5 | AE36: =AE33*AE5 -> 3167212.8 | AF36: =AF33*AF5 -> 4132736.7 | AG36: =AG33*AG5 -> 4403885.4
A37: Bolivar | B37: Despacho Dirección SUPERVISOR | C37: Cartagena Km 1 Vía Turbaco | D37: Turbaco | E37: 0 | F37: 1 | G37: 0 | H37: 0 | I37: 0 | J37: 0 | K37: 0 | L37: 0 | M37: 0 | N37: 0 | O37: 0 | P37: 0 | Q37: 0 | R37: 0 | S37: 0 | T37: 0 | U37: 0 | V37: 0 | W37: 0 | X37: 0 | Y37: 0 | Z37: 0 | AB37: 0 | AC37: 0 | AD37: 0 | AE37: 0 | AF37: 0 | AG37: 0
A38: Bolivar | B38: Centro Multisectorial Ternera | C38: Cartagena Km 1 Vía Turbaco | D38: Turbaco | E38: 0 | F38: 4 | G38: 1 | H38: 0 | I38: 0 | J38: 0 | K38: 0 | L38: 0 | M38: 0 | N38: 1 | O38: 0 | P38: 0 | Q38: 0 | R38: 0 | S38: 0 | T38: 0 | U38: 0 | V38: 0 | W38: 0 | X38: 0 | Y38: 0 | Z38: 0 | AB38: 60 | AC38: 6 | AD38: 2 | AE38: 2 | AF38: 1 | AG38: 5
A39: Bolivar | B39: Centro Multisectorial Ternera | C39: Cartagena Km 1 Vía Turbaco | D39: Turbaco | E39: 0 | F39: 2 | G39: 0 | H39: 0 | I39: 0 | J39: 0 | K39: 0 | L39: 0 | M39: 0 | N39: 0 | O39: 0 | P39: 0 | Q39: 0 | R39: 0 | S39: 0 | T39: 0 | U39: 0 | V39: 0 | W39: 0 | X39: 0 | Y39: 0 | Z39: 0 | AB39: 0 | AC39: 0 | AD39: 0 | AE39: 0 | AF39: 0 | AG39: 0
A40: Bolivar | B40: Centro de Comercio y Servicios Sede Casa del Marquez | C40: Plaza de la Aduana | D40: Cartagena | E40: 0 | F40: 1 | G40: 0 | H40: 0 | I40: 0 | J40: 0 | K40: 0 | L40: 0 | M40: 0 | N40: 0 | O40: 0 | P40: 0 | Q40: 0 | R40: 0 | S40: 0 | T40: 0 | U40: 0 | V40: 0 | W40: 0 | X40: 0 | Y40: 0 | Z40: 0 | AB40: 6 | AC40: 0 | AD40: 1 | AE40: 1 | AF40: 0 | AG40: 0
A41: Bolivar | B41: Centro Agroempresarial y Minero Sede San Jacinto | C41: Plaza Principal | D41: San Jacinto | E41: 0 | F41: 1 | G41: 0 | H41: 0 | I41: 0 | J41: 0 | K41: 0 | L41: 0 | M41: 0 | N41: 0 | O41: 0 | P41: 0 | Q41: 0 | R41: 0 | S41: 0 | T41: 0 | U41: 0 | V41: 0 | W41: 0 | X41: 0 | Y41: 0 | Z41: 0 | AB41: 11 | AC41: 1 | AD41: 1 | AE41: 1 | AF41: 0 | AG41: 2
A42: Bolivar | B42: Centro Agroempresarial y Minero Sede Mompox | C42: Plaza de la Libertad - Palacio Municipal | D42: Mompox | E42: 0 | F42: 1 | G42: 0 | H42: 0 | I42: 0 | J42: 0 | K42: 0 | L42: 0 | M42: 0 | N42: 0 | O42: 0 | P42: 0 | Q42: 0 | R42: 0 | S42: 0 | T42: 0 | U42: 0 | V42: 0 | W42: 0 | X42: 0 | Y42: 0 | Z42: 0 | AB42: 11 | AC42: 1 | AD42: 1 | AE42: 1 | AF42: 1 | AG42: 0
A43: Bolivar | B43: Centro Internacional Náutico, Fluvial y Portuario | C43: Mamonal Km 5 | D43: Cartagena | E43: 0 | F43: 4 | G43: 1 | H43: 0 | I43: 0 | J43: 0 | K43: 0 | L43: 0 | M43: 0 | N43: 1 | O43: 0 | P43: 0 | Q43: 0 | R43: 0 | S43: 0 | T43: 0 | U43: 0 | V43: 0 | W43: 0 | X43: 0 | Y43: 0 | Z43: 0 | AB43: =23-13 -> 10 | AC43: =2-1 -> 1 | AD43: 1 | AE43: 1 | AF43: 1 | AG43: =5-1 -> 4
A44: Bolivar | B44: Centro para la Industria Petroquímica | C44: calle 31,kra 49A | D44: Cartagena | E44: 0 | F44: 3 | G44: 1 | H44: 0 | I44: 0 | J44: 0 | K44: 0 | L44: 0 | M44: 0 | N44: 1 | O44: 0 | P44: 0 | Q44: 0 | R44: 1 | S44: 0 | T44: 0 | U44: 0 | V44: 0 | W44: 0 | X44: 0 | Y44: 0 | Z44: 0 | AB44: =28 -> 28 | AC44: 4 | AD44: 1 | AE44: 1 | AF44: 1 | AG44: 5
A45: Bolivar | B45: Institución Educativa MANUELA BELTRAN | C45: I.E. Manuela Beltran CASD, Av. Pedro de Heredia | D45: Cartagena | E45: 0 | F45: 1 | G45: 0 | H45: 0 | I45: 0 | J45: 0 | K45: 0 | L45: 0 | M45: 0 | N45: 0 | O45: 0 | P45: 0 | Q45: 0 | R45: 0 | S45: 0 | T45: 0 | U45: 0 | V45: 0 | W45: 0 | X45: 0 | Y45: 0 | Z45: 0 | AB45: 0 | AC45: 0 | AD45: 0 | AE45: 0 | AF45: 0 | AG45: 0
A46: Bolivar | B46: Centro para la Industria PetroquímicaLiceo Bolivar | C46: Barrio Daniel Lemetre | D46: Cartagena | E46: 0 | F46: 0 | G46: 0 | H46: 0 | I46: 0 | J46: 0 | K46: 0 | L46: 0 | M46: 0 | N46: 0 | O46: 1 | P46: 0 | Q46: 0 | R46: 0 | S46: 0 | T46: 1 | U46: 0 | V46: 0 | W46: 0 | X46: 0 | Y46: 0 | Z46: 0 | AA46: =AA51*7.5 -> 3.8468257e+09 | AB46: 0 | AC46: 0 | AD46: 0 | AE46: 0 | AF46: 0 | AG46: 0
A47: Bolivar | B47: Centro para la Industria Petroquímica Sede INEM | C47: Tranversal 54 Bario Almirante Colon | D47: Cartagena | E47: 0 | F47: 1 | G47: 0 | H47: 0 | I47: 0 | J47: 0 | K47: 0 | L47: 0 | M47: 0 | N47: 0 | O47: 1 | P47: 0 | Q47: 0 | R47: 0 | S47: 0 | T47: 1 | U47: 0 | V47: 0 | W47: 0 | X47: 0 | Y47: 0 | Z47: 0 | AB47: =6 -> 6 | AC47: 1 | AD47: 1 | AE47: 1 | AF47: 0 | AG47: 0
A48: TOTAL REGIONAL | E48: =SUM(E37:E47) -> 0 | F48: =SUM(F37:F47) -> 19 | G48: =SUM(G37:G47) -> 3 | H48: =SUM(H37:H47) -> 0 | I48: =SUM(I37:I47) -> 0 | J48: =SUM(J37:J47) -> 0 | K48: =SUM(K37:K47) -> 0 | L48: =SUM(L37:L47) -> 0 | ... Z48: =SUM(Z37:Z47) -> 0 | AA48: =SUM(E48:Z48) -> 30 | AB48: =SUM(AB37:AB47) -> 132 | AC48: =SUM(AC37:AC47) -> 14 | AD48: =SUM(AD37:AD47) -> 8 | AE48: =SUM(AE37:AE47) -> 8 | AF48: =SUM(AF37:AF47) -> 4 | AG48: =SUM(AG37:AG47) -> 16
AA49: =SUM(E49:Z49) -> 0
B50: CERTIFICADOS SENA | AA50: =SUM(E50:Z50) -> 0
A51: VALOR POR REGIOANAL | E51: =E48*E5 -> 0 | F51: =F48*F5 -> 3.7386008e+08 | G51: =G48*G5 -> 59030539 | H51: =H48*H5 -> 0 | I51: =I48*I5 -> 0 | J51: =J48*J5 -> 0 | L51: =L48*L5 -> 0 | M51: =M48*M5 -> 0 | N51: =N48*N5 -> 29224195 | O51: =O48*O5 -> 17287775 | P51: =P48*P5 -> 0 | Q51: =Q48*Q5 -> 0 | R51: =R48*R5 -> 11032959 | S51: =S48*S5 -> 0 | ... Z51: =Z48*Z5 -> 0 | AA51: =SUM(E51:Z51) -> 5.129101e+08 | AB51: =AB48*AB5 -> 3987266.4 | AC51: =AC48*AC5 -> 1643770 | AD51: =AD48*AD5 -> 1203270.9 | AE51: =AE48*AE5 -> 873713.87 | AF51: =AF48*AF5 -> 1377578.9 | AG51: =AG48*AG5 -> 1854267.5
A52: Cesar | B52: Despacho Dirección SUPERVISOR | C52: Kra 19 No. 14-78 | D52: Valledupar | E52: 0 | F52: 2 | G52: 0 | H52: 0 | I52: 0 | J52: 0 | K52: 0 | L52: 0 | M52: 0 | N52: 0 | O52: 0 | P52: 0 | Q52: 0 | R52: 0 | S52: 0 | T52: 0 | U52: 0 | V52: 0 | W52: 0 | X52: 0 | Y52: 0 | Z52: 0 | AB52: 2 | AC52: 0 | AD52: 0 | AE52: 1 | AF52: 1 | AG52: 0
A53: Cesar | B53: Centro de Operación y Mantenimiento Minero | C53: Kra 19 No. 14-78 | D53: Valledupar | E53: 0 | F53: 6 | G53: 0 | H53: 0 | I53: 0 | J53: 0 | K53: 0 | L53: 0 | M53: 0 | N53: 0 | O53: 0 | P53: 0 | Q53: 0 | R53: 0 | S53: 0 | T53: 0 | U53: 0 | V53: 0 | W53: 0 | X53: 0 | Y53: 0 | Z53: 0 | AB53: 17 | AC53: 0 | AD53: 0 | AE53: 0 | AF53: 0 | AG53: 1
A54: Cesar | B54: Centro de Operación y Mantenimiento Minero | C54: Kra 19 No. 14-79 APE | D54: Valledupar | E54: 0 | F54: 1 | G54: 0 | H54: 0 | I54: 0 | J54: 0 | K54: 0 | L54: 0 | M54: 0 | N54: 0 | O54: 0 | P54: 0 | Q54: 0 | R54: 0 | S54: 0 | T54: 0 | U54: 0 | V54: 0 | W54: 0 | X54: 0 | Y54: 0 | Z54: 0
A55: Cesar | B55: Centro de Operación y Mantenimiento Minero Tecnoparque | C55: Centro de Emprendimiento y Cultural de Valledupar- Calle 39 No. 5 A- 170 Barrio Panamá | D55: Valledupar | E55: 0 | F55: 3 | G55: 0 | H55: 0 | I55: 0 | J55: 0 | K55: 0 | L55: 0 | M55: 0 | N55: 0 | O55: 0 | P55: 0 | Q55: 0 | R55: 0 | S55: 0 | T55: 0 | U55: 0 | V55: 0 | W55: 0 | X55: 0 | Y55: 0 | Z55: 0 | AB55: 16 | AC55: 0 | AD55: 1 | AE55: 1 | AF55: 0 | AG55: 2
A56: Cesar | B56: Centro de Operación y Mantenimiento Minero | C56: Diagonal 4 Transversal 6 Esquina | D56: La Jagua de Ibirico | E56: 0 | F56: 0 | G56: 0 | H56: 0 | I56: 0 | J56: 0 | K56: 0 | L56: 0 | M56: 0 | N56: 0 | O56: 0 | P56: 0 | Q56: 0 | R56: 0 | S56: 0 | T56: 0 | U56: 0 | V56: 0 | W56: 0 | X56: 0 | Y56: 0 | Z56: 0
A57: Cesar | B57: Centro de Operación y Mantenimiento Minero | C57: sede nueva | D57: La Jagua de Ibirico | E57: 0 | F57: 5 | G57: 0 | H57: 0 | I57: 0 | J57: 0 | K57: 0 | L57: 0 | M57: 0 | N57: 0 | O57: 0 | P57: 0 | Q57: 0 | R57: 0 | S57: 0 | T57: 0 | U57: 0 | V57: 0 | W57: 0 | X57: 0 | Y57: 0 | Z57: 0 | AB57: 15 | AC57: 2 | AD57: 1 | AE57: 0 | AF57: 0 | AG57: 0
A58: Cesar | B58: Centro de Operación y Mantenimiento Minero | C58: Carrera 14A No. 20-04 | D58: Bosconia | E58: 0 | F58: 2 | G58: 0 | H58: 0 | I58: 0 | J58: 0 | K58: 0 | L58: 0 | M58: 0 | N58: 0 | O58: 0 | P58: 0 | Q58: 0 | R58: 0 | S58: 0 | T58: 0 | U58: 0 | V58: 0 | W58: 0 | X58: 0 | Y58: 0 | Z58: 0 | AB58: =10-4 -> 6 | AC58: 2 | AD58: 1 | AE58: 1 | AF58: 0 | AG58: 0
A59: Cesar | B59: Centro de Operación y Mantenimiento Minero | C59: Diagonal 18 A Entre Calle 30 y 31 (Barrio Fundadores - Sabanas del Valle) SUBSEDE CENTRO DE DESARROLLO VECINAL - CDV | D59: Valledupar | E59: 0 | F59: 3 | G59: 0 | H59: 0 | I59: 0 | J59: 0 | K59: 0 | L59: 0 | M59: 0 | N59: 0 | O59: 0 | P59: 0 | Q59: 0 | R59: 0 | S59: 0 | T59: 0 | U59: 0 | V59: 0 | W59: 0 | X59: 0 | Y59: 0 | Z59: 0 | AB59: 14 | AC59: 0 | AD59: 1 | AE59: 1 | AF59: 0 | AG59: 2
A60: Cesar | B60: Centro Biotecnológico del Caribe | C60: Km. 7 Vía a La Paz SUPERVISOR | D60: Valledupar | E60: 0 | F60: 1 | G60: 0 | H60: 0 | I60: 0 | J60: 0 | K60: 0 | L60: 0 | M60: 0 | N60: 0 | O60: 0 | P60: 0 | Q60: 0 | R60: 0 | S60: 0 | T60: 0 | U60: 0 | V60: 0 | W60: 0 | X60: 0 | Y60: 0 | Z60: 0 | AB60: 0 | AC60: 0 | AD60: 0 | AE60: 0 | AF60: 0 | AG60: 0
A61: Cesar | B61: Centro Biotecnológico del Caribe | C61: Km. 7 Vía a La Paz | D61: Valledupar | E61: 2 | F61: 10 | G61: 0 | H61: 0 | I61: 0 | J61: 0 | K61: 0 | L61: 0 | M61: 0 | N61: 0 | O61: 0 | P61: 0 | Q61: 0 | R61: 0 | S61: 0 | T61: 0 | U61: 0 | V61: 0 | W61: 0 | X61: 0 | Y61: 0 | Z61: 0 | AB61: =37-27 -> 10 | AC61: =2 -> 2 | AD61: =2 -> 2 | AE61: =2 -> 2 | AF61: =2 -> 2 | AG61: =1 -> 1
A62: Cesar | B62: Centro Biotecnológico del Caribe | C62: Plantel Educativo “AGUSTIN CODAZZI (Tecnoacademia) | D62: Agustin Codazzi | E62: 0 | F62: 2 | G62: 0 | H62: 0 | I62: 0 | J62: 0 | K62: 0 | L62: 0 | M62: 0 | N62: 0 | O62: 0 | P62: 0 | Q62: 0 | R62: 0 | S62: 0 | T62: 0 | U62: 0 | V62: 0 | W62: 0 | X62: 0 | Y62: 0 | Z62: 0 | AB62: 0 | AC62: 0 | AD62: 0 | AE62: 0 | AF62: 0 | AG62: 0
A63: Cesar | B63: Centro Biotecnológico del Caribe | C63: Barrio El Senado. | D63: Chiriguana | E63: 0 | F63: 3 | G63: 0 | H63: 0 | I63: 0 | J63: 0 | K63: 0 | L63: 0 | M63: 0 | N63: 0 | O63: 0 | P63: 0 | Q63: 0 | R63: 0 | S63: 0 | T63: 0 | U63: 0 | V63: 0 | W63: 0 | X63: 0 | Y63: 0 | Z63: 0 | AB63: 10 | AC63: 2 | AD63: 1 | AE63: 1 | AF63: 1 | AG63: 1
A64: Cesar | B64: Centro Biotecnológico del Caribe | C64: Sector Chambacú, barrio Villa esther | D64: Chimichagua | E64: 0 | F64: 3 | G64: 0 | H64: 0 | I64: 0 | J64: 0 | K64: 0 | L64: 0 | M64: 0 | N64: 0 | O64: 0 | P64: 0 | Q64: 0 | R64: 0 | S64: 0 | T64: 0 | U64: 0 | V64: 0 | W64: 0 | X64: 0 | Y64: 0 | Z64: 0 | AB64: 12 | AC64: 2 | AD64: 1 | AE64: 1 | AF64: 1 | AG64: 1
A65: Cesar | B65: Centro Biotecnológico del Caribe | C65: ETNICO Carrera 42 Diagonal 11a avenida Brisas de la Popa, Valledupar Cesar | D65: Valledupar | E65: 0 | F65: 2 | G65: 0 | H65: 0 | L65: 0 | N65: 0 | O65: 0 | P65: 0 | Q65: 0 | R65: 0 | T65: 0 | U65: 0 | V65: 0 | X65: 0 | AB65: 16 | AC65: 0 | AD65: 1 | AE65: 1 | AF65: 1 | AG65: 1
A66: Cesar | B66: Centro Agroempresarial | C66: Calle 4 No. 20-33 Barrio Camilo Torres. | D66: Curumaní | E66: 0 | F66: 3 | G66: 0 | H66: 0 | I66: 0 | J66: 0 | K66: 0 | L66: 0 | M66: 0 | N66: 0 | O66: 0 | P66: 0 | Q66: 0 | R66: 0 | S66: 0 | T66: 0 | U66: 0 | V66: 0 | W66: 0 | X66: 0 | Y66: 0 | Z66: 0 | AB66: 12 | AC66: 0 | AD66: 1 | AE66: 1 | AF66: 1 | AG66: 1
A67: Cesar | B67: Centro Agroempresarial | C67: Calle 2B No.16-26. | D67: San Alberto | E67: 0 | F67: 3 | G67: 0 | H67: 0 | I67: 0 | J67: 0 | K67: 0 | L67: 0 | M67: 0 | N67: 0 | O67: 0 | P67: 0 | Q67: 0 | R67: 0 | S67: 0 | T67: 0 | U67: 0 | V67: 0 | W67: 0 | X67: 0 | Y67: 0 | Z67: 0 | AB67: 12 | AC67: 0 | AD67: 1 | AE67: 1 | AF67: 1 | AG67: 1
A68: Cesar | B68: Centro Agroempresarial | C68: Kilómetro 1 Vía Bucaramanga | D68: Aguachica | E68: 0 | F68: 4 | G68: 0 | H68: 0 | I68: 0 | J68: 0 | K68: 0 | L68: 0 | M68: 0 | N68: 0 | O68: 0 | P68: 0 | Q68: 0 | R68: 0 | S68: 0 | T68: 0 | U68: 0 | V68: 0 | W68: 0 | X68: 0 | Y68: 0 | Z68: 0 | AA68: =AA73*7.5 -> 8.1221649e+09 | AB68: 32 | AC68: 0 | AD68: 1 | AE68: 1 | AF68: 1 | AG68: 1
A70: TOTAL REGIONAL | E70: =SUM(E52:E68) -> 2 | F70: =SUM(F52:F69) -> 53 | G70: =SUM(G52:G68) -> 0 | H70: =SUM(H52:H68) -> 0 | I70: =SUM(I52:I68) -> 0 | J70: =SUM(J52:J68) -> 0 | L70: =SUM(L52:L68) -> 0 | M70: =SUM(M52:M68) -> 0 | N70: =SUM(N52:N68) -> 0 | O70: =SUM(O52:O68) -> 0 | P70: =SUM(P52:P68) -> 0 | Q70: =SUM(Q52:Q68) -> 0 | R70: =SUM(R52:R68) -> 0 | S70: =SUM(S52:S68) -> 0 | ... Z70: =SUM(Z52:Z68) -> 0 | AA70: =SUM(E70:Z70) -> 55 | AB70: =SUM(AB52:AB68) -> 174 | AC70: =SUM(AC52:AC68) -> 10 | AD70: =SUM(AD52:AD68) -> 12 | AE70: =SUM(AE52:AE68) -> 12 | AF70: =SUM(AF52:AF68) -> 9 | AG70: =SUM(AG52:AG68) -> 12
AA71: =SUM(E71:Z71) -> 0
B72: CERTIFICADOS SENA | AA72: =SUM(E72:Z72) -> 0
A73: VALOR POR REGIOANAL | E73: =E70*E5 -> 40082465 | F73: =F70*F5 -> 1.0428729e+09 | G73: =G70*G5 -> 0 | H73: =H70*H5 -> 0 | I73: =I70*I5 -> 0 | J73: =J70*J5 -> 0 | L73: =L70*L5 -> 0 | M73: =M70*M5 -> 0 | N73: =N70*N5 -> 0 | O73: =O70*O5 -> 0 | P73: =P70*P5 -> 0 | Q73: =Q70*Q5 -> 0 | R73: =R70*R5 -> 0 | S73: =S70*S5 -> 0 | ... Z73: =Z70*Z5 -> 0 | AA73: =SUM(E73:Z73) -> 1.0829553e+09 | AB73: =AB70*AB5 -> 5255942 | AC73: =AC70*AC5 -> 1174121.4 | AD73: =AD70*AD5 -> 1804906.3 | AE73: =AE70*AE5 -> 1310570.8 | AF73: =AF70*AF5 -> 3099552.5 | AG73: =AG70*AG5 -> 1390700.6
A74: Cordoba | B74: Despacho Dirección | C74: Avenida circunvalar calle 24 y 27 | D74: Montería | E74: 0 | F74: 0 | G74: 0 | H74: 0 | I74: 0 | J74: 0 | K74: 0 | L74: 0 | M74: 0 | N74: 1 | O74: 0 | P74: 0 | Q74: 0 | R74: 0 | S74: 0 | T74: 0 | U74: 0 | V74: 0 | W74: 0 | X74: 0 | Y74: 0 | Z74: 0 | AB74: 10 | AC74: 2 | AD74: 1 | AE74: 1 | AF74: 1 | AG74: 0
A75: Cordoba | B75: Centro de Comercio, Industria y Turismo de Córdoba | C75: Avenida circunvalar calle 24 y 27 | D75: Montería | E75: 0 | F75: 4 | G75: 0 | H75: 0 | I75: 0 | J75: 0 | K75: 0 | L75: 0 | M75: 0 | N75: 1 | O75: 0 | P75: 1 | Q75: 0 | R75: 0 | S75: 0 | T75: 0 | U75: 0 | V75: 0 | W75: 0 | X75: 0 | Y75: 0 | Z75: 0 | AB75: 16 | AC75: 1 | AD75: =1-1 -> 0 | AE75: 1 | AF75: 0 | AG75: 2
A76: Cordoba | B76: Centro de Comercio, Industria y Turismo de Córdoba | C76: Carrera 9 No. 1-35 Antigua Planta de Hielo. | D76: Lorica | E76: 0 | F76: 1 | G76: 0 | H76: 0 | I76: 0 | J76: 0 | K76: 0 | L76: 0 | M76: 0 | N76: 0 | O76: 0 | P76: 0 | Q76: 0 | R76: 0 | S76: 0 | T76: 0 | U76: 0 | V76: 0 | W76: 0 | X76: 0 | Y76: 0 | Z76: 0 | AB76: 15 | AC76: 1 | AD76: 1 | AE76: 1 | AF76: 1 | AG76: 2
A77: Cordoba | B77: Centro de Comercio, Industria y Turismo de Córdoba | C77: Sub sede San Jorge | D77: Montelibano | E77: 0 | F77: 4 | G77: 0 | H77: 0 | I77: 0 | J77: 0 | K77: 0 | L77: 0 | M77: 0 | N77: 0 | O77: 0 | P77: 0 | Q77: 0 | R77: 0 | S77: 0 | T77: 0 | U77: 0 | V77: 0 | W77: 0 | X77: 0 | Y77: 0 | Z77: 0 | AB77: 10 | AC77: 0 | AD77: 1 | AE77: 0 | AF77: 0 | AG77: 1
A78: Cordoba | B78: Centro Agropecuario y de Biotecnología el Porvenir | C78: k. 45 corregimiento Santa Isabel vía Tierralta | D78: Montería | E78: 1 | F78: 5 | G78: 1 | H78: 0 | I78: 0 | J78: 0 | K78: 0 | L78: 0 | M78: 0 | N78: 0 | O78: 0 | P78: 0 | Q78: 0 | R78: 0 | S78: 0 | T78: 0 | U78: 0 | V78: 0 | W78: 0 | X78: 0 | Y78: 0 | Z78: 0 | AB78: 26 | AC78: 2 | AD78: 2 | AE78: 2 | AF78: 1 | AG78: 3
A79: Cordoba | B79: Centro Agropecuario y de Biotecnología el Porvenir | C79: Kilómetro 11 Vía Montería Cereté frente al aeropuerto Los Garzones Sede la Vitrina | D79: Montería | E79: 1 | F79: 4 | G79: 0 | H79: 0 | I79: 0 | J79: 0 | K79: 0 | L79: 0 | M79: 0 | N79: 0 | O79: 0 | P79: 0 | Q79: 0 | R79: 0 | S79: 0 | T79: 0 | U79: 0 | V79: 0 | W79: 0 | X79: 0 | Y79: 0 | Z79: 0 | AA79: =AA83*7.5 -> 3.2939095e+09 | AB79: 13 | AC79: 0 | AD79: 1 | AE79: 1 | AF79: 1 | AG79: 1
A80: TOTAL REGIONAL | E80: =SUM(E74:E79) -> 2 | F80: =SUM(F74:F79) -> 18 | G80: =SUM(G74:G79) -> 1 | H80: =SUM(H74:H79) -> 0 | I80: =SUM(I74:I79) -> 0 | J80: =SUM(J74:J79) -> 0 | L80: =SUM(L74:L79) -> 0 | M80: =SUM(M74:M79) -> 0 | N80: =SUM(N74:N79) -> 2 | O80: =SUM(O74:O79) -> 0 | P80: =SUM(P74:P79) -> 1 | Q80: =SUM(Q74:Q79) -> 0 | R80: =SUM(R74:R79) -> 0 | S80: =SUM(S74:S79) -> 0 | ... Z80: =SUM(Z74:Z79) -> 0 | AA80: =SUM(E80:Z80) -> 24 | AB80: =SUM(AB74:AB79) -> 90 | AC80: =SUM(AC74:AC79) -> 6 | AD80: =SUM(AD74:AD79) -> 6 | AE80: =SUM(AE74:AE79) -> 6 | AF80: =SUM(AF74:AF79) -> 4 | AG80: =SUM(AG74:AG79) -> 9
AA81: =SUM(E81:Z81) -> 0
B82: CERTIFICADOS SENA | AA82: =SUM(E82:Z82) -> 0
A83: VALOR POR REGIOANAL | E83: =E80*E5 -> 40082465 | F83: =F80*F5 -> 3.5418324e+08 | G83: =G80*G5 -> 19676846 | H83: =H80*H5 -> 0 | I83: =I80*I5 -> 0 | J83: =J80*J5 -> 0 | L83: =L80*L5 -> 0 | M83: =M80*M5 -> 0 | N83: =N80*N5 -> 19482797 | O83: =O80*O5 -> 0 | P83: =P80*P5 -> 5762591.5 | Q83: =Q80*Q5 -> 0 | R83: =R80*R5 -> 0 | S83: =S80*S5 -> 0 | ... Z83: =Z80*Z5 -> 0 | AA83: =SUM(E83:Z83) -> 4.3918794e+08 | AB83: =AB80*AB5 -> 2718590.7 | AC83: =AC80*AC5 -> 704472.86 | AD83: =AD80*AD5 -> 902453.16 | AE83: =AE80*AE5 -> 655285.4 | AF83: =AF80*AF5 -> 1377578.9 | AG83: =AG80*AG5 -> 1043025.5
A84: Guajira | B84: Despacho Direccion SUPERVISOR | C84: Avenida Aeropuerto Calle 21 esquina | D84: Riohacha | E84: 0 | F84: 1 | G84: 0 | H84: 0 | I84: 0 | J84: 0 | K84: 0 | L84: 0 | M84: 0 | N84: 0 | O84: 0 | P84: 0 | Q84: 0 | R84: 0 | S84: 0 | T84: 0 | U84: 0 | V84: 0 | W84: 0 | X84: 0 | Y84: 0 | Z84: 0 | AB84: 0 | AC84: 0 | AD84: 0 | AE84: 0 | AF84: 0 | AG84: 0
A85: Guajira | B85: Centro Industrial y de Energias Alternativas | C85: Calle 21 Carrera 15 Avenida al Aeropuerto Sede Comercioy Servicios | D85: Riohacha | E85: 0 | F85: 6 | G85: 1 | H85: 0 | I85: 0 | J85: 0 | K85: 0 | L85: 0 | M85: 0 | N85: 0 | O85: 0 | P85: 0 | Q85: 0 | R85: 0 | S85: 0 | T85: 0 | U85: 0 | V85: 0 | W85: 0 | X85: 0 | Y85: 0 | Z85: 0 | AB85: 40 | AC85: 5 | AD85: 2 | AE85: 2 | AF85: 1 | AG85: 7
A86: Guajira | B86: Centro Industrial y de Energias Alternativas | C86: Calle 15 No 21-70 Sede Centro Medico | D86: Riohacha | E86: 0 | F86: 0 | G86: 0 | H86: 0 | I86: 0 | J86: 0 | K86: 0 | L86: 0 | M86: 0 | N86: 0 | O86: 0 | P86: 0 | Q86: 0 | R86: 0 | S86: 0 | T86: 0 | U86: 0 | V86: 0 | W86: 0 | X86: 0 | Y86: 0 | Z86: 0 | AB86: 0 | AC86: 0 | AD86: 0 | AE86: 0 | AF86: 0 | AG86: 0
A87: Guajira | B87: Centro Industrial y de Energias Alternativas | C87: Calle 16 No. 44 - 46 Troncal del caribe Sede Maicao | D87: Maicao | E87: 0 | F87: 3 | G87: 0 | H87: 0 | I87: 0 | J87: 0 | K87: 0 | L87: 0 | M87: 0 | N87: 0 | O87: 0 | P87: 0 | Q87: 0 | R87: 0 | S87: 0 | T87: 0 | U87: 0 | V87: 0 | W87: 0 | X87: 0 | Y87: 0 | Z87: 0 | AB87: 13 | AC87: 3 | AD87: 1 | AE87: 1 | AF87: 1 | AG87: 3
A88: Guajira | B88: Centro Industrial y de Energias Alternativas | C88: Kilómetro 5 Salida a Maicao Sede Industrial | D88: Riohacha | E88: 0 | F88: 7 | G88: 0 | H88: 0 | I88: 0 | J88: 0 | K88: 0 | L88: 0 | M88: 0 | N88: 0 | O88: 2 | P88: 0 | Q88: 0 | R88: 0 | S88: 0 | T88: 2 | U88: 0 | V88: 0 | W88: 0 | X88: 0 | Y88: 0 | Z88: 0 | AB88: 26 | AC88: 4 | AD88: 2 | AE88: 2 | AF88: 1 | AG88: 4
A89: Guajira | B89: Centro Industrial y de Energias Alternativas | C89: Cra 7 # 20-15 Sede Archivo | D89: Riohacha | E89: 0 | F89: 0 | G89: 0 | H89: 0 | I89: 0 | J89: 0 | K89: 0 | L89: 0 | M89: 0 | N89: 0 | O89: 0 | P89: 0 | Q89: 0 | R89: 0 | S89: 0 | T89: 0 | U89: 0 | V89: 0 | W89: 0 | X89: 0 | Y89: 0 | Z89: 0
A90: Guajira | B90: Centro Industrial y de Energias Alternativas | C90: cra 44 # 14h - 29 Sede Campoalegre | D90: Riohacha | E90: 0 | F90: 2 | G90: 0 | H90: 0 | I90: 0 | J90: 0 | K90: 0 | L90: 0 | M90: 0 | N90: 0 | O90: 0 | P90: 0 | Q90: 0 | R90: 0 | S90: 0 | T90: 0 | U90: 0 | V90: 0 | W90: 0 | X90: 0 | Y90: 0 | Z90: 0 | AB90: 0 | AC90: 0 | AD90: 0 | AE90: 0 | AF90: 0 | AG90: 0
A91: Guajira | B91: Centro Industrial y de Energias Alternativas | C91: calle 12b # 21-65 barrio marbella Sede Cocina | D91: Riohacha | E91: 0 | F91: 1 | G91: 0 | H91: 0 | I91: 0 | J91: 0 | K91: 0 | L91: 0 | M91: 0 | N91: 0 | O91: 0 | P91: 0 | Q91: 0 | R91: 0 | S91: 0 | T91: 0 | U91: 0 | V91: 0 | W91: 0 | X91: 0 | Y91: 0 | Z91: 0 | AB91: 19 | AC91: 4 | AD91: 1 | AE91: 1 | AF91: 0 | AG91: 2
A92: Guajira | B92: Centro Agroempresarial y Acuícola | C92: Km 0,8 via Barrrancas SUPERVISOR | D92: Fonseca | E92: 0 | F92: 1 | G92: 0 | H92: 0 | I92: 0 | J92: 0 | K92: 0 | L92: 0 | M92: 0 | N92: 0 | O92: 0 | P92: 0 | Q92: 0 | R92: 0 | S92: 0 | T92: 0 | U92: 0 | V92: 0 | W92: 0 | X92: 0 | Y92: 0 | Z92: 0 | AB92: 0 | AC92: 0 | AD92: 0 | AE92: 0 | AF92: 0 | AG92: 0
A93: Guajira | B93: Centro Agroempresarial y Acuícola | C93: Km 0,8 via Barrrancas | D93: Fonseca | E93: 0 | F93: 9 | G93: 1 | H93: 0 | I93: 0 | J93: 0 | K93: 0 | L93: 0 | M93: 0 | N93: 0 | O93: 0 | P93: 0 | Q93: 0 | R93: 0 | S93: 0 | T93: 0 | U93: 0 | V93: 0 | W93: 0 | X93: 0 | Y93: 0 | Z93: 0 | AB93: 0 | AC93: 0 | AD93: 0 | AE93: 0 | AF93: 0 | AG93: 0
A94: Guajira | B94: Centro Agroempresarial y Acuícola | C94: Antígüo Colegio Julia Sierra Iguarán, Barrio Abuchaibe | D94: Uribia | E94: 0 | F94: 1 | G94: 0 | H94: 0 | I94: 0 | J94: 0 | K94: 0 | L94: 0 | M94: 0 | N94: 0 | O94: 0 | P94: 0 | Q94: 0 | R94: 0 | S94: 0 | T94: 0 | U94: 0 | V94: 0 | W94: 0 | X94: 0 | Y94: 0 | Z94: 0 | AA94: =AA99*7.5 -> 5.3158133e+09 | AB94: 6 | AC94: 0 | AD94: 1 | AE94: 1 | AF94: 0 | AG94: 1
A95: Guajira | B95: Centro Agroempresarial y Acuícola | C95: CREM Villanueva, Carrera 13 No. 11 - 42, Barrio las Delicias | D95: Villanueva | E95: 0 | F95: 1 | G95: 0 | H95: 0 | I95: 0 | J95: 0 | K95: 0 | L95: 0 | M95: 0 | N95: 0 | O95: 0 | P95: 0 | Q95: 0 | R95: 0 | S95: 0 | T95: 0 | U95: 0 | V95: 0 | W95: 0 | X95: 0 | Y95: 0 | Z95: 0
A96: TOTAL REGIONAL | E96: =SUM(E84:E95) -> 0 | F96: =SUM(F84:F95) -> 32 | G96: =SUM(G84:G95) -> 2 | H96: =SUM(H84:H95) -> 0 | I96: =SUM(I84:I95) -> 0 | J96: =SUM(J84:J95) -> 0 | L96: =SUM(L84:L95) -> 0 | M96: =SUM(M84:M95) -> 0 | N96: =SUM(N84:N95) -> 0 | O96: =SUM(O84:O95) -> 2 | P96: =SUM(P84:P95) -> 0 | Q96: =SUM(Q84:Q95) -> 0 | R96: =SUM(R84:R95) -> 0 | S96: =SUM(S84:S95) -> 0 | ... Z96: =SUM(Z84:Z95) -> 0 | AA96: =SUM(E96:Z96) -> 38 | AB96: =SUM(AB84:AB95) -> 104 | AC96: =SUM(AC84:AC95) -> 16 | AD96: =SUM(AD84:AD95) -> 7 | AE96: =SUM(AE84:AE95) -> 7 | AF96: =SUM(AF84:AF95) -> 3 | AG96: =SUM(AG84:AG95) -> 17
AA97: =SUM(E97:Z97) -> 0
B98: CERTIFICADOS SENA | AA98: =SUM(E98:Z98) -> 0
A99: VALOR POR REGIOANAL | E99: =E96*E5 -> 0 | F99: =F96*F5 -> 6.2965909e+08 | G99: =G96*G5 -> 39353693 | H99: =H96*H5 -> 0 | I99: =I96*I5 -> 0 | J99: =J96*J5 -> 0 | L99: =L96*L5 -> 0 | M99: =M96*M5 -> 0 | N99: =N96*N5 -> 0 | O99: =O96*O5 -> 17287775 | P99: =P96*P5 -> 0 | Q99: =Q96*Q5 -> 0 | R99: =R96*R5 -> 0 | S99: =S96*S5 -> 0 | ... Z99: =Z96*Z5 -> 0 | AA99: =SUM(E99:Z99) -> 7.087751e+08 | AB99: =AB96*AB5 -> 3141482.6 | AC99: =AC96*AC5 -> 1878594.3 | AD99: =AD96*AD5 -> 1052862 | AE99: =AE96*AE5 -> 764499.63 | AF99: =AF96*AF5 -> 1033184.2 | AG99: =AG96*AG5 -> 1970159.2
A100: Magdalena | B100: Despacho Dirección SUPERVISOR | C100: Calle 29 # 13 - 127 Barrio Bavaria | D100: Santa Marta | E100: 0 | F100: 1 | G100: 0 | H100: 0 | J100: 0 | K100: 0 | L100: 0 | M100: 0 | N100: 0 | O100: 0 | P100: 0 | Q100: 0 | R100: 0 | S100: 0 | T100: 0 | U100: 0 | V100: 0 | W100: 0 | X100: 0 | Y100: 0 | Z100: 0 | AB100: 8 | AC100: 0 | AD100: 1 | AE100: 1 | AF100: 1 | AG100: 2
A101: Magdalena | B101: Despacho Dirección | C101: Avenida Ferrocarril # 27-97 (APE) | D101: Santa Marta | E101: 0 | F101: 1 | G101: 0 | H101: 0 | I101: 0 | J101: 0 | K101: 0 | L101: 0 | M101: 0 | N101: 0 | O101: 0 | P101: 1 | Q101: 0 | R101: 0 | S101: 0 | T101: 0 | U101: 0 | V101: 0 | W101: 0 | X101: 0 | Y101: 0 | Z101: 0 | AB101: 0 | AC101: 0 | AD101: 0 | AE101: 0 | AF101: 0 | AG101: 0
...

Sheet RESUMEN
B1: MES | C1: MEDIOS HUMANOS | D1: MEDIOS TECNOLÓGICOS
B2: ABRIL | C2: 4.5315347e+09 | D2: =+(100615725.34/30)*26 -> 87200295
B3: MAYO | C3: 5.2286938e+09 | D3: 1.0061573e+08
B4: JUNIO | C4: 5.2286938e+09 | D4: 1.0061573e+08 | F4: RUBRO ASIGANDO | G4: 48095104061
B5: JULIO 1-14 | C5: 2.4657261e+09 | D5: =+(100615725.34/30)*14 -> 46954005 | F5: DIFERENCIA | G5: =+G4-D13 -> 75834657
B6: JULIO 15-31 | C6: 2.908304e+09 | D6: =+(100615725.34/30)*16 -> 53661720
B7: AGOSTO | C7: 5.4641331e+09 | D7: 1.0061573e+08
B8: SEPTIEMBRE | C8: 5.4641331e+09 | D8: =+D7 -> 1.0061573e+08
B9: OCTUBRE | C9: 5.4641331e+09 | D9: =+D7 -> 1.0061573e+08
B10: NOVIEMBRE | C10: 5.4641331e+09 | D10: =+D7 -> 1.0061573e+08
B11: DICIEMBRE | C11: 4.9177198e+09 | D11: =+(D7/30)*27 -> 90554153
B12: TOTALES | C12: =SUM(C2:C11) -> 4.7137205e+10 | D12: =SUM(D2:D11) -> 8.8206453e+08
B13: TOTAL MEDIOS HUMANOS Y TECNOLÓGICOS | D13: =+C12+D12 -> 4.8019269e+10
