Workbook

Sheet ZONA 1 9,77
H1: 1750905 | I1: 9.77 | J1: 2850
A2: COSTO DE MODALIDADES VIGILANCIA 2026 ZONA 1 | D2: TARIFAS | E2: =(($H$1*$I$1)+$J$1) -> 17109192 | F2: =(($H$1*$I$1)+$J$1) -> 17109192 | G2: =(($H$1*$I$1)+$J$1) -> 17109192 | H2: =(($H$1*$I$1)+$J$1) -> 17109192 | I2: =(($H$1*$I$1)+$J$1)/30*20 -> 11406128 | J2: =(($H$1*$I$1)+$J$1)/30*24 -> 13687353 | K2: =((($H$1*$I$1)+$J$1)*0.4759/13*5)+((($H$1*$I$1)+$J$1)*0.5241/11*11) -> 12098568 | L2: =((($H$1*$I$1)+$J$1)*0.4759/13*13)+((($H$1*$I$1)+$J$1)*0.5241/11*3) -> 10587790 | M2: =((($H$1*$I$1)+$J$1)*0.4759/30*20/13*13)+((($H$1*$I$1)+$J$1)*0.5241/30*20/11*3) -> 7058526.7 | N2: =((($H$1*$I$1)+$J$1)*0.4759/30*24/13*13)+((($H$1*$I$1)+$J$1)*0.5241/30*24/11*3) -> 8470232.1 | O2: =(($H$1*$I$1)+$J$1)*0.4759/13*12 -> 7515936.4 | P2: =(($H$1*$I$1)+$J$1)*0.4759/30*20/13*12 -> 5010624.2 | Q2: =(($H$1*$I$1)+$J$1)*0.4759/30*24/13*12 -> 6012749.1 | R2: =((($H$1*$I$1)+$J$1)*0.4759/13*1)+((($H$1*$I$1)+$J$1)*0.5241/11*11) -> 9593255.5 | S2: =((($H$1*$I$1)+$J$1)*0.4759/30*24/13*1)+((($H$1*$I$1)+$J$1)*0.5241/30*24/11*11) -> 7674604.4 | T2: =((($H$1*$I$1)+$J$1)*0.4759/13*1)+((($H$1*$I$1)+$J$1)*0.5241/11*11) -> 9593255.5 | U2: =((($H$1*$I$1)+$J$1)*0.5241/11*8) -> 6521401.8 | V2: =((($H$1*$I$1)+$J$1)*0.5241/11*8) -> 6521401.8 | W2: =((($H$1*$I$1)+$J$1)*0.5241/30*20/11*8) -> 4347601.2 | X2: =(($H$1*$I$1)+$J$1)*0.4759/30*24/13*8 -> 4008499.4 | Y2: =(($H$1*$I$1)+$J$1)*0.4759/30*20/13*8 -> 3340416.2 | Z2: =(($H$1*$I$1)+$J$1)*0.4759/13*8 -> 5010624.2 | AB2: 25383.667 | AC2: 98665.667 | AD2: 126394 | AE2: 91776.667 | AF2: 289407.33 | AG2: 97388
D3: AYS | E3: =E2*10% -> 1710919.2 | F3: =F2*8% -> 1368735.3 | G3: =G2*8% -> 1368735.3 | H3: =H2*11% -> 1882011.1 | I3: =I2*8% -> 912490.23 | J3: =J2*8% -> 1094988.3 | K3: =K2*8% -> 967885.41 | L3: =L2*8% -> 847023.21 | M3: =M2*8% -> 564682.14 | N3: =N2*8% -> 677618.56 | O3: =O2*8% -> 601274.91 | P3: =P2*8% -> 400849.94 | ... S3: =S2*8% -> 613968.35 | T3: =T2*10% -> 959325.55 | U3: =U2*10% -> 652140.18 | V3: =V2*8% -> 521712.14 | W3: =W2*8% -> 347808.09 | X3: =X2*8% -> 320679.95 | Y3: =Y2*8% -> 267233.29 | Z3: =Z2*8% -> 400849.94
D4: IVA | E4: =(E2+E3)*0.019 -> 357582.11 | F4: =(F2+F3)*0.019 -> 351080.62 | G4: =(G2+G3)*0.019 -> 351080.62 | H4: =(H2+H3)*0.019 -> 360832.86 | I4: =(I2+I3)*0.019 -> 234053.74 | J4: =(J2+J3)*0.019 -> 280864.49 | K4: =(K2+K3)*0.019 -> 248262.61 | L4: =(L2+L3)*0.019 -> 217261.45 | ... Z4: =(Z2+Z3)*0.019 -> 102818.01 | AB4: =+AB2*0.19 -> 4822.8967 | AC4: =+AC2*0.19 -> 18746.477 | AD4: =+AD2*0.19 -> 24014.86 | AE4: =+AE2*0.19 -> 17437.567 | AF4: =+AF2*0.19 -> 54987.393 | AG4: =+AG2*0.19 -> 18503.72
D5: TOTAL | E5: =+E2+E3+E4 -> 19177693 | F5: =+F2+F3+F4 -> 18829008 | G5: =+G2+G3+G4 -> 18829008 | H5: =+H2+H3+H4 -> 19352036 | I5: =+I2+I3+I4 -> 12552672 | J5: =+J2+J3+J4 -> 15063206 | K5: =+K2+K3+K4 -> 13314716 | L5: =+L2+L3+L4 -> 11652075 | ... Z5: =+Z2+Z3+Z4 -> 5514292.2 | AB5: =+AB2+AB4 -> 30206.563 | AC5: =+AC2+AC4 -> 117412.14 | AD5: =+AD2+AD4 -> 150408.86 | AE5: =+AE2+AE4 -> 109214.23 | AF5: =+AF2+AF4 -> 344394.73 | AG5: =+AG2+AG4 -> 115891.72
A6: REGIONAL | B6: CENTRO | C6: DIRECCIÓN | D6: MUNICIPIO | E6: PUESTO 24 HORAS TODOS LOS DÍAS CON ARMA | F6: PUESTO 24 HORAS TODOS LOS DÍAS SIN ARMA | G6: PUESTO 24 HORAS MONITOREO | H6: PUESTO 24 HORAS TODOS LOS DÍAS CON CANINO | I6: PUESTO 24 HORAS LUNES A VIERNES SIN ARMA | J6: PUESTO 24 HORAS LUNES A SABADO SIN ARMA | K6: PUESTO 16 HORAS (INCLUYE 11 HORAS NOCTURNAS) TODOS LOS DÍAS SIN ARMA | L6: PUESTO 16 HORAS (INCLUYE 3 HORA NOCTURNA) TODOS LOS DÍAS SIN ARMA | M6: PUESTO 16 HORAS (INCLUYE 3 HORA NOCTURNA) LUNES A VIERNES NO INCLUYE FESTIVOS SIN ARMA | N6: PUESTO 16 HORAS (INCLUYE 3 HORA NOCTURNA) LUNES A SÁBADO NO INCLUYE FESTIVOS SIN ARMA | O6: PUESTO 12 HORAS DIURNAS TODOS LOS DÍAS SIN ARMA | P6: PUESTO 12 HORAS DIURNAS LUNES A VIERNES NO INCLUYE FESTIVOS SIN ARMA | Q6: PUESTO 12 HORAS DIURNAS LUNES A SÁBADO NO INCLUYE FESTIVOS SIN ARMA | R6: PUESTO 12 HORAS (INCLUYE 11 HORAS NOCTURNAS) TODOS LOS DIAS SIN ARMA | S6: PUESTO 12 HORAS (INCLUYE 11 HORAS NOCTURNAS) LUNES A SABADO SIN ARMA | T6: PUESTO 12 HORAS (INCLUYE 9 HORAS NOCTURNAS) TODOS LOS DIAS CON ARMA | U6: PUESTO 8 HORAS NOCTURNAS TODOS LOS DÍAS CON ARMA | V6: PUESTO 8 HORAS NOCTURNAS TODOS LOS DÍAS SIN ARMA | W6: PUESTO 8 HORAS NOCTURNAS LUNES A VIERNES SIN ARMA | X6: PUESTO 8 HORAS DIURNAS LUNES A SÁBADO NO INCLUYE FESTIVOS SIN ARMA | Y6: PUESTO 8 HORAS DIURNAS LUNES A VIERNES NO INCLUYE FESTIVOS SIN ARMA | Z6: PUESTO 8 HORAS DIURNAS TODOS LOS DIAS SIN ARMA | AB6: Cámara tipo mini domo | AC6: Cámara PTZ | AD6: DVR | AE6: Monitor | AF6: Control de visitantes y de bienes (para Regionales) | AG6: Alarma
A7: Atlantico | B7: Despacho Dirección | C7: Carrera 43 42-40 Piso 11 SUPERVISOR | D7: Barranquilla | E7: 0 | F7: 1 | G7: 0 | H7: 0 | I7: 0 | J7: 0 | K7: 0 | L7: 0 | M7: 0 | N7: 0 | O7: 0 | P7: 0 | Q7: 0 | R7: 0 | S7: 0 | T7: 0 | U7: 0 | V7: 0 | W7: 0 | X7: 0 | Y7: 0 | Z7: 0 | AB7: 0 | AC7: 0 | AD7: 0 | AE7: 0 | AF7: 0 | AG7: 0
A8: Atlantico | B8: Centro de Comercio y Servicios | C8: Carrera 43 42-40 | D8: Barranquilla | E8: 0 | F8: 2 | G8: 1 | H8: 0 | I8: 0 | J8: 0 | K8: 0 | L8: 0 | M8: 0 | N8: 0 | O8: 0 | P8: 0 | Q8: 5 | R8: 0 | S8: 0 | T8: 0 | U8: 0 | V8: 0 | W8: 0 | X8: 0 | Y8: 0 | Z8: 0 | AB8: 30 | AC8: 0 | AD8: 2 | AE8: 2 | AF8: 1 | AG8: 4
A9: Atlantico | B9: Centro de Comercio y Servicios Nodo SALUD | C9: Cra. 35 calle 32 esquina Hospital Barranquilla | D9: Barranquilla | E9: 0 | F9: 3 | G9: 0 | H9: 0 | I9: 0 | J9: 0 | K9: 0 | L9: 0 | M9: 0 | N9: 0 | O9: 0 | P9: 0 | Q9: 0 | R9: 0 | S9: 0 | T9: 0 | U9: 0 | V9: 0 | W9: 0 | X9: 0 | Y9: 0 | Z9: 0 | AB9: =30-2 -> 28 | AD9: 2 | AE9: 2 | AF9: 1 | AG9: 4
A10: Atlantico | B10: Centro de Comercio y Servicio Nodo Logística y Transporte | C10: Cra. 9 No.127 - 109 Urba. Caribe Verde | D10: Barranquilla | E10: 0 | F10: 3 | G10: 0 | H10: 0 | I10: 0 | J10: 0 | K10: 0 | L10: 0 | M10: 0 | N10: 1 | O10: 0 | P10: 0 | Q10: 0 | R10: 0 | S10: 0 | T10: 0 | U10: 0 | V10: 0 | W10: 0 | X10: 0 | Y10: 0 | Z10: 0 | AB10: 16 | AC10: 0 | AD10: 1 | AE10: 1 | AF10: 0 | AG10: 0
A11: Atlantico | B11: Centro de Comercio y Servicio Nodo Servicios Financieros | C11: Cra 15 Sur # 48-28 cayenas | D11: Barranquilla | E11: 0 | F11: 4 | G11: 0 | H11: 0 | I11: 0 | J11: 0 | K11: 0 | L11: 0 | M11: 0 | N11: 1 | O11: 0 | P11: 0 | Q11: 0 | R11: 0 | S11: 0 | T11: 0 | U11: 0 | V11: 0 | W11: 0 | X11: 0 | Y11: 0 | Z11: 0 | AB11: 8 | AC11: 0 | AD11: 1 | AE11: 1 | AF11: 0 | AG11: 0
A12: Atlantico | B12: Centro de Comercio y Servicio Nodo Servicios Administrativos | C12: Calle 47 # 6-110 Via coordialidad | D12: Barranquilla | E12: 0 | F12: 3 | G12: 0 | H12: 0 | I12: 0 | J12: 0 | K12: 0 | L12: 0 | M12: 0 | N12: 0 | O12: 0 | P12: 0 | Q12: 0 | R12: 0 | S12: 0 | T12: 0 | U12: 0 | V12: 0 | W12: 0 | X12: 0 | Y12: 0 | Z12: 0 | AB12: 4 | AC12: 0 | AD12: 1 | AE12: 1 | AF12: 0 | AG12: 0
A13: Atlantico | B13: Centro para el Desarrollo Agroecologico y Agroindustrial | C13: nodo operaciones comerciales cra 24 M con calle 48 | D13: soledad | E13: 0 | F13: 3 | G13: 0 | H13: 0 | I13: 0 | J13: 0 | K13: 0 | L13: 0 | M13: 0 | N13: 0 | O13: 0 | P13: 0 | Q13: 0 | R13: 0 | S13: 0 | T13: 0 | U13: 0 | V13: 0 | W13: 0 | X13: 0 | Y13: 0 | Z13: 0 | AB13: 8 | AD13: 1 | AE13: 1 | AG13: 1
A14: Atlantico | B14: Centro de Comercio y Servicio NODO DE HOTELERIA Y TURISMO | C14: Cra 50b # 39-86 | D14: Barranquilla | E14: 0 | F14: 3 | G14: 0 | H14: 0 | I14: 0 | J14: 0 | K14: 0 | L14: 0 | M14: 0 | N14: 0 | O14: 0 | P14: 0 | Q14: 0 | R14: 0 | S14: 0 | T14: 0 | U14: 0 | V14: 0 | W14: 0 | X14: 0 | Y14: 0 | Z14: 0 | AB14: 10 | AC14: 2 | AD14: 1 | AE14: 1 | AF14: 1 | AG14: 1
A15: Atlantico | B15: Centro de Comercio y Servicio NODO DE GASTRONOMIA Y BILINGUISMO | C15: Calle 7 1D 155 Juan de Acosta | D15: Juan de acosta | E15: 0 | F15: 2 | G15: 0 | H15: 0 | I15: 0 | J15: 0 | K15: 0 | L15: 0 | M15: 0 | N15: 0 | O15: 0 | P15: 0 | Q15: 0 | R15: 0 | S15: 0 | T15: 0 | U15: 0 | V15: 0 | W15: 0 | X15: 0 | Y15: 0 | Z15: 0 | AB15: 4 | AC15: 0 | AD15: 1 | AE15: 1 | AF15: 0 | AG15: 1
A16: Atlantico | B16: Centro para el Desarrollo Agroecologico y Agroindustrial | C16: Calle 9 No. 19-120 Barrio Santander | D16: Sabanalarga | E16: 0 | F16: 3 | G16: 0 | H16: 0 | I16: 0 | J16: 0 | K16: 0 | L16: 1 | M16: 0 | N16: 0 | O16: 0 | P16: 0 | Q16: 0 | R16: 1 | S16: 0 | T16: 0 | U16: 0 | V16: 0 | W16: 0 | X16: 0 | Y16: 0 | Z16: 0 | AB16: =28 -> 28 | AC16: 4 | AD16: 1 | AE16: 1 | AF16: 1 | AG16: =4-4 -> 0
A17: Atlantico | B17: Centro para el Desarrollo Agroecologico y Agroindustrial FINCA EL CANEY | C17: Kilómetro 35 Margen Oriental Carretera La Cordialidad A 3 Kilómetro. | D17: Sabanalarga | E17: 2 | F17: 3 | G17: 0 | H17: 0 | I17: 0 | J17: 0 | K17: 0 | L17: 0 | M17: 0 | N17: 0 | O17: 0 | P17: 0 | Q17: 0 | R17: 0 | S17: 0 | T17: 0 | U17: 0 | V17: 0 | W17: 0 | X17: 0 | Y17: 0 | Z17: 0 | AB17: 32 | AC17: 5 | AD17: 3 | AE17: 3 | AF17: 1 | AG17: =3-3 -> 0
A18: Atlantico | B18: Centro para el Desarrollo Agroecologico y Agroindustrial | C18: Kilometro 2-101 Vía Luruaco Cartagena | D18: LURUACO | E18: 0 | F18: 2 | G18: 0 | H18: 0 | I18: 0 | J18: 0 | K18: 0 | L18: 0 | M18: 0 | N18: 0 | O18: 0 | P18: 0 | Q18: 0 | R18: 0 | S18: 0 | T18: 0 | U18: 0 | V18: 0 | W18: 0 | X18: 0 | Y18: 0 | Z18: 0 | AB18: 4 | AD18: 1 | AG18: 1
A19: Atlantico | B19: Centro para el Desarrollo Agroecologico y Agroindustrial NODO DE INDUSTRIAS CREATIVAS | C19: Carrera 54 # 49 - 09 | D19: Barranquilla | E19: 0 | F19: 2 | G19: 0 | H19: 0 | I19: 0 | J19: 0 | K19: 0 | L19: 0 | M19: 0 | N19: 0 | O19: 0 | P19: 0 | Q19: 0 | R19: 0 | S19: 0 | T19: 0 | U19: 0 | V19: 0 | W19: 0 | X19: 0 | Y19: 0 | Z19: 0 | AB19: 8 | AC19: 0 | AD19: 1 | AE19: 1 | AF19: 0 | AG19: =1-1 -> 0
A20: Atlantico | B20: CENTRO NACIONAL COLOMBO ALEMAN | C20: Calle 30 No. 3E-164 | D20: Barranquilla | E20: 0 | F20: 2 | G20: 0 | H20: 0 | I20: 0 | J20: 0 | K20: 0 | L20: 1 | M20: 0 | N20: 0 | O20: 0 | P20: 0 | Q20: 1 | R20: 0 | S20: 0 | T20: 0 | U20: 0 | V20: 0 | W20: 0 | X20: 0 | Y20: 0 | Z20: 0 | AB20: =41-8 -> 33 | AC20: 1 | AD20: 2 | AE20: 2 | AF20: 1 | AG20: 4
A21: Atlantico | B21: CENTRO NACIONAL COLOMBO ALEMAN Nodo ENERGIAS | C21: Cra 23 con calle 28 Rebolo | D21: Barranquilla | E21: 0 | F21: 2 | G21: 0 | H21: 0 | I21: 0 | J21: 0 | K21: 0 | L21: 0 | M21: 0 | N21: 0 | O21: 0 | P21: 0 | Q21: 0 | R21: 0 | S21: 0 | T21: 0 | U21: 0 | V21: 1 | W21: 0 | X21: 0 | Y21: 0 | Z21: 0 | AB21: =15 -> 15 | AC21: 0 | AD21: 1 | AE21: 1 | AF21: 1 | AG21: 4
A22: Atlantico | B22: CENTRO NACIONAL COLOMBO ALEMAN Nodo TICS | C22: Barrio Prado | D22: Barranquilla | E22: 0 | F22: 2 | G22: 0 | H22: 0 | I22: 0 | J22: 0 | K22: 0 | L22: 2 | M22: 0 | N22: 0 | O22: 0 | P22: 0 | Q22: 0 | R22: 0 | S22: 0 | T22: 0 | U22: 0 | V22: 0 | W22: 0 | X22: 0 | Y22: 0 | Z22: 0 | AB22: 5 | AC22: 0 | AD22: 1 | AE22: 1 | AF22: 0 | AG22: 0
A23: Atlantico | B23: CENTRO NACIONAL COLOMBO ALEMAN Nodo Refrigeraciion | C23: Carrera 10 # 7E-110 Antiguo Coliseo del Sur lipaya | D23: Barranquilla | E23: 0 | F23: 2 | G23: 0 | H23: 0 | I23: 0 | J23: 0 | K23: 0 | L23: 0 | M23: 0 | N23: 0 | O23: 0 | P23: 0 | Q23: 0 | R23: 0 | S23: 0 | T23: 0 | U23: 0 | V23: 0 | W23: 0 | X23: 0 | Y23: 0 | Z23: 0 | AB23: 13 | AC23: 0 | AD23: 1 | AE23: 1 | AF23: 1 | AG23: 2
A24: Atlantico | B24: CENTRO NACIONAL COLOMBO ALEMAN SUBSEDE MALAMBO | C24: Diagonal 18 No. 16 - 46 via al Caracolí sede metalmecanica | D24: Malambo | E24: 0 | F24: 0 | G24: 0 | H24: 0 | I24: 0 | J24: 0 | K24: 0 | L24: 0 | M24: 0 | N24: 0 | O24: 0 | P24: 0 | Q24: 0 | R24: 0 | S24: 0 | T24: 0 | U24: 0 | V24: 0 | W24: 0 | X24: 0 | Y24: 0 | Z24: 0 | AB24: 0 | AC24: 0 | AD24: 0 | AE24: 0 | AF24: 0 | AG24: 0
A25: Atlantico | B25: CENTRO NACIONAL COLOMBO ALEMAN SUBSEDE MALAMBO NUEVA | C25: Diagonal 18 No. 16 - 46 via al Caracolí sede metalmecanica | D25: Malambo | E25: 0 | F25: 3 | G25: 1 | H25: 0 | I25: 0 | J25: 0 | K25: 0 | L25: 0 | M25: 0 | N25: 0 | O25: 0 | P25: 0 | Q25: 0 | R25: 0 | S25: 0 | T25: 0 | U25: 0 | V25: 0 | W25: 0 | X25: 0 | Y25: 0 | Z25: 0 | AB25: 25 | AC25: 0 | AD25: 2 | AE25: 2 | AF25: 1 | AG25: 2
A26: Atlantico | B26: Centro Industrial y de Aviación sede hangar | C26: CIUDADELA INDUSTRIAL Caribe Verde Carrera 9G - 110 - 187 BO 11 | D26: Soledad | E26: 0 | F26: 1 | G26: 0 | H26: 0 | I26: 0 | J26: 0 | K26: 0 | L26: 0 | M26: 0 | N26: 0 | O26: 0 | P26: 0 | Q26: 0 | R26: 0 | S26: 0 | T26: 0 | U26: 0 | V26: 0 | W26: 0 | X26: 0 | Y26: 0 | Z26: 0 | AB26: 25 | AC26: 5 | AD26: 3 | AE26: 2 | AF26: 1 | AG26: 4
A27: Atlantico | B27: Centro Industrial y de Aviación | C27: Calle 30 No. 3E- 164 SUPERVISOR | D27: Barranquilla | E27: 0 | F27: 1 | G27: 0 | H27: 0 | I27: 0 | J27: 0 | K27: 0 | L27: 0 | M27: 0 | N27: 0 | O27: 0 | P27: 0 | Q27: 0 | R27: 0 | S27: 0 | T27: 0 | U27: 0 | V27: 0 | W27: 0 | X27: 0 | Y27: 0 | Z27: 0 | AB27: =42-7 -> 35 | AC27: 2 | AD27: 2 | AE27: 2 | AF27: 1 | AG27: 5
A28: Atlantico | B28: Centro Industrial y de Aviación | C28: Calle 30 No. 3E- 164 | D28: Barranquilla | E28: 0 | F28: 3 | G28: 1 | H28: 0 | I28: 0 | J28: 0 | K28: 0 | L28: 0 | M28: 0 | N28: 0 | O28: 0 | P28: 0 | Q28: 1 | R28: 0 | S28: 0 | T28: 0 | U28: 0 | V28: 0 | W28: 0 | X28: 0 | Y28: 0 | Z28: 0 | AB28: 0 | AC28: 0 | AD28: 0 | AE28: 0 | AF28: 0 | AG28: 0
A29: Atlantico | B29: Centro Industrial y de Aviación Nodo Construcción e Infraestructura | C29: Diag. 36 No. 9G 20 Villa San Pablo | D29: Barranquilla | E29: 0 | F29: 4 | G29: 0 | H29: 0 | I29: 0 | J29: 0 | K29: 0 | L29: 0 | M29: 0 | N29: 0 | O29: 0 | P29: 0 | Q29: 0 | R29: 0 | S29: 0 | T29: 0 | U29: 0 | V29: 0 | W29: 0 | X29: 0 | Y29: 0 | Z29: 0 | AB29: 21 | AC29: 4 | AD29: 1 | AE29: 0 | AF29: 1 | AG29: 2
A30: Atlantico | B30: centro de confeccion | C30: Centro Industrial y de AviaciónSEDE CENTRO REINDUSTRIALIZACIÓN ZASCA BARANOA-ATLÁNTICOCr 21 No 11-140,Barrio Manzanares Margaritas, Atlántico. | D30: Baranoa | E30: 1 | F30: 1 | G30: 0 | H30: 0 | I30: 0 | J30: 0 | K30: 0 | L30: 0 | M30: 0 | N30: 0 | O30: 0 | P30: 0 | Q30: 0 | R30: 1 | S30: 0 | T30: 0 | U30: 0 | V30: 0 | W30: 0 | X30: 0 | Y30: 0 | Z30: 0 | AB30: 16 | AD30: 1 | AE30: 1 | AG30: 1
A31: Atlantico | B31: Nodo Mobiliario | C31: Centro Industrial y de AviaciónSEDE CENTRO REINDUSTRIALIZACIÓN ZASCA BARANOA-ATLÁNTICOCr 21 No 11-140,Barrio Manzanares Margaritas, Atlántico. | D31: Galapa | E31: 0 | F31: 3 | G31: 0 | H31: 0 | I31: 0 | J31: 0 | K31: 0 | L31: 0 | M31: 0 | N31: 0 | O31: 0 | P31: 0 | Q31: 0 | R31: 0 | S31: 0 | T31: 0 | U31: 0 | V31: 0 | W31: 0 | X31: 0 | Y31: 0 | Z31: 0 | AA31: =AA36*9 -> 1.2452619e+10 | AB31: 16 | AD31: 1 | AE31: 1 | AG31: 1
A32: Atlantico | B32: Centro de Comercio y Servicio Nodo MULTILINGUISMO | C32: Carrera 21B, Calle 40B Esuina Barrio San José | D32: Barranquilla | E32: 0 | F32: 2 | G32: 0 | H32: 0 | I32: 0 | J32: 0 | K32: 0 | L32: 0 | M32: 0 | N32: 0 | O32: 0 | P32: 0 | Q32: 0 | R32: 0 | S32: 0 | T32: 0 | U32: 0 | V32: 0 | W32: 0 | X32: 0 | Y32: 0 | Z32: 0 | AB32: 6 | AC32: 0 | AD32: 1 | AE32: 1 | AF32: 0 | AG32: 1
A33: TOTAL REGIONAL | E33: =SUM(E7:E32) -> 3 | F33: =SUM(F7:F32) -> 60 | G33: =SUM(G7:G32) -> 3 | H33: =SUM(H7:H32) -> 0 | I33: =SUM(I7:I32) -> 0 | J33: =SUM(J7:J32) -> 0 | L33: =SUM(L7:L32) -> 4 | M33: =SUM(M7:M32) -> 0 | N33: =SUM(N7:N32) -> 2 | O33: =SUM(O7:O32) -> 0 | P33: =SUM(P7:P32) -> 0 | Q33: =SUM(Q7:Q32) -> 7 | R33: =SUM(R7:R32) -> 2 | S33: =SUM(S7:S32) -> 0 | ... Z33: =SUM(Z7:Z32) -> 0 | AA33: =SUM(E33:Z33) -> 82 | AB33: =SUM(AB7:AB32) -> 390 | AC33: =SUM(AC7:AC32) -> 23 | AD33: =SUM(AD7:AD32) -> 32 | AE33: =SUM(AE7:AE32) -> 29 | AF33: =SUM(AF7:AF32) -> 12 | AG33: =SUM(AG7:AG32) -> 38
AA34: =SUM(E34:Z34) -> 0
B35: CERTIFICADOS SENA | AA35: =SUM(E35:Z35) -> 0
A36: VALOR POR REGIOANAL | E36: =E33*E5 -> 57533079 | F36: =F33*F5 -> 1.1297405e+09 | G36: =G33*G5 -> 56487023 | H36: =H33*H5 -> 0 | I36: =I33*I5 -> 0 | J36: =J33*J5 -> 0 | L36: =L33*L5 -> 46608299 | M36: =M33*M5 -> 0 | N36: =N33*N5 -> 18643320 | O36: =O33*O5 -> 0 | P36: =P33*P5 -> 0 | Q36: =Q33*Q5 -> 46320054 | R36: =R33*R5 -> 21115139 | S36: =S33*S5 -> 0 | ... Z36: =Z33*Z5 -> 0 | AA36: =SUM(E36:Z36) -> 1.3836243e+09 | AB36: =AB33*AB5 -> 11780560 | AC36: =AC33*AC5 -> 2700479.3 | AD36: =AD33*AD5 -> 4813083.5 | AE36: =AE33*AE5 -> 3167212.8 | AF36: =AF33*AF5 -> 4132736.7 | AG36: =AG33*AG5 -> 4403885.4
A37: Bolivar | B37: Despacho Dirección SUPERVISOR | C37: Cartagena Km 1 Vía Turbaco | D37: Turbaco | E37: 0 | F37: 1 | G37: 0 | H37: 0 | I37: 0 | J37: 0 | K37: 0 | L37: 0 | M37: 0 | N37: 0 | O37: 0 | P37: 0 | Q37: 0 | R37: 0 | S37: 0 | T37: 0 | U37: 0 | V37: 0 | W37: 0 | X37: 0 | Y37: 0 | Z37: 0 | AB37: 0 | AC37: 0 | AD37: 0 | AE37: 0 | AF37: 0 | AG37: 0
A38: Bolivar | B38: Centro Multisectorial Ternera | C38: Cartagena Km 1 Vía Turbaco | D38: Turbaco | E38: 0 | F38: 4 | G38: 1 | H38: 0 | I38: 0 | J38: 0 | K38: 0 | L38: 0 | M38: 0 | N38: 1 | O38: 0 | P38: 0 | Q38: 0 | R38: 0 | S38: 0 | T38: 0 | U38: 0 | V38: 0 | W38: 0 | X38: 0 | Y38: 0 | Z38: 0 | AB38: 60 | AC38: 6 | AD38: 2 | AE38: 2 | AF38: 1 | AG38: 5
A39: Bolivar | B39: Centro Multisectorial Ternera | C39: Cartagena Km 1 Vía Turbaco | D39: Turbaco | E39: 0 | F39: 2 | G39: 0 | H39: 0 | I39: 0 | J39: 0 | K39: 0 | L39: 0 | M39: 0 | N39: 0 | O39: 0 | P39: 0 | Q39: 0 | R39: 0 | S39: 0 | T39: 0 | U39: 0 | V39: 0 | W39: 0 | X39: 0 | Y39: 0 | Z39: 0 | AB39: 0 | AC39: 0 | AD39: 0 | AE39: 0 | AF39: 0 | AG39: 0
A40: Bolivar | B40: Centro de Comercio y Servicios Sede Casa del Marquez | C40: Plaza de la Aduana | D40: Cartagena | E40: 0 | F40: 1 | G40: 0 | H40: 0 | I40: 0 | J40: 0 | K40: 0 | L40: 0 | M40: 0 | N40: 0 | O40: 0 | P40: 0 | Q40: 0 | R40: 0 | S40: 0 | T40: 0 | U40: 0 | V40: 0 | W40: 0 | X40: 0 | Y40: 0 | Z40: 0 | AB40: 6 | AC40: 0 | AD40: 1 | AE40: 1 | AF40: 0 | AG40: 0
...

Sheet ZONA 1 9,85 POR 14 DÍAS
H1: 1750905 | I1: 9.85 | J1: 2850
A2: COSTO DE MODALIDADES VIGILANCIA 2026 ZONA 1 | D2: TARIFAS | E2: =(($H$1*$I$1)+$J$1)/30*14 -> 8049656.6 | F2: =(($H$1*$I$1)+$J$1)/30*14 -> 8049656.6 | G2: =(($H$1*$I$1)+$J$1)/30*14 -> 8049656.6 | H2: =(($H$1*$I$1)+$J$1)/30*14 -> 8049656.6 | I2: =(($H$1*$I$1)+$J$1)/30*20/20*10 -> 5749754.8 | J2: =(($H$1*$I$1)+$J$1)/30*24/24*12 -> 6899705.7 | K2: =(((($H$1*$I$1)+$J$1)*0.4759/13*5)+((($H$1*$I$1)+$J$1)*0.5241/11*11))/30*14 -> 5692221.8 | L2: =(((($H$1*$I$1)+$J$1)*0.4759/13*13)+((($H$1*$I$1)+$J$1)*0.5241/11*3))/30*14 -> 4981420.2 | M2: =(((($H$1*$I$1)+$J$1)*0.4759/30*20/13*13)+((($H$1*$I$1)+$J$1)*0.5241/30*20/11*3))/20*10 -> 3558157.3 | N2: =(((($H$1*$I$1)+$J$1)*0.4759/30*24/13*13)+((($H$1*$I$1)+$J$1)*0.5241/30*24/11*3))/24*12 -> 4269788.8 | O2: =((($H$1*$I$1)+$J$1)*0.4759/13*12)/30*14 -> 3536152.2 | P2: =((($H$1*$I$1)+$J$1)*0.4759/30*20/13*12)/20*10 -> 2525823 | Q2: =((($H$1*$I$1)+$J$1)*0.4759/30*24/13*12)/24*12 -> 3030987.6 | R2: =(((($H$1*$I$1)+$J$1)*0.4759/13*1)+((($H$1*$I$1)+$J$1)*0.5241/11*11))/30*14 -> 4513504.4 | S2: =(((($H$1*$I$1)+$J$1)*0.4759/30*24/13*1)+((($H$1*$I$1)+$J$1)*0.5241/30*24/11*11))/24*12 -> 3868718.1 | T2: =(((($H$1*$I$1)+$J$1)*0.4759/13*1)+((($H$1*$I$1)+$J$1)*0.5241/11*11))/30*14 -> 4513504.4 | U2: =(((($H$1*$I$1)+$J$1)*0.5241/11*8))/30*14 -> 3068236.4 | V2: =(((($H$1*$I$1)+$J$1)*0.5241/11*8))/30*14 -> 3068236.4 | W2: =((($H$1*$I$1)+$J$1)*0.5241/30*20/11*8) -> 4383194.9 | X2: =((($H$1*$I$1)+$J$1)*0.4759/30*24/13*8)/24*12 -> 2020658.4 | Y2: =((($H$1*$I$1)+$J$1)*0.4759/30*20/13*8)/20*10 -> 1683882 | Z2: =((($H$1*$I$1)+$J$1)*0.4759/13*8)/30*14 -> 2357434.8 | AB2: =+'ZONA 1 9,77'!AB2/30*14 -> 11845.711 | AC2: =+'ZONA 1 9,77'!AC2/30*14 -> 46043.978 | AD2: =+'ZONA 1 9,77'!AD2/30*14 -> 58983.867 | AE2: =+'ZONA 1 9,77'!AE2/30*14 -> 42829.111 | AF2: =+'ZONA 1 9,77'!AF2/30*14 -> 135056.76 | AG2: =+'ZONA 1 9,77'!AG2/30*14 -> 45447.733
D3: AYS | E3: =E2*10% -> 804965.67 | F3: =F2*8% -> 643972.53 | G3: =G2*8% -> 643972.53 | H3: =H2*11% -> 885462.23 | I3: =I2*8% -> 459980.38 | J3: =J2*8% -> 551976.46 | K3: =K2*8% -> 455377.75 | L3: =L2*8% -> 398513.62 | M3: =M2*8% -> 284652.59 | N3: =N2*8% -> 341583.1 | O3: =O2*8% -> 282892.18 | P3: =P2*8% -> 202065.84 | ... S3: =S2*8% -> 309497.44 | T3: =T2*10% -> 451350.44 | U3: =U2*10% -> 306823.64 | V3: =V2*8% -> 245458.91 | W3: =W2*8% -> 350655.59 | X3: =X2*8% -> 161652.67 | Y3: =Y2*8% -> 134710.56 | Z3: =Z2*8% -> 188594.79
D4: IVA | E4: =(E2+E3)*0.019 -> 168237.82 | F4: =(F2+F3)*0.019 -> 165178.95 | G4: =(G2+G3)*0.019 -> 165178.95 | H4: =(H2+H3)*0.019 -> 169767.26 | I4: =(I2+I3)*0.019 -> 117984.97 | J4: =(J2+J3)*0.019 -> 141581.96 | K4: =(K2+K3)*0.019 -> 116804.39 | L4: =(L2+L3)*0.019 -> 102218.74 | ... Z4: =(Z2+Z3)*0.019 -> 48374.563 | AB4: =+AB2*0.19 -> 2250.6851 | AC4: =+AC2*0.19 -> 8748.3558 | AD4: =+AD2*0.19 -> 11206.935 | AE4: =+AE2*0.19 -> 8137.5311 | AF4: =+AF2*0.19 -> 25660.784 | AG4: =+AG2*0.19 -> 8635.0693
D5: TOTAL | E5: =+E2+E3+E4 -> 9022860.1 | F5: =+F2+F3+F4 -> 8858808.1 | G5: =+G2+G3+G4 -> 8858808.1 | H5: =+H2+H3+H4 -> 9104886.1 | I5: =+I2+I3+I4 -> 6327720.1 | J5: =+J2+J3+J4 -> 7593264.1 | K5: =+K2+K3+K4 -> 6264404 | L5: =+L2+L3+L4 -> 5482152.6 | ... Z5: =+Z2+Z3+Z4 -> 2594404.2 | AB5: =+AB2+AB4 -> 14096.396 | AC5: =+AC2+AC4 -> 54792.334 | AD5: =+AD2+AD4 -> 70190.801 | AE5: =+AE2+AE4 -> 50966.642 | AF5: =+AF2+AF4 -> 160717.54 | AG5: =+AG2+AG4 -> 54082.803
A6: REGIONAL | B6: CENTRO | C6: DIRECCIÓN | D6: MUNICIPIO | E6: PUESTO 24 HORAS TODOS LOS DÍAS CON ARMA | F6: PUESTO 24 HORAS TODOS LOS DÍAS SIN ARMA | G6: PUESTO 24 HORAS MONITOREO | H6: PUESTO 24 HORAS TODOS LOS DÍAS CON CANINO | I6: PUESTO 24 HORAS LUNES A VIERNES SIN ARMA | J6: PUESTO 24 HORAS LUNES A SABADO SIN ARMA | K6: PUESTO 16 HORAS (INCLUYE 11 HORAS NOCTURNAS) TODOS LOS DÍAS SIN ARMA | L6: PUESTO 16 HORAS (INCLUYE 3 HORA NOCTURNA) TODOS LOS DÍAS SIN ARMA | M6: PUESTO 16 HORAS (INCLUYE 3 HORA NOCTURNA) LUNES A VIERNES NO INCLUYE FESTIVOS SIN ARMA | N6: PUESTO 16 HORAS (INCLUYE 3 HORA NOCTURNA) LUNES A SÁBADO NO INCLUYE FESTIVOS SIN ARMA | O6: PUESTO 12 HORAS DIURNAS TODOS LOS DÍAS SIN ARMA | P6: PUESTO 12 HORAS DIURNAS LUNES A VIERNES NO INCLUYE FESTIVOS SIN ARMA | Q6: PUESTO 12 HORAS DIURNAS LUNES A SÁBADO NO INCLUYE FESTIVOS SIN ARMA | R6: PUESTO 12 HORAS (INCLUYE 11 HORAS NOCTURNAS) TODOS LOS DIAS SIN ARMA | S6: PUESTO 12 HORAS (INCLUYE 11 HORAS NOCTURNAS) LUNES A SABADO SIN ARMA | T6: PUESTO 12 HORAS (INCLUYE 9 HORAS NOCTURNAS) TODOS LOS DIAS CON ARMA | U6: PUESTO 8 HORAS NOCTURNAS TODOS LOS DÍAS CON ARMA | V6: PUESTO 8 HORAS NOCTURNAS TODOS LOS DÍAS SIN ARMA | W6: PUESTO 8 HORAS NOCTURNAS LUNES A VIERNES SIN ARMA | X6: PUESTO 8 HORAS DIURNAS LUNES A SÁBADO NO INCLUYE FESTIVOS SIN ARMA | Y6: PUESTO 8 HORAS DIURNAS LUNES A VIERNES NO INCLUYE FESTIVOS SIN ARMA | Z6: PUESTO 8 HORAS DIURNAS TODOS LOS DIAS SIN ARMA | AB6: Cámara tipo mini domo | AC6: Cámara PTZ | AD6: DVR | AE6: Monitor | AF6: Control de visitantes y de bienes (para Regionales) | AG6: Alarma
A7: Atlantico | B7: Despacho Dirección | C7: Carrera 43 42-40 Piso 11 SUPERVISOR | D7: Barranquilla | E7: 0 | F7: 1 | G7: 0 | H7: 0 | I7: 0 | J7: 0 | K7: 0 | L7: 0 | M7: 0 | N7: 0 | O7: 0 | P7: 0 | Q7: 0 | R7: 0 | S7: 0 | T7: 0 | U7: 0 | V7: 0 | W7: 0 | X7: 0 | Y7: 0 | Z7: 0 | AB7: 0 | AC7: 0 | AD7: 0 | AE7: 0 | AF7: 0 | AG7: 0
A8: Atlantico | B8: Centro de Comercio y Servicios | C8: Carrera 43 42-40 | D8: Barranquilla | E8: 0 | F8: 2 | G8: 1 | H8: 0 | I8: 0 | J8: 0 | K8: 0 | L8: 0 | M8: 0 | N8: 0 | O8: 0 | P8: 0 | Q8: 5 | R8: 0 | S8: 0 | T8: 0 | U8: 0 | V8: 0 | W8: 0 | X8: 0 | Y8: 0 | Z8: 0 | AB8: 30 | AC8: 0 | AD8: 2 | AE8: 2 | AF8: 1 | AG8: 4
A9: Atlantico | B9: Centro de Comercio y Servicios Nodo SALUD | C9: Cra. 35 calle 32 esquina Hospital Barranquilla | D9: Barranquilla | E9: 0 | F9: 3 | G9: 0 | H9: 0 | I9: 0 | J9: 0 | K9: 0 | L9: 0 | M9: 0 | N9: 0 | O9: 0 | P9: 0 | Q9: 0 | R9: 0 | S9: 0 | T9: 0 | U9: 0 | V9: 0 | W9: 0 | X9: 0 | Y9: 0 | Z9: 0 | AB9: =30-2 -> 28 | AD9: 2 | AE9: 2 | AF9: 1 | AG9: 4
A10: Atlantico | B10: Centro de Comercio y Servicio Nodo Logística y Transporte | C10: Cra. 9 No.127 - 109 Urba. Caribe Verde | D10: Barranquilla | E10: 0 | F10: 3 | G10: 0 | H10: 0 | I10: 0 | J10: 0 | K10: 0 | L10: 0 | M10: 0 | N10: 1 | O10: 0 | P10: 0 | Q10: 0 | R10: 0 | S10: 0 | T10: 0 | U10: 0 | V10: 0 | W10: 0 | X10: 0 | Y10: 0 | Z10: 0 | AB10: 16 | AC10: 0 | AD10: 1 | AE10: 1 | AF10: 0 | AG10: 0
A11: Atlantico | B11: Centro de Comercio y Servicio Nodo Servicios Financieros | C11: Cra 15 Sur # 48-28 cayenas | D11: Barranquilla | E11: 0 | F11: 4 | G11: 0 | H11: 0 | I11: 0 | J11: 0 | K11: 0 | L11: 0 | M11: 0 | N11: 1 | O11: 0 | P11: 0 | Q11: 0 | R11: 0 | S11: 0 | T11: 0 | U11: 0 | V11: 0 | W11: 0 | X11: 0 | Y11: 0 | Z11: 0 | AB11: 8 | AC11: 0 | AD11: 1 | AE11: 1 | AF11: 0 | AG11: 0
A12: Atlantico | B12: Centro de Comercio y Servicio Nodo Servicios Administrativos | C12: Calle 47 # 6-110 Via coordialidad | D12: Barranquilla | E12: 0 | F12: 3 | G12: 0 | H12: 0 | I12: 0 | J12: 0 | K12: 0 | L12: 0 | M12: 0 | N12: 0 | O12: 0 | P12: 0 | Q12: 0 | R12: 0 | S12: 0 | T12: 0 | U12: 0 | V12: 0 | W12: 0 | X12: 0 | Y12: 0 | Z12: 0 | AB12: 4 | AC12: 0 | AD12: 1 | AE12: 1 | AF12: 0 | AG12: 0
A13: Atlantico | B13: Centro para el Desarrollo Agroecologico y Agroindustrial | C13: nodo operaciones comerciales cra 24 M con calle 48 | D13: soledad | E13: 0 | F13: 3 | G13: 0 | H13: 0 | I13: 0 | J13: 0 | K13: 0 | L13: 0 | M13: 0 | N13: 0 | O13: 0 | P13: 0 | Q13: 0 | R13: 0 | S13: 0 | T13: 0 | U13: 0 | V13: 0 | W13: 0 | X13: 0 | Y13: 0 | Z13: 0 | AB13: 8 | AD13: 1 | AE13: 1 | AG13: 1
A14: Atlantico | B14: Centro de Comercio y Servicio NODO DE HOTELERIA Y TURISMO | C14: Cra 50b # 39-86 | D14: Barranquilla | E14: 0 | F14: 3 | G14: 0 | H14: 0 | I14: 0 | J14: 0 | K14: 0 | L14: 0 | M14: 0 | N14: 0 | O14: 0 | P14: 0 | Q14: 0 | R14: 0 | S14: 0 | T14: 0 | U14: 0 | V14: 0 | W14: 0 | X14: 0 | Y14: 0 | Z14: 0 | AB14: 10 | AC14: 2 | AD14: 1 | AE14: 1 | AF14: 1 | AG14: 1
A15: Atlantico | B15: Centro de Comercio y Servicio NODO DE GASTRONOMIA Y BILINGUISMO | C15: Calle 7 1D 155 Juan de Acosta | D15: Juan de acosta | E15: 0 | F15: 2 | G15: 0 | H15: 0 | I15: 0 | J15: 0 | K15: 0 | L15: 0 | M15: 0 | N15: 0 | O15: 0 | P15: 0 | Q15: 0 | R15: 0 | S15: 0 | T15: 0 | U15: 0 | V15: 0 | W15: 0 | X15: 0 | Y15: 0 | Z15: 0 | AB15: 4 | AC15: 0 | AD15: 1 | AE15: 1 | AF15: 0 | AG15: 1
A16: Atlantico | B16: Centro para el Desarrollo Agroecologico y Agroindustrial | C16: Calle 9 No. 19-120 Barrio Santander | D16: Sabanalarga | E16: 0 | F16: 3 | G16: 0 | H16: 0 | I16: 0 | J16: 0 | K16: 0 | L16: 1 | M16: 0 | N16: 0 | O16: 0 | P16: 0 | Q16: 0 | R16: 1 | S16: 0 | T16: 0 | U16: 0 | V16: 0 | W16: 0 | X16: 0 | Y16: 0 | Z16: 0 | AB16: =28 -> 28 | AC16: 4 | AD16: 1 | AE16: 1 | AF16: 1 | AG16: =4-4 -> 0
A17: Atlantico | B17: Centro para el Desarrollo Agroecologico y Agroindustrial FINCA EL CANEY | C17: Kilómetro 35 Margen Oriental Carretera La Cordialidad A 3 Kilómetro. | D17: Sabanalarga | E17: 2 | F17: 3 | G17: 0 | H17: 0 | I17: 0 | J17: 0 | K17: 0 | L17: 0 | M17: 0 | N17: 0 | O17: 0 | P17: 0 | Q17: 0 | R17: 0 | S17: 0 | T17: 0 | U17: 0 | V17: 0 | W17: 0 | X17: 0 | Y17: 0 | Z17: 0 | AB17: 32 | AC17: 5 | AD17: 3 | AE17: 3 | AF17: 1 | AG17: =3-3 -> 0
A18: Atlantico | B18: Centro para el Desarrollo Agroecologico y Agroindustrial | C18: Kilometro 2-101 Vía Luruaco Cartagena | D18: LURUACO | E18: 0 | F18: 2 | G18: 0 | H18: 0 | I18: 0 | J18: 0 | K18: 0 | L18: 0 | M18: 0 | N18: 0 | O18: 0 | P18: 0 | Q18: 0 | R18: 0 | S18: 0 | T18: 0 | U18: 0 | V18: 0 | W18: 0 | X18: 0 | Y18: 0 | Z18: 0 | AB18: 4 | AD18: 1 | AG18: 1
A19: Atlantico | B19: Centro para el Desarrollo Agroecologico y Agroindustrial NODO DE INDUSTRIAS CREATIVAS | C19: Carrera 54 # 49 - 09 | D19: Barranquilla | E19: 0 | F19: 2 | G19: 0 | H19: 0 | I19: 0 | J19: 0 | K19: 0 | L19: 0 | M19: 0 | N19: 0 | O19: 0 | P19: 0 | Q19: 0 | R19: 0 | S19: 0 | T19: 0 | U19: 0 | V19: 0 | W19: 0 | X19: 0 | Y19: 0 | Z19: 0 | AB19: 8 | AC19: 0 | AD19: 1 | AE19: 1 | AF19: 0 | AG19: =1-1 -> 0
A20: Atlantico | B20: CENTRO NACIONAL COLOMBO ALEMAN | C20: Calle 30 No. 3E-164 | D20: Barranquilla | E20: 0 | F20: 2 | G20: 0 | H20: 0 | I20: 0 | J20: 0 | K20: 0 | L20: 1 | M20: 0 | N20: 0 | O20: 0 | P20: 0 | Q20: 1 | R20: 0 | S20: 0 | T20: 0 | U20: 0 | V20: 0 | W20: 0 | X20: 0 | Y20: 0 | Z20: 0 | AB20: =41-8 -> 33 | AC20: 1 | AD20: 2 | AE20: 2 | AF20: 1 | AG20: 4
A21: Atlantico | B21: CENTRO NACIONAL COLOMBO ALEMAN Nodo ENERGIAS | C21: Cra 23 con calle 28 Rebolo | D21: Barranquilla | E21: 0 | F21: 2 | G21: 0 | H21: 0 | I21: 0 | J21: 0 | K21: 0 | L21: 0 | M21: 0 | N21: 0 | O21: 0 | P21: 0 | Q21: 0 | R21: 0 | S21: 0 | T21: 0 | U21: 0 | V21: 1 | W21: 0 | X21: 0 | Y21: 0 | Z21: 0 | AB21: =15 -> 15 | AC21: 0 | AD21: 1 | AE21: 1 | AF21: 1 | AG21: 4
A22: Atlantico | B22: CENTRO NACIONAL COLOMBO ALEMAN Nodo TICS | C22: Barrio Prado | D22: Barranquilla | E22: 0 | F22: 2 | G22: 0 | H22: 0 | I22: 0 | J22: 0 | K22: 0 | L22: 2 | M22: 0 | N22: 0 | O22: 0 | P22: 0 | Q22: 0 | R22: 0 | S22: 0 | T22: 0 | U22: 0 | V22: 0 | W22: 0 | X22: 0 | Y22: 0 | Z22: 0 | AB22: 5 | AC22: 0 | AD22: 1 | AE22: 1 | AF22: 0 | AG22: 0
A23: Atlantico | B23: CENTRO NACIONAL COLOMBO ALEMAN Nodo Refrigeraciion | C23: Carrera 10 # 7E-110 Antiguo Coliseo del Sur lipaya | D23: Barranquilla | E23: 0 | F23: 2 | G23: 0 | H23: 0 | I23: 0 | J23: 0 | K23: 0 | L23: 0 | M23: 0 | N23: 0 | O23: 0 | P23: 0 | Q23: 0 | R23: 0 | S23: 0 | T23: 0 | U23: 0 | V23: 0 | W23: 0 | X23: 0 | Y23: 0 | Z23: 0 | AB23: 13 | AC23: 0 | AD23: 1 | AE23: 1 | AF23: 1 | AG23: 2
A24: Atlantico | B24: CENTRO NACIONAL COLOMBO ALEMAN SUBSEDE MALAMBO | C24: Diagonal 18 No. 16 - 46 via al Caracolí sede metalmecanica | D24: Malambo | E24: 0 | F24: 0 | G24: 0 | H24: 0 | I24: 0 | J24: 0 | K24: 0 | L24: 0 | M24: 0 | N24: 0 | O24: 0 | P24: 0 | Q24: 0 | R24: 0 | S24: 0 | T24: 0 | U24: 0 | V24: 0 | W24: 0 | X24: 0 | Y24: 0 | Z24: 0 | AB24: 0 | AC24: 0 | AD24: 0 | AE24: 0 | AF24: 0 | AG24: 0
A25: Atlantico | B25: CENTRO NACIONAL COLOMBO ALEMAN SUBSEDE MALAMBO NUEVA | C25: Diagonal 18 No. 16 - 46 via al Caracolí sede metalmecanica | D25: Malambo | E25: 0 | F25: 3 | G25: 1 | H25: 0 | I25: 0 | J25: 0 | K25: 0 | L25: 0 | M25: 0 | N25: 0 | O25: 0 | P25: 0 | Q25: 0 | R25: 0 | S25: 0 | T25: 0 | U25: 0 | V25: 0 | W25: 0 | X25: 0 | Y25: 0 | Z25: 0 | AB25: 25 | AC25: 0 | AD25: 2 | AE25: 2 | AF25: 1 | AG25: 2
A26: Atlantico | B26: Centro Industrial y de Aviación sede hangar | C26: CIUDADELA INDUSTRIAL Caribe Verde Carrera 9G - 110 - 187 BO 11 | D26: Soledad | E26: 0 | F26: 1 | G26: 0 | H26: 0 | I26: 0 | J26: 0 | K26: 0 | L26: 0 | M26: 0 | N26: 0 | O26: 0 | P26: 0 | Q26: 0 | R26: 0 | S26: 0 | T26: 0 | U26: 0 | V26: 0 | W26: 0 | X26: 0 | Y26: 0 | Z26: 0 | AB26: 25 | AC26: 5 | AD26: 3 | AE26: 2 | AF26: 1 | AG26: 4
A27: Atlantico | B27: Centro Industrial y de Aviación | C27: Calle 30 No. 3E- 164 SUPERVISOR | D27: Barranquilla | E27: 0 | F27: 1 | G27: 0 | H27: 0 | I27: 0 | J27: 0 | K27: 0 | L27: 0 | M27: 0 | N27: 0 | O27: 0 | P27: 0 | Q27: 0 | R27: 0 | S27: 0 | T27: 0 | U27: 0 | V27: 0 | W27: 0 | X27: 0 | Y27: 0 | Z27: 0 | AB27: =42-7 -> 35 | AC27: 2 | AD27: 2 | AE27: 2 | AF27: 1 | AG27: 5
A28: Atlantico | B28: Centro Industrial y de Aviación | C28: Calle 30 No. 3E- 164 | D28: Barranquilla | E28: 0 | F28: 3 | G28: 1 | H28: 0 | I28: 0 | J28: 0 | K28: 0 | L28: 0 | M28: 0 | N28: 0 | O28: 0 | P28: 0 | Q28: 1 | R28: 0 | S28: 0 | T28: 0 | U28: 0 | V28: 0 | W28: 0 | X28: 0 | Y28: 0 | Z28: 0 | AB28: 0 | AC28: 0 | AD28: 0 | AE28: 0 | AF28: 0 | AG28: 0
A29: Atlantico | B29: Centro Industrial y de Aviación Nodo Construcción e Infraestructura | C29: Diag. 36 No. 9G 20 Villa San Pablo | D29: Barranquilla | E29: 0 | F29: 4 | G29: 0 | H29: 0 | I29: 0 | J29: 0 | K29: 0 | L29: 0 | M29: 0 | N29: 0 | O29: 0 | P29: 0 | Q29: 0 | R29: 0 | S29: 0 | T29: 0 | U29: 0 | V29: 0 | W29: 0 | X29: 0 | Y29: 0 | Z29: 0 | AB29: 21 | AC29: 4 | AD29: 1 | AE29: 0 | AF29: 1 | AG29: 2
A30: Atlantico | B30: centro de confeccion | C30: Centro Industrial y de AviaciónSEDE CENTRO REINDUSTRIALIZACIÓN ZASCA BARANOA-ATLÁNTICOCr 21 No 11-140,Barrio Manzanares Margaritas, Atlántico. | D30: Baranoa | E30: 1 | F30: 1 | G30: 0 | H30: 0 | I30: 0 | J30: 0 | K30: 0 | L30: 0 | M30: 0 | N30: 0 | O30: 0 | P30: 0 | Q30: 0 | R30: 1 | S30: 0 | T30: 0 | U30: 0 | V30: 0 | W30: 0 | X30: 0 | Y30: 0 | Z30: 0 | AB30: 16 | AD30: 1 | AE30: 1 | AG30: 1
A31: Atlantico | B31: Nodo Mobiliario | C31: Centro Industrial y de AviaciónSEDE CENTRO REINDUSTRIALIZACIÓN ZASCA BARANOA-ATLÁNTICOCr 21 No 11-140,Barrio Manzanares Margaritas, Atlántico. | D31: Galapa | E31: 0 | F31: 3 | G31: 0 | H31: 0 | I31: 0 | J31: 0 | K31: 0 | L31: 0 | M31: 0 | N31: 0 | O31: 0 | P31: 0 | Q31: 0 | R31: 0 | S31: 0 | T31: 0 | U31: 0 | V31: 0 | W31: 0 | X31: 0 | Y31: 0 | Z31: 0 | AA31: =AA36*7.5 -> 4.8987058e+09 | AB31: 16 | AD31: 1 | AE31: 1 | AG31: 1
A32: Atlantico | B32: Centro de Comercio y Servicio Nodo MULTILINGUISMO | C32: Carrera 21B, Calle 40B Esuina Barrio San José | D32: Barranquilla | E32: 0 | F32: 2 | G32: 0 | H32: 0 | I32: 0 | J32: 0 | K32: 0 | L32: 0 | M32: 0 | N32: 0 | O32: 0 | P32: 0 | Q32: 0 | R32: 0 | S32: 0 | T32: 0 | U32: 0 | V32: 0 | W32: 0 | X32: 0 | Y32: 0 | Z32: 0 | AB32: 6 | AC32: 0 | AD32: 1 | AE32: 1 | AF32: 0 | AG32: 1
A33: TOTAL REGIONAL | E33: =SUM(E7:E32) -> 3 | F33: =SUM(F7:F32) -> 60 | G33: =SUM(G7:G32) -> 3 | H33: =SUM(H7:H32) -> 0 | I33: =SUM(I7:I32) -> 0 | J33: =SUM(J7:J32) -> 0 | L33: =SUM(L7:L32) -> 4 | M33: =SUM(M7:M32) -> 0 | N33: =SUM(N7:N32) -> 2 | O33: =SUM(O7:O32) -> 0 | P33: =SUM(P7:P32) -> 0 | Q33: =SUM(Q7:Q32) -> 7 | R33: =SUM(R7:R32) -> 2 | S33: =SUM(S7:S32) -> 0 | ... Z33: =SUM(Z7:Z32) -> 0 | AA33: =SUM(E33:Z33) -> 82 | AB33: =SUM(AB7:AB32) -> 390 | AC33: =SUM(AC7:AC32) -> 23 | AD33: =SUM(AD7:AD32) -> 32 | AE33: =SUM(AE7:AE32) -> 29 | AF33: =SUM(AF7:AF32) -> 12 | AG33: =SUM(AG7:AG32) -> 38
AA34: =SUM(E34:Z34) -> 0
B35: CERTIFICADOS SENA | AA35: =SUM(E35:Z35) -> 0
A36: VALOR POR REGIOANAL | E36: =E33*E5 -> 27068580 | F36: =F33*F5 -> 5.3152849e+08 | G36: =G33*G5 -> 26576424 | H36: =H33*H5 -> 0 | I36: =I33*I5 -> 0 | J36: =J33*J5 -> 0 | L36: =L33*L5 -> 21928610 | M36: =M33*M5 -> 0 | N36: =N33*N5 -> 9397975.9 | O36: =O33*O5 -> 0 | P36: =P33*P5 -> 0 | Q36: =Q33*Q5 -> 23349638 | R36: =R33*R5 -> 9934403.7 | S36: =S33*S5 -> 0 | ... Z36: =Z33*Z5 -> 0 | AA36: =SUM(E36:Z36) -> 6.5316078e+08 | AB36: =AB33*AB5 -> 5497594.5 | AC36: =AC33*AC5 -> 1260223.7 | AD36: =AD33*AD5 -> 2246105.6 | AE36: =AE33*AE5 -> 1478032.6 | AF36: =AF33*AF5 -> 1928610.5 | AG36: =AG33*AG5 -> 2055146.5
A37: Bolivar | B37: Despacho Dirección SUPERVISOR | C37: Cartagena Km 1 Vía Turbaco | D37: Turbaco | E37: 0 | F37: 1 | G37: 0 | H37: 0 | I37: 0 | J37: 0 | K37: 0 | L37: 0 | M37: 0 | N37: 0 | O37: 0 | P37: 0 | Q37: 0 | R37: 0 | S37: 0 | T37: 0 | U37: 0 | V37: 0 | W37: 0 | X37: 0 | Y37: 0 | Z37: 0 | AB37: 0 | AC37: 0 | AD37: 0 | AE37: 0 | AF37: 0 | AG37: 0
A38: Bolivar | B38: Centro Multisectorial Ternera | C38: Cartagena Km 1 Vía Turbaco | D38: Turbaco | E38: 0 | F38: 4 | G38: 1 | H38: 0 | I38: 0 | J38: 0 | K38: 0 | L38: 0 | M38: 0 | N38: 1 | O38: 0 | P38: 0 | Q38: 0 | R38: 0 | S38: 0 | T38: 0 | U38: 0 | V38: 0 | W38: 0 | X38: 0 | Y38: 0 | Z38: 0 | AB38: 60 | AC38: 6 | AD38: 2 | AE38: 2 | AF38: 1 | AG38: 5
A39: Bolivar | B39: Centro Multisectorial Ternera | C39: Cartagena Km 1 Vía Turbaco | D39: Turbaco | E39: 0 | F39: 2 | G39: 0 | H39: 0 | I39: 0 | J39: 0 | K39: 0 | L39: 0 | M39: 0 | N39: 0 | O39: 0 | P39: 0 | Q39: 0 | R39: 0 | S39: 0 | T39: 0 | U39: 0 | V39: 0 | W39: 0 | X39: 0 | Y39: 0 | Z39: 0 | AB39: 0 | AC39: 0 | AD39: 0 | AE39: 0 | AF39: 0 | AG39: 0
A40: Bolivar | B40: Centro de Comercio y Servicios Sede Casa del Marquez | C40: Plaza de la Aduana | D40: Cartagena | E40: 0 | F40: 1 | G40: 0 | H40: 0 | I40: 0 | J40: 0 | K40: 0 | L40: 0 | M40: 0 | N40: 0 | O40: 0 | P40: 0 | Q40: 0 | R40: 0 | S40: 0 | T40: 0 | U40: 0 | V40: 0 | W40: 0 | X40: 0 | Y40: 0 | Z40: 0 | AB40: 6 | AC40: 0 | AD40: 1 | AE40: 1 | AF40: 0 | AG40: 0
...

Sheet ZONA 1 10,21 POR 16 DÍAS
H1: 1750905 | I1: 10.21 | J1: 2850
A2: COSTO DE MODALIDADES VIGILANCIA 2026 ZONA 1 | D2: TARIFAS | E2: =(($H$1*$I$1)+$J$1)/30*16 -> 9535781.4 | F2: =(($H$1*$I$1)+$J$1)/30*16 -> 9535781.4 | G2: =(($H$1*$I$1)+$J$1)/30*16 -> 9535781.4 | H2: =(($H$1*$I$1)+$J$1)/30*16 -> 9535781.4 | I2: =(($H$1*$I$1)+$J$1)/30*20/20*10 -> 5959863.4 | J2: =(($H$1*$I$1)+$J$1)/30*24/24*12 -> 7151836 | K2: =(((($H$1*$I$1)+$J$1)*0.4759/13*5)+((($H$1*$I$1)+$J$1)*0.5241/11*11))/30*16 -> 6743117.8 | L2: =(((($H$1*$I$1)+$J$1)*0.4759/13*13)+((($H$1*$I$1)+$J$1)*0.5241/11*3))/30*16 -> 5901088.3 | M2: =(((($H$1*$I$1)+$J$1)*0.4759/30*20/13*13)+((($H$1*$I$1)+$J$1)*0.5241/30*20/11*3))/20*10 -> 3688180.2 | N2: =(((($H$1*$I$1)+$J$1)*0.4759/30*24/13*13)+((($H$1*$I$1)+$J$1)*0.5241/30*24/11*3))/24*12 -> 4425816.2 | O2: =((($H$1*$I$1)+$J$1)*0.4759/13*12)/30*16 -> 4188995.4 | P2: =((($H$1*$I$1)+$J$1)*0.4759/30*20/13*12)/20*10 -> 2618122.1 | Q2: =((($H$1*$I$1)+$J$1)*0.4759/30*24/13*12)/24*12 -> 3141746.5 | R2: =(((($H$1*$I$1)+$J$1)*0.4759/13*1)+((($H$1*$I$1)+$J$1)*0.5241/11*11))/30*16 -> 5346786 | S2: =(((($H$1*$I$1)+$J$1)*0.4759/30*24/13*1)+((($H$1*$I$1)+$J$1)*0.5241/30*24/11*11))/24*12 -> 4010089.5 | T2: =(((($H$1*$I$1)+$J$1)*0.4759/13*1)+((($H$1*$I$1)+$J$1)*0.5241/11*11))/30*16 -> 5346786 | U2: =(((($H$1*$I$1)+$J$1)*0.5241/11*8))/30*16 -> 3634693.1 | V2: =(((($H$1*$I$1)+$J$1)*0.5241/11*8))/30*16 -> 3634693.1 | W2: =((($H$1*$I$1)+$J$1)*0.5241/30*20/11*8) -> 4543366.4 | X2: =((($H$1*$I$1)+$J$1)*0.4759/30*24/13*8)/24*12 -> 2094497.7 | Y2: =((($H$1*$I$1)+$J$1)*0.4759/30*20/13*8)/20*10 -> 1745414.7 | Z2: =((($H$1*$I$1)+$J$1)*0.4759/13*8)/30*16 -> 2792663.6 | AB2: =+'ZONA 1 9,77'!AB2/30*16 -> 13537.956 | AC2: =+'ZONA 1 9,77'!AC2/30*16 -> 52621.689 | AD2: =+'ZONA 1 9,77'!AD2/30*16 -> 67410.133 | AE2: =+'ZONA 1 9,77'!AE2/30*16 -> 48947.556 | AF2: =+'ZONA 1 9,77'!AF2/30*16 -> 154350.58 | AG2: =+'ZONA 1 9,77'!AG2/30*16 -> 51940.267
D3: AYS | E3: =E2*10% -> 953578.14 | F3: =F2*8% -> 762862.51 | G3: =G2*8% -> 762862.51 | H3: =H2*11% -> 1048935.9 | I3: =I2*8% -> 476789.07 | J3: =J2*8% -> 572146.88 | K3: =K2*8% -> 539449.42 | L3: =L2*8% -> 472087.06 | M3: =M2*8% -> 295054.41 | N3: =N2*8% -> 354065.3 | O3: =O2*8% -> 335119.63 | P3: =P2*8% -> 209449.77 | ... S3: =S2*8% -> 320807.16 | T3: =T2*10% -> 534678.6 | U3: =U2*10% -> 363469.31 | V3: =V2*8% -> 290775.45 | W3: =W2*8% -> 363469.31 | X3: =X2*8% -> 167559.82 | Y3: =Y2*8% -> 139633.18 | Z3: =Z2*8% -> 223413.09
D4: IVA | E4: =(E2+E3)*0.019 -> 199297.83 | F4: =(F2+F3)*0.019 -> 195674.23 | G4: =(G2+G3)*0.019 -> 195674.23 | H4: =(H2+H3)*0.019 -> 201109.63 | I4: =(I2+I3)*0.019 -> 122296.4 | J4: =(J2+J3)*0.019 -> 146755.68 | K4: =(K2+K3)*0.019 -> 138368.78 | L4: =(L2+L3)*0.019 -> 121090.33 | ... Z4: =(Z2+Z3)*0.019 -> 57305.457 | AB4: =+AB2*0.19 -> 2572.2116 | AC4: =+AC2*0.19 -> 9998.1209 | AD4: =+AD2*0.19 -> 12807.925 | AE4: =+AE2*0.19 -> 9300.0356 | AF4: =+AF2*0.19 -> 29326.61 | AG4: =+AG2*0.19 -> 9868.6507
D5: TOTAL | E5: =+E2+E3+E4 -> 10688657 | F5: =+F2+F3+F4 -> 10494318 | G5: =+G2+G3+G4 -> 10494318 | H5: =+H2+H3+H4 -> 10785827 | I5: =+I2+I3+I4 -> 6558948.8 | J5: =+J2+J3+J4 -> 7870738.6 | K5: =+K2+K3+K4 -> 7420936 | L5: =+L2+L3+L4 -> 6494265.7 | ... Z5: =+Z2+Z3+Z4 -> 3073382.1 | AB5: =+AB2+AB4 -> 16110.167 | AC5: =+AC2+AC4 -> 62619.81 | AD5: =+AD2+AD4 -> 80218.059 | AE5: =+AE2+AE4 -> 58247.591 | AF5: =+AF2+AF4 -> 183677.19 | AG5: =+AG2+AG4 -> 61808.917
A6: REGIONAL | B6: CENTRO | C6: DIRECCIÓN | D6: MUNICIPIO | E6: PUESTO 24 HORAS TODOS LOS DÍAS CON ARMA | F6: PUESTO 24 HORAS TODOS LOS DÍAS SIN ARMA | G6: PUESTO 24 HORAS MONITOREO | H6: PUESTO 24 HORAS TODOS LOS DÍAS CON CANINO | I6: PUESTO 24 HORAS LUNES A VIERNES SIN ARMA | J6: PUESTO 24 HORAS LUNES A SABADO SIN ARMA | K6: PUESTO 16 HORAS (INCLUYE 11 HORAS NOCTURNAS) TODOS LOS DÍAS SIN ARMA | L6: PUESTO 16 HORAS (INCLUYE 3 HORA NOCTURNA) TODOS LOS DÍAS SIN ARMA | M6: PUESTO 16 HORAS (INCLUYE 3 HORA NOCTURNA) LUNES A VIERNES NO INCLUYE FESTIVOS SIN ARMA | N6: PUESTO 16 HORAS (INCLUYE 3 HORA NOCTURNA) LUNES A SÁBADO NO INCLUYE FESTIVOS SIN ARMA | O6: PUESTO 12 HORAS DIURNAS TODOS LOS DÍAS SIN ARMA | P6: PUESTO 12 HORAS DIURNAS LUNES A VIERNES NO INCLUYE FESTIVOS SIN ARMA | Q6: PUESTO 12 HORAS DIURNAS LUNES A SÁBADO NO INCLUYE FESTIVOS SIN ARMA | R6: PUESTO 12 HORAS (INCLUYE 11 HORAS NOCTURNAS) TODOS LOS DIAS SIN ARMA | S6: PUESTO 12 HORAS (INCLUYE 11 HORAS NOCTURNAS) LUNES A SABADO SIN ARMA | T6: PUESTO 12 HORAS (INCLUYE 9 HORAS NOCTURNAS) TODOS LOS DIAS CON ARMA | U6: PUESTO 8 HORAS NOCTURNAS TODOS LOS DÍAS CON ARMA | V6: PUESTO 8 HORAS NOCTURNAS TODOS LOS DÍAS SIN ARMA | W6: PUESTO 8 HORAS NOCTURNAS LUNES A VIERNES SIN ARMA | X6: PUESTO 8 HORAS DIURNAS LUNES A SÁBADO NO INCLUYE FESTIVOS SIN ARMA | Y6: PUESTO 8 HORAS DIURNAS LUNES A VIERNES NO INCLUYE FESTIVOS SIN ARMA | Z6: PUESTO 8 HORAS DIURNAS TODOS LOS DIAS SIN ARMA | AB6: Cámara tipo mini domo | AC6: Cámara PTZ | AD6: DVR | AE6: Monitor | AF6: Control de visitantes y de bienes (para Regionales) | AG6: Alarma
A7: Atlantico | B7: Despacho Dirección | C7: Carrera 43 42-40 Piso 11 SUPERVISOR | D7: Barranquilla | E7: 0 | F7: 1 | G7: 0 | H7: 0 | I7: 0 | J7: 0 | K7: 0 | L7: 0 | M7: 0 | N7: 0 | O7: 0 | P7: 0 | Q7: 0 | R7: 0 | S7: 0 | T7: 0 | U7: 0 | V7: 0 | W7: 0 | X7: 0 | Y7: 0 | Z7: 0 | AB7: 0 | AC7: 0 | AD7: 0 | AE7: 0 | AF7: 0 | AG7: 0
A8: Atlantico | B8: Centro de Comercio y Servicios | C8: Carrera 43 42-40 | D8: Barranquilla | E8: 0 | F8: 2 | G8: 1 | H8: 0 | I8: 0 | J8: 0 | K8: 0 | L8: 0 | M8: 0 | N8: 0 | O8: 0 | P8: 0 | Q8: 5 | R8: 0 | S8: 0 | T8: 0 | U8: 0 | V8: 0 | W8: 0 | X8: 0 | Y8: 0 | Z8: 0 | AB8: 30 | AC8: 0 | AD8: 2 | AE8: 2 | AF8: 1 | AG8: 4
A9: Atlantico | B9: Centro de Comercio y Servicios Nodo SALUD | C9: Cra. 35 calle 32 esquina Hospital Barranquilla | D9: Barranquilla | E9: 0 | F9: 3 | G9: 0 | H9: 0 | I9: 0 | J9: 0 | K9: 0 | L9: 0 | M9: 0 | N9: 0 | O9: 0 | P9: 0 | Q9: 0 | R9: 0 | S9: 0 | T9: 0 | U9: 0 | V9: 0 | W9: 0 | X9: 0 | Y9: 0 | Z9: 0 | AB9: =30-2 -> 28 | AD9: 2 | AE9: 2 | AF9: 1 | AG9: 4
A10: Atlantico | B10: Centro de Comercio y Servicio Nodo Logística y Transporte | C10: Cra. 9 No.127 - 109 Urba. Caribe Verde | D10: Barranquilla | E10: 0 | F10: 3 | G10: 0 | H10: 0 | I10: 0 | J10: 0 | K10: 0 | L10: 0 | M10: 0 | N10: 1 | O10: 0 | P10: 0 | Q10: 0 | R10: 0 | S10: 0 | T10: 0 | U10: 0 | V10: 0 | W10: 0 | X10: 0 | Y10: 0 | Z10: 0 | AB10: 16 | AC10: 0 | AD10: 1 | AE10: 1 | AF10: 0 | AG10: 0
A11: Atlantico | B11: Centro de Comercio y Servicio Nodo Servicios Financieros | C11: Cra 15 Sur # 48-28 cayenas | D11: Barranquilla | E11: 0 | F11: 4 | G11: 0 | H11: 0 | I11: 0 | J11: 0 | K11: 0 | L11: 0 | M11: 0 | N11: 1 | O11: 0 | P11: 0 | Q11: 0 | R11: 0 | S11: 0 | T11: 0 | U11: 0 | V11: 0 | W11: 0 | X11: 0 | Y11: 0 | Z11: 0 | AB11: 8 | AC11: 0 | AD11: 1 | AE11: 1 | AF11: 0 | AG11: 0
A12: Atlantico | B12: Centro de Comercio y Servicio Nodo Servicios Administrativos | C12: Calle 47 # 6-110 Via coordialidad | D12: Barranquilla | E12: 0 | F12: 3 | G12: 0 | H12: 0 | I12: 0 | J12: 0 | K12: 0 | L12: 0 | M12: 0 | N12: 0 | O12: 0 | P12: 0 | Q12: 0 | R12: 0 | S12: 0 | T12: 0 | U12: 0 | V12: 0 | W12: 0 | X12: 0 | Y12: 0 | Z12: 0 | AB12: 4 | AC12: 0 | AD12: 1 | AE12: 1 | AF12: 0 | AG12: 0
A13: Atlantico | B13: Centro para el Desarrollo Agroecologico y Agroindustrial | C13: nodo operaciones comerciales cra 24 M con calle 48 | D13: soledad | E13: 0 | F13: 3 | G13: 0 | H13: 0 | I13: 0 | J13: 0 | K13: 0 | L13: 0 | M13: 0 | N13: 0 | O13: 0 | P13: 0 | Q13: 0 | R13: 0 | S13: 0 | T13: 0 | U13: 0 | V13: 0 | W13: 0 | X13: 0 | Y13: 0 | Z13: 0 | AB13: 8 | AD13: 1 | AE13: 1 | AG13: 1
A14: Atlantico | B14: Centro de Comercio y Servicio NODO DE HOTELERIA Y TURISMO | C14: Cra 50b # 39-86 | D14: Barranquilla | E14: 0 | F14: 3 | G14: 0 | H14: 0 | I14: 0 | J14: 0 | K14: 0 | L14: 0 | M14: 0 | N14: 0 | O14: 0 | P14: 0 | Q14: 0 | R14: 0 | S14: 0 | T14: 0 | U14: 0 | V14: 0 | W14: 0 | X14: 0 | Y14: 0 | Z14: 0 | AB14: 10 | AC14: 2 | AD14: 1 | AE14: 1 | AF14: 1 | AG14: 1
A15: Atlantico | B15: Centro de Comercio y Servicio NODO DE GASTRONOMIA Y BILINGUISMO | C15: Calle 7 1D 155 Juan de Acosta | D15: Juan de acosta | E15: 0 | F15: 2 | G15: 0 | H15: 0 | I15: 0 | J15: 0 | K15: 0 | L15: 0 | M15: 0 | N15: 0 | O15: 0 | P15: 0 | Q15: 0 | R15: 0 | S15: 0 | T15: 0 | U15: 0 | V15: 0 | W15: 0 | X15: 0 | Y15: 0 | Z15: 0 | AB15: 4 | AC15: 0 | AD15: 1 | AE15: 1 | AF15: 0 | AG15: 1
A16: Atlantico | B16: Centro para el Desarrollo Agroecologico y Agroindustrial | C16: Calle 9 No. 19-120 Barrio Santander | D16: Sabanalarga | E16: 0 | F16: 3 | G16: 0 | H16: 0 | I16: 0 | J16: 0 | K16: 0 | L16: 1 | M16: 0 | N16: 0 | O16: 0 | P16: 0 | Q16: 0 | R16: 1 | S16: 0 | T16: 0 | U16: 0 | V16: 0 | W16: 0 | X16: 0 | Y16: 0 | Z16: 0 | AB16: =28 -> 28 | AC16: 4 | AD16: 1 | AE16: 1 | AF16: 1 | AG16: =4-4 -> 0
A17: Atlantico | B17: Centro para el Desarrollo Agroecologico y Agroindustrial FINCA EL CANEY | C17: Kilómetro 35 Margen Oriental Carretera La Cordialidad A 3 Kilómetro. | D17: Sabanalarga | E17: 2 | F17: 3 | G17: 0 | H17: 0 | I17: 0 | J17: 0 | K17: 0 | L17: 0 | M17: 0 | N17: 0 | O17: 0 | P17: 0 | Q17: 0 | R17: 0 | S17: 0 | T17: 0 | U17: 0 | V17: 0 | W17: 0 | X17: 0 | Y17: 0 | Z17: 0 | AB17: 32 | AC17: 5 | AD17: 3 | AE17: 3 | AF17: 1 | AG17: =3-3 -> 0
A18: Atlantico | B18: Centro para el Desarrollo Agroecologico y Agroindustrial | C18: Kilometro 2-101 Vía Luruaco Cartagena | D18: LURUACO | E18: 0 | F18: 2 | G18: 0 | H18: 0 | I18: 0 | J18: 0 | K18: 0 | L18: 0 | M18: 0 | N18: 0 | O18: 0 | P18: 0 | Q18: 0 | R18: 0 | S18: 0 | T18: 0 | U18: 0 | V18: 0 | W18: 0 | X18: 0 | Y18: 0 | Z18: 0 | AB18: 4 | AD18: 1 | AG18: 1
A19: Atlantico | B19: Centro para el Desarrollo Agroecologico y Agroindustrial NODO DE INDUSTRIAS CREATIVAS | C19: Carrera 54 # 49 - 09 | D19: Barranquilla | E19: 0 | F19: 2 | G19: 0 | H19: 0 | I19: 0 | J19: 0 | K19: 0 | L19: 0 | M19: 0 | N19: 0 | O19: 0 | P19: 0 | Q19: 0 | R19: 0 | S19: 0 | T19: 0 | U19: 0 | V19: 0 | W19: 0 | X19: 0 | Y19: 0 | Z19: 0 | AB19: 8 | AC19: 0 | AD19: 1 | AE19: 1 | AF19: 0 | AG19: =1-1 -> 0
A20: Atlantico | B20: CENTRO NACIONAL COLOMBO ALEMAN | C20: Calle 30 No. 3E-164 | D20: Barranquilla | E20: 0 | F20: 2 | G20: 0 | H20: 0 | I20: 0 | J20: 0 | K20: 0 | L20: 1 | M20: 0 | N20: 0 | O20: 0 | P20: 0 | Q20: 1 | R20: 0 | S20: 0 | T20: 0 | U20: 0 | V20: 0 | W20: 0 | X20: 0 | Y20: 0 | Z20: 0 | AB20: =41-8 -> 33 | AC20: 1 | AD20: 2 | AE20: 2 | AF20: 1 | AG20: 4
A21: Atlantico | B21: CENTRO NACIONAL COLOMBO ALEMAN Nodo ENERGIAS | C21: Cra 23 con calle 28 Rebolo | D21: Barranquilla | E21: 0 | F21: 2 | G21: 0 | H21: 0 | I21: 0 | J21: 0 | K21: 0 | L21: 0 | M21: 0 | N21: 0 | O21: 0 | P21: 0 | Q21: 0 | R21: 0 | S21: 0 | T21: 0 | U21: 0 | V21: 1 | W21: 0 | X21: 0 | Y21: 0 | Z21: 0 | AB21: =15 -> 15 | AC21: 0 | AD21: 1 | AE21: 1 | AF21: 1 | AG21: 4
A22: Atlantico | B22: CENTRO NACIONAL COLOMBO ALEMAN Nodo TICS | C22: Barrio Prado | D22: Barranquilla | E22: 0 | F22: 2 | G22: 0 | H22: 0 | I22: 0 | J22: 0 | K22: 0 | L22: 2 | M22: 0 | N22: 0 | O22: 0 | P22: 0 | Q22: 0 | R22: 0 | S22: 0 | T22: 0 | U22: 0 | V22: 0 | W22: 0 | X22: 0 | Y22: 0 | Z22: 0 | AB22: 5 | AC22: 0 | AD22: 1 | AE22: 1 | AF22: 0 | AG22: 0
A23: Atlantico | B23: CENTRO NACIONAL COLOMBO ALEMAN Nodo Refrigeraciion | C23: Carrera 10 # 7E-110 Antiguo Coliseo del Sur lipaya | D23: Barranquilla | E23: 0 | F23: 2 | G23: 0 | H23: 0 | I23: 0 | J23: 0 | K23: 0 | L23: 0 | M23: 0 | N23: 0 | O23: 0 | P23: 0 | Q23: 0 | R23: 0 | S23: 0 | T23: 0 | U23: 0 | V23: 0 | W23: 0 | X23: 0 | Y23: 0 | Z23: 0 | AB23: 13 | AC23: 0 | AD23: 1 | AE23: 1 | AF23: 1 | AG23: 2
A24: Atlantico | B24: CENTRO NACIONAL COLOMBO ALEMAN SUBSEDE MALAMBO | C24: Diagonal 18 No. 16 - 46 via al Caracolí sede metalmecanica | D24: Malambo | E24: 0 | F24: 0 | G24: 0 | H24: 0 | I24: 0 | J24: 0 | K24: 0 | L24: 0 | M24: 0 | N24: 0 | O24: 0 | P24: 0 | Q24: 0 | R24: 0 | S24: 0 | T24: 0 | U24: 0 | V24: 0 | W24: 0 | X24: 0 | Y24: 0 | Z24: 0 | AB24: 0 | AC24: 0 | AD24: 0 | AE24: 0 | AF24: 0 | AG24: 0
A25: Atlantico | B25: CENTRO NACIONAL COLOMBO ALEMAN SUBSEDE MALAMBO NUEVA | C25: Diagonal 18 No. 16 - 46 via al Caracolí sede metalmecanica | D25: Malambo | E25: 0 | F25: 3 | G25: 1 | H25: 0 | I25: 0 | J25: 0 | K25: 0 | L25: 0 | M25: 0 | N25: 0 | O25: 0 | P25: 0 | Q25: 0 | R25: 0 | S25: 0 | T25: 0 | U25: 0 | V25: 0 | W25: 0 | X25: 0 | Y25: 0 | Z25: 0 | AB25: 25 | AC25: 0 | AD25: 2 | AE25: 2 | AF25: 1 | AG25: 2
A26: Atlantico | B26: Centro Industrial y de Aviación sede hangar | C26: CIUDADELA INDUSTRIAL Caribe Verde Carrera 9G - 110 - 187 BO 11 | D26: Soledad | E26: 0 | F26: 1 | G26: 0 | H26: 0 | I26: 0 | J26: 0 | K26: 0 | L26: 0 | M26: 0 | N26: 0 | O26: 0 | P26: 0 | Q26: 0 | R26: 0 | S26: 0 | T26: 0 | U26: 0 | V26: 0 | W26: 0 | X26: 0 | Y26: 0 | Z26: 0 | AB26: 25 | AC26: 5 | AD26: 3 | AE26: 2 | AF26: 1 | AG26: 4
A27: Atlantico | B27: Centro Industrial y de Aviación | C27: Calle 30 No. 3E- 164 SUPERVISOR | D27: Barranquilla | E27: 0 | F27: 1 | G27: 0 | H27: 0 | I27: 0 | J27: 0 | K27: 0 | L27: 0 | M27: 0 | N27: 0 | O27: 0 | P27: 0 | Q27: 0 | R27: 0 | S27: 0 | T27: 0 | U27: 0 | V27: 0 | W27: 0 | X27: 0 | Y27: 0 | Z27: 0 | AB27: =42-7 -> 35 | AC27: 2 | AD27: 2 | AE27: 2 | AF27: 1 | AG27: 5
A28: Atlantico | B28: Centro Industrial y de Aviación | C28: Calle 30 No. 3E- 164 | D28: Barranquilla | E28: 0 | F28: 3 | G28: 1 | H28: 0 | I28: 0 | J28: 0 | K28: 0 | L28: 0 | M28: 0 | N28: 0 | O28: 0 | P28: 0 | Q28: 1 | R28: 0 | S28: 0 | T28: 0 | U28: 0 | V28: 0 | W28: 0 | X28: 0 | Y28: 0 | Z28: 0 | AB28: 0 | AC28: 0 | AD28: 0 | AE28: 0 | AF28: 0 | AG28: 0
A29: Atlantico | B29: Centro Industrial y de Aviación Nodo Construcción e Infraestructura | C29: Diag. 36 No. 9G 20 Villa San Pablo | D29: Barranquilla | E29: 0 | F29: 4 | G29: 0 | H29: 0 | I29: 0 | J29: 0 | K29: 0 | L29: 0 | M29: 0 | N29: 0 | O29: 0 | P29: 0 | Q29: 0 | R29: 0 | S29: 0 | T29: 0 | U29: 0 | V29: 0 | W29: 0 | X29: 0 | Y29: 0 | Z29: 0 | AB29: 21 | AC29: 4 | AD29: 1 | AE29: 0 | AF29: 1 | AG29: 2
A30: Atlantico | B30: centro de confeccion | C30: Centro Industrial y de AviaciónSEDE CENTRO REINDUSTRIALIZACIÓN ZASCA BARANOA-ATLÁNTICOCr 21 No 11-140,Barrio Manzanares Margaritas, Atlántico. | D30: Baranoa | E30: 1 | F30: 1 | G30: 0 | H30: 0 | I30: 0 | J30: 0 | K30: 0 | L30: 0 | M30: 0 | N30: 0 | O30: 0 | P30: 0 | Q30: 0 | R30: 1 | S30: 0 | T30: 0 | U30: 0 | V30: 0 | W30: 0 | X30: 0 | Y30: 0 | Z30: 0 | AB30: 16 | AD30: 1 | AE30: 1 | AG30: 1
A31: Atlantico | B31: Nodo Mobiliario | C31: Centro Industrial y de AviaciónSEDE CENTRO REINDUSTRIALIZACIÓN ZASCA BARANOA-ATLÁNTICOCr 21 No 11-140,Barrio Manzanares Margaritas, Atlántico. | D31: Galapa | E31: 0 | F31: 3 | G31: 0 | H31: 0 | I31: 0 | J31: 0 | K31: 0 | L31: 0 | M31: 0 | N31: 0 | O31: 0 | P31: 0 | Q31: 0 | R31: 0 | S31: 0 | T31: 0 | U31: 0 | V31: 0 | W31: 0 | X31: 0 | Y31: 0 | Z31: 0 | AA31: =AA36*7.5 -> 5.7667343e+09 | AB31: 16 | AD31: 1 | AE31: 1 | AG31: 1
A32: Atlantico | B32: Centro de Comercio y Servicio Nodo MULTILINGUISMO | C32: Carrera 21B, Calle 40B Esuina Barrio San José | D32: Barranquilla | E32: 0 | F32: 2 | G32: 0 | H32: 0 | I32: 0 | J32: 0 | K32: 0 | L32: 0 | M32: 0 | N32: 0 | O32: 0 | P32: 0 | Q32: 0 | R32: 0 | S32: 0 | T32: 0 | U32: 0 | V32: 0 | W32: 0 | X32: 0 | Y32: 0 | Z32: 0 | AB32: 6 | AC32: 0 | AD32: 1 | AE32: 1 | AF32: 0 | AG32: 1
A33: TOTAL REGIONAL | E33: =SUM(E7:E32) -> 3 | F33: =SUM(F7:F32) -> 60 | G33: =SUM(G7:G32) -> 3 | H33: =SUM(H7:H32) -> 0 | I33: =SUM(I7:I32) -> 0 | J33: =SUM(J7:J32) -> 0 | L33: =SUM(L7:L32) -> 4 | M33: =SUM(M7:M32) -> 0 | N33: =SUM(N7:N32) -> 2 | O33: =SUM(O7:O32) -> 0 | P33: =SUM(P7:P32) -> 0 | Q33: =SUM(Q7:Q32) -> 7 | R33: =SUM(R7:R32) -> 2 | S33: =SUM(S7:S32) -> 0 | ... Z33: =SUM(Z7:Z32) -> 0 | AA33: =SUM(E33:Z33) -> 82 | AB33: =SUM(AB7:AB32) -> 390 | AC33: =SUM(AC7:AC32) -> 23 | AD33: =SUM(AD7:AD32) -> 32 | AE33: =SUM(AE7:AE32) -> 29 | AF33: =SUM(AF7:AF32) -> 12 | AG33: =SUM(AG7:AG32) -> 38
AA34: =SUM(E34:Z34) -> 0
B35: CERTIFICADOS SENA | AA35: =SUM(E35:Z35) -> 0
A36: VALOR POR REGIOANAL | E36: =E33*E5 -> 32065972 | F36: =F33*F5 -> 6.2965909e+08 | G36: =G33*G5 -> 31482954 | H36: =H33*H5 -> 0 | I36: =I33*I5 -> 0 | J36: =J33*J5 -> 0 | L36: =L33*L5 -> 25977063 | M36: =M33*M5 -> 0 | N36: =N33*N5 -> 9741398.5 | O36: =O33*O5 -> 0 | P36: =P33*P5 -> 0 | Q36: =Q33*Q5 -> 24202884 | R36: =R33*R5 -> 11768490 | S36: =S33*S5 -> 0 | ... Z36: =Z33*Z5 -> 0 | AA36: =SUM(E36:Z36) -> 7.688979e+08 | AB36: =AB33*AB5 -> 6282965.2 | AC36: =AC33*AC5 -> 1440255.6 | AD36: =AD33*AD5 -> 2566977.9 | AE36: =AE33*AE5 -> 1689180.1 | AF36: =AF33*AF5 -> 2204126.3 | AG36: =AG33*AG5 -> 2348738.9
A37: Bolivar | B37: Despacho Dirección SUPERVISOR | C37: Cartagena Km 1 Vía Turbaco | D37: Turbaco | E37: 0 | F37: 1 | G37: 0 | H37: 0 | I37: 0 | J37: 0 | K37: 0 | L37: 0 | M37: 0 | N37: 0 | O37: 0 | P37: 0 | Q37: 0 | R37: 0 | S37: 0 | T37: 0 | U37: 0 | V37: 0 | W37: 0 | X37: 0 | Y37: 0 | Z37: 0 | AB37: 0 | AC37: 0 | AD37: 0 | AE37: 0 | AF37: 0 | AG37: 0
A38: Bolivar | B38: Centro Multisectorial Ternera | C38: Cartagena Km 1 Vía Turbaco | D38: Turbaco | E38: 0 | F38: 4 | G38: 1 | H38: 0 | I38: 0 | J38: 0 | K38: 0 | L38: 0 | M38: 0 | N38: 1 | O38: 0 | P38: 0 | Q38: 0 | R38: 0 | S38: 0 | T38: 0 | U38: 0 | V38: 0 | W38: 0 | X38: 0 | Y38: 0 | Z38: 0 | AB38: 60 | AC38: 6 | AD38: 2 | AE38: 2 | AF38: 1 | AG38: 5
A39: Bolivar | B39: Centro Multisectorial Ternera | C39: Cartagena Km 1 Vía Turbaco | D39: Turbaco | E39: 0 | F39: 2 | G39: 0 | H39: 0 | I39: 0 | J39: 0 | K39: 0 | L39: 0 | M39: 0 | N39: 0 | O39: 0 | P39: 0 | Q39: 0 | R39: 0 | S39: 0 | T39: 0 | U39: 0 | V39: 0 | W39: 0 | X39: 0 | Y39: 0 | Z39: 0 | AB39: 0 | AC39: 0 | AD39: 0 | AE39: 0 | AF39: 0 | AG39: 0
A40: Bolivar | B40: Centro de Comercio y Servicios Sede Casa del Marquez | C40: Plaza de la Aduana | D40: Cartagena | E40: 0 | F40: 1 | G40: 0 | H40: 0 | I40: 0 | J40: 0 | K40: 0 | L40: 0 | M40: 0 | N40: 0 | O40: 0 | P40: 0 | Q40: 0 | R40: 0 | S40: 0 | T40: 0 | U40: 0 | V40: 0 | W40: 0 | X40: 0 | Y40: 0 | Z40: 0 | AB40: 6 | AC40: 0 | AD40: 1 | AE40: 1 | AF40: 0 | AG40: 0
...

Sheet ZONA 1 10,21
H1: 1750905 | I1: 10.21 | J1: 2850
A2: COSTO DE MODALIDADES VIGILANCIA 2026 ZONA 1 | D2: TARIFAS | E2: =(($H$1*$I$1)+$J$1) -> 17879590 | F2: =(($H$1*$I$1)+$J$1) -> 17879590 | G2: =(($H$1*$I$1)+$J$1) -> 17879590 | H2: =(($H$1*$I$1)+$J$1) -> 17879590 | I2: =(($H$1*$I$1)+$J$1)/30*20 -> 11919727 | J2: =(($H$1*$I$1)+$J$1)/30*24 -> 14303672 | K2: =((($H$1*$I$1)+$J$1)*0.4759/13*5)+((($H$1*$I$1)+$J$1)*0.5241/11*11) -> 12643346 | L2: =((($H$1*$I$1)+$J$1)*0.4759/13*13)+((($H$1*$I$1)+$J$1)*0.5241/11*3) -> 11064540 | M2: =((($H$1*$I$1)+$J$1)*0.4759/30*20/13*13)+((($H$1*$I$1)+$J$1)*0.5241/30*20/11*3) -> 7376360.3 | N2: =((($H$1*$I$1)+$J$1)*0.4759/30*24/13*13)+((($H$1*$I$1)+$J$1)*0.5241/30*24/11*3) -> 8851632.4 | O2: =(($H$1*$I$1)+$J$1)*0.4759/13*12 -> 7854366.4 | P2: =(($H$1*$I$1)+$J$1)*0.4759/30*20/13*12 -> 5236244.2 | Q2: =(($H$1*$I$1)+$J$1)*0.4759/30*24/13*12 -> 6283493.1 | R2: =((($H$1*$I$1)+$J$1)*0.4759/13*1)+((($H$1*$I$1)+$J$1)*0.5241/11*11) -> 10025224 | S2: =((($H$1*$I$1)+$J$1)*0.4759/30*24/13*1)+((($H$1*$I$1)+$J$1)*0.5241/30*24/11*11) -> 8020178.9 | T2: =((($H$1*$I$1)+$J$1)*0.4759/13*1)+((($H$1*$I$1)+$J$1)*0.5241/11*11) -> 10025224 | U2: =((($H$1*$I$1)+$J$1)*0.5241/11*8) -> 6815049.6 | V2: =((($H$1*$I$1)+$J$1)*0.5241/11*8) -> 6815049.6 | W2: =((($H$1*$I$1)+$J$1)*0.5241/30*20/11*8) -> 4543366.4 | X2: =(($H$1*$I$1)+$J$1)*0.4759/30*24/13*8 -> 4188995.4 | Y2: =(($H$1*$I$1)+$J$1)*0.4759/30*20/13*8 -> 3490829.5 | Z2: =(($H$1*$I$1)+$J$1)*0.4759/13*8 -> 5236244.2 | AB2: =+'ZONA 1 9,77'!AB2 -> 25383.667 | AC2: =+'ZONA 1 9,77'!AC2 -> 98665.667 | AD2: =+'ZONA 1 9,77'!AD2 -> 126394 | AE2: =+'ZONA 1 9,77'!AE2 -> 91776.667 | AF2: =+'ZONA 1 9,77'!AF2 -> 289407.33 | AG2: =+'ZONA 1 9,77'!AG2 -> 97388
D3: AYS | E3: =E2*10% -> 1787959 | F3: =F2*8% -> 1430367.2 | G3: =G2*8% -> 1430367.2 | H3: =H2*11% -> 1966754.9 | I3: =I2*8% -> 953578.14 | J3: =J2*8% -> 1144293.8 | K3: =K2*8% -> 1011467.7 | L3: =L2*8% -> 885163.24 | M3: =M2*8% -> 590108.83 | N3: =N2*8% -> 708130.59 | O3: =O2*8% -> 628349.31 | P3: =P2*8% -> 418899.54 | ... S3: =S2*8% -> 641614.32 | T3: =T2*10% -> 1002522.4 | U3: =U2*10% -> 681504.96 | V3: =V2*8% -> 545203.96 | W3: =W2*8% -> 363469.31 | X3: =X2*8% -> 335119.63 | Y3: =Y2*8% -> 279266.36 | Z3: =Z2*8% -> 418899.54
D4: IVA | E4: =(E2+E3)*0.019 -> 373683.43 | F4: =(F2+F3)*0.019 -> 366889.19 | G4: =(G2+G3)*0.019 -> 366889.19 | H4: =(H2+H3)*0.019 -> 377080.55 | I4: =(I2+I3)*0.019 -> 244592.79 | J4: =(J2+J3)*0.019 -> 293511.35 | K4: =(K2+K3)*0.019 -> 259441.46 | L4: =(L2+L3)*0.019 -> 227044.37 | ... Z4: =(Z2+Z3)*0.019 -> 107447.73 | AB4: =+AB2*0.19 -> 4822.8967 | AC4: =+AC2*0.19 -> 18746.477 | AD4: =+AD2*0.19 -> 24014.86 | AE4: =+AE2*0.19 -> 17437.567 | AF4: =+AF2*0.19 -> 54987.393 | AG4: =+AG2*0.19 -> 18503.72
D5: TOTAL | E5: =+E2+E3+E4 -> 20041232 | F5: =+F2+F3+F4 -> 19676846 | G5: =+G2+G3+G4 -> 19676846 | H5: =+H2+H3+H4 -> 20223426 | I5: =+I2+I3+I4 -> 13117898 | J5: =+J2+J3+J4 -> 15741477 | K5: =+K2+K3+K4 -> 13914255 | L5: =+L2+L3+L4 -> 12176748 | ... Z5: =+Z2+Z3+Z4 -> 5762591.5 | AB5: =+AB2+AB4 -> 30206.563 | AC5: =+AC2+AC4 -> 117412.14 | AD5: =+AD2+AD4 -> 150408.86 | AE5: =+AE2+AE4 -> 109214.23 | AF5: =+AF2+AF4 -> 344394.73 | AG5: =+AG2+AG4 -> 115891.72
A6: REGIONAL | B6: CENTRO | C6: DIRECCIÓN | D6: MUNICIPIO | E6: PUESTO 24 HORAS TODOS LOS DÍAS CON ARMA | F6: PUESTO 24 HORAS TODOS LOS DÍAS SIN ARMA | G6: PUESTO 24 HORAS MONITOREO | H6: PUESTO 24 HORAS TODOS LOS DÍAS CON CANINO | I6: PUESTO 24 HORAS LUNES A VIERNES SIN ARMA | J6: PUESTO 24 HORAS LUNES A SABADO SIN ARMA | K6: PUESTO 16 HORAS (INCLUYE 11 HORAS NOCTURNAS) TODOS LOS DÍAS SIN ARMA | L6: PUESTO 16 HORAS (INCLUYE 3 HORA NOCTURNA) TODOS LOS DÍAS SIN ARMA | M6: PUESTO 16 HORAS (INCLUYE 3 HORA NOCTURNA) LUNES A VIERNES NO INCLUYE FESTIVOS SIN ARMA | N6: PUESTO 16 HORAS (INCLUYE 3 HORA NOCTURNA) LUNES A SÁBADO NO INCLUYE FESTIVOS SIN ARMA | O6: PUESTO 12 HORAS DIURNAS TODOS LOS DÍAS SIN ARMA | P6: PUESTO 12 HORAS DIURNAS LUNES A VIERNES NO INCLUYE FESTIVOS SIN ARMA | Q6: PUESTO 12 HORAS DIURNAS LUNES A SÁBADO NO INCLUYE FESTIVOS SIN ARMA | R6: PUESTO 12 HORAS (INCLUYE 11 HORAS NOCTURNAS) TODOS LOS DIAS SIN ARMA | S6: PUESTO 12 HORAS (INCLUYE 11 HORAS NOCTURNAS) LUNES A SABADO SIN ARMA | T6: PUESTO 12 HORAS (INCLUYE 9 HORAS NOCTURNAS) TODOS LOS DIAS CON ARMA | U6: PUESTO 8 HORAS NOCTURNAS TODOS LOS DÍAS CON ARMA | V6: PUESTO 8 HORAS NOCTURNAS TODOS LOS DÍAS SIN ARMA | W6: PUESTO 8 HORAS NOCTURNAS LUNES A VIERNES SIN ARMA | X6: PUESTO 8 HORAS DIURNAS LUNES A SÁBADO NO INCLUYE FESTIVOS SIN ARMA | Y6: PUESTO 8 HORAS DIURNAS LUNES A VIERNES NO INCLUYE FESTIVOS SIN ARMA | Z6: PUESTO 8 HORAS DIURNAS TODOS LOS DIAS SIN ARMA | AB6: Cámara tipo mini domo | AC6: Cámara PTZ | AD6: DVR | AE6: Monitor | AF6: Control de visitantes y de bienes (para Regionales) | AG6: Alarma
A7: Atlantico | B7: Despacho Dirección | C7: Carrera 43 42-40 Piso 11 SUPERVISOR | D7: Barranquilla | E7: 0 | F7: 1 | G7: 0 | H7: 0 | I7: 0 | J7: 0 | K7: 0 | L7: 0 | M7: 0 | N7: 0 | O7: 0 | P7: 0 | Q7: 0 | R7: 0 | S7: 0 | T7: 0 | U7: 0 | V7: 0 | W7: 0 | X7: 0 | Y7: 0 | Z7: 0 | AB7: 0 | AC7: 0 | AD7: 0 | AE7: 0 | AF7: 0 | AG7: 0
A8: Atlantico | B8: Centro de Comercio y Servicios | C8: Carrera 43 42-40 | D8: Barranquilla | E8: 0 | F8: 2 | G8: 1 | H8: 0 | I8: 0 | J8: 0 | K8: 0 | L8: 0 | M8: 0 | N8: 0 | O8: 0 | P8: 0 | Q8: 5 | R8: 0 | S8: 0 | T8: 0 | U8: 0 | V8: 0 | W8: 0 | X8: 0 | Y8: 0 | Z8: 0 | AB8: 30 | AC8: 0 | AD8: 2 | AE8: 2 | AF8: 1 | AG8: 4
A9: Atlantico | B9: Centro de Comercio y Servicios Nodo SALUD | C9: Cra. 35 calle 32 esquina Hospital Barranquilla | D9: Barranquilla | E9: 0 | F9: 3 | G9: 0 | H9: 0 | I9: 0 | J9: 0 | K9: 0 | L9: 0 | M9: 0 | N9: 0 | O9: 0 | P9: 0 | Q9: 0 | R9: 0 | S9: 0 | T9: 0 | U9: 0 | V9: 0 | W9: 0 | X9: 0 | Y9: 0 | Z9: 0 | AB9: =30-2 -> 28 | AD9: 2 | AE9: 2 | AF9: 1 | AG9: 4
