Workbook
Name _Hlk127257397: 'CÓDIGOS UNSPSC'!#REF!
Name _Hlk92525671: 'CÓDIGOS UNSPSC'!$A$3

Sheet CÓDIGOS UNSPSC
A3: CLASIFICACIÓN UNSPSC | B3: DESCRIPCIÓN
A4: 31162800 | B4: Ferretería en general
A5: 31211500 | B5: Pinturas y tapa poros
A6: 30111600 | B6: Cemento o cal
A7: 31211900 | B7: Aplicadores de pintura y accesorios para pintar
A8: 30151500 | B8: Material para tejados y techos
A9: 30161700 | B9: Materiales para acabado de interiores
A10: 30171500 | B10: Puertas
A11: 30181500 | B11: Porcelana sanitaria
A12: 30181700 | B12: Grifos
A13: 30181800 | B13: Cabezas, chorros y partes y accesorios de grifos y duchas
A14: 31201500 | B14: Cinta adhesiva
A15: 47131600 | B15: Escobas, traperos, cepillos y accesorios
... A23: 30103600 | B23: Productos estructurales

Sheet Cotización 1
A2: COTIZACIÓN 1 JHAN HARLES
A3: ITEM | B3: ARTICULO | C3: CANT | D3: V/UND
A4: 1 | B4: Sifon lavamanos | C4: 1 | D4: 39500
A5: 2 | B5: Llave lavamanos | C5: 1 | D5: 52750
A6: 3 | B6: Registro completo lavamanos | C6: 1 | D6: 36500
A7: 4 | B7: Manguera de abasto completo sanitario | C7: 1 | D7: 36500
A8: 5 | B8: Llave terminal de ½ con rosca | C8: 1 | D8: 60000
A9: 6 | B9: Cemento gris (bulto) x 50kg | C9: 1 | D9: 65000
A10: 7 | B10: Pintura a base de aceite x galón | C10: 1 | D10: 119000
A11: 8 | B11: Pintura a base de agua x cuñete | C11: 1 | D11: 369000
A12: 9 | B12: Brocha de 2 pulgadas | C12: 1 | D12: 17000
A13: 10 | B13: Brocha de 4 pulgadas | C13: 1 | D13: 32000
A14: 11 | B14: Tubo PVC de ½ pulgada x 6 metros | C14: 1 | D14: 35000
A15: 12 | B15: Tubo PVC de 1 pulgada x 6 metros | C15: 1 | D15: 59000
... A69: 66 | B69: Almadana de 6 libras | C69: 1 | D69: 137000
A70: VALOR TOTAL | D70: 49500000

Sheet Cotización 2
A2: COTIZACIÓN
A3: ITEM | B3: ARTICULO | C3: CANT | D3: V/UND
A4: 1 | B4: Sifon lavamanos | C4: 1 | D4: 38500
A5: 2 | B5: Llave lavamanos | C5: 1 | D5: 51750
A6: 3 | B6: Registro completo lavamanos | C6: 1 | D6: 35500
A7: 4 | B7: Manguera de abasto completo sanitario | C7: 1 | D7: 35500
A8: 5 | B8: Llave terminal de ½ con rosca | C8: 1 | D8: 59000
A9: 6 | B9: Cemento gris (bulto) x 50kg | C9: 1 | D9: 64000
A10: 7 | B10: Pintura a base de aceite x galón | C10: 1 | D10: 118000
A11: 8 | B11: Pintura a base de agua x cuñete | C11: 1 | D11: 368000
A12: 9 | B12: Brocha de 2 pulgadas | C12: 1 | D12: 16000
A13: 10 | B13: Brocha de 4 pulgadas | C13: 1 | D13: 31000
A14: 11 | B14: Tubo PVC de ½ pulgada x 6 metros | C14: 1 | D14: 34000
A15: 12 | B15: Tubo PVC de 1 pulgada x 6 metros | C15: 1 | D15: 58000
... A67: 64 | B67: Martillo | C67: 1 | D67: 58000
A68: 65 | B68: Malla en nylon 100% de alta resistencia con bordado para mayor soporte | D68: 10000
A69: 66 | B69: Almadana de 6 libras | C69: 1 | D69: 136000
A70: VALOR TOTAL | D70: 48500000

Sheet Consolidado
A2: PRESUPUESTO
A3: ITEM | B3: ARTICULO | C3: CANT | D3: V/UND
A4: 1 | B4: Sifon lavamanos | C4: 1 | D4: =AVERAGE('Cotización 1'!D4,'Cotización 2'!D4) -> 39000
A5: 2 | B5: Llave lavamanos | C5: 1 | D5: =AVERAGE('Cotización 1'!D5,'Cotización 2'!D5) -> 52250
A6: 3 | B6: Registro completo lavamanos | C6: 1 | D6: =AVERAGE('Cotización 1'!D6,'Cotización 2'!D6) -> 36000
A7: 4 | B7: Manguera de abasto completo sanitario | C7: 1 | D7: =AVERAGE('Cotización 1'!D7,'Cotización 2'!D7) -> 36000
A8: 5 | B8: Llave terminal de ½ con rosca | C8: 1 | D8: =AVERAGE('Cotización 1'!D8,'Cotización 2'!D8) -> 59500
A9: 6 | B9: Cemento gris (bulto) x 50kg | C9: 1 | D9: =AVERAGE('Cotización 1'!D9,'Cotización 2'!D9) -> 64500
A10: 7 | B10: Pintura a base de aceite x galón | C10: 1 | D10: =AVERAGE('Cotización 1'!D10,'Cotización 2'!D10) -> 118500
A11: 8 | B11: Pintura a base de agua x cuñete | C11: 1 | D11: =AVERAGE('Cotización 1'!D11,'Cotización 2'!D11) -> 368500
A12: 9 | B12: Brocha de 2 pulgadas | C12: 1 | D12: =AVERAGE('Cotización 1'!D12,'Cotización 2'!D12) -> 16500
A13: 10 | B13: Brocha de 4 pulgadas | C13: 1 | D13: =AVERAGE('Cotización 1'!D13,'Cotización 2'!D13) -> 31500
A14: 11 | B14: Tubo PVC de ½ pulgada x 6 metros | C14: 1 | D14: =AVERAGE('Cotización 1'!D14,'Cotización 2'!D14) -> 34500
A15: 12 | B15: Tubo PVC de 1 pulgada x 6 metros | C15: 1 | D15: =AVERAGE('Cotización 1'!D15,'Cotización 2'!D15) -> 58500
... A69: 66 | B69: Almadana de 6 libras | C69: 1 | D69: =AVERAGE('Cotización 1'!D69,'Cotización 2'!D69) -> 136500
A70: VALOR TOTAL | D70: =
D71: =SUM(D4:D69) -> 9271025
