Workbook
Name _Toc8053695: 'Requisitos Habilitantes'!$B$65
Name _Toc8053696: 'Requisitos Habilitantes'!$B$66
Name _Toc8053697: 'Requisitos Habilitantes'!$B$67
Name _Toc8053698: 'Requisitos Habilitantes'!$B$68
Name _Toc8053699: 'Requisitos Habilitantes'!$B$69
Name _Toc8053700: 'Requisitos Habilitantes'!$B$70
Name _Toc8053701: 'Requisitos Habilitantes'!$B$71
Name _Toc8053702: 'Requisitos Habilitantes'!$B$72
Name _Toc8053703: 'Requisitos Habilitantes'!$B$73
Name _Toc8053704: 'Requisitos Habilitantes'!$B$74
Name _Toc8053705: 'Requisitos Habilitantes'!$B$75
Name _Toc8053706: 'Requisitos Habilitantes'!$B$76
Name _Toc8053707: 'Requisitos Habilitantes'!$B$77
Name _Toc8053708: 'Requisitos Habilitantes'!$B$78
Name _Toc8053709: 'Requisitos Habilitantes'!$B$79
Name totalporciento: [1]U.Andes!#REF!
Name totalporciento: [2]U.Andes!#REF!
Name totalporciento: [2]U.Andes!#REF!
Name totalporciento: [1]U.Andes!#REF!
Name totalporciento: [1]U.Andes!#REF!
Name totalporciento: [1]U.Andes!#REF!
Name totalporciento: [1]U.Andes!#REF!
Name totalporciento: [1]U.Andes!#REF!
Name totalporciento: [1]U.Andes!#REF!
Name totalporciento: [2]U.Andes!#REF!
Name totalporciento: [1]U.Andes!#REF!
Name totalporciento: [2]U.Andes!#REF!
Name totalporciento: [1]U.Andes!#REF!

Sheet Proponente
B2: República de Colombia Instituto Colombiano de Bienestar Familiar Cecilia de la Fuente de Lleras Subdirección de Sistemas Integrados de Información
B7: NRO. DEL PROCESO: ICBF-CMA-008-2020SEN
B8: Realizar la Interventoría técnica, administrativa, financiera y jurídica a la ejecución del contrato cuyo objeto es “Prestar el servicio integral de desarrollo y mantenimiento de los sistemas de información que soportan los procesos del Instituto Colombiano de Bienestar Familiar – ICBF, bajo la modalidad de bolsa de horas”
B10: NOMBRE DEL PROPONENTE
B11: BETA GROUP SERVICES SAS
B15: PARTICIPACIÓN
B17: BETA GROUP SERVICES SAS | C17: 1
B19: TOTAL | C19: =SUM(C16:C18) -> 1

Sheet Requisitos Habilitantes
B2: República de Colombia Instituto Colombiano de Bienestar Familiar Cecilia de la Fuente de Lleras Subdirección de Sistemas Integrados de Información
B7: =Proponente!B7:C7 -> NRO. DEL PROCESO: ICBF-CMA-008-2020SEN
B8: =Proponente!B8:C8 -> Realizar la Interventoría técnica, administrativa, financiera y jurídica a la ejecución del contrato cuyo objeto es “Prestar el servicio integral de desarrollo y mantenimiento de los sistemas de información que soportan los procesos del Instituto Colombiano de Bienestar Familiar – ICBF, bajo la modalidad de bolsa de horas”
B10: VERIFICACION DE REQUISITOS TECNICOS HABILITANTES
B12: =Proponente!B11 -> BETA GROUP SERVICES SAS
B14: REQUISITO | C14: APORTA (SI/NO) | D14: HABILITADO (SI / NO) | E14: OBSERVACION GENERAL
B15: CARTA DE PRESENTACIÓN DE LA OFERTA: la cual deberá estar avalada por un ingeniero de sistemas, de conformidad con el artículo 20 de la ley 842 de 2003, quien debe anexar el documento de identidad, tarjeta profesional y el certificado vigente de registro y de los antecedentes disciplinarios de la profesión | C15: SI | D15: SI | E15: Se subsana con carta de presentación adicionando firma con aval del ingeniero de sistemas de conformidad con lo señalado en el numeral 2.4.1 del Pliego de condiciones con los anexos allí señalados (documento de identidad, tarjeta profesional y el certificado vigente de registro y de los antecedentes disciplinarios de la profesión)
B16: “EXPERIENCIA HABILITANTE DEL PROPONENTE” diligenciado de acuerdo con las especificaciones del pliego de condiciones en el anexo: RELACIÓN CERTIFICACIONES DE EXPERIENCIA HABILITANTE DEL PROPONENTE . | C16: SI | D16: SI | E16: Ver pestaña::Experiencia Habil - Proponente
B17: Documentos soportes de la experiencia del proponente, de acuerdo con las especificaciones del Pliego de Condiciones (2.4.2) | C17: SI | D17: SI | E17: Ver pestaña::Experiencia Habil - Proponente
B18: EQUIPO MINIMO DE TRABAJO:
B19: GERENTE DE INTERVENTORIA
B20: Carta de compromiso personal firmada | C20: SI | D20: SI | E20: Se subsana con carta de compromiso en los terminos previstos en el Numeral 2.4.3, Nota 13 " los profesionales del equipo mínimo habilitante aportado deberán avalar mediante la suscripción de la Carta de compromiso personal firmada, que hace parte del ANEXO - RELACIÓN DE EXPERIENCIA DEL EQUIPO DE TRABAJO MÍNIMO HABILITANTE, mediante la cual se comprometan a trabajar en la ejecución del contrato en caso de salir favorecidos con la adjudicación del contrato y certificar, además, que no ha participado en la preparación o elaboración del presente proceso de selección."
B21: Relación del recurso humano habilitante y ponderable a presentar en la oferta (Anexo No. 11) | C21: SI | D21: SI
B22: Hoja de vida del profesional | C22: SI | D22: SI
B23: Copia de la tarjeta o matrícula profesional vigente, si el integrante es extranjero, deberá adjuntar el documento que corresponda, según la legislación del país donde lo obtuvo | C23: SI | D23: SI
B24: Certificado de vigencia de la tarjeta profesional, para los profesionales que la ley establezca este requisito para ejercer su profesión. En el caso de los extranjeros deberán presentar la certificación que corresponde en el país de expedición de la tarjeta o matrícula profesional, para aquellos países que no otorgan esta certificación, se deberá presentar un escrito bajo la gravedad de juramento informando que este requisito no aplica | C24: SI | D24: SI
B25: Copia de los títulos por estudios universitarios de pregrado y/o postgrado, y certificaciones, según aplique, relacionados con el perfil, con el cumplimiento de los requisitos legales vigentes. | C25: SI | D25: SI
B26: Copia legible del documento de identificación: cédula de ciudadanía, cédula de extranjería o pasaporte | C26: SI | D26: SI
B27: Certificaciones de experiencia profesional expedidas por el ente contratante indicando el cargo y/o rol específico y/o objeto, funciones y/o obligaciones y/o actividades desempeñadas relacionadas con el perfil, y el tiempo laborado y/o de ejecución | C27: SI | D27: SI | E27: En la comunicación denominada: SUBSANACIÓN ICBF BETA GROUP - CM-008-2020.pdf, indica que experiencia de la habilitante corresponde a la experiencia profesional. Pag. 6. Ver hoja de este libro: Gerente de Interventoría
B28: LÍDER TÉCNICO DE INTERVENTORÍA
B29: Carta de compromiso personal firmada | C29: SI | D29: SI | E29: Se subsana con carta de compromiso en los terminos previstos en el Numeral 2.4.3, Nota 13 " los profesionales del equipo mínimo habilitante aportado deberán avalar mediante la suscripción de la Carta de compromiso personal firmada, que hace parte del ANEXO - RELACIÓN DE EXPERIENCIA DEL EQUIPO DE TRABAJO MÍNIMO HABILITANTE, mediante la cual se comprometan a trabajar en la ejecución del contrato en caso de salir favorecidos con la adjudicación del contrato y certificar, además, que no ha participado en la preparación o elaboración del presente proceso de selección."
B30: Relación del recurso humano habilitante y ponderable a presentar en la oferta (Anexo No. 11) | C30: SI | D30: SI
B31: Hoja de vida del profesional | C31: SI | D31: SI
B32: Copia de la tarjeta o matrícula profesional vigente, si el integrante es extranjero, deberá adjuntar el documento que corresponda, según la legislación del país donde lo obtuvo | C32: SI | D32: SI
B33: Certificado de vigencia de la tarjeta profesional, para los profesionales que la ley establezca este requisito para ejercer su profesión. En el caso de los extranjeros deberán presentar la certificación que corresponde en el país de expedición de la tarjeta o matrícula profesional, para aquellos países que no otorgan esta certificación, se deberá presentar un escrito bajo la gravedad de juramento informando que este requisito no aplica | C33: SI | D33: SI
B34: Copia de los títulos por estudios universitarios de pregrado y/o postgrado, y certificaciones, según aplique, relacionados con el perfil, con el cumplimiento de los requisitos legales vigentes. | C34: SI | D34: SI
B35: Copia legible del documento de identificación: cédula de ciudadanía, cédula de extranjería o pasaporte | C35: SI | D35: SI
B36: Certificaciones de experiencia profesional expedidas por el ente contratante indicando el cargo y/o rol específico y/o objeto, funciones y/o obligaciones y/o actividades desempeñadas relacionadas con el perfil, y el tiempo laborado y/o de ejecución | C36: SI | D36: SI | E36: En la comunicación denominada: SUBSANACIÓN ICBF BETA GROUP - CM-008-2020.pdf, indica que experiencia de la habilitante corresponde a la experiencia profesional. Pag. 6 y 7. Ver hoja de este libro: Líder Técnico
B37: PROFESIONAL JURÍDICO
B38: Carta de compromiso personal firmada | C38: SI | D38: SI | E38: Se subsana con carta de compromiso en los terminos previstos en el Numeral 2.4.3, Nota 13 " los profesionales del equipo mínimo habilitante aportado deberán avalar mediante la suscripción de la Carta de compromiso personal firmada, que hace parte del ANEXO - RELACIÓN DE EXPERIENCIA DEL EQUIPO DE TRABAJO MÍNIMO HABILITANTE, mediante la cual se comprometan a trabajar en la ejecución del contrato en caso de salir favorecidos con la adjudicación del contrato y certificar, además, que no ha participado en la preparación o elaboración del presente proceso de selección."
B39: Relación del recurso humano habilitante y ponderable a presentar en la oferta (Anexo No. 11) | C39: SI | D39: SI
B40: Hoja de vida del profesional | C40: SI | D40: SI
B41: Copia de la tarjeta o matrícula profesional vigente, si el integrante es extranjero, deberá adjuntar el documento que corresponda, según la legislación del país donde lo obtuvo | C41: SI | D41: SI
B42: Certificado de vigencia de la tarjeta profesional, para los profesionales que la ley establezca este requisito para ejercer su profesión. En el caso de los extranjeros deberán presentar la certificación que corresponde en el país de expedición de la tarjeta o matrícula profesional, para aquellos países que no otorgan esta certificación, se deberá presentar un escrito bajo la gravedad de juramento informando que este requisito no aplica | C42: SI | D42: SI
B43: Copia de los títulos por estudios universitarios de pregrado y/o postgrado, y certificaciones, según aplique, relacionados con el perfil, con el cumplimiento de los requisitos legales vigentes. | C43: SI | D43: SI
B44: Copia legible del documento de identificación: cédula de ciudadanía, cédula de extranjería o pasaporte | C44: SI | D44: SI
B45: Certificaciones de experiencia profesional expedidas por el ente contratante indicando el cargo y/o rol específico y/o objeto, funciones y/o obligaciones y/o actividades desempeñadas relacionadas con el perfil, y el tiempo laborado y/o de ejecución | C45: SI | D45: SI | E45: En la comunicación denominada: SUBSANACIÓN ICBF BETA GROUP - CM-008-2020.pdf, indica que experiencia de la habilitante corresponde a la experiencia profesional. Pag. 6. Ver hoja de este libro: Profesional Juridico
B46: TÉCNICO ADMINISTRATIVO
B47: Carta de compromiso personal firmada | C47: SI | D47: SI | E47: Se subsana con carta de compromiso en los terminos previstos en el Numeral 2.4.3, Nota 13 " los profesionales del equipo mínimo habilitante aportado deberán avalar mediante la suscripción de la Carta de compromiso personal firmada, que hace parte del ANEXO - RELACIÓN DE EXPERIENCIA DEL EQUIPO DE TRABAJO MÍNIMO HABILITANTE, mediante la cual se comprometan a trabajar en la ejecución del contrato en caso de salir favorecidos con la adjudicación del contrato y certificar, además, que no ha participado en la preparación o elaboración del presente proceso de selección."
B48: Relación del recurso humano habilitante y ponderable a presentar en la oferta (Anexo No. 11) | C48: SI | D48: SI
...

Sheet Total Ponderación
B2: República de Colombia Instituto Colombiano de Bienestar Familiar Cecilia de la Fuente de Lleras Subdirección de Sistemas Integrados de Información
B7: =Proponente!B7:C7 -> NRO. DEL PROCESO: ICBF-CMA-008-2020SEN
B8: =Proponente!B8:C8 -> Realizar la Interventoría técnica, administrativa, financiera y jurídica a la ejecución del contrato cuyo objeto es “Prestar el servicio integral de desarrollo y mantenimiento de los sistemas de información que soportan los procesos del Instituto Colombiano de Bienestar Familiar – ICBF, bajo la modalidad de bolsa de horas”
B10: RELACIÓN DE CRITERIOS PONDERABLES
B12: El ICBF otorgará puntos al proponente que cuente con los criterios establecidos para:
B13: CRITERIO | C13: PUNTAJE ASIGNADO | D13: OBSERVACIÓN
B14: EXPERIENCIA ADCIONAL A LA MÍMINA HABILITANTE DEL PROPONENTE | C14: NA | D14: No aporta certificaciones adicionales
B15: EXPERIENCIA PONDERABLE DEL EQUIPO MINIMO DE TRABAJO -GERENTE DE INTERVENTORÍA- | C15: NA | D15: En la subsanación indica No Aplica para experiencia ponderable
B16: EXPERIENCIA PONDERABLE DEL EQUIPO MINIMO DE TRABAJO -LIDER TÉCNICO DE INTERVENTORÍA- | C16: NA | D16: En la subsanación indica No Aplica para experiencia ponderable
B17: APOYO A LA INDUSTRIA NACIONAL | C17: 10 | D17: Según lo manifestado por el porponente en el Anexo 8
B18: PERSONAL EN CONDICIÓN DE DISCAPACIDAD | C18: 10 | D18: Según lo manifestado por el porponente en el Anexo 9
B19: TOTAL PUNTAJE PONDERABLE | C19: 20
B23: COMITÉ TECNICO EVALUADOR

Sheet Experiencia Habil - Proponente
B2: República de Colombia Instituto Colombiano de Bienestar Familiar Cecilia de la Fuente de Lleras Subdirección de Sistemas Integrados de Información
B7: =Proponente!B7:C7 -> NRO. DEL PROCESO: ICBF-CMA-008-2020SEN
B8: =Proponente!B8:C8 -> Realizar la Interventoría técnica, administrativa, financiera y jurídica a la ejecución del contrato cuyo objeto es “Prestar el servicio integral de desarrollo y mantenimiento de los sistemas de información que soportan los procesos del Instituto Colombiano de Bienestar Familiar – ICBF, bajo la modalidad de bolsa de horas”
B10: EXPERIENCIA HABILITANTE DEL PROPONENTE
B12: ='Requisitos Habilitantes'!B12:D12 -> BETA GROUP SERVICES SAS
B15: Documentos requeridos para demostrar el cumplimiento de las Condiciones Técnicas | E15: Certificación No. 1 | F15: Certificación No. 2 | G15: Certificación No. 3 | H15: Certificación No. 4
B17: Nombre del Contratante | E17: BOGOTA DISTRITO CAPITAL (Secretaria Jurídica Distrital)
B18: Dirección y Teléfono del Contratante | E18: Carrera 8 No. 10-65 Tel: 3813000
B19: Si se trata de un Consorcio o de una Unión Temporal se debe señalar el nombre de quienes lo conforman, indicando expresamente el porcentaje de participación de cada uno de sus miembros. | E19: NO APLICA
B20: Número del contrato | E20: Contrato de consultoria (Interventoria) No. 083-2018
B21: Objeto del contrato | E21: Realizar la interventoría del contrato resultante del concurso de méritos CM-001-2017 que tiene por objeto "Elaborar el análisis y diseño dl sistema de información integrado de la Secretaría Jurídica distrital"
B22: Actividades ejecutadas y/o funciones y/o obligaciones | E22: Actividades ejecutadas y/o funciones y/o obligaciones, se encuentran descritas en el anexo técnico de la página 125 de la Certificacion allegada que tiene por titulo: ANEXO - CONTRATO DE INTERVENTORÍA N° 083 DE 2018 SUSCRITO ENTRE LA SECRETARÍA JURÍDICA DISTRITAL Y BETA GROUP SERVICES S.A.S. CLÁUSULA PRIMERA. - OBJETO: Realizar la Interventoría del contrato resultante del Concurso de Méritos CM-0012017 que tiene por objeto ”Elaborar el análisis y diseño del sistema de información integrado de la Secretaria Jurídica Distrital.” PARÁGRAFO – ALCANCE DEL OBJETO
B23: Fecha de inicio (día, mes y año) | E23: 43160
B24: Fecha de terminación (día, mes y año). | E24: 43388
B25: Nombre y firma de quien expide la certificación (competente para suscribirla) | E25: Dora Belén Gutierrez Hérnandez, Directora Gestión Corporativa (E)
B26: Experiencia en certificaciones de cumplimiento de operaciones del Mercado de Compras Públicas de la BMC expedida por la firma comisionista, deberá contener como mínimo los siguientes requisitos: | C26: Nombre de la firma comisionista | E26: NO APLICA
C27: Dirección | E27: NO APLICA
C28: Teléfono | E28: NO APLICA
C29: Nombre del proponente | E29: NO APLICA
C30: Si se trata de un Consorcio o de una Unión Temporal se debe señalar el nombre de quienes lo conforman, adicionalmente se debe indicar el porcentaje de participación de cada uno de sus miembros | E30: NO APLICA
C31: Nombre de la negociación | E31: NO APLICA
C32: Objeto de la negociación | E32: NO APLICA
C33: Número de la operación | E33: NO APLICA
C34: Fecha de inicio de la negociación | E34: NO APLICA
C35: Fecha finalización de la negociación | E35: NO APLICA
C36: Número de operaciones por negociación | E36: NO APLICA
C37: Valor de la negociación | E37: NO APLICA
C38: Estado de la negociación Fecha de expedición de la certificación (día, mes y año). | E38: NO APLICA
... C40: Cuando exista diferencia entre la información relacionada y la consagrada en los soportes presentados, prevalecerá la información de los soportes. | E40: NO APLICA
B41: Para el caso de proponentes no obligados a estar registrados en el RUP, (Proponentes extranjeros sin sucursal en Colombia), las certificaciones de los contratos allegados deberán contener la siguiente información y la señalada anteriormente: | C41: Nombre de la empresa Contratante | E41: NO APLICA
C42: Dirección y Teléfono del contratante | E42: NO APLICA
C43: Nombre del Contratista | E43: NO APLICA
C44: Si se trata de un Consorcio o de una Unión Temporal se debe señalar el nombre de quienes lo conforman, adicionalmente se debe indicar el porcentaje de participación de cada uno de sus miembros | E44: NO APLICA
C45: Número del contrato (si tiene). | E45: NO APLICA
C46: Objeto del contrato | E46: NO APLICA
C47: Valor ejecutado del contrato que se pretende acreditar | E47: NO APLICA
C48: lugar de ejecución | E48: NO APLICA
C49: Actividades ejecutadas. | E49: NO APLICA
C50: Estado del contrato (En caso de que la certificación no indique que el estado del contrato es terminado, el proponente podrá adjuntar la correspondiente acta de terminación debidamente suscrita) | E50: NO APLICA
C51: Fecha de inicio (día, mes y año) y fecha de terminación (día, mes y año). | E51: NO APLICA
...

Sheet Gerente de Interventoría
B2: República de Colombia Instituto Colombiano de Bienestar Familiar Cecilia de la Fuente de Lleras Subdirección de Sistemas Integrados de Información
B9: =Proponente!B7:C7 -> NRO. DEL PROCESO: ICBF-CMA-008-2020SEN
B10: =Proponente!B8:C8 -> Realizar la Interventoría técnica, administrativa, financiera y jurídica a la ejecución del contrato cuyo objeto es “Prestar el servicio integral de desarrollo y mantenimiento de los sistemas de información que soportan los procesos del Instituto Colombiano de Bienestar Familiar – ICBF, bajo la modalidad de bolsa de horas”
B12: EXPERIENCIA HABILITANTE DEL EQUIPO MINIMO DE TRABAJO
B14: ='Experiencia Habil - Proponente'!B12:D12 -> BETA GROUP SERVICES SAS
B16: ='Requisitos Habilitantes'!B19 -> GERENTE DE INTERVENTORIA
B17: Nombre | C17: Angel Lubiel Simbaqueba Ruiz | D17: Identificacion | E17: 93395545 | F17: Nacionalidad | G17: Colombiano
B18: ASPECTO A EVALUAR | D18: DESCRIPCION | E18: HABILITADO (SI / NO) | F18: OBSERVACIONES
B19: Profesional en Ingeniería de Sistemas, Electrónico, Telecomunicaciones, Industrial y/o Afines, según lo establecido en el SNIES. | D19: Profesional en Ingeniería de Sistemas | E19: SI | F19: Otorgado por la Universidad Distitital
B20: Fecha de obtencion de Titulo de Pregrado y/o Terminación de materias | D20: 37162 | E20: SI
B21: Tarjeta Profesional /Certificado de Vigencia | D21: MATRICULA PROFESIONAL 25255-102961 Certificado de vigencia y antecedentes disciplinarios Expedido 27/11/2020, Vigente | E21: SI
B22: Fecha de Expedicion de la Tarjeta Profesional | D22: 18 de Diciembre de 2003 | E22: SI
B23: Especialización o maestría en: - Gerencia de proyectos o Formulación y Evaluación de Proyectos o Gerencia de proyectos en ingeniería o Gerencia de proyectos de sistemas o Administración de empresas o Alta Gerencia o Gerencia de Empresas o Economía o Gerencia de Tecnología o Gerencia de Sistemas de Información o Gerencia de Tecnologías de la Información o Administración o Gerencia Estratégica y/o Afines, según lo establecido en el SNIES. | D23: Especialista en Desarrollo y Gerencia Integral de Proyectos | E23: SI | F23: Otorgado por la Escuela Colombiana de Ingeniería y se encuentra en la misma área de SNIES
B24: Fecha de obtencion de Titulo de Posgrado | D24: 39147 | E24: SI
B25: Certificación en PMP y Scrum Master (vigentes al momento de la presentación de la propuesta.) | D25: 1) Project Management Professional (PMP) PMP® Number: 497769 PMP® Original Vigente hasta el: 30 November 2023 2) Professional Scrum Master I. Expedido 12/05/2016 | E25: SI
B26: Experiencia general mínima de dos (2) años. | D26: Cumple con la experencia minima de dos años, según certificaciones: HEINSOHN, MANPOWER GROUP y UNIDAD ADMINISTRATIVA DE CATASTRO DISTRITA | E26: SI | F26: En la comunicación denominada: SUBSANACIÓN ICBF BETA GROUP - CM-008-2020.pdf, indica que experiencia de la habilitante corresponde a la experiencia general. Pag. 6
B27: Experiencia profesional mínima de cinco (5) años, certificada en la coordinación, dirección o gerencia de proyectos de tecnologías de la información y las comunicaciones, o interventorías o auditorías a nivel técnico, administrativo, financiero y jurídico a proyectos de desarrollo de software. | D27: Cumple con la experencia minima de cinco años, según certificaciones de las firmas: SOAINT, INGENIAN SOFTWARE, REDESIP LTDA, CGI, INNOVAR TECNOLOGÍA, EFRON COLOMBIA SAS y DB SYSTEM LTDA | E27: SI | F27: En la comunicación denominada: SUBSANACIÓN ICBF BETA GROUP - CM-008-2020.pdf, indica que experiencia de la habilitante corresponde a la experiencia profesional. Pag. 6
B28: RELACIÓN DE EXPERIENCIA GENERAL
B29: ENTIDAD CONTRATANTE | D29: CARGO / FUNCIONES | F29: FECHA INICIO | G29: FECHA FIN | H29: DURACION (En años, meses dias)
B30: HEINSOHN | D30: Analista y Desarrollador de Sistemas | F30: 38321 | G30: 39356 | H30: =DATEDIF(F30,G30, "y")& " años " & DATEDIF(F30,G30, "ym")& " meses " &DATEDIF(F30,G30, "md")& " dias " -> 2 años 10 meses 1 dias | K30: 2 | L30: 10 | M30: 1
B31: MANPOWER GROUP | D31: Gerente de Proyecto | F31: 42817 | G31: 43294 | H31: =DATEDIF(F31,G31, "y")& " años " & DATEDIF(F31,G31, "ym")& " meses " &DATEDIF(F31,G31, "md")& " dias " -> 1 años 3 meses 20 dias | K31: 1 | L31: 3 | M31: 20
B32: UNIDAD ADMINISTRATIVA DE CATASTRO DISTRITAL | D32: Servicios profesionales para apoyar conceptualización, adopción y/o fortalecimiento de las tecnologias de la información aplicables a los componnetes de la infraestructura de Datos Esapciales de Bogotá. | F32: 42019 | G32: 42291 | H32: =DATEDIF(F32,G32, "y")& " años " & DATEDIF(F32,G32, "ym")& " meses " &DATEDIF(F32,G32, "md")& " dias " -> 0 años 8 meses 29 dias | L32: 8 | M32: 29
B33: UNIDAD ADMINISTRATIVA DE CATASTRO DISTRITAL | D33: Servicios profesionales para apoyar conceptualización y fortalecimiento del componente de tecnologias de la información, politicas y fortalecimeinto Institucional de la infraestructura de Datos Esapciales de Bogotá. | F33: 42339 | G33: 42453 | H33: =DATEDIF(F33,G33, "y")& " años " & DATEDIF(F33,G33, "ym")& " meses " &DATEDIF(F33,G33, "md")& " dias " -> 0 años 3 meses 23 dias | L33: 3 | M33: 23
K34: =SUM(K30:K33) -> 3 | L34: =SUM(L30:L33) -> 24 | M34: =SUM(M30:M33) -> 73
B35: TOTAL EXPERIENCIA GENERAL CERTIFICADA EN AÑOS | H35: 5 años 2 meses | L35: =L34/12 -> 2 | M35: =M34/30 -> 2.4333333
B36: RELACIÓN DE EXPERIENCIA PROFESIONAL
B37: ENTIDAD CONTRATANTE | D37: CARGO / FUNCIONES | F37: FECHA INICIO | G37: FECHA FIN | H37: DURACION (En años, meses dias)
B38: SOAINT | D38: Gerente de Proyectos | F38: 40142 | G38: 40527 | H38: =DATEDIF(F38,G38, "y")& " años " & DATEDIF(F38,G38, "ym")& " meses " &DATEDIF(F38,G38, "md")& " dias " -> 1 años 0 meses 20 dias | K38: 1 | L38: 0 | M38: 20
B39: INGENIAN SOFTWARE | D39: Gerente de proyecto | F39: 43311 | G39: 43738 | H39: =DATEDIF(F39,G39, "y")& " años " & DATEDIF(F39,G39, "ym")& " meses " &DATEDIF(F39,G39, "md")& " dias " -> 1 años 2 meses 0 dias | K39: 1 | L39: 2 | M39: 0
B40: REDESIP LTDA | D40: Funciones de Gerencia, Coordinación, Control, Seguiento y Planeción de proyectos | F40: 37974 | G40: 38027 | H40: =DATEDIF(F40,G40, "y")& " años " & DATEDIF(F40,G40, "ym")& " meses " &DATEDIF(F40,G40, "md")& " dias " -> 0 años 1 meses 22 dias | K40: 0 | L40: 1 | M40: 22
B41: CGI | D41: Proyect Manager | F41: 40584 | G41: 41424 | H41: =DATEDIF(F41,G41, "y")& " años " & DATEDIF(F41,G41, "ym")& " meses " &DATEDIF(F41,G41, "md")& " dias " -> 2 años 3 meses 20 dias | K41: 2 | L41: 3 | M41: 20
B42: INNOVAR TECNOLOGÍA | D42: Director de Proyectos | F42: 41457 | G42: 42019 | H42: =DATEDIF(F42,G42, "y")& " años " & DATEDIF(F42,G42, "ym")& " meses " &DATEDIF(F42,G42, "md")& " dias " -> 1 años 6 meses 13 dias | K42: 1 | L42: 6 | M42: 13
B43: EFRON COLOMBIA SAS | D43: Director del Proyecto MTI | F43: 42529 | G43: 42650 | H43: =DATEDIF(F43,G43, "y")& " años " & DATEDIF(F43,G43, "ym")& " meses " &DATEDIF(F43,G43, "md")& " dias " -> 0 años 3 meses 29 dias | K43: 0 | L43: 3 | M43: 29
B44: DB SYSTEM LTDA | D44: Gerente de proyecto | F44: 42653 | G44: 42794 | H44: =DATEDIF(F44,G44, "y")& " años " & DATEDIF(F44,G44, "ym")& " meses " &DATEDIF(F44,G44, "md")& " dias " -> 0 años 4 meses 18 dias | K44: 0 | L44: 4 | M44: 18
B45: SOAINT | D45: Gerente de proyecto | F45: 43886 | G45: 43945 | H45: =DATEDIF(F45,G45, "y")& " años " & DATEDIF(F45,G45, "ym")& " meses " &DATEDIF(F45,G45, "md")& " dias " -> 0 años 1 meses 30 dias | K45: 0 | L45: 1 | M45: 30
B46: SOAINT | D46: Gerente de proyectos | F46: 43955 | G46: 44077 | H46: =DATEDIF(F46,G46, "y")& " años " & DATEDIF(F46,G46, "ym")& " meses " &DATEDIF(F46,G46, "md")& " dias " -> 0 años 3 meses 30 dias | L46: 3 | M46: 30
B47: SOAINT | D47: Gerente de proyectos | F47: 44078 | G47: 44107 | H47: =DATEDIF(F47,G47, "y")& " años " & DATEDIF(F47,G47, "ym")& " meses " &DATEDIF(F47,G47, "md")& " dias " -> 0 años 0 meses 29 dias | M47: 29
B48: HEINSOHN | D48: Gerente y Coordinador de proyecto | F48: 39416 | G48: 40057 | H48: =DATEDIF(F48,G48, "y")& " años " & DATEDIF(F48,G48, "ym")& " meses " &DATEDIF(F48,G48, "md")& " dias " -> 1 años 9 meses 2 dias | K48: 1 | L48: 9 | M48: 2
B49: TOTAL EXPERIENCIA PROFESIONAL CERTIFICADA EN AÑOS | H49: 9 años 3 meses | K49: =SUM(K38:K48) -> 6 | L49: =SUM(L38:L48) -> 32 | M49: =SUM(M38:M48) -> 213
L50: =L49/12 -> 2.6666667 | M50: =M49/30 -> 7.1
...

Sheet Lider Tecnico
B2: República de Colombia Instituto Colombiano de Bienestar Familiar Cecilia de la Fuente de Lleras Subdirección de Sistemas Integrados de Información
B8: =Proponente!B7:C7 -> NRO. DEL PROCESO: ICBF-CMA-008-2020SEN
B9: =Proponente!B8:C8 -> Realizar la Interventoría técnica, administrativa, financiera y jurídica a la ejecución del contrato cuyo objeto es “Prestar el servicio integral de desarrollo y mantenimiento de los sistemas de información que soportan los procesos del Instituto Colombiano de Bienestar Familiar – ICBF, bajo la modalidad de bolsa de horas”
B11: EXPERIENCIA HABILITANTE DEL EQUIPO MINIMO DE TRABAJO
B14: ='Requisitos Habilitantes'!B12:D12 -> BETA GROUP SERVICES SAS
B16: ='Requisitos Habilitantes'!B28 -> LÍDER TÉCNICO DE INTERVENTORÍA
B17: Nombre | C17: Deicy Yadira Robayo Rincon | D17: Identificacion | E17: 20865225 | F17: Nacionalidad | G17: Colombiana
B18: ASPECTO A EVALUAR | D18: DESCRIPCION | E18: HABILITADO (SI / NO) | F18: OBSERVACIONES
B19: Profesional en Ingeniería de Sistemas, Telecomunicaciones, industrial, Electrónica o afines, según lo establecido en el SNIES. | D19: Ingeniera de Sistemas, | E19: SI | F19: Otorgado por la Universida de Cundinamarca
B20: Fecha de obtencion de Titulo de Pregrado y/o Terminación de materias | D20: 38198 | E20: SI
B21: Tarjeta Profesional /Certificado de Vigencia | D21: MATRICULA PROFESIONAL 25255-155882 Certificado de vigencia y antecedentes disciplinarios Expedido 30/11/2020 Vigente | E21: SI
B22: Fecha de Expedicion de la Tarjeta Profesional | D22: 19 de Junio de 2008 | E22: SI
B23: Especialización o maestría en ingeniería del software, construcción de software, desarrollo de software o arquitectura de software o afines, según lo establecido en el SNIES. | D23: Especialista en Ingeniería de Software | E23: SI | F23: Otorgado por la Universidad Distrital 25/8/2006
B24: Certificación Scrum Master (vigentes al momento de la presentación de la propuesta) | D24: Scrum Master Porffesional Certificate 2/11/2020 | E24: SI
B25: Experiencia general mínima de dos (2) años. | D25: Cumple con la experencia minima de dos años, según certificación: HSCOSSI INGENIERIA | E25: SI | F25: En la comunicación denominada: SUBSANACIÓN ICBF BETA GROUP - CM-008-2020.pdf, indica que experiencia de la habilitante corresponde a la experiencia general. Pag. 6
B26: Experiencia profesional mínima de tres (3) años, como asesor o interventor de proyectos de tecnologías de la información y las comunicaciones y/o interventorías y/o auditorías y/o aseguramiento de calidad a proyectos de desarrollo de software. | D26: Cumple con la experencia minima de tres años, según certificación: HSCOSSI INGENIERIA | E26: SI | F26: En la comunicación denominada: SUBSANACIÓN ICBF BETA GROUP - CM-008-2020.pdf, indica que experiencia de la habilitante corresponde a la experiencia profesional. Pag. 7
B27: Adicionalmente, certificar experiencia profesional mínima de dos (2) años, como asesor o interventor de proyectos de desarrollo de software bajo metodología Scrum. | D27: Cumple con la experencia minima de dos años, según certificación: HSCOSSI INGENIERIA | E27: SI | F27: En la comunicación denominada: SUBSANACIÓN ICBF BETA GROUP - CM-008-2020.pdf, indica que experiencia de la habilitante corresponde a la experiencia profesional. Pag. 7
B28: RELACIÓN DE EXPERIENCIA GENERAL
B29: ENTIDAD CONTRATANTE | D29: CARGO / FUNCIONES | F29: FECHA INICIO | G29: FECHA FIN | H29: DURACION (En años, meses dias)
B30: SCOSSI INGENIERIA | D30: INGENIERO DE PROYECTOS Proyectos de software en su ciclo de vida en Planeación, Requerimientos, Análisis, Diseño, Desarrollo, Soporte, Seguimiento Desarrollo de servicios y aplicaciones web en lenguajes de programación asp .net y php. Desarrollo de aplicaciones en Sharepoint. | F30: 40633 | G30: 41974 | H30: =DATEDIF(F30,G30, "y")& " años " & DATEDIF(F30,G30, "ym")& " meses " &DATEDIF(F30,G30, "md")& " dias " -> 3 años 8 meses 0 dias | J30: 3 | K30: 8 | L30: 0
H31: =(G31-F31)/30 -> 0
H32: =(G32-F32)/30 -> 0
B33: TOTAL EXPERIENCIA GENERAL CERTIFICADA EN AÑOS | H33: 3 años y 8 meses
B34: RELACIÓN DE EXPERIENCIA PROFESIONAL
B35: ENTIDAD CONTRATANTE | D35: CARGO / FUNCIONES | F35: FECHA INICIO | G35: FECHA FIN | H35: DURACION (En años, meses dias)
B36: SCOSSI INGENIERIA | D36: INGENIERO DE PROYECTOS Asesoría en proyectos de tecnologías de la información y las comunicaciones Proyectos de software en su ciclo de vida en Planeación, Requerimientos, Análisis, Diseño, Desarrollo, Soporte, Seguimiento | F36: 42277 | G36: 43374 | H36: =DATEDIF(F36,G36, "y")& " años " & DATEDIF(F36,G36, "ym")& " meses " &DATEDIF(F36,G36, "md")& " dias " -> 3 años 0 meses 1 dias | J36: 3 | K36: 0 | L36: 1
H37: =(G37-F37)/30 -> 0
H38: =(G38-F38)/30 -> 0
B39: TOTAL EXPERIENCIA PROFESIONAL CERTIFICADA EN AÑOS | H39: 3 años
B40: RELACIÓN DE EXPERIENCIA PROFESIONAL METODOLOFÍA SCRUM
B41: ENTIDAD CONTRATANTE | D41: CARGO / FUNCIONES | F41: FECHA INICIO | G41: FECHA FIN | H41: DURACION (En años, meses dias) | J41: 2 | K41: 1 | L41: 25
B42: SCOSSI INGENIERIA | D42: INGENIERO DE PROYECTOS Asesoría de proyectos de desarrollo de software bajo metodología Scrum | F42: 43375 | G42: 44162 | H42: =DATEDIF(F42,G42, "y")& " años " & DATEDIF(F42,G42, "ym")& " meses " &DATEDIF(F42,G42, "md")& " dias " -> 2 años 1 meses 25 dias | J42: =SUM(J30:J41) -> 8 | K42: =SUM(K30:K41) -> 9 | L42: =SUM(L30:L41) -> 26
H43: =(G43-F43)/30 -> 0
H44: =(G44-F44)/30 -> 0
B45: TOTAL EXPERIENCIA PROFESIONAL METODOLOGÍA SCRUM CERTIFICADA EN AÑOS | H45: 2 años y 1 mes
B46: El proponente cumple con la experiencia habilitante del Líder Técnico.
B51: COMITÉ TECNICO EVALUADOR
A75: September&42014++
T89: Pagina 10 y 11
G118: SCOSSI. Ingeniería Ltda., certifica que la señora DEICY YADIRA ROBAYO R. identificado con C.C. 20.865.225 de Ubate, trabajó en un periodo del mes de marzo de 2011 a diciembre de 2014 y actualmente se encuentra trabajando desde el mes de septiembre de 2015 en el cargo de Ingeniero de Proyectos cumpliendo con las siguientes funciones:
...

Sheet Profesional Jurídico
B2: República de Colombia Instituto Colombiano de Bienestar Familiar Cecilia de la Fuente de Lleras Subdirección de Sistemas Integrados de Información
B9: ='Requisitos Habilitantes'!B7:E7 -> NRO. DEL PROCESO: ICBF-CMA-008-2020SEN
B10: =Proponente!B8:C8 -> Realizar la Interventoría técnica, administrativa, financiera y jurídica a la ejecución del contrato cuyo objeto es “Prestar el servicio integral de desarrollo y mantenimiento de los sistemas de información que soportan los procesos del Instituto Colombiano de Bienestar Familiar – ICBF, bajo la modalidad de bolsa de horas”
B12: EXPERIENCIA HABILITANTE DEL EQUIPO MINIMO DE TRABAJO
B15: ='Requisitos Habilitantes'!B12:D12 -> BETA GROUP SERVICES SAS
B17: ='Requisitos Habilitantes'!B37 -> PROFESIONAL JURÍDICO
B18: Nombre | C18: Marisol Parra Turriago | D18: Identificacion | E18: 51910606 | F18: Nacionalidad | G18: colombiana
B19: ASPECTO A EVALUAR | D19: DESCRIPCION | E19: HABILITADO (SI / NO) | F19: OBSERVACIONES
B20: Profesional en Derecho | D20: Abogada | E20: SI | F20: Otorgado por la Universidad Catolica de Colombia
B21: Fecha de obtencion de Titulo de Pregrado y/o Terminación de materias | D21: 41838 | E21: SI
B22: Tarjeta Profesional /Certificado de Vigencia | D22: Tarjeta de abogado (a) No. 247912 Certificado de Vigencia N.: 510753 Expedido: 1/12/2020. Estado Vigente CERTIFICADO DE ANTECEDENTES DISCIPLINARIOS DE ABOGADO No. 848380 Expedido 1/12/2020 | E22: SI
B23: Fecha de Expedicion de la Tarjeta Profesional | D23: 41899 | E23: SI
B24: Experiencia general mínima de un (1) año. | D24: Cumple con la experencia minima de un año, según certificaicon de la firma LATINGRAFICAS | E24: SI | F24: En la comunicación denominada: SUBSANACIÓN ICBF BETA GROUP - CM-008-2020.pdf, indica que experiencia de la habilitante corresponde a la experiencia general.
B25: Experiencia profesional mínima de dos (2) años como asesor o responsable jurídico en proyectos de construcción o desarrollo o mantenimiento de software y/o supervisor, auditor o interventor en proyectos de construcción o desarrollo o mantenimiento de software o proyectos TIC. | D25: Cumple con la experencia minima de dos años, según certificaicon de la firma AM ASSET MANAGEMENT SAS | E25: SI | F25: En la comunicación denominada: SUBSANACIÓN ICBF BETA GROUP - CM-008-2020.pdf, indica que experiencia de la habilitante, corresponde a la experiencia profesionall.
B26: RELACIÓN DE EXPERIENCIA GENERAL
B27: ENTIDAD CONTRATANTE | D27: CARGO / FUNCIONES | F27: FECHA INICIO | G27: FECHA FIN | H27: DURACION (En años, meses dias)
B28: LATINGRAFICAS | D28: ASESORA JURIDICA Y GERENTE COMERCIAL ("asesoría en lo relacionado a verificación del SW que se adquiere para las compañías, con el propósito de garantizar que estén dentro de los parámetros legales ….") | F28: 42428 | G28: 42915 | H28: =DATEDIF(F28,G28, "y")& " años " & DATEDIF(F28,G28, "ym")& " meses " &DATEDIF(F28,G28, "md")& " dias " -> 1 años 4 meses 1 dias
B29: LATINGRAFICAS | D29: ASESORA JURIDICA Y GERENTE COMERCIAL ("asesoría en lo relacionado a verificación del SW que se adquiere para las compañías, con el propósito de garantizar que estén dentro de los parámetros legales ….") | F29: 43861 | G29: 44012 | H29: 0 años 5 mese
H30: =(G30-F30)/30 -> 0
B31: TOTAL EXPERIENCIA GENERAL CERTIFICADA EN AÑOS | H31: 1 año y 9 meses
B32: RELACIÓN DE EXPERIENCIA PROFESIONAL
B33: ENTIDAD CONTRATANTE | D33: CARGO / FUNCIONES | F33: FECHA INICIO | G33: FECHA FIN | H33: DURACION (En años, meses dias)
B34: AM ASSET MANAGEMENT SAS | D34: ASESORA JURIDICA PARA EL DESARROLLO DEL SOFTWARE DISEÑADO POR NUESTRA EMPRESA PARA EL CONTROL DE AUDITORIAS EN PROCESOS DE DEVOLUCION DE AERONAVES. | F34: 42916 | G34: 43860 | H34: =DATEDIF(F34,G34, "y")& " años " & DATEDIF(F34,G34, "ym")& " meses " &DATEDIF(F34,G34, "md")& " dias " -> 2 años 7 meses 0 dias
H35: =(G35-F35)/30 -> 0
H36: =(G36-F36)/30 -> 0
B37: TOTAL EXPERIENCIA PROFESIONAL CERTIFICADA EN AÑOS | H37: 2 años y 7 meses
B39: OBSERVACIONES:
B40: El proponente cumple con la experiencia habilitante del profesional juridico.
B45: COMITÉ TECNICO EVALUADOR
C55: Subsanación
D104: LA MISMA CERTIFICACION NO SE REEMPLAZO

Sheet Técnico Administrativo
B2: República de Colombia Instituto Colombiano de Bienestar Familiar Cecilia de la Fuente de Lleras Subdirección de Sistemas Integrados de Información
B9: =Proponente!B7:C7 -> NRO. DEL PROCESO: ICBF-CMA-008-2020SEN
B10: =Proponente!B8:C8 -> Realizar la Interventoría técnica, administrativa, financiera y jurídica a la ejecución del contrato cuyo objeto es “Prestar el servicio integral de desarrollo y mantenimiento de los sistemas de información que soportan los procesos del Instituto Colombiano de Bienestar Familiar – ICBF, bajo la modalidad de bolsa de horas”
B12: EXPERIENCIA HABILITANTE DEL EQUIPO MINIMO DE TRABAJO
B14: ='Requisitos Habilitantes'!B12:D12 -> BETA GROUP SERVICES SAS
B16: ='Requisitos Habilitantes'!B46 -> TÉCNICO ADMINISTRATIVO
B17: Nombre | C17: Danit Hernandez Macea | D17: Identificacion | E17: 1067882646 | F17: Nacionalidad | G17: Colombiano
B18: ASPECTO A EVALUAR | D18: DESCRIPCION | E18: HABILITADO (SI / NO) | F18: OBSERVACIONES
B19: Técnico Administrativo, Técnico en administración, asistencia administrativa, ingeniería, administración o contabilidad o afines, según lo establecido en el SNIES. Tecnologías en áreas relacionadas a: Gestión Empresarial, Gestión Contable y Financiera, Gestión Administrativa, Gestión Logística Internacional, Desarrollo de Sistemas Informáticos, Análisis y Desarrollo de Sistemas de Información y/o Afines según lo establecido en el SNIES. | D19: Tecnico en Asistencia Adminsitrativa | E19: SI | F19: Otorgado por el Servicio Nacionmal de Aprendizaje -SENA-
B20: Fecha de obtencion de Titulo y/o Terminación de materias | D20: 42683 | E20: SI
B21: Experiencia general mínima de un (1) año. | D21: Cumple con la experencia minima de un año, según certificaicon de la firma BETA GROUP S.A.S Adjunta Contrato | E21: SI | F21: En la comunicación denominada: SUBSANACIÓN ICBF BETA GROUP - CM-008-2020.pdf, indica que experiencia de la habilitante corresponde a la experiencia general. Pag. 7 y 8
B22: Seis meses de experiencia en asistencia administrativa en proyectos de tecnologías de la información. | D22: Cumple con la experencia minima de dos años, según certificaicon de la firma BETA GROUP S.A.S Adjunta Contrato | E22: SI | F22: En la comunicación denominada: SUBSANACIÓN ICBF BETA GROUP - CM-008-2020.pdf, indica que experiencia de la habilitante corresponde a la experiencia administrativa en proyectos de tecnologías de la información. Pag. 7 y 8. Del total de Experiencia acreditada 7 corresponden a experiencia especifica
B23: RELACIÓN DE EXPERIENCIA GENERAL
B24: ENTIDAD CONTRATANTE | D24: CARGO / FUNCIONES | F24: FECHA INICIO | G24: FECHA FIN | H24: DURACION (En años, meses dias)
B25: BETA GROUP S.A.S | D25: Técnico en Asistente Administrativo | F25: 42684 | G25: 43159 | H25: =DATEDIF(F25,G25, "y")& " años " & DATEDIF(F25,G25, "ym")& " meses " &DATEDIF(F25,G25, "md")& " dias " -> 1 años 3 meses 18 dias | J25: 1 | K25: 3 | L25: 18
B26: BETA GROUP S.A.S | D26: Técnico en Asistente Administrativo | F26: 43389 | G26: 44166 | H26: =DATEDIF(F26,G26, "y")& " años " & DATEDIF(F26,G26, "ym")& " meses " &DATEDIF(F26,G26, "md")& " dias " -> 2 años 1 meses 15 dias | J26: 2 | K26: 1 | L26: 15
H27: =(G27-F27)/30 -> 0 | J27: =SUM(J25:J26) -> 3 | K27: =SUM(K25:K26) -> 4 | L27: =SUM(L25:L26) -> 33
B28: TOTAL EXPERIENCIA GENERAL CERTIFICADA EN AÑOS | H28: 3 años 5 meses | J28: 3 años 5 meses
B29: RELACIÓN DE EXPERIENCIA PROFESIONAL
B30: ENTIDAD CONTRATANTE | D30: CARGO / FUNCIONES | F30: FECHA INICIO | G30: FECHA FIN | H30: DURACION (En años, meses dias)
B31: BETA GROUP S.A.S | D31: Asistente Administrativo (Asistencia administrativa, control documental, archivo y demás propias de su cargo y que se requieran en el desarrollo del proyecto.) Para el Contrato 083 - 2018 con la SECRETARIA JURIDICA DISTRITAL (Proyecto de Tecnología) | F31: 43160 | G31: 43388 | H31: =DATEDIF(F31,G31, "y")& " años " & DATEDIF(F31,G31, "ym")& " meses " &DATEDIF(F31,G31, "md")& " dias " -> 0 años 7 meses 14 dias | J31: 0 | K31: 7 | L31: 14
H32: =(G32-F32)/30 -> 0
H33: =(G33-F33)/30 -> 0
B34: TOTAL EXPERIENCIA PROFESIONAL CERTIFICADA EN AÑOS | H34: 7 meses
B36: OBSERVACIONES:
B37: El proponente cumple con la experiencia habilitante del asistente técnico
B42: COMITÉ TECNICO EVALUADOR
I65: • Manejo y actualización de la base de datos del grupo empresarial. • Asistencia técnica en la empresa y/o proyectos. • Apoyo a eventos, reuniones, capacitaciones de la empresa y/o del proyecto. • Mantener alimentada la base de datos de la empresa y/o del proyecto. • Administración de caja menor para improvistos. • Y demás funciones solicitadas por el grupo empresarial.
C160: ANTES DE SUBSANAR

Sheet Experiencia Ponde Proponente
B2: República de Colombia Instituto Colombiano de Bienestar Familiar Cecilia de la Fuente de Lleras Subdirección de Sistemas Integrados de Información
B7: =Proponente!B7:C7 -> NRO. DEL PROCESO: ICBF-CMA-008-2020SEN
B8: =Proponente!B8:C8 -> Realizar la Interventoría técnica, administrativa, financiera y jurídica a la ejecución del contrato cuyo objeto es “Prestar el servicio integral de desarrollo y mantenimiento de los sistemas de información que soportan los procesos del Instituto Colombiano de Bienestar Familiar – ICBF, bajo la modalidad de bolsa de horas”
B10: EXPERIENCIA ADCIONAL A LA MÍMINA HABILITANTE DEL PROPONENTE
B12: El ICBF otorgará hasta diecinueve (19) puntos al proponente que cuente con experiencia especifica adicional a la mínima requerida, presentando dos (2) certificaciones adicionales, aplicando lo siguiente:
B13: CRITERIO | C13: PUNTAJE | D13: PUNTAJE ASIGNADO | E13: OBSERVACIÓN
B14: Una (1) certificación adicional al requisito mínimo habilitante cuyo valor deberá ser igual o mayor al 35% del presupuesto oficial del presente proceso de selección expresado en SMMLV. | C14: 10 Puntos | D14: 0 | E14: No aporta certificaciones adicionales
B15: Dos (2) certificaciones adicionales al requisito mínimo habilitante cuyo valor en conjunto deberá ser igual o mayor al 70% del presupuesto oficial del presente proceso de selección expresado en SMMLV.. | C15: 19 Puntos | D15: 0 | E15: No aporta certificaciones adicionales
B19: COMITÉ TECNICO EVALUADOR

Sheet Gerente Inte Ponderable
B2: República de Colombia Instituto Colombiano de Bienestar Familiar Cecilia de la Fuente de Lleras Subdirección de Sistemas Integrados de Información
B8: =Proponente!B7:C7 -> NRO. DEL PROCESO: ICBF-CMA-008-2020SEN
B9: =Proponente!B8:C8 -> Realizar la Interventoría técnica, administrativa, financiera y jurídica a la ejecución del contrato cuyo objeto es “Prestar el servicio integral de desarrollo y mantenimiento de los sistemas de información que soportan los procesos del Instituto Colombiano de Bienestar Familiar – ICBF, bajo la modalidad de bolsa de horas”
B11: EXPERIENCIA PONDERABLE DEL EQUIPO MINIMO DE TRABAJO
B13: ='Requisitos Habilitantes'!B12:D12 -> BETA GROUP SERVICES SAS
B14: GERENTE DE INTERVENTORÍA
B15: Nombre | C15: ='Gerente de Interventoría'!C17 -> Angel Lubiel Simbaqueba Ruiz | D15: Identificacion | E15: ='Gerente de Interventoría'!E17 -> 93395545 | F15: Nacionalidad | G15: ='Gerente de Interventoría'!G17 -> Colombiano
B16: El ICBF otorgará hasta treinta y cinco (35) puntos al Gerente de Interventoría que cuente con experiencia profesional específica adicional a la mínima requerida, presentando hasta máximo cuatro (4) certificaciones adicionales a las habilitantes que acrediten la experiencia requerida.
B17: TIEMPO | E17: PUNTAJE MAXIMO | F17: PUNTAJE ASIGNADO | G17: OBSERVACIÓN
B18: De uno (1) hasta dos (2) años. | E18: 10 | F18: 0 | G18: En la subsanación indica No Aplica para experiencia ponderable
B19: Más de dos (2) años y un día | E19: 35 | F19: 0 | G19: En la subsanación indica No Aplica para experiencia ponderable
B23: COMITÉ TECNICO EVALUADOR
C34: PARA CUANDO SE ACLARE EXPEIENCIA
B36: RELACIÓN DE EXPERIENCIA PONDERABLA
B37: ENTIDAD CONTRATANTE | D37: CARGO / FUNCIONES | F37: FECHA INICIO | G37: FECHA FIN | H37: DURACION (En meses)
B38: INNOVAR TECNOLOGIA COLOMBIA | D38: Director de Proyectos (Administrar los proyectos que le sean asignados, garantizando la operatividad de los mismos, teniendo en cuenta el cumplimiento, la sostenibilidad y rentabilidad económica) | F38: 41457 | G38: 42019 | H38: =(G38-F38)/30 -> 18.733333
B39: EFRON COLOMBIA SAS | D39: Director del Proyecto MTI | F39: 42529 | G39: 42650 | H39: =(G39-F39)/30 -> 4.0333333
B40: DB SYSTEM | D40: Gerente de Proyecto | F40: 42653 | G40: 42794 | H40: =(G40-F40)/30 -> 4.7
H41: =(G41-F41)/30 -> 0
B43: TOTAL EXPERIENCIA GENERAL CERTIFICADA EN AÑOS | H43: =QUOTIENT(I43,360)+(MOD(I43,360)/360) -> 0
B45: EXPERIENCIA EN: | C45: Experiencia profesional mínima de cinco (5) años, certificada en la coordinación, dirección o gerencia de proyectos de tecnologías de la información y las comunicaciones, o interventorías o auditorías a nivel técnico, administrativo, financiero y jurídico a proyectos de desarrollo de software.
C47: Unidad ADTIVA especial de catastro dostrital | E47: 42019 | F47: 42291
C48: Unidad ADTIVA especial de catastro dostrital | E48: 42339 | F48: 42453
C49: innovar tecnologia | E49: 41457 | F49: 42019
C50: EFRON colombia | E50: 42529 | F50: 42650 | G50: Según anexo
C51: DB SYSTEM
H67: Unidad ADTIVA especial de catastro dostrital | J67: 42019 | K67: 42291
H68: Unidad ADTIVA especial de catastro dostrital | J68: 42339 | K68: 42453
H69: innovar tecnologia | J69: 41457 | K69: 42019
H70: EFRON colombia | J70: 42529 | K70: 42650
H71: DB SYSTEM | J71: 42659 | K71: 42794

Sheet Líder Tec Ponderable
B2: República de Colombia Instituto Colombiano de Bienestar Familiar Cecilia de la Fuente de Lleras Subdirección de Sistemas Integrados de Información
B8: =Proponente!B7:C7 -> NRO. DEL PROCESO: ICBF-CMA-008-2020SEN
B9: =Proponente!B8:C8 -> Realizar la Interventoría técnica, administrativa, financiera y jurídica a la ejecución del contrato cuyo objeto es “Prestar el servicio integral de desarrollo y mantenimiento de los sistemas de información que soportan los procesos del Instituto Colombiano de Bienestar Familiar – ICBF, bajo la modalidad de bolsa de horas”
B11: EXPERIENCIA PONDERABLE DEL EQUIPO MINIMO DE TRABAJO
B13: ='Requisitos Habilitantes'!B12:D12 -> BETA GROUP SERVICES SAS
B14: LIDER TÉCNICO DE INTERVENTORÍA
B15: Nombre | C15: ='Lider Tecnico'!C17 -> Deicy Yadira Robayo Rincon | D15: Identificacion | E15: ='Lider Tecnico'!E17 -> 20865225 | F15: Nacionalidad | G15: ='Lider Tecnico'!G17 -> Colombiana
B16: El ICBF otorgará hasta treinta y cinco (35) puntos al Líder Técnico que cuente con experiencia profesional específica adicional a la mínima requerida, presentando hasta máximo cuatro (4) certificaciones adicionales a las habilitantes que acrediten la experiencia requerida.
B17: TIEMPO | E17: PUNTAJE MAXIMO | F17: PUNTAJE ASIGNADO | G17: OBSERVACIÓN
B18: De uno (1) hasta dos (2) años. | E18: 10 | F18: 0 | G18: En la subsanación indica No Aplica para experiencia ponderable
B19: Más de dos (2) años y un día | E19: 35 | F19: 0 | G19: En la subsanación indica No Aplica para experiencia ponderable
B21: COMITÉ TECNICO EVALUADOR

Sheet Apoyo Industria Nacional
B2: República de Colombia Instituto Colombiano de Bienestar Familiar Cecilia de la Fuente de Lleras Subdirección de Sistemas Integrados de Información
B8: =[3]Proponente!B7:C7 -> NRO. DEL PROCESO: ICBF-CMA-008-2020SEN
B9: =[3]Proponente!B8:C8 -> Realizar la Interventoría técnica, administrativa, financiera y jurídica a la ejecución del contrato cuyo objeto es “Prestar el servicio integral de desarrollo y mantenimiento de los sistemas de información que soportan los procesos del Instituto Colombiano de Bienestar Familiar – ICBF, bajo la modalidad de bolsa de horas”
B11: Apoyo a la Industria nacional
B13: Este criterio se evaluará de conformidad con lo manifestado por el proponente en el ANEXO “FORMATO PROTECCIÓN INDUSTRIA NACIONAL”
B14: ORIGEN DEL PROPONENTE | E14: PUNTAJE | G14: PUNTAJE ASIGNADO | H14: OBSERVACIÓN
B15: En caso de que el proponente sea de origen nacional, de origen extranjero o mixto, y el extranjero acredite la situación de parágrafo del artículo 1º de la Ley 816 de 2003, modificado por el artículo 51 de la Decreto - Ley 019 de 2012. | E15: 5 PUNTOS | G15: 5 | H15: Según lo manifestado por el porponente en el Anexo 8
B16: En caso de que el proponente sea de origen mixto (nacional y extranjero), y el extranjero no acredite la situación de parágrafo del artículo 1º de la Ley 816 de 2.003, modificado por el artículo 51 de la Decreto - Ley 019 de 2012. | E16: 3 PUNTOS | G16: NA
B17: OFRECIMIENTO DE RECURSO HUMANO | E17: PUNTAJE | G17: PUNTAJE ASIGNADO | H17: OBSERVACIÓN
B18: El proponente que acredite que el recurso humano ofrecido es de origen nacional, de origen extranjero o mixto, y el extranjero acredite la situación de parágrafo del artículo 1º de la Ley 816 de 2003, modificado por el artículo 51 de la Decreto - Ley 019 de 2012. | E18: 5 PUNTOS | G18: 5 | H18: Según lo manifestado por el porponente en el Anexo 8
B19: El proponente que acredite que el recurso humano ofrecido es de origen mixto (nacional y extranjero), y el extranjero no acredite la situación de parágrafo del artículo 1º de la Ley 816 de 2003, modificado por el artículo 51 de la Decreto - Ley 019 de 2012. | E19: 3 PUNTOS | G19: NA
B20: El proponente que acrediten que el recurso humano ofrecido es de origen extranjero, y no acredite la situación de parágrafo del artículo 1º de la Ley 816 de 2003, modificado por el artículo 51 de la Decreto - Ley 019 de 2012. | E20: 0 PUNTOS | G20: NA
E21: Total Puntaje | G21: 10 PUNTOS
B23: COMITÉ TECNICO EVALUADOR

Sheet Personal Discapacidad
B2: República de Colombia Instituto Colombiano de Bienestar Familiar Cecilia de la Fuente de Lleras Subdirección de Sistemas Integrados de Información
B8: =[3]Proponente!B7:C7 -> NRO. DEL PROCESO: ICBF-CMA-008-2020SEN
B9: =[3]Proponente!B8:C8 -> Realizar la Interventoría técnica, administrativa, financiera y jurídica a la ejecución del contrato cuyo objeto es “Prestar el servicio integral de desarrollo y mantenimiento de los sistemas de información que soportan los procesos del Instituto Colombiano de Bienestar Familiar – ICBF, bajo la modalidad de bolsa de horas”
B11: PERSONAL EN CONDICIÓN DE DISCAPACIDAD
B13: Se asignará un puntaje de un (1) punto, al proponente que acredite tener vinculado dentro de su planta de personal, personas en condición de discapacidad, atendiendo lo establecido en el artículo 1 del Decreto 392 de 2018 y de conformidad con la siguiente tabla:
B14: NUMERO TOTAL DE TRABAJADORES DE LA PLANTA DE PERSONAL DEL PROPONENTE | E14: NUMERO MÍNIMO DE TRABAJADORES CON DISCAPACIDAD EXIGIBLE | G14: PUNTAJE ASIGNADO | H14: OBSERVACIÓN
B15: ENTRE 1 Y 30 | E15: 1 | G15: 0 | H15: No adjunta certificación
B16: ENTRE 31 Y 100 | E16: 2 | G16: 0 | H16: No adjunta certificación
B17: ENTRE 101 Y 150 | E17: 3 | G17: 0 | H17: No adjunta certificación
B18: ENTRE 151 Y 200 | E18: 4 | G18: 0 | H18: No adjunta certificación
B19: MAS DE 200 | E19: 5 | G19: 0 | H19: No adjunta certificación
B21: COMITÉ TECNICO EVALUADOR
