Workbook
Name _Hlk40285583: 'análisis de riesg contratración'!$A$8

Sheet análisis de riesg contratración
F1: PROCEDIMIENTO DE GESTIÓN PRECONTRACTUAL | Y1: CÓDIGO: | AA1: GC-PR-05-FO-09
F3: ANÁLISIS DEL RIESGO Y MITIGACIÓN | Y3: VERSIÓN: | AA3: 02
Y4: FECHA: | AA4: 45261
A6: DESCRIPCIÓN | F6: De acuerdo con el artículo 2.2.1.1.1.3.1 del Decreto 1082 de 2015, se entiende por riesgo el "Evento que puede generar efectos adversos y de distinta magnitud en el logro de los objetivos del proceso de contratación o en la ejecución de un contrato". El Instituto Colombiano de Antropología e Historia, identifica los siguientes riesgos asociados al proceso de contratación: Para el análisis del riesgo, se recomienda hacer uso del Manual para la Identificación y Cobertura del Riesgo en los Procesos de Contratación de la Agencia Nacional de Contratación Pública, que podrá ser consultado en el siguiente enlace: https://www.colombiacompra.gov.co/sites/cce_public/files/cce_documents/cce_manual_cobertura_riesgo.pdf
A7: OBJETO CONTRACTUAL | F7: Suministro a monto agotable de combustible para los vehículos, la maquinaria y herramientas de propiedad del ICANH ubicados en el Parque Arqueológico San Agustín – Huila.
A8: No. | B8: Clase | C8: Fuente | D8: Etapa | E8: Tipo | F8: Descripción (Qué puede pasar y, cómo puede ocurrir) | G8: Consecuencia de la ocurrencia del evento | H8: Probabilidad | I8: Valoración | J8: Impacto | K8: Valoración | L8: Calificación total | M8: Categoría | N8: ¿A quién se le asigna? | O8: Tratamiento/Controles a ser implementados | P8: Impacto después del tratamiento | V8: ¿Afecta el equilibrio económico del contrato | W8: Persona responsable de atender por implementar el tratamiento | X8: Fecha estimada en que se inicia el tratamiento | Y8: Fecha estimada en que se completa el tratamiento | Z8: Monitoreo y revisión
P9: Probabilidad | Q9: Valoración | R9: Impacto | S9: Valoración | T9: Calificación | U9: Calificación total | Z9: ¿Cómo se realiza el monitoreo? | AA9: Periodicidad ¿Cuándo?
A10: 1 | B10: Específico | C10: Externo | D10: Ejecución | E10: Riesgos Operacionales | F10: El contratista no cuenta con los equipos, ni el personal especializado para el sumnistro de combustibles. | G10: suministro de combustible equivocado,medidad de combustibes erradas. | H10: Posible | I10: =+IFERROR(VLOOKUP(H10,'V1'!$C$2:$D$7,2,FALSE),"") -> 3 | J10: Moderado | K10: =+IFERROR(VLOOKUP(J10,'V1'!$E$2:$F$7,2,FALSE),"") -> 3 | L10: =+IFERROR((I10+K10),"") -> 6 | M10: =+IF(L10="","",IF(L10>=8,'V1'!$G$3,IF(L10>=6,'V1'!$G$4,IF(L10>=5,'V1'!$G$5,IF(L10>=2,'V1'!$G$6,"revisar"))))) -> Riesgo alto | N10: Contratista | O10: Cumplir con los requisitos tecnicos señalados en los estudios previos e invitación publica | P10: Improbable | Q10: =+IFERROR(VLOOKUP(P10,'V1'!$C$2:$D$7,2,FALSE),"") -> 2 | R10: Menor | S10: =+IFERROR(VLOOKUP(R10,'V1'!$E$2:$F$7,2,FALSE),"") -> 2 | T10: =+IFERROR((Q10+S10),"") -> 4 | U10: =+IF(T10="","",IF(T10>=8,'V1'!$G$3,IF(T10>=6,'V1'!$G$4,IF(T10>=5,'V1'!$G$5,IF(T10>=2,'V1'!$G$6,"revisar"))))) -> Riesgo Bajo | V10: Si | W10: ICANH - Contratista | X10: Inicio del contrato | Y10: Terminación del Contrato | Z10: Seguimiento por parte del Supervisor designado | AA10: Permanente
A11: 2 | B11: Específico | C11: Externo | D11: Ejecución | E11: Riesgos Económicos | F11: Continua fluctuación de los precios de los combustibles | G11: Incremento del precio del combustible | H11: Probable | I11: =+IFERROR(VLOOKUP(H11,'V1'!$C$2:$D$7,2,FALSE),"") -> 4 | J11: Moderado | K11: =+IFERROR(VLOOKUP(J11,'V1'!$E$2:$F$7,2,FALSE),"") -> 3 | L11: =+IFERROR((I11+K11),"") -> 7 | M11: =+IF(L11="","",IF(L11>=8,'V1'!$G$3,IF(L11>=6,'V1'!$G$4,IF(L11>=5,'V1'!$G$5,IF(L11>=2,'V1'!$G$6,"revisar"))))) -> Riesgo alto | N11: Contratista | O11: Mantener informada a la entidad sobre la varación de los precios de manera oportuna, de tal manera que pueda beneficiarse de eventuales existencias. | P11: Posible | Q11: =+IFERROR(VLOOKUP(P11,'V1'!$C$2:$D$7,2,FALSE),"") -> 3 | R11: Menor | S11: =+IFERROR(VLOOKUP(R11,'V1'!$E$2:$F$7,2,FALSE),"") -> 2 | T11: =+IFERROR((Q11+S11),"") -> 5 | U11: =+IF(T11="","",IF(T11>=8,'V1'!$G$3,IF(T11>=6,'V1'!$G$4,IF(T11>=5,'V1'!$G$5,IF(T11>=2,'V1'!$G$6,"revisar"))))) -> Riesgo Medio | V11: Si | W11: ICANH - Contratista | X11: Inicio del contrato | Y11: Terminación del Contrato | Z11: Seguimiento por parte del Supervisor designado | AA11: Permanente
A12: 4 | B12: General | C12: Externo | D12: Ejecución | E12: Riesgos Económicos | F12: Desabastecimiento por falta de cupo del municipio | G12: Demora en el suministro de combestible, que impiden la movilización del parque automotor para atender las operaciones de control. | H12: Posible | I12: =+IFERROR(VLOOKUP(H12,'V1'!$C$2:$D$7,2,FALSE),"") -> 3 | J12: Moderado | K12: =+IFERROR(VLOOKUP(J12,'V1'!$E$2:$F$7,2,FALSE),"") -> 3 | L12: =+IFERROR((I12+K12),"") -> 6 | M12: =+IF(L12="","",IF(L12>=8,'V1'!$G$3,IF(L12>=6,'V1'!$G$4,IF(L12>=5,'V1'!$G$5,IF(L12>=2,'V1'!$G$6,"revisar"))))) -> Riesgo alto | N12: Contratista | O12: El contratista debe garantizar a la entidad la existencia permanente de combustible, previendo posibles desabastecimientos. | P12: Improbable | Q12: =+IFERROR(VLOOKUP(P12,'V1'!$C$2:$D$7,2,FALSE),"") -> 2 | R12: Menor | S12: =+IFERROR(VLOOKUP(R12,'V1'!$E$2:$F$7,2,FALSE),"") -> 2 | T12: =+IFERROR((Q12+S12),"") -> 4 | U12: =+IF(T12="","",IF(T12>=8,'V1'!$G$3,IF(T12>=6,'V1'!$G$4,IF(T12>=5,'V1'!$G$5,IF(T12>=2,'V1'!$G$6,"revisar"))))) -> Riesgo Bajo | V12: Si | W12: ICANH - Contratista | X12: Inicio del contrato | Y12: Terminación del Contrato | Z12: Seguimiento por parte del Supervisor designado | AA12: Permanente
A13: 5 | B13: Específico | C13: Externo | D13: Ejecución | E13: Riesgos Operacionales | F13: Mala calidad del combustible suministrado | G13: Daños en el parque automotor y/o retrasos en la ejecución de las actividades misionales de la entidad. | H13: Improbable | I13: =+IFERROR(VLOOKUP(H13,'V1'!$C$2:$D$7,2,FALSE),"") -> 2 | J13: Moderado | K13: =+IFERROR(VLOOKUP(J13,'V1'!$E$2:$F$7,2,FALSE),"") -> 3 | L13: =+IFERROR((I13+K13),"") -> 5 | M13: =+IF(L13="","",IF(L13>=8,'V1'!$G$3,IF(L13>=6,'V1'!$G$4,IF(L13>=5,'V1'!$G$5,IF(L13>=2,'V1'!$G$6,"revisar"))))) -> Riesgo Medio | N13: Contratista | O13: El contratista debe tener a sus servicio el personal idoneo con el conocimiento necesario, que garantice el cumplimiento de los requerimientos tecnicos del contrato. | P13: Posible | Q13: =+IFERROR(VLOOKUP(P13,'V1'!$C$2:$D$7,2,FALSE),"") -> 3 | R13: Menor | S13: =+IFERROR(VLOOKUP(R13,'V1'!$E$2:$F$7,2,FALSE),"") -> 2 | T13: =+IFERROR((Q13+S13),"") -> 5 | U13: =+IF(T13="","",IF(T13>=8,'V1'!$G$3,IF(T13>=6,'V1'!$G$4,IF(T13>=5,'V1'!$G$5,IF(T13>=2,'V1'!$G$6,"revisar"))))) -> Riesgo Medio | V13: Si | W13: ICANH - Contratista | X13: Inicio del contrato | Y13: Terminación del Contrato | Z13: Seguimiento por parte del Supervisor designado | AA13: Permanente
A14: 6 | B14: General | C14: Interno | D14: Ejecución | E14: Riesgos Operacionales | F14: Inadeacuado tratamiento de residuos generados. | G14: Daños en el ambiente e incumplimiento de las normas ambientales | H14: Improbable | I14: =+IFERROR(VLOOKUP(H14,'V1'!$C$2:$D$7,2,FALSE),"") -> 2 | J14: Menor | K14: =+IFERROR(VLOOKUP(J14,'V1'!$E$2:$F$7,2,FALSE),"") -> 2 | L14: =+IFERROR((I14+K14),"") -> 4 | M14: =+IF(L14="","",IF(L14>=8,'V1'!$G$3,IF(L14>=6,'V1'!$G$4,IF(L14>=5,'V1'!$G$5,IF(L14>=2,'V1'!$G$6,"revisar"))))) -> Riesgo Bajo | N14: Contratista | O14: El contratista debe demostrar que realiza la disposición de residuos de manera correcta, aplicando la normatividad ambiental | P14: Posible | Q14: =+IFERROR(VLOOKUP(P14,'V1'!$C$2:$D$7,2,FALSE),"") -> 3 | R14: Insignificante | S14: =+IFERROR(VLOOKUP(R14,'V1'!$E$2:$F$7,2,FALSE),"") -> 1 | T14: =+IFERROR((Q14+S14),"") -> 4 | U14: =+IF(T14="","",IF(T14>=8,'V1'!$G$3,IF(T14>=6,'V1'!$G$4,IF(T14>=5,'V1'!$G$5,IF(T14>=2,'V1'!$G$6,"revisar"))))) -> Riesgo Bajo | V14: Si | W14: ICANH - Contratista | X14: Inicio del contrato | Y14: Terminación del Contrato | Z14: Seguimiento por parte del Supervisor designado | AA14: mensual
A16: Elaboró: Leidy Paola Jimenez Zabala - Profesional Universitario de la Secretaria General

Sheet V1
A2: Clase | B2: Tipo | C2: Probabilidad | E2: Impacto | G2: Categoría
A3: General | B3: Riesgos Económicos | C3: Raro | D3: 1 | E3: Insignificante | F3: 1 | G3: Riesgo Extremo | H3: 8_10
A4: Específico | B4: Riesgos Sociales o Políticos | C4: Improbable | D4: 2 | E4: Menor | F4: 2 | G4: Riesgo alto | H4: 6_7
B5: Riesgos Operacionales | C5: Posible | D5: 3 | E5: Moderado | F5: 3 | G5: Riesgo Medio | H5: 5
B6: Riesgos Financieros | C6: Probable | D6: 4 | E6: Mayor | F6: 4 | G6: Riesgo Bajo | H6: 2_4
A7: Fuente | B7: Riesgos Regulatorios | C7: Casi cierto | D7: 5 | E7: Catastrófico | F7: 5
A8: Interno | B8: Riesgos de la Naturaleza
A9: Externo | B9: Riesgos Ambientales
B10: Riesgos Tecnológicos
A11: Etapa
A12: Planeación
A13: Selección
A14: Contratación
A15: Ejecución
