Workbook

Sheet MO
A1: TARIFAS MANO DE OBRA Y PRESTACIONES SOCIALES 2025
A3: 1.-SALARIOS DE MANO DE OBRA
C4: MENSUAL | D4: ANUAL
A5: A- Salario Minimo Legal | C5: 1750905 | D5: =+C5/30*360 -> 21010860
A6: B- Auxilio de Transporte | C6: 249095 | D6: =+C6*12 -> 2989140
A7: C- Total Mensual | C7: =SUM(C5:C6) -> 2000000 | D7: =+D5+D6 -> 24000000
A9: PRESTACIONES | B9: ='[1]Factor Presta'!D24-1 -> 0.8829 | C9: =+B9*C5 -> 1545874 | D9: =+B9*D5 -> 18550488
A11: VALOR REAL DEL SALARIO | C11: =+C7+C9 -> 3545874 | D11: =+D7+D9 -> 42550488
A13: NOTAS:
A14: 1.- Subsidio de transporte solo se paga hasta sueldos de 2 salarios minimos mensules legales vigentes.
A15: 2.- Subsidio de transporte anual = Subsidio mensual X 12
A17: CALCULO DE CUADRILLAS 2026
A19: CUADRILLA "AA" (Albañileria)
A20: Jornal Ayudante | C20: 1.3 Minimos | D20: =(+$C$5*12/360)*1.3 -> 75872.55
A21: Valor Prestaciones | C21: =+$B$9 -> 0.8829 | D21: =+D20*C21 -> 66987.874
A22: Jornal Ayudante con prestaciones | D22: =+D20+D21 -> 142860.42
A23: Valor Hr Ayudante con prestaciones | D23: =+D22/8 -> 17857.553
A24: Subsidio de transporte por jornal/hora | C24: =+$C$6/30 -> 8303.1667 | D24: =+C24/8 -> 1037.8958
A25: Valor Total Hr Ayudante | D25: =+D23+D24 -> 18895.449
A27: Jornal Oficial | C27: 2.2 Minimos | D27: =(+$C$5*12/360)*2.2 -> 128399.7
A28: Valor Prestaciones | C28: =+$B$9 -> 0.8829 | D28: =+D27*C28 -> 113364.1
A29: Jornal Oficial con prestaciones | D29: =+D27+D28 -> 241763.8
A30: Valor Hr Oficial con prestaciones | D30: =+D29/8 -> 30220.474
A31: Subsidio de transporte por jornal/hora | C31: 0 | D31: =+C31/8 -> 0
A32: Valor Total Hr Oficial | D32: =+D30+D31 -> 30220.474
A34: Valor Dia Cuadrilla | C34: =+D22+C24+D29 -> 392927.39 | D34: =ROUND(C34,2) -> 392927.39
A35: Valor Hr Cuadrilla | C35: =+D25+D32 -> 49115.923 | D35: =ROUND(C35,2) -> 49115.92

Sheet ANALISIS BASICOS
A1: ANALISIS BASICOS
A2: MATERIALES BASICOS | B2: UND | C2: CANT | D2: VALOR INSUMO
A4: ANALISIS BASICOS
A5: MORTERO 1:2 | B5: M3 | E5: =ROUND(SUM(E6:E10),0) -> 579280
A6: CEMENTO GRIS | B6: kg | C6: 500 | D6: 800 | E6: =+C6*D6 -> 400000
A7: AGUA | B7: lt | C7: 220 | D7: 80 | E7: =+C7*D7 -> 17600
A8: ARENA | B8: M3 | C8: 1.09 | D8: =[2]INSUMOS!C34 -> 90000 | E8: =+C8*D8 -> 98100
A9: HERRAMIENTAS MENORES | B9: d | C9: 0.03 | D9: =+E10 -> 61727.683 | E9: =(C9*D9) -> 1851.8305
A10: CUADRILLA "AA" | B10: hc | C10: 2 | D10: =+[2]MO!C35 -> 30863.842 | E10: =+C10*D10 -> 61727.683
A11: MORTERO 1:4 | B11: M3 | E11: =ROUND(SUM(E12:E16),0) -> 559749
A12: CEMENTO GRIS | B12: kg | C12: 352 | D12: 800 | E12: =+C12*D12 -> 281600
A13: AGUA | B13: lt | C13: 185 | D13: 80 | E13: =+C13*D13 -> 14800
A14: ARENA | B14: M3 | C14: 1.16 | D14: =[2]INSUMOS!C34 -> 90000 | E14: =+C14*D14 -> 104400
A15: HERRAMIENTAS MENORES | B15: d | C15: 0.03 | D15: =+E16 -> 154319.21 | E15: =(C15*D15) -> 4629.5763
A16: CUADRILLA "AA" | B16: hr | C16: 5 | D16: =+[2]MO!C35 -> 30863.842 | E16: =+C16*D16 -> 154319.21
A17: Concreto hidraulico para pavimento MR-40 | B17: M3 | E17: =ROUND(SUM(E18:E26),0) -> 832381
A18: CEMENTO GRIS | B18: kg | C18: 480 | D18: =[2]INSUMOS!C33 -> 700 | E18: =+C18*D18 -> 336000
A19: AGUA | B19: lt | C19: =8.3*25 -> 207.5 | D19: =[2]INSUMOS!C12 -> 60 | E19: =+C19*D19 -> 12450
A20: ARENA TRITURADA | B20: M3 | C20: =0.488 -> 0.488 | D20: =[2]INSUMOS!C34 -> 90000 | E20: =+C20*D20 -> 43920
A21: TRANSPORTE ARENA 26 km | B21: M3/KM | C21: =+C20*'[2]DISTANCIA DE ACARREO '!F9 -> 12.688 | D21: 1300 | E21: =+C21*D21 -> 16494.4
A22: TRITURADO | B22: M3 | C22: =0.772 -> 0.772 | D22: =[2]INSUMOS!C35 -> 105000 | E22: =+C22*D22 -> 81060
A23: TRANSPORTE TRITURADO 184 KM | B23: M3/KM | C23: =+C22*'[2]DISTANCIA DE ACARREO '!F10 -> 142.048 | D23: 1300 | E23: =+C23*D23 -> 184662.4
A24: MEZCLADORA CON OPERADOR | B24: d | C24: 0.118974 | D24: 120000 | E24: =+C24*D24 -> 14276.88
A25: HERRAMIENTAS MENORES | B25: d | C25: 0.03 | D25: =D15 -> 154319.21 | E25: =(C25*D25) -> 4629.5763
A26: CUADRILLA "AA" | B26: hr | C26: 4.5 | D26: =D16 -> 30863.842 | E26: =+C26*D26 -> 138887.29
A27: Concreto Resistencia 21 (Mpa) | B27: M3 | E27: =ROUND(SUM(E28:E36),0) -> 825463
A28: CEMENTO GRIS | B28: kg | C28: 350 | D28: 800 | E28: =+C28*D28 -> 280000
A29: AGUA | B29: lt | C29: 180 | D29: 80 | E29: =+C29*D29 -> 14400
A30: ARENA TRITURADA | B30: M3 | C30: 0.555 | D30: =[2]INSUMOS!C34 -> 90000 | E30: =+C30*D30 -> 49950
A31: TRANSPORTE ARENA 26 KM | B31: M3/KM | C31: =+C30*'[2]DISTANCIA DE ACARREO '!F9 -> 14.43 | D31: 1300 | E31: =+C31*D31 -> 18759
A32: TRITURADO | B32: M3 | C32: 0.84 | D32: =[2]INSUMOS!C35 -> 105000 | E32: =+C32*D32 -> 88200
A33: TRANSPORTE TRITURADO 84 KM | B33: M3/KM | C33: =+C32*'[2]DISTANCIA DE ACARREO '!F10 -> 154.56 | D33: 1300 | E33: =+C33*D33 -> 200928
A34: MEZCLADORA CON OPERADOR | B34: d | C34: 0.118974 | D34: =+D24 -> 120000 | E34: =+C34*D34 -> 14276.88
A35: HERRAMIENTAS MENORES | B35: d | C35: 0.03 | D35: =+E36 -> 154319.21 | E35: =(C35*D35) -> 4629.5763
A36: CUADRILLA "AA" | B36: hr | C36: 5 | D36: =+[2]MO!C35 -> 30863.842 | E36: =+C36*D36 -> 154319.21
A37: Concreto Resistencia 14 (Mpa) | B37: M3 | E37: =ROUND(SUM(E38:E46),0) -> 753820
A38: CEMENTO GRIS | B38: kg | C38: 230 | D38: =D28 -> 800 | E38: =+C38*D38 -> 184000
A39: AGUA | B39: lt | C39: 148 | D39: =D29 -> 80 | E39: =+C39*D39 -> 11840
A40: ARENA TRITURADA | B40: M3 | C40: 0.55 | D40: =D30 -> 90000 | E40: =+C40*D40 -> 49500
A41: TRANSPORTE ARENA 26 KM | B41: M3/KM | C41: =+C40*'[2]DISTANCIA DE ACARREO '!F9 -> 14.3 | D41: =D31 -> 1300 | E41: =+C41*D41 -> 18590
...

Sheet PTO
A1: PRESUPUESTO OFICIAL
A3: VALOR: | B3: CUARENTA Y NUEVE MILLONES SEIS MIL TRESCIENTOS CUARENTA Y CUATRO PESOS M/CTE
A4: PLAZO: | B4: OCHO (15) DÍAS
A5: OBJETO: | B5: SERVICIO DE ROCERÍA Y LIMPIEZA DEL MARGEN DEL RÍO MAGDALENA DEL SECTOR COMPRENDIDO ENTRE LA PLANTA DE TRATAMIENTO DE AGUA POTABLE HASTA LA PLAZA DE SANTA BARBARA EN LA CABECERA DISTRITAL DE SANTA CRUZ DE MOMPOX - BOLÍVAR
A7: ITEM | B7: DESCRIPCIÓN | C7: UND | D7: CANT | E7: VR. UNIT | F7: VR. PARCIAL
A8: 1 | B8: JORNALES PARA ROCERÍA Y LIMPIEZA MANUAL (INCLUYE MANO DE OBRA Y MATERIALES NECESARIOS) | C8: UND | D8: 132 | E8: =ROUND(APUS!H42,0) -> 148668 | F8: =+D8*E8 -> 19624176
A9: =+A8+1 -> 2 | B9: JORNALES PARA ROCERÍA Y LIMPIEZA MECÁNICA (INCLUYE MANO DE OBRA, EQUIPO DE GUADAÑA Y MATERIALES NECESARIOS) | C9: UND | D9: 71 | E9: =ROUND(APUS!H86,0) -> 158668 | F9: =+D9*E9 -> 11265428
A10: =+A9+1 -> 3 | B10: RECOLECCIÓN DE RESIDUOS SÓLIDOS QUE SE ENCUENTRAN EN LA FRANJA AL MARGEN DEL RÍO | C10: GLB | D10: 1 | E10: =+ROUND(APUS!H130,0) -> 3860000 | F10: =+D10*E10 -> 3860000
A11: =+A10+1 -> 4 | B11: TRANSPORTE DE RESIDUOS SÓLIDOS Y MALEZA VEGETAL (INCLUYE TRANSPORTE) | C11: VIAJE | D11: 35 | E11: =+ROUND(APUS!H174,0) -> 92566 | F11: =+D11*E11 -> 3239810
B12: SUBTOTAL COSTOS DIRECTOS | F12: =SUM(F8:F11) -> 37989414
B14: ADMINISTRACION | D14: 0.24 | F14: =+F12*D14 -> 9117459.4
B15: IMPREVISTOS | D15: 0.01 | F15: =+F12*D15 -> 379894.14
B16: UTILIDADES | D16: 0.04 | F16: =+F12*D16 -> 1519576.6
B17: SUBTOTAL COSTOS INDIRECTOS | F17: =SUM(F14:F16) -> 11016930
B19: VALOR TOTAL | F19: =+F17+F12 -> 49006344
A25: HAROLD MAURICIO NARANJO CORTÉS
A26: SECRETARIO DE PLANEACIÓN E INFRAESTRUCTURA

Sheet APUS
B1: ANALISIS DE PRECIOS UNITARIOS
B3: ITEM 1 : | G3: UNIDAD : | H3: UND
B5: TITULO : JORNALES PARA ROCERÍA Y LIMPIEZA MANUAL (INCLUYE MANO DE OBRA Y MATERIALES NECESARIOS)
B7: A: COSTOS DIRECTOS
B8: 1. EQUIPO
B9: Descripcion | D9: Tipo | E9: Tarifa/hora | F9: Rendim.(un/hr) | G9: V./unitario | H9: V.unit/total
B10: HERRAMIENTA MENOR 5% M.O | G10: 5807.33
G11: =IF(E11=0,0,E11/F11) -> 0
G12: =IF(E12=0,0,E12/F12) -> 0
G13: =IF(E13=0,0,E13/F13) -> 0
G14: =IF(E14=0,0,E14/F14) -> 0
G15: SUBTOTAL | H15: =SUM(G10:G14) -> 5807.33
B16: 2. MATERIALES
B17: Descripcion | D17: Unidad | E17: Precio Unit. | F17: Cantidad | G17: V./unitario
G18: =E18*F18 -> 0
G19: =E19*F19 -> 0
G20: =E20*F20 -> 0
G21: =E21*F21 -> 0
G22: =E22*F22 -> 0
G23: =E23*F23 -> 0
G24: SUBTOTAL | H24: =SUM(G18:G23) -> 0
B25: 3. TRANSPORTE
B26: Material | C26: Vol-Peso o Cant | D26: Distancia | E26: M3 o ton/ Km | F26: Tarifa | G26: Valor-Unit.
G27: =+E27*F27 -> 0
G28: =+E28*F28 -> 0
G29: =+E29*F29 -> 0
G30: =+E30*F30 -> 0
G31: =+E31*F31 -> 0
G32: SUBTOTAL | H32: =SUM(G27:G31) -> 0
B33: 4. MANO DE OBRA
B34: Trabajador | C34: Jornal | D34: Prestaciones | E34: Jornal Total | F34: Rendimiento | G34: Valor-Unit.
B35: AYUDANTE | E35: =MO!D22 -> 142860.42 | F35: 1 | G35: =+E35/F35 -> 142860.42
G36: =IF(E36=0,0,E36*C36/F36) -> 0
G37: =IF(E37=0,0,E37*C37/F37) -> 0
G38: =IF(E38=0,0,E38*C38/F38) -> 0
G39: =IF(E39=0,0,E39*C39/F39) -> 0
G40: SUBTOTAL | H40: =SUM(G35:G39) -> 142860.42
F42: TOTAL COSTO DIRECTO | H42: =ROUND(SUM(H15+H24+H32+H40),2) -> 148667.75
F43: TOTAL COSTO DIRECTO + AIU | H43: =+H42*1.3 -> 193268.08
B45: ANALISIS DE PRECIOS UNITARIOS
...
