Workbook

Sheet P. HISTORICO REP Y MANO OBRA 
A1: ITEM | B1: LINEA | C1: CONCEPTO | D1: DESCRIPCION | E1: VALOR IVA INCLUIDO | F1: TOTAL REPUESTO Y MANO DE OBRA CON IVA + IPC 2025
F2: 0.051
A3: 1 | B3: SUZUKI GSR - 150 | C3: REPUESTOS | D3: ABRAZADERA FUELLE AMORTIGUADOR | E3: 15568.4 | F3: =E3+(E3*F$2) -> 16362.388
A4: 2 | B4: SUZUKI GSR - 150 | C4: REPUESTOS | D4: ABRAZADERA MANGUERA ADMISION | E4: 19795.02 | F4: =E4+(E4*F$2) -> 20804.566
A5: 3 | B5: SUZUKI GSR - 150 | C5: REPUESTOS | D5: ABRAZADERA MANGUERA CARB | E5: 16800.7 | F5: =E5+(E5*F$2) -> 17657.536
A6: 4 | B6: SUZUKI GSR - 150 | C6: REPUESTOS | D6: ABRAZADERA MANGUERA FILTRO AIR | E6: 9964.74 | F6: =E6+(E6*F$2) -> 10472.942
A7: 5 | B7: SUZUKI GSR - 150 | C7: REPUESTOS | D7: KIT CARBURADOR | E7: 60984.5 | F7: =E7+(E7*F$2) -> 64094.709
A8: 6 | B8: SUZUKI GSR - 150 | C8: REPUESTOS | D8: AISLADOR DEL PINON | E8: 17935.11 | F8: =E8+(E8*F$2) -> 18849.801
A9: 7 | B9: SUZUKI GSR - 150 | C9: REPUESTOS | D9: AJUSTE TENSOR CADENA | E9: 57968.51 | F9: =E9+(E9*F$2) -> 60924.904
A10: 8 | B10: SUZUKI GSR - 150 | C10: REPUESTOS | D10: ALETA GUARDABARRO | E10: 40001.83 | F10: =E10+(E10*F$2) -> 42041.923
A11: 9 | B11: SUZUKI GSR - 150 | C11: REPUESTOS | D11: JUEGO AMORTIGUADORES TRASEROS X 2 | E11: 822655.68 | F11: =E11+(E11*F$2) -> 864611.12
A12: 10 | B12: SUZUKI GSR - 150 | C12: REPUESTOS | D12: ANILLOS STD | E12: 95376.7 | F12: =E12+(E12*F$2) -> 100240.91
A13: 11 | B13: SUZUKI GSR - 150 | C13: REPUESTOS | D13: APOYAPIE DELANT.LH | E13: 94460.14 | F13: =E13+(E13*F$2) -> 99277.607
A14: 12 | B14: SUZUKI GSR - 150 | C14: REPUESTOS | D14: APOYAPIE DELANT.RH | E14: 86312.21 | F14: =E14+(E14*F$2) -> 90714.133
... A2661: 2659 | B2661: YAMAHA FZ25 | C2661: MANO DE OBRA | D2661: MANTENIMIENTO KIT DSE ARRASTRE | E2661: 0 | F2661: =E2661+(E2661*F$2) -> 0

Sheet P HISTORICOACEITE Y LLANTAS
A1: ITEM | B1: LINEA | C1: CONCEPTO | D1: DESCRIPCION | E1: VALOR SIN IVA | F1: VALOR SIN IVA + IPC 2025
F2: 0.051
A3: 1 | B3: DE CONFORMIDAD A FICHA TECNICA DE LA MARCA | C3: 1 CUARTO | D3: ACEITE MOTOR 10W30 | E3: 47830.84 | F3: =E3+(E3*F$2) -> 50270.213
A4: 2 | B4: DE CONFORMIDAD A FICHA TECNICA DE LA MARCA | C4: 1/2 CUARTO | D4: ACEITE MOTOR 10W30 | E4: 25188.01 | F4: =E4+(E4*F$2) -> 26472.599
A5: 3 | B5: DE CONFORMIDAD A FICHA TECNICA DE LA MARCA | C5: 1 CUARTO | D5: ACEITE MOTOR 10W40 | E5: 53621.76 | F5: =E5+(E5*F$2) -> 56356.47
A6: 4 | B6: DE CONFORMIDAD A FICHA TECNICA DE LA MARCA | C6: 1/2 CUARTO | D6: ACEITE MOTOR 10W40 | E6: 27004.04 | F6: =E6+(E6*F$2) -> 28381.246
A7: 5 | B7: DE CONFORMIDAD A FICHA TECNICA DE LA MARCA | C7: 1 CUARTO | D7: ACEITE MOTOR 20W50 | E7: 40865.24 | F7: =E7+(E7*F$2) -> 42949.367
A8: 6 | B8: DE CONFORMIDAD A FICHA TECNICA DE LA MARCA | C8: 1/2 CUARTO | D8: ACEITE MOTOR 20W50 | E8: 21255.68 | F8: =E8+(E8*F$2) -> 22339.72
A9: 7 | B9: DE CONFORMIDAD A FICHA TECNICA DE LA MARCA | C9: 1 CUARTO | D9: ACEITE HIDRAULICO | E9: 40188.18 | F9: =E9+(E9*F$2) -> 42237.777
A10: 8 | B10: DE CONFORMIDAD A FICHA TECNICA DE LA MARCA | C10: 1/2 CUARTO | D10: ACEITE HIDRAULICO | E10: 19622.21 | F10: =E10+(E10*F$2) -> 20622.943
A12: NOTA: El cambio de aceite incluye la mano de obra sin costo adicional.
A15: ITEM | B15: LINEA | C15: CONCEPTO | D15: DESCRIPCION | E15: VALOR IVA INCLUIDO | F15: VALOR IVA INCLUIDO + IPC 2025
F16: 0.051
A17: 1 | B17: TRASERA | C17: UNIDAD | D17: LLANTA REFERENCIA 120/80 -18 | E17: 763426.04 | F17: =+E17+(E17*F$16) -> 802360.77
A18: 2 | B18: DELANTERA | C18: UNIDAD | D18: LLANTA REFERENCIA 90/90-21 | E18: 604712.73 | F18: =+E18+(E18*F$16) -> 635553.08
A19: 3 | B19: TRASERA | C19: UNIDAD | D19: LLANTA REFERENCIA 120/90 -17 | E19: 753800.7 | F19: =+E19+(E19*F$16) -> 792244.54
A20: 4 | B20: TRASERA | C20: UNIDAD | D20: LLANTA REFERENCIA 100/90-18 | E20: 573779.36 | F20: =+E20+(E20*F$16) -> 603042.11
A21: 5 | B21: DELANTERA | C21: UNIDAD | D21: LLANTA REFERENCIA 2.75- 18 | E21: 463479.28 | F21: =+E21+(E21*F$16) -> 487116.72
A22: 6 | B22: DELANTERA | C22: UNIDAD | D22: LLANTA REFERENCIA 100/80-17 | E22: 591095.95 | F22: =+E22+(E22*F$16) -> 621241.84
A23: 7 | B23: DELANTERA | C23: UNIDAD | D23: LLANTA REFERENCIA 90/90-18 | E23: 465810.46 | F23: =+E23+(E23*F$16) -> 489566.79
A24: 8 | B24: DELANTERA | C24: UNIDAD | D24: LLANTA REFERENCIA 110/80-17 | E24: 642482.28 | F24: =+E24+(E24*F$16) -> 675248.88
A25: 9 | B25: TRASERA | C25: UNIDAD | D25: LLANTA REFERENCIA 140/70-17 | E25: 826877.57 | F25: =+E25+(E25*F$16) -> 869048.33
A26: 10 | B26: DELANTERA | C26: UNIDAD | D26: LLANTA REFERENCIA 110/80-19 | E26: 1261880.3 | F26: =+E26+(E26*F$16) -> 1326236.2
A27: 11 | B27: TRASERA | C27: UNIDAD | D27: LLANTA REFERENCIA 150/70-17 | E27: 1021361.1 | F27: =+E27+(E27*F$16) -> 1073450.5
A29: NOTA: La adquisición de la llanta incluye el monte y desmonte sin costo adicional.

Sheet PRECIO DE MERCADO REP Y MANO OB
A1: ITEM | B1: LINEA | C1: CONCEPTO | D1: DESCRIPCION | E1: MUNDOMOTRIZ S.A.S | F1: JAFE SAS | G1: RUTA 30 SOLUTIONS | H1: ANALISIS PROMEDIO PRECIO DE MERCADO
E2: VALOR IVA INCLUIDO | F2: VALOR IVA INCLUIDO | G2: VALOR IVA INCLUIDO | H2: VALOR IVA INCLUIDO
A3: 1 | B3: SUZUKI GSR - 150 | C3: REPUESTOS | D3: ABRAZADERA FUELLE AMORTIGUADOR | E3: 21210 | F3: 21000 | G3: 20207.783 | H3: =AVERAGE(E3,F3,G3) -> 20805.928
A4: 2 | B4: SUZUKI GSR - 150 | C4: REPUESTOS | D4: ABRAZADERA MANGUERA ADMISION | E4: 27270 | F4: 27000 | G4: 25693.936 | H4: =AVERAGE(E4,F4,G4) -> 26654.645
A5: 3 | B5: SUZUKI GSR - 150 | C5: REPUESTOS | D5: ABRAZADERA MANGUERA CARB | E5: 23460 | F5: 23000 | G5: 21807.309 | H5: =AVERAGE(E5,F5,G5) -> 22755.77
A6: 4 | B6: SUZUKI GSR - 150 | C6: REPUESTOS | D6: ABRAZADERA MANGUERA FILTRO AIR | E6: 14560 | F6: 14000 | G6: 12934.233 | H6: =AVERAGE(E6,F6,G6) -> 13831.411
A7: 5 | B7: SUZUKI GSR - 150 | C7: REPUESTOS | D7: KIT CARBURADOR | E7: 88400 | F7: 85000 | G7: 79157.881 | H7: =AVERAGE(E7,F7,G7) -> 84185.96
A8: 6 | B8: SUZUKI GSR - 150 | C8: REPUESTOS | D8: AISLADOR DEL PINON | E8: 25200 | F8: 24000 | G8: 23279.773 | H8: =AVERAGE(E8,F8,G8) -> 24159.924
A9: 7 | B9: SUZUKI GSR - 150 | C9: REPUESTOS | D9: AJUSTE TENSOR CADENA | E9: 78780 | F9: 78000 | G9: 75243.126 | H9: =AVERAGE(E9,F9,G9) -> 77341.042
A10: 8 | B10: SUZUKI GSR - 150 | C10: REPUESTOS | D10: ALETA GUARDABARRO | E10: 55120 | F10: 53000 | G10: 51922.375 | H10: =AVERAGE(E10,F10,G10) -> 53347.458
A11: 9 | B11: SUZUKI GSR - 150 | C11: REPUESTOS | D11: JUEGO AMORTIGUADORES TRASEROS X 2 | E11: 1177280 | F11: 1132000 | G11: 1067807.1 | H11: =AVERAGE(E11,F11,G11) -> 1125695.7
A12: 10 | B12: SUZUKI GSR - 150 | C12: REPUESTOS | D12: ANILLOS STD | E12: 133900 | F12: 130000 | G12: 123798.96 | H12: =AVERAGE(E12,F12,G12) -> 129232.99
A13: 11 | B13: SUZUKI GSR - 150 | C13: REPUESTOS | D13: APOYAPIE DELANT.LH | E13: 132310 | F13: 131000 | G13: 122609.26 | H13: =AVERAGE(E13,F13,G13) -> 128639.75
A14: 12 | B14: SUZUKI GSR - 150 | C14: REPUESTOS | D14: APOYAPIE DELANT.RH | E14: 122400 | F14: 120000 | G14: 112033.25 | H14: =AVERAGE(E14,F14,G14) -> 118144.42
... A1579: 1577 | B1579: YAMAHA FAZER 16-FZ16 | C1579: MANO DE OBRA | D1579: MANTENIMIENTO FRENO TRASERO | E1579: 47250 | F1579: 45000 | G1579: 43660 | H1579: =AVERAGE(E1579,F1579,G1579) -> 45303.333
A1580: 1578 | E1580: 0 | F1580: 0 | G1580: 0 | H1580: =AVERAGE(E1580,F1580,G1580) -> 0
A1581: 1579 | B1581: YAMAHA FAZER 16-FZ16 | C1581: MANO DE OBRA | D1581: SINCRONIZACION MOTOR INCLUYE (CALIBRAR VALVULAS,CAMBIAR O LIMPIAR FILTRO AIRE,LIMPIAR BIJIA O CAMBIAR,LIMPIEZA CARBURADOR O INYECTOR) | E1581: 119480 | F1581: 116000 | G1581: 110920 | H1581: =AVERAGE(E1581,F1581,G1581) -> 115466.67
A1582: 1580 | B1582: YAMAHA FAZER 16-FZ16 | C1582: MANO DE OBRA | D1582: MANTENIMIENTO FRENO DEL | E1582: 137360 | F1582: 136000 | G1582: 127440 | H1582: =AVERAGE(E1582,F1582,G1582) -> 133600
A1583: 1581 | B1583: YAMAHA FAZER 16-FZ16 | C1583: MANO DE OBRA | D1583: REPARAR MOTOR DE ARRANQUE | E1583: 178190 | F1583: 173000 | G1583: 166380 | H1583: =AVERAGE(E1583,F1583,G1583) -> 172523.33
A1584: 1582 | B1584: YAMAHA FAZER 16-FZ16 | C1584: MANO DE OBRA | D1584: MANTENIMIENTO KIT DSE ARRASTRE | E1584: 46800 | F1584: 45000 | G1584: 42480 | H1584: =AVERAGE(E1584,F1584,G1584) -> 44760
A1585: 1583 | B1585: YAMAHA XTZ - 150 | C1585: REPUESTOS | D1585: ABRAZADERA MANU ALUMI XTZ125 | E1585: 144900 | F1585: 138000 | G1585: 127440 | H1585: =AVERAGE(E1585,F1585,G1585) -> 136780
A1586: 1584 | B1586: YAMAHA XTZ - 150 | C1586: REPUESTOS | D1586: AMORTIGUADOR TRAS XTZ125 | E1586: 1474920 | F1586: 1446000 | G1586: 1339300 | H1586: =AVERAGE(E1586,F1586,G1586) -> 1420073.3
A1587: 1585 | B1587: YAMAHA XTZ - 150 | C1587: REPUESTOS | D1587: ANILLOS STD | E1587: 192400 | F1587: 185000 | G1587: 171100 | H1587: =AVERAGE(E1587,F1587,G1587) -> 182833.33
A1588: 1586 | B1588: YAMAHA XTZ - 150 | C1588: REPUESTOS | D1588: ARBOL DE LEVAS | E1588: 444960 | F1588: 432000 | G1588: 407100 | H1588: =AVERAGE(E1588,F1588,G1588) -> 428020
A1589: 1587 | B1589: YAMAHA XTZ - 150 | C1589: REPUESTOS | D1589: BALANCINES | E1589: 238960 | F1589: 232000 | G1589: 223020 | H1589: =AVERAGE(E1589,F1589,G1589) -> 231326.67
A1590: 1588 | B1590: YAMAHA XTZ - 150 | C1590: REPUESTOS | D1590: BALINERAS ARBOL DE LEVA XTZ125 | E1590: 122570 | F1590: 119000 | G1590: 115640 | H1590: =AVERAGE(E1590,F1590,G1590) -> 119070
A1591: 1589 | B1591: YAMAHA XTZ - 150 | C1591: REPUESTOS | D1591: BALINERAS DE CIGUENAL XTZ125 | E1591: 203010 | F1591: 201000 | G1591: 186440 | H1591: =AVERAGE(E1591,F1591,G1591) -> 196816.67
A1592: 1590 | B1592: YAMAHA XTZ - 150 | C1592: REPUESTOS | D1592: BALINERAS RUEDA TRAS XTZ12 | E1592: 122720 | F1592: 118000 | G1592: 114460 | H1592: =AVERAGE(E1592,F1592,G1592) -> 118393.33
... A2662: 2660 | B2662: YAMAHA FZ25 | C2662: MANO DE OBRA | D2662: MANTENIMIENTO KIT DSE ARRASTRE | E2662: 51500 | F2662: 50000 | G2662: 47200 | H2662: =AVERAGE(E2662,F2662,G2662) -> 49566.667

Sheet P DE MERCADO ACEITE Y LLANTAS
A1: ITEM | B1: LINEA | C1: CONCEPTO | D1: DESCRIPCION | E1: MUNDOMOTRIZ S.A.S | F1: JAFE SAS | G1: RUTA 30 SOLUTIONS | H1: ANALISIS PROMEDIO PRECIO DE MERCADO
E2: VALOR SIN IVA | F2: VALOR SIN IVA | G2: VALOR SIN IVA | H2: VALOR SIN IVA
A3: 1 | B3: DE CONFORMIDAD A FICHA TECNICA DE LA MARCA | C3: 1 CUARTO | D3: ACEITE MOTOR 10W30 | E3: 47380 | F3: 46000 | G3: 45000 | H3: =AVERAGE(E3,F3,G3) -> 46126.667
A4: 2 | B4: DE CONFORMIDAD A FICHA TECNICA DE LA MARCA | C4: 1/2 CUARTO | D4: ACEITE MOTOR 10W30 | E4: 46460 | F4: 46000 | G4: 45000 | H4: =AVERAGE(E4,F4,G4) -> 45820
A5: 3 | B5: DE CONFORMIDAD A FICHA TECNICA DE LA MARCA | C5: 1 CUARTO | D5: ACEITE MOTOR 10W40 | E5: 50400 | F5: 48000 | G5: 45000 | H5: =AVERAGE(E5,F5,G5) -> 47800
A6: 4 | B6: DE CONFORMIDAD A FICHA TECNICA DE LA MARCA | C6: 1/2 CUARTO | D6: ACEITE MOTOR 10W40 | E6: 47840 | F6: 46000 | G6: 45000 | H6: =AVERAGE(E6,F6,G6) -> 46280
A7: 5 | B7: DE CONFORMIDAD A FICHA TECNICA DE LA MARCA | C7: 1 CUARTO | D7: ACEITE MOTOR 20W50 | E7: 48410 | F7: 47000 | G7: 45000 | H7: =AVERAGE(E7,F7,G7) -> 46803.333
A8: 6 | B8: DE CONFORMIDAD A FICHA TECNICA DE LA MARCA | C8: 1/2 CUARTO | D8: ACEITE MOTOR 20W50 | E8: 48960 | F8: 48000 | G8: 45000 | H8: =AVERAGE(E8,F8,G8) -> 47320
A9: 7 | B9: DE CONFORMIDAD A FICHA TECNICA DE LA MARCA | C9: 1 CUARTO | D9: ACEITE HIDRAULICO | E9: 41820 | F9: 41000 | G9: 38000 | H9: =AVERAGE(E9,F9,G9) -> 40273.333
A10: 8 | B10: DE CONFORMIDAD A FICHA TECNICA DE LA MARCA | C10: 1/2 CUARTO | D10: ACEITE HIDRAULICO | E10: 40170 | F10: 39000 | G10: 38000 | H10: =AVERAGE(E10,F10,G10) -> 39056.667
A12: NOTA: El cambio de aceite incluye la mano de obra sin costo adicional.
A15: ITEM | B15: LINEA | C15: CONCEPTO | D15: DESCRIPCION | E15: MUNDOMOTRIZ S.A.S | F15: JAFE SAS | G15: RUTA 30 SOLUTIONS | H15: ANALISIS PROMEDIO PRECIO DE MERCADO
E16: VALOR IVA INCLUIDO | F16: VALOR IVA INCLUIDO | G16: VALOR IVA INCLUIDO | H16: VALOR IVA INCLUIDO
A17: 1 | B17: TRASERA | C17: UNIDAD | D17: LLANTA REFERENCIA 120/80 -18 | E17: 472160 | F17: 454000 | G17: 420000 | H17: =AVERAGE(E17,F17,G17) -> 448720
A18: 2 | B18: DELANTERA | C18: UNIDAD | D18: LLANTA REFERENCIA 90/90-21 | E18: 419120 | F18: 403000 | G18: 380000 | H18: =AVERAGE(E18,F18,G18) -> 400706.67
A19: 3 | B19: TRASERA | C19: UNIDAD | D19: LLANTA REFERENCIA 120/90 -17 | E19: 465150 | F19: 443000 | G19: 410000 | H19: =AVERAGE(E19,F19,G19) -> 439383.33
A20: 4 | B20: TRASERA | C20: UNIDAD | D20: LLANTA REFERENCIA 100/90-18 | E20: 389640 | F20: 382000 | G20: 360000 | H20: =AVERAGE(E20,F20,G20) -> 377213.33
A21: 5 | B21: DELANTERA | C21: UNIDAD | D21: LLANTA REFERENCIA 2.75- 18 | E21: 342720 | F21: 336000 | G21: 320000 | H21: =AVERAGE(E21,F21,G21) -> 332906.67
A22: 6 | B22: DELANTERA | C22: UNIDAD | D22: LLANTA REFERENCIA 100/80-17 | E22: 367200 | F22: 360000 | G22: 340000 | H22: =AVERAGE(E22,F22,G22) -> 355733.33
A23: 7 | B23: DELANTERA | C23: UNIDAD | D23: LLANTA REFERENCIA 90/90-18 | E23: 389340 | F23: 378000 | G23: 360000 | H23: =AVERAGE(E23,F23,G23) -> 375780
A24: 8 | B24: DELANTERA | C24: UNIDAD | D24: LLANTA REFERENCIA 110/80-17 | E24: 349650 | F24: 333000 | G24: 320000 | H24: =AVERAGE(E24,F24,G24) -> 334216.67
A25: 9 | B25: TRASERA | C25: UNIDAD | D25: LLANTA REFERENCIA 140/70-17 | E25: 445410 | F25: 441000 | G25: 420000 | H25: =AVERAGE(E25,F25,G25) -> 435470
A26: 10 | B26: DELANTERA | C26: UNIDAD | D26: LLANTA REFERENCIA 110/80-19 | E26: 418180 | F26: 406000 | G26: 390000 | H26: =AVERAGE(E26,F26,G26) -> 404726.67
A27: 11 | B27: TRASERA | C27: UNIDAD | D27: LLANTA REFERENCIA 150/70-17 | E27: 487190 | F27: 473000 | G27: 450000 | H27: =AVERAGE(E27,F27,G27) -> 470063.33
A29: NOTA: La adquisición de la llanta incluye el monte y desmonte sin costo adicional.

Sheet  A. VALOR ESTIMADO REP Y MANO O
A1: ITEM | B1: LINEA | C1: CONCEPTO | D1: DESCRIPCION | E1: PRECIO SECOP | F1: PRECIOS HISTÓRICOS PROYECTADOS | G1: PRECIOS DE CATÁLOGO | H1: PRECIOS DE MERCADO INCLUIDO IVA | I1: MENOR VALOR ESTIMADO INCLUIDO IVA
E2: VALOR IVA INCLUIDO | F2: VALOR IVA INCLUIDO | G2: VALOR IVA INCLUIDO | H2: VALOR IVA INCLUIDO
A3: 1 | B3: SUZUKI GSR - 150 | C3: REPUESTOS | D3: ABRAZADERA FUELLE AMORTIGUADOR | E3: N/A | F3: =+'P. HISTORICO REP Y MANO OBRA '!F3 -> 16362.388 | G3: N/A | H3: ='PRECIO DE MERCADO REP Y MANO OB'!H3 -> 20805.928 | I3: =MIN(F3,H3) -> 16362.388
A4: 2 | B4: SUZUKI GSR - 150 | C4: REPUESTOS | D4: ABRAZADERA MANGUERA ADMISION | E4: N/A | F4: =+'P. HISTORICO REP Y MANO OBRA '!F4 -> 20804.566 | G4: N/A | H4: ='PRECIO DE MERCADO REP Y MANO OB'!H4 -> 26654.645 | I4: =MIN(F4,H4) -> 20804.566
A5: 3 | B5: SUZUKI GSR - 150 | C5: REPUESTOS | D5: ABRAZADERA MANGUERA CARB | E5: N/A | F5: =+'P. HISTORICO REP Y MANO OBRA '!F5 -> 17657.536 | G5: N/A | H5: ='PRECIO DE MERCADO REP Y MANO OB'!H5 -> 22755.77 | I5: =MIN(F5,H5) -> 17657.536
A6: 4 | B6: SUZUKI GSR - 150 | C6: REPUESTOS | D6: ABRAZADERA MANGUERA FILTRO AIR | E6: N/A | F6: =+'P. HISTORICO REP Y MANO OBRA '!F6 -> 10472.942 | G6: N/A | H6: ='PRECIO DE MERCADO REP Y MANO OB'!H6 -> 13831.411 | I6: =MIN(F6,H6) -> 10472.942
A7: 5 | B7: SUZUKI GSR - 150 | C7: REPUESTOS | D7: KIT CARBURADOR | E7: N/A | F7: =+'P. HISTORICO REP Y MANO OBRA '!F7 -> 64094.709 | G7: N/A | H7: ='PRECIO DE MERCADO REP Y MANO OB'!H7 -> 84185.96 | I7: =MIN(F7,H7) -> 64094.709
A8: 6 | B8: SUZUKI GSR - 150 | C8: REPUESTOS | D8: AISLADOR DEL PINON | E8: N/A | F8: =+'P. HISTORICO REP Y MANO OBRA '!F8 -> 18849.801 | G8: N/A | H8: ='PRECIO DE MERCADO REP Y MANO OB'!H8 -> 24159.924 | I8: =MIN(F8,H8) -> 18849.801
A9: 7 | B9: SUZUKI GSR - 150 | C9: REPUESTOS | D9: AJUSTE TENSOR CADENA | E9: N/A | F9: =+'P. HISTORICO REP Y MANO OBRA '!F9 -> 60924.904 | G9: N/A | H9: ='PRECIO DE MERCADO REP Y MANO OB'!H9 -> 77341.042 | I9: =MIN(F9,H9) -> 60924.904
A10: 8 | B10: SUZUKI GSR - 150 | C10: REPUESTOS | D10: ALETA GUARDABARRO | E10: N/A | F10: =+'P. HISTORICO REP Y MANO OBRA '!F10 -> 42041.923 | G10: N/A | H10: ='PRECIO DE MERCADO REP Y MANO OB'!H10 -> 53347.458 | I10: =MIN(F10,H10) -> 42041.923
A11: 9 | B11: SUZUKI GSR - 150 | C11: REPUESTOS | D11: JUEGO AMORTIGUADORES TRASEROS X 2 | E11: N/A | F11: =+'P. HISTORICO REP Y MANO OBRA '!F11 -> 864611.12 | G11: N/A | H11: ='PRECIO DE MERCADO REP Y MANO OB'!H11 -> 1125695.7 | I11: =MIN(F11,H11) -> 864611.12
A12: 10 | B12: SUZUKI GSR - 150 | C12: REPUESTOS | D12: ANILLOS STD | E12: N/A | F12: =+'P. HISTORICO REP Y MANO OBRA '!F12 -> 100240.91 | G12: N/A | H12: ='PRECIO DE MERCADO REP Y MANO OB'!H12 -> 129232.99 | I12: =MIN(F12,H12) -> 100240.91
A13: 11 | B13: SUZUKI GSR - 150 | C13: REPUESTOS | D13: APOYAPIE DELANT.LH | E13: N/A | F13: =+'P. HISTORICO REP Y MANO OBRA '!F13 -> 99277.607 | G13: N/A | H13: ='PRECIO DE MERCADO REP Y MANO OB'!H13 -> 128639.75 | I13: =MIN(F13,H13) -> 99277.607
A14: 12 | B14: SUZUKI GSR - 150 | C14: REPUESTOS | D14: APOYAPIE DELANT.RH | E14: N/A | F14: =+'P. HISTORICO REP Y MANO OBRA '!F14 -> 90714.133 | G14: N/A | H14: ='PRECIO DE MERCADO REP Y MANO OB'!H14 -> 118144.42 | I14: =MIN(F14,H14) -> 90714.133
... A1579: 1577 | B1579: YAMAHA FAZER 16-FZ16 | C1579: MANO DE OBRA | D1579: MANTENIMIENTO FRENO TRASERO | E1579: N/A | F1579: =+'P. HISTORICO REP Y MANO OBRA '!F1579 -> 35096.253 | G1579: N/A | H1579: ='PRECIO DE MERCADO REP Y MANO OB'!H1579 -> 45303.333 | I1579: =MIN(F1579,H1579) -> 35096.253
A1580: 1578 | E1580: N/A | F1580: =+'P. HISTORICO REP Y MANO OBRA '!F1580 -> 0 | G1580: N/A | H1580: ='PRECIO DE MERCADO REP Y MANO OB'!H1580 -> 0 | I1580: =MIN(F1580,H1580) -> 0
A1581: 1579 | B1581: YAMAHA FAZER 16-FZ16 | C1581: MANO DE OBRA | D1581: SINCRONIZACION MOTOR INCLUYE (CALIBRAR VALVULAS,CAMBIAR O LIMPIAR FILTRO AIRE,LIMPIAR BIJIA O CAMBIAR,LIMPIEZA CARBURADOR O INYECTOR) | E1581: N/A | F1581: =+'P. HISTORICO REP Y MANO OBRA '!F1581 -> 45578.423 | G1581: N/A | H1581: ='PRECIO DE MERCADO REP Y MANO OB'!H1581 -> 115466.67 | I1581: =MIN(F1581,H1581) -> 45578.423
A1582: 1580 | B1582: YAMAHA FAZER 16-FZ16 | C1582: MANO DE OBRA | D1582: MANTENIMIENTO FRENO DEL | E1582: N/A | F1582: =+'P. HISTORICO REP Y MANO OBRA '!F1582 -> 138044.44 | G1582: N/A | H1582: ='PRECIO DE MERCADO REP Y MANO OB'!H1582 -> 133600 | I1582: =MIN(F1582,H1582) -> 133600
A1583: 1581 | B1583: YAMAHA FAZER 16-FZ16 | C1583: MANO DE OBRA | D1583: REPARAR MOTOR DE ARRANQUE | E1583: N/A | F1583: =+'P. HISTORICO REP Y MANO OBRA '!F1583 -> 34389.739 | G1583: N/A | H1583: ='PRECIO DE MERCADO REP Y MANO OB'!H1583 -> 172523.33 | I1583: =MIN(F1583,H1583) -> 34389.739
A1584: 1582 | B1584: YAMAHA FAZER 16-FZ16 | C1584: MANO DE OBRA | D1584: MANTENIMIENTO KIT DSE ARRASTRE | E1584: N/A | F1584: =+'P. HISTORICO REP Y MANO OBRA '!F1584 -> 107366.04 | G1584: N/A | H1584: ='PRECIO DE MERCADO REP Y MANO OB'!H1584 -> 44760 | I1584: =MIN(F1584,H1584) -> 44760
A1585: 1583 | B1585: YAMAHA XTZ - 150 | C1585: REPUESTOS | D1585: ABRAZADERA MANU ALUMI XTZ125 | E1585: N/A | F1585: =+'P. HISTORICO REP Y MANO OBRA '!F1585 -> 1178282 | G1585: N/A | H1585: ='PRECIO DE MERCADO REP Y MANO OB'!H1585 -> 136780 | I1585: =MIN(F1585,H1585) -> 136780
A1586: 1584 | B1586: YAMAHA XTZ - 150 | C1586: REPUESTOS | D1586: AMORTIGUADOR TRAS XTZ125 | E1586: N/A | F1586: =+'P. HISTORICO REP Y MANO OBRA '!F1586 -> 142176.33 | G1586: N/A | H1586: ='PRECIO DE MERCADO REP Y MANO OB'!H1586 -> 1420073.3 | I1586: =MIN(F1586,H1586) -> 142176.33
A1587: 1585 | B1587: YAMAHA XTZ - 150 | C1587: REPUESTOS | D1587: ANILLOS STD | E1587: N/A | F1587: =+'P. HISTORICO REP Y MANO OBRA '!F1587 -> 347302.54 | G1587: N/A | H1587: ='PRECIO DE MERCADO REP Y MANO OB'!H1587 -> 182833.33 | I1587: =MIN(F1587,H1587) -> 182833.33
A1588: 1586 | B1588: YAMAHA XTZ - 150 | C1588: REPUESTOS | D1588: ARBOL DE LEVAS | E1588: N/A | F1588: =+'P. HISTORICO REP Y MANO OBRA '!F1588 -> 182997 | G1588: N/A | H1588: ='PRECIO DE MERCADO REP Y MANO OB'!H1588 -> 428020 | I1588: =MIN(F1588,H1588) -> 182997
A1589: 1587 | B1589: YAMAHA XTZ - 150 | C1589: REPUESTOS | D1589: BALANCINES | E1589: N/A | F1589: =+'P. HISTORICO REP Y MANO OBRA '!F1589 -> 96225.524 | G1589: N/A | H1589: ='PRECIO DE MERCADO REP Y MANO OB'!H1589 -> 231326.67 | I1589: =MIN(F1589,H1589) -> 96225.524
A1590: 1588 | B1590: YAMAHA XTZ - 150 | C1590: REPUESTOS | D1590: BALINERAS ARBOL DE LEVA XTZ125 | E1590: N/A | F1590: =+'P. HISTORICO REP Y MANO OBRA '!F1590 -> 157962.2 | G1590: N/A | H1590: ='PRECIO DE MERCADO REP Y MANO OB'!H1590 -> 119070 | I1590: =MIN(F1590,H1590) -> 119070
A1591: 1589 | B1591: YAMAHA XTZ - 150 | C1591: REPUESTOS | D1591: BALINERAS DE CIGUENAL XTZ125 | E1591: N/A | F1591: =+'P. HISTORICO REP Y MANO OBRA '!F1591 -> 95315.095 | G1591: N/A | H1591: ='PRECIO DE MERCADO REP Y MANO OB'!H1591 -> 196816.67 | I1591: =MIN(F1591,H1591) -> 95315.095
A1592: 1590 | B1592: YAMAHA XTZ - 150 | C1592: REPUESTOS | D1592: BALINERAS RUEDA TRAS XTZ12 | E1592: N/A | F1592: =+'P. HISTORICO REP Y MANO OBRA '!F1592 -> 323353.71 | G1592: N/A | H1592: ='PRECIO DE MERCADO REP Y MANO OB'!H1592 -> 118393.33 | I1592: =MIN(F1592,H1592) -> 118393.33
... A2662: 2660 | B2662: YAMAHA FZ25 | C2662: MANO DE OBRA | D2662: MANTENIMIENTO KIT DSE ARRASTRE | E2662: N/A | F2662: =+'P. HISTORICO REP Y MANO OBRA '!F2662 -> 0 | G2662: N/A | H2662: ='PRECIO DE MERCADO REP Y MANO OB'!H2662 -> 49566.667 | I2662: =MIN(F2662,H2662) -> 0

Sheet A. VALOR ESTIMADO ACE  Y LLANTA
A1: ITEM | B1: LINEA | C1: CONCEPTO | D1: DESCRIPCION | E1: PRECIO SECOP SIN IVA | F1: PRECIOS HISTÓRICOS PROYECTADOS SIN IVA | G1: PRECIOS DE CATÁLOGO SIN IVA | H1: PRECIOS DE MERCADO SIN IVA | I1: PROMEDIO VALOR ESTIMADO SIN IVA
A2: 1 | B2: DE CONFORMIDAD A FICHA TECNICA DE LA MARCA | C2: 1 CUARTO | D2: ACEITE MOTOR 10W30 | E2: 0 | F2: =+'P HISTORICOACEITE Y LLANTAS'!F3 -> 50270.213 | G2: 0 | H2: ='P DE MERCADO ACEITE Y LLANTAS'!H3 -> 46126.667 | I2: =AVERAGE(F2,H2) -> 48198.44
A3: 2 | B3: DE CONFORMIDAD A FICHA TECNICA DE LA MARCA | C3: 1/2 CUARTO | D3: ACEITE MOTOR 10W30 | E3: 0 | F3: =+'P HISTORICOACEITE Y LLANTAS'!F4 -> 26472.599 | G3: 0 | H3: ='P DE MERCADO ACEITE Y LLANTAS'!H4 -> 45820 | I3: =AVERAGE(F3,H3) -> 36146.299
A4: 3 | B4: DE CONFORMIDAD A FICHA TECNICA DE LA MARCA | C4: 1 CUARTO | D4: ACEITE MOTOR 10W40 | E4: 0 | F4: =+'P HISTORICOACEITE Y LLANTAS'!F5 -> 56356.47 | G4: 0 | H4: ='P DE MERCADO ACEITE Y LLANTAS'!H5 -> 47800 | I4: =AVERAGE(F4,H4) -> 52078.235
A5: 4 | B5: DE CONFORMIDAD A FICHA TECNICA DE LA MARCA | C5: 1/2 CUARTO | D5: ACEITE MOTOR 10W40 | E5: 0 | F5: =+'P HISTORICOACEITE Y LLANTAS'!F6 -> 28381.246 | G5: 0 | H5: ='P DE MERCADO ACEITE Y LLANTAS'!H6 -> 46280 | I5: =AVERAGE(F5,H5) -> 37330.623
A6: 5 | B6: DE CONFORMIDAD A FICHA TECNICA DE LA MARCA | C6: 1 CUARTO | D6: ACEITE MOTOR 20W50 | E6: 0 | F6: =+'P HISTORICOACEITE Y LLANTAS'!F7 -> 42949.367 | G6: 0 | H6: ='P DE MERCADO ACEITE Y LLANTAS'!H7 -> 46803.333 | I6: =AVERAGE(F6,H6) -> 44876.35
A7: 6 | B7: DE CONFORMIDAD A FICHA TECNICA DE LA MARCA | C7: 1/2 CUARTO | D7: ACEITE MOTOR 20W50 | E7: 0 | F7: =+'P HISTORICOACEITE Y LLANTAS'!F8 -> 22339.72 | G7: 0 | H7: ='P DE MERCADO ACEITE Y LLANTAS'!H8 -> 47320 | I7: =AVERAGE(F7,H7) -> 34829.86
A8: 7 | B8: DE CONFORMIDAD A FICHA TECNICA DE LA MARCA | C8: 1 CUARTO | D8: ACEITE HIDRAULICO | E8: 0 | F8: =+'P HISTORICOACEITE Y LLANTAS'!F9 -> 42237.777 | G8: 0 | H8: ='P DE MERCADO ACEITE Y LLANTAS'!H9 -> 40273.333 | I8: =AVERAGE(F8,H8) -> 41255.555
A9: 8 | B9: DE CONFORMIDAD A FICHA TECNICA DE LA MARCA | C9: 1/2 CUARTO | D9: ACEITE HIDRAULICO | E9: 0 | F9: =+'P HISTORICOACEITE Y LLANTAS'!F10 -> 20622.943 | G9: 0 | H9: ='P DE MERCADO ACEITE Y LLANTAS'!H10 -> 39056.667 | I9: =AVERAGE(F9,H9) -> 29839.805
A11: NOTA: El cambio de aceite incluye la mano de obra sin costo adicional.
A14: ITEM | B14: LINEA | C14: CONCEPTO | D14: DESCRIPCION | E14: PRECIO SECOP | F14: PRECIOS HISTÓRICOS PROYECTADOS | G14: PRECIOS DE CATÁLOGO | H14: PRECIOS DE MERCADO INCLUIDO IVA | I14: MENOR VALOR ESTIMADO IVA INCLUIDO
E15: VALOR IVA INCLUIDO | F15: VALOR IVA INCLUIDO | G15: VALOR IVA INCLUIDO | H15: VALOR IVA INCLUIDO
A16: 1 | B16: TRASERA | C16: UNIDAD | D16: LLANTA REFERENCIA 120/80 -18 | E16: 0 | F16: =+'P HISTORICOACEITE Y LLANTAS'!F17 -> 802360.77 | G16: 0 | H16: ='P DE MERCADO ACEITE Y LLANTAS'!H17 -> 448720 | I16: =MIN(F16,H16) -> 448720
A17: 2 | B17: DELANTERA | C17: UNIDAD | D17: LLANTA REFERENCIA 90/90-21 | E17: 0 | F17: =+'P HISTORICOACEITE Y LLANTAS'!F18 -> 635553.08 | G17: 0 | H17: ='P DE MERCADO ACEITE Y LLANTAS'!H18 -> 400706.67 | I17: =MIN(F17,H17) -> 400706.67
A18: 3 | B18: TRASERA | C18: UNIDAD | D18: LLANTA REFERENCIA 120/90 -17 | E18: 0 | F18: =+'P HISTORICOACEITE Y LLANTAS'!F19 -> 792244.54 | G18: 0 | H18: ='P DE MERCADO ACEITE Y LLANTAS'!H19 -> 439383.33 | I18: =MIN(F18,H18) -> 439383.33
A19: 4 | B19: TRASERA | C19: UNIDAD | D19: LLANTA REFERENCIA 100/90-18 | E19: 0 | F19: =+'P HISTORICOACEITE Y LLANTAS'!F20 -> 603042.11 | G19: 0 | H19: ='P DE MERCADO ACEITE Y LLANTAS'!H20 -> 377213.33 | I19: =MIN(F19,H19) -> 377213.33
A20: 5 | B20: DELANTERA | C20: UNIDAD | D20: LLANTA REFERENCIA 2.75- 18 | E20: 0 | F20: =+'P HISTORICOACEITE Y LLANTAS'!F21 -> 487116.72 | G20: 0 | H20: ='P DE MERCADO ACEITE Y LLANTAS'!H21 -> 332906.67 | I20: =MIN(F20,H20) -> 332906.67
A21: 6 | B21: DELANTERA | C21: UNIDAD | D21: LLANTA REFERENCIA 100/80-17 | E21: 0 | F21: =+'P HISTORICOACEITE Y LLANTAS'!F22 -> 621241.84 | G21: 0 | H21: ='P DE MERCADO ACEITE Y LLANTAS'!H22 -> 355733.33 | I21: =MIN(F21,H21) -> 355733.33
A22: 7 | B22: DELANTERA | C22: UNIDAD | D22: LLANTA REFERENCIA 90/90-18 | E22: 0 | F22: =+'P HISTORICOACEITE Y LLANTAS'!F23 -> 489566.79 | G22: 0 | H22: ='P DE MERCADO ACEITE Y LLANTAS'!H23 -> 375780 | I22: =MIN(F22,H22) -> 375780
A23: 8 | B23: DELANTERA | C23: UNIDAD | D23: LLANTA REFERENCIA 110/80-17 | E23: 0 | F23: =+'P HISTORICOACEITE Y LLANTAS'!F24 -> 675248.88 | G23: 0 | H23: ='P DE MERCADO ACEITE Y LLANTAS'!H24 -> 334216.67 | I23: =MIN(F23,H23) -> 334216.67
A24: 9 | B24: TRASERA | C24: UNIDAD | D24: LLANTA REFERENCIA 140/70-17 | E24: 0 | F24: =+'P HISTORICOACEITE Y LLANTAS'!F25 -> 869048.33 | G24: 0 | H24: ='P DE MERCADO ACEITE Y LLANTAS'!H25 -> 435470 | I24: =MIN(F24,H24) -> 435470
A25: 10 | B25: DELANTERA | C25: UNIDAD | D25: LLANTA REFERENCIA 110/80-19 | E25: 0 | F25: =+'P HISTORICOACEITE Y LLANTAS'!F26 -> 1326236.2 | G25: 0 | H25: ='P DE MERCADO ACEITE Y LLANTAS'!H26 -> 404726.67 | I25: =MIN(F25,H25) -> 404726.67
A26: 11 | B26: TRASERA | C26: UNIDAD | D26: LLANTA REFERENCIA 150/70-17 | E26: 0 | F26: =+'P HISTORICOACEITE Y LLANTAS'!F27 -> 1073450.5 | G26: 0 | H26: ='P DE MERCADO ACEITE Y LLANTAS'!H27 -> 470063.33 | I26: =MIN(F26,H26) -> 470063.33
A28: NOTA: La adquisición de la llanta incluye el monte y desmonte sin costo adicional.

Sheet  PRECIO BASE  REP Y MANO OBRA 
A1: ITEM | B1: LINEA | C1: CONCEPTO | D1: DESCRIPCION | E1: VALOR ESTIMADO INCLUIDO IVA
A2: 1 | B2: SUZUKI GSR - 150 | C2: REPUESTOS | D2: ABRAZADERA FUELLE AMORTIGUADOR | E2: =+' A. VALOR ESTIMADO REP Y MANO O'!I3 -> 16362.388
A3: 2 | B3: SUZUKI GSR - 150 | C3: REPUESTOS | D3: ABRAZADERA MANGUERA ADMISION | E3: =+' A. VALOR ESTIMADO REP Y MANO O'!I4 -> 20804.566
A4: 3 | B4: SUZUKI GSR - 150 | C4: REPUESTOS | D4: ABRAZADERA MANGUERA CARB | E4: =+' A. VALOR ESTIMADO REP Y MANO O'!I5 -> 17657.536
A5: 4 | B5: SUZUKI GSR - 150 | C5: REPUESTOS | D5: ABRAZADERA MANGUERA FILTRO AIR | E5: =+' A. VALOR ESTIMADO REP Y MANO O'!I6 -> 10472.942
A6: 5 | B6: SUZUKI GSR - 150 | C6: REPUESTOS | D6: KIT CARBURADOR | E6: =+' A. VALOR ESTIMADO REP Y MANO O'!I7 -> 64094.709
A7: 6 | B7: SUZUKI GSR - 150 | C7: REPUESTOS | D7: AISLADOR DEL PINON | E7: =+' A. VALOR ESTIMADO REP Y MANO O'!I8 -> 18849.801
A8: 7 | B8: SUZUKI GSR - 150 | C8: REPUESTOS | D8: AJUSTE TENSOR CADENA | E8: =+' A. VALOR ESTIMADO REP Y MANO O'!I9 -> 60924.904
A9: 8 | B9: SUZUKI GSR - 150 | C9: REPUESTOS | D9: ALETA GUARDABARRO | E9: =+' A. VALOR ESTIMADO REP Y MANO O'!I10 -> 42041.923
A10: 9 | B10: SUZUKI GSR - 150 | C10: REPUESTOS | D10: JUEGO AMORTIGUADORES TRASEROS X 2 | E10: =+' A. VALOR ESTIMADO REP Y MANO O'!I11 -> 864611.12
A11: 10 | B11: SUZUKI GSR - 150 | C11: REPUESTOS | D11: ANILLOS STD | E11: =+' A. VALOR ESTIMADO REP Y MANO O'!I12 -> 100240.91
A12: 11 | B12: SUZUKI GSR - 150 | C12: REPUESTOS | D12: APOYAPIE DELANT.LH | E12: =+' A. VALOR ESTIMADO REP Y MANO O'!I13 -> 99277.607
A13: 12 | B13: SUZUKI GSR - 150 | C13: REPUESTOS | D13: APOYAPIE DELANT.RH | E13: =+' A. VALOR ESTIMADO REP Y MANO O'!I14 -> 90714.133
... A1578: 1577 | B1578: YAMAHA FAZER 16-FZ16 | C1578: MANO DE OBRA | D1578: MANTENIMIENTO FRENO TRASERO | E1578: =+' A. VALOR ESTIMADO REP Y MANO O'!I1579 -> 35096.253
A1579: 1578 | E1579: =+' A. VALOR ESTIMADO REP Y MANO O'!I1580 -> 0
A1580: 1579 | B1580: YAMAHA FAZER 16-FZ16 | C1580: MANO DE OBRA | D1580: SINCRONIZACION MOTOR INCLUYE (CALIBRAR VALVULAS,CAMBIAR O LIMPIAR FILTRO AIRE,LIMPIAR BIJIA O CAMBIAR,LIMPIEZA CARBURADOR O INYECTOR) | E1580: =+' A. VALOR ESTIMADO REP Y MANO O'!I1581 -> 45578.423
A1581: 1580 | B1581: YAMAHA FAZER 16-FZ16 | C1581: MANO DE OBRA | D1581: MANTENIMIENTO FRENO DEL | E1581: =+' A. VALOR ESTIMADO REP Y MANO O'!I1582 -> 133600
A1582: 1581 | B1582: YAMAHA FAZER 16-FZ16 | C1582: MANO DE OBRA | D1582: REPARAR MOTOR DE ARRANQUE | E1582: =+' A. VALOR ESTIMADO REP Y MANO O'!I1583 -> 34389.739
A1583: 1582 | B1583: YAMAHA FAZER 16-FZ16 | C1583: MANO DE OBRA | D1583: MANTENIMIENTO KIT DSE ARRASTRE | E1583: =+' A. VALOR ESTIMADO REP Y MANO O'!I1584 -> 44760
A1584: 1583 | B1584: YAMAHA XTZ - 150 | C1584: REPUESTOS | D1584: ABRAZADERA MANU ALUMI XTZ125 | E1584: =+' A. VALOR ESTIMADO REP Y MANO O'!I1585 -> 136780
A1585: 1584 | B1585: YAMAHA XTZ - 150 | C1585: REPUESTOS | D1585: AMORTIGUADOR TRAS XTZ125 | E1585: =+' A. VALOR ESTIMADO REP Y MANO O'!I1586 -> 142176.33
A1586: 1585 | B1586: YAMAHA XTZ - 150 | C1586: REPUESTOS | D1586: ANILLOS STD | E1586: =+' A. VALOR ESTIMADO REP Y MANO O'!I1587 -> 182833.33
A1587: 1586 | B1587: YAMAHA XTZ - 150 | C1587: REPUESTOS | D1587: ARBOL DE LEVAS | E1587: =+' A. VALOR ESTIMADO REP Y MANO O'!I1588 -> 182997
A1588: 1587 | B1588: YAMAHA XTZ - 150 | C1588: REPUESTOS | D1588: BALANCINES | E1588: =+' A. VALOR ESTIMADO REP Y MANO O'!I1589 -> 96225.524
A1589: 1588 | B1589: YAMAHA XTZ - 150 | C1589: REPUESTOS | D1589: BALINERAS ARBOL DE LEVA XTZ125 | E1589: =+' A. VALOR ESTIMADO REP Y MANO O'!I1590 -> 119070
A1590: 1589 | B1590: YAMAHA XTZ - 150 | C1590: REPUESTOS | D1590: BALINERAS DE CIGUENAL XTZ125 | E1590: =+' A. VALOR ESTIMADO REP Y MANO O'!I1591 -> 95315.095
A1591: 1590 | B1591: YAMAHA XTZ - 150 | C1591: REPUESTOS | D1591: BALINERAS RUEDA TRAS XTZ12 | E1591: =+' A. VALOR ESTIMADO REP Y MANO O'!I1592 -> 118393.33
... A2661: 2660 | B2661: YAMAHA FZ25 | C2661: MANO DE OBRA | D2661: MANTENIMIENTO KIT DSE ARRASTRE | E2661: =+' A. VALOR ESTIMADO REP Y MANO O'!I2662 -> 0

Sheet   PRECIO BASE  ACEITE Y LLANTAS
A1: ITEM | B1: LINEA | C1: CONCEPTO | D1: DESCRIPCION | E1: VALOR ESTIMADO SIN IVA
A2: 1 | B2: DE CONFORMIDAD A FICHA TECNICA DE LA MARCA | C2: 1 CUARTO | D2: ACEITE MOTOR 10W30 | E2: =+'A. VALOR ESTIMADO ACE Y LLANTA'!I2 -> 48198.44
A3: 2 | B3: DE CONFORMIDAD A FICHA TECNICA DE LA MARCA | C3: 1/2 CUARTO | D3: ACEITE MOTOR 10W30 | E3: =+'A. VALOR ESTIMADO ACE Y LLANTA'!I3 -> 36146.299
A4: 3 | B4: DE CONFORMIDAD A FICHA TECNICA DE LA MARCA | C4: 1 CUARTO | D4: ACEITE MOTOR 10W40 | E4: =+'A. VALOR ESTIMADO ACE Y LLANTA'!I4 -> 52078.235
A5: 4 | B5: DE CONFORMIDAD A FICHA TECNICA DE LA MARCA | C5: 1/2 CUARTO | D5: ACEITE MOTOR 10W40 | E5: =+'A. VALOR ESTIMADO ACE Y LLANTA'!I5 -> 37330.623
A6: 5 | B6: DE CONFORMIDAD A FICHA TECNICA DE LA MARCA | C6: 1 CUARTO | D6: ACEITE MOTOR 20W50 | E6: =+'A. VALOR ESTIMADO ACE Y LLANTA'!I6 -> 44876.35
A7: 6 | B7: DE CONFORMIDAD A FICHA TECNICA DE LA MARCA | C7: 1/2 CUARTO | D7: ACEITE MOTOR 20W50 | E7: =+'A. VALOR ESTIMADO ACE Y LLANTA'!I7 -> 34829.86
A8: 7 | B8: DE CONFORMIDAD A FICHA TECNICA DE LA MARCA | C8: 1 CUARTO | D8: ACEITE HIDRAULICO | E8: =+'A. VALOR ESTIMADO ACE Y LLANTA'!I8 -> 41255.555
A9: 8 | B9: DE CONFORMIDAD A FICHA TECNICA DE LA MARCA | C9: 1/2 CUARTO | D9: ACEITE HIDRAULICO | E9: =+'A. VALOR ESTIMADO ACE Y LLANTA'!I9 -> 29839.805
A11: NOTA: El cambio de aceite incluye la mano de obra sin costo adicional.
A14: ITEM | B14: LINEA | C14: CONCEPTO | D14: DESCRIPCION | E14: VALOR ESTIMADO INCLUIDO IVA
A16: 1 | B16: TRASERA | C16: UNIDAD | D16: LLANTA REFERENCIA 120/80 -18 | E16: =+'A. VALOR ESTIMADO ACE Y LLANTA'!I16 -> 448720
A17: 2 | B17: DELANTERA | C17: UNIDAD | D17: LLANTA REFERENCIA 90/90-21 | E17: =+'A. VALOR ESTIMADO ACE Y LLANTA'!I17 -> 400706.67
A18: 3 | B18: TRASERA | C18: UNIDAD | D18: LLANTA REFERENCIA 120/90 -17 | E18: =+'A. VALOR ESTIMADO ACE Y LLANTA'!I18 -> 439383.33
A19: 4 | B19: TRASERA | C19: UNIDAD | D19: LLANTA REFERENCIA 100/90-18 | E19: =+'A. VALOR ESTIMADO ACE Y LLANTA'!I19 -> 377213.33
A20: 5 | B20: DELANTERA | C20: UNIDAD | D20: LLANTA REFERENCIA 2.75- 18 | E20: =+'A. VALOR ESTIMADO ACE Y LLANTA'!I20 -> 332906.67
A21: 6 | B21: DELANTERA | C21: UNIDAD | D21: LLANTA REFERENCIA 100/80-17 | E21: =+'A. VALOR ESTIMADO ACE Y LLANTA'!I21 -> 355733.33
A22: 7 | B22: DELANTERA | C22: UNIDAD | D22: LLANTA REFERENCIA 90/90-18 | E22: =+'A. VALOR ESTIMADO ACE Y LLANTA'!I22 -> 375780
A23: 8 | B23: DELANTERA | C23: UNIDAD | D23: LLANTA REFERENCIA 110/80-17 | E23: =+'A. VALOR ESTIMADO ACE Y LLANTA'!I23 -> 334216.67
A24: 9 | B24: TRASERA | C24: UNIDAD | D24: LLANTA REFERENCIA 140/70-17 | E24: =+'A. VALOR ESTIMADO ACE Y LLANTA'!I24 -> 435470
A25: 10 | B25: DELANTERA | C25: UNIDAD | D25: LLANTA REFERENCIA 110/80-19 | E25: =+'A. VALOR ESTIMADO ACE Y LLANTA'!I25 -> 404726.67
A26: 11 | B26: TRASERA | C26: UNIDAD | D26: LLANTA REFERENCIA 150/70-17 | E26: =+'A. VALOR ESTIMADO ACE Y LLANTA'!I26 -> 470063.33
A28: NOTA: La adquisición de la llanta incluye el monte y desmonte sin costo adicional.
