Workbook
Name \a: [1]Insumos!#REF!
Name \a: [1]Insumos!#REF!
Name \a: [1]Insumos!#REF!
Name \b: [2]INSUMOS!#REF!
Name \b: [2]INSUMOS!#REF!
Name \b: [2]INSUMOS!#REF!
Name \i: [2]INSUMOS!#REF!
Name \i: [2]INSUMOS!#REF!
Name \i: [2]INSUMOS!#REF!
Name \m: [2]INSUMOS!#REF!
Name \m: [2]INSUMOS!#REF!
Name \m: [2]INSUMOS!#REF!
Name \r: [2]INSUMOS!#REF!
Name \r: [2]INSUMOS!#REF!
Name \r: [2]INSUMOS!#REF!
Name \t: [2]INSUMOS!#REF!
Name \t: [2]INSUMOS!#REF!
Name \t: [2]INSUMOS!#REF!
Name \x: [2]INSUMOS!#REF!
Name \x: [2]INSUMOS!#REF!
Name \x: [2]INSUMOS!#REF!
Name _________________________________apu1: [2]INSUMOS!#REF!
Name _________________________________apu1: [2]INSUMOS!#REF!
Name _________________________________apu1: [2]INSUMOS!#REF!
Name ________________________________apu1: [2]INSUMOS!#REF!
Name ________________________________apu1: [2]INSUMOS!#REF!
Name ________________________________apu1: [2]INSUMOS!#REF!
Name _______________________________apu1: [2]INSUMOS!#REF!
Name _______________________________apu1: [2]INSUMOS!#REF!
Name _______________________________apu1: [2]INSUMOS!#REF!
Name ______________________________apu1: [2]INSUMOS!#REF!
Name ______________________________apu1: [2]INSUMOS!#REF!
Name ______________________________apu1: [2]INSUMOS!#REF!
Name ____________________________apu1: [2]INSUMOS!#REF!
Name ____________________________apu1: [2]INSUMOS!#REF!
Name ____________________________apu1: [2]INSUMOS!#REF!
Name ___________________________apu1: [2]INSUMOS!#REF!
Name ___________________________apu1: [2]INSUMOS!#REF!
Name ___________________________apu1: [2]INSUMOS!#REF!
Name __________________________apu1: [2]INSUMOS!#REF!
Name __________________________apu1: [2]INSUMOS!#REF!
Name __________________________apu1: [2]INSUMOS!#REF!
Name _________________________apu1: [2]INSUMOS!#REF!
Name _________________________apu1: [2]INSUMOS!#REF!
Name _________________________apu1: [2]INSUMOS!#REF!
Name ________________________apu1: [2]INSUMOS!#REF!
Name ________________________apu1: [2]INSUMOS!#REF!
Name ________________________apu1: [2]INSUMOS!#REF!
Name _______________________apu1: [2]INSUMOS!#REF!
Name _______________________apu1: [2]INSUMOS!#REF!
Name _______________________apu1: [2]INSUMOS!#REF!
Name _____________________apu1: [2]INSUMOS!#REF!
Name _____________________apu1: [2]INSUMOS!#REF!
Name _____________________apu1: [2]INSUMOS!#REF!
Name ____________________apu1: [2]INSUMOS!#REF!
Name ____________________apu1: [2]INSUMOS!#REF!
Name ____________________apu1: [2]INSUMOS!#REF!
Name ___________________apu1: [2]INSUMOS!#REF!
Name ___________________apu1: [2]INSUMOS!#REF!
Name ___________________apu1: [2]INSUMOS!#REF!

Sheet BASICO
A1: REPUBLICA DE COLOMBIA
A2: DEPARTAMENTO DEL PUTUMAYO
A3: MUNICIPIO DE SAN MIGUEL
A5: APU-BASICO
A7: =+Presupuesto!#REF! -> #REF!
A9: ACTIVIDAD:
B10: Concreto MR 21 Mpa | G10: Unidad: | H10: m3
A12: I | B12: EQUIPO
B13: DESCRIPCIÓN | D13: Tipo | E13: Tarifa/Día | F13: Rend | G13: V. Unitario.
B14: Herremienta menor | F14: 0.1 | G14: =H34*F14 -> 5130.9
E20: SUBTOTAL. | H20: =ROUND(SUM(G14:G19),0) -> 5131
A21: II | B21: MATERIALES EN OBRA.
B22: DESCRIPCIÓN | D22: Unidad | E22: Cant. | F22: Precio Unit. | G22: V. Unitario.
B23: Cemento gris | D23: kg | E23: 420 | F23: 650 | G23: =+F23*E23 -> 273000
B24: Arena | D24: m3 | E24: 0.67 | F24: 60000 | G24: =+F24*E24 -> 40200
B25: Triturado | D25: m3 | E25: 0.67 | F25: 70000 | G25: =--E25*F25 -> 46900
B26: Agua | D26: lt | E26: 210 | F26: 50 | G26: =--E26*F26 -> 10500
E28: SUBTOTAL | H28: =(SUM(G23:G26)) -> 370600
A29: III | B29: MANO DE OBRA.
A30: CAN | B30: DESCRIPCIÓN | C30: Jornal | D30: Prestac | E30: Jornal Total | F30: Rend. | G30: V. Unitario.
A31: 6 | B31: Ayudante | C31: 30000 | D31: 0.75 | E31: =+(A31*C31)+(A31*C31*D31) -> 315000 | F31: 7.5035876 | G31: =(E31)/(F31) -> 41979.919
A32: 1 | B32: Oficial | C32: 40000 | D32: 0.75 | E32: =(A32*C32)+(D32*C32*A32) -> 70000 | F32: =--F31 -> 7.5035876 | G32: =E32/F32 -> 9328.871
E34: SUBTOTAL | H34: =ROUND(SUM(G31)+(G32),0) -> 51309
A35: IV | B35: TRANSPORTE
B36: DESCRIPCIÓN | C36: Unidad | D36: Cantidad | E36: Prec.Unitario | G36: Vr. Unitario
E40: SUBTOTAL | H40: =ROUND(SUM(G37)+(G38),0) -> 0
D42: TOTAL COSTOS DIRECTOS. | H42: =SUM(H20:H41) -> 427040
A44: V | B44: COSTOS INDIRECTOS.
B45: DESCRIPCIÓN | C45: % | D45: COSTO DIRECTO | F45: V. UNITARIO
B46: ADMINISTRACIÓN | C46: 0.23 | G46: =+H42*C46 -> 98219.2
B47: IMPREVISTOS | C47: 0.04 | G47: =+H42*C47 -> 17081.6
B48: UTILIDAD | C48: 0.03 | G48: =+H42*C48 -> 12811.2
D49: TOTAL COSTOS INDIRECTOS | H49: =SUM(G45:G48) -> 128112
D51: TOTAL PRECIO UNITARIO. | H51: =H42+H49 -> 555152
A56: =+Presupuesto!A67 -> 0 | D56: =+Presupuesto!D65 -> ARQ. GUILLERMO YAMID VALLEJOS BENAVIDES
A57: =+Presupuesto!A68 -> 0 | D57: =+Presupuesto!D66 -> SECRETARIO DE PLANEACION Y OBRAS PUBLICAS
A58: =APU!#REF! -> #REF! | D58: =+Presupuesto!D67 -> SAN MIGUEL - PUTUMAYO

Sheet Presupuesto
C1: SECRETARIA DE PLANEACIÓN Y OBRAS PÚBLICAS | D1: CODIGO | F1: 103
D2: SERIE Y SUBSERIE | F2: 51
C3: NIT. 800252922-2
C4: Modelo Integrado de Planeación y Gestión | D4: VERSIÓN | F4: 1
C5: PRESUPUESTO | D5: FECHA DEL FORMATO | F5: D/M/A
F6: 44216
A8: ADECUACION Y MEJORAMIENTO DE AULAS ESCOLARES UBICADA EN LA INSTITUCION EDUCATIVA TECNICO COMERCIAL LA DORADA SEDE ESCUELA CENTRAL DEL MUNICIPIO DE SAN MIGUEL PUTUMAYO
A11: PRESUPUESTO GENERAL
A13: ITEM | B13: DESCRIPCION | D13: UNIDAD | E13: CANTIDAD | F13: VR/UNITARIO | G13: VR/TOTAL
A14: 1 | B14: PRELIMINARES
A15: 1.1 | B15: REPLANTEO Y LOCALIZACIÓN | D15: M2 | E15: ='MEMORIA DE CANTIDADES DE OBRA '!J23 -> 67.54 | F15: =APU!H42 -> 3483.34 | G15: =ROUND(E15*F15,2) -> 235264.78
A16: 1.2 | B16: CERRAMIENTO PERIMETRAL CON LONA VERDE | D16: ML | E16: =+'MEMORIA DE CANTIDADES DE OBRA '!J32 -> 12 | F16: =+APU!H99 -> 9437.95 | G16: =ROUND(E16*F16,2) -> 113255.4
A17: 1.3 | B17: DEMOLICION DE PLACA EN CONCRETO REFORZADO ENTREPISO AULA 2 | D17: M2 | E17: ='MEMORIA DE CANTIDADES DE OBRA '!J41 -> 26.46 | F17: =APU!H157 -> 102816.66 | G17: =ROUND(E17*F17,2) -> 2720528.8
A18: 1.4 | B18: DESMONTE DE CUBIERTA EXISTENTE | D18: M2 | E18: ='MEMORIA DE CANTIDADES DE OBRA '!J51 -> 88.24 | F18: =APU!H212 -> 20410 | G18: =ROUND(E18*F18,2) -> 1800978.4
A19: 1.5 | B19: DEMOLICION MANUAL LOSA EN CONCRETO DE AULA 1 | D19: M2 | E19: ='MEMORIA DE CANTIDADES DE OBRA '!J62 -> 6.6 | F19: =APU!H271 -> 20300 | G19: =ROUND(E19*F19,2) -> 133980
A20: 1.6 | B20: DEMOLICION MANUAL MURO AULA 2 (EJE B) | D20: M2 | E20: =+'MEMORIA DE CANTIDADES DE OBRA '!J71 -> 10.4 | F20: =+APU!H328 -> 33805.56 | G20: =ROUND(E20*F20,2) -> 351577.82
A21: 1.7 | B21: RETIRO Y DISPOSICION DE MATERIAL SOBRANTE | D21: M3 | E21: ='MEMORIA DE CANTIDADES DE OBRA '!J81 -> 31.08 | F21: =APU!H386 -> 39630 | G21: =ROUND(E21*F21,2) -> 1231700.4
B22: subtotal | G22: =ROUND((SUM(G15:G21)),2) -> 6587285.6 | H22: 0.32 | I22: =ROUND(G22*H22,2) -> 2107931.4 | J22: =++I22+G22 -> 8695217
A23: 2 | B23: CIMENTACION, CONCRETOS Y MAMPOSTERIA
A24: 2.1 | B24: EXCAVACION MANUAL EN MATERIAL COMUN | D24: M3 | E24: ='MEMORIA DE CANTIDADES DE OBRA '!J93 -> 0.78 | F24: =APU!H446 -> 45718.75 | G24: =ROUND(E24*F24,2) -> 35660.63
A25: 2.2 | B25: RELLENO Y COMPACTACION MATERIAL SELECCIONADO | D25: M3 | E25: ='MEMORIA DE CANTIDADES DE OBRA '!J102 -> 0.77 | F25: =APU!H503 -> 100319.45 | G25: =ROUND(E25*F25,2) -> 77245.98
A26: 2.3 | B26: SOLADO LIMPIEZA E=0.05 R-14MPA | D26: M2 | E26: ='MEMORIA DE CANTIDADES DE OBRA '!J111 -> 1.12 | F26: =APU!H558 -> 43919.75 | G26: =ROUND(E26*F26,2) -> 49190.12
A27: 2.4 | B27: CONCRETO PARA ZAPATAS R-21MPA | D27: M3 | E27: ='MEMORIA DE CANTIDADES DE OBRA '!J121 -> 0.28 | F27: =APU!H613 -> 1353271 | G27: =ROUND(E27*F27,2) -> 378915.88
A28: 2.5 | B28: CONCRETO VIGA AEREA | D28: M3 | E28: ='MEMORIA DE CANTIDADES DE OBRA '!J131 -> 0.39 | F28: =APU!H668 -> 1353271 | G28: =ROUND(E28*F28,2) -> 527775.69
A29: 2.6 | B29: ACERO DE REFUERZO FY=420MPA, INCLUYE FIGURADO, AMARRE E INSTALACIÓN | D29: KG | E29: ='MEMORIA DE CANTIDADES DE OBRA '!J146 -> 159.11 | F29: =APU!H723 -> 14156.5 | G29: =ROUND(E29*F29,2) -> 2252440.7
A30: 2.7 | B30: CONCRETO COLUMNAS. 21MPA (3000 PSI) | D30: M3 | E30: ='MEMORIA DE CANTIDADES DE OBRA '!J155 -> 0.22 | F30: =APU!H782 -> 1686591.8 | G30: =ROUND(E30*F30,2) -> 371050.2
A31: 2.8 | B31: MURO EN LADRILLO FAROL NUMERO 4 VISTO | D31: M2 | E31: ='MEMORIA DE CANTIDADES DE OBRA '!J165 -> 11.44 | F31: =APU!H840 -> 103718.62 | G31: =ROUND(E31*F31,2) -> 1186541
B32: subtotal | G32: =ROUND((SUM(G24:G31)),2) -> 4878820.2 | H32: 0.32 | I32: =ROUND(G32*H32,2) -> 1561222.5 | J32: =++I32+G32 -> 6440042.7
A33: 3 | B33: MEJORAMIENTOS DE PISOS
A34: 3.1 | B34: CONTRAPISO DE CONCRETO LIVIANO DE RESISTENCIA A COMPRESIÓN 2,5 MPA ESP 6 CM | D34: M2 | E34: ='MEMORIA DE CANTIDADES DE OBRA '!J196 -> 5.88 | F34: =APU!H898 -> 41458.48 | G34: =ROUND(E34*F34,2) -> 243775.86
A35: 3.2 | B35: SUMINISTRO E INSTALACIÓN DE CERAMICA PISO GENERAL (INCLUYE ALISTADO) | D35: M2 | E35: ='MEMORIA DE CANTIDADES DE OBRA '!J206 -> 32.34 | F35: =APU!H954 -> 118250 | G35: =ROUND(E35*F35,2) -> 3824205
A36: 3.3 | B36: GUARDAESCOBA EN CERAMICA | D36: ML | E36: ='MEMORIA DE CANTIDADES DE OBRA '!J216 -> 26.6 | F36: =APU!H1009 -> 16275 | G36: =ROUND(E36*F36,2) -> 432915
B37: subtotal | G37: =ROUND((SUM(G34:G36)),2) -> 4500895.9 | H37: 0.32 | I37: =ROUND(G37*H37,2) -> 1440286.7 | J37: =++I37+G37 -> 5941182.5
A38: 4 | B38: CUBIERTA
A39: 4.1 | B39: ESTRUCTURA METALICA PARA CUBIERTA EN PERFIL C Gr50 100 x 50 x 2.0mm x 6m (Incluye soldadura) | D39: KG | E39: ='MEMORIA DE CANTIDADES DE OBRA '!J228 -> 43.6 | F39: =APU!H1070 -> 26940 | G39: =ROUND(E39*F39,2) -> 1174584
A40: 4.2 | B40: SUMINISTRO E INSTALACION DE TEJA DURATECHO | D40: M2 | E40: ='MEMORIA DE CANTIDADES DE OBRA '!J238 -> 65.68 | F40: =APU!H1126 -> 60810.56 | G40: =ROUND(E40*F40,2) -> 3994037.6
A41: 4.3 | B41: SUMINISTRO E INSTALACION DE CABALLETE | D41: UND | E41: =+'MEMORIA DE CANTIDADES DE OBRA '!J248 -> 9 | F41: =+APU!H1184 -> 56668.89 | G41: =ROUND(E41*F41,2) -> 510020.01
B42: subtotal | G42: =ROUND((SUM(G39:G41)),2) -> 5678641.6 | H42: 0.32 | I42: =ROUND(G42*H42,2) -> 1817165.3 | J42: =++I42+G42 -> 7495806.9
A43: 5 | B43: ACABADOS
A44: 5.1 | B44: SUMINISTRO Y APLICACIÓN ESTUCO PLASTICO ACRILICO SOBRE MUROS | D44: M2 | E44: ='MEMORIA DE CANTIDADES DE OBRA '!J260 -> 147.63 | F44: =APU!H1241 -> 54143.75 | G44: =ROUND(E44*F44,2) -> 7993241.8
...

Sheet MEMORIA DE CANTIDADES DE OBRA 
C1: SECRETARIA DE PLANEACIÓN Y OBRAS PÚBLICAS | D1: CODIGO | F1: 103
D2: SERIE Y SUBSERIE | F2: 51
C3: NIT. 800252922-2
C4: Modelo Integrado de Planeación y Gestión | D4: VERSIÓN | F4: 1
C5: PRESUPUESTO | D5: FECHA DEL FORMATO | F5: D/M/A
F6: 44216
B8: =Presupuesto!A8 -> ADECUACION Y MEJORAMIENTO DE AULAS ESCOLARES UBICADA EN LA INSTITUCION EDUCATIVA TECNICO COMERCIAL LA DORADA SEDE ESCUELA CENTRAL DEL MUNICIPIO DE SAN MIGUEL PUTUMAYO
B11: MEMORIA DE CANTIDADES
B13: =Presupuesto!B14 -> PRELIMINARES
B14: ITEM: 1.1
B15: =Presupuesto!B15 -> REPLANTEO Y LOCALIZACIÓN | J15: M2
B16: Observación | C16: Direccion | D16: Cant | E16: Largo | F16: Ancho | G16: Alto | H16: Área | I16: Volumen | J16: Total
C17: localizacion aula 1 | D17: 1 | E17: 8.8 | F17: 4 | H17: =D17*E17*F17 -> 35.2 | J17: =H17 -> 35.2
C18: localizacion aula 2 | D18: 1 | E18: 7.7 | F18: 4.2 | H18: =D18*E18*F18 -> 32.34 | J18: =H18 -> 32.34
J22: =+E22 -> 0
B23: total | J23: =ROUND((SUM(J17:J22)),2) -> 67.54
B25: ITEM: 1.2
B26: =+Presupuesto!B16 -> CERRAMIENTO PERIMETRAL CON LONA VERDE | J26: =+Presupuesto!D16 -> ML
B27: Observación | C27: Direccion | D27: Cant | E27: Largo | F27: Ancho | G27: Alto | H27: Área | I27: Volumen | J27: Total
C28: Cerramiento perimetral en obra | D28: 1 | E28: 12 | J28: =+E28 -> 12
J31: =+E31 -> 0
B32: total | J32: =ROUND((SUM(J28:J31)),2) -> 12
B34: ITEM: 1.3
B35: =Presupuesto!B17 -> DEMOLICION DE PLACA EN CONCRETO REFORZADO ENTREPISO AULA 2 | J35: =Presupuesto!D17 -> M2
B36: Observación | C36: Direccion | D36: Cant | E36: Largo | F36: Ancho | G36: Alto | H36: Área | I36: Volumen | J36: Total
C37: losa en concreto entrepiso (TERRAZA) | D37: 1 | E37: 6.3 | F37: 4.2 | I37: =D37*E37*F37 -> 26.46 | J37: =I37 -> 26.46
J40: =+E40 -> 0
B41: total | J41: =ROUND((SUM(J37:J40)),2) -> 26.46
B43: ITEM: 1,4
B44: =Presupuesto!B18 -> DESMONTE DE CUBIERTA EXISTENTE | J44: =Presupuesto!D18 -> M2
B45: Observación | C45: Direccion | D45: Cant | E45: Largo | F45: Ancho | G45: Alto | H45: Área | I45: Volumen | J45: Total
C46: cubierta aula 1 | D46: 1 | E46: 11.6 | F46: 5 | H46: =D46*E46*F46 -> 58 | I46: =H46 -> 58 | J46: =I46 -> 58
C47: cubierta aula 2 | D47: 1 | E47: 6.3 | F47: 4.8 | H47: =D47*E47*F47 -> 30.24 | I47: =H47 -> 30.24 | J47: =I47 -> 30.24 | M47: =8.8+0.15+1.8+0.15+0.7 -> 11.6
J48: =H48 -> 0
J49: =H49 -> 0
J50: =H50 -> 0
B51: total | J51: =ROUND((SUM(J46:J50)),2) -> 88.24 | M51: =0.15+1.8 -> 1.95
B53: ITEM: 1,5
B54: =Presupuesto!B19 -> DEMOLICION MANUAL LOSA EN CONCRETO DE AULA 1 | J54: =Presupuesto!D19 -> M2
B55: Observación | C55: Direccion | D55: Cant | E55: Largo | F55: Ancho | G55: Alto | H55: Área | I55: Volumen | J55: Total
...

Sheet APU
C1: SECRETARIA DE PLANEACIÓN Y OBRAS PÚBLICAS | D1: CODIGO | F1: 103
D2: SERIE Y SUBSERIE | F2: 51
C3: NIT. 800252922-2
C4: Modelo Integrado de Planeación y Gestión | D4: VERSIÓN | F4: 1
C5: PRESUPUESTO | D5: FECHA DEL FORMATO | F5: D/M/A
F6: 44216
A8: =Presupuesto!A8 -> ADECUACION Y MEJORAMIENTO DE AULAS ESCOLARES UBICADA EN LA INSTITUCION EDUCATIVA TECNICO COMERCIAL LA DORADA SEDE ESCUELA CENTRAL DEL MUNICIPIO DE SAN MIGUEL PUTUMAYO
A11: ANALISIS DE PRECIOS UNITARIOS
A13: =Presupuesto!A15 -> 1.1 | B13: =Presupuesto!B15 -> REPLANTEO Y LOCALIZACIÓN | G13: Unidad: | H13: ='MEMORIA DE CANTIDADES DE OBRA '!J15 -> M2
A15: I | B15: EQUIPO
B16: DESCRIPCIÓN | D16: Tipo | E16: Tarifa/Día | F16: Rend | G16: V. Unitario.
B17: Herremienta menor | F17: 0.1 | G17: =ROUND((H34*F17),2) -> 316.67
E20: SUBTOTAL. | H20: =SUM(G17:G19) -> 316.67
A21: II | B21: MATERIALES EN OBRA.
B22: DESCRIPCIÓN | D22: Unidad | E22: Cant. | F22: Precio Unit. | G22: V. Unitario.
G23: =ROUND((E23*F23),0) -> 0
G24: =ROUND((E24*F24),0) -> 0
G25: =ROUND((E25*F25),0) -> 0
E28: SUBTOTAL | H28: =(SUM(G23:G25)) -> 0
A29: III | B29: MANO DE OBRA.
A30: CAN | B30: DESCRIPCIÓN | C30: Jornal | D30: Prestac | E30: Jornal Total | F30: Rend | G30: V. Unitario.
A31: 1 | B31: OBREROS | C31: 70000 | D31: 0.75 | E31: =+(A31*C31)+(A31*C31*D31) -> 122500 | F31: 105 | G31: =ROUND((E31)/(F31),2) -> 1166.67
A32: 1 | B32: OFICIAL | C32: 120000 | D32: 0.75 | E32: =+(A32*C32)+(A32*C32*D32) -> 210000 | F32: 105 | G32: =ROUND((E32)/(F32),2) -> 2000
E34: SUBTOTAL | H34: =SUM(G31)+(G32) -> 3166.67
A35: IV | B35: TRANSPORTE
B36: DESCRIPCIÓN | C36: Unidad | D36: Cantidad | E36: Prec.Unitario | G36: Vr. Unitario
E40: SUBTOTAL | H40: =ROUND(SUM(G37)+(G38),0) -> 0
D42: TOTAL COSTOS DIRECTOS. | H42: =ROUND((SUM(H20:H41)),2) -> 3483.34
A44: V | B44: COSTOS INDIRECTOS.
B45: DESCRIPCIÓN | C45: % | D45: COSTO DIRECTO | F45: V. UNITARIO
B46: ADMINISTRACIÓN | C46: 0.28 | G46: =ROUND((H42*C46),2) -> 975.34
B47: IMPREVISTOS | C47: 0.01 | G47: =ROUND((H42*C47),2) -> 34.83
B48: UTILIDAD | C48: 0.03 | G48: =ROUND((H42*C48),2) -> 104.5
D49: TOTAL COSTOS INDIRECTOS | H49: =SUM(G45:G48) -> 1114.67
D51: TOTAL PRECIO UNITARIO. | H51: =H42+H49 -> 4598.01
A54: =++'MEMORIA DE CANTIDADES DE OBRA '!B349 -> ING JHON ALEXANDER ARIAS | E54: =Presupuesto!D65 -> ARQ. GUILLERMO YAMID VALLEJOS BENAVIDES
A55: =++'MEMORIA DE CANTIDADES DE OBRA '!B350 -> APOYO PROFESIONAL SPOPM | E55: =Presupuesto!D66 -> SECRETARIO DE PLANEACION Y OBRAS PUBLICAS
A56: =++'MEMORIA DE CANTIDADES DE OBRA '!B351 -> MP 111037-0703225 NRÑ | E56: =+E113 -> SAN MIGUEL - PUTUMAYO
C58: SECRETARIA DE PLANEACIÓN Y OBRAS PÚBLICAS | D58: CODIGO | F58: 103
D59: SERIE Y SUBSERIE | F59: 51
...

Sheet CRONOGRAMA
A2: CRONOGRAMA DE ACTIVIDADES | G2: SEMANA 1 | H2: SEMANA 2
A3: REHABILITACIÓN DEL SISTEMA DE ALCANTARILLADO SANITARIO Y PLUVIAL - CALLE 5, CARRERA 3, CALLE 4, CALLE 3, CARRERA 2, CARRERA 5 , CARRERA 1ª CARRERA 6- EN EL CORREGIMIENTO DE PUERTO COLÓN MUNICIPIO DE SAN MIGUEL DEPARTAMENTO DEL PUTUMAYO
A5: ITEM | B5: DESCRIPCION | C5: UNIDAD | D5: CANTIDAD | E5: VR/UNITARIO | F5: VR/TOTAL
A6: 1 | B6: PRELIMINARES
A7: 1.1 | B7: Localizacion y replanteo | C7: m2 | D7: =+Presupuesto!#REF! -> #REF! | E7: =+Presupuesto!#REF! -> #REF! | F7: =ROUND((D7*E7),0) -> #REF! | G7: =+F7 -> #REF!
B8: SUBTOTAL | F8: =+F7 -> #REF!
A9: 2 | B9: ESTRUCTURA SANITARIA Y DE PAVIMENTO | J9: 2.55
A10: 2.1 | B10: Excavacion manual | C10: m3 | D10: =+Presupuesto!#REF! -> #REF! | E10: =+Presupuesto!#REF! -> #REF! | F10: =ROUND((D10*E10),0) -> #REF! | G10: =+F10 -> #REF! | J10: 5
A11: 2.2 | B11: Retiro tuberia existente en mal estado | C11: ml | D11: =+Presupuesto!#REF! -> #REF! | E11: =+Presupuesto!#REF! -> #REF! | F11: =ROUND((D11*E11),0) -> #REF! | G11: =+F11 -> #REF! | J11: 2.4
A12: 2.3 | B12: Retiro de material de excavacion y demolicion | C12: m3 | D12: =+Presupuesto!#REF! -> #REF! | E12: =+Presupuesto!#REF! -> #REF! | F12: =ROUND((D12*E12),0) -> #REF! | G12: =+F12 -> #REF! | J12: 1.8
A13: 2.4 | B13: Relleno con material grudo de rio | C13: m3 | D13: =+Presupuesto!#REF! -> #REF! | E13: =+Presupuesto!#REF! -> #REF! | F13: =ROUND((D13*E13),0) -> #REF! | G13: =+F13 -> #REF! | J13: 3.4
A14: 2.5 | B14: Instalacion de tuberia 8" (incluye encamado en arena) | C14: ml | D14: =+Presupuesto!#REF! -> #REF! | E14: =+Presupuesto!#REF! -> #REF! | F14: =ROUND((D14*E14),0) -> #REF! | G14: =+F14 -> #REF! | J14: 2
A15: 2.6 | B15: Kit silla Yee 6" a 8" | C15: und | D15: =+Presupuesto!#REF! -> #REF! | E15: =+Presupuesto!#REF! -> #REF! | F15: =ROUND((D15*E15),0) -> #REF! | G15: =+F15 -> #REF! | J15: 6.6
A16: 2.7 | B16: Relleno con material de excavación seleccionado, compactado | C16: m3 | D16: =+Presupuesto!#REF! -> #REF! | E16: =+Presupuesto!#REF! -> #REF! | F16: =ROUND((D16*E16),0) -> #REF! | H16: =+F16 -> #REF! | J16: 1.2
A17: 2.8 | B17: Subbase compactada con material de selección | C17: m3 | D17: =+Presupuesto!#REF! -> #REF! | E17: =+Presupuesto!#REF! -> #REF! | F17: =ROUND((D17*E17),0) -> #REF! | H17: =+F17 -> #REF! | J17: 2.4
A18: 2.9 | B18: Placa en concreto rigido de 3.8 MPA, e=20 cm incluye juntas de expansion y sellado | C18: m2 | D18: =+Presupuesto!#REF! -> #REF! | E18: =+Presupuesto!#REF! -> #REF! | F18: =ROUND((D18*E18),0) -> #REF! | H18: =+F18 -> #REF! | J18: 6
A19: =+Presupuesto!#REF! -> #REF! | B19: Suministro y aplicación de curador tipo antisol para concreto rigido | C19: m2 | D19: =+Presupuesto!#REF! -> #REF! | E19: =+Presupuesto!#REF! -> #REF! | F19: =ROUND((D19*E19),0) -> #REF! | H19: =+F19 -> #REF!
B20: SUBTOTAL | F20: =+F10+F11+F12+F13+F14+F15+F16+F17+F18+F19 -> #REF!
A21: 3 | B21: ALCANTARILLADO PLUVIAL
A22: 3.1 | B22: Limpieza y sondeo de tuberia 8 y 10" | C22: ml | D22: =+Presupuesto!#REF! -> #REF! | E22: =+Presupuesto!#REF! -> #REF! | F22: =ROUND((D22*E22),0) -> #REF! | H22: =+F22 -> #REF!
A23: 3.2 | B23: Limpieza de camras de inspeción | C23: und | D23: =+'Memoria de Cantidades'!J48 -> 34 | E23: =+Presupuesto!#REF! -> #REF! | F23: =ROUND((D23*E23),0) -> #REF! | H23: =+F23 -> #REF!
A24: 3.3 | B24: Limpieza de sumideros y cajillas (inclulle tuberia sumideros a tubo principal) | C24: und | D24: =+'Memoria de Cantidades'!J50 -> 11 | E24: =+Presupuesto!#REF! -> #REF! | F24: =ROUND((D24*E24),0) -> #REF! | H24: =+F24 -> #REF!
B25: SUBTOTAL | F25: =+F22+F23+F24 -> #REF! | G25: =SUM(G7:G24) -> #REF! | H25: =SUM(H16:H24) -> #REF!
B26: TOTAL COSTO DIRECTO OBRA | F26: =+F8+F20+F25 -> #REF!
B29: =+'Memoria de Cantidades'!B52 -> ALABORÓ: | F29: =+'Memoria de Cantidades'!E52 -> Vo.Bo.
B34: =+'Memoria de Cantidades'!B56 -> 0 | F34: =+'Memoria de Cantidades'!E56 -> ARQ. GUILLERMO YAMID VALLEJOS BENAVIDES
B35: =+'Memoria de Cantidades'!B57 -> 0 | F35: =+'Memoria de Cantidades'!E57 -> SECRETARIO DE PLANEACION Y OBRAS PUBLICAS
B36: =+'Memoria de Cantidades'!B58 -> #REF! | F36: =+'Memoria de Cantidades'!E58 -> SAN MIGUEL - PUTUMAYO

Sheet Memoria de Cantidades
A1: REPUBLICA DE COLOMBIA
A2: DEPARTAMENTO DEL PUTUMAYO
A3: MUNICIPIO DE SAN MIGUEL
A5: MEMORIA DE CANTIDADES
A6: =+Presupuesto!#REF! -> #REF!
A7: ITEM | B7: Descripción | C7: Und | D7: L (m) | E7: A (m) | F7: H(m) | G7: Área(m2) | H7: Volumen(m3) | I7: Kg | J7: Unidad | K7: Cantidad
A8: 1 | B8: PRELIMINARES
A9: 1.1 | B9: Localización y replanteo | C9: m2 | K9: =+G10 -> 3.5
B10: Sector la Vega calle 3 entre crr 2 y 3 | D10: 7 | E10: 0.5 | G10: =--D10*E10 -> 3.5
A11: 1.2 | B11: Demolicion placa existente | C11: m2 | K11: =+G12 -> 1
B12: =B10 -> Sector la Vega calle 3 entre crr 2 y 3 | D12: 2.5 | E12: 0.4 | G12: =--E12*D12 -> 1
A13: 2 | B13: ESTRUCTURA SANITARIA Y DE PAVIMENTO
A14: 2.1 | B14: Excavacion manual | C14: m3 | K14: =SUM(H15:H15) -> 2.55
B15: =B12 -> Sector la Vega calle 3 entre crr 2 y 3 | D15: 3.4 | E15: 0.5 | F15: 1.5 | H15: =+D15*E15*F15 -> 2.55
A16: 2.2 | B16: Retiro tuberia existente en mal estado | C16: ml | K16: =--D17 -> 2.5
B17: =B15 -> Sector la Vega calle 3 entre crr 2 y 3 | D17: 2.5
A18: 2.3 | B18: Retiro de material de excavacion y demolicion | C18: m3 | K18: =--H19 -> 1.7
B19: =B17 -> Sector la Vega calle 3 entre crr 2 y 3 | D19: 2.5 | E19: 1.7 | F19: 0.4 | H19: =+D19*E19*F19 -> 1.7
A20: 2.4 | B20: Relleno con material crudo de rio | C20: m3 | K20: =--H21 -> 0.375
B21: =B19 -> Sector la Vega calle 3 entre crr 2 y 3 | D21: =+D19 -> 2.5 | E21: 0.5 | F21: 0.3 | H21: =+D21*E21*F21 -> 0.375
A22: 2.5 | B22: Instalacion de tuberia 6" (incluye encamado en arena) | C22: ml | K22: =D23 -> 3.4
B23: =B21 -> Sector la Vega calle 3 entre crr 2 y 3 | D23: 3.4
A24: 2.6 | B24: Kit silla tee 6" a 12" | C24: und | K24: =--J25 -> 1
B25: =B23 -> Sector la Vega calle 3 entre crr 2 y 3 | J25: 1
A26: 2.7 | B26: Relleno con material de sitio seleccionado, compactado | C26: m3 | K26: =SUM(H27:H27) -> 1.625
B27: =B25 -> Sector la Vega calle 3 entre crr 2 y 3 | D27: 2.5 | E27: 0.5 | F27: 1.3 | H27: =+D27*E27*F27 -> 1.625
A28: 2.8 | B28: Subbase compactada con material de selección | C28: m3 | K28: =SUM(H29:H29) -> 0.5
B29: =B27 -> Sector la Vega calle 3 entre crr 2 y 3 | D29: 2.5 | E29: 1 | F29: 0.2 | H29: =--D29*E29*F29 -> 0.5
A30: 2.9 | B30: Placa en concreto rigido de 21 MPA, e=20 cm incluye juntas de expansion y sellado | C30: m2 | K30: =--G31 -> 0.88
B31: =B29 -> Sector la Vega calle 3 entre crr 2 y 3 | D31: 2.2 | E31: 0.4 | G31: =--D31*E31 -> 0.88
A32: 2.1 | B32: Suministro y aplicación de curador tipo antisol para concreto rigido | C32: m2 | K32: =--G33 -> 3
B33: =B31 -> Sector la Vega calle 3 entre crr 2 y 3 | D33: 3 | E33: 1 | G33: =--D33*E33 -> 3
A34: 3 | B34: ALCANTARILLADO SANITARIO Y PLUVIAL
A35: 4.1 | B35: =+Presupuesto!#REF! -> #REF! | C35: ml | K35: =SUM(K36:K46) -> 2328
B36: Carrera 3 sector de la entrada hasta estación de policia. | D36: =39.92+79.82+74.24+103.26+60.09+66.59+18.82+27 -> 469.74 | K36: =+D36 -> 469.74
B37: Calle 5 entre crr 5 a crr 3. | D37: =34.26+85.26+80.22+90.32+14.17 -> 304.23 | K37: =+D37 -> 304.23
B38: Carrera 3 entre calles 5 y 3. | D38: =21.71+11.22+12.57+47.95+38.64+14.74 -> 146.83 | K38: =+D38 -> 146.83
B39: Calle 3 entre crr 2 y crr 3 | D39: =42.91+56.52+56.63 -> 156.06 | K39: =+D39 -> 156.06
B40: Carrera 2 al descole del aserradero | D40: 180 | K40: =+D40 -> 180
B41: carrera 2 | D41: =40.24+23.31+79.03 -> 142.58 | K41: =+D41 -> 142.58
...

Sheet F.M 
D1: SECRETARIA DE PLANEACIÓN Y OBRAS PÚBLICAS | E1: CODIGO | F1: 103
E2: SERIE Y SUBSERIE | F2: 51
D3: NIT. 800252922-2
D4: Modelo Integrado de Planeación y Gestión | E4: VERSIÓN | F4: 1
D5: PRESUPUESTO | E5: FECHA DEL FORMATO | F5: D/M/A
F6: 44216
B8: =Presupuesto!A8 -> ADECUACION Y MEJORAMIENTO DE AULAS ESCOLARES UBICADA EN LA INSTITUCION EDUCATIVA TECNICO COMERCIAL LA DORADA SEDE ESCUELA CENTRAL DEL MUNICIPIO DE SAN MIGUEL PUTUMAYO
B11: FACTOR PRESTACIONAL PARA PERSONAL PROFESIONAL, ADMINISTRATIVO Y TECNICO | G11: %
B12: A. | D12: VALOR BASE (Sueldo) | G12: 100
B13: B. | D13: PRESTACIONES SOCIALES | G13: =SUM(G14:G29) -> 75.432
C14: a. | D14: Cesantías | F14: (A/12) | G14: 8.33
C15: b. | D15: Intereses sobre cesantía | F15: (a*12%) | G15: 1
C16: c. | D16: Prima anual | F16: (A/12) | G16: 8.33
C17: d. | D17: Caja de Compensación | F17: % A | G17: 4
C18: e. | D18: SENA | F18: % A | G18: 2
C19: f. | D19: ICBF | F19: % A | G19: 3
C20: g. | D20: Sistema de seguridad social : Salud | F20: % A | G20: 8.5
C21: h. | D21: Sistema de seguridad social : Pensiòn | F21: % A | G21: 12
C22: i. | D22: ARP personal en obra | F22: % A | G22: 6.96
C23: j. | D23: ARP personal en oficina | F23: % A | G23: 0.522
C24: k. | D24: Vacaciones | F24: (15/360*100) | G24: 4.17
C25: l. | D25: Ausencias justificadas | F25: (3/360*100) | G25: 0.83
... C29: p | D29: Bonoficación rereación | F29: % A | G29: 2
B30: C. | D30: SUMA (A + B) | G30: =G12+G13 -> 175.432
B32: E. | D32: FACTOR PRESTACIONAL | G32: =G30 -> 175.432
D33: FACTOR PRESTACIONAL FINAL | G33: =ROUND(G32/100,2) -> 1.75
B37: =+Presupuesto!D65 -> ARQ. GUILLERMO YAMID VALLEJOS BENAVIDES
B38: =+Presupuesto!D66 -> SECRETARIO DE PLANEACION Y OBRAS PUBLICAS
B39: =+Presupuesto!D67 -> SAN MIGUEL - PUTUMAYO

Sheet CRONOGRAMA--
C1: SECRETARIA DE PLANEACIÓN Y OBRAS PÚBLICAS | E1: CODIGO | G1: 103
E2: SERIE Y SUBSERIE | G2: 51
C3: NIT. 800252922-2
C4: Modelo Integrado de Planeación y Gestión | E4: VERSIÓN | G4: 1
C5: PRESUPUESTO | E5: FECHA DEL FORMATO | G5: D/M/A
G6: 44216
A8: =Presupuesto!A8 -> ADECUACION Y MEJORAMIENTO DE AULAS ESCOLARES UBICADA EN LA INSTITUCION EDUCATIVA TECNICO COMERCIAL LA DORADA SEDE ESCUELA CENTRAL DEL MUNICIPIO DE SAN MIGUEL PUTUMAYO
A11: CRONOGRAMA
I12: SEMANA 1 | J12: SEMANA 2 | K12: SEMANA 3 | L12: SEMANA 4
A13: ITEM | B13: DESCRIPCION | D13: UNIDAD | E13: CANTIDAD | F13: V/UNITARIO | G13: V/TOTAL | H13: %
A14: 1 | B14: =Presupuesto!B15 -> REPLANTEO Y LOCALIZACIÓN
A15: =Presupuesto!A15 -> 1.1 | B15: =Presupuesto!B15 -> REPLANTEO Y LOCALIZACIÓN | D15: =Presupuesto!D15 -> M2 | E15: =Presupuesto!E15 -> 67.54 | F15: =Presupuesto!F15 -> 3483.34 | G15: =ROUND(E15*F15,2) -> 235264.78 | H15: =G15/G60 -> 0.0047998556 | I15: =G15 -> 235264.78
A16: 1.2 | B16: CERRAMIENTO PERIMETRAL CON LONA VERDE | D16: =+Presupuesto!D16 -> ML | E16: =+'MEMORIA DE CANTIDADES DE OBRA '!J32 -> 12 | F16: =+APU!H99 -> 9437.95 | G16: =ROUND(E16*F16,2) -> 113255.4 | H16: =G16/G60 -> 0.0023106287 | I16: =+G16 -> 113255.4
A17: =Presupuesto!A17 -> 1.3 | B17: =Presupuesto!B17 -> DEMOLICION DE PLACA EN CONCRETO REFORZADO ENTREPISO AULA 2 | D17: =Presupuesto!D17 -> M2 | E17: =Presupuesto!E17 -> 26.46 | F17: =Presupuesto!F17 -> 102816.66 | G17: =ROUND(E17*F17,2) -> 2720528.8 | H17: =G17/G60 -> 0.055504038 | J17: =+G17 -> 2720528.8
A18: =Presupuesto!A18 -> 1.4 | B18: =Presupuesto!B18 -> DESMONTE DE CUBIERTA EXISTENTE | D18: =Presupuesto!D18 -> M2 | E18: =Presupuesto!E18 -> 88.24 | F18: =Presupuesto!F18 -> 20410 | G18: =ROUND(E18*F18,2) -> 1800978.4 | H18: =G18/G60 -> 0.036743435 | I18: =G18/2 -> 900489.2 | J18: =G18/2 -> 900489.2
A19: =Presupuesto!A19 -> 1.5 | B19: =Presupuesto!B19 -> DEMOLICION MANUAL LOSA EN CONCRETO DE AULA 1 | D19: =Presupuesto!D19 -> M2 | E19: =Presupuesto!E19 -> 6.6 | F19: =Presupuesto!F19 -> 20300 | G19: =ROUND(E19*F19,2) -> 133980 | H19: =G19/G60 -> 0.0027334506 | I19: =G19 -> 133980
A20: 1.5 | B20: DEMOLICION MANUAL MURO AULA 2 (EJE B) | D20: =Presupuesto!D20 -> M2 | E20: =Presupuesto!E20 -> 10.4 | F20: =Presupuesto!F20 -> 33805.56 | G20: =ROUND(E20*F20,2) -> 351577.82 | H20: =G20/G60 -> 0.007172866 | I20: =+G20 -> 351577.82
A21: =Presupuesto!A21 -> 1.7 | B21: =Presupuesto!B21 -> RETIRO Y DISPOSICION DE MATERIAL SOBRANTE | D21: =Presupuesto!D21 -> M3 | E21: =Presupuesto!E21 -> 31.08 | F21: =Presupuesto!F21 -> 39630 | G21: =ROUND(E21*F21,2) -> 1231700.4 | H21: =G21/G60 -> 0.025129065 | I21: =G21/2 -> 615850.2 | J21: =G21/2 -> 615850.2
B23: =Presupuesto!B23 -> CIMENTACION, CONCRETOS Y MAMPOSTERIA
A24: =Presupuesto!A24 -> 2.1 | B24: =Presupuesto!B24 -> EXCAVACION MANUAL EN MATERIAL COMUN | D24: =Presupuesto!D24 -> M3 | E24: =Presupuesto!E24 -> 0.78 | F24: =Presupuesto!F24 -> 45718.75 | G24: =ROUND(E24*F24,2) -> 35660.63 | H24: =G24/G60 -> 0.00072754567 | J24: =+G24 -> 35660.63
A25: =Presupuesto!A25 -> 2.2 | B25: =Presupuesto!B25 -> RELLENO Y COMPACTACION MATERIAL SELECCIONADO | D25: =Presupuesto!D25 -> M3 | E25: =Presupuesto!E25 -> 0.77 | F25: =Presupuesto!F25 -> 100319.45 | G25: =ROUND(E25*F25,2) -> 77245.98 | H25: =G25/G60 -> 0.0015759671 | J25: =+G25 -> 77245.98
A26: =Presupuesto!A26 -> 2.3 | B26: =Presupuesto!B26 -> SOLADO LIMPIEZA E=0.05 R-14MPA | D26: =Presupuesto!D26 -> M2 | E26: =Presupuesto!E26 -> 1.12 | F26: =Presupuesto!F26 -> 43919.75 | G26: =ROUND(E26*F26,2) -> 49190.12 | H26: =G26/G60 -> 0.0010035734 | J26: =+G26 -> 49190.12
A27: =Presupuesto!A27 -> 2.4 | B27: =Presupuesto!B27 -> CONCRETO PARA ZAPATAS R-21MPA | D27: =Presupuesto!D27 -> M3 | E27: =Presupuesto!E27 -> 0.28 | F27: =Presupuesto!F27 -> 1353271 | G27: =ROUND(E27*F27,2) -> 378915.88 | H27: =G27/G60 -> 0.0077306152 | J27: =+G27 -> 378915.88
A28: =Presupuesto!A28 -> 2.5 | B28: =Presupuesto!B28 -> CONCRETO VIGA AEREA | D28: =Presupuesto!D28 -> M3 | E28: =Presupuesto!E28 -> 0.39 | F28: =Presupuesto!F28 -> 1353271 | G28: =ROUND(E28*F28,2) -> 527775.69 | H28: =G28/G60 -> 0.010767643 | K28: =+G28 -> 527775.69
A29: =Presupuesto!A29 -> 2.6 | B29: =Presupuesto!B29 -> ACERO DE REFUERZO FY=420MPA, INCLUYE FIGURADO, AMARRE E INSTALACIÓN | D29: =Presupuesto!D29 -> KG | E29: =Presupuesto!E29 -> 159.11 | F29: =Presupuesto!F29 -> 14156.5 | G29: =ROUND(E29*F29,2) -> 2252440.7 | H29: =G29/G60 -> 0.045954138 | J29: =+G29 -> 2252440.7
A30: =Presupuesto!A30 -> 2.7 | B30: =Presupuesto!B30 -> CONCRETO COLUMNAS. 21MPA (3000 PSI) | D30: =Presupuesto!D30 -> M3 | E30: =Presupuesto!E30 -> 0.22 | F30: =Presupuesto!F30 -> 1686591.8 | G30: =ROUND(E30*F30,2) -> 371050.2 | H30: =G30/G60 -> 0.0075701402 | K30: =+G30 -> 371050.2
A31: =Presupuesto!A31 -> 2.8 | B31: =Presupuesto!B31 -> MURO EN LADRILLO FAROL NUMERO 4 VISTO | D31: =Presupuesto!D31 -> M2 | E31: =Presupuesto!E31 -> 11.44 | F31: =Presupuesto!F31 -> 103718.62 | G31: =ROUND(E31*F31,2) -> 1186541 | H31: =G31/G60 -> 0.024207727 | K31: =+G31 -> 1186541
B33: =Presupuesto!B33 -> MEJORAMIENTOS DE PISOS
A34: =Presupuesto!A34 -> 3.1 | B34: =Presupuesto!B34 -> CONTRAPISO DE CONCRETO LIVIANO DE RESISTENCIA A COMPRESIÓN 2,5 MPA ESP 6 CM | D34: =Presupuesto!D34 -> M2 | E34: =Presupuesto!E34 -> 5.88 | F34: =Presupuesto!F34 -> 41458.48 | G34: =ROUND(E34*F34,2) -> 243775.86 | H34: =G34/G60 -> 0.004973498 | I34: =+G34/2 -> 121887.93 | K34: =+G34/2 -> 121887.93
A35: =Presupuesto!A35 -> 3.2 | B35: =Presupuesto!B35 -> SUMINISTRO E INSTALACIÓN DE CERAMICA PISO GENERAL (INCLUYE ALISTADO) | D35: =Presupuesto!D35 -> M2 | E35: =Presupuesto!E35 -> 32.34 | F35: =Presupuesto!F35 -> 118250 | G35: =ROUND(E35*F35,2) -> 3824205 | H35: =G35/G60 -> 0.078021162 | K35: =+G35/2 -> 1912102.5 | L35: =+G35/2 -> 1912102.5
A36: =Presupuesto!A36 -> 3.3 | B36: =Presupuesto!B36 -> GUARDAESCOBA EN CERAMICA | D36: =Presupuesto!D36 -> ML | E36: =Presupuesto!E36 -> 26.6 | F36: =Presupuesto!F36 -> 16275 | G36: =ROUND(E36*F36,2) -> 432915 | H36: =G36/G60 -> 0.0088323015 | L36: =+G36 -> 432915
B37: =Presupuesto!B38 -> CUBIERTA
A38: =Presupuesto!A39 -> 4.1 | B38: =Presupuesto!B39 -> ESTRUCTURA METALICA PARA CUBIERTA EN PERFIL C Gr50 100 x 50 x 2.0mm x 6m (Incluye soldadura) | D38: =Presupuesto!D39 -> KG | E38: =Presupuesto!E39 -> 43.6 | F38: =Presupuesto!F39 -> 26940 | G38: =ROUND(E38*F38,2) -> 1174584 | H38: =G38/G60 -> 0.02396378 | K38: =+G38 -> 1174584
A39: =Presupuesto!A40 -> 4.2 | B39: =Presupuesto!B40 -> SUMINISTRO E INSTALACION DE TEJA DURATECHO | D39: =Presupuesto!D40 -> M2 | E39: =Presupuesto!E40 -> 65.68 | F39: =Presupuesto!F40 -> 60810.56 | G39: =ROUND(E39*F39,2) -> 3994037.6 | H39: =G39/G60 -> 0.081486075 | I39: =+G39 -> 3994037.6
A40: =Presupuesto!A41 -> 4.3 | B40: CABALLETE | D40: UND | E40: =+Presupuesto!E41 -> 9 | F40: =Presupuesto!F41 -> 56668.89 | G40: =ROUND(E40*F40,2) -> 510020.01 | H40: =G40/G60 -> 0.010405393 | I40: =+G40 -> 510020.01
B41: =Presupuesto!B43 -> ACABADOS
A42: =Presupuesto!A44 -> 5.1 | B42: =Presupuesto!B44 -> SUMINISTRO Y APLICACIÓN ESTUCO PLASTICO ACRILICO SOBRE MUROS | D42: =Presupuesto!D44 -> M2 | E42: =Presupuesto!E44 -> 147.63 | F42: =Presupuesto!F44 -> 54143.75 | G42: =ROUND(E42*F42,2) -> 7993241.8 | H42: =G42/G60 -> 0.16307756 | J42: =+G42/2 -> 3996620.9 | K42: =+G42/2 -> 3996620.9
A43: =Presupuesto!A45 -> 5.2 | B43: =Presupuesto!B45 -> SUMINISTRO Y APLICACIÓN PINTURA CORAZA PARA EXTERIORES 3 MANOS | D43: =Presupuesto!D45 -> M2 | E43: =Presupuesto!E45 -> 147.63 | F43: =Presupuesto!F45 -> 14651.32 | G43: =ROUND(E43*F43,2) -> 2162974.4 | H43: =G43/G60 -> 0.044128852 | J43: =+G43/2 -> 1081487.2 | L43: =+G43/2 -> 1081487.2
A44: =Presupuesto!A46 -> 5.3 | B44: =Presupuesto!B46 -> VENTANA TIPO REJA EN MARCO GALVANIZADO BARRA CUADRADA MEDIDAS 3,43X1,5 m | D44: =Presupuesto!D46 -> UND | E44: =Presupuesto!E46 -> 1 | F44: =Presupuesto!F46 -> 1341437.5 | G44: =ROUND(E44*F44,2) -> 1341437.5 | H44: =G44/G60 -> 0.027367914 | L44: =+G44 -> 1341437.5
A45: =Presupuesto!A47 -> 5.4 | B45: =Presupuesto!B47 -> VENTANA TIPO REJA EN MARCO GALVANIZADO BARRA CUADRADA MEDIDAS 1,40X1,50 m | D45: =Presupuesto!D47 -> UND | E45: =Presupuesto!E47 -> 1 | F45: =Presupuesto!F47 -> 691437.5 | G45: =ROUND(E45*F45,2) -> 691437.5 | H45: =G45/G60 -> 0.014106659 | L45: =+G45 -> 691437.5
...

Sheet DESGLOSE AIU
B1: SECRETARIA DE PLANEACIÓN Y OBRA PÚBLICAS | D1: CÓDIGO | E1: 103
D2: SERIE Y SUBSERIE | E2: 51
B3: NIT. 800252922-2
B4: Modelo Integrado de Planeación y Gestión | D4: VERSIÓN | E4: 1
B5: PRESUPUESTO | D5: FECHA DEL FORMATO | E5: D/M/A
E6: 44216
A8: =Presupuesto!A8 -> ADECUACION Y MEJORAMIENTO DE AULAS ESCOLARES UBICADA EN LA INSTITUCION EDUCATIVA TECNICO COMERCIAL LA DORADA SEDE ESCUELA CENTRAL DEL MUNICIPIO DE SAN MIGUEL PUTUMAYO
A11: DESGLOCE A.I.U
A13: SALARIO PERSONAL ADMINISTRATIVO DE OBRA
A14: PERSONAL | B14: SUELDO BASICO | C14: FACTOR PRESTACIONAL | E14: SUELDO + PRESTACIONES
A15: Residente de Obra | B15: 2000000 | C15: 1.75 | E15: =B15*C15 -> 3500000
A16: 1. ADMINISTRACION | G16: IVA | H16: =H50/1.19 -> 936114.8
A17: 1.1. PERSONAL ADMINISTRATIVO DE OBRA | B17: SUELDO + PRESTACIONES | C17: DEDICACION | D17: MESES | E17: VALOR PARCIAL | F17: % SOBRE COSTO DIRECTO | G17: VALOR TOTAL PPTO | H17: =Presupuesto!G61 -> 49014971
A18: Residente de Obra | B18: =E15 -> 3500000 | C18: 0.5 | D18: 1 | E18: =ROUND((B18*C18*D18),0) -> 1750000 | F18: =E18/E52 -> 0.047128458 | G18: VALOR TOTAL PPTO-IVA | H18: =H17-H16 -> 48078856
A19: 1.2. COSTOS DEL PROCESO
A20: Polizas y legalizacion del contrato | E20: 300000 | F20: =E20/$E$52 -> 0.0080791643
A21: 1.3. GASTOS DE OBRA
A22: Edicion de informes Fotografias | E22: 107728.28 | F22: =E22/$E$52 -> 0.0029011816
A23: Seguridad Industrial | E23: 180000 | F23: =E23/$E$52 -> 0.0048474986
A24: 1.3 IMPUESTOS DE OBRA
A25: Retefuente | E25: =H18*G25 -> 961577.12 | F25: =E25/$E$52 -> 0.025895798 | G25: 0.02
A26: Servicios (reteica) contratos de obra, y consultorias | E26: =H18*G26 -> 480788.56 | F26: =E26/$E$52 -> 0.012947899 | G26: 0.01
A27: Contribucion ciudadana | E27: =G27*$H$17 -> 2450748.5 | F27: =E27/$E$52 -> 0.066 | G27: 0.05
A28: ESTAMPILLAS
A29: Estampilla para el bienestar del adulto mayor | E29: =G29*$H$17 -> 1960598.8 | F29: =E29/$E$52 -> 0.0528 | G29: 0.04
A30: estampilla procultura | E30: =G30*$H$17 -> 980299.42 | F30: =E30/$E$52 -> 0.0264 | G30: 0.02
A31: estampilla para justicia | E31: =G31*$H$17 -> 980299.42 | F31: =E31/$E$52 -> 0.0264 | G31: 0.02
A32: tasa prodeporte contrato de minima cuantia desde 1 a 28 SLMV | E32: =G32*$H$17 -> 245074.85 | F32: =E32/$E$52 -> 0.0066 | G32: 0.005
A33: TOTAL ADMINISTRACION | E33: =ROUND(SUM(E18:E32),2) -> 10397115 | F33: =SUM(F18:F32) -> 0.28 | G33: =H48 -> 10397115
A35: 2. IMPREVISTOS
A36: DESCRIPCION | D36: VALOR PARCIAL | F36: PORCENTAJE
A37: IMPREVISTOS | D37: =ROUND((F37*E52),2) -> 371325.54 | F37: 0.01
A38: TOTAL IMPREVISTO | D38: =D37 -> 371325.54 | F38: =SUM(F37) -> 0.01
A40: 3. UTILIDAD
A41: DESCRIPCION | D41: VALOR PARCIAL | F41: PORCENTAJE
A42: UTILIDAD | D42: =ROUND((F42*E52),2) -> 1113976.6 | F42: 0.03
A43: TOTAL UTILIDAD | D43: =D42 -> 1113976.6 | F43: =SUM(F42) -> 0.03
A45: TOTAL COSTO DIRECTO A.I.U
A46: RESUMEN
A47: DESCRIPCION | D47: VALOR PARCIAL | F47: PORCENTAJE | G47: total obra
...

Sheet BASICOS RURAL
B1: SECRETARIA DE PLANEACIÓN Y OBRA PÚBLICAS | E1: CÓDIGO | G1: 103
E2: SERIE Y SUBSERIE | G2: 51
B3: NIT. 800252922-2
B4: Modelo Integrado de Planeación y Gestión | E4: VERSIÓN | G4: 1
B5: PRESUPUESTO | E5: FECHA DEL FORMATO | G5: D/M/A
G6: 44216
A7: =Presupuesto!A8 -> ADECUACION Y MEJORAMIENTO DE AULAS ESCOLARES UBICADA EN LA INSTITUCION EDUCATIVA TECNICO COMERCIAL LA DORADA SEDE ESCUELA CENTRAL DEL MUNICIPIO DE SAN MIGUEL PUTUMAYO
A12: BASICOS ZONA RURAL
A13: ANALISIS DE PRECIOS UNITARIOS
A15: BASICO I | B15: CONCRETO 3000 PSI | G15: Unidad: | H15: M3
A17: I | B17: HERRAMIENTA Y EQUIPO
B18: DESCRIPCIÓN | D18: Unidad | E18: Tarifa/Día | F18: Rend | G18: V. Unitario. | I18: ALQUILER EQUIPOS
B19: Mezcladora | D19: Hora | E19: =M19 -> 15000 | F19: 3.5 | G19: =E19*F19 -> 52500 | I19: TROMPO | J19: capa 2 bultos dia | L19: 120000 | M19: =L19/8 -> 15000
B20: Vibrador | D20: Hora | E20: =M20 -> 12500 | F20: 3.5 | G20: =E20*F20 -> 43750 | I20: VIBRO | J20: alquiler dia | L20: 100000 | M20: =L20/8 -> 12500
E21: SUBTOTAL. | H21: =ROUND(SUM(G19:G20),0) -> 96250
A22: II | B22: MATERIALES EN OBRA. | I22: COSTOS PUESTO EN ZONA RURAL DISPERSA
B23: DESCRIPCIÓN | D23: Unidad | E23: Cant. | F23: Precio Unit. | G23: V. Unitario. | I23: CEMENTO | J23: bulto 50Kg, con transpr | L23: 40000 | M23: =L23/50 -> 800
B24: CEMENTO GRIS TIPO 1 | D24: KG | E24: 350 | F24: =M23 -> 800 | G24: =+F24*E24 -> 280000 | I24: ARENA | J24: viaje de volqueta 5 M3 | L24: 800000 | M24: =L24/5 -> 160000
B25: AGUA | D25: LTS | E25: 210 | F25: 180 | G25: =+F25*E25 -> 37800 | I25: TRITURADO | J25: viaje de volqueta 5 M3 | L25: 1625000 | M25: =L25/5 -> 325000
B26: ARENA DE RIO | D26: M3 | E26: 0.56 | F26: =M24 -> 160000 | G26: =+F26*E26 -> 89600
B27: TRITURADO | D27: M3 | E27: 0.84 | F27: =M25 -> 325000 | G27: =+F27*E27 -> 273000
E28: SUBTOTAL | H28: =(SUM(G24:G27)) -> 680400
A29: III | B29: MANO DE OBRA.
B30: DESCRIPCIÓN | C30: H-H | D30: Prestac | E30: Cant. | F30: Rend. | G30: V. Unitario.
E32: SUBTOTAL | H32: =SUM(G31) -> 0
A33: IV | B33: TRANSPORTE
B34: DESCRIPCIÓN | C34: Unidad | D34: Cantidad | E34: Prec.Unitario | G34: Vr. Unitario
E36: SUBTOTAL | H36: =SUM(G35) -> 0
D38: TOTAL COSTOS DIRECTOS. | H38: =ROUND(SUM(H21:H37),0) -> 776650
A39: V | B39: COSTOS INDIRECTOS.
B40: DESCRIPCIÓN | C40: % | D40: COSTO DIRECTO | F40: V. UNITARIO
B41: ADMINISTRACIÓN | C41: 0.1 | G41: =+H38*C41 -> 77665
B42: IMPREVISTOS | C42: 0.02 | G42: =+H38*C42 -> 15533
D43: TOTAL COSTOS INDIRECTOS | H43: =SUM(G41:G42) -> 93198
D45: TOTAL PRECIO UNITARIO. | H45: =ROUND((H38+H43),0) -> 869848
A50: =Presupuesto!D65 -> ARQ. GUILLERMO YAMID VALLEJOS BENAVIDES
A51: =Presupuesto!D66 -> SECRETARIO DE PLANEACION Y OBRAS PUBLICAS
A52: =Presupuesto!D67 -> SAN MIGUEL - PUTUMAYO
B53: SECRETARIA DE PLANEACIÓN Y OBRA PÚBLICAS | E53: CÓDIGO | G53: 103
E54: SERIE Y SUBSERIE | G54: 51
...

Sheet BASICOS URBANOS
B1: SECRETARIA DE PLANEACIÓN Y OBRA PÚBLICAS | E1: CÓDIGO | G1: 103
E2: SERIE Y SUBSERIE | G2: 51
B3: NIT. 800252922-2
B4: Modelo Integrado de Planeación y Gestión | E4: VERSIÓN | G4: 1
B5: PRESUPUESTO | E5: FECHA DEL FORMATO | G5: D/M/A
G6: 44216
A7: =Presupuesto!A8 -> ADECUACION Y MEJORAMIENTO DE AULAS ESCOLARES UBICADA EN LA INSTITUCION EDUCATIVA TECNICO COMERCIAL LA DORADA SEDE ESCUELA CENTRAL DEL MUNICIPIO DE SAN MIGUEL PUTUMAYO
A12: BASICOS ZONA RURAL
A13: ANALISIS DE PRECIOS UNITARIOS
A15: BASICO I | B15: CONCRETO 3000 PSI | G15: Unidad: | H15: M3
A17: I | B17: HERRAMIENTA Y EQUIPO
B18: DESCRIPCIÓN | D18: Unidad | E18: Tarifa/Día | F18: Rend | G18: V. Unitario. | I18: ALQUILER EQUIPOS
B19: Mezcladora | D19: Hora | E19: =M19 -> 15000 | F19: 3.5 | G19: =E19*F19 -> 52500 | I19: TROMPO | J19: capa 2 bultos dia | L19: 120000 | M19: =L19/8 -> 15000
B20: Vibrador | D20: Hora | E20: =M20 -> 12500 | F20: 3.5 | G20: =E20*F20 -> 43750 | I20: VIBRO | J20: alquiler dia | L20: 100000 | M20: =L20/8 -> 12500
E21: SUBTOTAL. | H21: =ROUND(SUM(G19:G20),0) -> 96250
A22: II | B22: MATERIALES EN OBRA. | I22: COSTOS PUESTO EN ZONA RURAL DISPERSA
B23: DESCRIPCIÓN | D23: Unidad | E23: Cant. | F23: Precio Unit. | G23: V. Unitario. | I23: CEMENTO | J23: bulto 50Kg, con transpr | L23: 38000 | M23: =L23/50 -> 760
B24: CEMENTO GRIS TIPO 1 | D24: KG | E24: 350 | F24: =M23 -> 760 | G24: =+F24*E24 -> 266000 | I24: ARENA | J24: viaje de volqueta 6 M3 | L24: 300000 | M24: =L24/6 -> 50000
B25: AGUA | D25: LTS | E25: 210 | F25: 180 | G25: =+F25*E25 -> 37800 | I25: TRITURADO | J25: viaje de volqueta 6 M3 | L25: 1500000 | M25: =L25/6 -> 250000
B26: ARENA DE RIO | D26: M3 | E26: 0.56 | F26: =M24 -> 50000 | G26: =+F26*E26 -> 28000
B27: TRITURADO | D27: M3 | E27: 0.84 | F27: =M25 -> 250000 | G27: =+F27*E27 -> 210000
E28: SUBTOTAL | H28: =(SUM(G24:G27)) -> 541800
A29: III | B29: MANO DE OBRA.
B30: DESCRIPCIÓN | C30: H-H | D30: Prestac | E30: Cant. | F30: Rend. | G30: V. Unitario.
E32: SUBTOTAL | H32: =SUM(G31) -> 0
A33: IV | B33: TRANSPORTE
B34: DESCRIPCIÓN | C34: Unidad | D34: Cantidad | E34: Prec.Unitario | G34: Vr. Unitario
E36: SUBTOTAL | H36: =SUM(G35) -> 0
D38: TOTAL COSTOS DIRECTOS. | H38: =ROUND(SUM(H21:H37),0) -> 638050
A39: V | B39: COSTOS INDIRECTOS.
B40: DESCRIPCIÓN | C40: % | D40: COSTO DIRECTO | F40: V. UNITARIO
B41: ADMINISTRACIÓN | C41: 0.1 | G41: =+H38*C41 -> 63805
B42: IMPREVISTOS | C42: 0.02 | G42: =+H38*C42 -> 12761
D43: TOTAL COSTOS INDIRECTOS | H43: =SUM(G41:G42) -> 76566
D45: TOTAL PRECIO UNITARIO. | H45: =ROUND((H38+H43),0) -> 714616
A50: =Presupuesto!D65 -> ARQ. GUILLERMO YAMID VALLEJOS BENAVIDES
A51: =Presupuesto!D66 -> SECRETARIO DE PLANEACION Y OBRAS PUBLICAS
A52: =Presupuesto!D67 -> SAN MIGUEL - PUTUMAYO
B53: SECRETARIA DE PLANEACIÓN Y OBRA PÚBLICAS | E53: CÓDIGO | G53: 103
E54: SERIE Y SUBSERIE | G54: 51
...
