Workbook
Name \0: #REF!
Name \0: #REF!
Name \0: #REF!
Name \00: #REF!
Name \00: #REF!
Name \00: #REF!
Name \a: #REF!
Name \a: #REF!
Name \a: #REF!
Name \a: #REF!
Name \a: #REF!
Name \a: #REF!
Name \a: #REF!
Name \a: #REF!
Name \a: #REF!
Name \AA: [1]LIQUIDACION!#REF!
Name \AA: [1]LIQUIDACION!#REF!
Name \AA: [1]LIQUIDACION!#REF!
Name \b: [2]STRSUMM0!#REF!
Name \b: [2]STRSUMM0!#REF!
Name \b: [2]STRSUMM0!#REF!
Name \bb: [2]STRSUMM0!#REF!
Name \bb: [2]STRSUMM0!#REF!
Name \bb: [2]STRSUMM0!#REF!
Name \E: #REF!
Name \E: #REF!
Name \E: #REF!
Name \EE: #REF!
Name \EE: #REF!
Name \EE: #REF!
Name \G: #REF!
Name \G: #REF!
Name \G: #REF!
Name \k: '[3]7422CW00'!#REF!
Name \k: '[3]7422CW00'!#REF!
Name \k: '[3]7422CW00'!#REF!
Name \l: [4]STRSUMM0!#REF!
Name \l: [4]STRSUMM0!#REF!
Name \l: [4]STRSUMM0!#REF!
Name \M: #REF!
Name \M: #REF!
Name \M: #REF!
Name \ñ: '[5]7422CW00'!#REF!
Name \ñ: '[5]7422CW00'!#REF!
Name \ñ: '[5]7422CW00'!#REF!
Name \P: #REF!
Name \P: #REF!
Name \P: #REF!
Name \R: #REF!
Name \R: #REF!
Name \R: #REF!
Name \s: #REF!
Name \s: #REF!
Name \s: #REF!
Name \s: #REF!
Name \s: #REF!
Name \s: #REF!
Name \s: #REF!
Name \s: #REF!
Name \s: #REF!

Sheet PRESUPUESTO OFICIAL
C3: INSTITUTO NACIONAL DE VIAS
C4: DIRECCION OPERATIVA
C5: LICITACIÓN PÚBLICA
C6: “CONTINUACIÓN DE LA CONSTRUCCIÓN, MEJORAMIENTO, REHABILITACIÓN, MANTENIMIENTO, GESTIÓN SOCIAL, PREDIAL Y AMBIENTAL DE LA TRONCAL DEL MAGDALENA, TRAMO PUERTO ARAUJO - SAN ALBERTO EN EL DEPARTAMENTO DE SANTANDER”
C8: PRESUPUESTO OFICIAL
C9: FORMULARIO 1
C12: Nº | D12: ITEM DE PAGO | E12: ESPECIFICACIONES | G12: DESCRIPCION | H12: UND. | I12: CANTIDAD | J12: VALOR UNITARIO | K12: VALOR TOTAL
E13: GENERAL | F13: PARTICULAR
C14: EXPLANACIONES
C15: 1 | D15: 200.2 | E15: 200-13 | G15: Desmonte y limpieza en zonas no boscosas | H15: Ha | I15: 11 | J15: 878062 | K15: 9658682
C16: 2 | D16: 210.2.1 | E16: 210-13 | G16: Excavación en roca de la explanación y canales | H16: m3 | I16: 920 | J16: 31955 | K16: 29398600
C17: 3 | D17: 210.2.2 | E17: 210-13 | G17: Excavaciones en material común de la Explanación y Canales | H17: m3 | I17: 18402 | J17: 7355 | K17: 135346710
C18: 4 | D18: 220.1 | E18: 220-13 | G18: Terraplenes | H18: m3 | I18: 362276 | J18: 7819 | K18: 2832636044
C19: 5 | D19: 220.1P | F19: 220.1P | G19: Suministro de material suelto seleccionado para Terraplen | H19: m3 | I19: 470959 | J19: 9240 | K19: 4351661160
C20: 6 | D20: 230.1P | F20: 230.1P | G20: Mejoramiento de la subrasante con adición de materiales (incluye material | H20: m3 | I20: 35831 | J20: 39475 | K20: 1414428725
C21: 7 | D21: 200P | F21: 200P | G21: Conformación de sitios de disposicion de sobrantes | H21: m3 | I21: 19980 | J21: 2449 | K21: 48931020
C22: Subtotal | K22: 8822060941
C23: BASES, SUBBASES Y AFIRMADOS
C24: 8 | D24: 351,10 | E24: 351-13 | G24: Base tratada con cemento (no incluye suministro de cemento) | H24: m3 | I24: 51894 | J24: 148138 | K24: 7687473372
C25: 9 | D25: 351.12 | E25: 351-13 | G25: Cemento hidráulico para base tratada con cemento | H25: kg | I25: 2156754 | J25: 691 | K25: 1490317014
C26: Subtotal | K26: 9177790386
C27: PAVIMENTOS ASFALTICOS
C28: 10 | D28: 420.2 | E28: 420-13 | G28: Riego de imprimación con emulsión asfáltica CRL‐1 | H28: m2 | I28: 621355 | J28: 2946 | K28: 1830511830
C29: 11 | D29: 421.1 | E29: 421-13 | G29: Riego de liga con emulsión asfáltica CRR-1 | H29: m2 | I29: 618388 | J29: 1819 | K29: 1124847772
C30: 12 | D30: 450.2P | F30: 450.1.2P | G30: Mezcla densa en caliente Tipo MDC-19 | H30: m3 | I30: 36333 | J30: 698453 | K30: 25376892849
C31: 13 | D31: 450.2.1P | F31: 450.2.1P | G31: Mezcla densa en caliente Tipo MDC-19 con suministro de cemento asfaltico modificado con polimieros tipo III | H31: m3 | I31: 15528 | J31: 808073 | K31: 12547757544
C32: 14 | D32: 450.9P | F32: 450.9P | G32: Mezcla densa en caliente Tipo MDC-19 para bacheos | H32: m3 | I32: 14533 | J32: 746617 | K32: 10850584861
C33: 15 | D33: 460.1P | F33: 460.1P | G33: Fresado de pavimento asfaltico | H33: m3 | I33: 40938 | J33: 48963 | K33: 2004447294
C34: 16 | D34: 466.1 | E34: 466-13 | G34: Sello de grietas en pavimento asfaltico sin ruteo | H34: m | I34: 105150 | J34: 3806 | K34: 400200900
C35: Subtotal | K35: 54135243050
C36: ESTRUCTURAS Y DRENAJES
C37: 17 | D37: 600.1.1 | E37: 600-13 | G37: Excavaciones varias sin clasificar | H37: m3 | I37: 8085 | J37: 14489 | K37: 117143565
C38: 18 | D38: 600.2.1 | E38: 600-13 | G38: Excavaciones varias en roca en seco | H38: m3 | I38: 809 | J38: 53717 | K38: 43457053
C39: 19 | D39: 600.2.3 | E39: 600-13 | G39: Excavaciones varias en material comun en seco | H39: m3 | I39: 5189 | J39: 13139 | K39: 68178271
C40: 20 | D40: 610.1 | E40: 610-13 | G40: Rellenos para Estructuras con suelo (producto de la excavaciòn) | H40: m3 | I40: 6522 | J40: 31198 | K40: 203473356
C41: 21 | D41: 610.3 | E41: 610-13 | G41: Rellenos para estructuras con material granular tipo SBG. | H41: m3 | I41: 1260 | J41: 158985 | K41: 200321100
C42: 22 | D42: 630.1.1P | F42: 630.1.1P | G42: Concreto clase 35 MPA, para vigas puentes tipo 1. | H42: m3 | I42: 51 | J42: 1012343 | K42: 51629493
C43: 23 | D43: 630.3.4P | F43: 630.3.4P | G43: Concreto clase 28 MPA para tablero y anden | H43: m3 | I43: 242 | J43: 815418 | K43: 197331156
C44: 24 | D44: 630.4 | E44: 630-13 | G44: Concreto clase 21MPA | H44: m3 | I44: 7728 | J44: 564214 | K44: 4360245792
C45: 25 | D45: 640.1 | E45: 640-13 | G45: Acero de refuerzo Fy=420 Mpa. | H45: kg | I45: 475612 | J45: 4487 | K45: 2134071044
...

Sheet PPTO CONSTRUCCION
C2: INSTITUTO NACIONAL DE VIAS
C3: DIRECCION OPERATIVA
C4: LICITACIÓN PÚBLICA
C5: =+#REF! -> #REF!
C7: PRESUPUESTO OFICIAL
C8: FORMULARIO 1
C11: Nº | D11: ITEM DE PAGO | E11: ESPECIFICACIONES | G11: DESCRIPCION | H11: UND. | I11: CANTIDAD | J11: VALOR UNITARIO | K11: VALOR TOTAL | P11: VALOR TOTAL
E12: GENERAL | F12: PARTICULAR
C13: EXPLANACIONES
C14: 1 | D14: 200.2 | E14: 200-13 | G14: Desmonte y limpieza en zonas no boscosas | H14: Ha | I14: =ROUND(#REF!+#REF!*20/10000,0) -> #REF! | J14: =+'200.2'!N78 -> 878062 | K14: =I14*J14 -> #REF! | O14: =K14/$K$85 -> #REF! | P14: 8009838
C15: =#REF!+1 -> #REF! | D15: 210.2.1 | E15: 210-13 | G15: Excavación en roca de la explanación y canales | H15: m3 | I15: 22284 | J15: =+'210.2.1'!N81 -> 31955 | K15: =I15*J15 -> 712085220 | O15: =K15/$K$85 -> #REF! | P15: 9.8735366e+08
C16: =C15+1 -> #REF! | D16: 210.2.2 | E16: 210-13 | G16: Excavaciones en material común de la Explanación y Canales | H16: m3 | I16: =#REF!-22284 -> #REF! | J16: =+'210.2.2'!N81 -> 7355 | K16: =I16*J16 -> #REF! | O16: =K16/$K$85 -> #REF! | P16: 1.944171e+09
C17: =#REF!+1 -> #REF! | D17: 220.1 | E17: 220-13 | G17: Terraplenes | H17: m3 | I17: =ROUND(#REF!,0) -> #REF! | J17: ='220.1'!N81 -> 7819 | K17: =I17*J17 -> #REF! | M17: =#REF!+#REF!+#REF!+#REF!*1.3 -> #REF! | O17: =K17/$K$85 -> #REF! | P17: 1.7191024e+09
C18: =#REF!+1 -> #REF! | D18: 220.1P | F18: 220.1P | G18: Suministro de material suelto seleccionado para corona de Terraplen (No incluye Transporte) | H18: m3 | I18: =ROUND(I17*1.3,0) -> #REF! | J18: ='220.1 P'!$N$81 -> 9240 | K18: =I18*J18 -> #REF!
C19: =C18+1 -> #REF! | D19: 221.1P | F19: 221.1P | G19: Suministro de material suelto para mejoramiento de la subrasante (No incluye Transporte) | H19: m3 | I19: =I20*1.4 -> #REF! | J19: ='221.1P'!$N$81 -> #REF! | K19: =I19*J19 -> #REF!
C20: =#REF!+1 -> #REF! | D20: 230.1P | F20: 230.1P | G20: Mejoramiento de la subrasante con adición de materiales | H20: m3 | I20: =#REF! -> #REF! | J20: =+'230.1P'!$N$81 -> 39475 | K20: =I20*J20 -> #REF! | M20: =I20/(10000*18) -> #REF! | P20: 37592100
C21: Subtotal | K21: =ROUND(SUM(K14:K20),0) -> #REF! | P21: 6613600751
C22: BASES, SUBBASES Y AFIRMADOS
C23: =#REF!+1 -> #REF! | D23: 320.1P | F23: 320.1P | G23: Subbase tratada con cemento (no incluye suministro de cemento) | H23: m3 | I23: =ROUND(#REF!,0) -> #REF! | J23: =+#REF! -> #REF! | K23: =I23*J23 -> #REF! | M23: =I23/(15000*11.85) -> #REF! | O23: =K23/$K$85 -> #REF! | P23: 9.7986344e+09
C24: =#REF!+1 -> #REF! | D24: 330.1 | E24: 330-13 | G24: Base granular clase A | H24: m3 | J24: =+#REF! -> #REF! | K24: =I24*J24 -> #REF! | M24: =(I24)/(14000*11.8) -> 0 | O24: =K24/$K$85 -> #REF! | P24: 7.2040254e+09
C25: =C24+1 -> #REF! | D25: 330.4 | E25: 330-13 | G25: Base granular para bacheo clase A | H25: m3 | J25: =#REF! -> #REF! | K25: =I25*J25 -> #REF! | O25: =K25/$K$85 -> #REF! | P25: 0
C26: =#REF!+1 -> #REF! | D26: 351,10 | E26: 351-13 | G26: Base tratada con cemento (no incluye suministro de cemento) | H26: m3 | I26: =ROUND(#REF!,0) -> #REF! | J26: ='351.10'!N78 -> 148138 | K26: =I26*J26 -> #REF! | M26: =I26/(15000*11.8) -> #REF! | O26: =K26/$K$85 -> #REF! | P26: 3.5182809e+08
C27: =C26+1 -> #REF! | D27: 351.12 | E27: 351-13 | G27: Cemento hidráulico para base tratada con cemento | H27: kg | I27: =ROUND(#REF!,0) -> #REF! | J27: ='351.12'!$N$77 -> 691 | K27: =I27*J27 -> #REF! | O27: =K27/$K$85 -> #REF! | P27: 1.5429777e+08
C28: Subtotal | K28: =ROUND(SUM(K23:K27),0) -> #REF! | P28: 17508785668
C29: PAVIMENTOS ASFALTICOS
C30: =#REF!+1 -> #REF! | D30: 420.2 | E30: 420-13 | G30: Riego de imprimación con emulsión asfáltica CRL‐1 | H30: m2 | I30: =ROUND((#REF!+#REF!*1000)*11.5,0) -> #REF! | J30: =+'420.2'!N77 -> 2946 | K30: =I30*J30 -> #REF! | M30: =14000*10.8 -> 151200 | O30: =K30/$K$85 -> #REF! | P30: 4.5860088e+08
C31: =C30+1 -> #REF! | D31: 421.1 | E31: 421-13 | G31: Riego de liga con emulsión asfáltica CRR-1 | H31: m2 | J31: ='421.1'!N77 -> 1819 | K31: =I31*J31 -> 0 | O31: =K31/$K$85 -> #REF! | P31: 2.9743713e+08
C32: =#REF!+1 -> #REF! | D32: 450.1.2P | F32: 450.1.2P | G32: Mezcla densa en caliente Tipo MDC-25 para capa intermedia | H32: m3 | J32: ='450.2P'!N78 -> 698453 | K32: =I32*J32 -> 0 | O32: =K32/$K$85 -> #REF! | P32: 83724376
C33: =#REF!+1 -> #REF! | D33: 450.2.1P | F33: 450.2.1P | G33: Mezcla densa en caliente Tipo MDC-19 con suministro de cemento asfaltico modificado con polimieros tipo III | H33: m3 | I33: =ROUND(#REF!,0)-1887 -> #REF! | J33: ='450.2.1P'!N78 -> 808073 | K33: =I33*J33 -> #REF! | M33: =I33/(15000*11.8) -> #REF! | O33: =K33/$K$85 -> #REF! | P33: 1.9644839e+10
C34: =#REF!+1 -> #REF! | D34: 450.9P | F34: 450.9P | G34: Mezcla densa en caliente Tipo MDC-19 para bacheos | H34: m3 | J34: ='450.9 P'!N78 -> 746617 | K34: =I34*J34 -> 0 | P34: 0
C35: =#REF!+1 -> #REF! | D35: 460.1P | F35: 460.1P | G35: Fresado de pavimento asfaltico | H35: m3 | J35: ='460.1P'!N78 -> 48963 | K35: =I35*J35 -> 0 | P35: 0
C36: =#REF!+1 -> #REF! | D36: 465.1 | E36: 465-13 | G36: Excavación para reparación de pavimento asfáltico existente incluyendo el corte y la remoción de las capas asfálticas y de las subyacentes. | H36: m3 | J36: =#REF! -> #REF! | K36: =I36*J36 -> #REF! | P36: 0
C37: =C36+1 -> #REF! | D37: 466.1 | E37: 466-13 | G37: Sello de grietas en pavimento asfaltico sin ruteo | H37: m | J37: ='466.1P'!N79 -> 3806 | K37: =I37*J37 -> 0 | P37: 0
C38: =C37+1 -> #REF! | D38: 467.13P | F38: 467.13P | G38: Mezclas asfálticas en caliente con cemento asfáltico modificado con grano de caucho reciclado (GCR) (M-GCR-19) | H38: m3 | I38: 1887 | J38: =#REF! -> #REF! | K38: =I38*J38 -> #REF! | P38: 1922833068
C39: Subtotal | K39: =ROUND(SUM(K30:K38),0) -> #REF! | P39: 22407433995
C40: ESTRUCTURAS Y DRENAJES
C41: =C37+1 -> #REF! | D41: 600.1.1 | E41: 600-13 | G41: Excavaciones varias sin clasificar | H41: m3 | I41: =ROUND(#REF!+#REF!+#REF!,0) -> #REF! | J41: =+'600.1.1'!N79 -> 14489 | K41: =I41*J41 -> #REF! | O41: =K41/$K$85 -> #REF! | P41: 1.3180449e+08
C42: =C41+1 -> #REF! | D42: 600.2.1 | E42: 600-13 | G42: Excavaciones varias en roca en seco | H42: m3 | I42: =I41*0.1 -> #REF! | J42: =+'600.2.1'!N83 -> 53717 | K42: =I42*J42 -> #REF! | O42: =K42/$K$85 -> #REF! | P42: 0
C43: =#REF!+1 -> #REF! | D43: 600.2.3 | E43: 600-13 | G43: Excavaciones varias en material comun en seco | H43: m3 | I43: =ROUND(#REF!,0) -> #REF! | J43: =+'600.2.3'!N82 -> 13139 | K43: =I43*J43 -> #REF! | O43: =K43/$K$85 -> #REF! | P43: 43003517
C44: =#REF!+1 -> #REF! | D44: 610.1 | E44: 610-13 | G44: Rellenos para Estructuras con suelo (producto de la excavaciòn) | H44: m3 | I44: =#REF!+#REF!+#REF!+#REF!+#REF!+#REF! -> #REF! | J44: ='610.1'!N81 -> 31198 | K44: =I44*J44 -> #REF! | O44: =K44/$K$85 -> #REF! | P44: 1.4067802e+08
...

Sheet PRESUPUESTO ACUMULADO
C3: INSTITUTO NACIONAL DE VIAS
C4: DIRECCION OPERATIVA
C5: LICITACIÓN PÚBLICA
C6: =+#REF! -> #REF! | N6: =900*10.8*0.09 -> 874.8
N7: =N6*I65 -> 7.0690226e+08
C8: PRESUPUESTO OFICIAL
C9: FORMULARIO 1 | M9: =K18+M18+O18+Q18+S18 -> 11.9 | P9: no lo tienen en las cantidades ani | R9: ok | AC9: ok
K10: ok | P10: 76800 | Q10: 77700
C12: Nº | D12: ITEM DE PAGO | E12: ESPECIFICACIONES | G12: DESCRIPCION | H12: UND. | I12: VALOR UNITARIO | J12: CANTIDAD H31N | K12: VALOR TOTAL H31 N | L12: CANTIDAD H32N | M12: VALOR TOTAL H32N | N12: CANTIDAD H34N | O12: VALOR TOTAL H34N | P12: CANTIDAD H35N | Q12: VALOR TOTAL H35N | R12: CANTIDAD H36N | S12: VALOR TOTAL H36N | T12: CANTIDAD ACUMULADO ANI | V12: VALOR TOTAL ANI | W12: CANTIDAD MANTENIMIENTO H18E AL H36E CALCULADAS APROX TRAMOS FALTANTES | X12: VALOR TOTAL MANTENIMIENTO H18E AL H36 E | Y12: CANTIDAD H 34N CALCULADAS APROX | Z12: VALOR TOTAL H34 N CALCULADAS APROX (PR 61+360 AL 63+227) | AA12: CANTIDAD H 35N CALCULADAS APROX | AB12: VALOR TOTAL H35 N CALCULADAS APROX (; PR 76+800 AL 77+700; 83+500 A 84+170; 84240 AL 84+285) | AC12: CANTIDAD ACUMULADO CALCULADAS APROX | AD12: VALOR TOTAL H36 N CALCULADAS APROX (PR 86+420 AL 87+900; PR 90+150 AL 90+715) | AE12: CANTIDAD TOTALCALCULADAS APROX | AF12: VALOR TOTAL CALCULADAS APROX | AG12: CANTIDAD TOTAL | AH12: VALOR TOTAL (ANI + INVIAS) | AI12: CANTIDAD TOTAL H31 N (PR30+537 al 31+896) | AJ12: VALOR TOTAL | AK12: CANTIDAD TOTAL H34 N (PR 66+000 al 66+580) | AL12: VALOR TOTAL | AM12: CANTIDAD TOTAL PROPUESTA INVIAS | AN12: VALOR TOTAL PROPUESTA INVIAS
E13: GENERAL | F13: PARTICULAR
J14: 30537 | K14: 31896 | L14: 40100 | M14: 40429 | N14: 58214 | O14: 61360 | P14: 74553 | Q14: 74575 | R14: 86365 | S14: 86420 | Y14: 61360 | Z14: 61420 | AA14: 76800 | AB14: 77750 | AC14: 86420 | AD14: 87900 | AI14: 30537 | AJ14: 31896 | AK14: 66000 | AL14: 66580
J15: 39200 | K15: 40100 | L15: 46210 | M15: 47053 | N15: 63227 | O15: 65737 | P15: 77700 | Q15: 77750 | R15: 87900 | S15: 88420 | Y15: 61420 | Z15: 63227 | AA15: 83500 | AB15: 84170 | AC15: 90150 | AD15: 90715
L16: 47090 | M16: 48183 | N16: 66000 | O16: 66580 | P16: 84170 | Q16: 84240 | R16: 89820 | S16: 90150 | AA16: 84240 | AB16: 84285
R17: 90715 | S17: 90770 | AI17: DIFERENCIA H31N | AJ17: =ROUND((AJ14-AI14)/1000,1) -> 1.4 | AK17: DIFERENCIA H31N | AL17: =ROUND((AL14-AK14)/1000,1) -> 0.6
C18: EXPLANACIONES | J18: CONSTRUCCION | K18: =ROUND(((K14-J14)+(K15-J15))/1000,1) -> 2.3 | L18: REHABILTAR | M18: =ROUND(((M14-L14)+(M15-L15)+(M16-L16))/1000,1) -> 2.3 | N18: CONSTRUCCION | O18: =ROUND(((O14-N14)+(O15-N15)+(O16-N16))/1000,1) -> 6.2 | P18: CONSTRUCCION | Q18: =ROUND(((Q14-P14)+(Q15-P15)+(Q16-P16))/1000,1) -> 0.1 | R18: CONSTRUCCION | S18: =ROUND(((S14-R14)+(S15-R15)+(S16-R16)+(S17-R17))/1000,1) -> 1 | Y18: CONSTRUCION | Z18: =ROUND(((Z14-Y14)+(Z15-Y15)+(Z16-Y16))/1000,1) -> 1.9 | AA18: CONSTRUCION | AB18: =ROUND(((AB14-AA14)+(AB15-AA15)+(AB16-AA16))/1000,1) -> 1.7 | AC18: CONSTRUCION | AD18: =ROUND(((AD14-AC14)+(AD15-AC15)+(AD16-AC16))/1000,1) -> 2
C19: 1 | D19: 1P | F19: 1P | G19: Localización y replanteo | H19: Ha | I19: =+#REF! -> #REF! | K19: =I19*J19 -> #REF! | M19: =L19*I19 -> #REF! | O19: =N19*I19 -> #REF! | Q19: =I19*P19 -> #REF! | S19: =R19*I19 -> #REF! | T19: =J19+L19+N19+P19+R19 -> 0 | V19: =I19*T19 -> #REF! | X19: =W19*I19 -> #REF! | Z19: =Y19*I19 -> #REF! | AB19: =AA19*I19 -> #REF! | AD19: =I19*AC19 -> #REF! | AE19: =Y19+AA19+AC19+W19 -> 0 | AF19: =AE19*I19 -> #REF! | AG19: =T19+AE19 -> 0 | AH19: =V19+AF19 -> #REF! | AJ19: =AI19*I19 -> #REF! | AL19: =AK19*I19 -> #REF! | AM19: =AG19-AI19-AK19 -> 0 | AN19: =AM19*I19 -> #REF!
C20: =C19+1 -> 2 | D20: 200.1 | E20: 200-13 | G20: Desmonte y limpieza en bosque | H20: Ha | I20: =#REF! -> #REF! | K20: =I20*J20 -> #REF! | M20: =L20*I20 -> #REF! | O20: =N20*I20 -> #REF! | Q20: =I20*P20 -> #REF! | S20: =R20*I20 -> #REF! | T20: =J20+L20+N20+P20+R20 -> 0 | V20: =I20*T20 -> #REF! | X20: =W20*I20 -> #REF! | Z20: =Y20*I20 -> #REF! | AB20: =AA20*I20 -> #REF! | AD20: =I20*AC20 -> #REF! | AE20: =Y20+AA20+AC20+W20 -> 0 | AF20: =AE20*I20 -> #REF! | AG20: =T20+AE20 -> 0 | AH20: =V20+AF20 -> #REF! | AJ20: =AI20*I20 -> #REF! | AL20: =AK20*I20 -> #REF! | AM20: =AG20-AI20-AK20 -> 0 | AN20: =AM20*I20 -> #REF!
C21: =C20+1 -> 3 | D21: 200.2 | E21: 200-13 | G21: Desmonte y limpieza en zonas no boscosas | H21: Ha | I21: =+'200.2'!N78 -> 878062 | K21: =I21*J21 -> 0 | M21: =L21*I21 -> 0 | O21: =N21*I21 -> 0 | Q21: =I21*P21 -> 0 | S21: =R21*I21 -> 0 | T21: =J21+L21+N21+P21+R21 -> 0 | V21: =I21*T21 -> 0 | X21: =W21*I21 -> 0 | Y21: =(1867*20)/10000 -> 3.734 | Z21: =Y21*I21 -> 3278683.5 | AA21: =(AB18*1000)/10000 -> 0.17 | AB21: =AA21*I21 -> 149270.54 | AC21: =(2045*20)/10000 -> 4.09 | AD21: =I21*AC21 -> 3591273.6 | AE21: =Y21+AA21+AC21+W21 -> 7.994 | AF21: =AE21*I21 -> 7019227.6 | AG21: =T21+AE21 -> 7.994 | AH21: =V21+AF21 -> 7019227.6 | AJ21: =AI21*I21 -> 0 | AL21: =AK21*I21 -> 0 | AM21: =AG21-AI21-AK21 -> 7.994 | AN21: =AM21*I21 -> 7019227.6
C22: =C21+1 -> 4 | D22: 201.7 | E22: 201-13 | G22: Demolición de Estructuras | H22: m3 | I22: =+#REF! -> #REF! | K22: =I22*J22 -> #REF! | M22: =L22*I22 -> #REF! | O22: =N22*I22 -> #REF! | Q22: =I22*P22 -> #REF! | S22: =R22*I22 -> #REF! | T22: =J22+L22+N22+P22+R22 -> 0 | V22: =I22*T22 -> #REF! | X22: =W22*I22 -> #REF! | Z22: =Y22*I22 -> #REF! | AB22: =AA22*I22 -> #REF! | AD22: =I22*AC22 -> #REF! | AE22: =Y22+AA22+AC22+W22 -> 0 | AF22: =AE22*I22 -> #REF! | AG22: =T22+AE22 -> 0 | AH22: =V22+AF22 -> #REF! | AJ22: =AI22*I22 -> #REF! | AL22: =AK22*I22 -> #REF! | AM22: =AG22-AI22-AK22 -> 0 | AN22: =AM22*I22 -> #REF!
C23: =C22+1 -> 5 | D23: 201.8 | E23: 201-13 | G23: Demolición de pavimentos rigidos | H23: m2 | I23: =#REF! -> #REF! | K23: =I23*J23 -> #REF! | M23: =L23*I23 -> #REF! | O23: =N23*I23 -> #REF! | Q23: =I23*P23 -> #REF! | S23: =R23*I23 -> #REF! | T23: =J23+L23+N23+P23+R23 -> 0 | V23: =I23*T23 -> #REF! | X23: =W23*I23 -> #REF! | Z23: =Y23*I23 -> #REF! | AB23: =AA23*I23 -> #REF! | AD23: =I23*AC23 -> #REF! | AE23: =Y23+AA23+AC23+W23 -> 0 | AF23: =AE23*I23 -> #REF! | AG23: =T23+AE23 -> 0 | AH23: =V23+AF23 -> #REF! | AJ23: =AI23*I23 -> #REF! | AL23: =AK23*I23 -> #REF! | AM23: =AG23-AI23-AK23 -> 0 | AN23: =AM23*I23 -> #REF!
C24: =C23+1 -> 6 | D24: 201.9 | E24: 201-13 | G24: Demoliciónde pisos y andenes de concreto | H24: m2 | I24: =#REF! -> #REF! | K24: =I24*J24 -> #REF! | M24: =L24*I24 -> #REF! | O24: =N24*I24 -> #REF! | Q24: =I24*P24 -> #REF! | S24: =R24*I24 -> #REF! | T24: =J24+L24+N24+P24+R24 -> 0 | V24: =I24*T24 -> #REF! | X24: =W24*I24 -> #REF! | Z24: =Y24*I24 -> #REF! | AB24: =AA24*I24 -> #REF! | AD24: =I24*AC24 -> #REF! | AE24: =Y24+AA24+AC24+W24 -> 0 | AF24: =AE24*I24 -> #REF! | AG24: =T24+AE24 -> 0 | AH24: =V24+AF24 -> #REF! | AJ24: =AI24*I24 -> #REF! | AL24: =AK24*I24 -> #REF! | AM24: =AG24-AI24-AK24 -> 0 | AN24: =AM24*I24 -> #REF!
C25: =C24+1 -> 7 | D25: 201.10 | E25: 201-13 | G25: Demolición de bordillos de concreto | H25: m | I25: =#REF! -> #REF! | K25: =I25*J25 -> #REF! | M25: =L25*I25 -> #REF! | O25: =N25*I25 -> #REF! | Q25: =I25*P25 -> #REF! | S25: =R25*I25 -> #REF! | T25: =J25+L25+N25+P25+R25 -> 0 | V25: =I25*T25 -> #REF! | X25: =W25*I25 -> #REF! | Z25: =Y25*I25 -> #REF! | AB25: =AA25*I25 -> #REF! | AD25: =I25*AC25 -> #REF! | AE25: =Y25+AA25+AC25+W25 -> 0 | AF25: =AE25*I25 -> #REF! | AG25: =T25+AE25 -> 0 | AH25: =V25+AF25 -> #REF! | AJ25: =AI25*I25 -> #REF! | AL25: =AK25*I25 -> #REF! | AM25: =AG25-AI25-AK25 -> 0 | AN25: =AM25*I25 -> #REF!
C26: =C25+1 -> 8 | D26: 201.15 | E26: 201.13 | G26: Remoción de alcantarillas | H26: m | I26: =+#REF! -> #REF! | K26: =I26*J26 -> #REF! | M26: =L26*I26 -> #REF! | O26: =N26*I26 -> #REF! | Q26: =I26*P26 -> #REF! | S26: =R26*I26 -> #REF! | T26: =J26+L26+N26+P26+R26 -> 0 | V26: =I26*T26 -> #REF! | X26: =W26*I26 -> #REF! | Z26: =Y26*I26 -> #REF! | AB26: =AA26*I26 -> #REF! | AD26: =I26*AC26 -> #REF! | AE26: =Y26+AA26+AC26+W26 -> 0 | AF26: =AE26*I26 -> #REF! | AG26: =T26+AE26 -> 0 | AH26: =V26+AF26 -> #REF! | AJ26: =AI26*I26 -> #REF! | AL26: =AK26*I26 -> #REF! | AM26: =AG26-AI26-AK26 -> 0 | AN26: =AM26*I26 -> #REF!
C27: =C26+1 -> 9 | D27: 201.16 | E27: 201-13 | G27: Remoción de cercas de alambre | H27: m | I27: =+#REF! -> #REF! | K27: =I27*J27 -> #REF! | M27: =L27*I27 -> #REF! | O27: =N27*I27 -> #REF! | Q27: =I27*P27 -> #REF! | S27: =R27*I27 -> #REF! | T27: =J27+L27+N27+P27+R27 -> 0 | V27: =I27*T27 -> #REF! | X27: =W27*I27 -> #REF! | Z27: =Y27*I27 -> #REF! | AB27: =AA27*I27 -> #REF! | AD27: =I27*AC27 -> #REF! | AE27: =Y27+AA27+AC27+W27 -> 0 | AF27: =AE27*I27 -> #REF! | AG27: =T27+AE27 -> 0 | AH27: =V27+AF27 -> #REF! | AJ27: =AI27*I27 -> #REF! | AL27: =AK27*I27 -> #REF! | AM27: =AG27-AI27-AK27 -> 0 | AN27: =AM27*I27 -> #REF!
C28: =C27+1 -> 10 | D28: 201.17 | E28: 201-13 | G28: Traslado de postes | H28: u | I28: =#REF! -> #REF! | K28: =I28*J28 -> #REF! | M28: =L28*I28 -> #REF! | O28: =N28*I28 -> #REF! | Q28: =I28*P28 -> #REF! | S28: =R28*I28 -> #REF! | T28: =J28+L28+N28+P28+R28 -> 0 | V28: =I28*T28 -> #REF! | X28: =W28*I28 -> #REF! | Z28: =Y28*I28 -> #REF! | AB28: =AA28*I28 -> #REF! | AD28: =I28*AC28 -> #REF! | AE28: =Y28+AA28+AC28+W28 -> 0 | AF28: =AE28*I28 -> #REF! | AG28: =T28+AE28 -> 0 | AH28: =V28+AF28 -> #REF! | AJ28: =AI28*I28 -> #REF! | AL28: =AK28*I28 -> #REF! | AM28: =AG28-AI28-AK28 -> 0 | AN28: =AM28*I28 -> #REF!
C29: =C28+1 -> 11 | D29: 210.2.1 | E29: 210-13 | G29: Excavación en roca de la explanación y canales | H29: m3 | I29: =+'210.2.1'!N81 -> 31955 | K29: =I29*J29 -> 0 | M29: =L29*I29 -> 0 | O29: =N29*I29 -> 0 | Q29: =I29*P29 -> 0 | S29: =R29*I29 -> 0 | T29: =J29+L29+N29+P29+R29 -> 0 | V29: =I29*T29 -> 0 | X29: =W29*I29 -> 0 | Y29: =Y30*0.05 -> #REF! | Z29: =Y29*I29 -> #REF! | AA29: =AA30*0.02 -> #REF! | AB29: =AA29*I29 -> #REF! | AC29: =AC30*0.05 -> #REF! | AD29: =I29*AC29 -> #REF! | AE29: =Y29+AA29+AC29+W29 -> #REF! | AF29: =AE29*I29 -> #REF! | AG29: =T29+AE29 -> #REF! | AH29: =V29+AF29 -> #REF! | AJ29: =AI29*I29 -> 0 | AL29: =AK29*I29 -> 0 | AM29: =AG29-AI29-AK29 -> #REF! | AN29: =AM29*I29 -> #REF!
C30: =C29+1 -> 12 | D30: 210.2.2 | E30: 210-13 | G30: Excavaciones en material común de la Explanación y Canales | H30: m3 | I30: =+'210.2.2'!N81 -> 7355 | J30: =J32 -> 14436.186 | K30: =I30*J30 -> 1.0617815e+08 | L30: =+L32 -> 4843.665 | M30: =L30*I30 -> 35625156 | N30: =N32 -> 98891.289 | O30: =N30*I30 -> 7.2734543e+08 | P30: =P32 -> 1520.7839 | Q30: =I30*P30 -> 11185365 | R30: =R32 -> 1116.1388 | S30: =R30*I30 -> 8209200.5 | T30: =J30+L30+N30+P30+R30 -> 120808.06 | V30: =I30*T30 -> 8.885433e+08 | X30: =W30*I30 -> 0 | Y30: =Y32+#REF! -> #REF! | Z30: =Y30*I30 -> #REF! | AA30: =#REF!+#REF!+#REF!+#REF!+#REF!+AA32 -> #REF! | AB30: =AA30*I30 -> #REF! | AC30: =#REF!+#REF!+AC32 -> #REF! | AD30: =I30*AC30 -> #REF! | AE30: =Y30+AA30+AC30+W30 -> #REF! | AF30: =AE30*I30 -> #REF! | AG30: =T30+AE30 -> #REF! | AH30: =V30+AF30 -> #REF! | AI30: =AI32 -> 11010.69 | AJ30: =AI30*I30 -> 80983628 | AL30: =AK30*I30 -> 0 | AM30: =AG30-AI30-AK30 -> #REF! | AN30: =AM30*I30 -> #REF! | AP30: =11.3*800*0.4 -> 3616
C31: =C30+1 -> 13 | D31: 211.1 | E31: 211-13 | G31: Remoción de Derrumbes | H31: m3 | I31: =+#REF! -> #REF! | K31: =I31*J31 -> #REF! | M31: =L31*I31 -> #REF! | O31: =N31*I31 -> #REF! | Q31: =I31*P31 -> #REF! | S31: =R31*I31 -> #REF! | T31: =J31+L31+N31+P31+R31 -> 0 | V31: =I31*T31 -> #REF! | X31: =W31*I31 -> #REF! | Z31: =Y31*I31 -> #REF! | AB31: =AA31*I31 -> #REF! | AD31: =I31*AC31 -> #REF! | AE31: =Y31+AA31+AC31+W31 -> 0 | AF31: =AE31*I31 -> #REF! | AG31: =T31+AE31 -> 0 | AH31: =V31+AF31 -> #REF! | AJ31: =AI31*I31 -> #REF! | AL31: =AK31*I31 -> #REF! | AM31: =AG31-AI31-AK31 -> 0 | AN31: =AM31*I31 -> #REF!
C32: =C31+1 -> 14 | D32: 220.1 | E32: 220-13 | G32: Terraplenes | H32: m3 | I32: =+'220.1'!N81 -> 7819 | J32: ='[112]CANTIDADES TOTALIZADAS'!$AF$25+'[112]CANTIDADES TOTALIZADAS'!$AF$26 -> 14436.186 | K32: =I32*J32 -> 1.1287654e+08 | L32: ='[112]CANTIDADES TOTALIZADAS'!$AQ$25+'[112]CANTIDADES TOTALIZADAS'!$AQ$26 -> 4843.665 | M32: =L32*I32 -> 37872617 | N32: ='[112]CANTIDADES TOTALIZADAS'!$AU$25+'[112]CANTIDADES TOTALIZADAS'!$AU$26 -> 98891.289 | O32: =N32*I32 -> 7.7323099e+08 | P32: ='[112]CANTIDADES TOTALIZADAS'!$BA$25+'[112]CANTIDADES TOTALIZADAS'!$BA$26 -> 1520.7839 | Q32: =I32*P32 -> 11891009 | R32: ='[112]CANTIDADES TOTALIZADAS'!$BI$25+'[112]CANTIDADES TOTALIZADAS'!$BI$26 -> 1116.1388 | S32: =R32*I32 -> 8727088.9 | T32: =J32+L32+N32+P32+R32 -> 120808.06 | U32: ='[112]CANTIDADES TOTALIZADAS'!$BJ$25+'[112]CANTIDADES TOTALIZADAS'!$BJ$26 -> 120808.06 | V32: =I32*T32 -> 9.4459825e+08 | X32: =W32*I32 -> 0 | Y32: =#REF! -> #REF! | Z32: =Y32*I32 -> #REF! | AA32: =#REF!+#REF!+#REF!+#REF!+#REF! -> #REF! | AB32: =AA32*I32 -> #REF! | AC32: =#REF!+#REF! -> #REF! | AD32: =I32*AC32 -> #REF! | AE32: =Y32+AA32+AC32+W32 -> #REF! | AF32: =AE32*I32 -> #REF! | AG32: =T32+AE32 -> #REF! | AH32: =V32+AF32 -> #REF! | AI32: ='CANTIDADES TOTALIZADAS'!AD25+'CANTIDADES TOTALIZADAS'!AD26 -> 11010.69 | AJ32: =AI32*I32 -> 86092589 | AL32: =AK32*I32 -> 0 | AM32: =AG32-AI32-AK32 -> #REF! | AN32: =AM32*I32 -> #REF! | AP32: =11.3*800*0.4 -> 3616
C33: =C32+1 -> 15 | D33: 221.1 | E33: 221-13 | G33: Pedraplen compacto | H33: m3 | I33: =#REF! -> #REF! | K33: =I33*J33 -> #REF! | M33: =L33*I33 -> #REF! | O33: =N33*I33 -> #REF! | Q33: =I33*P33 -> #REF! | S33: =R33*I33 -> #REF! | T33: =J33+L33+N33+P33+R33 -> 0 | V33: =I33*T33 -> #REF! | X33: =W33*I33 -> #REF! | Z33: =Y33*I33 -> #REF! | AB33: =AA33*I33 -> #REF! | AD33: =I33*AC33 -> #REF! | AE33: =Y33+AA33+AC33+W33 -> 0 | AF33: =AE33*I33 -> #REF! | AG33: =T33+AE33 -> 0 | AH33: =V33+AF33 -> #REF! | AJ33: =AI33*I33 -> #REF! | AL33: =AK33*I33 -> #REF! | AM33: =AG33-AI33-AK33 -> 0 | AN33: =AM33*I33 -> #REF!
C34: =C33+1 -> 16 | D34: 221.1P | F34: 221.1P | G34: Material para Pedraplen | H34: m3 | I34: =#REF! -> #REF! | K34: =I34*J34 -> #REF! | M34: =L34*I34 -> #REF! | O34: =N34*I34 -> #REF! | Q34: =I34*P34 -> #REF! | S34: =R34*I34 -> #REF! | T34: =J34+L34+N34+P34+R34 -> 0 | V34: =I34*T34 -> #REF! | X34: =W34*I34 -> #REF! | Z34: =Y34*I34 -> #REF! | AB34: =AA34*I34 -> #REF! | AD34: =I34*AC34 -> #REF! | AE34: =Y34+AA34+AC34+W34 -> 0 | AF34: =AE34*I34 -> #REF! | AG34: =T34+AE34 -> 0 | AH34: =V34+AF34 -> #REF! | AJ34: =AI34*I34 -> #REF! | AL34: =AK34*I34 -> #REF! | AM34: =AG34-AI34-AK34 -> 0 | AN34: =AM34*I34 -> #REF!
C35: =C34+1 -> 17 | D35: 230.1 | F35: 230.1 | G35: Mejoramiento de la subrasante con adición de materiales | H35: m2 | I35: =+#REF! -> #REF! | K35: =I35*J35 -> #REF! | M35: =L35*I35 -> #REF! | O35: =N35*I35 -> #REF! | Q35: =I35*P35 -> #REF! | S35: =R35*I35 -> #REF! | T35: =J35+L35+N35+P35+R35 -> 0 | V35: =I35*T35 -> #REF! | X35: =W35*I35 -> #REF! | Z35: =Y35*I35 -> #REF! | AB35: =AA35*I35 -> #REF! | AD35: =I35*AC35 -> #REF! | AE35: =Y35+AA35+AC35+W35 -> 0 | AF35: =AE35*I35 -> #REF! | AG35: =T35+AE35 -> 0 | AH35: =V35+AF35 -> #REF! | AJ35: =AI35*I35 -> #REF! | AL35: =AK35*I35 -> #REF! | AM35: =AG35-AI35-AK35 -> 0 | AN35: =AM35*I35 -> #REF!
C36: =C35+1 -> 18 | D36: 230.1P | F36: 230.1P | G36: Mejoramiento de la subrasante con adición de materiales | H36: m3 | I36: =+'230.1P'!N81 -> 39475 | K36: =I36*J36 -> 0 | M36: =L36*I36 -> 0 | O36: =N36*I36 -> 0 | Q36: =I36*P36 -> 0 | S36: =R36*I36 -> 0 | T36: =J36+L36+N36+P36+R36 -> 0 | V36: =I36*T36 -> 0 | X36: =W36*I36 -> 0 | Y36: =#REF! -> #REF! | Z36: =Y36*I36 -> #REF! | AA36: =#REF!+#REF!+#REF!+#REF!+#REF! -> #REF! | AB36: =AA36*I36 -> #REF! | AC36: =#REF!+#REF! -> #REF! | AD36: =I36*AC36 -> #REF! | AE36: =Y36+AA36+AC36+W36 -> #REF! | AF36: =AE36*I36 -> #REF! | AG36: =T36+AE36 -> #REF! | AH36: =V36+AF36 -> #REF! | AJ36: =AI36*I36 -> 0 | AL36: =AK36*I36 -> 0 | AM36: =AG36-AI36-AK36 -> #REF! | AN36: =AM36*I36 -> #REF!
C37: =C36+1 -> 19 | D37: 231.1 | E37: 231-13 | G37: Geotextil para separación de suelos de subrasante y capas granulares | H37: m2 | I37: =+#REF! -> #REF! | K37: =I37*J37 -> #REF! | M37: =L37*I37 -> #REF! | O37: =N37*I37 -> #REF! | Q37: =I37*P37 -> #REF! | S37: =R37*I37 -> #REF! | T37: =J37+L37+N37+P37+R37 -> 0 | V37: =I37*T37 -> #REF! | X37: =W37*I37 -> #REF! | Y37: =1837*24 -> 44088 | Z37: =Y37*I37 -> #REF! | AA37: =1700*24 -> 40800 | AB37: =AA37*I37 -> #REF! | AC37: =2045*24 -> 49080 | AD37: =I37*AC37 -> #REF! | AE37: =Y37+AA37+AC37+W37 -> 133968 | AF37: =AE37*I37 -> #REF! | AG37: =T37+AE37 -> 133968 | AH37: =V37+AF37 -> #REF! | AJ37: =AI37*I37 -> #REF! | AL37: =AK37*I37 -> #REF! | AM37: =AG37-AI37-AK37 -> 133968 | AN37: =AM37*I37 -> #REF!
C38: =C37+1 -> 20 | D38: 232.1 | E38: 232-13 | G38: Geotextil para estabilización de suelos de la subrasante y capas granulares | H38: m2 | I38: =+#REF! -> #REF! | K38: =I38*J38 -> #REF! | M38: =L38*I38 -> #REF! | O38: =N38*I38 -> #REF! | Q38: =I38*P38 -> #REF! | S38: =R38*I38 -> #REF! | T38: =J38+L38+N38+P38+R38 -> 0 | V38: =I38*T38 -> #REF! | X38: =W38*I38 -> #REF! | Z38: =Y38*I38 -> #REF! | AB38: =AA38*I38 -> #REF! | AD38: =I38*AC38 -> #REF! | AE38: =Y38+AA38+AC38+W38 -> 0 | AF38: =AE38*I38 -> #REF! | AG38: =T38+AE38 -> 0 | AH38: =V38+AF38 -> #REF! | AJ38: =AI38*I38 -> #REF! | AL38: =AK38*I38 -> #REF! | AM38: =AG38-AI38-AK38 -> 0 | AN38: =AM38*I38 -> #REF!
C39: =C38+1 -> 21 | D39: 232.1P | F39: 232.1P | G39: Geotextil tipo TR 4000 ó similar para refuerzo de muros en tierra armada | H39: m2 | I39: =#REF! -> #REF! | K39: =I39*J39 -> #REF! | M39: =L39*I39 -> #REF! | O39: =N39*I39 -> #REF! | Q39: =I39*P39 -> #REF! | S39: =R39*I39 -> #REF! | T39: =J39+L39+N39+P39+R39 -> 0 | V39: =I39*T39 -> #REF! | X39: =W39*I39 -> #REF! | Z39: =Y39*I39 -> #REF! | AB39: =AA39*I39 -> #REF! | AD39: =I39*AC39 -> #REF! | AE39: =Y39+AA39+AC39+W39 -> 0 | AF39: =AE39*I39 -> #REF! | AG39: =T39+AE39 -> 0 | AH39: =V39+AF39 -> #REF! | AJ39: =AI39*I39 -> #REF! | AL39: =AK39*I39 -> #REF! | AM39: =AG39-AI39-AK39 -> 0 | AN39: =AM39*I39 -> #REF!
C40: =C39+1 -> 22 | D40: 233.1P | F40: 233.1P | G40: Suministro e instalación geomalla Triax TX 160 o similar | H40: m2 | I40: =#REF! -> #REF! | K40: =I40*J40 -> #REF! | M40: =L40*I40 -> #REF! | O40: =N40*I40 -> #REF! | Q40: =I40*P40 -> #REF! | S40: =R40*I40 -> #REF! | T40: =J40+L40+N40+P40+R40 -> 0 | V40: =I40*T40 -> #REF! | X40: =W40*I40 -> #REF! | Z40: =Y40*I40 -> #REF! | AB40: =AA40*I40 -> #REF! | AD40: =I40*AC40 -> #REF! | AE40: =Y40+AA40+AC40+W40 -> 0 | AF40: =AE40*I40 -> #REF! | AG40: =T40+AE40 -> 0 | AH40: =V40+AF40 -> #REF! | AJ40: =AI40*I40 -> #REF! | AL40: =AK40*I40 -> #REF! | AM40: =AG40-AI40-AK40 -> 0 | AN40: =AM40*I40 -> #REF!
C41: =C40+1 -> 23 | D41: 233.2P | F41: 233.2P | G41: Suministro e instalación geomalla Uniaxial UX 100 o similar | H41: m2 | I41: =#REF! -> #REF! | K41: =I41*J41 -> #REF! | M41: =L41*I41 -> #REF! | O41: =N41*I41 -> #REF! | Q41: =I41*P41 -> #REF! | S41: =R41*I41 -> #REF! | T41: =J41+L41+N41+P41+R41 -> 0 | V41: =I41*T41 -> #REF! | X41: =W41*I41 -> #REF! | Z41: =Y41*I41 -> #REF! | AB41: =AA41*I41 -> #REF! | AD41: =I41*AC41 -> #REF! | AE41: =Y41+AA41+AC41+W41 -> 0 | AF41: =AE41*I41 -> #REF! | AG41: =T41+AE41 -> 0 | AH41: =V41+AF41 -> #REF! | AJ41: =AI41*I41 -> #REF! | AL41: =AK41*I41 -> #REF! | AM41: =AG41-AI41-AK41 -> 0 | AN41: =AM41*I41 -> #REF!
C42: =C41+1 -> 24 | D42: 2P | F42: 2P | G42: Conformación de sitios de disposicion de sobrantes | H42: m3 | I42: =+#REF! -> #REF! | K42: =I42*J42 -> #REF! | M42: =L42*I42 -> #REF! | O42: =N42*I42 -> #REF! | Q42: =I42*P42 -> #REF! | S42: =R42*I42 -> #REF! | T42: =J42+L42+N42+P42+R42 -> 0 | V42: =I42*T42 -> #REF! | X42: =W42*I42 -> #REF! | Z42: =Y42*I42 -> #REF! | AB42: =AA42*I42 -> #REF! | AD42: =I42*AC42 -> #REF! | AE42: =Y42+AA42+AC42+W42 -> 0 | AF42: =AE42*I42 -> #REF! | AG42: =T42+AE42 -> 0 | AH42: =V42+AF42 -> #REF! | AJ42: =AI42*I42 -> #REF! | AL42: =AK42*I42 -> #REF! | AM42: =AG42-AI42-AK42 -> 0 | AN42: =AM42*I42 -> #REF!
C43: =C42+1 -> 25 | D43: 3P | F43: 3P | G43: Suministro e instalacion de bolsacretos | H43: m3 | I43: =#REF! -> #REF! | K43: =I43*J43 -> #REF! | M43: =L43*I43 -> #REF! | O43: =N43*I43 -> #REF! | Q43: =I43*P43 -> #REF! | S43: =R43*I43 -> #REF! | T43: =J43+L43+N43+P43+R43 -> 0 | V43: =I43*T43 -> #REF! | X43: =W43*I43 -> #REF! | Z43: =Y43*I43 -> #REF! | AB43: =AA43*I43 -> #REF! | AD43: =I43*AC43 -> #REF! | AE43: =Y43+AA43+AC43+W43 -> 0 | AF43: =AE43*I43 -> #REF! | AG43: =T43+AE43 -> 0 | AH43: =V43+AF43 -> #REF! | AJ43: =AI43*I43 -> #REF! | AL43: =AK43*I43 -> #REF! | AM43: =AG43-AI43-AK43 -> 0 | AN43: =AM43*I43 -> #REF!
...

Sheet CANTIDADES Fase II todo
A1: ITEM | B1: ACTIVIDAD | C1: U. Med | D1: HITO 10E | F1: HITO 11E | I1: HITO 12E | K1: HITO 13N | N1: HITO 13E | Q1: HITO 16N | T1: HITO 16E | W1: TOTAL TRAMO 2 | X1: 31N | AB1: 31E | AE1: 32E | AG1: 33E | AI1: 34N | AP1: 34E | AR1: 35N | AV1: 35E | AY1: 36N | BA1: 36E | BD1: TOTAL TRAMO 4 | BE1: HITO 48E | BH1: HITO48E | BM1: HITO 49N | BP1: H50E | BV1: H51E | CD1: HITO 51N | CI1: HITO 53E | CP1: HITO H53N | CS1: HITO H54N | CX1: HITO 54E | CZ1: TOTAL TRAMO 7 | DA1: TOTAL CANT | DI1: TOTAL mantenimiento
D3: SEGMENTO | E3: TOTAL HITO | F3: SEGMENTO | H3: TOTAL HITO | I3: SEGMENTO | J3: TOTAL HITO | K3: SEGMENTO | M3: TOTAL HITO | N3: SEGMENTO | P3: TOTAL HITO | Q3: SEGMENTO | S3: TOTAL HITO | T3: SEGMENTO | V3: TOTAL HITO | X3: SEGMENTO | AA3: TOTAL HITO | AB3: SEGMENTO | AD3: TOTAL HITO | AE3: SEGMENTO | AF3: TOTAL HITO | AG3: SEGMENTO | AH3: TOTAL HITO | AI3: SEGMENTO | AM3: PUENTE LEBRIJA | AN3: PUENTE PAYANDÉ | AO3: TOTAL HITO | AP3: SEGMENTO | AQ3: TOTAL HITO | AR3: SEGMENTO | AU3: TOTAL HITO | AV3: SEGMENTO | AX3: TOTAL HITO | AY3: SEGMENTO | AZ3: TOTAL HITO | BA3: SEGMENTO | BC3: TOTAL HITO | BE3: Pte Peatonal | BF3: Pte Peatonal | BG3: TOTAL HITO | BH3: SEGMENTO | BL3: TOTAL HITO | BM3: SEGMENTO | BO3: TOTAL HITO | BP3: SEGMENTO | BU3: TOTAL HITO | BV3: SEGMENTO | CC3: TOTAL HITO | CD3: SEGMENTO | CH3: TOTAL HITO | CI3: SEGMENTO | CO3: TOTAL HITO | CR3: TOTAL HITO | CW3: TOTAL HITO | CX3: SEGMENTO | CY3: TOTAL HITO
D4: 123910 | F4: 124328 | G4: 125860 | I4: 0 | K4: 11170 | L4: 19000 | N4: 10000 | O4: 17500 | Q4: 41595 | R4: 45000 | T4: 40000 | U4: 45000 | X4: 30470 | Y4: 31896 | Z4: 38660 | AB4: 30436 | AC4: 38600 | AE4: 40100 | AG4: 50200 | AI4: 61360 | AJ4: 65737 | AK4: 66580 | AL4: 67578 | AM4: 58913.13 | AN4: 60495.7 | AP4: 60200 | AR4: 72660 | AS4: 79994 | AT4: 83424 | AV4: 70200 | AW4: 72540 | AY4: 86420 | BA4: 83427 | BB4: 87727 | BH4: 7210 | BI4: 7980 | BJ4: 8200 | BK4: 9200 | BM4: 8000 | BN4: 9200 | BP4: 22000 | BQ4: 27780 | BR4: 28600 | BS4: 29216 | BT4: 30300 | BV4: 32080 | BW4: 32240 | BX4: 32770 | BY4: 35160 | BZ4: 35430 | CA4: 36300 | CB4: 36630 | CD4: 27620 | CE4: 31950 | CF4: 32280 | CG4: 32400 | CI4: 56550 | CJ4: =+CI5 -> 57160 | CK4: =+CJ5 -> 57250 | CL4: =+CK5 -> 57960 | CM4: =+CL5 -> 58220 | CN4: 64340 | CP4: 56570 | CQ4: 64800 | CS4: 67044 | CT4: 68761 | CU4: 69569 | CV4: 69695 | CX4: 66000
F5: 125700 | G5: 134456 | I5: 10000 | K5: 11803 | L5: 19350 | N5: 12274 | O5: 19480 | Q5: 42500 | R5: 47030 | T5: 40870 | U5: 47030 | X5: 30537 | Y5: 32080 | Z5: 39200 | AB5: 32055 | AC5: 40100 | AE5: 50200 | AG5: 60200 | AI5: 63227 | AJ5: 66000 | AK5: 67552 | AL5: 70270 | AM5: 59063.13 | AN5: 60507.7 | AP5: 70200 | AR5: 74553 | AS5: 82146 | AT5: 84285 | AV5: 70260 | AW5: 79166 | AY5: 86960 | BA5: 86900 | BB5: 89700 | BE5: 3210 | BF5: 6570 | BH5: 7980 | BI5: 8200 | BJ5: 9200 | BK5: 9400 | BM5: 9200 | BN5: 9400 | BP5: 26120 | BQ5: 28390 | BR5: 28240 | BS5: 30300 | BT5: 30780 | BV5: 32240 | BW5: 32770 | BX5: 35160 | BY5: 35430 | BZ5: 36300 | CA5: 36630 | CB5: 37110 | CD5: 27680 | CE5: 32280 | CF5: 32400 | CG5: 32520 | CI5: 57160 | CJ5: 57250 | CK5: 57960 | CL5: 58220 | CM5: 60320 | CN5: 65995.42 | CP5: 57200 | CQ5: 65180 | CS5: 68271 | CT5: 69569 | CU5: 69695 | CV5: 70250 | CX5: 66240
B6: RUTA DEL SOL SECTOR 2 | D6: NORTE | F6: NORTE | G6: SUR | I6: NORTE | K6: NORTE | N6: SUR | O6: SUR | Q6: SUR | R6: SUR | T6: NORTE | U6: NORTE
B7: I. PRECONTRACTUAL
B8: 1 Pólizas | W8: =+IF(C8="",0,E8+H8+J8+M8+P8+S8+V8) -> 0 | X8: 0 | Y8: 0 | Z8: 0 | AA8: =SUM(X8:Z8) -> 0 | AB8: 0 | AC8: 0 | AD8: =SUM(AB8:AC8) -> 0 | AE8: 0 | AG8: 0 | AI8: 0 | AJ8: 0 | AK8: 0 | AL8: 0 | AM8: 0 | AN8: 0 | AP8: 0 | AR8: 0 | AS8: 0 | AT8: 0 | AU8: =SUM(AR8:AT8) -> 0 | AV8: 0 | AW8: 0 | AX8: =SUM(AV8:AW8) -> 0 | AY8: 0 | BA8: 0 | BB8: 0 | BC8: =SUM(BA8:BB8) -> 0
B9: II. PRECONSTRUCCIÓN
B10: 1 Elaboración de diseños de detalle | W10: =+IF(C10="",0,E10+H10+J10+M10+P10+S10+V10) -> 0 | X10: 0 | Y10: 0 | Z10: 0 | AA10: =SUM(X10:Z10) -> 0 | AB10: 0 | AC10: 0 | AD10: =SUM(AB10:AC10) -> 0 | AE10: 0 | AG10: 0 | AI10: 0 | AJ10: 0 | AK10: 0 | AL10: 0 | AM10: 0 | AN10: 0 | AO10: =SUM(AI10:AN10) -> 0 | AP10: 0 | AR10: 0 | AS10: 0 | AT10: 0 | AU10: =SUM(AR10:AT10) -> 0 | AV10: 0 | AW10: 0 | AX10: =SUM(AV10:AW10) -> 0 | AY10: 0 | BA10: 0 | BB10: 0 | BC10: =SUM(BA10:BB10) -> 0
B11: 2 Licencias ambientales | W11: =+IF(C11="",0,E11+H11+J11+M11+P11+S11+V11) -> 0 | X11: 0 | Y11: 0 | Z11: 0 | AA11: =SUM(X11:Z11) -> 0 | AB11: 0 | AC11: 0 | AD11: =SUM(AB11:AC11) -> 0 | AE11: 0 | AG11: 0 | AI11: 0 | AJ11: 0 | AK11: 0 | AL11: 0 | AM11: 0 | AN11: 0 | AO11: =SUM(AI11:AN11) -> 0 | AP11: 0 | AR11: 0 | AS11: 0 | AT11: 0 | AU11: =SUM(AR11:AT11) -> 0 | AV11: 0 | AW11: 0 | AX11: =SUM(AV11:AW11) -> 0 | AY11: 0 | BA11: 0 | BB11: 0 | BC11: =SUM(BA11:BB11) -> 0
B12: 3 Permisos, autorizaciones y concesiones | W12: =+IF(C12="",0,E12+H12+J12+M12+P12+S12+V12) -> 0 | X12: 0 | Y12: 0 | Z12: 0 | AA12: =SUM(X12:Z12) -> 0 | AB12: 0 | AC12: 0 | AD12: =SUM(AB12:AC12) -> 0 | AE12: 0 | AG12: 0 | AI12: 0 | AJ12: 0 | AK12: 0 | AL12: 0 | AM12: 0 | AN12: 0 | AO12: =SUM(AI12:AN12) -> 0 | AP12: 0 | AR12: 0 | AS12: 0 | AT12: 0 | AU12: =SUM(AR12:AT12) -> 0 | AV12: 0 | AW12: 0 | AX12: =SUM(AV12:AW12) -> 0 | AY12: 0 | BA12: 0 | BB12: 0 | BC12: =SUM(BA12:BB12) -> 0
B13: 4 Plan de Intervención prioritaria | W13: =+IF(C13="",0,E13+H13+J13+M13+P13+S13+V13) -> 0 | X13: 0 | Y13: 0 | Z13: 0 | AA13: =SUM(X13:Z13) -> 0 | AB13: 0 | AC13: 0 | AD13: =SUM(AB13:AC13) -> 0 | AE13: 0 | AG13: 0 | AI13: 0 | AJ13: 0 | AK13: 0 | AL13: 0 | AM13: 0 | AN13: 0 | AO13: =SUM(AI13:AN13) -> 0 | AP13: 0 | AR13: 0 | AS13: 0 | AT13: 0 | AU13: =SUM(AR13:AT13) -> 0 | AV13: 0 | AW13: 0 | AX13: =SUM(AV13:AW13) -> 0 | AY13: 0 | BA13: 0 | BB13: 0 | BC13: =SUM(BA13:BB13) -> 0
B14: III. CONSTRUCCIÓN
B15: 1 Preliminares
A16: 201.16 | B16: REMOCIÓN DE CERCAS DE ALAMBRE | C16: m | E16: =+IF(C16="", 0,D16) -> 0 | F16: 0 | G16: 0 | H16: =+IF(C16="", 0,SUM(F16:G16)) -> 0 | I16: 0 | J16: =+IF(C16="", 0,I16) -> 0 | K16: 0 | L16: 0 | M16: =+IF(C16="",0,K16+L16) -> 0 | N16: 0 | O16: 0 | P16: =+IF(C16="", 0,SUM(N16:O16)) -> 0 | Q16: 0 | R16: 0 | S16: =+IF(C16="",0,SUM(Q16:R16)) -> 0 | T16: 0 | U16: 0 | V16: =+IF(C16="",0,SUM(T16:U16)) -> 0 | W16: =+IF(C16="",0,E16+H16+J16+M16+P16+S16+V16) -> 0 | X16: 0 | Y16: 0 | Z16: 0 | AA16: =SUM(X16:Z16) -> 0 | AB16: 0 | AC16: 0 | AD16: =SUM(AB16:AC16) -> 0 | AE16: 0 | AF16: =+AE16 -> 0 | AG16: 0 | AH16: =+AG16 -> 0 | AI16: 0 | AJ16: 0 | AK16: 0 | AL16: 0 | AM16: 0 | AN16: 0 | AO16: =SUM(AI16:AN16) -> 0 | AP16: 500 | AQ16: =+AP16 -> 500 | AR16: 0 | AS16: 0 | AT16: 0 | AU16: =SUM(AR16:AT16) -> 0 | AV16: 0 | AW16: 0 | AX16: =SUM(AV16:AW16) -> 0 | AY16: 0 | AZ16: =+AY16 -> 0 | BA16: 173.853 | BB16: 98.65 | BC16: =SUM(BA16:BB16) -> 272.503 | BD16: =+IF(C16="",0,BC16+AZ16+AX16+AU16+AQ16+AO16+AH16+AF16+AD16+AA16) -> 772.503 | BG16: =+BE16+BF16 -> 0 | BL16: =+BH16+BI16+BJ16+BK16 -> 0 | BO16: =+BM16+BN16 -> 0 | BU16: =+SUM(BP16:BT16) -> 0 | CC16: =+SUM(BV16:CB16) -> 0 | CH16: =+SUM(CD16:CG16) -> 0 | CO16: =+SUM(CI16:CN16) -> 0 | CR16: =+SUM(CP16:CQ16) -> 0 | CW16: =+SUM(CS16:CV16) -> 0 | CY16: =+CX16 -> 0 | CZ16: =+IF(C16="",0,CY16+CR16+CH16+BU16+BO16+BL16+CO16+CW16+CC16+BG16) -> 0 | DA16: =IF(C16="",0,CZ16+BD16+W16) -> 772.503 | DI16: =BD16-BC16-AX16-AQ16-AF16-AD16 -> 0
A17: 201.14 | B17: REMOCIÓN DE DUCTOS DE SERVICIOS EXISTENTES | C17: m | E17: =+IF(C17="", 0,D17) -> 0 | F17: 0 | G17: 0 | H17: =+IF(C17="", 0,SUM(F17:G17)) -> 0 | I17: 0 | J17: =+IF(C17="", 0,I17) -> 0 | K17: 0 | L17: 0 | M17: =+IF(C17="",0,K17+L17) -> 0 | N17: 0 | O17: 0 | P17: =+IF(C17="", 0,SUM(N17:O17)) -> 0 | Q17: 0 | R17: 0 | S17: =+IF(C17="",0,SUM(Q17:R17)) -> 0 | T17: 0 | U17: 0 | V17: =+IF(C17="",0,SUM(T17:U17)) -> 0 | W17: =+IF(C17="",0,E17+H17+J17+M17+P17+S17+V17) -> 0 | X17: 0 | Y17: 0 | Z17: 0 | AA17: =SUM(X17:Z17) -> 0 | AB17: 0 | AC17: 0 | AD17: =SUM(AB17:AC17) -> 0 | AE17: 0 | AF17: =+AE17 -> 0 | AG17: 0 | AH17: =+AG17 -> 0 | AI17: 0 | AJ17: 0 | AK17: 0 | AL17: 0 | AM17: 0 | AN17: 0 | AO17: =SUM(AI17:AN17) -> 0 | AP17: 0 | AQ17: =+AP17 -> 0 | AR17: 0 | AS17: 0 | AT17: 0 | AU17: =SUM(AR17:AT17) -> 0 | AV17: 0 | AW17: 0 | AX17: =SUM(AV17:AW17) -> 0 | AY17: 0 | AZ17: =+AY17 -> 0 | BA17: 0 | BB17: 0 | BC17: =SUM(BA17:BB17) -> 0 | BD17: =+IF(C17="",0,BC17+AZ17+AX17+AU17+AQ17+AO17+AH17+AF17+AD17+AA17) -> 0 | BG17: =+BE17+BF17 -> 0 | BL17: =+BH17+BI17+BJ17+BK17 -> 0 | BO17: =+BM17+BN17 -> 0 | BU17: =+SUM(BP17:BT17) -> 0 | CC17: =+SUM(BV17:CB17) -> 0 | CH17: =+SUM(CD17:CG17) -> 0 | CO17: =+SUM(CI17:CN17) -> 0 | CR17: =+SUM(CP17:CQ17) -> 0 | CW17: =+SUM(CS17:CV17) -> 0 | CY17: =+CX17 -> 0 | CZ17: =+IF(C17="",0,CY17+CR17+CH17+BU17+BO17+BL17+CO17+CW17+CC17+BG17) -> 0 | DA17: =IF(C17="",0,CZ17+BD17+W17) -> 0 | DI17: =BD17-BC17-AX17-AQ17-AF17-AD17 -> 0
A18: 201.14P1 | B18: REMOCION DE DUCTOS DE SERVICIOS EXISTENTES | C18: Und | E18: =+IF(C18="", 0,D18) -> 0 | F18: 0 | G18: 0 | H18: =+IF(C18="", 0,SUM(F18:G18)) -> 0 | I18: 0 | J18: =+IF(C18="", 0,I18) -> 0 | K18: 0 | L18: 0 | M18: =+IF(C18="",0,K18+L18) -> 0 | N18: 0 | O18: 0 | P18: =+IF(C18="", 0,SUM(N18:O18)) -> 0 | Q18: 0 | R18: 0 | S18: =+IF(C18="",0,SUM(Q18:R18)) -> 0 | T18: 0 | U18: 0 | V18: =+IF(C18="",0,SUM(T18:U18)) -> 0 | W18: =+IF(C18="",0,E18+H18+J18+M18+P18+S18+V18) -> 0 | X18: 0 | Y18: 0 | Z18: 0 | AA18: =SUM(X18:Z18) -> 0 | AB18: 0 | AC18: 0 | AD18: =SUM(AB18:AC18) -> 0 | AE18: 0 | AF18: =+AE18 -> 0 | AG18: 0 | AH18: =+AG18 -> 0 | AI18: 0 | AJ18: 0 | AK18: 0 | AL18: 0 | AM18: 0 | AN18: 0 | AO18: =SUM(AI18:AN18) -> 0 | AP18: 0 | AQ18: =+AP18 -> 0 | AR18: 0 | AS18: 0 | AT18: 0 | AU18: =SUM(AR18:AT18) -> 0 | AV18: 0 | AW18: 0 | AX18: =SUM(AV18:AW18) -> 0 | AY18: 0 | AZ18: =+AY18 -> 0 | BA18: 0 | BB18: 0 | BC18: =SUM(BA18:BB18) -> 0 | BD18: =+IF(C18="",0,BC18+AZ18+AX18+AU18+AQ18+AO18+AH18+AF18+AD18+AA18) -> 0 | BG18: =+BE18+BF18 -> 0 | BL18: =+BH18+BI18+BJ18+BK18 -> 0 | BO18: =+BM18+BN18 -> 0 | BU18: =+SUM(BP18:BT18) -> 0 | CC18: =+SUM(BV18:CB18) -> 0 | CH18: =+SUM(CD18:CG18) -> 0 | CO18: =+SUM(CI18:CN18) -> 0 | CR18: =+SUM(CP18:CQ18) -> 0 | CW18: =+SUM(CS18:CV18) -> 0 | CY18: =+CX18 -> 0 | CZ18: =+IF(C18="",0,CY18+CR18+CH18+BU18+BO18+BL18+CO18+CW18+CC18+BG18) -> 0 | DA18: =IF(C18="",0,CZ18+BD18+W18) -> 0 | DI18: =BD18-BC18-AX18-AQ18-AF18-AD18 -> 0
A19: 201.7 | B19: DEMOLICIÓN DE ESTRUCTURAS | C19: m3 | E19: =+IF(C19="", 0,D19) -> 0 | F19: 1.46 | G19: 283.28 | H19: =+IF(C19="", 0,SUM(F19:G19)) -> 284.74 | I19: 0 | J19: =+IF(C19="", 0,I19) -> 0 | K19: 0 | L19: 0 | M19: =+IF(C19="",0,K19+L19) -> 0 | N19: 103.05006 | O19: 7.2140909 | P19: =+IF(C19="", 0,SUM(N19:O19)) -> 110.26416 | Q19: 0 | R19: 0 | S19: =+IF(C19="",0,SUM(Q19:R19)) -> 0 | T19: 5.5134951 | U19: 44.718776 | V19: =+IF(C19="",0,SUM(T19:U19)) -> 50.232271 | W19: =+IF(C19="",0,E19+H19+J19+M19+P19+S19+V19) -> 445.23643 | X19: 0 | Y19: 0 | Z19: 0 | AA19: =SUM(X19:Z19) -> 0 | AB19: 0 | AC19: 0 | AD19: =SUM(AB19:AC19) -> 0 | AE19: 0 | AF19: =+AE19 -> 0 | AG19: 0 | AH19: =+AG19 -> 0 | AI19: 0 | AJ19: 0 | AK19: 0 | AL19: 0 | AM19: 0 | AN19: 0 | AO19: =SUM(AI19:AN19) -> 0 | AP19: 0 | AQ19: =+AP19 -> 0 | AR19: 0 | AS19: 0 | AT19: 0 | AU19: =SUM(AR19:AT19) -> 0 | AV19: 0 | AW19: 0 | AX19: =SUM(AV19:AW19) -> 0 | AY19: 0 | AZ19: =+AY19 -> 0 | BA19: 0 | BB19: 0 | BC19: =SUM(BA19:BB19) -> 0 | BD19: =+IF(C19="",0,BC19+AZ19+AX19+AU19+AQ19+AO19+AH19+AF19+AD19+AA19) -> 0 | BG19: =+BE19+BF19 -> 0 | BL19: =+BH19+BI19+BJ19+BK19 -> 0 | BO19: =+BM19+BN19 -> 0 | BU19: =+SUM(BP19:BT19) -> 0 | CC19: =+SUM(BV19:CB19) -> 0 | CH19: =+SUM(CD19:CG19) -> 0 | CO19: =+SUM(CI19:CN19) -> 0 | CR19: =+SUM(CP19:CQ19) -> 0 | CW19: =+SUM(CS19:CV19) -> 0 | CY19: =+CX19 -> 0 | CZ19: =+IF(C19="",0,CY19+CR19+CH19+BU19+BO19+BL19+CO19+CW19+CC19+BG19) -> 0 | DA19: =IF(C19="",0,CZ19+BD19+W19) -> 445.23643 | DI19: =BD19-BC19-AX19-AQ19-AF19-AD19 -> 0
B20: 2 Explanaciones
A21: 200.2 | B21: DESMONTE Y LIMPIEZA EN ZONAS NO BOSCOSAS | C21: Ha | E21: =+IF(C21="", 0,D21) -> 0 | F21: 0 | G21: 0 | H21: =+IF(C21="", 0,SUM(F21:G21)) -> 0 | I21: 0 | J21: =+IF(C21="", 0,I21) -> 0 | K21: 0 | L21: 10.5 | M21: =+IF(C21="",0,K21+L21) -> 10.5 | N21: 0 | O21: 0 | P21: =+IF(C21="", 0,SUM(N21:O21)) -> 0 | Q21: 2.715 | R21: 2.13 | S21: =+IF(C21="",0,SUM(Q21:R21)) -> 4.845 | T21: 0 | U21: 0 | V21: =+IF(C21="",0,SUM(T21:U21)) -> 0 | W21: =+IF(C21="",0,E21+H21+J21+M21+P21+S21+V21) -> 15.345 | X21: 0.1162 | Y21: 0.327528 | Z21: 1.2555 | AA21: =SUM(Z21) -> 1.2555 | AB21: 0 | AC21: 0 | AD21: =SUM(AB21:AC21) -> 0 | AE21: 0 | AF21: =+AE21 -> 0 | AG21: 0 | AH21: =+AG21 -> 0 | AI21: 3.4613593 | AJ21: 0.4757451 | AK21: 1.879175 | AL21: 5.385455 | AM21: 0 | AN21: 0 | AO21: =AI21+AM21+AN21 -> 3.4613593 | AP21: 0 | AQ21: =+AP21 -> 0 | AR21: 4.048025 | AS21: 3.5071288 | AT21: 1.6197248 | AU21: =SUM(AT21) -> 1.6197248 | AV21: 0 | AW21: 0 | AX21: =SUM(AV21:AW21) -> 0 | AY21: 0.925838 | AZ21: =+AY21 -> 0.925838 | BA21: 0 | BB21: 0 | BC21: =SUM(BA21:BB21) -> 0 | BD21: =+IF(C21="",0,BC21+AZ21+AX21+AU21+AQ21+AO21+AH21+AF21+AD21+AA21) -> 7.2624221 | BG21: =+BE21+BF21 -> 0 | BL21: =+BH21+BI21+BJ21+BK21 -> 0 | BO21: =+BM21+BN21 -> 0 | BU21: =+SUM(BP21:BT21) -> 0 | CC21: =+SUM(BV21:CB21) -> 0 | CH21: =+SUM(CD21:CG21) -> 0 | CO21: =+SUM(CI21:CN21) -> 0 | CR21: =+SUM(CP21:CQ21) -> 0 | CW21: =+SUM(CS21:CV21) -> 0 | CY21: =+CX21 -> 0 | CZ21: =+IF(C21="",0,CY21+CR21+CH21+BU21+BO21+BL21+CO21+CW21+CC21+BG21) -> 0 | DA21: =IF(C21="",0,CZ21+BD21+W21) -> 22.607422 | DI21: =BD21-BC21-AX21-AQ21-AF21-AD21 -> 7.2624221
A22: 210.2.2 | B22: EXCAVACIÓN EN MATERIAL COMÚN DE LA EXPLANACIÓN Y CANALES | C22: m3 | E22: =+IF(C22="", 0,D22) -> 0 | F22: 1490.22 | G22: 9732.97 | H22: =+IF(C22="", 0,SUM(F22:G22)) -> 11223.19 | I22: 9827.55 | J22: =+IF(C22="", 0,I22) -> 9827.55 | K22: 852.82 | L22: 4318.05 | M22: =+IF(C22="",0,K22+L22) -> 5170.87 | N22: 2412.8908 | O22: 1544.928 | P22: =+IF(C22="", 0,SUM(N22:O22)) -> 3957.8188 | Q22: 25401.49 | R22: 113925.57 | S22: =+IF(C22="",0,SUM(Q22:R22)) -> 139327.06 | T22: 1175.9 | U22: 1544.65 | V22: =+IF(C22="",0,SUM(T22:U22)) -> 2720.55 | W22: =+IF(C22="",0,E22+H22+J22+M22+P22+S22+V22) -> 172227.04 | X22: 0 | Y22: 60.4 | Z22: 0 | AA22: =SUM(Z22) -> 0 | AB22: 7038.405 | AC22: 5075 | AD22: =SUM(AB22:AC22) -> 12113.405 | AE22: 40498.674 | AF22: =+AE22 -> 40498.674 | AG22: 31136.8 | AH22: =+AG22 -> 31136.8 | AI22: 164.55 | AJ22: 0 | AK22: 1438.7 | AL22: 284.5 | AM22: 0 | AN22: 0 | AO22: =AI22+AM22+AN22 -> 164.55 | AP22: 42244.65 | AQ22: =+AP22 -> 42244.65 | AR22: 207.10904 | AS22: 3656.7 | AT22: 654.935 | AU22: =SUM(AT22) -> 654.935 | AV22: 9544 | AW22: 21281.269 | AX22: =SUM(AV22:AW22) -> 30825.269 | AY22: 2541.3 | AZ22: =+AY22 -> 2541.3 | BA22: 58820.225 | BB22: 6395.69 | BC22: =SUM(BA22:BB22) -> 65215.915 | BD22: =+IF(C22="",0,BC22+AZ22+AX22+AU22+AQ22+AO22+AH22+AF22+AD22+AA22) -> 225395.5 | BG22: =+BE22+BF22 -> 0 | BH22: 811.96 | BL22: =+BH22+BI22+BJ22+BK22 -> 811.96 | BO22: =+BM22+BN22 -> 0 | BT22: 72876.2 | BU22: =+SUM(BP22:BT22) -> 72876.2 | BV22: 1051.25 | BW22: 127732.55 | BY22: 17359.9 | BZ22: 1471.4 | CA22: 2721.2 | CB22: 946.35 | CC22: =+SUM(BV22:CB22) -> 151282.65 | CH22: =+SUM(CD22:CG22) -> 0 | CO22: =+SUM(CI22:CN22) -> 0 | CR22: =+SUM(CP22:CQ22) -> 0 | CW22: =+SUM(CS22:CV22) -> 0 | CY22: =+CX22 -> 0 | CZ22: =+IF(C22="",0,CY22+CR22+CH22+BU22+BO22+BL22+CO22+CW22+CC22+BG22) -> 224970.81 | DA22: =IF(C22="",0,CZ22+BD22+W22) -> 622593.35 | DI22: =BD22-BC22-AX22-AQ22-AF22-AD22 -> 34497.585
A23: 210.2.1 | B23: EXCAVACIÓN EN ROCA DE LA EXPLANACIÓN Y CANALES | C23: m3 | E23: =+IF(C23="", 0,D23) -> 0 | F23: 0 | G23: 0 | H23: =+IF(C23="", 0,SUM(F23:G23)) -> 0 | I23: 0 | J23: =+IF(C23="", 0,I23) -> 0 | K23: 0 | L23: 0 | M23: =+IF(C23="",0,K23+L23) -> 0 | N23: 0 | O23: 0 | P23: =+IF(C23="", 0,SUM(N23:O23)) -> 0 | Q23: 0 | R23: 0 | S23: =+IF(C23="",0,SUM(Q23:R23)) -> 0 | T23: 0 | U23: 0 | V23: =+IF(C23="",0,SUM(T23:U23)) -> 0 | W23: =+IF(C23="",0,E23+H23+J23+M23+P23+S23+V23) -> 0 | X23: 0 | Y23: 0 | Z23: 0 | AA23: =SUM(Z23) -> 0 | AB23: 0 | AC23: 0 | AD23: =SUM(AB23:AC23) -> 0 | AE23: 0 | AF23: =+AE23 -> 0 | AG23: 0 | AH23: =+AG23 -> 0 | AI23: 0 | AJ23: 0 | AK23: 0 | AL23: 0 | AM23: 0 | AN23: 0 | AO23: =SUM(AI23:AN23) -> 0 | AP23: 0 | AQ23: =+AP23 -> 0 | AR23: 0 | AS23: 0 | AT23: 0 | AU23: =SUM(AR23:AT23) -> 0 | AV23: 0 | AW23: 0 | AX23: =SUM(AV23:AW23) -> 0 | AY23: 0 | AZ23: =+AY23 -> 0 | BA23: 0 | BB23: 0 | BC23: =SUM(BA23:BB23) -> 0 | BD23: =+IF(C23="",0,BC23+AZ23+AX23+AU23+AQ23+AO23+AH23+AF23+AD23+AA23) -> 0 | BG23: =+BE23+BF23 -> 0 | BL23: =+BH23+BI23+BJ23+BK23 -> 0 | BO23: =+BM23+BN23 -> 0 | BU23: =+SUM(BP23:BT23) -> 0 | CC23: =+SUM(BV23:CB23) -> 0 | CH23: =+SUM(CD23:CG23) -> 0 | CO23: =+SUM(CI23:CN23) -> 0 | CR23: =+SUM(CP23:CQ23) -> 0 | CW23: =+SUM(CS23:CV23) -> 0 | CY23: =+CX23 -> 0 | CZ23: =+IF(C23="",0,CY23+CR23+CH23+BU23+BO23+BL23+CO23+CW23+CC23+BG23) -> 0 | DA23: =IF(C23="",0,CZ23+BD23+W23) -> 0 | DI23: =BD23-BC23-AX23-AQ23-AF23-AD23 -> 0
A24: 210.1.1 | B24: EXCAVACIÓN SIN CLASIFICAR DE LA EXPLANACIÓN Y CANALES | C24: m3 | E24: =+IF(C24="", 0,D24) -> 0 | F24: 0 | G24: 0 | H24: =+IF(C24="", 0,SUM(F24:G24)) -> 0 | I24: 0 | J24: =+IF(C24="", 0,I24) -> 0 | K24: 0 | L24: 0 | M24: =+IF(C24="",0,K24+L24) -> 0 | N24: 0 | O24: 0 | P24: =+IF(C24="", 0,SUM(N24:O24)) -> 0 | Q24: 0 | R24: 0 | S24: =+IF(C24="",0,SUM(Q24:R24)) -> 0 | T24: 0 | U24: 0 | V24: =+IF(C24="",0,SUM(T24:U24)) -> 0 | W24: =+IF(C24="",0,E24+H24+J24+M24+P24+S24+V24) -> 0 | X24: 0 | Y24: 0 | Z24: 0 | AA24: =SUM(Z24) -> 0 | AB24: 0 | AC24: 0 | AD24: =SUM(AB24:AC24) -> 0 | AE24: 0 | AF24: =+AE24 -> 0 | AG24: 0 | AH24: =+AG24 -> 0 | AI24: 0 | AJ24: 0 | AK24: 0 | AL24: 0 | AM24: 0 | AN24: 0 | AO24: =SUM(AI24:AN24) -> 0 | AP24: 0 | AQ24: =+AP24 -> 0 | AR24: 0 | AS24: 0 | AT24: 0 | AU24: =SUM(AR24:AT24) -> 0 | AV24: 0 | AW24: 0 | AX24: =SUM(AV24:AW24) -> 0 | AY24: 0 | AZ24: =+AY24 -> 0 | BA24: 0 | BB24: 0 | BC24: =SUM(BA24:BB24) -> 0 | BD24: =+IF(C24="",0,BC24+AZ24+AX24+AU24+AQ24+AO24+AH24+AF24+AD24+AA24) -> 0 | BG24: =+BE24+BF24 -> 0 | BL24: =+BH24+BI24+BJ24+BK24 -> 0 | BO24: =+BM24+BN24 -> 0 | BU24: =+SUM(BP24:BT24) -> 0 | CC24: =+SUM(BV24:CB24) -> 0 | CH24: =+SUM(CD24:CG24) -> 0 | CO24: =+SUM(CI24:CN24) -> 0 | CR24: =+SUM(CP24:CQ24) -> 0 | CW24: =+SUM(CS24:CV24) -> 0 | CY24: =+CX24 -> 0 | CZ24: =+IF(C24="",0,CY24+CR24+CH24+BU24+BO24+BL24+CO24+CW24+CC24+BG24) -> 0 | DA24: =IF(C24="",0,CZ24+BD24+W24) -> 0 | DI24: =BD24-BC24-AX24-AQ24-AF24-AD24 -> 0
A25: 220.1 P-A | B25: TERRAPLENES (INCLUYE MATERIAL CUERPO TERRAPLEN CBR=12%) | C25: m3 | E25: =+IF(C25="", 0,D25) -> 0 | F25: 1131.84 | G25: 4594.275 | H25: =+IF(C25="", 0,SUM(F25:G25)) -> 5726.115 | I25: 0 | J25: =+IF(C25="", 0,I25) -> 0 | K25: 5636.232 | L25: 3116.4 | M25: =+IF(C25="",0,K25+L25) -> 8752.632 | N25: 0 | O25: 0 | P25: =+IF(C25="", 0,SUM(N25:O25)) -> 0 | Q25: 3021.81 | R25: 17996.28 | S25: =+IF(C25="",0,SUM(Q25:R25)) -> 21018.09 | T25: 0 | U25: 0 | V25: =+IF(C25="",0,SUM(T25:U25)) -> 0 | W25: =+IF(C25="",0,E25+H25+J25+M25+P25+S25+V25) -> 35496.837 | X25: 2355.19 | Y25: 3838.958 | Z25: 16049.55 | AA25: =SUM(Z25) -> 16049.55 | AB25: 11141.667 | AC25: 474.05 | AD25: =SUM(AB25:AC25) -> 11615.717 | AE25: 55410.389 | AF25: =+AE25 -> 55410.389 | AG25: 170021.91 | AH25: =+AG25 -> 170021.91 | AI25: 46341.249 | AJ25: 7041.326 | AK25: 29840.394 | AL25: 103506.96 | AM25: 0 | AN25: 0 | AO25: =AI25+AM25+AN25 -> 46341.249 | AP25: 47123.572 | AQ25: =+AP25 -> 47123.572 | AR25: 83382.806 | AS25: 24459.614 | AT25: 24977.611 | AU25: =SUM(AT25) -> 24977.611 | AV25: 1601.44 | AW25: 1499.6728 | AX25: =SUM(AV25:AW25) -> 3101.1128 | AY25: 9117.98 | AZ25: =+AY25 -> 9117.98 | BA25: 5684.585 | BB25: 1481.005 | BC25: =SUM(BA25:BB25) -> 7165.59 | BD25: =+IF(C25="",0,BC25+AZ25+AX25+AU25+AQ25+AO25+AH25+AF25+AD25+AA25) -> 390924.69 | BG25: =+BE25+BF25 -> 0 | BH25: 533.95 | BI25: 6401.66 | BJ25: 22889.15 | BK25: 16161.75 | BL25: =+BH25+BI25+BJ25+BK25 -> 45986.51 | BM25: 27396.9 | BN25: 15156.35 | BO25: =+BM25+BN25 -> 42553.25 | BT25: 466.7 | BU25: =+SUM(BP25:BT25) -> 466.7 | BV25: 1376.11 | BW25: 2205.07 | BY25: 5193.92 | BZ25: 199.05 | CA25: 3845.28 | CB25: 66.05 | CC25: =+SUM(BV25:CB25) -> 12885.48 | CD25: 527.76 | CE25: 2902.68 | CF25: 1055.52 | CG25: 1055.52 | CH25: =+SUM(CD25:CG25) -> 5541.48 | CI25: 14768.102 | CJ25: 368.3 | CK25: 959.95 | CL25: 1484.7 | CM25: 3099.35 | CN25: 2585.05 | CO25: =+SUM(CI25:CN25) -> 23265.452 | CP25: 20762.956 | CQ25: 5642.02 | CR25: =+SUM(CP25:CQ25) -> 26404.976 | CS25: 36650.789 | CT25: 21966.36 | CU25: 4166.48 | CV25: 21998.44 | CW25: =+SUM(CS25:CV25) -> 84782.069 | CX25: 353.9 | CY25: =+CX25 -> 353.9 | CZ25: =+IF(C25="",0,CY25+CR25+CH25+BU25+BO25+BL25+CO25+CW25+CC25+BG25) -> 242239.82 | DA25: =IF(C25="",0,CZ25+BD25+W25) -> 668661.34 | DI25: =BD25-BC25-AX25-AQ25-AF25-AD25 -> 266508.31
A26: 220.1 P-B | B26: TERRAPLENES (INCLUYE MATERIAL CORONAS CBR=20%) | C26: m3 | E26: =+IF(C26="", 0,D26) -> 0 | F26: 1579.4685 | G26: 8057.9975 | H26: =+IF(C26="", 0,SUM(F26:G26)) -> 9637.466 | I26: 8442.9454 | J26: =+IF(C26="", 0,I26) -> 8442.9454 | K26: 2996.622 | L26: 1656.9 | M26: =+IF(C26="",0,K26+L26) -> 4653.522 | N26: 0 | O26: 0 | P26: =+IF(C26="", 0,SUM(N26:O26)) -> 0 | Q26: 3421.3957 | R26: 6248.7657 | S26: =+IF(C26="",0,SUM(Q26:R26)) -> 9670.1615 | T26: 0 | U26: 0 | V26: =+IF(C26="",0,SUM(T26:U26)) -> 0 | W26: =+IF(C26="",0,E26+H26+J26+M26+P26+S26+V26) -> 32404.095 | X26: 342.2685 | Y26: 899.6772 | Z26: 2764.887 | AA26: =SUM(Z26) -> 2764.887 | AB26: 2994.4172 | AC26: 360 | AD26: =SUM(AB26:AC26) -> 3354.4172 | AE26: 14921.775 | AF26: =+AE26 -> 14921.775 | AG26: 31987.834 | AH26: =+AG26 -> 31987.834 | AI26: 9333.0853 | AJ26: 1440.4142 | AK26: 4834.8801 | AL26: 13385.78 | AM26: 0 | AN26: 0 | AO26: =AI26+AM26+AN26 -> 9333.0853 | AP26: 8524.5565 | AQ26: =+AP26 -> 8524.5565 | AR26: 9333.2708 | AS26: 10522.312 | AT26: 4240.1689 | AU26: =SUM(AT26) -> 4240.1689 | AV26: 93.585 | AW26: 2752.9359 | AX26: =SUM(AV26:AW26) -> 2846.5209 | AY26: 2640.357 | AZ26: =+AY26 -> 2640.357 | BA26: 3421.8444 | BB26: 473.52 | BC26: =SUM(BA26:BB26) -> 3895.3644 | BD26: =+IF(C26="",0,BC26+AZ26+AX26+AU26+AQ26+AO26+AH26+AF26+AD26+AA26) -> 84508.967 | BG26: =+BE26+BF26 -> 0 | BH26: 577.5 | BI26: 812.46 | BJ26: 3693 | BK26: 746.5 | BL26: =+BH26+BI26+BJ26+BK26 -> 5829.46 | BM26: 4431.6 | BN26: 738.6 | BO26: =+BM26+BN26 -> 5170.2 | BT26: 360 | BU26: =+SUM(BP26:BT26) -> 360 | BV26: 590.88 | BW26: 832 | BY26: 997.11 | BZ26: 480 | CA26: 1218.69 | CB26: 172.5 | CC26: =+SUM(BV26:CB26) -> 4291.18 | CD26: 239.58 | CE26: 1317.69 | CF26: 479.16 | CG26: 479.16 | CH26: =+SUM(CD26:CG26) -> 2515.59 | CI26: 9148.048 | CJ26: 1349.71 | CK26: 532.5 | CL26: 3899.17 | CM26: 1597.5 | CN26: 1241.7 | CO26: =+SUM(CI26:CN26) -> 17768.628 | CP26: 3747.744 | CQ26: 5711.23 | CR26: =+SUM(CP26:CQ26) -> 9458.974 | CS26: 4899.411 | CT26: 3226.34 | CU26: 503.12 | CV26: 2216.12 | CW26: =+SUM(CS26:CV26) -> 10844.991 | CX26: 180 | CY26: =+CX26 -> 180 | CZ26: =+IF(C26="",0,CY26+CR26+CH26+BU26+BO26+BL26+CO26+CW26+CC26+BG26) -> 56419.023 | DA26: =IF(C26="",0,CZ26+BD26+W26) -> 173332.08 | DI26: =BD26-BC26-AX26-AQ26-AF26-AD26 -> 50966.332
A27: 230.1 | B27: MEJORAMIENTO DE LA SUBRASANTE CON ADICION DE MATERIALES | C27: m3 | E27: =+IF(C27="", 0,D27) -> 0 | F27: 0 | G27: 0 | H27: =+IF(C27="", 0,SUM(F27:G27)) -> 0 | I27: 0 | J27: =+IF(C27="", 0,I27) -> 0 | K27: 0 | L27: 0 | M27: =+IF(C27="",0,K27+L27) -> 0 | N27: 0 | O27: 0 | P27: =+IF(C27="", 0,SUM(N27:O27)) -> 0 | Q27: 14849.38 | R27: 89519.19 | S27: =+IF(C27="",0,SUM(Q27:R27)) -> 104368.57 | T27: 4084.25 | U27: 5374.04 | V27: =+IF(C27="",0,SUM(T27:U27)) -> 9458.29 | W27: =+IF(C27="",0,E27+H27+J27+M27+P27+S27+V27) -> 113826.86 | X27: 0 | Y27: 0 | Z27: 0 | AA27: =SUM(Z27) -> 0 | AB27: 0 | AC27: 0 | AD27: =SUM(AB27:AC27) -> 0 | AE27: 0 | AF27: =+AE27 -> 0 | AG27: 0 | AH27: =+AG27 -> 0 | AI27: 0 | AJ27: 0 | AK27: 0 | AL27: 0 | AM27: 0 | AN27: 0 | AO27: =SUM(AI27:AN27) -> 0 | AP27: 0 | AQ27: =+AP27 -> 0 | AR27: 0 | AS27: 0 | AT27: 0 | AU27: =SUM(AR27:AT27) -> 0 | AV27: 0 | AW27: 0 | AX27: =SUM(AV27:AW27) -> 0 | AY27: 0 | AZ27: =+AY27 -> 0 | BA27: 0 | BB27: 0 | BC27: =SUM(BA27:BB27) -> 0 | BD27: =+IF(C27="",0,BC27+AZ27+AX27+AU27+AQ27+AO27+AH27+AF27+AD27+AA27) -> 0 | BG27: =+BE27+BF27 -> 0 | BL27: =+BH27+BI27+BJ27+BK27 -> 0 | BO27: =+BM27+BN27 -> 0 | BU27: =+SUM(BP27:BT27) -> 0 | CC27: =+SUM(BV27:CB27) -> 0 | CH27: =+SUM(CD27:CG27) -> 0 | CO27: =+SUM(CI27:CN27) -> 0 | CR27: =+SUM(CP27:CQ27) -> 0 | CW27: =+SUM(CS27:CV27) -> 0 | CY27: =+CX27 -> 0 | CZ27: =+IF(C27="",0,CY27+CR27+CH27+BU27+BO27+BL27+CO27+CW27+CC27+BG27) -> 0 | DA27: =IF(C27="",0,CZ27+BD27+W27) -> 113826.86 | DI27: =BD27-BC27-AX27-AQ27-AF27-AD27 -> 0
A28: 230.2 | B28: MEJORAMIENTO DE LA SUBRASANTE EMPLEANDO UNICAMENTE MATERIAL ADICIONADO | C28: m³ | E28: =+IF(C28="", 0,D28) -> 0 | F28: 2393.382 | G28: 1076.44 | H28: =+IF(C28="", 0,SUM(F28:G28)) -> 3469.822 | I28: 180134.07 | J28: =+IF(C28="", 0,I28) -> 180134.07 | K28: 0 | L28: 0 | M28: =+IF(C28="",0,K28+L28) -> 0 | N28: 0 | O28: 0 | P28: =+IF(C28="", 0,SUM(N28:O28)) -> 0 | Q28: 0 | R28: 0 | S28: =+IF(C28="",0,SUM(Q28:R28)) -> 0 | T28: 0 | U28: 0 | V28: =+IF(C28="",0,SUM(T28:U28)) -> 0 | W28: =+IF(C28="",0,E28+H28+J28+M28+P28+S28+V28) -> 183603.89 | X28: 0 | Y28: 0 | Z28: 0 | AA28: =SUM(Z28) -> 0 | AB28: 0 | AC28: 0 | AD28: =SUM(AB28:AC28) -> 0 | AE28: 0 | AF28: =+AE28 -> 0 | AG28: 0 | AH28: =+AG28 -> 0 | AI28: 0 | AJ28: 0 | AK28: 0 | AL28: 0 | AM28: 0 | AN28: 0 | AO28: =SUM(AI28:AN28) -> 0 | AP28: 0 | AQ28: =+AP28 -> 0 | AR28: 0 | AS28: 0 | AT28: 0 | AU28: =SUM(AR28:AT28) -> 0 | AV28: 0 | AW28: 0 | AX28: =SUM(AV28:AW28) -> 0 | AY28: 0 | AZ28: =+AY28 -> 0 | BA28: 0 | BB28: 0 | BC28: =SUM(BA28:BB28) -> 0 | BD28: =+IF(C28="",0,BC28+AZ28+AX28+AU28+AQ28+AO28+AH28+AF28+AD28+AA28) -> 0 | BG28: =+BE28+BF28 -> 0 | BL28: =+BH28+BI28+BJ28+BK28 -> 0 | BO28: =+BM28+BN28 -> 0 | BU28: =+SUM(BP28:BT28) -> 0 | CC28: =+SUM(BV28:CB28) -> 0 | CH28: =+SUM(CD28:CG28) -> 0 | CO28: =+SUM(CI28:CN28) -> 0 | CR28: =+SUM(CP28:CQ28) -> 0 | CW28: =+SUM(CS28:CV28) -> 0 | CY28: =+CX28 -> 0 | CZ28: =+IF(C28="",0,CY28+CR28+CH28+BU28+BO28+BL28+CO28+CW28+CC28+BG28) -> 0 | DA28: =IF(C28="",0,CZ28+BD28+W28) -> 183603.89 | DI28: =BD28-BC28-AX28-AQ28-AF28-AD28 -> 0
