Workbook
Name _________key2: [1]INST!#REF!
Name ________key2: [2]INST!#REF!
Name ________key3: #REF!
Name ___key2: [2]INST!#REF!
Name ___key3: #REF!
Name ___key31: #REF!
Name __123Graph_A: #REF!
Name __123Graph_B: #REF!
Name __key2: [3]INST!#REF!
Name __key21: [2]INST!#REF!
Name __key3: #REF!
Name __key31: #REF!
Name _a1: {"TAB1",#N/A,TRUE,"GENERAL";"TAB2",#N/A,TRUE,"GENERAL";"TAB3",#N/A,TRUE,"GENERAL";"TAB4",#N/A,TRUE,"GENERAL";"TAB5",#N/A,TRUE,"GENERAL"}
Name _a3: {"TAB1",#N/A,TRUE,"GENERAL";"TAB2",#N/A,TRUE,"GENERAL";"TAB3",#N/A,TRUE,"GENERAL";"TAB4",#N/A,TRUE,"GENERAL";"TAB5",#N/A,TRUE,"GENERAL"}
Name _a4: {"via1",#N/A,TRUE,"general";"via2",#N/A,TRUE,"general";"via3",#N/A,TRUE,"general"}
Name _a5: {"TAB1",#N/A,TRUE,"GENERAL";"TAB2",#N/A,TRUE,"GENERAL";"TAB3",#N/A,TRUE,"GENERAL";"TAB4",#N/A,TRUE,"GENERAL";"TAB5",#N/A,TRUE,"GENERAL"}
Name _a6: {"TAB1",#N/A,TRUE,"GENERAL";"TAB2",#N/A,TRUE,"GENERAL";"TAB3",#N/A,TRUE,"GENERAL";"TAB4",#N/A,TRUE,"GENERAL";"TAB5",#N/A,TRUE,"GENERAL"}
Name _AAS1: {#N/A,#N/A,TRUE,"INGENIERIA";#N/A,#N/A,TRUE,"COMPRAS";#N/A,#N/A,TRUE,"DIRECCION";#N/A,#N/A,TRUE,"RESUMEN"}
Name _ABC1: {#N/A,#N/A,TRUE,"1842CWN0"}
Name _abc2: {#N/A,#N/A,TRUE,"1842CWN0"}
Name _b2: {"TAB1",#N/A,TRUE,"GENERAL";"TAB2",#N/A,TRUE,"GENERAL";"TAB3",#N/A,TRUE,"GENERAL";"TAB4",#N/A,TRUE,"GENERAL";"TAB5",#N/A,TRUE,"GENERAL"}
Name _b3: {"TAB1",#N/A,TRUE,"GENERAL";"TAB2",#N/A,TRUE,"GENERAL";"TAB3",#N/A,TRUE,"GENERAL";"TAB4",#N/A,TRUE,"GENERAL";"TAB5",#N/A,TRUE,"GENERAL"}
Name _b4: {"TAB1",#N/A,TRUE,"GENERAL";"TAB2",#N/A,TRUE,"GENERAL";"TAB3",#N/A,TRUE,"GENERAL";"TAB4",#N/A,TRUE,"GENERAL";"TAB5",#N/A,TRUE,"GENERAL"}
Name _b5: {"TAB1",#N/A,TRUE,"GENERAL";"TAB2",#N/A,TRUE,"GENERAL";"TAB3",#N/A,TRUE,"GENERAL";"TAB4",#N/A,TRUE,"GENERAL";"TAB5",#N/A,TRUE,"GENERAL"}
Name _b6: {"TAB1",#N/A,TRUE,"GENERAL";"TAB2",#N/A,TRUE,"GENERAL";"TAB3",#N/A,TRUE,"GENERAL";"TAB4",#N/A,TRUE,"GENERAL";"TAB5",#N/A,TRUE,"GENERAL"}
Name _b7: {"via1",#N/A,TRUE,"general";"via2",#N/A,TRUE,"general";"via3",#N/A,TRUE,"general"}
Name _b8: {"via1",#N/A,TRUE,"general";"via2",#N/A,TRUE,"general";"via3",#N/A,TRUE,"general"}
Name _bb9: {"TAB1",#N/A,TRUE,"GENERAL";"TAB2",#N/A,TRUE,"GENERAL";"TAB3",#N/A,TRUE,"GENERAL";"TAB4",#N/A,TRUE,"GENERAL";"TAB5",#N/A,TRUE,"GENERAL"}
Name _bgb5: {"TAB1",#N/A,TRUE,"GENERAL";"TAB2",#N/A,TRUE,"GENERAL";"TAB3",#N/A,TRUE,"GENERAL";"TAB4",#N/A,TRUE,"GENERAL";"TAB5",#N/A,TRUE,"GENERAL"}
Name _Fill: #REF!
Name _g2: {"TAB1",#N/A,TRUE,"GENERAL";"TAB2",#N/A,TRUE,"GENERAL";"TAB3",#N/A,TRUE,"GENERAL";"TAB4",#N/A,TRUE,"GENERAL";"TAB5",#N/A,TRUE,"GENERAL"}
Name _g3: {"via1",#N/A,TRUE,"general";"via2",#N/A,TRUE,"general";"via3",#N/A,TRUE,"general"}
Name _g4: {"via1",#N/A,TRUE,"general";"via2",#N/A,TRUE,"general";"via3",#N/A,TRUE,"general"}
Name _g5: {"via1",#N/A,TRUE,"general";"via2",#N/A,TRUE,"general";"via3",#N/A,TRUE,"general"}
Name _g6: {"via1",#N/A,TRUE,"general";"via2",#N/A,TRUE,"general";"via3",#N/A,TRUE,"general"}
Name _g7: {"TAB1",#N/A,TRUE,"GENERAL";"TAB2",#N/A,TRUE,"GENERAL";"TAB3",#N/A,TRUE,"GENERAL";"TAB4",#N/A,TRUE,"GENERAL";"TAB5",#N/A,TRUE,"GENERAL"}
Name _GR1: {"TAB1",#N/A,TRUE,"GENERAL";"TAB2",#N/A,TRUE,"GENERAL";"TAB3",#N/A,TRUE,"GENERAL";"TAB4",#N/A,TRUE,"GENERAL";"TAB5",#N/A,TRUE,"GENERAL"}
Name _gtr4: {"via1",#N/A,TRUE,"general";"via2",#N/A,TRUE,"general";"via3",#N/A,TRUE,"general"}
Name _h2: {"via1",#N/A,TRUE,"general";"via2",#N/A,TRUE,"general";"via3",#N/A,TRUE,"general"}
Name _h3: {"via1",#N/A,TRUE,"general";"via2",#N/A,TRUE,"general";"via3",#N/A,TRUE,"general"}
Name _h4: {"TAB1",#N/A,TRUE,"GENERAL";"TAB2",#N/A,TRUE,"GENERAL";"TAB3",#N/A,TRUE,"GENERAL";"TAB4",#N/A,TRUE,"GENERAL";"TAB5",#N/A,TRUE,"GENERAL"}
Name _h5: {"TAB1",#N/A,TRUE,"GENERAL";"TAB2",#N/A,TRUE,"GENERAL";"TAB3",#N/A,TRUE,"GENERAL";"TAB4",#N/A,TRUE,"GENERAL";"TAB5",#N/A,TRUE,"GENERAL"}
Name _h6: {"via1",#N/A,TRUE,"general";"via2",#N/A,TRUE,"general";"via3",#N/A,TRUE,"general"}
Name _h7: {"TAB1",#N/A,TRUE,"GENERAL";"TAB2",#N/A,TRUE,"GENERAL";"TAB3",#N/A,TRUE,"GENERAL";"TAB4",#N/A,TRUE,"GENERAL";"TAB5",#N/A,TRUE,"GENERAL"}
Name _h8: {"via1",#N/A,TRUE,"general";"via2",#N/A,TRUE,"general";"via3",#N/A,TRUE,"general"}
Name _hfh7: {"via1",#N/A,TRUE,"general";"via2",#N/A,TRUE,"general";"via3",#N/A,TRUE,"general"}
Name _hhg1: {#N/A,#N/A,TRUE,"1842CWN0"}
Name _i4: {"via1",#N/A,TRUE,"general";"via2",#N/A,TRUE,"general";"via3",#N/A,TRUE,"general"}
Name _i5: {"TAB1",#N/A,TRUE,"GENERAL";"TAB2",#N/A,TRUE,"GENERAL";"TAB3",#N/A,TRUE,"GENERAL";"TAB4",#N/A,TRUE,"GENERAL";"TAB5",#N/A,TRUE,"GENERAL"}
Name _i6: {"TAB1",#N/A,TRUE,"GENERAL";"TAB2",#N/A,TRUE,"GENERAL";"TAB3",#N/A,TRUE,"GENERAL";"TAB4",#N/A,TRUE,"GENERAL";"TAB5",#N/A,TRUE,"GENERAL"}
Name _i7: {"via1",#N/A,TRUE,"general";"via2",#N/A,TRUE,"general";"via3",#N/A,TRUE,"general"}
Name _i77: {"TAB1",#N/A,TRUE,"GENERAL";"TAB2",#N/A,TRUE,"GENERAL";"TAB3",#N/A,TRUE,"GENERAL";"TAB4",#N/A,TRUE,"GENERAL";"TAB5",#N/A,TRUE,"GENERAL"}
Name _i8: {"via1",#N/A,TRUE,"general";"via2",#N/A,TRUE,"general";"via3",#N/A,TRUE,"general"}
Name _i9: {"TAB1",#N/A,TRUE,"GENERAL";"TAB2",#N/A,TRUE,"GENERAL";"TAB3",#N/A,TRUE,"GENERAL";"TAB4",#N/A,TRUE,"GENERAL";"TAB5",#N/A,TRUE,"GENERAL"}
Name _k3: {"TAB1",#N/A,TRUE,"GENERAL";"TAB2",#N/A,TRUE,"GENERAL";"TAB3",#N/A,TRUE,"GENERAL";"TAB4",#N/A,TRUE,"GENERAL";"TAB5",#N/A,TRUE,"GENERAL"}
Name _k4: {"via1",#N/A,TRUE,"general";"via2",#N/A,TRUE,"general";"via3",#N/A,TRUE,"general"}
Name _k5: {"via1",#N/A,TRUE,"general";"via2",#N/A,TRUE,"general";"via3",#N/A,TRUE,"general"}
Name _k6: {"TAB1",#N/A,TRUE,"GENERAL";"TAB2",#N/A,TRUE,"GENERAL";"TAB3",#N/A,TRUE,"GENERAL";"TAB4",#N/A,TRUE,"GENERAL";"TAB5",#N/A,TRUE,"GENERAL"}
Name _k7: {"via1",#N/A,TRUE,"general";"via2",#N/A,TRUE,"general";"via3",#N/A,TRUE,"general"}
Name _k8: {"via1",#N/A,TRUE,"general";"via2",#N/A,TRUE,"general";"via3",#N/A,TRUE,"general"}

Sheet INFORMACION
B3: INFORMACIÓN GENERAL
B4: OBJETO : | C4: “ADECUACIÓN Y MANTENIMIENTO A LAS INSTALACIONES DE LA PLANTA DE BENEFICIO ANIMAL PARA DAR CUMPLIMIENTO A LA RESOLUCIÓN 240 DE 2013 Y DECRETO 1500 DE 2007 EN FUNCIÓN DE LOS REQUERIMIENTOS TÉCNICOS INVIMA, OTANCHE BOYACA 2026”
B5: CACULO:
B6: Vo.Bo. Secretaria de Planeación | C6: Vo.Bo. Secretario de Planeación e Infraestructura
B7: Vo.Bo. Supervisión | C7: Vo.Bo. Supervisión
B8: Contratista: | C8: N/A
B9: Interventor: | C9: N/A
B10: Fecha:
B11: Ubiucacion: | C11: PLANTA DE BENEFICIO ANIMAL OTANCHE

Sheet PRESUPUESTO OFICIAL (entidad)
B1: Formulario 1 - Propuesta económica - Documento tipo de mínima cuantía de obra pública de infraestructura social
B2: Versión: 1 de 21 de agosto de 2025
C5: FORMULARIO 1
C6: PRESUPUESTO OFICIAL
C7: [La Entidad puede utilizar este formulario de detalle del presupuesto oficial para determinar las condiciones bajo las cuales los Proponentes analizarán y presentarán su propuesta económica de forma detallada, sin perjuicio que la Entidad pueda modificarlo o establecer la presentación de la oferta económica con un formulario distinto al indicado.] [El presente Formulario aplica para los Procesos de Contratación que tengan como forma de pago precios unitarios. Tratándose de otras modalidades de pago, la Entidad debe ajustarlo cuando corresponde a: precio global, llave en mano, administración delegada, reembolso de gastos o cualquier otra forma de pago.]
C9: Adicionalmente, cuando el proceso de contratación es estructurado por precios unitarios, la Entidad debe aplicar las notas 1, 2 y 3 del presente formulario y las casillas de "Descripción", "Porcentaje" de la Administración, Imprevisto, Utilidad y total A.I.U. resaltadas en color amarillo. Tratándose de otras modalidades de precio, la Entidad puede o no configurar los mismos aspectos.
C11: Nº | D11: ÍTEM DE PAGO | E11: ESPECIFICACIONES | G11: DESCRIPCIÓN | H11: UND. | I11: CANTIDAD | J11: INCREMENTO X TRANSPORTE | K11: VALOR UNITARIO | L11: VALOR TOTAL
E12: GENERAL | F12: PARTICULAR
C13: 1.PRELIMINARES
C14: 1.1 | D14: 3.03.10 | E14: GOBERNACIÓN | G14: EXCAVACIÓN MANUAL EN MATERIAL COMÚN | H14: M3 | I14: =+'1.1'!N37 -> 9.7 | J14: 0 | K14: =70557.63*1.3 -> 91724.919 | L14: =+I14*K14 -> 889731.71
C15: 1.2 | D15: 2.01.39 | E15: GOBERNACIÓN | G15: DEMOLICIÓN DE PLACAS MACIZAS EN CONCRETO E < = 20 CM. (INCLUYE RETIRO Y ACARREO LIBRE HASTA 5 KM.) | H15: M2 | I15: =+'1.2'!N37 -> 26 | J15: 0 | K15: =83303.83*1.3 -> 108294.98 | L15: =+I15*K15 -> 2815669.5
C16: Subtotal | L16: =+ROUND(SUM(L14:L15),0) -> 3705401
C17: 2.AFIRMADO, SUB BASE, Y BASE
C18: 2.1 | D18: 3.03.12 | E18: GOBERNACIÓN | G18: MEJORAMIENTO DE PISO CON MATERIAL DE AFIRMADO COMPACTADO CON PLANCHA VIBRADORA. (INCLUYE ACARREO LIBRE HASTA 5KM.). | H18: M3 | I18: =+'2.1'!N37 -> 19.4 | J18: 0 | K18: =140393.81*1.42 -> 199359.21 | L18: =+I18*K18 -> 3867568.7
C19: Subtotal | L19: =+ROUND(SUM(L18),0) -> 3867569
C20: 3. ESTRUCTURA
C21: 3.1 | D21: 3.13.28 | E21: GOBERNACIÓN | G21: SUMINISTRO E INSTALACIÓN DE ESMALTE SINTÉTICO PARA ESTRUCTURA METALICA. (INCLUYE BASE EN ANTICORROSIVO). | H21: KG | I21: =+'3.1'!N36 -> 230 | J21: 0.12 | K21: =4177.57*1.42 -> 5932.1494 | L21: =+ROUND(I21*K21,2) -> 1364394.4
C22: 3.2 | F22: PARTICULAR | G22: SOLDADURA 60-13 X 1/8¨ CORDON DE 3-5 MM | H22: ML | I22: =+'3.2'!N36 -> 20 | J22: 0 | K22: =49526.28*1.3 -> 64384.164 | L22: =+ROUND(I22*K22,2) -> 1287683.3
C23: 3.3 | F23: PARTICULAR | G23: SUMINISTRO E INSTALACIÓN DE ANGEO PLASTICO | H23: M2 | I23: =+'3.3'!N36 -> 31.5 | J23: 0.12 | K23: =22155*1.42 -> 31460.1 | L23: =+ROUND(I23*K23,2) -> 990993.15
C24: 3.4 | D24: 2.02.10 | E24: GOBERNACIÓN | G24: CONCRETO PARA ZAPATAS DE 21 MPa (3000 PSI) + FORMALETA MADERA | H24: M3 | I24: =+'3.4'!N36 -> 0.64 | J24: 0.12 | K24: =918406.92*1.42 -> 1304137.8 | L24: =+ROUND(I24*K24,2) -> 834648.21
C25: 3.5 | D25: 2.03.01 | E25: GOBERNACIÓN | G25: COLUMNAS Y PEDESTALES EN CONCRETO DE 21 MPa - (3000 PSI), H < 3.00 M. (FORMALETA MADERA) | H25: M3 | I25: =+'3.5'!N36 -> 0.4 | J25: 0.12 | K25: =1136574.77*1.42 -> 1613936.2 | L25: =+ROUND(I25*K25,2) -> 645574.47
C26: 3.6 | D26: 3.05.01 | E26: GOBERNACIÓN | G26: CONCRETO PARA PAVIMENTO RIGIDO 24.5 MPa - (3500 PSI). (INCLUYE CORTE Y SELLO DE JUNTAS). | H26: M3 | I26: =+'3.6'!N36 -> 5.16 | J26: 0.12 | K26: =859804.69*1.42 -> 1220922.7 | L26: =+ROUND(I26*K26,2) -> 6299960.9
C27: 3.7 | D27: 2.02.35 | E27: GOBERNACIÓN | G27: SUMINISTRO, FIGURADA Y AMARRE DE ACERO DE 420 MPa (60000 PSI) | H27: KG | I27: =+'3.7'!N36 -> 381.4 | J27: 0.12 | K27: =7675.05*1.42 -> 10898.571 | L27: =+ROUND(I27*K27,2) -> 4156715
C28: 3.8 | D28: 2.04.31 | E28: GOBERNACIÓN | G28: MURO EN LADRILLO TOLETE COMUN DE E = 0.20 M. | H28: M2 | I28: =+'3.8'!N36 -> 7 | J28: 0.12 | K28: =157324.45*1.42 -> 223400.72 | L28: =+ROUND(I28*K28,2) -> 1563805
C29: 3.9 | D29: 1.03.12 | E29: GOBERNACIÓN | G29: PAÑETE LISO MUROS 1:4 | H29: M2 | I29: =+'3.9'!N36 -> 7 | J29: 0.12 | K29: =35818.47*1.42 -> 50862.227 | L29: =+ROUND(I29*K29,2) -> 356035.59
C30: 3.10 | D30: 3.08.08 | E30: GOBERNACIÓN | G30: CONSTRUCCIÓN DE BORDILLO DE 20 X 35 CM. FUNDIDO EN CONCRETO DE 17.5 Mpa. (NO INCLUYE REFUERZO). | H30: ML | I30: ='3.10'!N36 -> 5 | J30: 0.12 | K30: =84448.93*1.42 -> 119917.48 | L30: =+ROUND(I30*K30,2) -> 599587.4
C31: 3.11 | D31: 2.07.02 | E31: GOBERNACIÓN | G31: SUMINISTRO E INSTALACIÓN DE ESMALTE LÁMINA LLENA 3 MANOS | H31: M2 | I31: =+'3.11'!N36 -> 271.77 | J31: 0.12 | K31: =21284.69*1.42 -> 30224.26 | L31: =+ROUND(I31*K31,2) -> 8214047.1
C32: Subtotal | L32: =+ROUND(SUM(L21:L31),0) -> 26313444
C33: 4. CUBIERTA
C34: 4.1 | D34: 2.08.07 | E34: GOBERNACIÓN | G34: SUMINISTRO E INSTALACIÓN DE CUBIERTA GALVANIZADA TRAPEZOIDAL CAL. 30 | H34: M2 | I34: =+'4.1'!N36 -> 84 | J34: 0.12 | K34: =42879.54*1.42 -> 60888.947 | L34: =+ROUND(I34*K34,2) -> 5114671.5
C35: Subtotal | L35: =+ROUND(SUM(L34),0) -> 5114672
C36: 5. CONEXIONES HIDROSANITARIAS
C37: 5.1 | D37: 2.12.169 | E37: GOBERNACIÓN | G37: SUMINISTRO E INSTALACIÓN DE TANQUE DE ALMACENAMIENTO DE 5000L (INCLUYE CONECTOR DE ENTRADA Y SALIDA) (NO INCLUYE FLOTADOR) | H37: UND | I37: =+'5.1'!N36 -> 1 | J37: 0.12 | K37: =5161565.89*1.42 -> 7329423.6 | L37: =+ROUND(I37*K37,2) -> 7329423.6
C38: 5.2 | D38: 2.12.167 | E38: GOBERNACIÓN | G38: SUMINISTRO E INSTALACIÓN DE TANQUE DE ALMACENAMIENTO DE 1000L (INCLUYE CONECTOR DE ENTRADA Y SALIDA) (NO INCLUYE FLOTADOR) | H38: UND | I38: =+'5.2'!N36 -> 1 | J38: 0.12 | K38: =1000269.67*1.42 -> 1420382.9 | L38: =+ROUND(I38*K38,2) -> 1420382.9
C39: 5.3 | D39: 2.12.170 | E39: GOBERNACIÓN | G39: SUMINISTRO E INSTALACIÓN DE VÁLVULA CON FLOTADOR PARA TANQUE ELEVADO 1/2", CON FLOTADOR EN BOLA PLÁSTICA | H39: UND | I39: =+'5.3'!N36 -> 2 | J39: 0.12 | K39: =89118.87*1.42 -> 126548.8 | L39: =+ROUND(I39*K39,2) -> 253097.59
C40: 5.4 | D40: 2.12.175 | E40: GOBERNACIÓN | G40: SUMINISTRO E INSTALACIÓN DE COMBO SANITARIO. INCLUYE GRIFERÍAS Y ACCESORIOS | H40: UND | I40: =+'5.4'!N36 -> 1 | J40: 0.12 | K40: =711261.47*1.42 -> 1009991.3 | L40: =+ROUND(I40*K40,2) -> 1009991.3
C41: Subtotal | L41: =+ROUND(SUM(L37:L40),0) -> 10012895
C42: SUBTOTAL OBRAS | L42: =+L16+L19+L32+L35+L41 -> 49013981
G47: SUBTOTAL OBRAS (INCLUYE IVA)
G51: VALOR TOTAL | L51: =+L42 -> 49013981
...

Sheet PROPUESTA ECONOMICA (proponente
B1: Formulario 1 - Propuesta económica - Documento tipo de mínima cuantía de obra pública de infraestructura social
B2: Versión: 1 de 21 de agosto de 2025
C5: FORMULARIO 1
C6: PROPUESTA ECONÓMICA
C7: [ El Proponente puede usar el presente formulario de presentación para determinar su propuesta económica conforme al Formulario 1 - Presupuesto Oficial por la Entidad]
C9: Cuando el proceso de contratación es estructurado por Precios Unitarios, la Entidad debe aplicar las notas 1, 2 y 3 del presente formato y las casillas de "Descripción", "Porcentaje" de la Administración, Imprevisto, Utilidad y total A.I.U. resaltadas en color amarillo.
C11: Nº | D11: ÍTEM DE PAGO | E11: ESPECIFICACIONES | G11: DESCRIPCIÓN | H11: UND. | I11: CANTIDAD | J11: VALOR UNITARIO | K11: VALOR TOTAL
E12: GENERAL | F12: PARTICULAR
C15: Subtotal
C21: Subtotal
C31: Subtotal
C36: Subtotal
C39: Subtotal
C40: SUBTOTAL OBRAS
G45: SUBTOTAL OBRAS (INCLUYE IVA)
G49: VALOR TOTAL
C52: NOTA 1: Se debe tener en cuenta que el PRECIO UNITARIO incluye el valor de AIU. | H52: DESCRIPCIÓN | K52: PORCENTAJE
C53: NOTA 2: Cuando la fracción decimal del peso sea igual o superior a 5 se aproximara por exceso al número entero siguiente del peso y cuando la fracción decimal del peso sea inferior a 5 se aproximará por defecto al número entero del peso. | H53: ADMINISTRACIÓN | J53: A= | K53: [Ofrecimiento del Proponente]
C54: NOTA 3: El AIU y su discriminación deben estar en porcentaje (%). | H54: IMPREVISTO | J54: I= | K54: [Ofrecimiento del Proponente]
H55: UTILIDAD | J55: U= | K55: [Ofrecimiento del Proponente]
H56: TOTAL A.I.U | J56: A.I.U.= | K56: [Ofrecimiento del Proponente]
G59: Firma del Proponente o de su Representante Legal

Sheet APU 3.2
B1: Formulario 1 - Propuesta económica - Documento tipo de mínima cuantía de obra pública de infraestructura social
B2: Versión: 1 de 21 de agosto de 2025
C5: [La entidad podrá utilizar este formato para la presentación de los análisis de Precios Unitarios del Contratista en la oportunidad prevista en el numeral 8.2. de la invitación]
D8: ALCALDIA MUNICIPAL DE OTANCHE
L9: VERSIÓN
D10: [NÚMERO DEL PROCESO]
L11: PÁGINA | M11: 1 | N11: DE | O11: 1
D13: ANALISIS DE PRECIOS UNITARIOS
L15: FECHA | M15: DD | N15: MM | O15: AA
C17: ÍTEMS DE LA PROPUESTA ECONÓMICA | I17: ÍTEMS NO PREVISTOS
H19: SOLDADURA 60-13 X 1/8¨ CORDON DE 3-5 MM
C21: DATOS ESPECÍFICOS
C23: ÍTEM | D23: DESCRIPCIÓN | M23: UNIDAD | O23: CANTIDAD
C25: I. EQUIPO
C28: DESCRIPCIÓN | H28: MARCA | J28: TIPO | L28: TARIFA/HORA | M28: RENDIMIENTO | O28: Vr. UNITARIO
C29: HERRAMIENTA Y EQUIPO MENOR (%M.O.) | L29: 102870.91 | M29: 0.05 | O29: =+L29*M29 -> 5143.5455
C30: COMPRESOR DE AIRE PORTÁTIL CON ACCESORIOS | L30: 53840 | M30: 0.01 | O30: =+L30*M30 -> 538.4
C31: EQUIPO DE SOLDADURA DE 400 AMP. | L31: 34232 | M31: 0.4 | O31: =+L31*M31 -> 13692.8
C32: PULIDORA | L32: 43083 | M32: 0.03 | O32: =+L32*M32 -> 1292.49
C33: TALADRO | L33: 4621 | M33: 0.03 | O33: =+L33*M33 -> 138.63
C34: SUBTOTAL $ | O34: =+O29+O30+O31+O32+O33 -> 20805.866
C35: II. MATERIALES
C38: DESCRIPCIÓN | K38: UNIDAD | L38: CANTIDAD | M38: PRECIO UNIT. | O38: Vr. UNITARIO
C39: SOLDADURA 6013 x 1/8`` | K39: KG | L39: 0.4 | M39: 15543.5 | O39: =+L39*M39 -> 6217.4
C41: SUBTOTAL $ | O41: =+O39 -> 6217.4
C42: III. TRANSPORTES
C45: MATERIAL | J45: VOL. o PESO | K45: DISTANCIA | L45: M3 o Ton/Km | M45: TARIFA | O45: Vr. UNITARIO
C48: SUBTOTAL $
C49: IV. MANO DE OBRA
C52: TRABAJADOR | J52: JORNAL | K52: PRESTACIONES | L52: JORNAL TOTAL | M52: RENDIMIENTO | O52: Vr. UNITARIO
C53: CUADRILLA CARPINTERÍA METÁLICA (HH1) | L53: 64294.32 | M53: 0.35 | O53: =+L53*M53 -> 22503.012
C57: SUBTOTAL $ | O57: =+O53 -> 22503.012
C59: TOTAL COSTO DIRECTO $
C60: V. COSTOS INDIRECTOS
C63: Descripción | L63: Porcentaje | M63: Valor Total
C64: ADMINISTRACION
C65: IMPREVISTOS
C66: UTILIDAD
C67: SUBTOTAL $
C69: Precio Unitario Total Aproximado al peso $ | O69: =+O34+O41+O57 -> 49526.278
...

Sheet APU 3.3
B1: Formulario 1 - Propuesta económica - Documento tipo de mínima cuantía de obra pública de infraestructura social
B2: Versión: 1 de 21 de agosto de 2025
C5: [La entidad podrá utilizar este formato para la presentación de los análisis de Precios Unitarios del Contratista en la oportunidad prevista en el numeral 8.2. de la invitación]
D8: [NOMBRE DE LA ENTIDAD]
L9: VERSIÓN
D10: [NÚMERO DEL PROCESO]
L11: PÁGINA | M11: 1 | N11: DE | O11: 1
D13: ANALISIS DE PRECIOS UNITARIOS
L15: FECHA | M15: DD | N15: MM | O15: AA
C17: ÍTEMS DE LA PROPUESTA ECONÓMICA | I17: ÍTEMS NO PREVISTOS
H19: SUMINISTRO E INSTALACIÓN DE ANGEO PLASTICO
C21: DATOS ESPECÍFICOS
C23: ÍTEM | D23: DESCRIPCIÓN | M23: UNIDAD | O23: CANTIDAD
C25: I. EQUIPO
C28: DESCRIPCIÓN | H28: MARCA | J28: TIPO | L28: TARIFA/HORA | M28: RENDIMIENTO | O28: Vr. UNITARIO
C32: SUBTOTAL $
C33: II. MATERIALES
C36: DESCRIPCIÓN | K36: UNIDAD | L36: CANTIDAD | M36: PRECIO UNIT. | O36: Vr. UNITARIO
C37: MALLA ANGEO PLASTICA | K37: M2 | L37: 1.05 | M37: 11100 | O37: =+L37*M37 -> 11655
C39: SUBTOTAL $ | O39: =+O37 -> 11655
C40: III. TRANSPORTES
C43: MATERIAL | J43: VOL. o PESO | K43: DISTANCIA | L43: M3 o Ton/Km | M43: TARIFA | O43: Vr. UNITARIO
C46: SUBTOTAL $
C47: IV. MANO DE OBRA
C50: TRABAJADOR | J50: JORNAL | K50: PRESTACIONES | L50: JORNAL TOTAL | M50: RENDIMIENTO | O50: Vr. UNITARIO
C51: CUADRILLA DE ALBAÑILERIA (AA) | L51: 10000 | M51: 1.05 | O51: =+L51*M51 -> 10500
C55: SUBTOTAL $ | O55: =+O51 -> 10500
C57: TOTAL COSTO DIRECTO $
C58: V. COSTOS INDIRECTOS
C61: Descripción | L61: Porcentaje | M61: Valor Total
C62: ADMINISTRACION
C63: IMPREVISTOS
C64: UTILIDAD
C65: SUBTOTAL $
C67: Precio Unitario Total Aproximado al peso $ | O67: =+O39+O55 -> 22155
H71: Firma
H72: Nombre:
H73: Representante Legal del Contratista o su Apoderado
H74: Matricula No. :
C76: OBSERVACIONES INTERVENTORÍA O SUPERVISIÓN
...

Sheet 1.1
B2: MEMORIAS DE CALCULO DE CANTIDADES
D4: MEMORIAS DE CALCULO CANTIDADES | H4: PROYECTO:
H6: OBJETO: | I6: =+INFORMACION!C4 -> “ADECUACIÓN Y MANTENIMIENTO A LAS INSTALACIONES DE LA PLANTA DE BENEFICIO ANIMAL PARA DAR CUMPLIMIENTO A LA RESOLUCIÓN 240 DE 2013 Y DECRETO 1500 DE 2007 EN FUNCIÓN DE LOS REQUERIMIENTOS TÉCNICOS INVIMA, OTANCHE BOYACA 2026”
B8: ENTIDAD: | D8: ALCALDÍA MUNICIPAL DE OTANCHE - BOYACÁ | H8: CONTRATISTA: | M8: INTERVENTOR: | N8: FECHA:
H9: =+INFORMACION!C8 -> N/A | M9: =+INFORMACION!C9 -> N/A | N9: =+INFORMACION!C10
B10: CAPITULO: | D10: =+'PRESUPUESTO OFICIAL (entidad)'!C13 -> 1.PRELIMINARES | N10: Hoja Nov. de 1
B11: ITEM DE PAGO: | D11: =+'PRESUPUESTO OFICIAL (entidad)'!D14 -> 3.03.10
B13: ITEM | C13: UND | D13: DESCRIPCION | I13: UBICACIÓN | L13: =+INFORMACION!C11 -> PLANTA DE BENEFICIO ANIMAL OTANCHE
B14: =+'PRESUPUESTO OFICIAL (entidad)'!C14 -> 1.1 | C14: =+'PRESUPUESTO OFICIAL (entidad)'!H14 -> M3 | D14: =+'PRESUPUESTO OFICIAL (entidad)'!G14 -> EXCAVACIÓN MANUAL EN MATERIAL COMÚN
H15: Localización | I15: Dimensiones | M15: CANTIDAD | N15: Total
I16: ANCHO | J16: LARGO | K16: ALTO | L16: No ELEMENTOS
H17: EXCAVACIÓN MATERIAL CONTAMINADO | I17: 10 | J17: 9.7 | K17: 0.1 | N17: =+I17*J17*K17 -> 9.7
N18: =+I18*J18*K18 -> 0
N19: =+I19*J19*K19 -> 0
N20: =+I20*J20*K20 -> 0
N21: =+I21*J21*K21 -> 0
N22: =+J22*K22*L22*M22 -> 0
N25: =+I26*J26*K26*L26 -> 0
H34: TOTAL PRESENTE ACTA | N34: =+N17 -> 9.7
I35: EJECUTADO ACTA 1 | N35: 0
I36: EJECUTADO ACTA 2 | N36: 0
I37: EJECUTADO PRESENTE ACTA | N37: =+ROUND(N34-N35-N36,2) -> 9.7
B38: Calculó: | F38: =+INFORMACION!C6 -> Vo.Bo. Secretario de Planeación e Infraestructura | K38: =+INFORMACION!C7 -> Vo.Bo. Supervisión
B39: =+INFORMACION!C5 -> 0
B40: Otanche - Boyacá

Sheet 1.2
B2: MEMORIAS DE CALCULO DE CANTIDADES
D4: MEMORIAS DE CALCULO CANTIDADES | H4: PROYECTO:
H6: OBJETO: | I6: =+INFORMACION!C4 -> “ADECUACIÓN Y MANTENIMIENTO A LAS INSTALACIONES DE LA PLANTA DE BENEFICIO ANIMAL PARA DAR CUMPLIMIENTO A LA RESOLUCIÓN 240 DE 2013 Y DECRETO 1500 DE 2007 EN FUNCIÓN DE LOS REQUERIMIENTOS TÉCNICOS INVIMA, OTANCHE BOYACA 2026”
B8: ENTIDAD: | D8: ALCALDÍA MUNICIPAL DE OTANCHE - BOYACÁ | H8: CONTRATISTA: | M8: INTERVENTOR: | N8: FECHA:
H9: =+INFORMACION!C8 -> N/A | M9: =+INFORMACION!C9 -> N/A | N9: =+INFORMACION!C10
B10: CAPITULO: | D10: =+'PRESUPUESTO OFICIAL (entidad)'!C13 -> 1.PRELIMINARES | N10: Hoja Nov. de 1
B11: ITEM DE PAGO: | D11: =+'PRESUPUESTO OFICIAL (entidad)'!D15 -> 2.01.39
B13: ITEM | C13: UND | D13: DESCRIPCION | I13: UBICACIÓN | L13: =+INFORMACION!C11 -> PLANTA DE BENEFICIO ANIMAL OTANCHE
B14: =+'PRESUPUESTO OFICIAL (entidad)'!C15 -> 1.2 | C14: =+'PRESUPUESTO OFICIAL (entidad)'!H15 -> M2 | D14: =+'PRESUPUESTO OFICIAL (entidad)'!G15 -> DEMOLICIÓN DE PLACAS MACIZAS EN CONCRETO E < = 20 CM. (INCLUYE RETIRO Y ACARREO LIBRE HASTA 5 KM.)
H15: Localización | I15: Dimensiones | M15: CANTIDAD | N15: Total
I16: ANCHO | J16: LARGO | K16: ALTO | L16: No ELEMENTOS
H17: DEMOLICION PLACA | I17: 2.5 | J17: 3 | N17: =+I17*J17 -> 7.5
H18: DEMOLICION PLACA 2 | I18: 3.85 | J18: 4.75 | N18: =+I18*J18 -> 18.2875
H34: TOTAL PRESENTE ACTA | N34: =ROUND(SUM(N17:N33),0) -> 26
I35: EJECUTADO ACTA 1 | N35: 0
I36: EJECUTADO ACTA 2 | N36: 0
I37: EJECUTADO PRESENTE ACTA | N37: =+ROUND(N34-N35-N36,2) -> 26
B38: Calculó: | F38: =+INFORMACION!C6 -> Vo.Bo. Secretario de Planeación e Infraestructura | K38: =+INFORMACION!C7 -> Vo.Bo. Supervisión
B39: =+INFORMACION!C5 -> 0
B40: Otanche - Boyacá

Sheet 2.1
B2: MEMORIAS DE CALCULO DE CANTIDADES
D4: MEMORIAS DE CALCULO CANTIDADES | H4: PROYECTO:
H6: OBJETO: | I6: =+INFORMACION!C4 -> “ADECUACIÓN Y MANTENIMIENTO A LAS INSTALACIONES DE LA PLANTA DE BENEFICIO ANIMAL PARA DAR CUMPLIMIENTO A LA RESOLUCIÓN 240 DE 2013 Y DECRETO 1500 DE 2007 EN FUNCIÓN DE LOS REQUERIMIENTOS TÉCNICOS INVIMA, OTANCHE BOYACA 2026”
B8: ENTIDAD: | D8: ALCALDÍA MUNICIPAL DE OTANCHE - BOYACÁ | H8: CONTRATISTA: | M8: INTERVENTOR: | N8: FECHA:
H9: =+INFORMACION!C8 -> N/A | M9: =+INFORMACION!C9 -> N/A | N9: =+INFORMACION!C10
B10: CAPITULO: | D10: =+'PRESUPUESTO OFICIAL (entidad)'!C17 -> 2.AFIRMADO, SUB BASE, Y BASE | N10: Hoja Nov. de 1
B11: ITEM DE PAGO: | D11: =+'PRESUPUESTO OFICIAL (entidad)'!D18 -> 3.03.12
B13: ITEM | C13: UND | D13: DESCRIPCION | I13: UBICACIÓN | L13: =+INFORMACION!C11 -> PLANTA DE BENEFICIO ANIMAL OTANCHE
B14: =+'PRESUPUESTO OFICIAL (entidad)'!C18 -> 2.1 | C14: =+'PRESUPUESTO OFICIAL (entidad)'!H18 -> M3 | D14: =+'PRESUPUESTO OFICIAL (entidad)'!G18 -> MEJORAMIENTO DE PISO CON MATERIAL DE AFIRMADO COMPACTADO CON PLANCHA VIBRADORA. (INCLUYE ACARREO LIBRE HASTA 5KM.).
H15: Localización | I15: Dimensiones | M15: CANT | N15: Total
I16: LARGO | J16: ANCHO | K16: ALTO | L16: m2
H17: MEJORAMIENTO PISO | I17: 9.7 | J17: 10 | K17: 0.2 | N17: =+I17*J17*K17 -> 19.4
N18: =+K18*L18*M18 -> 0
N19: =+I19*J19*K19*M19 -> 0
N20: =+I20*J20*K20 -> 0
N21: =+I21*J21*K21 -> 0
N22: =+J22*K22*L22*M22 -> 0
N25: =+I26*J26*K26*L26 -> 0
H34: TOTAL PRESENTE ACTA | N34: =+N17 -> 19.4
I35: EJECUTADO ACTA 1 | N35: 0
I36: EJECUTADO ACTA 2 | N36: 0
I37: EJECUTADO PRESENTE ACTA | N37: =+ROUND(N34-N35-N36,2) -> 19.4
B38: Calculó: | F38: =+INFORMACION!C6 -> Vo.Bo. Secretario de Planeación e Infraestructura | K38: =+INFORMACION!C7 -> Vo.Bo. Supervisión
B39: =+INFORMACION!C5 -> 0
B40: Otanche - Boyacá

Sheet 3.1
B2: MEMORIAS DE CALCULO DE CANTIDADES
D4: MEMORIAS DE CALCULO CANTIDADES | H4: PROYECTO:
H6: OBJETO: | I6: =+INFORMACION!C4 -> “ADECUACIÓN Y MANTENIMIENTO A LAS INSTALACIONES DE LA PLANTA DE BENEFICIO ANIMAL PARA DAR CUMPLIMIENTO A LA RESOLUCIÓN 240 DE 2013 Y DECRETO 1500 DE 2007 EN FUNCIÓN DE LOS REQUERIMIENTOS TÉCNICOS INVIMA, OTANCHE BOYACA 2026”
B8: ENTIDAD: | D8: ALCALDÍA MUNICIPAL DE OTANCHE - BOYACÁ | H8: CONTRATISTA: | M8: INTERVENTOR: | N8: FECHA:
H9: =+INFORMACION!C8 -> N/A | M9: =+INFORMACION!C9 -> N/A | N9: =+INFORMACION!C10
B10: CAPITULO: | D10: =+'PRESUPUESTO OFICIAL (entidad)'!C20 -> 3. ESTRUCTURA | N10: Hoja Nov. de 1
B11: ITEM DE PAGO: | D11: =+'PRESUPUESTO OFICIAL (entidad)'!D21 -> 3.13.28
B13: ITEM | C13: UND | D13: DESCRIPCION | I13: UBICACIÓN | L13: =+INFORMACION!C11 -> PLANTA DE BENEFICIO ANIMAL OTANCHE
B14: =+'PRESUPUESTO OFICIAL (entidad)'!C21 -> 3.1 | C14: =+'PRESUPUESTO OFICIAL (entidad)'!H21 -> KG | D14: =+'PRESUPUESTO OFICIAL (entidad)'!G21 -> SUMINISTRO E INSTALACIÓN DE ESMALTE SINTÉTICO PARA ESTRUCTURA METALICA. (INCLUYE BASE EN ANTICORROSIVO).
H15: Localización | I15: Dimensiones | M15: OBSERVACION | N15: Total
I16: No. Elem. | J16: Largo | K16: KG | L16: Alto
H17: ESMAL PUERTA | J17: 4 | K17: 20 | N17: =+J17*K17 -> 80
H18: PINTURA PUERTA ACCESO | J18: 6 | K18: 25 | N18: =+J18*K18 -> 150
N19: =+I19*J19*K19*L19 -> 0
N20: =+I20*J20*K20*L20 -> 0
N22: =+I22*J22*K22*L22 -> 0
N25: =+I26*J26*K26*L26 -> 0
H33: TOTAL PRESENTE ACTA | N33: =+N17+N18 -> 230
I34: EJECUTADO ACTA 1 | N34: 0
I35: EJECUTADO ACTA 2 | N35: 0
I36: EJECUTADO PRESENTE ACTA | N36: =+ROUND(N33-N34-N35,2) -> 230
B37: Calculó: | F37: =+INFORMACION!C6 -> Vo.Bo. Secretario de Planeación e Infraestructura | K37: =+INFORMACION!C7 -> Vo.Bo. Supervisión
B38: =+INFORMACION!C5 -> 0
B39: Otanche - Boyacá

Sheet 3.2
B2: MEMORIAS DE CALCULO DE CANTIDADES
D4: MEMORIAS DE CALCULO CANTIDADES | H4: PROYECTO:
H6: OBJETO: | I6: =+INFORMACION!C4 -> “ADECUACIÓN Y MANTENIMIENTO A LAS INSTALACIONES DE LA PLANTA DE BENEFICIO ANIMAL PARA DAR CUMPLIMIENTO A LA RESOLUCIÓN 240 DE 2013 Y DECRETO 1500 DE 2007 EN FUNCIÓN DE LOS REQUERIMIENTOS TÉCNICOS INVIMA, OTANCHE BOYACA 2026”
B8: ENTIDAD: | D8: ALCALDÍA MUNICIPAL DE OTANCHE - BOYACÁ | H8: CONTRATISTA: | M8: INTERVENTOR: | N8: FECHA:
H9: =+INFORMACION!C8 -> N/A | M9: =+INFORMACION!C9 -> N/A | N9: =+INFORMACION!C10
B10: CAPITULO: | D10: =+'PRESUPUESTO OFICIAL (entidad)'!C20 -> 3. ESTRUCTURA | N10: Hoja Nov. de 1
B11: ITEM DE PAGO: | D11: =+'PRESUPUESTO OFICIAL (entidad)'!D22 -> 0
B13: ITEM | C13: UND | D13: DESCRIPCION | I13: UBICACIÓN | L13: =+INFORMACION!C11 -> PLANTA DE BENEFICIO ANIMAL OTANCHE
B14: =+'PRESUPUESTO OFICIAL (entidad)'!C22 -> 3.2 | C14: =+'PRESUPUESTO OFICIAL (entidad)'!H22 -> ML | D14: =+'PRESUPUESTO OFICIAL (entidad)'!G22 -> SOLDADURA 60-13 X 1/8¨ CORDON DE 3-5 MM
H15: Localización | I15: Dimensiones | M15: OBSERVACION | N15: Total
I16: No. Elem. | J16: Largo | K16: Ancho | L16: Alto
H17: SOLDADURA MALLA | J17: 20 | N17: =+J17 -> 20
H18: SOLDADURA PUERTA | J18: 6 | N18: =+J18 -> 6
H19: SOLDADURA REJA | J19: 5 | N19: =+J19 -> 5
N20: =+I20*J20*K20*L20 -> 0
N22: =+I22*J22*K22*L22 -> 0
N25: =+I26*J26*K26*L26 -> 0
H33: TOTAL PRESENTE ACTA | N33: =+N17 -> 20
I34: EJECUTADO ACTA 1 | N34: 0
I35: EJECUTADO ACTA 2 | N35: 0
I36: EJECUTADO PRESENTE ACTA | N36: =+ROUND(N33-N34-N35,2) -> 20
B37: Calculó: | F37: =+INFORMACION!C6 -> Vo.Bo. Secretario de Planeación e Infraestructura | K37: =+INFORMACION!C7 -> Vo.Bo. Supervisión
B38: =+INFORMACION!C5 -> 0
B39: Otanche - Boyacá

Sheet 3.3
B2: MEMORIAS DE CALCULO DE CANTIDADES
D4: MEMORIAS DE CALCULO CANTIDADES | H4: PROYECTO:
H6: OBJETO: | I6: =+INFORMACION!C4 -> “ADECUACIÓN Y MANTENIMIENTO A LAS INSTALACIONES DE LA PLANTA DE BENEFICIO ANIMAL PARA DAR CUMPLIMIENTO A LA RESOLUCIÓN 240 DE 2013 Y DECRETO 1500 DE 2007 EN FUNCIÓN DE LOS REQUERIMIENTOS TÉCNICOS INVIMA, OTANCHE BOYACA 2026”
B8: ENTIDAD: | D8: ALCALDÍA MUNICIPAL DE OTANCHE - BOYACÁ | H8: CONTRATISTA: | M8: INTERVENTOR: | N8: FECHA:
H9: =+INFORMACION!C8 -> N/A | M9: =+INFORMACION!C9 -> N/A | N9: =+INFORMACION!C10
B10: CAPITULO: | D10: =+'PRESUPUESTO OFICIAL (entidad)'!C20 -> 3. ESTRUCTURA | N10: Hoja Nov. de 1
B11: ITEM DE PAGO: | D11: =+'PRESUPUESTO OFICIAL (entidad)'!D23 -> 0
B13: ITEM | C13: UND | D13: DESCRIPCION | I13: UBICACIÓN | L13: =+INFORMACION!C11 -> PLANTA DE BENEFICIO ANIMAL OTANCHE
B14: =+'PRESUPUESTO OFICIAL (entidad)'!C23 -> 3.3 | C14: =+'PRESUPUESTO OFICIAL (entidad)'!H23 -> M2 | D14: =+'PRESUPUESTO OFICIAL (entidad)'!G23 -> SUMINISTRO E INSTALACIÓN DE ANGEO PLASTICO
H15: Localización | I15: Dimensiones | M15: OBSERVACION | N15: Total
I16: No. Elem. | J16: Largo | K16: ALTO | L16: CANT
H17: VENTANAS | J17: 45 | K17: 0.7 | N17: =+J17*K17 -> 31.5
N18: =+I18*J18*K18*L18 -> 0
N19: =+I19*J19*K19*L19 -> 0
N20: =+I20*J20*K20*L20 -> 0
N22: =+I22*J22*K22*L22 -> 0
N25: =+I26*J26*K26*L26 -> 0
H33: TOTAL PRESENTE ACTA | N33: =+N17 -> 31.5
I34: EJECUTADO ACTA 1 | N34: 0
I35: EJECUTADO ACTA 2 | N35: 0
I36: EJECUTADO PRESENTE ACTA | N36: =+ROUND(N33-N34-N35,2) -> 31.5
B37: Calculó: | F37: =+INFORMACION!C6 -> Vo.Bo. Secretario de Planeación e Infraestructura | K37: =+INFORMACION!C7 -> Vo.Bo. Supervisión
B38: =+INFORMACION!C5 -> 0
B39: Otanche - Boyacá

Sheet 3.4
B2: MEMORIAS DE CALCULO DE CANTIDADES
D4: MEMORIAS DE CALCULO CANTIDADES | H4: PROYECTO:
H6: OBJETO: | I6: =+INFORMACION!C4 -> “ADECUACIÓN Y MANTENIMIENTO A LAS INSTALACIONES DE LA PLANTA DE BENEFICIO ANIMAL PARA DAR CUMPLIMIENTO A LA RESOLUCIÓN 240 DE 2013 Y DECRETO 1500 DE 2007 EN FUNCIÓN DE LOS REQUERIMIENTOS TÉCNICOS INVIMA, OTANCHE BOYACA 2026”
B8: ENTIDAD: | D8: ALCALDÍA MUNICIPAL DE OTANCHE - BOYACÁ | H8: CONTRATISTA: | M8: INTERVENTOR: | N8: FECHA:
H9: =+INFORMACION!C8 -> N/A | M9: =+INFORMACION!C9 -> N/A | N9: =+INFORMACION!C10
B10: CAPITULO: | D10: =+'PRESUPUESTO OFICIAL (entidad)'!C20 -> 3. ESTRUCTURA | N10: Hoja Nov. de 1
B11: ITEM DE PAGO: | D11: =+'PRESUPUESTO OFICIAL (entidad)'!D24 -> 2.02.10
B13: ITEM | C13: UND | D13: DESCRIPCION | I13: UBICACIÓN | L13: =+INFORMACION!C11 -> PLANTA DE BENEFICIO ANIMAL OTANCHE
B14: =+'PRESUPUESTO OFICIAL (entidad)'!C24 -> 3.4 | C14: =+'PRESUPUESTO OFICIAL (entidad)'!H24 -> M3 | D14: =+'PRESUPUESTO OFICIAL (entidad)'!G24 -> CONCRETO PARA ZAPATAS DE 21 MPa (3000 PSI) + FORMALETA MADERA
H15: Localización | I15: Dimensiones | M15: CANTIDAD | N15: Total
I16: No. Elem. | J16: Largo | K16: ANCHO | L16: ALTO
H17: ZAPATAS | J17: 0.8 | K17: 0.8 | L17: 0.5 | M17: 2 | N17: =+J17*K17*L17*M17 -> 0.64
N18: =+I18*J18*K18*L18 -> 0
N19: =+I19*J19*K19*L19 -> 0
N20: =+I20*J20*K20*L20 -> 0
N22: =+I22*J22*K22*L22 -> 0
N25: =+I26*J26*K26*L26 -> 0
H33: TOTAL PRESENTE ACTA | N33: =+N17 -> 0.64
I34: EJECUTADO ACTA 1 | N34: 0
I35: EJECUTADO ACTA 2 | N35: 0
I36: EJECUTADO PRESENTE ACTA | N36: =+ROUND(N33-N34-N35,2) -> 0.64
B37: Calculó: | F37: =+INFORMACION!C6 -> Vo.Bo. Secretario de Planeación e Infraestructura | K37: =+INFORMACION!C7 -> Vo.Bo. Supervisión
B38: =+INFORMACION!C5 -> 0
B39: Otanche - Boyacá

Sheet 3.5
B2: MEMORIAS DE CALCULO DE CANTIDADES
D4: MEMORIAS DE CALCULO CANTIDADES | H4: PROYECTO:
H6: OBJETO: | I6: =+INFORMACION!C4 -> “ADECUACIÓN Y MANTENIMIENTO A LAS INSTALACIONES DE LA PLANTA DE BENEFICIO ANIMAL PARA DAR CUMPLIMIENTO A LA RESOLUCIÓN 240 DE 2013 Y DECRETO 1500 DE 2007 EN FUNCIÓN DE LOS REQUERIMIENTOS TÉCNICOS INVIMA, OTANCHE BOYACA 2026”
B8: ENTIDAD: | D8: ALCALDÍA MUNICIPAL DE OTANCHE - BOYACÁ | H8: CONTRATISTA: | M8: INTERVENTOR: | N8: FECHA:
H9: =+INFORMACION!C8 -> N/A | M9: =+INFORMACION!C9 -> N/A | N9: =+INFORMACION!C10
B10: CAPITULO: | D10: =+'PRESUPUESTO OFICIAL (entidad)'!C20 -> 3. ESTRUCTURA | N10: Hoja Nov. de 1
B11: ITEM DE PAGO: | D11: =+'PRESUPUESTO OFICIAL (entidad)'!D25 -> 2.03.01
B13: ITEM | C13: UND | D13: DESCRIPCION | I13: UBICACIÓN | L13: =+INFORMACION!C11 -> PLANTA DE BENEFICIO ANIMAL OTANCHE
B14: =+'PRESUPUESTO OFICIAL (entidad)'!C25 -> 3.5 | C14: =+'PRESUPUESTO OFICIAL (entidad)'!H25 -> M3 | D14: =+'PRESUPUESTO OFICIAL (entidad)'!G25 -> COLUMNAS Y PEDESTALES EN CONCRETO DE 21 MPa - (3000 PSI), H < 3.00 M. (FORMALETA MADERA)
H15: Localización | I15: Dimensiones | M15: CANT | N15: Total
I16: No. Elem. | J16: Largo | K16: ALTO | L16: ALTO
H17: COLUMNAS ACCESO | J17: 0.25 | K17: 0.25 | L17: 3.2 | M17: 2 | N17: =+J17*K17*L17*M17 -> 0.4
N18: =+I18*J18*K18*L18 -> 0
N19: =+I19*J19*K19*L19 -> 0
N20: =+I20*J20*K20*L20 -> 0
N22: =+I22*J22*K22*L22 -> 0
N25: =+I26*J26*K26*L26 -> 0
H33: TOTAL PRESENTE ACTA | N33: =+N17 -> 0.4
I34: EJECUTADO ACTA 1 | N34: 0
I35: EJECUTADO ACTA 2 | N35: 0
I36: EJECUTADO PRESENTE ACTA | N36: =+ROUND(N33-N34-N35,2) -> 0.4
B37: Calculó: | F37: =+INFORMACION!C6 -> Vo.Bo. Secretario de Planeación e Infraestructura | K37: =+INFORMACION!C7 -> Vo.Bo. Supervisión
B38: =+INFORMACION!C5 -> 0
B39: Otanche - Boyacá

Sheet 3.6
B2: MEMORIAS DE CALCULO DE CANTIDADES
D4: MEMORIAS DE CALCULO CANTIDADES | H4: PROYECTO:
H6: OBJETO: | I6: =+INFORMACION!C4 -> “ADECUACIÓN Y MANTENIMIENTO A LAS INSTALACIONES DE LA PLANTA DE BENEFICIO ANIMAL PARA DAR CUMPLIMIENTO A LA RESOLUCIÓN 240 DE 2013 Y DECRETO 1500 DE 2007 EN FUNCIÓN DE LOS REQUERIMIENTOS TÉCNICOS INVIMA, OTANCHE BOYACA 2026”
B8: ENTIDAD: | D8: ALCALDÍA MUNICIPAL DE OTANCHE - BOYACÁ | H8: CONTRATISTA: | M8: INTERVENTOR: | N8: FECHA:
H9: =+INFORMACION!C8 -> N/A | M9: =+INFORMACION!C9 -> N/A | N9: =+INFORMACION!C10
B10: CAPITULO: | D10: =+'PRESUPUESTO OFICIAL (entidad)'!C20 -> 3. ESTRUCTURA | N10: Hoja Nov. de 1
B11: ITEM DE PAGO: | D11: =+'PRESUPUESTO OFICIAL (entidad)'!D26 -> 3.05.01
B13: ITEM | C13: UND | D13: DESCRIPCION | I13: UBICACIÓN | L13: =+INFORMACION!C11 -> PLANTA DE BENEFICIO ANIMAL OTANCHE
B14: =+'PRESUPUESTO OFICIAL (entidad)'!C26 -> 3.6 | C14: =+'PRESUPUESTO OFICIAL (entidad)'!H26 -> M3 | D14: =+'PRESUPUESTO OFICIAL (entidad)'!G26 -> CONCRETO PARA PAVIMENTO RIGIDO 24.5 MPa - (3500 PSI). (INCLUYE CORTE Y SELLO DE JUNTAS).
H15: Localización | I15: Dimensiones | M15: OBSERVACION | N15: Total
I16: No. Elem. | J16: Largo | K16: ANCHO | L16: ALTO
H17: PLACAS | J17: 3 | K17: 2.5 | L17: 0.2 | N17: =+J17*K17*L17 -> 1.5
J18: 3.85 | K18: 4.75 | L18: 0.2 | N18: =+J18*K18*L18 -> 3.6575
N19: =+I19*J19*K19*L19 -> 0
N20: =+I20*J20*K20*L20 -> 0
N22: =+I22*J22*K22*L22 -> 0
N25: =+I26*J26*K26*L26 -> 0
H33: TOTAL PRESENTE ACTA | N33: =+N17+N18 -> 5.1575
I34: EJECUTADO ACTA 1 | N34: 0
I35: EJECUTADO ACTA 2 | N35: 0
I36: EJECUTADO PRESENTE ACTA | N36: =+ROUND(N33-N34-N35,2) -> 5.16
B37: Calculó: | F37: =+INFORMACION!C6 -> Vo.Bo. Secretario de Planeación e Infraestructura | K37: =+INFORMACION!C7 -> Vo.Bo. Supervisión
B38: =+INFORMACION!C5 -> 0
B39: Otanche - Boyacá

Sheet 3.7
B2: MEMORIAS DE CALCULO DE CANTIDADES
D4: MEMORIAS DE CALCULO CANTIDADES | H4: PROYECTO:
H6: OBJETO: | I6: =+INFORMACION!C4 -> “ADECUACIÓN Y MANTENIMIENTO A LAS INSTALACIONES DE LA PLANTA DE BENEFICIO ANIMAL PARA DAR CUMPLIMIENTO A LA RESOLUCIÓN 240 DE 2013 Y DECRETO 1500 DE 2007 EN FUNCIÓN DE LOS REQUERIMIENTOS TÉCNICOS INVIMA, OTANCHE BOYACA 2026”
B8: ENTIDAD: | D8: ALCALDÍA MUNICIPAL DE OTANCHE - BOYACÁ | H8: CONTRATISTA: | M8: INTERVENTOR: | N8: FECHA:
H9: =+INFORMACION!C8 -> N/A | M9: =+INFORMACION!C9 -> N/A | N9: =+INFORMACION!C10
B10: CAPITULO: | D10: =+'PRESUPUESTO OFICIAL (entidad)'!C20 -> 3. ESTRUCTURA | N10: Hoja Nov. de 1
B11: ITEM DE PAGO: | D11: =+'PRESUPUESTO OFICIAL (entidad)'!D27 -> 2.02.35
B13: ITEM | C13: UND | D13: DESCRIPCION | I13: UBICACIÓN | L13: =+INFORMACION!C11 -> PLANTA DE BENEFICIO ANIMAL OTANCHE
B14: =+'PRESUPUESTO OFICIAL (entidad)'!C27 -> 3.7 | C14: =+'PRESUPUESTO OFICIAL (entidad)'!H27 -> KG | D14: =+'PRESUPUESTO OFICIAL (entidad)'!G27 -> SUMINISTRO, FIGURADA Y AMARRE DE ACERO DE 420 MPa (60000 PSI)
H15: Localización | I15: Dimensiones | M15: OBSERVACION | N15: Total
I16: No. Elem. | J16: Largo | K16: KG | L16: CANT
H17: ACERO REJILLA | N17: =+J17*K17 -> 0
H18: ACERO HORIZONTAL | J18: 5 | K18: 1.55 | L18: 3 | N18: =+J18*K18*L18 -> 23.25
H19: ACERO VERTICAL | J19: 0.8 | K19: 1.55 | L19: 63 | N19: =+J19*K19*L19 -> 78.12
H20: ACERO COLUMNAS | N20: =+I20*J20*K20*L20 -> 0
H21: ACERO VERTICAL | I21: 2 | J21: 3.2 | K21: 0.96 | L21: 4 | N21: =+I21*J21*K21*L21 -> 24.576
H22: ACERO FLEJES | I22: 2 | J22: 0.9 | K22: 0.56 | L22: 22 | N22: =+I22*J22*K22*L22 -> 22.176
H23: ACERO ZAPATAS
H24: ACERO LONGITUDINAL | I24: 2 | J24: 0.9 | K24: 0.96 | L24: 5 | N24: =+I24*J24*K24*L24 -> 8.64
H25: ACERO VERTICAL | I25: 2 | J25: 0.9 | K25: 0.96 | L25: 5 | N25: =+I25*J25*K25*L25 -> 8.64
H26: ACERO PLACA 1
H27: ACERO LONGITUDINAL | J27: 2.5 | K27: 0.96 | L27: 25 | N27: =+J27*K27*L27 -> 60
H28: ACERO VERTICAL | J28: 5 | K28: 0.96 | L28: 12.5 | N28: =+J28*K28*L28 -> 60
H29: ACERO PLACA 2
H30: ACERO LONGITUDINAL | J30: 2 | K30: 0.96 | L30: 25 | N30: =+J30*K30*L30 -> 48
H31: ACERO VERTICAL | J31: 5 | K31: 0.96 | L31: 10 | N31: =+J31*K31*L31 -> 48
H33: TOTAL PRESENTE ACTA | N33: =+ROUND(SUM(N18:N32),2) -> 381.4
I34: EJECUTADO ACTA 1 | N34: 0
I35: EJECUTADO ACTA 2 | N35: 0
I36: EJECUTADO PRESENTE ACTA | N36: =+ROUND(N33-N34-N35,2) -> 381.4
B37: Calculó: | F37: =+INFORMACION!C6 -> Vo.Bo. Secretario de Planeación e Infraestructura | K37: =+INFORMACION!C7 -> Vo.Bo. Supervisión
B38: =+INFORMACION!C5 -> 0
B39: Otanche - Boyacá

Sheet 3.8
B2: MEMORIAS DE CALCULO DE CANTIDADES
D4: MEMORIAS DE CALCULO CANTIDADES | H4: PROYECTO:
H6: OBJETO: | I6: =+INFORMACION!C4 -> “ADECUACIÓN Y MANTENIMIENTO A LAS INSTALACIONES DE LA PLANTA DE BENEFICIO ANIMAL PARA DAR CUMPLIMIENTO A LA RESOLUCIÓN 240 DE 2013 Y DECRETO 1500 DE 2007 EN FUNCIÓN DE LOS REQUERIMIENTOS TÉCNICOS INVIMA, OTANCHE BOYACA 2026”
B8: ENTIDAD: | D8: ALCALDÍA MUNICIPAL DE OTANCHE - BOYACÁ | H8: CONTRATISTA: | M8: INTERVENTOR: | N8: FECHA:
H9: =+INFORMACION!C8 -> N/A | M9: =+INFORMACION!C9 -> N/A | N9: =+INFORMACION!C10
B10: CAPITULO: | D10: =+'PRESUPUESTO OFICIAL (entidad)'!C20 -> 3. ESTRUCTURA | N10: Hoja Nov. de 1
B11: ITEM DE PAGO: | D11: =+'PRESUPUESTO OFICIAL (entidad)'!D28 -> 2.04.31
B13: ITEM | C13: UND | D13: DESCRIPCION | I13: UBICACIÓN | L13: =+INFORMACION!C11 -> PLANTA DE BENEFICIO ANIMAL OTANCHE
B14: =+'PRESUPUESTO OFICIAL (entidad)'!C28 -> 3.8 | C14: =+'PRESUPUESTO OFICIAL (entidad)'!H28 -> M2 | D14: =+'PRESUPUESTO OFICIAL (entidad)'!G28 -> MURO EN LADRILLO TOLETE COMUN DE E = 0.20 M.
H15: Localización | I15: Dimensiones | M15: OBSERVACION | N15: Total
I16: No. Elem. | J16: Largo | K16: ALTO | L16: CANT
H17: muro sumidero | J17: 5 | K17: 0.7 | L17: 2 | N17: =+J17*K17*L17 -> 7
H18: lateral | J18: 0.7 | K18: 0.7 | L18: 2 | N18: =+J18*K18*L18 -> 0.98
N19: =+I19*J19*K19*L19 -> 0
N20: =+I20*J20*K20*L20 -> 0
N22: =+I22*J22*K22*L22 -> 0
N25: =+I26*J26*K26*L26 -> 0
H33: TOTAL PRESENTE ACTA | N33: =+N17 -> 7
I34: EJECUTADO ACTA 1 | N34: 0
I35: EJECUTADO ACTA 2 | N35: 0
I36: EJECUTADO PRESENTE ACTA | N36: =+ROUND(N33-N34-N35,2) -> 7
B37: Calculó: | F37: =+INFORMACION!C6 -> Vo.Bo. Secretario de Planeación e Infraestructura | K37: =+INFORMACION!C7 -> Vo.Bo. Supervisión
B38: =+INFORMACION!C5 -> 0
B39: Otanche - Boyacá

Sheet 3.9
B2: MEMORIAS DE CALCULO DE CANTIDADES
D4: MEMORIAS DE CALCULO CANTIDADES | H4: PROYECTO:
H6: OBJETO: | I6: =+INFORMACION!C4 -> “ADECUACIÓN Y MANTENIMIENTO A LAS INSTALACIONES DE LA PLANTA DE BENEFICIO ANIMAL PARA DAR CUMPLIMIENTO A LA RESOLUCIÓN 240 DE 2013 Y DECRETO 1500 DE 2007 EN FUNCIÓN DE LOS REQUERIMIENTOS TÉCNICOS INVIMA, OTANCHE BOYACA 2026”
B8: ENTIDAD: | D8: ALCALDÍA MUNICIPAL DE OTANCHE - BOYACÁ | H8: CONTRATISTA: | M8: INTERVENTOR: | N8: FECHA:
H9: =+INFORMACION!C8 -> N/A | M9: =+INFORMACION!C9 -> N/A | N9: =+INFORMACION!C10
B10: CAPITULO: | D10: =+'PRESUPUESTO OFICIAL (entidad)'!C20 -> 3. ESTRUCTURA | N10: Hoja Nov. de 1
B11: ITEM DE PAGO: | D11: =+'PRESUPUESTO OFICIAL (entidad)'!D29 -> 1.03.12
B13: ITEM | C13: UND | D13: DESCRIPCION | I13: UBICACIÓN | L13: =+INFORMACION!C11 -> PLANTA DE BENEFICIO ANIMAL OTANCHE
B14: =+'PRESUPUESTO OFICIAL (entidad)'!C29 -> 3.9 | C14: =+'PRESUPUESTO OFICIAL (entidad)'!H29 -> M2 | D14: =+'PRESUPUESTO OFICIAL (entidad)'!G29 -> PAÑETE LISO MUROS 1:4
H15: Localización | I15: Dimensiones | M15: OBSERVACION | N15: Total
I16: No. Elem. | J16: Largo | K16: ALTO | L16: CANT
H17: muro sumidero | J17: 5 | K17: 0.7 | L17: 2 | N17: =+J17*K17*L17 -> 7
H18: lateral | J18: 0.7 | K18: 0.7 | L18: 2 | N18: =+J18*K18*L18 -> 0.98
N19: =+I19*J19*K19*L19 -> 0
N20: =+I20*J20*K20*L20 -> 0
N22: =+I22*J22*K22*L22 -> 0
N25: =+I26*J26*K26*L26 -> 0
H33: TOTAL PRESENTE ACTA | N33: =+N17 -> 7
I34: EJECUTADO ACTA 1 | N34: 0
I35: EJECUTADO ACTA 2 | N35: 0
I36: EJECUTADO PRESENTE ACTA | N36: =+ROUND(N33-N34-N35,2) -> 7
B37: Calculó: | F37: =+INFORMACION!C6 -> Vo.Bo. Secretario de Planeación e Infraestructura | K37: =+INFORMACION!C7 -> Vo.Bo. Supervisión
B38: =+INFORMACION!C5 -> 0
B39: Otanche - Boyacá

Sheet 3.10
B2: MEMORIAS DE CALCULO DE CANTIDADES
D4: MEMORIAS DE CALCULO CANTIDADES | H4: PROYECTO:
H6: OBJETO: | I6: =+INFORMACION!C4 -> “ADECUACIÓN Y MANTENIMIENTO A LAS INSTALACIONES DE LA PLANTA DE BENEFICIO ANIMAL PARA DAR CUMPLIMIENTO A LA RESOLUCIÓN 240 DE 2013 Y DECRETO 1500 DE 2007 EN FUNCIÓN DE LOS REQUERIMIENTOS TÉCNICOS INVIMA, OTANCHE BOYACA 2026”
B8: ENTIDAD: | D8: ALCALDÍA MUNICIPAL DE OTANCHE - BOYACÁ | H8: CONTRATISTA: | M8: INTERVENTOR: | N8: FECHA:
H9: =+INFORMACION!C8 -> N/A | M9: =+INFORMACION!C9 -> N/A | N9: =+INFORMACION!C10
B10: CAPITULO: | D10: =+'PRESUPUESTO OFICIAL (entidad)'!C20 -> 3. ESTRUCTURA | N10: Hoja Nov. de 1
B11: ITEM DE PAGO: | D11: =+'PRESUPUESTO OFICIAL (entidad)'!D30 -> 3.08.08
B13: ITEM | C13: UND | D13: DESCRIPCION | I13: UBICACIÓN | L13: =+INFORMACION!C11 -> PLANTA DE BENEFICIO ANIMAL OTANCHE
B14: =+'PRESUPUESTO OFICIAL (entidad)'!C30 -> 3.10 | C14: =+'PRESUPUESTO OFICIAL (entidad)'!H30 -> ML | D14: =+'PRESUPUESTO OFICIAL (entidad)'!G30 -> CONSTRUCCIÓN DE BORDILLO DE 20 X 35 CM. FUNDIDO EN CONCRETO DE 17.5 Mpa. (NO INCLUYE REFUERZO).
H15: Localización | I15: Dimensiones | M15: OBSERVACION | N15: Total
I16: No. Elem. | J16: Largo | K16: ALTO | L16: CANT
H17: bordillo | J17: 5 | N17: =+J17 -> 5
N18: =+J18*K18*L18 -> 0
N19: =+I19*J19*K19*L19 -> 0
N20: =+I20*J20*K20*L20 -> 0
N22: =+I22*J22*K22*L22 -> 0
N25: =+I26*J26*K26*L26 -> 0
H33: TOTAL PRESENTE ACTA | N33: =+N17 -> 5
I34: EJECUTADO ACTA 1 | N34: 0
I35: EJECUTADO ACTA 2 | N35: 0
I36: EJECUTADO PRESENTE ACTA | N36: =+ROUND(N33-N34-N35,2) -> 5
B37: Calculó: | F37: =+INFORMACION!C6 -> Vo.Bo. Secretario de Planeación e Infraestructura | K37: =+INFORMACION!C7 -> Vo.Bo. Supervisión
B38: =+INFORMACION!C5 -> 0
B39: Otanche - Boyacá

Sheet 3.11
B2: MEMORIAS DE CALCULO DE CANTIDADES
D4: MEMORIAS DE CALCULO CANTIDADES | H4: PROYECTO:
H6: OBJETO: | I6: =+INFORMACION!C4 -> “ADECUACIÓN Y MANTENIMIENTO A LAS INSTALACIONES DE LA PLANTA DE BENEFICIO ANIMAL PARA DAR CUMPLIMIENTO A LA RESOLUCIÓN 240 DE 2013 Y DECRETO 1500 DE 2007 EN FUNCIÓN DE LOS REQUERIMIENTOS TÉCNICOS INVIMA, OTANCHE BOYACA 2026”
B8: ENTIDAD: | D8: ALCALDÍA MUNICIPAL DE OTANCHE - BOYACÁ | H8: CONTRATISTA: | M8: INTERVENTOR: | N8: FECHA:
H9: =+INFORMACION!C8 -> N/A | M9: =+INFORMACION!C9 -> N/A | N9: =+INFORMACION!C10
B10: CAPITULO: | D10: =+'PRESUPUESTO OFICIAL (entidad)'!C20 -> 3. ESTRUCTURA | N10: Hoja Nov. de 1
B11: ITEM DE PAGO: | D11: =+'PRESUPUESTO OFICIAL (entidad)'!D31 -> 2.07.02
B13: ITEM | C13: UND | D13: DESCRIPCION | I13: UBICACIÓN | L13: =+INFORMACION!C11 -> PLANTA DE BENEFICIO ANIMAL OTANCHE
B14: =+'PRESUPUESTO OFICIAL (entidad)'!C31 -> 3.11 | C14: =+'PRESUPUESTO OFICIAL (entidad)'!H31 -> M2 | D14: =+'PRESUPUESTO OFICIAL (entidad)'!G31 -> SUMINISTRO E INSTALACIÓN DE ESMALTE LÁMINA LLENA 3 MANOS
H15: Localización | I15: Dimensiones | M15: OBSERVACION | N15: Total
I16: No. Elem. | J16: M2 | K16: ALTO | L16: CANT
H17: PINTURA PAREDES | J17: 231.77 | N17: =+J17 -> 231.77
H18: PINTURA VENTANA | J18: 40 | N18: =+J18 -> 40
N19: =+I19*J19*K19*L19 -> 0
N20: =+I20*J20*K20*L20 -> 0
N22: =+I22*J22*K22*L22 -> 0
N25: =+I26*J26*K26*L26 -> 0
H33: TOTAL PRESENTE ACTA | N33: =+N17+N18 -> 271.77
I34: EJECUTADO ACTA 1 | N34: 0
I35: EJECUTADO ACTA 2 | N35: 0
I36: EJECUTADO PRESENTE ACTA | N36: =+ROUND(N33-N34-N35,2) -> 271.77
B37: Calculó: | F37: =+INFORMACION!C6 -> Vo.Bo. Secretario de Planeación e Infraestructura | K37: =+INFORMACION!C7 -> Vo.Bo. Supervisión
B38: =+INFORMACION!C5 -> 0
B39: Otanche - Boyacá

Sheet 4.1
B2: MEMORIAS DE CALCULO DE CANTIDADES
D4: MEMORIAS DE CALCULO CANTIDADES | H4: PROYECTO:
H6: OBJETO: | I6: =+INFORMACION!C4 -> “ADECUACIÓN Y MANTENIMIENTO A LAS INSTALACIONES DE LA PLANTA DE BENEFICIO ANIMAL PARA DAR CUMPLIMIENTO A LA RESOLUCIÓN 240 DE 2013 Y DECRETO 1500 DE 2007 EN FUNCIÓN DE LOS REQUERIMIENTOS TÉCNICOS INVIMA, OTANCHE BOYACA 2026”
B8: ENTIDAD: | D8: ALCALDÍA MUNICIPAL DE OTANCHE - BOYACÁ | H8: CONTRATISTA: | M8: INTERVENTOR: | N8: FECHA:
H9: =+INFORMACION!C8 -> N/A | M9: =+INFORMACION!C9 -> N/A | N9: =+INFORMACION!C10
B10: CAPITULO: | D10: =+'PRESUPUESTO OFICIAL (entidad)'!C33 -> 4. CUBIERTA | N10: Hoja Nov. de 1
B11: ITEM DE PAGO: | D11: =+'PRESUPUESTO OFICIAL (entidad)'!D34 -> 2.08.07
B13: ITEM | C13: UND | D13: DESCRIPCION | I13: UBICACIÓN | L13: =+INFORMACION!C11 -> PLANTA DE BENEFICIO ANIMAL OTANCHE
B14: =+'PRESUPUESTO OFICIAL (entidad)'!C34 -> 4.1 | C14: =+'PRESUPUESTO OFICIAL (entidad)'!H34 -> M2 | D14: =+'PRESUPUESTO OFICIAL (entidad)'!G34 -> SUMINISTRO E INSTALACIÓN DE CUBIERTA GALVANIZADA TRAPEZOIDAL CAL. 30
H15: Localización | I15: Dimensiones | M15: cant | N15: Total
I16: No. Elem. | J16: Largo | K16: Ancho | L16: Alto
H17: cubierta1 | I17: 1 | J17: 9 | K17: 6 | M17: 1 | N17: =+I17*J17*K17*M17 -> 54
H18: cubierta2 | I18: 1 | J18: 10 | K18: 3 | M18: 1 | N18: =+I18*J18*K18*M18 -> 30
H33: TOTAL PRESENTE ACTA | N33: =ROUND(SUM(N17:N32),2) -> 84
I34: EJECUTADO ACTA 1 | N34: 0
I35: EJECUTADO ACTA 2 | N35: 0
I36: EJECUTADO PRESENTE ACTA | N36: =+ROUND(N33-N34-N35,2) -> 84
B37: Calculó: | F37: =+INFORMACION!C6 -> Vo.Bo. Secretario de Planeación e Infraestructura | K37: =+INFORMACION!C7 -> Vo.Bo. Supervisión
B38: =+INFORMACION!C5 -> 0
B39: Otanche - Boyacá

Sheet 5.1
B2: MEMORIAS DE CALCULO DE CANTIDADES
D4: MEMORIAS DE CALCULO CANTIDADES | H4: PROYECTO:
H6: OBJETO: | I6: =+INFORMACION!C4 -> “ADECUACIÓN Y MANTENIMIENTO A LAS INSTALACIONES DE LA PLANTA DE BENEFICIO ANIMAL PARA DAR CUMPLIMIENTO A LA RESOLUCIÓN 240 DE 2013 Y DECRETO 1500 DE 2007 EN FUNCIÓN DE LOS REQUERIMIENTOS TÉCNICOS INVIMA, OTANCHE BOYACA 2026”
B8: ENTIDAD: | D8: ALCALDÍA MUNICIPAL DE OTANCHE - BOYACÁ | H8: CONTRATISTA: | M8: INTERVENTOR: | N8: FECHA:
H9: =+INFORMACION!C8 -> N/A | M9: =+INFORMACION!C9 -> N/A | N9: =+INFORMACION!C10
B10: CAPITULO: | D10: =+'PRESUPUESTO OFICIAL (entidad)'!C36 -> 5. CONEXIONES HIDROSANITARIAS | N10: Hoja Nov. de 1
B11: ITEM DE PAGO: | D11: =+'PRESUPUESTO OFICIAL (entidad)'!D37 -> 2.12.169
B13: ITEM | C13: UND | D13: DESCRIPCION | I13: UBICACIÓN | L13: =+INFORMACION!C11 -> PLANTA DE BENEFICIO ANIMAL OTANCHE
B14: =+'PRESUPUESTO OFICIAL (entidad)'!C37 -> 5.1 | C14: =+'PRESUPUESTO OFICIAL (entidad)'!H37 -> UND | D14: =+'PRESUPUESTO OFICIAL (entidad)'!G37 -> SUMINISTRO E INSTALACIÓN DE TANQUE DE ALMACENAMIENTO DE 5000L (INCLUYE CONECTOR DE ENTRADA Y SALIDA) (NO INCLUYE FLOTADOR)
H15: Localización | I15: Dimensiones | M15: cantidad | N15: Total
I16: No. Elem. | J16: Largo | K16: Ancho | L16: Alto
H17: TANQUE | M17: 1 | N17: =+M17 -> 1
H33: TOTAL PRESENTE ACTA | N33: =ROUND(SUM(N17:N32),2) -> 1
I34: EJECUTADO ACTA 1 | N34: 0
I35: EJECUTADO ACTA 2 | N35: 0
I36: EJECUTADO PRESENTE ACTA | N36: =+ROUND(N33-N34-N35,2) -> 1
B37: Calculó: | F37: =+INFORMACION!C6 -> Vo.Bo. Secretario de Planeación e Infraestructura | K37: =+INFORMACION!C7 -> Vo.Bo. Supervisión
B38: =+INFORMACION!C5 -> 0
B39: Otanche - Boyacá

Sheet 5.2
B2: MEMORIAS DE CALCULO DE CANTIDADES
D4: MEMORIAS DE CALCULO CANTIDADES | H4: PROYECTO:
H6: OBJETO: | I6: =+INFORMACION!C4 -> “ADECUACIÓN Y MANTENIMIENTO A LAS INSTALACIONES DE LA PLANTA DE BENEFICIO ANIMAL PARA DAR CUMPLIMIENTO A LA RESOLUCIÓN 240 DE 2013 Y DECRETO 1500 DE 2007 EN FUNCIÓN DE LOS REQUERIMIENTOS TÉCNICOS INVIMA, OTANCHE BOYACA 2026”
B8: ENTIDAD: | D8: ALCALDÍA MUNICIPAL DE OTANCHE - BOYACÁ | H8: CONTRATISTA: | M8: INTERVENTOR: | N8: FECHA:
H9: =+INFORMACION!C8 -> N/A | M9: =+INFORMACION!C9 -> N/A | N9: =+INFORMACION!C10
B10: CAPITULO: | D10: =+'PRESUPUESTO OFICIAL (entidad)'!C36 -> 5. CONEXIONES HIDROSANITARIAS | N10: Hoja Nov. de 1
B11: ITEM DE PAGO: | D11: =+'PRESUPUESTO OFICIAL (entidad)'!D38 -> 2.12.167
B13: ITEM | C13: UND | D13: DESCRIPCION | I13: UBICACIÓN | L13: =+INFORMACION!C11 -> PLANTA DE BENEFICIO ANIMAL OTANCHE
B14: =+'PRESUPUESTO OFICIAL (entidad)'!C38 -> 5.2 | C14: =+'PRESUPUESTO OFICIAL (entidad)'!H38 -> UND | D14: =+'PRESUPUESTO OFICIAL (entidad)'!G38 -> SUMINISTRO E INSTALACIÓN DE TANQUE DE ALMACENAMIENTO DE 1000L (INCLUYE CONECTOR DE ENTRADA Y SALIDA) (NO INCLUYE FLOTADOR)
H15: Localización | I15: Dimensiones | M15: cantidad | N15: Total
I16: No. Elem. | J16: Largo | K16: Ancho | L16: Alto
H17: TANQUE | M17: 1 | N17: =+M17 -> 1
H33: TOTAL PRESENTE ACTA | N33: =ROUND(SUM(N17:N32),2) -> 1
I34: EJECUTADO ACTA 1 | N34: 0
I35: EJECUTADO ACTA 2 | N35: 0
I36: EJECUTADO PRESENTE ACTA | N36: =+ROUND(N33-N34-N35,2) -> 1
B37: Calculó: | F37: =+INFORMACION!C6 -> Vo.Bo. Secretario de Planeación e Infraestructura | K37: =+INFORMACION!C7 -> Vo.Bo. Supervisión
B38: =+INFORMACION!C5 -> 0
B39: Otanche - Boyacá

Sheet 5.3
B2: MEMORIAS DE CALCULO DE CANTIDADES
D4: MEMORIAS DE CALCULO CANTIDADES | H4: PROYECTO:
H6: OBJETO: | I6: =+INFORMACION!C4 -> “ADECUACIÓN Y MANTENIMIENTO A LAS INSTALACIONES DE LA PLANTA DE BENEFICIO ANIMAL PARA DAR CUMPLIMIENTO A LA RESOLUCIÓN 240 DE 2013 Y DECRETO 1500 DE 2007 EN FUNCIÓN DE LOS REQUERIMIENTOS TÉCNICOS INVIMA, OTANCHE BOYACA 2026”
B8: ENTIDAD: | D8: ALCALDÍA MUNICIPAL DE OTANCHE - BOYACÁ | H8: CONTRATISTA: | M8: INTERVENTOR: | N8: FECHA:
H9: =+INFORMACION!C8 -> N/A | M9: =+INFORMACION!C9 -> N/A | N9: =+INFORMACION!C10
B10: CAPITULO: | D10: =+'PRESUPUESTO OFICIAL (entidad)'!C36 -> 5. CONEXIONES HIDROSANITARIAS | N10: Hoja Nov. de 1
B11: ITEM DE PAGO: | D11: =+'PRESUPUESTO OFICIAL (entidad)'!D39 -> 2.12.170
B13: ITEM | C13: UND | D13: DESCRIPCION | I13: UBICACIÓN | L13: =+INFORMACION!C11 -> PLANTA DE BENEFICIO ANIMAL OTANCHE
B14: =+'PRESUPUESTO OFICIAL (entidad)'!C39 -> 5.3 | C14: =+'PRESUPUESTO OFICIAL (entidad)'!H39 -> UND | D14: =+'PRESUPUESTO OFICIAL (entidad)'!G39 -> SUMINISTRO E INSTALACIÓN DE VÁLVULA CON FLOTADOR PARA TANQUE ELEVADO 1/2", CON FLOTADOR EN BOLA PLÁSTICA
H15: Localización | I15: Dimensiones | M15: cantidad | N15: Total
I16: No. Elem. | J16: Largo | K16: Ancho | L16: Alto
H17: FLOTADORES | M17: 2 | N17: =+M17 -> 2
H33: TOTAL PRESENTE ACTA | N33: =ROUND(SUM(N17:N32),2) -> 2
I34: EJECUTADO ACTA 1 | N34: 0
I35: EJECUTADO ACTA 2 | N35: 0
I36: EJECUTADO PRESENTE ACTA | N36: =+ROUND(N33-N34-N35,2) -> 2
B37: Calculó: | F37: =+INFORMACION!C6 -> Vo.Bo. Secretario de Planeación e Infraestructura | K37: =+INFORMACION!C7 -> Vo.Bo. Supervisión
B38: =+INFORMACION!C5 -> 0
B39: Otanche - Boyacá

Sheet 5.4
B2: MEMORIAS DE CALCULO DE CANTIDADES
D4: MEMORIAS DE CALCULO CANTIDADES | H4: PROYECTO:
H6: OBJETO: | I6: =+INFORMACION!C4 -> “ADECUACIÓN Y MANTENIMIENTO A LAS INSTALACIONES DE LA PLANTA DE BENEFICIO ANIMAL PARA DAR CUMPLIMIENTO A LA RESOLUCIÓN 240 DE 2013 Y DECRETO 1500 DE 2007 EN FUNCIÓN DE LOS REQUERIMIENTOS TÉCNICOS INVIMA, OTANCHE BOYACA 2026”
B8: ENTIDAD: | D8: ALCALDÍA MUNICIPAL DE OTANCHE - BOYACÁ | H8: CONTRATISTA: | M8: INTERVENTOR: | N8: FECHA:
H9: =+INFORMACION!C8 -> N/A | M9: =+INFORMACION!C9 -> N/A | N9: =+INFORMACION!C10
B10: CAPITULO: | D10: =+'PRESUPUESTO OFICIAL (entidad)'!C36 -> 5. CONEXIONES HIDROSANITARIAS | N10: Hoja Nov. de 1
B11: ITEM DE PAGO: | D11: =+'PRESUPUESTO OFICIAL (entidad)'!D40 -> 2.12.175
B13: ITEM | C13: UND | D13: DESCRIPCION | I13: UBICACIÓN | L13: =+INFORMACION!C11 -> PLANTA DE BENEFICIO ANIMAL OTANCHE
B14: =+'PRESUPUESTO OFICIAL (entidad)'!C40 -> 5.4 | C14: =+'PRESUPUESTO OFICIAL (entidad)'!H40 -> UND | D14: =+'PRESUPUESTO OFICIAL (entidad)'!G40 -> SUMINISTRO E INSTALACIÓN DE COMBO SANITARIO. INCLUYE GRIFERÍAS Y ACCESORIOS
H15: Localización | I15: Dimensiones | M15: cantidad | N15: Total
I16: No. Elem. | J16: Largo | K16: Ancho | L16: Alto
H17: SANITARIOS | M17: 1 | N17: =+M17 -> 1
H33: TOTAL PRESENTE ACTA | N33: =ROUND(SUM(N17:N32),2) -> 1
I34: EJECUTADO ACTA 1 | N34: 0
I35: EJECUTADO ACTA 2 | N35: 0
I36: EJECUTADO PRESENTE ACTA | N36: =+ROUND(N33-N34-N35,2) -> 1
B37: Calculó: | F37: =+INFORMACION!C6 -> Vo.Bo. Secretario de Planeación e Infraestructura | K37: =+INFORMACION!C7 -> Vo.Bo. Supervisión
B38: =+INFORMACION!C5 -> 0
B39: Otanche - Boyacá
