Workbook

Sheet CONSOLIDADO_EXP_HAB
B1: SECRETARIA DE MOVILIDAD CONTEMPORÁNEA
B9: RESUMEN HABILITACIÓN – EXPERIENCIA DEL PROPONENTE
B11: SECCIÓN 4 – VERIFICACIÓN POR CONTRATO APORTADO (una fila por contrato – máx. 7)
B12: N° | C12: CÓDIGO(S) UNSPSC | D12: CERTIFICADO/ACTA | E12: AÑO TERM. | F12: SMMLV (año term.) | G12: VALOR CONTRATO SEGÚN CERTIFICACION (COP) | H12: % SOBRE PRESUP. OFICIAL
B13: 1 | F13: =IF(E13="","Valor por definir",_xlfn.XLOOKUP(E13,'TABLA DE SMMLV'!$A$1:$A$32,'TABLA DE SMMLV'!$B$1:$B$32,"ERROR")) -> Valor por definir | H13: =#REF!/$F$20 -> #REF!
B14: 2 | F14: =IF(E14="","Valor por definir",_xlfn.XLOOKUP(E14,'TABLA DE SMMLV'!$A$1:$A$32,'TABLA DE SMMLV'!$B$1:$B$32,"ERROR")) -> Valor por definir | H14: =#REF!/$F$20 -> #REF!
B15: 3 | F15: =IF(E15="","Valor por definir",_xlfn.XLOOKUP(E15,'TABLA DE SMMLV'!$A$1:$A$32,'TABLA DE SMMLV'!$B$1:$B$32,"ERROR")) -> Valor por definir | H15: =#REF!/$F$20 -> #REF!
B16: 4 | F16: =IF(E16="","Valor por definir",_xlfn.XLOOKUP(E16,'TABLA DE SMMLV'!$A$1:$A$32,'TABLA DE SMMLV'!$B$1:$B$32,"ERROR")) -> Valor por definir | H16: =#REF!/$F$20 -> #REF!
B17: 5 | F17: =IF(E17="","Valor por definir",_xlfn.XLOOKUP(E17,'TABLA DE SMMLV'!$A$1:$A$32,'TABLA DE SMMLV'!$B$1:$B$32,"ERROR")) -> Valor por definir | H17: =#REF!/$F$20 -> #REF!
B18: 6 | F18: =IF(E18="","Valor por definir",_xlfn.XLOOKUP(E18,'TABLA DE SMMLV'!$A$1:$A$32,'TABLA DE SMMLV'!$B$1:$B$32,"ERROR")) -> Valor por definir | H18: =#REF!/$F$20 -> #REF!
B19: 7 | F19: =IF(E19="","Valor por definir",_xlfn.XLOOKUP(E19,'TABLA DE SMMLV'!$A$1:$A$32,'TABLA DE SMMLV'!$B$1:$B$32,"ERROR")) -> Valor por definir | H19: =#REF!/$F$20 -> #REF!
B20: Presupuesto oficial | C20: COP | D20: 3411038010 | E20: SMMLV | F20: =D20/1750905 -> 1948.1571 | G20: SUMATORIA TOTAL (% sobre presupuesto oficial en SMMLV) → | H20: =#REF!/$F$20 -> #REF!
A22: Celda | D22: !C10 | E22: !D26 | F22: !G46 | G22: !G51 | H22: !J54
B23: SECCIÓN 1 – VERIFICACIÓN ESPECÍFICA POR CONTRATO APORTADO
A24: Nombre hoja | B24: CONSECUTIVO | C24: CÓDIGO | D24: PROPONENTE | E24: CUMPLE DILIGENCIAMIENTO FORMATO | F24: CUMPLE VERIFICACIÓN ESPECÍFICA POR CONTRATO APORTADO | G24: CUMPLE PARÁMETROS GENERALES DEL REQUISITO HABILITANTE | H24: ¿CUMPLE?
A26: EP_1 | B26: 1 | C26: EP_1 | D26: {=IFERROR(INDIRECT($A26&D$22),"")} -> CONSORCIO EA INTERMODAL | E26: {=IFERROR(INDIRECT($A26&E$22),"")} -> CUMPLE | F26: {=IFERROR(INDIRECT($A26&F$22),"")} -> CUMPLE | G26: {=IFERROR(INDIRECT($A26&G$22),"")} -> CUMPLE | H26: {=IFERROR(INDIRECT($A26&H$22),"")} -> CUMPLE
A27: EP_2 | B27: 2 | C27: EP_2 | D27: {=IFERROR(INDIRECT($A27&D$22),"")} -> CONSORCIO PMTIC CUNDINAMARCA | E27: {=IFERROR(INDIRECT($A27&E$22),"")} -> CUMPLE | F27: {=IFERROR(INDIRECT($A27&F$22),"")} -> CUMPLE | G27: {=IFERROR(INDIRECT($A27&G$22),"")} -> CUMPLE | H27: {=IFERROR(INDIRECT($A27&H$22),"")} -> CUMPLE
A28: EP_3 | B28: 3 | C28: EP_3 | D28: {=IFERROR(INDIRECT($A28&D$22),"")} -> CONSORCIO MOVILIDAD INTERMODAL 2026 | E28: {=IFERROR(INDIRECT($A28&E$22),"")} -> CUMPLE | F28: {=IFERROR(INDIRECT($A28&F$22),"")} -> NO CUMPLE | G28: {=IFERROR(INDIRECT($A28&G$22),"")} -> NO CUMPLE | H28: {=IFERROR(INDIRECT($A28&H$22),"")} -> RECHAZADO
A29: EP_4 | B29: 4 | C29: EP_4 | D29: {=IFERROR(INDIRECT($A29&D$22),"")} -> CONSORCIO CONEXIÓN INTERMODAL | E29: {=IFERROR(INDIRECT($A29&E$22),"")} -> CUMPLE | F29: {=IFERROR(INDIRECT($A29&F$22),"")} -> CUMPLE | G29: {=IFERROR(INDIRECT($A29&G$22),"")} -> CUMPLE | H29: {=IFERROR(INDIRECT($A29&H$22),"")} -> CUMPLE
A30: EP_5 | B30: 5 | C30: EP_5 | D30: {=IFERROR(INDIRECT($A30&D$22),"")} -> CONSULTORA CENTRAL S.A.S- BIC | E30: {=IFERROR(INDIRECT($A30&E$22),"")} -> CUMPLE | F30: {=IFERROR(INDIRECT($A30&F$22),"")} -> CUMPLE | G30: {=IFERROR(INDIRECT($A30&G$22),"")} -> CUMPLE | H30: {=IFERROR(INDIRECT($A30&H$22),"")} -> CUMPLE
A31: EP_6 | B31: 6 | C31: EP_6 | D31: {=IFERROR(INDIRECT($A31&D$22),"")} -> STEER DAVIES & GLEAVE LIMITED SUCURSAL COLOMBIA | E31: {=IFERROR(INDIRECT($A31&E$22),"")} -> NO CUMPLE | F31: {=IFERROR(INDIRECT($A31&F$22),"")} -> CUMPLE | G31: {=IFERROR(INDIRECT($A31&G$22),"")} -> CUMPLE | H31: {=IFERROR(INDIRECT($A31&H$22),"")} -> RECHAZADO
A32: EP_7 | B32: 7 | C32: EP_7 | D32: {=IFERROR(INDIRECT($A32&D$22),"")} -> UNION TEMPORAL IDOM - POA | E32: {=IFERROR(INDIRECT($A32&E$22),"")} -> CUMPLE | F32: {=IFERROR(INDIRECT($A32&F$22),"")} -> CUMPLE | G32: {=IFERROR(INDIRECT($A32&G$22),"")} -> CUMPLE | H32: {=IFERROR(INDIRECT($A32&H$22),"")} -> CUMPLE
A33: EP_8 | B33: 8 | C33: EP_8 | D33: {=IFERROR(INDIRECT($A33&D$22),"")} -> Consorcio SIGMA GP – CNC Intermodal | E33: {=IFERROR(INDIRECT($A33&E$22),"")} -> CUMPLE | F33: {=IFERROR(INDIRECT($A33&F$22),"")} -> CUMPLE | G33: {=IFERROR(INDIRECT($A33&G$22),"")} -> CUMPLE | H33: {=IFERROR(INDIRECT($A33&H$22),"")} -> CUMPLE
A34: EP_9 | B34: 9 | C34: EP_9 | D34: {=IFERROR(INDIRECT($A34&D$22),"")} -> CONSORCIO PLANEACIÓN INTERMODAL IMC 2026 | E34: {=IFERROR(INDIRECT($A34&E$22),"")} -> CUMPLE | F34: {=IFERROR(INDIRECT($A34&F$22),"")} -> NO CUMPLE | G34: {=IFERROR(INDIRECT($A34&G$22),"")} -> NO CUMPLE | H34: {=IFERROR(INDIRECT($A34&H$22),"")} -> RECHAZADO
A35: EP_10 | B35: 10 | C35: EP_10 | D35: {=IFERROR(INDIRECT($A35&D$22),"")} -> CAL Y MAYOR COLOMBIA S.A.S | E35: {=IFERROR(INDIRECT($A35&E$22),"")} -> CUMPLE | F35: {=IFERROR(INDIRECT($A35&F$22),"")} -> CUMPLE | G35: {=IFERROR(INDIRECT($A35&G$22),"")} -> NO CUMPLE | H35: RECHAZADO
A36: EP_11 | B36: 11 | C36: EP_11 | D36: {=IFERROR(INDIRECT($A36&D$22),"")} -> CONSULTORIA ARQUITECTURA Y CONSTRUCCION CONARCON S A S | E36: {=IFERROR(INDIRECT($A36&E$22),"")} -> CUMPLE | F36: {=IFERROR(INDIRECT($A36&F$22),"")} -> NO CUMPLE | G36: {=IFERROR(INDIRECT($A36&G$22),"")} -> NO CUMPLE | H36: RECHAZADO
A37: EP_12 | B37: 12 | C37: EP_12 | D37: {=IFERROR(INDIRECT($A37&D$22),"")} -> CONSORCIO PMTIC 2026 | E37: {=IFERROR(INDIRECT($A37&E$22),"")} -> CUMPLE | F37: {=IFERROR(INDIRECT($A37&F$22),"")} -> CUMPLE | G37: {=IFERROR(INDIRECT($A37&G$22),"")} -> CUMPLE | H37: {=IFERROR(INDIRECT($A37&H$22),"")} -> CUMPLE

Sheet BASE_EP_X
A1: SECRETARIA DE MOVILIDAD CONTEMPORÁNEA
B5: CONCURSO DE MÉRITOS SMC-CM-CS-152-2026 - PMTIC
A9: INFORMACIÓN PROPONENTE
A10: PROPONENTE | D10: TIPO | G10: NIT
A11: ¿ES MIPYME? | D11: ¿ES EMPRENDIMIENTO O EMPRESA DE MUJERES? | G11: FECHA EVALUACIÓN
A12: SECCIÓN 4 – VERIFICACIÓN POR CONTRATO APORTADO (una fila por contrato – máx. 7)
A13: N° | B13: OBJETO DEL CONTRATO (resumen) | C13: CÓDIGO(S) UNSPSC | D13: CERTIFICADO/ACTA | E13: AÑO TERM. | F13: SMMLV (año term.) | G13: VALOR CONTRATO SEGÚN CERTIFICACION (COP) | H13: VALOR CONTRATO SEGÚN CERTIFICACION (SMLMV) | I13: CHEQUEO VALOR CONTRATO SEGÚN CERTIFICACION (SMLMV) | J13: PORCENTAJE DE PARTICIPACIÓN EN EL VALOR EJECUTADO - REPORTADO EN EL RUP (%) | K13: PORCENTAJE DEL VALOR EJECUTADO CONFORME AL OBJETO SOLICITADO (%) | L13: VALOR TOTAL FACTURADO RELACIONADO CON OBJETO DEL CONTRATO Y AFECTADO POR % DEL VALOR EJECUTADO CONFORME AL OBJETO SOLICITADO POR EL % DE PARTICIPACION DEL RUP (SMMLV) | M13: % SOBRE PRESUP. OFICIAL | N13: OBJETO ADMISIBLE (Sec.2) | O13: RESULTADO
A14: 1 | F14: =IF(E14="","Valor por definir",_xlfn.XLOOKUP(E14,'TABLA DE SMMLV'!$A$1:$A$32,'TABLA DE SMMLV'!$B$1:$B$32,"ERROR")) -> Valor por definir | I14: =IF(F14="","Valor por definir",IFERROR(G14/F14,"Revisar datos")) -> Revisar datos | L14: =H14*J14*K14 -> 0 | M14: =L14/$F$21 -> 0
A15: 2 | F15: =IF(E15="","Valor por definir",_xlfn.XLOOKUP(E15,'TABLA DE SMMLV'!$A$1:$A$32,'TABLA DE SMMLV'!$B$1:$B$32,"ERROR")) -> Valor por definir | I15: =IF(F15="","Valor por definir",IFERROR(G15/F15,"Revisar datos")) -> Revisar datos | L15: =H15*J15*K15 -> 0 | M15: =L15/$F$21 -> 0
A16: 3 | F16: =IF(E16="","Valor por definir",_xlfn.XLOOKUP(E16,'TABLA DE SMMLV'!$A$1:$A$32,'TABLA DE SMMLV'!$B$1:$B$32,"ERROR")) -> Valor por definir | I16: =IF(F16="","Valor por definir",IFERROR(G16/F16,"Revisar datos")) -> Revisar datos | L16: =H16*J16*K16 -> 0 | M16: =L16/$F$21 -> 0
A17: 4 | F17: =IF(E17="","Valor por definir",_xlfn.XLOOKUP(E17,'TABLA DE SMMLV'!$A$1:$A$32,'TABLA DE SMMLV'!$B$1:$B$32,"ERROR")) -> Valor por definir | I17: =IF(F17="","Valor por definir",IFERROR(G17/F17,"Revisar datos")) -> Revisar datos | L17: =H17*J17*K17 -> 0 | M17: =L17/$F$21 -> 0
A18: 5 | F18: =IF(E18="","Valor por definir",_xlfn.XLOOKUP(E18,'TABLA DE SMMLV'!$A$1:$A$32,'TABLA DE SMMLV'!$B$1:$B$32,"ERROR")) -> Valor por definir | I18: =IF(F18="","Valor por definir",IFERROR(G18/F18,"Revisar datos")) -> Revisar datos | L18: =H18*J18*K18 -> 0 | M18: =L18/$F$21 -> 0
A19: 6 | F19: =IF(E19="","Valor por definir",_xlfn.XLOOKUP(E19,'TABLA DE SMMLV'!$A$1:$A$32,'TABLA DE SMMLV'!$B$1:$B$32,"ERROR")) -> Valor por definir | I19: =IF(F19="","Valor por definir",IFERROR(G19/F19,"Revisar datos")) -> Revisar datos | L19: =H19*J19*K19 -> 0 | M19: =L19/$F$21 -> 0
A20: 7 | F20: =IF(E20="","Valor por definir",_xlfn.XLOOKUP(E20,'TABLA DE SMMLV'!$A$1:$A$32,'TABLA DE SMMLV'!$B$1:$B$32,"ERROR")) -> Valor por definir | I20: =IF(F20="","Valor por definir",IFERROR(G20/F20,"Revisar datos")) -> Revisar datos | L20: =H20*J20*K20 -> 0 | M20: =L20/$F$21 -> 0
A21: Presupuesto oficial | C21: COP | D21: 3411038010 | E21: SMMLV | F21: =D21/1750905 -> 1948.1571 | G21: SUMATORIA TOTAL (% sobre presupuesto oficial en SMMLV) → | L21: =SUM(L14:L20) -> 0 | M21: =L21/$F$21 -> 0
A24: 1. VERIFICACIÓN DILIGENCIAMIENTO FORMATO
A25: FORMATO | D25: ¿CUMPLE? | E25: OBSERVACIONES
A26: FORMATO 7 - EXPERIENCIA HABILITANTE DEL PROPONENTE
A28: 2. VERIFICACIÓN ESPECÍFICA POR CONTRATO APORTADO
A29: N° | B29: NÚMERO CONSECUTIVO DEL REPORTE DEL CONTRATO EJECUTADO EN EL RUP | C29: DESCRIPCIÓN DE LAS ACTIVIDADES EJECUTADAS | D29: ENTIDAD CONTRATANTE | E29: CONTRATO O RESOLUCION | G29: CÓDIGO(S) UNSPSC | H29: FORMA DE EJECUCIÓN | J29: INTEGRANTE QUE APORTA EXPERIENCIA | K29: FECHA DE INICIACIÓN [DIA-MES-AÑO] | L29: FECHA DE TERMINACIÓN [DIA-MES-AÑO] | M29: AÑO DE TERMINACIÓN | N29: VALOR TOTAL | O29: VERIFICACIÓN ENTIDAD
E30: NO. | F30: OBJETO | H30: I,C,UT, OTRA | I30: % PARTICIPACIÓN | O30: VALOR TOTAL DEL CONTRATO EN SMMLV | P30: PORCENTAJE DEL VALOR EJECUTADO CONFORME AL OBJETO SOLICITADO (%) | Q30: VALOR TOTAL DEL CONTRATO EN SMMLV X PORCENTAJE DE PARTICIPACIÓN X PORCENTAJE EJECUTADO CONFORME AL OBJETO SOLICITADO | R30: % SOBRE PRESUP. OFICIAL | S30: ¿OBJETO, ACTIVIDADES Y/O OBLIGACIONES CONTRACTUALES CUMPLEN? | T30: ¿LA CERTIFICACIÓN LABORAL O DOCUMENTACIÓN EQUIVALENTE CONTIENE LA INFORMACIÓN MÍNIMA REQUERIDA? | AB30: ¿LA EXPERIENCIA ES ADQUIRIDA EN EL EXTERIOR? | AE30: ¿LA EXPERIENCIA DE LA PERSONA JURÍDICA ES ACREDITADA EN DEBIDA FORMA POR UN ACCIONISTA, SOCIO O CONSTITUYENTE? | AF30: ¿LA EXPERIENCIA CUMPLE CON LOS REQUISITOS DEL PLIEGO DE CONDICIONES? | AG30: OBSERVACIONES
T31: NOMBRE O RAZÓN SOCIAL DEL CONTRATANTE | U31: NOMBRE O RAZÓN SOCIAL DEL CONTRATISTA | V31: NÚMERO DEL CONTRATO (SI TIENE) | W31: OBJETO DEL CONTRATO Y/O CARGO DESEMPEÑADO | X31: ACTIVIDADES U OBLIGACIONES DEL CONTRATO | Y31: NOMBRE, CARGO Y FIRMA DE QUIEN EXPIDE LA CERTIFICACIÓN | Z31: FECHA DE EXPEDICIÓN DE LA CERTIFICACIÓN | AA31: ¿CUMPLE? | AB31: ¿EL DOCUMENTO SE ENCUENTRA DEBIDAMENTE APOSTILLADO? | AC31: ¿LA TRADUCCIÓN SE ENCUENTRA DEBIDAMENTE REALIZADA? EN CASO DE NO REQUERIRSE APOSTILLAJE | AD31: ¿CUMPLE?
A32: 1 | O32: =N32/(_xlfn.XLOOKUP(M32,'TABLA DE SMMLV'!$A$1:$A$32,'TABLA DE SMMLV'!$B$1:$B$32,"0")) -> 0 | P32: 0 | Q32: =IF(AF32="CUMPLE",I32*O32*P32,0) -> 0 | R32: =Q32/(3411038010/1750905) -> 0 | AA32: =IF(AND(OR(T32="SI",T32="NO APLICA"), OR(U32="SI",U32="NO APLICA"), OR(V32="SI",V32="NO APLICA"), OR(W32="SI",W32="NO APLICA"), OR(X32="SI",X32="NO APLICA"), OR(Y32="SI",Y32="NO APLICA"), OR(Z32="SI",Z32="NO APLICA")), "CUMPLE", "NO CUMPLE") -> NO CUMPLE | AD32: =IF(AND(OR(AB32="SI",AB32="NO APLICA"), OR(AC32="SI",AC32="NO APLICA")), "CUMPLE", "NO CUMPLE") -> NO CUMPLE | AF32: =IF(AND(OR(S32="CUMPLE",S32="NO APLICA"), OR(AA32="CUMPLE",AA32="NO APLICA"), OR(AD32="CUMPLE",AD32="NO APLICA"), OR(AE32="CUMPLE",AE32="NO APLICA")), "CUMPLE", "NO CUMPLE") -> NO CUMPLE
A33: 2 | O33: =N33/(_xlfn.XLOOKUP(M33,'TABLA DE SMMLV'!$A$1:$A$32,'TABLA DE SMMLV'!$B$1:$B$32,"0")) -> 0 | P33: 0 | Q33: =IF(AF33="CUMPLE",I33*O33*P33,0) -> 0 | R33: =Q33/(3411038010/1750905) -> 0 | AA33: =IF(AND(OR(T33="SI",T33="NO APLICA"), OR(U33="SI",U33="NO APLICA"), OR(V33="SI",V33="NO APLICA"), OR(W33="SI",W33="NO APLICA"), OR(X33="SI",X33="NO APLICA"), OR(Y33="SI",Y33="NO APLICA"), OR(Z33="SI",Z33="NO APLICA")), "CUMPLE", "NO CUMPLE") -> NO CUMPLE | AD33: =IF(AND(OR(AB33="SI",AB33="NO APLICA"), OR(AC33="SI",AC33="NO APLICA")), "CUMPLE", "NO CUMPLE") -> NO CUMPLE | AF33: =IF(AND(OR(S33="CUMPLE",S33="NO APLICA"), OR(AA33="CUMPLE",AA33="NO APLICA"), OR(AD33="CUMPLE",AD33="NO APLICA"), OR(AE33="CUMPLE",AE33="NO APLICA")), "CUMPLE", "NO CUMPLE") -> NO CUMPLE
A34: 3 | O34: =N34/(_xlfn.XLOOKUP(M34,'TABLA DE SMMLV'!$A$1:$A$32,'TABLA DE SMMLV'!$B$1:$B$32,"0")) -> 0 | P34: 0 | Q34: =IF(AF34="CUMPLE",I34*O34*P34,0) -> 0 | R34: =Q34/(3411038010/1750905) -> 0 | AA34: =IF(AND(OR(T34="SI",T34="NO APLICA"), OR(U34="SI",U34="NO APLICA"), OR(V34="SI",V34="NO APLICA"), OR(W34="SI",W34="NO APLICA"), OR(X34="SI",X34="NO APLICA"), OR(Y34="SI",Y34="NO APLICA"), OR(Z34="SI",Z34="NO APLICA")), "CUMPLE", "NO CUMPLE") -> NO CUMPLE | AD34: =IF(AND(OR(AB34="SI",AB34="NO APLICA"), OR(AC34="SI",AC34="NO APLICA")), "CUMPLE", "NO CUMPLE") -> NO CUMPLE | AF34: =IF(AND(OR(S34="CUMPLE",S34="NO APLICA"), OR(AA34="CUMPLE",AA34="NO APLICA"), OR(AD34="CUMPLE",AD34="NO APLICA"), OR(AE34="CUMPLE",AE34="NO APLICA")), "CUMPLE", "NO CUMPLE") -> NO CUMPLE
A35: 4 | O35: =N35/(_xlfn.XLOOKUP(M35,'TABLA DE SMMLV'!$A$1:$A$32,'TABLA DE SMMLV'!$B$1:$B$32,"0")) -> 0 | P35: 0 | Q35: =IF(AF35="CUMPLE",I35*O35*P35,0) -> 0 | R35: =Q35/(3411038010/1750905) -> 0 | AA35: =IF(AND(OR(T35="SI",T35="NO APLICA"), OR(U35="SI",U35="NO APLICA"), OR(V35="SI",V35="NO APLICA"), OR(W35="SI",W35="NO APLICA"), OR(X35="SI",X35="NO APLICA"), OR(Y35="SI",Y35="NO APLICA"), OR(Z35="SI",Z35="NO APLICA")), "CUMPLE", "NO CUMPLE") -> NO CUMPLE | AD35: =IF(AND(OR(AB35="SI",AB35="NO APLICA"), OR(AC35="SI",AC35="NO APLICA")), "CUMPLE", "NO CUMPLE") -> NO CUMPLE | AF35: =IF(AND(OR(S35="CUMPLE",S35="NO APLICA"), OR(AA35="CUMPLE",AA35="NO APLICA"), OR(AD35="CUMPLE",AD35="NO APLICA"), OR(AE35="CUMPLE",AE35="NO APLICA")), "CUMPLE", "NO CUMPLE") -> NO CUMPLE
A36: 5 | O36: =N36/(_xlfn.XLOOKUP(M36,'TABLA DE SMMLV'!$A$1:$A$32,'TABLA DE SMMLV'!$B$1:$B$32,"0")) -> 0 | P36: 0 | Q36: =IF(AF36="CUMPLE",I36*O36*P36,0) -> 0 | R36: =Q36/(3411038010/1750905) -> 0 | AA36: =IF(AND(OR(T36="SI",T36="NO APLICA"), OR(U36="SI",U36="NO APLICA"), OR(V36="SI",V36="NO APLICA"), OR(W36="SI",W36="NO APLICA"), OR(X36="SI",X36="NO APLICA"), OR(Y36="SI",Y36="NO APLICA"), OR(Z36="SI",Z36="NO APLICA")), "CUMPLE", "NO CUMPLE") -> NO CUMPLE | AD36: =IF(AND(OR(AB36="SI",AB36="NO APLICA"), OR(AC36="SI",AC36="NO APLICA")), "CUMPLE", "NO CUMPLE") -> NO CUMPLE | AF36: =IF(AND(OR(S36="CUMPLE",S36="NO APLICA"), OR(AA36="CUMPLE",AA36="NO APLICA"), OR(AD36="CUMPLE",AD36="NO APLICA"), OR(AE36="CUMPLE",AE36="NO APLICA")), "CUMPLE", "NO CUMPLE") -> NO CUMPLE
A37: 6 | O37: =N37/(_xlfn.XLOOKUP(M37,'TABLA DE SMMLV'!$A$1:$A$32,'TABLA DE SMMLV'!$B$1:$B$32,"0")) -> 0 | P37: 0 | Q37: =IF(AF37="CUMPLE",I37*O37*P37,0) -> 0 | R37: =Q37/(3411038010/1750905) -> 0 | AA37: =IF(AND(OR(T37="SI",T37="NO APLICA"), OR(U37="SI",U37="NO APLICA"), OR(V37="SI",V37="NO APLICA"), OR(W37="SI",W37="NO APLICA"), OR(X37="SI",X37="NO APLICA"), OR(Y37="SI",Y37="NO APLICA"), OR(Z37="SI",Z37="NO APLICA")), "CUMPLE", "NO CUMPLE") -> NO CUMPLE | AD37: =IF(AND(OR(AB37="SI",AB37="NO APLICA"), OR(AC37="SI",AC37="NO APLICA")), "CUMPLE", "NO CUMPLE") -> NO CUMPLE | AF37: =IF(AND(OR(S37="CUMPLE",S37="NO APLICA"), OR(AA37="CUMPLE",AA37="NO APLICA"), OR(AD37="CUMPLE",AD37="NO APLICA"), OR(AE37="CUMPLE",AE37="NO APLICA")), "CUMPLE", "NO CUMPLE") -> NO CUMPLE
A38: 7 | O38: =N38/(_xlfn.XLOOKUP(M38,'TABLA DE SMMLV'!$A$1:$A$32,'TABLA DE SMMLV'!$B$1:$B$32,"0")) -> 0 | P38: 0 | Q38: =IF(AF38="CUMPLE",I38*O38*P38,0) -> 0 | R38: =Q38/(3411038010/1750905) -> 0 | AA38: =IF(AND(OR(T38="SI",T38="NO APLICA"), OR(U38="SI",U38="NO APLICA"), OR(V38="SI",V38="NO APLICA"), OR(W38="SI",W38="NO APLICA"), OR(X38="SI",X38="NO APLICA"), OR(Y38="SI",Y38="NO APLICA"), OR(Z38="SI",Z38="NO APLICA")), "CUMPLE", "NO CUMPLE") -> NO CUMPLE | AD38: =IF(AND(OR(AB38="SI",AB38="NO APLICA"), OR(AC38="SI",AC38="NO APLICA")), "CUMPLE", "NO CUMPLE") -> NO CUMPLE | AF38: =IF(AND(OR(S38="CUMPLE",S38="NO APLICA"), OR(AA38="CUMPLE",AA38="NO APLICA"), OR(AD38="CUMPLE",AD38="NO APLICA"), OR(AE38="CUMPLE",AE38="NO APLICA")), "CUMPLE", "NO CUMPLE") -> NO CUMPLE
A39: SUMATORIA TOTAL EXPRESADA EN SMMLV | Q39: =SUM(Q32:Q38) -> 0 | R39: =Q39/(3411038010/1750905) -> 0
A43: 3. PARÁMETROS GENERALES DEL REQUISITO HABILITANTE
A44: # | B44: PARÁMETRO | C44: CONDICIÓN ESTÁNDAR (máx. 5 contratos) | D44: CONDICIÓN MIPYME / EEM (máx. 7 contratos) | E44: ACREDITACIÓN | F44: REF. PLIEGO | G44: RESULTADO | H44: OBSERVACIONES
A45: 1 | B45: N° de contratos | C45: 5 | D45: 7 | E45: =COUNT(B32:B38) -> 0 | F45: Lit. A
A46: 2 | B46: Sumatoria total (% presupuesto en SMMLV) | C46: ≥ 100% del presupuesto oficial en SMMLV | E46: =R39 -> 0 | F46: Lit. A / P
A47: 3 | B47: Contrato individual mínimo (% sobre presupuesto oficial) | C47: Al menos 1 contrato ≥ 40% del presupuesto oficial en SMMLV (año terminación) | E47: =MAX(R32:R38) -> 0 | F47: Lit. A / J
A48: 4 | B48: Código(s) UNSPSC por contrato | C48: Mínimo 1 código UNSPSC registrado en RUP | F48: Lit. F
A49: 5 | B49: Proponente plural: % experiencia mínima aportada por un integrante | C49: Un integrante aporta mínimo 50% de la experiencia solicitada | F49: Lit. G
A50: 6 | B50: RUP en firme (sin cese de efectos) | C50: RUP en firme (sin cese de efectos) | F50: Lit. E
A51: 7 | B51: CUMPLE | G51: =IF(COUNTIF(G45:G50,"CUMPLE")+COUNTIF(G45:G50,"NO APLICA")=ROWS(G45:G50),"CUMPLE","NO CUMPLE") -> NO CUMPLE
A53: RESULTADO HABILITACIÓN – EXPERIENCIA DEL PROPONENTE
...

Sheet EP_1
A1: SECRETARIA DE MOVILIDAD CONTEMPORÁNEA
B5: CONCURSO DE MÉRITOS SMC-CM-CS-152-2026 - PMTIC
A9: INFORMACIÓN PROPONENTE
A10: PROPONENTE | C10: CONSORCIO EA INTERMODAL | D10: TIPO | F10: Plural (Consorcio) | G10: NIT | H10: N/A
A11: ¿ES MIPYME? | C11: SÍ | D11: ¿ES EMPRENDIMIENTO O EMPRESA DE MUJERES? | F11: SÍ | G11: FECHA EVALUACIÓN | H11: 46107
A12: SECCIÓN 4 – VERIFICACIÓN POR CONTRATO APORTADO (una fila por contrato – máx. 7)
A13: N° | B13: OBJETO DEL CONTRATO (resumen) | C13: CÓDIGO(S) UNSPSC | D13: CERTIFICADO/ACTA | E13: AÑO TERM. | F13: SMMLV (año term.) | G13: VALOR CONTRATO SEGÚN CERTIFICACION (COP) | H13: VALOR CONTRATO SEGÚN CERTIFICACION (SMLMV) | I13: CHEQUEO VALOR CONTRATO SEGÚN CERTIFICACION (SMLMV) | J13: PORCENTAJE DE PARTICIPACIÓN EN EL VALOR EJECUTADO - REPORTADO EN EL RUP (%) | K13: PORCENTAJE DEL VALOR EJECUTADO CONFORME AL OBJETO SOLICITADO (%) | L13: VALOR TOTAL FACTURADO RELACIONADO CON OBJETO DEL CONTRATO Y AFECTADO POR % DEL VALOR EJECUTADO CONFORME AL OBJETO SOLICITADO POR EL % DE PARTICIPACION DEL RUP (SMMLV) | M13: % SOBRE PRESUP. OFICIAL | N13: OBJETO ADMISIBLE (Sec.2) | O13: RESULTADO
A14: 1 | F14: =IF(E14="","Valor por definir",_xlfn.XLOOKUP(E14,'TABLA DE SMMLV'!$A$1:$A$32,'TABLA DE SMMLV'!$B$1:$B$32,"ERROR")) -> Valor por definir | I14: =IF(F14="","Valor por definir",IFERROR(G14/F14,"Revisar datos")) -> Revisar datos | L14: =H14*J14*K14 -> 0 | M14: =L14/$F$21 -> 0
A15: 2 | F15: =IF(E15="","Valor por definir",_xlfn.XLOOKUP(E15,'TABLA DE SMMLV'!$A$1:$A$32,'TABLA DE SMMLV'!$B$1:$B$32,"ERROR")) -> Valor por definir | I15: =IF(F15="","Valor por definir",IFERROR(G15/F15,"Revisar datos")) -> Revisar datos | L15: =H15*J15*K15 -> 0 | M15: =L15/$F$21 -> 0
A16: 3 | F16: =IF(E16="","Valor por definir",_xlfn.XLOOKUP(E16,'TABLA DE SMMLV'!$A$1:$A$32,'TABLA DE SMMLV'!$B$1:$B$32,"ERROR")) -> Valor por definir | I16: =IF(F16="","Valor por definir",IFERROR(G16/F16,"Revisar datos")) -> Revisar datos | L16: =H16*J16*K16 -> 0 | M16: =L16/$F$21 -> 0
A17: 4 | F17: =IF(E17="","Valor por definir",_xlfn.XLOOKUP(E17,'TABLA DE SMMLV'!$A$1:$A$32,'TABLA DE SMMLV'!$B$1:$B$32,"ERROR")) -> Valor por definir | I17: =IF(F17="","Valor por definir",IFERROR(G17/F17,"Revisar datos")) -> Revisar datos | L17: =H17*J17*K17 -> 0 | M17: =L17/$F$21 -> 0
A18: 5 | F18: =IF(E18="","Valor por definir",_xlfn.XLOOKUP(E18,'TABLA DE SMMLV'!$A$1:$A$32,'TABLA DE SMMLV'!$B$1:$B$32,"ERROR")) -> Valor por definir | I18: =IF(F18="","Valor por definir",IFERROR(G18/F18,"Revisar datos")) -> Revisar datos | L18: =H18*J18*K18 -> 0 | M18: =L18/$F$21 -> 0
A19: 6 | F19: =IF(E19="","Valor por definir",_xlfn.XLOOKUP(E19,'TABLA DE SMMLV'!$A$1:$A$32,'TABLA DE SMMLV'!$B$1:$B$32,"ERROR")) -> Valor por definir | I19: =IF(F19="","Valor por definir",IFERROR(G19/F19,"Revisar datos")) -> Revisar datos | L19: =H19*J19*K19 -> 0 | M19: =L19/$F$21 -> 0
A20: 7 | F20: =IF(E20="","Valor por definir",_xlfn.XLOOKUP(E20,'TABLA DE SMMLV'!$A$1:$A$32,'TABLA DE SMMLV'!$B$1:$B$32,"ERROR")) -> Valor por definir | I20: =IF(F20="","Valor por definir",IFERROR(G20/F20,"Revisar datos")) -> Revisar datos | L20: =H20*J20*K20 -> 0 | M20: =L20/$F$21 -> 0
A21: Presupuesto oficial | C21: COP | D21: 3411038010 | E21: SMMLV | F21: =D21/1750905 -> 1948.1571 | G21: SUMATORIA TOTAL (% sobre presupuesto oficial en SMMLV) → | L21: =SUM(L14:L20) -> 0 | M21: =L21/$F$21 -> 0
A24: 1. VERIFICACIÓN DILIGENCIAMIENTO FORMATO
A25: FORMATO | D25: ¿CUMPLE? | E25: OBSERVACIONES
A26: FORMATO 7 - EXPERIENCIA HABILITANTE DEL PROPONENTE | D26: CUMPLE
A28: 2. VERIFICACIÓN ESPECÍFICA POR CONTRATO APORTADO
A29: N° | B29: NÚMERO CONSECUTIVO DEL REPORTE DEL CONTRATO EJECUTADO EN EL RUP | C29: DESCRIPCIÓN DE LAS ACTIVIDADES EJECUTADAS | D29: ENTIDAD CONTRATANTE | E29: CONTRATO O RESOLUCION | G29: CÓDIGO(S) UNSPSC | H29: FORMA DE EJECUCIÓN | J29: INTEGRANTE QUE APORTA EXPERIENCIA | K29: FECHA DE INICIACIÓN [DIA-MES-AÑO] | L29: FECHA DE TERMINACIÓN [DIA-MES-AÑO] | M29: AÑO DE TERMINACIÓN | N29: VALOR TOTAL | O29: VERIFICACIÓN ENTIDAD
E30: NO. | F30: OBJETO | H30: I,C,UT, OTRA | I30: % PARTICIPACIÓN | O30: VALOR TOTAL DEL CONTRATO EN SMMLV | P30: PORCENTAJE DEL VALOR EJECUTADO CONFORME AL OBJETO SOLICITADO (%) | Q30: VALOR TOTAL DEL CONTRATO EN SMMLV X PORCENTAJE DE PARTICIPACIÓN X PORCENTAJE EJECUTADO CONFORME AL OBJETO SOLICITADO | R30: % SOBRE PRESUP. OFICIAL | S30: ¿OBJETO, ACTIVIDADES Y/O OBLIGACIONES CONTRACTUALES CUMPLEN? | T30: ¿LA CERTIFICACIÓN LABORAL O DOCUMENTACIÓN EQUIVALENTE CONTIENE LA INFORMACIÓN MÍNIMA REQUERIDA? | AB30: ¿LA EXPERIENCIA ES ADQUIRIDA EN EL EXTERIOR? | AE30: ¿LA EXPERIENCIA DE LA PERSONA JURÍDICA ES ACREDITADA EN DEBIDA FORMA POR UN ACCIONISTA, SOCIO O CONSTITUYENTE? | AF30: ¿LA EXPERIENCIA CUMPLE CON LOS REQUISITOS DEL PLIEGO DE CONDICIONES? | AG30: OBSERVACIONES
T31: NOMBRE O RAZÓN SOCIAL DEL CONTRATANTE | U31: NOMBRE O RAZÓN SOCIAL DEL CONTRATISTA | V31: NÚMERO DEL CONTRATO (SI TIENE) | W31: OBJETO DEL CONTRATO Y/O CARGO DESEMPEÑADO | X31: ACTIVIDADES U OBLIGACIONES DEL CONTRATO | Y31: NOMBRE, CARGO Y FIRMA DE QUIEN EXPIDE LA CERTIFICACIÓN | Z31: FECHA DE EXPEDICIÓN DE LA CERTIFICACIÓN | AA31: ¿CUMPLE? | AB31: ¿EL DOCUMENTO SE ENCUENTRA DEBIDAMENTE APOSTILLADO? | AC31: ¿LA TRADUCCIÓN SE ENCUENTRA DEBIDAMENTE REALIZADA? EN CASO DE NO REQUERIRSE APOSTILLAJE | AD31: ¿CUMPLE?
A32: 1 | B32: 1 | C32: General y especifica | D32: MINISTERIO DE TRANSPORTE | E32: 092-2011 | F32: Definición de la Solución Óptima de Transporte Multimodal desde el punto de vista Técnico, Económico y Socio Ambiental, para el Desarrollo de la orinoquía/ Altillanura: Conformada por los Departamentos del Meta, Vichada y Casanare. | G32: 80101600 81101500 81102200 | H32: INDIVIDUAL | I32: 1 | J32: EPYPSA S.A.S. (EPYPSA COLOMBIA) | K32: 40805 | L32: 40983 | M32: 2012 | N32: 749963676 | O32: =N32/(_xlfn.XLOOKUP(M32,'TABLA DE SMMLV'!$A$1:$A$32,'TABLA DE SMMLV'!$B$1:$B$32,"0")) -> 1323.3875 | P32: 1 | Q32: =IF(AF32="CUMPLE",I32*O32*P32,0) -> 1323.3875 | R32: =Q32/(3411038010/1750905) -> 0.67930223 | S32: CUMPLE | T32: SI | U32: SI | V32: SI | W32: SI | X32: SI | Y32: SI | Z32: SI | AA32: =IF(AND(OR(T32="SI",T32="NO APLICA"), OR(U32="SI",U32="NO APLICA"), OR(V32="SI",V32="NO APLICA"), OR(W32="SI",W32="NO APLICA"), OR(X32="SI",X32="NO APLICA"), OR(Y32="SI",Y32="NO APLICA"), OR(Z32="SI",Z32="NO APLICA")), "CUMPLE", "NO CUMPLE") -> CUMPLE | AB32: NO APLICA | AC32: NO APLICA | AD32: =IF(AND(OR(AB32="SI",AB32="NO APLICA"), OR(AC32="SI",AC32="NO APLICA")), "CUMPLE", "NO CUMPLE") -> CUMPLE | AE32: CUMPLE | AF32: =IF(AND(OR(S32="CUMPLE",S32="NO APLICA"), OR(AA32="CUMPLE",AA32="NO APLICA"), OR(AD32="CUMPLE",AD32="NO APLICA"), OR(AE32="CUMPLE",AE32="NO APLICA")), "CUMPLE", "NO CUMPLE") -> CUMPLE | AG32: 1. CON LA ACLARACIÓN REMITIDA EN LA ETAPA DE SUBSANACIÓN MEDIANTE COMPOSICIÓN ACCIONARIA, SE IDENTIFICA QUE EL PROPONENTE ACREDITA EN DEBIDA FORMA LA EXPERIENCIA.
A33: 2 | B33: 52 | C33: General y especifica | D33: DEPARTAMENTO NACIONAL DE PLANEACIÓN | E33: DNP-OR-044-2016 | F33: Estructurar el módulo logístico para el transporte de carga del Plan Maestro Ferreo. | G33: 80101600 81101500 81102200 | H33: CONSORCIO | I33: 0.5 | J33: EPYPSA S.A.S. (EPYPSA COLOMBIA) | K33: 42598 | L33: 42734 | M33: 2016 | N33: 284200000 | O33: =N33/(_xlfn.XLOOKUP(M33,'TABLA DE SMMLV'!$A$1:$A$32,'TABLA DE SMMLV'!$B$1:$B$32,"0")) -> 412.21024 | P33: 1 | Q33: =IF(AF33="CUMPLE",I33*O33*P33,0) -> 206.10512 | R33: =Q33/(3411038010/1750905) -> 0.10579492 | S33: CUMPLE | T33: SI | U33: SI | V33: SI | W33: SI | X33: SI | Y33: SI | Z33: SI | AA33: =IF(AND(OR(T33="SI",T33="NO APLICA"), OR(U33="SI",U33="NO APLICA"), OR(V33="SI",V33="NO APLICA"), OR(W33="SI",W33="NO APLICA"), OR(X33="SI",X33="NO APLICA"), OR(Y33="SI",Y33="NO APLICA"), OR(Z33="SI",Z33="NO APLICA")), "CUMPLE", "NO CUMPLE") -> CUMPLE | AB33: NO APLICA | AC33: NO APLICA | AD33: =IF(AND(OR(AB33="SI",AB33="NO APLICA"), OR(AC33="SI",AC33="NO APLICA")), "CUMPLE", "NO CUMPLE") -> CUMPLE | AE33: CUMPLE | AF33: =IF(AND(OR(S33="CUMPLE",S33="NO APLICA"), OR(AA33="CUMPLE",AA33="NO APLICA"), OR(AD33="CUMPLE",AD33="NO APLICA"), OR(AE33="CUMPLE",AE33="NO APLICA")), "CUMPLE", "NO CUMPLE") -> CUMPLE | AG33: 1. CON LA ACLARACIÓN REMITIDA EN LA ETAPA DE SUBSANACIÓN MEDIANTE COMPOSICIÓN ACCIONARIA, SE IDENTIFICA QUE EL PROPONENTE ACREDITA EN DEBIDA FORMA LA EXPERIENCIA.
A34: 3 | B34: 57 | C34: General y especifica | D34: FINANCIERA DE DESARROLLO NACIONAL- FDN | E34: 07-2016 | F34: Desarrollar el plan operativo para las gerencias de los corredores y el plan de acción para la gestión eficiente de los corredores logísticos del País, incluyendo aspectos operacionales, de coordinación, institucionales, técnicos y presupuestales, entre otros, de las etapas 1 y 2. | G34: 80101600 81101500 81102200 | H34: CONSORCIO | I34: 0.55 | J34: EPYPSA S.A.S. (EPYPSA COLOMBIA) | K34: 42654 | L34: 42759 | M34: 2017 | N34: 471424000 | O34: =N34/(_xlfn.XLOOKUP(M34,'TABLA DE SMMLV'!$A$1:$A$32,'TABLA DE SMMLV'!$B$1:$B$32,"0")) -> 639.03096 | P34: 1 | Q34: =IF(AF34="CUMPLE",I34*O34*P34,0) -> 351.46703 | R34: =Q34/(3411038010/1750905) -> 0.18041 | S34: CUMPLE | T34: SI | U34: SI | V34: SI | W34: SI | X34: SI | Y34: SI | Z34: SI | AA34: =IF(AND(OR(T34="SI",T34="NO APLICA"), OR(U34="SI",U34="NO APLICA"), OR(V34="SI",V34="NO APLICA"), OR(W34="SI",W34="NO APLICA"), OR(X34="SI",X34="NO APLICA"), OR(Y34="SI",Y34="NO APLICA"), OR(Z34="SI",Z34="NO APLICA")), "CUMPLE", "NO CUMPLE") -> CUMPLE | AB34: NO APLICA | AC34: NO APLICA | AD34: =IF(AND(OR(AB34="SI",AB34="NO APLICA"), OR(AC34="SI",AC34="NO APLICA")), "CUMPLE", "NO CUMPLE") -> CUMPLE | AE34: CUMPLE | AF34: =IF(AND(OR(S34="CUMPLE",S34="NO APLICA"), OR(AA34="CUMPLE",AA34="NO APLICA"), OR(AD34="CUMPLE",AD34="NO APLICA"), OR(AE34="CUMPLE",AE34="NO APLICA")), "CUMPLE", "NO CUMPLE") -> CUMPLE | AG34: 1. CON LA ACLARACIÓN REMITIDA EN LA ETAPA DE SUBSANACIÓN MEDIANTE COMPOSICIÓN ACCIONARIA, SE IDENTIFICA QUE EL PROPONENTE ACREDITA EN DEBIDA FORMA LA EXPERIENCIA. 2. CON LA DOCUMENTACIÓN REMITIDA EN LA ETAPA DE SUBSANACIÓN, SE IDENTIFICA QUE LAS ACTIVIDADES Y ENTREGABLES SE ENCUENTRAN RELACIONADOS CON LA SOLICITUD DE EXPERIENCIA INDICADA EN EL LITERAL C DEL TÍTULO 1. EXPERIENCIA DEL PROPONENTE, QUE INDICA "...• Formulación y/o apoyo a la formulación y/o elaboración y/o estructuración de: Políticas públicas y/o planes y/o programas de: § Infraestructura de transporte y/o § Transporte de carga y/o § Transporte de pasajeros y/o § Intermodalidad y/o § Logística. - Diseño de estrategias para la solución de problemas de: § Infraestructura de transporte y/o § Transporte de carga y/o § Transporte de pasajeros y/o § Intermodalidad y/o § Logística."
A35: 4 | B35: 61 | C35: General y especifica | D35: AREA METROPOLITANA DEL VALLE DE ABURRA | E35: 001/2017 | F35: Obtener para el año 2017, la matriz Origen Destino y el modelo de transporte que representen la movilidad en el Área Metropolitana del Valle de Aburrá. | G35: 80101600 81101500 81102200 | H35: CONSORCIO | I35: 0.4 | J35: EPYPSA S.A.S. (EPYPSA COLOMBIA) | K35: 42754 | L35: 43175 | M35: 2018 | N35: 2293631103 | O35: =N35/(_xlfn.XLOOKUP(M35,'TABLA DE SMMLV'!$A$1:$A$32,'TABLA DE SMMLV'!$B$1:$B$32,"0")) -> 2935.8779 | P35: 1 | Q35: =IF(AF35="CUMPLE",I35*O35*P35,0) -> 1174.3512 | R35: =Q35/(3411038010/1750905) -> 0.60280105 | S35: CUMPLE | T35: SI | U35: SI | V35: SI | W35: SI | X35: SI | Y35: SI | Z35: SI | AA35: =IF(AND(OR(T35="SI",T35="NO APLICA"), OR(U35="SI",U35="NO APLICA"), OR(V35="SI",V35="NO APLICA"), OR(W35="SI",W35="NO APLICA"), OR(X35="SI",X35="NO APLICA"), OR(Y35="SI",Y35="NO APLICA"), OR(Z35="SI",Z35="NO APLICA")), "CUMPLE", "NO CUMPLE") -> CUMPLE | AB35: NO APLICA | AC35: NO APLICA | AD35: =IF(AND(OR(AB35="SI",AB35="NO APLICA"), OR(AC35="SI",AC35="NO APLICA")), "CUMPLE", "NO CUMPLE") -> CUMPLE | AE35: CUMPLE | AF35: =IF(AND(OR(S35="CUMPLE",S35="NO APLICA"), OR(AA35="CUMPLE",AA35="NO APLICA"), OR(AD35="CUMPLE",AD35="NO APLICA"), OR(AE35="CUMPLE",AE35="NO APLICA")), "CUMPLE", "NO CUMPLE") -> CUMPLE | AG35: 1. CON LA ACLARACIÓN REMITIDA EN LA ETAPA DE SUBSANACIÓN MEDIANTE COMPOSICIÓN ACCIONARIA, SE IDENTIFICA QUE EL PROPONENTE ACREDITA EN DEBIDA FORMA LA EXPERIENCIA. 2. CON LA DOCUMENTACIÓN REMITIDA EN LA ETAPA DE SUBSANACIÓN, SE IDENTIFICA QUE EL PROPONENE REMITIÓ LA TOTALIDAD DE REQUISITOS INDICADOS EN EL LITERAL D. DEL TÍTULO 1. EXPERIENCIA DEL PROPONENTE.
A36: 5 | O36: =N36/(_xlfn.XLOOKUP(M36,'TABLA DE SMMLV'!$A$1:$A$32,'TABLA DE SMMLV'!$B$1:$B$32,"0")) -> 0 | P36: 0 | Q36: =IF(AF36="CUMPLE",I36*O36*P36,0) -> 0 | R36: =Q36/(3411038010/1750905) -> 0 | AA36: =IF(AND(OR(T36="SI",T36="NO APLICA"), OR(U36="SI",U36="NO APLICA"), OR(V36="SI",V36="NO APLICA"), OR(W36="SI",W36="NO APLICA"), OR(X36="SI",X36="NO APLICA"), OR(Y36="SI",Y36="NO APLICA"), OR(Z36="SI",Z36="NO APLICA")), "CUMPLE", "NO CUMPLE") -> NO CUMPLE | AD36: =IF(AND(OR(AB36="SI",AB36="NO APLICA"), OR(AC36="SI",AC36="NO APLICA")), "CUMPLE", "NO CUMPLE") -> NO CUMPLE | AF36: =IF(AND(OR(S36="CUMPLE",S36="NO APLICA"), OR(AA36="CUMPLE",AA36="NO APLICA"), OR(AD36="CUMPLE",AD36="NO APLICA"), OR(AE36="CUMPLE",AE36="NO APLICA")), "CUMPLE", "NO CUMPLE") -> NO CUMPLE
A37: 6 | O37: =N37/(_xlfn.XLOOKUP(M37,'TABLA DE SMMLV'!$A$1:$A$32,'TABLA DE SMMLV'!$B$1:$B$32,"0")) -> 0 | P37: 0 | Q37: =IF(AF37="CUMPLE",I37*O37*P37,0) -> 0 | R37: =Q37/(3411038010/1750905) -> 0 | AA37: =IF(AND(OR(T37="SI",T37="NO APLICA"), OR(U37="SI",U37="NO APLICA"), OR(V37="SI",V37="NO APLICA"), OR(W37="SI",W37="NO APLICA"), OR(X37="SI",X37="NO APLICA"), OR(Y37="SI",Y37="NO APLICA"), OR(Z37="SI",Z37="NO APLICA")), "CUMPLE", "NO CUMPLE") -> NO CUMPLE | AD37: =IF(AND(OR(AB37="SI",AB37="NO APLICA"), OR(AC37="SI",AC37="NO APLICA")), "CUMPLE", "NO CUMPLE") -> NO CUMPLE | AF37: =IF(AND(OR(S37="CUMPLE",S37="NO APLICA"), OR(AA37="CUMPLE",AA37="NO APLICA"), OR(AD37="CUMPLE",AD37="NO APLICA"), OR(AE37="CUMPLE",AE37="NO APLICA")), "CUMPLE", "NO CUMPLE") -> NO CUMPLE
A38: 7 | O38: =N38/(_xlfn.XLOOKUP(M38,'TABLA DE SMMLV'!$A$1:$A$32,'TABLA DE SMMLV'!$B$1:$B$32,"0")) -> 0 | P38: 0 | Q38: =IF(AF38="CUMPLE",I38*O38*P38,0) -> 0 | R38: =Q38/(3411038010/1750905) -> 0 | AA38: =IF(AND(OR(T38="SI",T38="NO APLICA"), OR(U38="SI",U38="NO APLICA"), OR(V38="SI",V38="NO APLICA"), OR(W38="SI",W38="NO APLICA"), OR(X38="SI",X38="NO APLICA"), OR(Y38="SI",Y38="NO APLICA"), OR(Z38="SI",Z38="NO APLICA")), "CUMPLE", "NO CUMPLE") -> NO CUMPLE | AD38: =IF(AND(OR(AB38="SI",AB38="NO APLICA"), OR(AC38="SI",AC38="NO APLICA")), "CUMPLE", "NO CUMPLE") -> NO CUMPLE | AF38: =IF(AND(OR(S38="CUMPLE",S38="NO APLICA"), OR(AA38="CUMPLE",AA38="NO APLICA"), OR(AD38="CUMPLE",AD38="NO APLICA"), OR(AE38="CUMPLE",AE38="NO APLICA")), "CUMPLE", "NO CUMPLE") -> NO CUMPLE
A39: SUMATORIA TOTAL EXPRESADA EN SMMLV | Q39: =SUM(Q32:Q38) -> 3055.3108 | R39: =Q39/(3411038010/1750905) -> 1.5683082
A43: 3. PARÁMETROS GENERALES DEL REQUISITO HABILITANTE
A44: # | B44: PARÁMETRO | C44: CONDICIÓN ESTÁNDAR (máx. 5 contratos) | D44: CONDICIÓN MIPYME / EEM (máx. 7 contratos) | E44: ACREDITACIÓN | F44: REF. PLIEGO | G44: RESULTADO | H44: OBSERVACIONES
A45: 1 | B45: N° de contratos | C45: 5 | D45: 7 | E45: =COUNT(B32:B38) -> 4 | F45: Lit. A | G45: CUMPLE
A46: 2 | B46: Sumatoria total (% presupuesto en SMMLV) | C46: ≥ 100% del presupuesto oficial en SMMLV | E46: =R39 -> 1.5683082 | F46: Lit. A / P | G46: CUMPLE
A47: 3 | B47: Contrato individual mínimo (% sobre presupuesto oficial) | C47: Al menos 1 contrato ≥ 40% del presupuesto oficial en SMMLV (año terminación) | E47: =MAX(R32:R38) -> 0.67930223 | F47: Lit. A / J | G47: CUMPLE
A48: 4 | B48: Código(s) UNSPSC por contrato | C48: Mínimo 1 código UNSPSC registrado en RUP | E48: 801016 811015 811022 | F48: Lit. F | G48: CUMPLE
A49: 5 | B49: Proponente plural: % experiencia mínima aportada por un integrante | C49: Un integrante aporta mínimo 50% de la experiencia solicitada | E49: EPYPSA S.A.S APORTA 100% DE EXPERIENCIA | F49: Lit. G | G49: CUMPLE
A50: 6 | B50: RUP en firme (sin cese de efectos) | C50: RUP en firme (sin cese de efectos) | E50: RUP EN FIRME | F50: Lit. E | G50: CUMPLE
A51: 7 | B51: CUMPLE | G51: =IF(COUNTIF(G45:G50,"CUMPLE")+COUNTIF(G45:G50,"NO APLICA")=ROWS(G45:G50),"CUMPLE","NO CUMPLE") -> CUMPLE
A53: RESULTADO – EXPERIENCIA DEL PROPONENTE
...

Sheet EP_2
A1: SECRETARIA DE MOVILIDAD CONTEMPORÁNEA
B5: CONCURSO DE MÉRITOS SMC-CM-CS-152-2026 - PMTIC
A9: INFORMACIÓN PROPONENTE
A10: PROPONENTE | C10: CONSORCIO PMTIC CUNDINAMARCA | D10: TIPO | F10: Plural (Consorcio) | G10: NIT | H10: NO APLICA
A11: ¿ES MIPYME? | C11: SÍ | D11: ¿ES EMPRENDIMIENTO O EMPRESA DE MUJERES? | F11: SÍ | G11: FECHA EVALUACIÓN | H11: 46107
A12: SECCIÓN 4 – VERIFICACIÓN POR CONTRATO APORTADO (una fila por contrato – máx. 7)
A13: N° | B13: OBJETO DEL CONTRATO (resumen) | C13: CÓDIGO(S) UNSPSC | D13: CERTIFICADO/ACTA | E13: AÑO TERM. | F13: SMMLV (año term.) | G13: VALOR CONTRATO SEGÚN CERTIFICACION (COP) | H13: VALOR CONTRATO SEGÚN CERTIFICACION (SMLMV) | I13: CHEQUEO VALOR CONTRATO SEGÚN CERTIFICACION (SMLMV) | J13: PORCENTAJE DE PARTICIPACIÓN EN EL VALOR EJECUTADO - REPORTADO EN EL RUP (%) | K13: PORCENTAJE DEL VALOR EJECUTADO CONFORME AL OBJETO SOLICITADO (%) | L13: VALOR TOTAL FACTURADO RELACIONADO CON OBJETO DEL CONTRATO Y AFECTADO POR % DEL VALOR EJECUTADO CONFORME AL OBJETO SOLICITADO POR EL % DE PARTICIPACION DEL RUP (SMMLV) | M13: % SOBRE PRESUP. OFICIAL | N13: OBJETO ADMISIBLE (Sec.2) | O13: RESULTADO
A14: 1 | F14: =IF(E14="","Valor por definir",_xlfn.XLOOKUP(E14,'TABLA DE SMMLV'!$A$1:$A$32,'TABLA DE SMMLV'!$B$1:$B$32,"ERROR")) -> Valor por definir | I14: =IF(F14="","Valor por definir",IFERROR(G14/F14,"Revisar datos")) -> Revisar datos | L14: =H14*J14*K14 -> 0 | M14: =L14/$F$21 -> 0
A15: 2 | F15: =IF(E15="","Valor por definir",_xlfn.XLOOKUP(E15,'TABLA DE SMMLV'!$A$1:$A$32,'TABLA DE SMMLV'!$B$1:$B$32,"ERROR")) -> Valor por definir | I15: =IF(F15="","Valor por definir",IFERROR(G15/F15,"Revisar datos")) -> Revisar datos | L15: =H15*J15*K15 -> 0 | M15: =L15/$F$21 -> 0
A16: 3 | F16: =IF(E16="","Valor por definir",_xlfn.XLOOKUP(E16,'TABLA DE SMMLV'!$A$1:$A$32,'TABLA DE SMMLV'!$B$1:$B$32,"ERROR")) -> Valor por definir | I16: =IF(F16="","Valor por definir",IFERROR(G16/F16,"Revisar datos")) -> Revisar datos | L16: =H16*J16*K16 -> 0 | M16: =L16/$F$21 -> 0
A17: 4 | F17: =IF(E17="","Valor por definir",_xlfn.XLOOKUP(E17,'TABLA DE SMMLV'!$A$1:$A$32,'TABLA DE SMMLV'!$B$1:$B$32,"ERROR")) -> Valor por definir | I17: =IF(F17="","Valor por definir",IFERROR(G17/F17,"Revisar datos")) -> Revisar datos | L17: =H17*J17*K17 -> 0 | M17: =L17/$F$21 -> 0
A18: 5 | F18: =IF(E18="","Valor por definir",_xlfn.XLOOKUP(E18,'TABLA DE SMMLV'!$A$1:$A$32,'TABLA DE SMMLV'!$B$1:$B$32,"ERROR")) -> Valor por definir | I18: =IF(F18="","Valor por definir",IFERROR(G18/F18,"Revisar datos")) -> Revisar datos | L18: =H18*J18*K18 -> 0 | M18: =L18/$F$21 -> 0
A19: 6 | F19: =IF(E19="","Valor por definir",_xlfn.XLOOKUP(E19,'TABLA DE SMMLV'!$A$1:$A$32,'TABLA DE SMMLV'!$B$1:$B$32,"ERROR")) -> Valor por definir | I19: =IF(F19="","Valor por definir",IFERROR(G19/F19,"Revisar datos")) -> Revisar datos | L19: =H19*J19*K19 -> 0 | M19: =L19/$F$21 -> 0
A20: 7 | F20: =IF(E20="","Valor por definir",_xlfn.XLOOKUP(E20,'TABLA DE SMMLV'!$A$1:$A$32,'TABLA DE SMMLV'!$B$1:$B$32,"ERROR")) -> Valor por definir | I20: =IF(F20="","Valor por definir",IFERROR(G20/F20,"Revisar datos")) -> Revisar datos | L20: =H20*J20*K20 -> 0 | M20: =L20/$F$21 -> 0
A21: Presupuesto oficial | C21: COP | D21: 3411038010 | E21: SMMLV | F21: =D21/1750905 -> 1948.1571 | G21: SUMATORIA TOTAL (% sobre presupuesto oficial en SMMLV) → | L21: =SUM(L14:L20) -> 0 | M21: =L21/$F$21 -> 0
A24: 1. VERIFICACIÓN DILIGENCIAMIENTO FORMATO
A25: FORMATO | D25: ¿CUMPLE? | E25: OBSERVACIONES
A26: FORMATO 7 - EXPERIENCIA HABILITANTE DEL PROPONENTE | D26: CUMPLE
A28: 2. VERIFICACIÓN ESPECÍFICA POR CONTRATO APORTADO
A29: N° | B29: NÚMERO CONSECUTIVO DEL REPORTE DEL CONTRATO EJECUTADO EN EL RUP | C29: DESCRIPCIÓN DE LAS ACTIVIDADES EJECUTADAS | D29: ENTIDAD CONTRATANTE | E29: CONTRATO O RESOLUCION | G29: CÓDIGO(S) UNSPSC | H29: FORMA DE EJECUCIÓN | J29: INTEGRANTE QUE APORTA EXPERIENCIA | K29: FECHA DE INICIACIÓN [DIA-MES-AÑO] | L29: FECHA DE TERMINACIÓN [DIA-MES-AÑO] | M29: AÑO DE TERMINACIÓN | N29: VALOR TOTAL | O29: VERIFICACIÓN ENTIDAD
E30: NO. | F30: OBJETO | H30: I,C,UT, OTRA | I30: % PARTICIPACIÓN | O30: VALOR TOTAL DEL CONTRATO EN SMMLV | P30: PORCENTAJE DEL VALOR EJECUTADO CONFORME AL OBJETO SOLICITADO (%) | Q30: VALOR TOTAL DEL CONTRATO EN SMMLV X PORCENTAJE DE PARTICIPACIÓN X PORCENTAJE EJECUTADO CONFORME AL OBJETO SOLICITADO | R30: % SOBRE PRESUP. OFICIAL | S30: ¿OBJETO, ACTIVIDADES Y/O OBLIGACIONES CONTRACTUALES CUMPLEN? | T30: ¿LA CERTIFICACIÓN LABORAL O DOCUMENTACIÓN EQUIVALENTE CONTIENE LA INFORMACIÓN MÍNIMA REQUERIDA? | AB30: ¿LA EXPERIENCIA ES ADQUIRIDA EN EL EXTERIOR? | AE30: ¿LA EXPERIENCIA DE LA PERSONA JURÍDICA ES ACREDITADA EN DEBIDA FORMA POR UN ACCIONISTA, SOCIO O CONSTITUYENTE? | AF30: ¿LA EXPERIENCIA CUMPLE CON LOS REQUISITOS DEL PLIEGO DE CONDICIONES? | AG30: OBSERVACIONES
T31: NOMBRE O RAZÓN SOCIAL DEL CONTRATANTE | U31: NOMBRE O RAZÓN SOCIAL DEL CONTRATISTA | V31: NÚMERO DEL CONTRATO (SI TIENE) | W31: OBJETO DEL CONTRATO Y/O CARGO DESEMPEÑADO | X31: ACTIVIDADES U OBLIGACIONES DEL CONTRATO | Y31: NOMBRE, CARGO Y FIRMA DE QUIEN EXPIDE LA CERTIFICACIÓN | Z31: FECHA DE EXPEDICIÓN DE LA CERTIFICACIÓN | AA31: ¿CUMPLE? | AB31: ¿EL DOCUMENTO SE ENCUENTRA DEBIDAMENTE APOSTILLADO? | AC31: ¿LA TRADUCCIÓN SE ENCUENTRA DEBIDAMENTE REALIZADA? EN CASO DE NO REQUERIRSE APOSTILLAJE | AD31: ¿CUMPLE?
A32: 1 | B32: 82 | C32: Formulación / estructuración de planes de transporte de pasajeros / logistica | D32: PATRIMONIO AUTÓNOMO FONDO DE SEGURIDAD VIAL (NIT. 830.053.994 4) | E32: 101 DE 2022 | F32: BRINDAR ASISTENCIA TÉCNICA A LAS ENTIDADES TERRITORIALES DEFINIDAS POR LA AGENCIA NACIONAL DE SEGURIDAD VIAL PARA LA ELABORACIÓN DEL DOCUMENTO TÉCNICO DE SOPORTE DEL PLAN LOCAL DE SEGURIDAD VIAL, CON ENFOQUE TERRITORIAL ZONA DE INTERVENCIÓN N° 3. | G32: 80101600 81101500 81102200 | H32: CONSORCIO | I32: 0.33 | J32: INGEPLAN.CO SAS BIC | K32: 44831 | L32: 45133 | M32: 2023 | N32: 2140680912 | O32: =N32/(_xlfn.XLOOKUP(M32,'TABLA DE SMMLV'!$A$1:$A$32,'TABLA DE SMMLV'!$B$1:$B$32,"0")) -> 1845.4146 | P32: 1 | Q32: =IF(AF32="CUMPLE",I32*O32*P32,0) -> 608.98681 | R32: =Q32/(3411038010/1750905) -> 0.31259636 | S32: CUMPLE | T32: SI | U32: SI | V32: SI | W32: SI | X32: SI | Y32: SI | Z32: SI | AA32: =IF(AND(OR(T32="SI",T32="NO APLICA"), OR(U32="SI",U32="NO APLICA"), OR(V32="SI",V32="NO APLICA"), OR(W32="SI",W32="NO APLICA"), OR(X32="SI",X32="NO APLICA"), OR(Y32="SI",Y32="NO APLICA"), OR(Z32="SI",Z32="NO APLICA")), "CUMPLE", "NO CUMPLE") -> CUMPLE | AB32: NO APLICA | AC32: NO APLICA | AD32: =IF(AND(OR(AB32="SI",AB32="NO APLICA"), OR(AC32="SI",AC32="NO APLICA")), "CUMPLE", "NO CUMPLE") -> CUMPLE | AE32: NO APLICA | AF32: =IF(AND(OR(S32="CUMPLE",S32="NO APLICA"), OR(AA32="CUMPLE",AA32="NO APLICA"), OR(AD32="CUMPLE",AD32="NO APLICA"), OR(AE32="CUMPLE",AE32="NO APLICA")), "CUMPLE", "NO CUMPLE") -> CUMPLE
A33: 2 | B33: 15 | C33: Formulación / estructuración de planes de infraestructura de transporte | D33: Departamento del Vaupes | E33: 057 de Dic 29 de 1997 | F33: Inventario de Carreteras Departamentales y Elaboración del Plan de Transporte e Infraestructura Vial del Vaupés. | G33: 80101600 81101500 81102200 | H33: INDIVIDUAL | I33: 1 | J33: INGEPLAN.CO SAS BIC | K33: 35795 | L33: 35914 | M33: 1998 | N33: 41549070 | O33: =N33/(_xlfn.XLOOKUP(M33,'TABLA DE SMMLV'!$A$1:$A$32,'TABLA DE SMMLV'!$B$1:$B$32,"0")) -> 203.84578 | P33: 1 | Q33: =IF(AF33="CUMPLE",I33*O33*P33,0) -> 203.84578 | R33: =Q33/(3411038010/1750905) -> 0.10463519 | S33: CUMPLE | T33: SI | U33: SI | V33: SI | W33: SI | X33: SI | Y33: SI | Z33: SI | AA33: =IF(AND(OR(T33="SI",T33="NO APLICA"), OR(U33="SI",U33="NO APLICA"), OR(V33="SI",V33="NO APLICA"), OR(W33="SI",W33="NO APLICA"), OR(X33="SI",X33="NO APLICA"), OR(Y33="SI",Y33="NO APLICA"), OR(Z33="SI",Z33="NO APLICA")), "CUMPLE", "NO CUMPLE") -> CUMPLE | AB33: NO APLICA | AC33: NO APLICA | AD33: =IF(AND(OR(AB33="SI",AB33="NO APLICA"), OR(AC33="SI",AC33="NO APLICA")), "CUMPLE", "NO CUMPLE") -> CUMPLE | AE33: NO APLICA | AF33: =IF(AND(OR(S33="CUMPLE",S33="NO APLICA"), OR(AA33="CUMPLE",AA33="NO APLICA"), OR(AD33="CUMPLE",AD33="NO APLICA"), OR(AE33="CUMPLE",AE33="NO APLICA")), "CUMPLE", "NO CUMPLE") -> CUMPLE
A34: 3 | B34: 263 | C34: Elaboración de macromodelos de transporte de pasajeros Formulación / estructuración de programas de transporte de pasajeros Formulación / estructuración de programas de intermodalidad | D34: BZ METRO REGIONAL SAS | E34: BZ-062C-2016 | F34: Estructuración técnica, legal y financiera para los estudios y diseños en fase pre factibilidad (fase 1) del tren de cercanias o Metro Ligero de pasajeros Bogotá - Zipaquira | G34: 80101600 81101500 81102200 | H34: INDIVIDUAL | I34: 1 | J34: INCOPLAN IN SAS (INCOPLAN S.A Nit. 800.097.991-2) | K34: 41059 | L34: 41872 | M34: 2014 | N34: 600000000 | O34: =N34/(_xlfn.XLOOKUP(M34,'TABLA DE SMMLV'!$A$1:$A$32,'TABLA DE SMMLV'!$B$1:$B$32,"0")) -> 974.02597 | P34: 1 | Q34: =IF(AF34="CUMPLE",I34*O34*P34,0) -> 974.02597 | R34: =Q34/(3411038010/1750905) -> 0.49997301 | S34: CUMPLE | T34: SI | U34: SI | V34: SI | W34: SI | X34: SI | Y34: SI | Z34: SI | AA34: =IF(AND(OR(T34="SI",T34="NO APLICA"), OR(U34="SI",U34="NO APLICA"), OR(V34="SI",V34="NO APLICA"), OR(W34="SI",W34="NO APLICA"), OR(X34="SI",X34="NO APLICA"), OR(Y34="SI",Y34="NO APLICA"), OR(Z34="SI",Z34="NO APLICA")), "CUMPLE", "NO CUMPLE") -> CUMPLE | AB34: NO APLICA | AC34: NO APLICA | AD34: =IF(AND(OR(AB34="SI",AB34="NO APLICA"), OR(AC34="SI",AC34="NO APLICA")), "CUMPLE", "NO CUMPLE") -> CUMPLE | AE34: CUMPLE | AF34: =IF(AND(OR(S34="CUMPLE",S34="NO APLICA"), OR(AA34="CUMPLE",AA34="NO APLICA"), OR(AD34="CUMPLE",AD34="NO APLICA"), OR(AE34="CUMPLE",AE34="NO APLICA")), "CUMPLE", "NO CUMPLE") -> CUMPLE | AG34: CON LA ACLARACIÓN REMITIDA EN LA ETAPA DE SUBSANACIÓN, SE IDENTIFICA QUE EL PROPONENE REMITIÓ LA TOTALIDAD DE REQUISITOS INDICADOS EN EL LITERAL D. DEL TÍTULO 1. EXPERIENCIA DEL PROPONENTE.
A35: 4 | B35: 288 | C35: Diseño de estrategias para transporte de pasajeros | D35: SECRETARIA DISTRITAL DE MOVILIDAD | E35: 20181761 de 2018 | F35: Realizar el diagnostico, determinar el impacto en la operación del sistema integrado de transporte público y formular alternativas de mitigación del transporte informal e ilegal en Bogotá D.C. | G35: 80101600 81101500 81102200 | H35: UNION TEMPORAL | I35: 0.84 | J35: INCOPLAN IN SAS (INCOPLAN S.A Nit. 800.097.991-2) | K35: 43402 | L35: 43683 | M35: 2019 | N35: 1351052696 | O35: =N35/(_xlfn.XLOOKUP(M35,'TABLA DE SMMLV'!$A$1:$A$32,'TABLA DE SMMLV'!$B$1:$B$32,"0")) -> 1631.4776 | P35: 1 | Q35: =IF(AF35="CUMPLE",I35*O35*P35,0) -> 1370.4412 | R35: =Q35/(3411038010/1750905) -> 0.70345517 | S35: CUMPLE | T35: SI | U35: SI | V35: SI | W35: SI | X35: SI | Y35: SI | Z35: SI | AA35: =IF(AND(OR(T35="SI",T35="NO APLICA"), OR(U35="SI",U35="NO APLICA"), OR(V35="SI",V35="NO APLICA"), OR(W35="SI",W35="NO APLICA"), OR(X35="SI",X35="NO APLICA"), OR(Y35="SI",Y35="NO APLICA"), OR(Z35="SI",Z35="NO APLICA")), "CUMPLE", "NO CUMPLE") -> CUMPLE | AB35: NO APLICA | AC35: NO APLICA | AD35: =IF(AND(OR(AB35="SI",AB35="NO APLICA"), OR(AC35="SI",AC35="NO APLICA")), "CUMPLE", "NO CUMPLE") -> CUMPLE | AE35: CUMPLE | AF35: =IF(AND(OR(S35="CUMPLE",S35="NO APLICA"), OR(AA35="CUMPLE",AA35="NO APLICA"), OR(AD35="CUMPLE",AD35="NO APLICA"), OR(AE35="CUMPLE",AE35="NO APLICA")), "CUMPLE", "NO CUMPLE") -> CUMPLE | AG35: CON LA INFORMACIÓN REMITIDA EN LA ETAPA DE SUBSANACIÓN, SE IDENTIFICA QUE LAS ACTIVIDADES Y ENTREGABLES SE ENCUENTRAN RELACIONADOS CON LA SOLICITUD DE EXPERIENCIA INDICADA EN EL LITERAL C DEL TÍTULO 1. EXPERIENCIA DEL PROPONENTE, ESPECÍFICAMENTE LO ASOCIADO CON: "...•Diseño de estrategias para la solución de problemas de: § Infraestructura de transporte y/o § Transporte de carga y/o § Transporte de pasajeros y/o § Intermodalidad y/o § Logística."
A36: 5 | B36: 11 | C36: Elaboración de macromodelos de transporte de carga Formulación / estructuración de programas de logística | D36: AGENCIA NACIONAL DE INFRAESTRUCTURA ANI | E36: VE-502 del 31 de Julio de 201 | F36: Consultoría especializada para la elaboración del estudio de demanda de transporte en el corredor del río magdalena y el canal del dique | G36: 80101600 81101500 81102200 | H36: INDIVIDUAL | I36: 1 | J36: INCOPLAN IN SAS (INCOPLAN S.A Nit. 800.097.991-2) | K36: 43690 | L36: 43812 | M36: 2019 | N36: 749990000 | O36: =N36/(_xlfn.XLOOKUP(M36,'TABLA DE SMMLV'!$A$1:$A$32,'TABLA DE SMMLV'!$B$1:$B$32,"0")) -> 905.65814 | P36: 1 | Q36: =IF(AF36="CUMPLE",I36*O36*P36,0) -> 905.65814 | R36: =Q36/(3411038010/1750905) -> 0.46487942 | S36: CUMPLE | T36: SI | U36: SI | V36: SI | W36: SI | X36: SI | Y36: SI | Z36: SI | AA36: =IF(AND(OR(T36="SI",T36="NO APLICA"), OR(U36="SI",U36="NO APLICA"), OR(V36="SI",V36="NO APLICA"), OR(W36="SI",W36="NO APLICA"), OR(X36="SI",X36="NO APLICA"), OR(Y36="SI",Y36="NO APLICA"), OR(Z36="SI",Z36="NO APLICA")), "CUMPLE", "NO CUMPLE") -> CUMPLE | AB36: NO APLICA | AC36: NO APLICA | AD36: =IF(AND(OR(AB36="SI",AB36="NO APLICA"), OR(AC36="SI",AC36="NO APLICA")), "CUMPLE", "NO CUMPLE") -> CUMPLE | AE36: CUMPLE | AF36: =IF(AND(OR(S36="CUMPLE",S36="NO APLICA"), OR(AA36="CUMPLE",AA36="NO APLICA"), OR(AD36="CUMPLE",AD36="NO APLICA"), OR(AE36="CUMPLE",AE36="NO APLICA")), "CUMPLE", "NO CUMPLE") -> CUMPLE | AG36: 1. CON LA ACLARACIÓN REMITIDA EN LA ETAPA DE SUBSANACIÓN, SE IDENTIFICA QUE EL PROPONENE REMITIÓ LA TOTALIDAD DE REQUISITOS INDICADOS EN EL LITERAL D. DEL TÍTULO 1. EXPERIENCIA DEL PROPONENTE. 2. CON LA INFORMACIÓN REMITIDA EN LA ETAPA DE SUBSANACIÓN, SE IDENTIFICA QUE LAS ACTIVIDADES Y ENTREGABLES SE ENCUENTRAN RELACIONADOS CON LA SOLICITUD DE EXPERIENCIA INDICADA EN EL LITERAL C DEL TÍTULO 1. EXPERIENCIA DEL PROPONENTE, ESPECÍFICAMENTE LO ASOCIADO CON: • Elaboración de macromodelos de: § Transporte de carga y/o § Pasajeros.
A37: 6 | B37: 227 | C37: Diseño de estrategias para transporte de cargas Formulación / estructuración de programas de transporte de carga | D37: Ministerio de Minas y Energía | E37: 70-2009 | F37: La elaboración del estudio técnico sectorial "Infraestructura de transporte multímodal y de logísticas integradas para el desarrollo de la industria minera en Colombia, con énfasis en puertos'. | G37: 80101600 81101500 81102200 | H37: INDIVIDUAL | I37: 1 | J37: INCOPLAN IN SAS (INCOPLAN S.A Nit. 800.097.991-2) | K37: 40078 | L37: 40543 | M37: 2010 | N37: 1109995708 | O37: =N37/(_xlfn.XLOOKUP(M37,'TABLA DE SMMLV'!$A$1:$A$32,'TABLA DE SMMLV'!$B$1:$B$32,"0")) -> 2155.3315 | P37: 1 | Q37: =IF(AF37="CUMPLE",I37*O37*P37,0) -> 2155.3315 | R37: =Q37/(3411038010/1750905) -> 1.1063438 | S37: CUMPLE | T37: SI | U37: SI | V37: SI | W37: SI | X37: SI | Y37: SI | Z37: SI | AA37: =IF(AND(OR(T37="SI",T37="NO APLICA"), OR(U37="SI",U37="NO APLICA"), OR(V37="SI",V37="NO APLICA"), OR(W37="SI",W37="NO APLICA"), OR(X37="SI",X37="NO APLICA"), OR(Y37="SI",Y37="NO APLICA"), OR(Z37="SI",Z37="NO APLICA")), "CUMPLE", "NO CUMPLE") -> CUMPLE | AB37: NO APLICA | AC37: NO APLICA | AD37: =IF(AND(OR(AB37="SI",AB37="NO APLICA"), OR(AC37="SI",AC37="NO APLICA")), "CUMPLE", "NO CUMPLE") -> CUMPLE | AE37: CUMPLE | AF37: =IF(AND(OR(S37="CUMPLE",S37="NO APLICA"), OR(AA37="CUMPLE",AA37="NO APLICA"), OR(AD37="CUMPLE",AD37="NO APLICA"), OR(AE37="CUMPLE",AE37="NO APLICA")), "CUMPLE", "NO CUMPLE") -> CUMPLE
A38: 7 | O38: =N38/(_xlfn.XLOOKUP(M38,'TABLA DE SMMLV'!$A$1:$A$32,'TABLA DE SMMLV'!$B$1:$B$32,"0")) -> 0 | P38: 1 | Q38: =IF(AF38="CUMPLE",I38*O38*P38,0) -> 0 | R38: =Q38/(3411038010/1750905) -> 0 | AA38: =IF(AND(OR(T38="SI",T38="NO APLICA"), OR(U38="SI",U38="NO APLICA"), OR(V38="SI",V38="NO APLICA"), OR(W38="SI",W38="NO APLICA"), OR(X38="SI",X38="NO APLICA"), OR(Y38="SI",Y38="NO APLICA"), OR(Z38="SI",Z38="NO APLICA")), "CUMPLE", "NO CUMPLE") -> NO CUMPLE | AD38: =IF(AND(OR(AB38="SI",AB38="NO APLICA"), OR(AC38="SI",AC38="NO APLICA")), "CUMPLE", "NO CUMPLE") -> NO CUMPLE | AF38: =IF(AND(OR(S38="CUMPLE",S38="NO APLICA"), OR(AA38="CUMPLE",AA38="NO APLICA"), OR(AD38="CUMPLE",AD38="NO APLICA"), OR(AE38="CUMPLE",AE38="NO APLICA")), "CUMPLE", "NO CUMPLE") -> NO CUMPLE
A39: SUMATORIA TOTAL EXPRESADA EN SMMLV | Q39: =SUM(Q32:Q38) -> 6218.2894 | R39: =Q39/(3411038010/1750905) -> 3.1918829
A43: 3. PARÁMETROS GENERALES DEL REQUISITO HABILITANTE
A44: # | B44: PARÁMETRO | C44: CONDICIÓN ESTÁNDAR (máx. 5 contratos) | D44: CONDICIÓN MIPYME / EEM (máx. 7 contratos) | E44: ACREDITACIÓN | F44: REF. PLIEGO | G44: RESULTADO | H44: OBSERVACIONES
A45: 1 | B45: N° de contratos | C45: 5 | D45: 7 | E45: =COUNT(B32:B38) -> 6 | F45: Lit. A | G45: CUMPLE
A46: 2 | B46: Sumatoria total (% presupuesto en SMMLV) | C46: ≥ 100% del presupuesto oficial en SMMLV | E46: =R39 -> 3.1918829 | F46: Lit. A / P | G46: CUMPLE
A47: 3 | B47: Contrato individual mínimo (% sobre presupuesto oficial) | C47: Al menos 1 contrato ≥ 40% del presupuesto oficial en SMMLV (año terminación) | E47: =MAX(R32:R38) -> 1.1063438 | F47: Lit. A / J | G47: CUMPLE
A48: 4 | B48: Código(s) UNSPSC por contrato | C48: Mínimo 1 código UNSPSC registrado en RUP | E48: 80101600 81101500 81102200 | F48: Lit. F | G48: CUMPLE
A49: 5 | B49: Proponente plural: % experiencia mínima aportada por un integrante | C49: Un integrante aporta mínimo 50% de la experiencia solicitada | E49: INCOPLAN IN SAS | F49: Lit. G | G49: CUMPLE
A50: 6 | B50: RUP en firme (sin cese de efectos) | C50: RUP en firme (sin cese de efectos) | E50: RUP EN FIRME | F50: Lit. E | G50: CUMPLE
A51: 7 | B51: CUMPLE | G51: =IF(COUNTIF(G45:G50,"CUMPLE")+COUNTIF(G45:G50,"NO APLICA")=ROWS(G45:G50),"CUMPLE","NO CUMPLE") -> CUMPLE
A53: RESULTADO – EXPERIENCIA DEL PROPONENTE
...

Sheet EP_3
A1: SECRETARIA DE MOVILIDAD CONTEMPORÁNEA
B5: CONCURSO DE MÉRITOS SMC-CM-CS-152-2026 - PMTIC
A9: INFORMACIÓN PROPONENTE
A10: PROPONENTE | C10: CONSORCIO MOVILIDAD INTERMODAL 2026 | D10: TIPO | F10: Plural (Consorcio) | G10: NIT | H10: NO APLICA
A11: ¿ES MIPYME? | C11: SÍ | D11: ¿ES EMPRENDIMIENTO O EMPRESA DE MUJERES? | F11: SÍ | G11: FECHA EVALUACIÓN | H11: 46107
A12: SECCIÓN 4 – VERIFICACIÓN POR CONTRATO APORTADO (una fila por contrato – máx. 7)
A13: N° | B13: OBJETO DEL CONTRATO (resumen) | C13: CÓDIGO(S) UNSPSC | D13: CERTIFICADO/ACTA | E13: AÑO TERM. | F13: SMMLV (año term.) | G13: VALOR CONTRATO SEGÚN CERTIFICACION (COP) | H13: VALOR CONTRATO SEGÚN CERTIFICACION (SMLMV) | I13: CHEQUEO VALOR CONTRATO SEGÚN CERTIFICACION (SMLMV) | J13: PORCENTAJE DE PARTICIPACIÓN EN EL VALOR EJECUTADO - REPORTADO EN EL RUP (%) | K13: PORCENTAJE DEL VALOR EJECUTADO CONFORME AL OBJETO SOLICITADO (%) | L13: VALOR TOTAL FACTURADO RELACIONADO CON OBJETO DEL CONTRATO Y AFECTADO POR % DEL VALOR EJECUTADO CONFORME AL OBJETO SOLICITADO POR EL % DE PARTICIPACION DEL RUP (SMMLV) | M13: % SOBRE PRESUP. OFICIAL | N13: OBJETO ADMISIBLE (Sec.2) | O13: RESULTADO
A14: 1 | F14: =IF(E14="","Valor por definir",_xlfn.XLOOKUP(E14,'TABLA DE SMMLV'!$A$1:$A$32,'TABLA DE SMMLV'!$B$1:$B$32,"ERROR")) -> Valor por definir | I14: =IF(F14="","Valor por definir",IFERROR(G14/F14,"Revisar datos")) -> Revisar datos | L14: =H14*J14*K14 -> 0 | M14: =L14/$F$21 -> 0
A15: 2 | F15: =IF(E15="","Valor por definir",_xlfn.XLOOKUP(E15,'TABLA DE SMMLV'!$A$1:$A$32,'TABLA DE SMMLV'!$B$1:$B$32,"ERROR")) -> Valor por definir | I15: =IF(F15="","Valor por definir",IFERROR(G15/F15,"Revisar datos")) -> Revisar datos | L15: =H15*J15*K15 -> 0 | M15: =L15/$F$21 -> 0
A16: 3 | F16: =IF(E16="","Valor por definir",_xlfn.XLOOKUP(E16,'TABLA DE SMMLV'!$A$1:$A$32,'TABLA DE SMMLV'!$B$1:$B$32,"ERROR")) -> Valor por definir | I16: =IF(F16="","Valor por definir",IFERROR(G16/F16,"Revisar datos")) -> Revisar datos | L16: =H16*J16*K16 -> 0 | M16: =L16/$F$21 -> 0
A17: 4 | F17: =IF(E17="","Valor por definir",_xlfn.XLOOKUP(E17,'TABLA DE SMMLV'!$A$1:$A$32,'TABLA DE SMMLV'!$B$1:$B$32,"ERROR")) -> Valor por definir | I17: =IF(F17="","Valor por definir",IFERROR(G17/F17,"Revisar datos")) -> Revisar datos | L17: =H17*J17*K17 -> 0 | M17: =L17/$F$21 -> 0
A18: 5 | F18: =IF(E18="","Valor por definir",_xlfn.XLOOKUP(E18,'TABLA DE SMMLV'!$A$1:$A$32,'TABLA DE SMMLV'!$B$1:$B$32,"ERROR")) -> Valor por definir | I18: =IF(F18="","Valor por definir",IFERROR(G18/F18,"Revisar datos")) -> Revisar datos | L18: =H18*J18*K18 -> 0 | M18: =L18/$F$21 -> 0
A19: 6 | F19: =IF(E19="","Valor por definir",_xlfn.XLOOKUP(E19,'TABLA DE SMMLV'!$A$1:$A$32,'TABLA DE SMMLV'!$B$1:$B$32,"ERROR")) -> Valor por definir | I19: =IF(F19="","Valor por definir",IFERROR(G19/F19,"Revisar datos")) -> Revisar datos | L19: =H19*J19*K19 -> 0 | M19: =L19/$F$21 -> 0
A20: 7 | F20: =IF(E20="","Valor por definir",_xlfn.XLOOKUP(E20,'TABLA DE SMMLV'!$A$1:$A$32,'TABLA DE SMMLV'!$B$1:$B$32,"ERROR")) -> Valor por definir | I20: =IF(F20="","Valor por definir",IFERROR(G20/F20,"Revisar datos")) -> Revisar datos | L20: =H20*J20*K20 -> 0 | M20: =L20/$F$21 -> 0
A21: Presupuesto oficial | C21: COP | D21: 3411038010 | E21: SMMLV | F21: =D21/1750905 -> 1948.1571 | G21: SUMATORIA TOTAL (% sobre presupuesto oficial en SMMLV) → | L21: =SUM(L14:L20) -> 0 | M21: =L21/$F$21 -> 0
A24: 1. VERIFICACIÓN DILIGENCIAMIENTO FORMATO
A25: FORMATO | D25: ¿CUMPLE? | E25: OBSERVACIONES
A26: FORMATO 7 - EXPERIENCIA HABILITANTE DEL PROPONENTE | D26: CUMPLE
A28: 2. VERIFICACIÓN ESPECÍFICA POR CONTRATO APORTADO
A29: N° | B29: NÚMERO CONSECUTIVO DEL REPORTE DEL CONTRATO EJECUTADO EN EL RUP | C29: DESCRIPCIÓN DE LAS ACTIVIDADES EJECUTADAS | D29: ENTIDAD CONTRATANTE | E29: CONTRATO O RESOLUCION | G29: CÓDIGO(S) UNSPSC | H29: FORMA DE EJECUCIÓN | J29: INTEGRANTE QUE APORTA EXPERIENCIA | K29: FECHA DE INICIACIÓN [DIA-MES-AÑO] | L29: FECHA DE TERMINACIÓN [DIA-MES-AÑO] | M29: AÑO DE TERMINACIÓN | N29: VALOR TOTAL | O29: VERIFICACIÓN ENTIDAD
E30: NO. | F30: OBJETO | H30: I,C,UT, OTRA | I30: % PARTICIPACIÓN | O30: VALOR TOTAL DEL CONTRATO EN SMMLV | P30: PORCENTAJE DEL VALOR EJECUTADO CONFORME AL OBJETO SOLICITADO (%) | Q30: VALOR TOTAL DEL CONTRATO EN SMMLV X PORCENTAJE DE PARTICIPACIÓN X PORCENTAJE EJECUTADO CONFORME AL OBJETO SOLICITADO | R30: % SOBRE PRESUP. OFICIAL | S30: ¿OBJETO, ACTIVIDADES Y/O OBLIGACIONES CONTRACTUALES CUMPLEN? | T30: ¿LA CERTIFICACIÓN LABORAL O DOCUMENTACIÓN EQUIVALENTE CONTIENE LA INFORMACIÓN MÍNIMA REQUERIDA? | AB30: ¿LA EXPERIENCIA ES ADQUIRIDA EN EL EXTERIOR? | AE30: ¿LA EXPERIENCIA DE LA PERSONA JURÍDICA ES ACREDITADA EN DEBIDA FORMA POR UN ACCIONISTA, SOCIO O CONSTITUYENTE? | AF30: ¿LA EXPERIENCIA CUMPLE CON LOS REQUISITOS DEL PLIEGO DE CONDICIONES? | AG30: OBSERVACIONES
T31: NOMBRE O RAZÓN SOCIAL DEL CONTRATANTE | U31: NOMBRE O RAZÓN SOCIAL DEL CONTRATISTA | V31: NÚMERO DEL CONTRATO (SI TIENE) | W31: OBJETO DEL CONTRATO Y/O CARGO DESEMPEÑADO | X31: ACTIVIDADES U OBLIGACIONES DEL CONTRATO | Y31: NOMBRE, CARGO Y FIRMA DE QUIEN EXPIDE LA CERTIFICACIÓN | Z31: FECHA DE EXPEDICIÓN DE LA CERTIFICACIÓN | AA31: ¿CUMPLE? | AB31: ¿EL DOCUMENTO SE ENCUENTRA DEBIDAMENTE APOSTILLADO? | AC31: ¿LA TRADUCCIÓN SE ENCUENTRA DEBIDAMENTE REALIZADA? EN CASO DE NO REQUERIRSE APOSTILLAJE | AD31: ¿CUMPLE?
A32: 1 | B32: 13 | C32: Formulación y/o apoyo a la formulación y/o elaboración y/o estructuración de Políticas públicas y/o planes y/o programas; Diseño de estrategias para la solución de problemas; Elaboración de macromodelos | D32: Secretaría de obras publicas del Estado de Morelos. | E32: SOP-SSESODGLCOP- L.P.F.- 10/2015 | F32: Prestación de servicios relacionados con la obra pública consistente en “Plan Integral de movilidad urbana sustentable y el desarrollo y operación de dos corredores troncales de transporte masivo en la zona metropolitana de Cuernavaca”. | G32: 801016 - 811015 - 811022 | H32: INDIVIDUAL | I32: 1 | J32: DESARROLLO TECNOLOGÍA Y PLANEACIÓN COLOMBIA S.A.S. (DESARROLLO, TECNOLOGÍA Y PLENACIÓN S.A. DE CV NIT: 901.053.744-7) | K32: 42387 | L32: 42723 | M32: 2016 | N32: 2.864631e+09 | O32: =N32/(_xlfn.XLOOKUP(M32,'TABLA DE SMMLV'!$A$1:$A$32,'TABLA DE SMMLV'!$B$1:$B$32,"0")) -> 4154.9269 | P32: 0 | Q32: =IF(AF32="CUMPLE",I32*O32*P32,0) -> 0 | R32: =Q32/(3411038010/1750905) -> 0 | S32: NO CUMPLE | T32: SI | U32: SI | V32: SI | W32: SI | X32: SI | Y32: SI | Z32: SI | AA32: =IF(AND(OR(T32="SI",T32="NO APLICA"), OR(U32="SI",U32="NO APLICA"), OR(V32="SI",V32="NO APLICA"), OR(W32="SI",W32="NO APLICA"), OR(X32="SI",X32="NO APLICA"), OR(Y32="SI",Y32="NO APLICA"), OR(Z32="SI",Z32="NO APLICA")), "CUMPLE", "NO CUMPLE") -> CUMPLE | AB32: SI | AC32: NO APLICA | AD32: =IF(AND(OR(AB32="SI",AB32="NO APLICA"), OR(AC32="SI",AC32="NO APLICA")), "CUMPLE", "NO CUMPLE") -> CUMPLE | AE32: CUMPLE | AF32: =IF(AND(OR(S32="CUMPLE",S32="NO APLICA"), OR(AA32="CUMPLE",AA32="NO APLICA"), OR(AD32="CUMPLE",AD32="NO APLICA"), OR(AE32="CUMPLE",AE32="NO APLICA")), "CUMPLE", "NO CUMPLE") -> NO CUMPLE | AG32: 1. SE REALIZA CÁLCULO TENIENDO EN CUENTA LOS SIGUIENTES PARÁMETROS: FECHA: 19 DE DICIEMBRE DE 2016. 1 USD=20,428 MXN 1 USD =2.997,20 COP SEGÚN LO ANTERIOR, 19.524.450,15 MXN =2.864.630.996,16 COP. 2. CON LA DOCUMENTACIÓN REMITIDA, NO SE IDENTIFICA QUE EL OBJETO O LAS ACTIVIDADES SE ENCUENTREN RELACIONADOS CON LA SOLICITUD DE EXPERIENCIA INDICADA EN EL LITERAL C DEL TÍTULO 1. EXPERIENCIA DEL PROPONENTE, QUE INDICA "...C. Las certificaciones en las que consten los contratos ejecutados deben poseer objetos, actividades y/o obligaciones contractuales relacionadas con el objeto del presente proceso de selección o, con alguno de los siguientes objetos y/o actividades: • Formulación y/o apoyo a la formulación y/o elaboración y/o estructuración de: Políticas públicas y/o planes y/o programas de: § Infraestructura de transporte y/o § Transporte de carga y/o § Transporte de pasajeros y/o § Intermodalidad y/o § Logística. • Diseño de estrategias para la solución de problemas de: § Infraestructura de transporte y/o § Transporte de carga y/o § Transporte de pasajeros y/o § Intermodalidad y/o § Logística. • Elaboración de macromodelos de: § Transporte de carga y/o § Pasajeros..."
