Workbook

Sheet General
A1: Proyecto | B1: Municipio | C1: Edificio | D1: Cantidad Equipos | E1: Canalización Realizada | F1: % Avance Canalización | G1: Cableado Realizado | H1: % Avance Cableado | I1: Equipos Instalados | J1: % Avance Instalación
A2: RJ - CZU | B2: Sincelejo | C2: Torre Gentium | D2: =SUMIF(AvDetallado_RJCZU!C:C,General!C:C,AvDetallado_RJCZU!G:G) -> 51 | E2: =SUMIF(AvDetallado_RJCZU!C:C,General!C:C,AvDetallado_RJCZU!H:H) -> 42 | F2: =E2/D2 -> 0.82352941 | G2: =SUMIF(AvDetallado_RJCZU!C:C,General!C:C,AvDetallado_RJCZU!J:J) -> 42 | H2: =G2/D2 -> 0.82352941 | I2: =SUMIF(AvDetallado_RJCZU!C:C,General!C:C,AvDetallado_RJCZU!L:L) -> 0 | J2: =I2/D2 -> 0
A3: RJ - CZU | B3: Sincelejo | C3: Torre AB | D3: =SUMIF(AvDetallado_RJCZU!C:C,General!C:C,AvDetallado_RJCZU!G:G) -> 35 | E3: =SUMIF(AvDetallado_RJCZU!C:C,General!C:C,AvDetallado_RJCZU!H:H) -> 24 | F3: =E3/D3 -> 0.68571429 | G3: =SUMIF(AvDetallado_RJCZU!C:C,General!C:C,AvDetallado_RJCZU!J:J) -> 0 | H3: =G3/D3 -> 0 | I3: =SUMIF(AvDetallado_RJCZU!C:C,General!C:C,AvDetallado_RJCZU!L:L) -> 0 | J3: =I3/D3 -> 0
A4: RJ - CZU | B4: Sincelejo | C4: Las Marias | D4: =SUMIF(AvDetallado_RJCZU!C:C,General!C:C,AvDetallado_RJCZU!G:G) -> 25 | E4: =SUMIF(AvDetallado_RJCZU!C:C,General!C:C,AvDetallado_RJCZU!H:H) -> 0 | F4: =E4/D4 -> 0 | G4: =SUMIF(AvDetallado_RJCZU!C:C,General!C:C,AvDetallado_RJCZU!J:J) -> 0 | H4: =G4/D4 -> 0 | I4: =SUMIF(AvDetallado_RJCZU!C:C,General!C:C,AvDetallado_RJCZU!L:L) -> 0 | J4: =I4/D4 -> 0
A5: RJ - CZU | B5: Corozal | C5: Palacio de Justicia | D5: =SUMIF(AvDetallado_RJCZU!C:C,General!C:C,AvDetallado_RJCZU!G:G) -> 21 | E5: =SUMIF(AvDetallado_RJCZU!C:C,General!C:C,AvDetallado_RJCZU!H:H) -> 0 | F5: =E5/D5 -> 0 | G5: =SUMIF(AvDetallado_RJCZU!C:C,General!C:C,AvDetallado_RJCZU!J:J) -> 0 | H5: =G5/D5 -> 0 | I5: =SUMIF(AvDetallado_RJCZU!C:C,General!C:C,AvDetallado_RJCZU!L:L) -> 0 | J5: =I5/D5 -> 0
A6: RJ - CZU | B6: Sincelejo | C6: Torre C | D6: =SUMIF(AvDetallado_RJCZU!C:C,General!C:C,AvDetallado_RJCZU!G:G) -> 29 | E6: =SUMIF(AvDetallado_RJCZU!C:C,General!C:C,AvDetallado_RJCZU!H:H) -> 0 | F6: =E6/D6 -> 0 | G6: =SUMIF(AvDetallado_RJCZU!C:C,General!C:C,AvDetallado_RJCZU!J:J) -> 0 | H6: =G6/D6 -> 0 | I6: =SUMIF(AvDetallado_RJCZU!C:C,General!C:C,AvDetallado_RJCZU!L:L) -> 0 | J6: =I6/D6 -> 0
A7: RJ - CZU | B7: Morroa | C7: Morroa | D7: =SUMIF(AvDetallado_RJCZU!C:C,General!C:C,AvDetallado_RJCZU!G:G) -> 1 | E7: =SUMIF(AvDetallado_RJCZU!C:C,General!C:C,AvDetallado_RJCZU!H:H) -> 0 | F7: =E7/D7 -> 0 | G7: =SUMIF(AvDetallado_RJCZU!C:C,General!C:C,AvDetallado_RJCZU!J:J) -> 0 | H7: =G7/D7 -> 0 | I7: =SUMIF(AvDetallado_RJCZU!C:C,General!C:C,AvDetallado_RJCZU!L:L) -> 0 | J7: =I7/D7 -> 0
A8: RJ - CZU | B8: Since | C8: Since | D8: =SUMIF(AvDetallado_RJCZU!C:C,General!C:C,AvDetallado_RJCZU!G:G) -> 1 | E8: =SUMIF(AvDetallado_RJCZU!C:C,General!C:C,AvDetallado_RJCZU!H:H) -> 0 | F8: =E8/D8 -> 0 | G8: =SUMIF(AvDetallado_RJCZU!C:C,General!C:C,AvDetallado_RJCZU!J:J) -> 0 | H8: =G8/D8 -> 0 | I8: =SUMIF(AvDetallado_RJCZU!C:C,General!C:C,AvDetallado_RJCZU!L:L) -> 0 | J8: =I8/D8 -> 0
A9: RJ - CZU | B9: Chalan | C9: Chalan | D9: =SUMIF(AvDetallado_RJCZU!C:C,General!C:C,AvDetallado_RJCZU!G:G) -> 5 | E9: =SUMIF(AvDetallado_RJCZU!C:C,General!C:C,AvDetallado_RJCZU!H:H) -> 0 | F9: =E9/D9 -> 0 | G9: =SUMIF(AvDetallado_RJCZU!C:C,General!C:C,AvDetallado_RJCZU!J:J) -> 0 | H9: =G9/D9 -> 0 | I9: =SUMIF(AvDetallado_RJCZU!C:C,General!C:C,AvDetallado_RJCZU!L:L) -> 0 | J9: =I9/D9 -> 0
A10: RJ - CZU | B10: Tolú Viejo | C10: Tolú Viejo | D10: =SUMIF(AvDetallado_RJCZU!C:C,General!C:C,AvDetallado_RJCZU!G:G) -> 4 | E10: =SUMIF(AvDetallado_RJCZU!C:C,General!C:C,AvDetallado_RJCZU!H:H) -> 0 | F10: =E10/D10 -> 0 | G10: =SUMIF(AvDetallado_RJCZU!C:C,General!C:C,AvDetallado_RJCZU!J:J) -> 0 | H10: =G10/D10 -> 0 | I10: =SUMIF(AvDetallado_RJCZU!C:C,General!C:C,AvDetallado_RJCZU!L:L) -> 0 | J10: =I10/D10 -> 0
A11: RJ - CZU | B11: Sampues | C11: Sampues | D11: =SUMIF(AvDetallado_RJCZU!C:C,General!C:C,AvDetallado_RJCZU!G:G) -> 4 | E11: =SUMIF(AvDetallado_RJCZU!C:C,General!C:C,AvDetallado_RJCZU!H:H) -> 0 | F11: =E11/D11 -> 0 | G11: =SUMIF(AvDetallado_RJCZU!C:C,General!C:C,AvDetallado_RJCZU!J:J) -> 0 | H11: =G11/D11 -> 0 | I11: =SUMIF(AvDetallado_RJCZU!C:C,General!C:C,AvDetallado_RJCZU!L:L) -> 0 | J11: =I11/D11 -> 0
A12: RJ - CZU | B12: Sucre | C12: Sucre | D12: =SUMIF(AvDetallado_RJCZU!C:C,General!C:C,AvDetallado_RJCZU!G:G) -> 7 | E12: =SUMIF(AvDetallado_RJCZU!C:C,General!C:C,AvDetallado_RJCZU!H:H) -> 0 | F12: =E12/D12 -> 0 | G12: =SUMIF(AvDetallado_RJCZU!C:C,General!C:C,AvDetallado_RJCZU!J:J) -> 0 | H12: =G12/D12 -> 0 | I12: =SUMIF(AvDetallado_RJCZU!C:C,General!C:C,AvDetallado_RJCZU!L:L) -> 0 | J12: =I12/D12 -> 0
A13: RJ - CZU | B13: San Marcos | C13: San Marcos | D13: =SUMIF(AvDetallado_RJCZU!C:C,General!C:C,AvDetallado_RJCZU!G:G) -> 7 | E13: =SUMIF(AvDetallado_RJCZU!C:C,General!C:C,AvDetallado_RJCZU!H:H) -> 0 | F13: =E13/D13 -> 0 | G13: =SUMIF(AvDetallado_RJCZU!C:C,General!C:C,AvDetallado_RJCZU!J:J) -> 0 | H13: =G13/D13 -> 0 | I13: =SUMIF(AvDetallado_RJCZU!C:C,General!C:C,AvDetallado_RJCZU!L:L) -> 0 | J13: =I13/D13 -> 0
A14: RJ - CZU | B14: Majagual | C14: Majagual | D14: =SUMIF(AvDetallado_RJCZU!C:C,General!C:C,AvDetallado_RJCZU!G:G) -> 4 | E14: =SUMIF(AvDetallado_RJCZU!C:C,General!C:C,AvDetallado_RJCZU!H:H) -> 0 | F14: =E14/D14 -> 0 | G14: =SUMIF(AvDetallado_RJCZU!C:C,General!C:C,AvDetallado_RJCZU!J:J) -> 0 | H14: =G14/D14 -> 0 | I14: =SUMIF(AvDetallado_RJCZU!C:C,General!C:C,AvDetallado_RJCZU!L:L) -> 0 | J14: =I14/D14 -> 0
D15: =SUM(D2:D14) -> 194 | E15: =SUM(E2:E14) -> 66 | F15: =E15/D15 -> 0.34020619 | G15: =SUM(G2:G14) -> 42 | H15: =G15/D15 -> 0.21649485 | I15: =SUM(I2:I14) -> 0 | J15: =I15/D15 -> 0

Sheet AvDetallado_RJCZU
A1: Proyecto | B1: Municipio | C1: Edificio | D1: Ubicación | E1: Cant. Cámaras | F1: Cant. Acceso / PC / Arcos | G1: Total Cantidades | H1: Canalización Realizada | I1: % Avance Canalización | J1: Cableado Realizado | K1: % Avance Cableado | L1: Equipos Instalados | M1: % Avance Instalación | N1: Comentarios
A2: RJ - CZU | B2: Sincelejo | C2: Las Marias | D2: P1 | E2: 5 | F2: 3 | G2: =SUM(E2:F2) -> 8 | H2: 0 | I2: =DetalleProy[[#This Row],[Canalización Realizada]]/DetalleProy[[#This Row],[Total Cantidades]] -> 0 | J2: 0 | K2: =DetalleProy[[#This Row],[Cableado Realizado]]/DetalleProy[[#This Row],[Total Cantidades]] -> 0 | L2: 0 | M2: =DetalleProy[[#This Row],[Equipos Instalados]]/DetalleProy[[#This Row],[Total Cantidades]] -> 0
A3: RJ - CZU | B3: Sincelejo | C3: Las Marias | D3: P2 | E3: 4 | F3: 0 | G3: =SUM(E3:F3) -> 4 | H3: 0 | I3: =DetalleProy[[#This Row],[Canalización Realizada]]/DetalleProy[[#This Row],[Total Cantidades]] -> 0 | J3: 0 | K3: =DetalleProy[[#This Row],[Cableado Realizado]]/DetalleProy[[#This Row],[Total Cantidades]] -> 0 | L3: 0 | M3: =DetalleProy[[#This Row],[Equipos Instalados]]/DetalleProy[[#This Row],[Total Cantidades]] -> 0
A4: RJ - CZU | B4: Sincelejo | C4: Las Marias | D4: P3 | E4: 4 | F4: 0 | G4: =SUM(E4:F4) -> 4 | H4: 0 | I4: =DetalleProy[[#This Row],[Canalización Realizada]]/DetalleProy[[#This Row],[Total Cantidades]] -> 0 | J4: 0 | K4: =DetalleProy[[#This Row],[Cableado Realizado]]/DetalleProy[[#This Row],[Total Cantidades]] -> 0 | L4: 0 | M4: =DetalleProy[[#This Row],[Equipos Instalados]]/DetalleProy[[#This Row],[Total Cantidades]] -> 0
A5: RJ - CZU | B5: Sincelejo | C5: Las Marias | D5: P4 | E5: 5 | F5: 0 | G5: =SUM(E5:F5) -> 5 | H5: 0 | I5: =DetalleProy[[#This Row],[Canalización Realizada]]/DetalleProy[[#This Row],[Total Cantidades]] -> 0 | J5: 0 | K5: =DetalleProy[[#This Row],[Cableado Realizado]]/DetalleProy[[#This Row],[Total Cantidades]] -> 0 | L5: 0 | M5: =DetalleProy[[#This Row],[Equipos Instalados]]/DetalleProy[[#This Row],[Total Cantidades]] -> 0
A6: RJ - CZU | B6: Sincelejo | C6: Las Marias | D6: P5 | E6: 4 | F6: 0 | G6: =SUM(E6:F6) -> 4 | H6: 0 | I6: =DetalleProy[[#This Row],[Canalización Realizada]]/DetalleProy[[#This Row],[Total Cantidades]] -> 0 | J6: 0 | K6: =DetalleProy[[#This Row],[Cableado Realizado]]/DetalleProy[[#This Row],[Total Cantidades]] -> 0 | L6: 0 | M6: =DetalleProy[[#This Row],[Equipos Instalados]]/DetalleProy[[#This Row],[Total Cantidades]] -> 0
A7: RJ - CZU | B7: Corozal | C7: Palacio de Justicia | D7: P1 | E7: 10 | F7: 3 | G7: =SUM(E7:F7) -> 13 | H7: 0 | I7: =DetalleProy[[#This Row],[Canalización Realizada]]/DetalleProy[[#This Row],[Total Cantidades]] -> 0 | J7: 0 | K7: =DetalleProy[[#This Row],[Cableado Realizado]]/DetalleProy[[#This Row],[Total Cantidades]] -> 0 | L7: 0 | M7: =DetalleProy[[#This Row],[Equipos Instalados]]/DetalleProy[[#This Row],[Total Cantidades]] -> 0 | N7: Incluye parqueo
A8: RJ - CZU | B8: Corozal | C8: Palacio de Justicia | D8: P2 | E8: 5 | F8: 0 | G8: =SUM(E8:F8) -> 5 | H8: 0 | I8: =DetalleProy[[#This Row],[Canalización Realizada]]/DetalleProy[[#This Row],[Total Cantidades]] -> 0 | J8: 0 | K8: =DetalleProy[[#This Row],[Cableado Realizado]]/DetalleProy[[#This Row],[Total Cantidades]] -> 0 | L8: 0 | M8: =DetalleProy[[#This Row],[Equipos Instalados]]/DetalleProy[[#This Row],[Total Cantidades]] -> 0
A9: RJ - CZU | B9: Corozal | C9: Palacio de Justicia | D9: P3 | E9: 3 | F9: 0 | G9: =SUM(E9:F9) -> 3 | H9: 0 | I9: =DetalleProy[[#This Row],[Canalización Realizada]]/DetalleProy[[#This Row],[Total Cantidades]] -> 0 | J9: 0 | K9: =DetalleProy[[#This Row],[Cableado Realizado]]/DetalleProy[[#This Row],[Total Cantidades]] -> 0 | L9: 0 | M9: =DetalleProy[[#This Row],[Equipos Instalados]]/DetalleProy[[#This Row],[Total Cantidades]] -> 0
A10: RJ - CZU | B10: Sincelejo | C10: Torre AB | D10: P1 | E10: 12 | F10: 4 | G10: =SUM(E10:F10) -> 16 | H10: 11 | I10: =DetalleProy[[#This Row],[Canalización Realizada]]/DetalleProy[[#This Row],[Total Cantidades]] -> 0.6875 | J10: 0 | K10: =DetalleProy[[#This Row],[Cableado Realizado]]/DetalleProy[[#This Row],[Total Cantidades]] -> 0 | L10: 0 | M10: =DetalleProy[[#This Row],[Equipos Instalados]]/DetalleProy[[#This Row],[Total Cantidades]] -> 0
A11: RJ - CZU | B11: Sincelejo | C11: Torre AB | D11: P2 | E11: 6 | F11: 0 | G11: =SUM(E11:F11) -> 6 | H11: 6 | I11: =DetalleProy[[#This Row],[Canalización Realizada]]/DetalleProy[[#This Row],[Total Cantidades]] -> 1 | J11: 0 | K11: =DetalleProy[[#This Row],[Cableado Realizado]]/DetalleProy[[#This Row],[Total Cantidades]] -> 0 | L11: 0 | M11: =DetalleProy[[#This Row],[Equipos Instalados]]/DetalleProy[[#This Row],[Total Cantidades]] -> 0
A12: RJ - CZU | B12: Sincelejo | C12: Torre AB | D12: P3 | E12: 6 | F12: 0 | G12: =SUM(E12:F12) -> 6 | H12: 0 | I12: =DetalleProy[[#This Row],[Canalización Realizada]]/DetalleProy[[#This Row],[Total Cantidades]] -> 0 | J12: 0 | K12: =DetalleProy[[#This Row],[Cableado Realizado]]/DetalleProy[[#This Row],[Total Cantidades]] -> 0 | L12: 0 | M12: =DetalleProy[[#This Row],[Equipos Instalados]]/DetalleProy[[#This Row],[Total Cantidades]] -> 0
A13: RJ - CZU | B13: Sincelejo | C13: Torre AB | D13: P4 | E13: 3 | F13: 0 | G13: =SUM(E13:F13) -> 3 | H13: 3 | I13: =DetalleProy[[#This Row],[Canalización Realizada]]/DetalleProy[[#This Row],[Total Cantidades]] -> 1 | J13: 0 | K13: =DetalleProy[[#This Row],[Cableado Realizado]]/DetalleProy[[#This Row],[Total Cantidades]] -> 0 | L13: 0 | M13: =DetalleProy[[#This Row],[Equipos Instalados]]/DetalleProy[[#This Row],[Total Cantidades]] -> 0
A14: RJ - CZU | B14: Sincelejo | C14: Torre AB | D14: P5 | E14: 2 | F14: 0 | G14: =SUM(E14:F14) -> 2 | H14: 2 | I14: =DetalleProy[[#This Row],[Canalización Realizada]]/DetalleProy[[#This Row],[Total Cantidades]] -> 1 | J14: 0 | K14: =DetalleProy[[#This Row],[Cableado Realizado]]/DetalleProy[[#This Row],[Total Cantidades]] -> 0 | L14: 0 | M14: =DetalleProy[[#This Row],[Equipos Instalados]]/DetalleProy[[#This Row],[Total Cantidades]] -> 0
A15: RJ - CZU | B15: Sincelejo | C15: Torre AB | D15: P6 | E15: 2 | F15: 0 | G15: =SUM(E15:F15) -> 2 | H15: 2 | I15: =DetalleProy[[#This Row],[Canalización Realizada]]/DetalleProy[[#This Row],[Total Cantidades]] -> 1 | J15: 0 | K15: =DetalleProy[[#This Row],[Cableado Realizado]]/DetalleProy[[#This Row],[Total Cantidades]] -> 0 | L15: 0 | M15: =DetalleProy[[#This Row],[Equipos Instalados]]/DetalleProy[[#This Row],[Total Cantidades]] -> 0
A16: RJ - CZU | B16: Sincelejo | C16: Torre C | D16: P1 | E16: 11 | F16: 3 | G16: =SUM(E16:F16) -> 14 | H16: 0 | I16: =DetalleProy[[#This Row],[Canalización Realizada]]/DetalleProy[[#This Row],[Total Cantidades]] -> 0 | J16: 0 | K16: =DetalleProy[[#This Row],[Cableado Realizado]]/DetalleProy[[#This Row],[Total Cantidades]] -> 0 | L16: 0 | M16: =DetalleProy[[#This Row],[Equipos Instalados]]/DetalleProy[[#This Row],[Total Cantidades]] -> 0
A17: RJ - CZU | B17: Sincelejo | C17: Torre C | D17: P2 | E17: 4 | F17: 0 | G17: =SUM(E17:F17) -> 4 | H17: 0 | I17: =DetalleProy[[#This Row],[Canalización Realizada]]/DetalleProy[[#This Row],[Total Cantidades]] -> 0 | J17: 0 | K17: =DetalleProy[[#This Row],[Cableado Realizado]]/DetalleProy[[#This Row],[Total Cantidades]] -> 0 | L17: 0 | M17: =DetalleProy[[#This Row],[Equipos Instalados]]/DetalleProy[[#This Row],[Total Cantidades]] -> 0
A18: RJ - CZU | B18: Sincelejo | C18: Torre C | D18: P3 | E18: 4 | F18: 0 | G18: =SUM(E18:F18) -> 4 | H18: 0 | I18: =DetalleProy[[#This Row],[Canalización Realizada]]/DetalleProy[[#This Row],[Total Cantidades]] -> 0 | J18: 0 | K18: =DetalleProy[[#This Row],[Cableado Realizado]]/DetalleProy[[#This Row],[Total Cantidades]] -> 0 | L18: 0 | M18: =DetalleProy[[#This Row],[Equipos Instalados]]/DetalleProy[[#This Row],[Total Cantidades]] -> 0
A19: RJ - CZU | B19: Sincelejo | C19: Torre C | D19: P4 | E19: 7 | F19: 0 | G19: =SUM(E19:F19) -> 7 | H19: 0 | I19: =DetalleProy[[#This Row],[Canalización Realizada]]/DetalleProy[[#This Row],[Total Cantidades]] -> 0 | J19: 0 | K19: =DetalleProy[[#This Row],[Cableado Realizado]]/DetalleProy[[#This Row],[Total Cantidades]] -> 0 | L19: 0 | M19: =DetalleProy[[#This Row],[Equipos Instalados]]/DetalleProy[[#This Row],[Total Cantidades]] -> 0 | N19: Incluye sotano
A20: RJ - CZU | B20: Sincelejo | C20: Torre Gentium | D20: P1 | E20: 10 | F20: 3 | G20: =SUM(E20:F20) -> 13 | H20: 13 | I20: =DetalleProy[[#This Row],[Canalización Realizada]]/DetalleProy[[#This Row],[Total Cantidades]] -> 1 | J20: 13 | K20: =DetalleProy[[#This Row],[Cableado Realizado]]/DetalleProy[[#This Row],[Total Cantidades]] -> 1 | L20: 0 | M20: =DetalleProy[[#This Row],[Equipos Instalados]]/DetalleProy[[#This Row],[Total Cantidades]] -> 0
A21: RJ - CZU | B21: Sincelejo | C21: Torre Gentium | D21: P2 | E21: 6 | F21: 0 | G21: =SUM(E21:F21) -> 6 | H21: 6 | I21: =DetalleProy[[#This Row],[Canalización Realizada]]/DetalleProy[[#This Row],[Total Cantidades]] -> 1 | J21: 6 | K21: =DetalleProy[[#This Row],[Cableado Realizado]]/DetalleProy[[#This Row],[Total Cantidades]] -> 1 | L21: 0 | M21: =DetalleProy[[#This Row],[Equipos Instalados]]/DetalleProy[[#This Row],[Total Cantidades]] -> 0
A22: RJ - CZU | B22: Sincelejo | C22: Torre Gentium | D22: P3 | E22: 8 | F22: 0 | G22: =SUM(E22:F22) -> 8 | H22: 8 | I22: =DetalleProy[[#This Row],[Canalización Realizada]]/DetalleProy[[#This Row],[Total Cantidades]] -> 1 | J22: 8 | K22: =DetalleProy[[#This Row],[Cableado Realizado]]/DetalleProy[[#This Row],[Total Cantidades]] -> 1 | L22: 0 | M22: =DetalleProy[[#This Row],[Equipos Instalados]]/DetalleProy[[#This Row],[Total Cantidades]] -> 0
A23: RJ - CZU | B23: Sincelejo | C23: Torre Gentium | D23: P4 | E23: 5 | F23: 0 | G23: =SUM(E23:F23) -> 5 | H23: 5 | I23: =DetalleProy[[#This Row],[Canalización Realizada]]/DetalleProy[[#This Row],[Total Cantidades]] -> 1 | J23: 5 | K23: =DetalleProy[[#This Row],[Cableado Realizado]]/DetalleProy[[#This Row],[Total Cantidades]] -> 1 | L23: 0 | M23: =DetalleProy[[#This Row],[Equipos Instalados]]/DetalleProy[[#This Row],[Total Cantidades]] -> 0
A24: RJ - CZU | B24: Sincelejo | C24: Torre Gentium | D24: P5 | E24: 5 | F24: 0 | G24: =SUM(E24:F24) -> 5 | H24: 5 | I24: =DetalleProy[[#This Row],[Canalización Realizada]]/DetalleProy[[#This Row],[Total Cantidades]] -> 1 | J24: 5 | K24: =DetalleProy[[#This Row],[Cableado Realizado]]/DetalleProy[[#This Row],[Total Cantidades]] -> 1 | L24: 0 | M24: =DetalleProy[[#This Row],[Equipos Instalados]]/DetalleProy[[#This Row],[Total Cantidades]] -> 0
A25: RJ - CZU | B25: Sincelejo | C25: Torre Gentium | D25: P6 | E25: 5 | F25: 0 | G25: =SUM(E25:F25) -> 5 | H25: 5 | I25: =DetalleProy[[#This Row],[Canalización Realizada]]/DetalleProy[[#This Row],[Total Cantidades]] -> 1 | J25: 5 | K25: =DetalleProy[[#This Row],[Cableado Realizado]]/DetalleProy[[#This Row],[Total Cantidades]] -> 1 | L25: 0 | M25: =DetalleProy[[#This Row],[Equipos Instalados]]/DetalleProy[[#This Row],[Total Cantidades]] -> 0
A26: RJ - CZU | B26: Sincelejo | C26: Torre Gentium | D26: P7 | E26: 9 | F26: 0 | G26: =SUM(E26:F26) -> 9 | H26: 0 | I26: =DetalleProy[[#This Row],[Canalización Realizada]]/DetalleProy[[#This Row],[Total Cantidades]] -> 0 | J26: 0 | K26: =DetalleProy[[#This Row],[Cableado Realizado]]/DetalleProy[[#This Row],[Total Cantidades]] -> 0 | L26: 0 | M26: =DetalleProy[[#This Row],[Equipos Instalados]]/DetalleProy[[#This Row],[Total Cantidades]] -> 0 | N26: Incluye sotano
A27: RJ - CZU | B27: Morroa | C27: Morroa | D27: P1 | E27: 0 | F27: 1 | G27: =SUM(E27:F27) -> 1 | H27: 0 | I27: =DetalleProy[[#This Row],[Canalización Realizada]]/DetalleProy[[#This Row],[Total Cantidades]] -> 0 | J27: 0 | K27: =DetalleProy[[#This Row],[Cableado Realizado]]/DetalleProy[[#This Row],[Total Cantidades]] -> 0 | L27: 0 | M27: =DetalleProy[[#This Row],[Equipos Instalados]]/DetalleProy[[#This Row],[Total Cantidades]] -> 0
A28: RJ - CZU | B28: Since | C28: Since | D28: P1 | E28: 0 | F28: 1 | G28: =SUM(E28:F28) -> 1 | H28: 0 | I28: =DetalleProy[[#This Row],[Canalización Realizada]]/DetalleProy[[#This Row],[Total Cantidades]] -> 0 | J28: 0 | K28: =DetalleProy[[#This Row],[Cableado Realizado]]/DetalleProy[[#This Row],[Total Cantidades]] -> 0 | L28: 0 | M28: =DetalleProy[[#This Row],[Equipos Instalados]]/DetalleProy[[#This Row],[Total Cantidades]] -> 0
A29: RJ - CZU | B29: Chalan | C29: Chalan | D29: P1 | E29: 4 | F29: 1 | G29: =SUM(E29:F29) -> 5 | H29: 0 | I29: =DetalleProy[[#This Row],[Canalización Realizada]]/DetalleProy[[#This Row],[Total Cantidades]] -> 0 | J29: 0 | K29: =DetalleProy[[#This Row],[Cableado Realizado]]/DetalleProy[[#This Row],[Total Cantidades]] -> 0 | L29: 0 | M29: =DetalleProy[[#This Row],[Equipos Instalados]]/DetalleProy[[#This Row],[Total Cantidades]] -> 0
A30: RJ - CZU | B30: Tolú Viejo | C30: Tolú Viejo | D30: P1 | E30: 3 | F30: 1 | G30: =SUM(E30:F30) -> 4 | H30: 0 | I30: =DetalleProy[[#This Row],[Canalización Realizada]]/DetalleProy[[#This Row],[Total Cantidades]] -> 0 | J30: 0 | K30: =DetalleProy[[#This Row],[Cableado Realizado]]/DetalleProy[[#This Row],[Total Cantidades]] -> 0 | L30: 0 | M30: =DetalleProy[[#This Row],[Equipos Instalados]]/DetalleProy[[#This Row],[Total Cantidades]] -> 0
A31: RJ - CZU | B31: Sampues | C31: Sampues | D31: P1 | E31: 3 | F31: 1 | G31: =SUM(E31:F31) -> 4 | H31: 0 | I31: =DetalleProy[[#This Row],[Canalización Realizada]]/DetalleProy[[#This Row],[Total Cantidades]] -> 0 | J31: 0 | K31: =DetalleProy[[#This Row],[Cableado Realizado]]/DetalleProy[[#This Row],[Total Cantidades]] -> 0 | L31: 0 | M31: =DetalleProy[[#This Row],[Equipos Instalados]]/DetalleProy[[#This Row],[Total Cantidades]] -> 0
A32: RJ - CZU | B32: Sucre | C32: Sucre | D32: P1 | E32: 6 | F32: 1 | G32: =SUM(E32:F32) -> 7 | H32: 0 | I32: =DetalleProy[[#This Row],[Canalización Realizada]]/DetalleProy[[#This Row],[Total Cantidades]] -> 0 | J32: 0 | K32: =DetalleProy[[#This Row],[Cableado Realizado]]/DetalleProy[[#This Row],[Total Cantidades]] -> 0 | L32: 0 | M32: =DetalleProy[[#This Row],[Equipos Instalados]]/DetalleProy[[#This Row],[Total Cantidades]] -> 0
A33: RJ - CZU | B33: San Marcos | C33: San Marcos | D33: P1 | E33: 6 | F33: 1 | G33: =SUM(E33:F33) -> 7 | H33: 0 | I33: =DetalleProy[[#This Row],[Canalización Realizada]]/DetalleProy[[#This Row],[Total Cantidades]] -> 0 | J33: 0 | K33: =DetalleProy[[#This Row],[Cableado Realizado]]/DetalleProy[[#This Row],[Total Cantidades]] -> 0 | L33: 0 | M33: =DetalleProy[[#This Row],[Equipos Instalados]]/DetalleProy[[#This Row],[Total Cantidades]] -> 0
A34: RJ - CZU | B34: Majagual | C34: Majagual | D34: P1 | E34: 3 | F34: 1 | G34: =SUM(E34:F34) -> 4 | H34: 0 | I34: =DetalleProy[[#This Row],[Canalización Realizada]]/DetalleProy[[#This Row],[Total Cantidades]] -> 0 | J34: 0 | K34: =DetalleProy[[#This Row],[Cableado Realizado]]/DetalleProy[[#This Row],[Total Cantidades]] -> 0 | L34: 0 | M34: =DetalleProy[[#This Row],[Equipos Instalados]]/DetalleProy[[#This Row],[Total Cantidades]] -> 0

Sheet Estado_Equipos
A1: Proyecto | B1: Equipo | C1: Cantidad Inicial | D1: Cantidad Adicional | E1: Total Cantidades | F1: Estado | G1: Fecha Promesa | H1: Fecha Real | I1: Comentarios
A2: RJCZU | B2: CÁMARA TIPO DOMO PTZ EXTERIOR | C2: 11 | D2: 1 | E2: 12 | F2: En tránsito | G2: 46157
A3: RJCZU | B3: CÁMARA TIPO BULLET | C3: 84 | D3: 8 | E3: 92 | F3: En tránsito | G3: 46157
A4: RJCZU | B4: CÁMARA TIPO DOMO INTERIOR | C4: 55 | D4: 11 | E4: 66 | F4: En tránsito | G4: 46157
A5: RJCZU | B5: ESTACIÓN DE TRABAJO (WORKSTATION) | C5: 8 | D5: 0 | E5: 8 | F5: En tránsito | G5: 46107
A6: RJCZU | B6: MAQUINAS DE Rx | C6: 1 | D6: 0 | E6: 1 | F6: En tránsito | G6: 46157
A7: RJCZU | B7: PASILLOS MOTORIZADOS DE 1 ALA | C7: 8 | D7: 0 | E7: 8 | F7: En tránsito | G7: 46157
A8: RJCZU | B8: PASILLOS MOTORIZADOS DE 2 ALA | C8: 1 | D8: 0 | E8: 1 | F8: En tránsito | G8: 46157
A9: RJCZU | B9: LECTORA BIOMÉTRICA FACIAL | C9: 20 | D9: 0 | E9: 20 | F9: En tránsito | G9: 46157
A10: RJCZU | B10: SWITCH 24 PUERTOS L3 | C10: 2 | D10: 1 | E10: 3 | F10: Pendiente por definir
A11: RJCZU | B11: SWICTH 48 PUERTOS L3 | C11: 4 | D11: 0 | E11: 4 | F11: Pendiente por definir
A12: RJCZU | B12: UPS 3 KVA | C12: 2 | D12: 0 | E12: 2 | F12: En tránsito | G12: 46120
A13: RJCZU | B13: SISTEMA DE ALMACENAMIENTO PARA LOS CCTV | C13: 1 | D13: 1 | E13: 2 | F13: En tránsito | G13: 46157
A14: RJCZU | B14: LECTOR DE CODIGO DEBARRAS | C14: 7 | D14: 0 | E14: 7 | F14: En tránsito | G14: 46120
A15: RJCZU | B15: GABINETE TIPO 2 | C15: 1 | D15: 0 | E15: 1 | F15: En tránsito | G15: 46115
A16: RJCZU | B16: PUESTOS DE TRABAJO | C16: 2 | D16: 0 | E16: 2 | F16: En tránsito | G16: 46120
A17: RJCZU | B17: ARCOS DE DETECCION DE METALES | C17: 14 | D17: 0 | E17: 14 | F17: En tránsito | G17: 46157
A18: RJCZU | B18: PANTALLA LED | C18: 1 | D18: 0 | E18: 1 | F18: En tránsito | G18: 46157
