Workbook

Sheet ANEXO 1
A2: ANEXO 1
C3: RESULTADO DEL ANÁLISIS DE COSTOS BASADO EN OFERTAS ECONÓMICAS. (CUADRO COTIZACIONES )
C4: “PRESTAR EL SERVICIO DE MANTENIMIENTO CORRECTIVO CON SUMINISTRO DE REPUESTOS PARA ARMAS DE FUEGO TIPO PISTOLAS CALIBRE 9 MM, SUBAMETRALLADORAS CALIBRE 9 MM Y FUSILES CALIBRE 5.56 DE DIFERENTES MARCAS Y MODELOS PARA LA FISCALÍA GENERAL DE LA NACIÓN.”
A5: ÍTEM | B5: NECESIDAD | C5: UNIDAD DE MEDIDA | F5: CANTIDAD | I5: MOTOLOP LIMITADA motolopeu@hotmail.com - gerencia@motolop.com29 DE ENERO DE 2026(AT) | N5: ARMERIA ENRIQUE REY VALIDEZ DE LA OFERTA:60 DIAS ARMERIAREYRINCON@HOTMAIL.COM 10 DE FEBRERO DE 2026 TELÉFONO 6017578377-3233242053 | X5: ANALISIS DE VALORES SIN IVA | AC5: VALOR SELECCIONADO
I6: COTIZACIÓN 1 | N6: COTIZACIÓN 2 | S6: COTIZACIÓN 3
A7: PISTOLAS 9MM | I7: VALOR UNITARIO (excluido de IVA) | J7: IVA (excluido) | K7: VALOR UNITARIO (excluido de IVA) | L7: VALOR TOTAL (excluido de IVA) | N7: VALOR UNITARIO (excluido de IVA) | O7: IVA (excluido) | P7: VALOR UNITARIO (excluido de IVA) | Q7: VALOR TOTAL (excluido de IVA) | S7: VALOR UNITARIO (excluido de IVA) | T7: IVA (excluido) | U7: VALOR UNITARIO (excluido de IVA) | V7: VALOR TOTAL (excluido de IVA) | X7: COTIZACION MAS BAJA | Y7: COTIZACION MAS ALTA | Z7: PROMEDIO | AA7: MEDIA ARITMETICA BAJA | AC7: VALOR UNITARIO (excluido de IVA) | AD7: IVA (excluido) | AE7: VALOR UNITARIO (excluido de IVA) | AF7: VALOR TOTAL (excluido de IVA)
A8: 1 | B8: Mantenimiento de Pistolas (Arma semiautomáticas), en todos sus componentes: Externos: Receptor o armazón Internos: Mecanismo de alimentación, Mecanismos de cierre, Mecanismos de disparo y percusión, Mecanismo de extracción, Mecanismos de seguridad. | C8:   FASE I. DESPIECE Y DESPLAQUE DE PISTOLAS 9MM (Según especificaciones de la Ficha Técnica) | D8: Despiece general del arma | E8: UNIDAD | F8: 1 | I8: 80000 | J8: =ROUND(I8*19%,2) -> 15200 | K8: =ROUND(I8+J8,2) -> 95200 | L8: =ROUND(K8*F8,2) -> 95200 | N8: 70000 | O8: =ROUND(N8*19%,2) -> 13300 | P8: =ROUND(N8+O8,2) -> 83300 | Q8: =ROUND(P8*F8,2) -> 83300 | X8: =ROUND(MIN(I8,N8),2) -> 70000 | Y8: =ROUND(MAX(I8,N8),2) -> 80000 | Z8: =ROUND(AVERAGE(I8,N8),2) -> 75000 | AA8: =ROUND(AVERAGE(X8,Z8),2) -> 72500 | AC8: =Z8 -> 75000 | AD8: =ROUND(AC8*19%,2) -> 14250 | AE8: =ROUND(AC8+AD8,2) -> 89250 | AF8: =ROUND(AE8*F8,2) -> 89250
A9: 2 | D9: Revisión de piezas para constatar fisuras, fracturas o desgastes en el material | V9: =ROUND(SUM(V8:V8),2) -> 0
C10: VALOR TOTAL DESPIECE Y DESPLAQUE DE PISTOLAS 9MM | L10: =L8 -> 95200 | Q10: =Q8 -> 83300 | AF10: =AF8 -> 89250
A12: 1 | C12:  FASE II. REVISIÓN DE LOS MECANISMOS,CAMBIO DE REPUESTOS REQUERIDOS DE PISTOLAS 9MM (Según especificaciones de la Ficha Técnica) | D12: Desarme y arme general del arma | E12: UNIDAD | F12: 1 | I12: 710000 | J12: =ROUND(I12*19%,2) -> 134900 | K12: =ROUND(I12+J12,2) -> 844900 | L12: =ROUND(K12*F12,2) -> 844900 | N12: 750000 | O12: =ROUND(N12*19%,2) -> 142500 | P12: =ROUND(N12+O12,2) -> 892500 | Q12: =ROUND(P12*F12,2) -> 892500 | X12: =ROUND(MIN(I12,N12),2) -> 710000 | Y12: =ROUND(MAX(I12,N12),2) -> 750000 | Z12: =ROUND(AVERAGE(I12,N12),2) -> 730000 | AA12: =ROUND(AVERAGE(X12,Z12),2) -> 720000 | AC12: =Z12 -> 730000 | AD12: =ROUND(AC12*19%,2) -> 138700 | AE12: =ROUND(AC12+AD12,2) -> 868700 | AF12: =ROUND(AE12*F12,2) -> 868700
A13: 2 | D13: Cambio de sistemas de tensión del disparador, sistema de percusión y mecanismos de disparo.
A14: 3 | D14: Desplaque superficial y desoxidación de los mecanismos internos y externos del arma
A15: 4 | D15: Limpieza del ánima del cañón.
A16: 5 | D16: Limpieza y lubricación general.
A17: 6 | D17: Recubrimiento de pintura cerámica de alta resistencia y adherencia color negro a los elementos externos.
A18: 7 | D18: Recubrimiento de pintura cerámica de alta resistencia y adherencia color negro al proveedor del arma.
A19: 8 | D19: Tratamiento superficial de pavonado a los elementos y mecanismos internos del arma (piezas móviles).
A20: 9 | D20: Cambio de pasadores
A21: 10 | D21: Cambio de los resortes
A22: 11 | D22: Cambio de los tornillos y arandelas de las cachas pistolas CZ.
A23: 12 | D23: Cambio de las cachas pistolas CZ. | E23: UNIDAD | F23: 1 | I23: 100000 | J23: =ROUND(I23*19%,2) -> 19000 | K23: =ROUND(I23+J23,2) -> 119000 | L23: =ROUND(K23*F23,2) -> 119000 | N23: 160000 | O23: =ROUND(N23*19%,2) -> 30400 | P23: =ROUND(N23+O23,2) -> 190400 | Q23: =ROUND(P23*F23,2) -> 190400 | X23: =ROUND(MIN(I23,N23),2) -> 100000 | Y23: =ROUND(MAX(I23,N23),2) -> 160000 | Z23: =ROUND(AVERAGE(I23,N23),2) -> 130000 | AA23: =ROUND(AVERAGE(X23,Z23),2) -> 115000 | AC23: =Z23 -> 130000 | AD23: =ROUND(AC23*19%,2) -> 24700 | AE23: =ROUND(AC23+AD23,2) -> 154700 | AF23: =ROUND(AE23*F23,2) -> 154700
A24: 13 | D24: Cambio Varilla guía de polímero por varilla guía metálica para las pistolas CZ.
A25: 14 | D25: Reparación del punto y alza de Mira
C26: VALOR TOTAL REVISIÓN DE LOS MECANISMOS,CAMBIO DE REPUESTOS REQUERIDOS DE PISTOLAS 9MM | L26: =L12+L23 -> 963900 | Q26: =Q12+Q23 -> 1082900 | AF26: =AF12+AF23 -> 1023400
A28: 1 | C28: Cambio de repuestos de acuerdo al tipo de Pistola 9MM: (Según especificaciones de la Ficha Técnica) | D28: Resorte del fiador | E28: UNIDAD | F28: 1 | I28: 5500 | J28: =ROUND(I28*19%,2) -> 1045 | K28: =ROUND(I28+J28,2) -> 6545 | L28: =ROUND(K28*F28,2) -> 6545 | N28: 10000 | O28: =ROUND(N28*19%,2) -> 1900 | P28: =ROUND(N28+O28,2) -> 11900 | Q28: =ROUND(P28*F28,2) -> 11900 | X28: =ROUND(MIN(I28,N28),2) -> 5500 | Y28: =ROUND(MAX(I28,N28),2) -> 10000 | Z28: =ROUND(AVERAGE(I28,N28),2) -> 7750 | AA28: =ROUND(AVERAGE(X28,Z28),2) -> 6625 | AC28: =Z28 -> 7750 | AD28: =ROUND(AC28*19%,2) -> 1472.5 | AE28: =ROUND(AC28+AD28,2) -> 9222.5 | AF28: =ROUND(AE28*F28,2) -> 9222.5
A29: 2 | D29: Resorte recuperador. | E29: UNIDAD | F29: 1 | I29: 48200 | J29: =ROUND(I29*19%,2) -> 9158 | K29: =ROUND(I29+J29,2) -> 57358 | L29: =ROUND(K29*F29,2) -> 57358 | N29: 60000 | O29: =ROUND(N29*19%,2) -> 11400 | P29: =ROUND(N29+O29,2) -> 71400 | Q29: =ROUND(P29*F29,2) -> 71400 | X29: =ROUND(MIN(I29,N29),2) -> 48200 | Y29: =ROUND(MAX(I29,N29),2) -> 60000 | Z29: =ROUND(AVERAGE(I29,N29),2) -> 54100 | AA29: =ROUND(AVERAGE(X29,Z29),2) -> 51150 | AC29: =Z29 -> 54100 | AD29: =ROUND(AC29*19%,2) -> 10279 | AE29: =ROUND(AC29+AD29,2) -> 64379 | AF29: =ROUND(AE29*F29,2) -> 64379
A30: 3 | D30: Resorte del disparador. | E30: UNIDAD | F30: 1 | I30: 5500 | J30: =ROUND(I30*19%,2) -> 1045 | K30: =ROUND(I30+J30,2) -> 6545 | L30: =ROUND(K30*F30,2) -> 6545 | N30: 10000 | O30: =ROUND(N30*19%,2) -> 1900 | P30: =ROUND(N30+O30,2) -> 11900 | Q30: =ROUND(P30*F30,2) -> 11900 | X30: =ROUND(MIN(I30,N30),2) -> 5500 | Y30: =ROUND(MAX(I30,N30),2) -> 10000 | Z30: =ROUND(AVERAGE(I30,N30),2) -> 7750 | AA30: =ROUND(AVERAGE(X30,Z30),2) -> 6625 | AC30: =Z30 -> 7750 | AD30: =ROUND(AC30*19%,2) -> 1472.5 | AE30: =ROUND(AC30+AD30,2) -> 9222.5 | AF30: =ROUND(AE30*F30,2) -> 9222.5
A31: 4 | D31: Resorte del percutor. | E31: UNIDAD | F31: 1 | I31: 5000 | J31: =ROUND(I31*19%,2) -> 950 | K31: =ROUND(I31+J31,2) -> 5950 | L31: =ROUND(K31*F31,2) -> 5950 | N31: 10000 | O31: =ROUND(N31*19%,2) -> 1900 | P31: =ROUND(N31+O31,2) -> 11900 | Q31: =ROUND(P31*F31,2) -> 11900 | X31: =ROUND(MIN(I31,N31),2) -> 5000 | Y31: =ROUND(MAX(I31,N31),2) -> 10000 | Z31: =ROUND(AVERAGE(I31,N31),2) -> 7500 | AA31: =ROUND(AVERAGE(X31,Z31),2) -> 6250 | AC31: =Z31 -> 7500 | AD31: =ROUND(AC31*19%,2) -> 1425 | AE31: =ROUND(AC31+AD31,2) -> 8925 | AF31: =ROUND(AE31*F31,2) -> 8925
A32: 5 | D32: Resorte de los pestillos del seguro de la corredera | E32: UNIDAD | F32: 1 | I32: 4000 | J32: =ROUND(I32*19%,2) -> 760 | K32: =ROUND(I32+J32,2) -> 4760 | L32: =ROUND(K32*F32,2) -> 4760 | N32: 10000 | O32: =ROUND(N32*19%,2) -> 1900 | P32: =ROUND(N32+O32,2) -> 11900 | Q32: =ROUND(P32*F32,2) -> 11900 | X32: =ROUND(MIN(I32,N32),2) -> 4000 | Y32: =ROUND(MAX(I32,N32),2) -> 10000 | Z32: =ROUND(AVERAGE(I32,N32),2) -> 7000 | AA32: =ROUND(AVERAGE(X32,Z32),2) -> 5500 | AC32: =Z32 -> 7000 | AD32: =ROUND(AC32*19%,2) -> 1330 | AE32: =ROUND(AC32+AD32,2) -> 8330 | AF32: =ROUND(AE32*F32,2) -> 8330
A33: 6 | D33: Resorte de la barra del martillo. | E33: UNIDAD | F33: 1 | I33: 4000 | J33: =ROUND(I33*19%,2) -> 760 | K33: =ROUND(I33+J33,2) -> 4760 | L33: =ROUND(K33*F33,2) -> 4760 | N33: 15000 | O33: =ROUND(N33*19%,2) -> 2850 | P33: =ROUND(N33+O33,2) -> 17850 | Q33: =ROUND(P33*F33,2) -> 17850 | X33: =ROUND(MIN(I33,N33),2) -> 4000 | Y33: =ROUND(MAX(I33,N33),2) -> 15000 | Z33: =ROUND(AVERAGE(I33,N33),2) -> 9500 | AA33: =ROUND(AVERAGE(X33,Z33),2) -> 6750 | AC33: =Z33 -> 9500 | AD33: =ROUND(AC33*19%,2) -> 1805 | AE33: =ROUND(AC33+AD33,2) -> 11305 | AF33: =ROUND(AE33*F33,2) -> 11305
A34: 7 | D34: Resorte del retén de la corredera. | E34: UNIDAD | F34: 1 | I34: 4000 | J34: =ROUND(I34*19%,2) -> 760 | K34: =ROUND(I34+J34,2) -> 4760 | L34: =ROUND(K34*F34,2) -> 4760 | N34: 10000 | O34: =ROUND(N34*19%,2) -> 1900 | P34: =ROUND(N34+O34,2) -> 11900 | Q34: =ROUND(P34*F34,2) -> 11900 | X34: =ROUND(MIN(I34,N34),2) -> 4000 | Y34: =ROUND(MAX(I34,N34),2) -> 10000 | Z34: =ROUND(AVERAGE(I34,N34),2) -> 7000 | AA34: =ROUND(AVERAGE(X34,Z34),2) -> 5500 | AC34: =Z34 -> 7000 | AD34: =ROUND(AC34*19%,2) -> 1330 | AE34: =ROUND(AC34+AD34,2) -> 8330 | AF34: =ROUND(AE34*F34,2) -> 8330
A35: 8 | D35: Resorte del seguro bloqueador del percutor. | E35: UNIDAD | F35: 1 | I35: 3200 | J35: =ROUND(I35*19%,2) -> 608 | K35: =ROUND(I35+J35,2) -> 3808 | L35: =ROUND(K35*F35,2) -> 3808 | N35: 10000 | O35: =ROUND(N35*19%,2) -> 1900 | P35: =ROUND(N35+O35,2) -> 11900 | Q35: =ROUND(P35*F35,2) -> 11900 | X35: =ROUND(MIN(I35,N35),2) -> 3200 | Y35: =ROUND(MAX(I35,N35),2) -> 10000 | Z35: =ROUND(AVERAGE(I35,N35),2) -> 6600 | AA35: =ROUND(AVERAGE(X35,Z35),2) -> 4900 | AC35: =Z35 -> 6600 | AD35: =ROUND(AC35*19%,2) -> 1254 | AE35: =ROUND(AC35+AD35,2) -> 7854 | AF35: =ROUND(AE35*F35,2) -> 7854
A36: 9 | D36: Resorte barra del disparador (extensor). | E36: UNIDAD | F36: 1 | I36: 4100 | J36: =ROUND(I36*19%,2) -> 779 | K36: =ROUND(I36+J36,2) -> 4879 | L36: =ROUND(K36*F36,2) -> 4879 | N36: 10000 | O36: =ROUND(N36*19%,2) -> 1900 | P36: =ROUND(N36+O36,2) -> 11900 | Q36: =ROUND(P36*F36,2) -> 11900 | X36: =ROUND(MIN(I36,N36),2) -> 4100 | Y36: =ROUND(MAX(I36,N36),2) -> 10000 | Z36: =ROUND(AVERAGE(I36,N36),2) -> 7050 | AA36: =ROUND(AVERAGE(X36,Z36),2) -> 5575 | AC36: =Z36 -> 7050 | AD36: =ROUND(AC36*19%,2) -> 1339.5 | AE36: =ROUND(AC36+AD36,2) -> 8389.5 | AF36: =ROUND(AE36*F36,2) -> 8389.5
A37: 10 | D37: Resorte palanca de desarme. | E37: UNIDAD | F37: 1 | I37: 2800 | J37: =ROUND(I37*19%,2) -> 532 | K37: =ROUND(I37+J37,2) -> 3332 | L37: =ROUND(K37*F37,2) -> 3332 | N37: 10000 | O37: =ROUND(N37*19%,2) -> 1900 | P37: =ROUND(N37+O37,2) -> 11900 | Q37: =ROUND(P37*F37,2) -> 11900 | X37: =ROUND(MIN(I37,N37),2) -> 2800 | Y37: =ROUND(MAX(I37,N37),2) -> 10000 | Z37: =ROUND(AVERAGE(I37,N37),2) -> 6400 | AA37: =ROUND(AVERAGE(X37,Z37),2) -> 4600 | AC37: =Z37 -> 6400 | AD37: =ROUND(AC37*19%,2) -> 1216 | AE37: =ROUND(AC37+AD37,2) -> 7616 | AF37: =ROUND(AE37*F37,2) -> 7616
A38: 11 | D38: Resorte de uña extractora | E38: UNIDAD | F38: 1 | I38: 2800 | J38: =ROUND(I38*19%,2) -> 532 | K38: =ROUND(I38+J38,2) -> 3332 | L38: =ROUND(K38*F38,2) -> 3332 | N38: 10000 | O38: =ROUND(N38*19%,2) -> 1900 | P38: =ROUND(N38+O38,2) -> 11900 | Q38: =ROUND(P38*F38,2) -> 11900 | X38: =ROUND(MIN(I38,N38),2) -> 2800 | Y38: =ROUND(MAX(I38,N38),2) -> 10000 | Z38: =ROUND(AVERAGE(I38,N38),2) -> 6400 | AA38: =ROUND(AVERAGE(X38,Z38),2) -> 4600 | AC38: =Z38 -> 6400 | AD38: =ROUND(AC38*19%,2) -> 1216 | AE38: =ROUND(AC38+AD38,2) -> 7616 | AF38: =ROUND(AE38*F38,2) -> 7616
A39: 12 | D39: Cambio sistemas de tensión del disparador, sistema de percusión y mecanismos de disparo | E39: UNIDAD | F39: 1 | I39: 52800 | J39: =ROUND(I39*19%,2) -> 10032 | K39: =ROUND(I39+J39,2) -> 62832 | L39: =ROUND(K39*F39,2) -> 62832 | N39: 80000 | O39: =ROUND(N39*19%,2) -> 15200 | P39: =ROUND(N39+O39,2) -> 95200 | Q39: =ROUND(P39*F39,2) -> 95200 | X39: =ROUND(MIN(I39,N39),2) -> 52800 | Y39: =ROUND(MAX(I39,N39),2) -> 80000 | Z39: =ROUND(AVERAGE(I39,N39),2) -> 66400 | AA39: =ROUND(AVERAGE(X39,Z39),2) -> 59600 | AC39: =Z39 -> 66400 | AD39: =ROUND(AC39*19%,2) -> 12616 | AE39: =ROUND(AC39+AD39,2) -> 79016 | AF39: =ROUND(AE39*F39,2) -> 79016
A40: 13 | D40: Cambio de pasadores. | E40: UNIDAD | F40: 1 | I40: 66000 | J40: =ROUND(I40*19%,2) -> 12540 | K40: =ROUND(I40+J40,2) -> 78540 | L40: =ROUND(K40*F40,2) -> 78540 | N40: 75000 | O40: =ROUND(N40*19%,2) -> 14250 | P40: =ROUND(N40+O40,2) -> 89250 | Q40: =ROUND(P40*F40,2) -> 89250 | X40: =ROUND(MIN(I40,N40),2) -> 66000 | Y40: =ROUND(MAX(I40,N40),2) -> 75000 | Z40: =ROUND(AVERAGE(I40,N40),2) -> 70500 | AA40: =ROUND(AVERAGE(X40,Z40),2) -> 68250 | AC40: =Z40 -> 70500 | AD40: =ROUND(AC40*19%,2) -> 13395 | AE40: =ROUND(AC40+AD40,2) -> 83895 | AF40: =ROUND(AE40*F40,2) -> 83895
... A45: 18 | D45: Reparación del punto y alza de Mira | E45: UNIDAD | F45: 1 | I45: 63100 | J45: =ROUND(I45*19%,2) -> 11989 | K45: =ROUND(I45+J45,2) -> 75089 | L45: =ROUND(K45*F45,2) -> 75089 | N45: 90000 | O45: =ROUND(N45*19%,2) -> 17100 | P45: =ROUND(N45+O45,2) -> 107100 | Q45: =ROUND(P45*F45,2) -> 107100 | X45: =ROUND(MIN(I45,N45),2) -> 63100 | Y45: =ROUND(MAX(I45,N45),2) -> 90000 | Z45: =ROUND(AVERAGE(I45,N45),2) -> 76550 | AA45: =ROUND(AVERAGE(X45,Z45),2) -> 69825 | AC45: =Z45 -> 76550 | AD45: =ROUND(AC45*19%,2) -> 14544.5 | AE45: =ROUND(AC45+AD45,2) -> 91094.5 | AF45: =ROUND(AE45*F45,2) -> 91094.5
C46: VALOR TOTAL CAMBIO DE REPUESTOS de acuerdo al tipo de Pistola 9MM | L46: =SUM(L28:L45) -> 530264 | Q46: =SUM(Q28:Q45) -> 773500 | AF46: =SUM(AF28:AF45) -> 651882
J47: TOTAL MANTENIMIENTO Y REPUESTOS Pistola 9MM | L47: =L10+L26+L46 -> 1589364 | O47: TOTAL MANTENIMIENTO Y REPUESTOS Pistola 9MM | Q47: =Q10+Q26+Q46 -> 1939700 | AD47: TOTAL MANTENIMIENTO Y REPUESTOS Pistola 9MM | AF47: =AF10+AF26+AF46 -> 1764532
...

Sheet ANEXO 4- PISTOLAS 
A1: FORMATO OFERTA ECONOMICA 2026
C2: "MANTENIMIENTO CORRECTIVO CON SUMINISTRO DE REPUESTOS PARA ARMAS DE FUEGO TIPO PISTOLASCALIBRE 9MM, SUBAMETRALLADORAS CALIBRE 9MM Y FUSILES CALIBRE 5.56 DE DIFERENTES MARCAS Y MODELOS PARA LA FISCALÍA GENERAL DE LA NACIÓN”
A6: MANTENIMIENTO CORRECTIVO CON SUMINISTRO DE REPUESTOS PARA ARMAS DE FUEGO TIPO PISTOLAS, CALIBRE 9 MM, DE DIFERENTES MARCAS Y MODELOS PARA LA FISCALIA GENERAL DE LA NACION. (SEGÚN ESPECIFICACIONES TÉCNICAS - FICHA TECNICA No. 1 (PISTOLAS CALIBRE 9MM )
I8: PRECIO FINAL SELECCIONADO
A10: ITEM | B10: REQUISITOS GENERALES | C10: REQUISITOS ESPECÍFICOS | D10: ACTIVIDAD | E10: UNIDAD DE MEDIDA | F10: CANTIDAD | I10: VALOR UNITARIO | J10: IVA | K10: VALOR UNITARIO INCLUIDO IVA
A12: 1 | B12: Mantenimiento de Pistolas (Arma semiautomáticas), en todos sus componentes: Externos: Receptor o armazón Internos: Mecanismo de alimentación, Mecanismos de cierre, Mecanismos de disparo y percusión, Mecanismo de extracción, Mecanismos de seguridad. | C12:   FASE I. DESPIECE Y DESPLAQUE DE PISTOLAS 9MM (Según especificaciones de la Ficha Técnica) | D12: Despiece general del arma | E12: UNIDAD | F12: 1 | J12: =ROUND(I12*19%,2) -> 0 | K12: =ROUND(I12+J12,2) -> 0
A13: 2 | D13: Revisión de piezas para constatar fisuras, fracturas o desgastes en el material
C14: VALOR TOTAL DESPIECE Y DESPLAQUE DE PISTOLAS 9MM | K14: =ROUND(SUM(K12),2) -> 0
A16: 1 | C16:  FASE II. REVISIÓN DE LOS MECANISMOS,CAMBIO DE REPUESTOS REQUERIDOS DE PISTOLAS 9MM (Según especificaciones de la Ficha Técnica) | D16: Desarme y arme general del arma | E16: UNIDAD | F16: 1 | J16: =ROUND(I16*19%,2) -> 0 | K16: =ROUND(I16+J16,2) -> 0
A17: 2 | D17: Cambio de sistemas de tensión del disparador, sistema de percusión y mecanismos de disparo.
A18: 3 | D18: Desplaque superficial y desoxidación de los mecanismos internos y externos del arma
A19: 4 | D19: Limpieza del ánima del cañón.
A20: 5 | D20: Limpieza y lubricación general.
A21: 6 | D21: Recubrimiento de pintura cerámica de alta resistencia y adherencia color negro a los elementos externos.
A22: 7 | D22: Recubrimiento de pintura cerámica de alta resistencia y adherencia color negro al proveedor del arma.
A23: 8 | D23: Tratamiento superficial de pavonado a los elementos y mecanismos internos del arma (piezas móviles).
A24: 9 | D24: Cambio de pasadores
A25: 10 | D25: Cambio de los resortes
A26: 11 | D26: Cambio de los tornillos y arandelas de las cachas pistolas CZ.
A27: 12 | D27: Cambio de las cachas pistolas CZ. | E27: UNIDAD | F27: 1 | J27: =ROUND(I27*19%,2) -> 0 | K27: =ROUND(I27+J27,2) -> 0
A28: 13 | D28: Cambio Varilla guía de polímero por varilla guía metálica para las pistolas CZ.
A29: 14 | D29: Reparación del punto y alza de Mira
C30: VALOR TOTAL REVISIÓN DE LOS MECANISMOS,CAMBIO DE REPUESTOS REQUERIDOS DE PISTOLAS 9MM | K30: =ROUND(SUM(K16:K29),2) -> 0
A32: 1 | C32: Cambio de repuestos de acuerdo al tipo de Pistola 9MM: (Según especificaciones de la Ficha Técnica) | D32: Resorte del fiador | E32: UNIDAD | F32: 1 | J32: =ROUND(I32*19%,2) -> 0 | K32: =ROUND(I32+J32,2) -> 0
A33: 2 | D33: Resorte recuperador. | E33: UNIDAD | F33: 1 | J33: =ROUND(I33*19%,2) -> 0 | K33: =ROUND(I33+J33,2) -> 0
A34: 3 | D34: Resorte del disparador. | E34: UNIDAD | F34: 1 | J34: =ROUND(I34*19%,2) -> 0 | K34: =ROUND(I34+J34,2) -> 0
A35: 4 | D35: Resorte del percutor. | E35: UNIDAD | F35: 1 | J35: =ROUND(I35*19%,2) -> 0 | K35: =ROUND(I35+J35,2) -> 0
A36: 5 | D36: Resorte de los pestillos del seguro de la corredera | E36: UNIDAD | F36: 1 | J36: =ROUND(I36*19%,2) -> 0 | K36: =ROUND(I36+J36,2) -> 0
A37: 6 | D37: Resorte de la barra del martillo. | E37: UNIDAD | F37: 1 | J37: =ROUND(I37*19%,2) -> 0 | K37: =ROUND(I37+J37,2) -> 0
A38: 7 | D38: Resorte del retén de la corredera. | E38: UNIDAD | F38: 1 | J38: =ROUND(I38*19%,2) -> 0 | K38: =ROUND(I38+J38,2) -> 0
A39: 8 | D39: Resorte del seguro bloqueador del percutor. | E39: UNIDAD | F39: 1 | J39: =ROUND(I39*19%,2) -> 0 | K39: =ROUND(I39+J39,2) -> 0
A40: 9 | D40: Resorte barra del disparador (extensor). | E40: UNIDAD | F40: 1 | J40: =ROUND(I40*19%,2) -> 0 | K40: =ROUND(I40+J40,2) -> 0
A41: 10 | D41: Resorte palanca de desarme. | E41: UNIDAD | F41: 1 | J41: =ROUND(I41*19%,2) -> 0 | K41: =ROUND(I41+J41,2) -> 0
A42: 11 | D42: Resorte de uña extractora | E42: UNIDAD | F42: 1 | J42: =ROUND(I42*19%,2) -> 0 | K42: =ROUND(I42+J42,2) -> 0
A43: 12 | D43: Cambio sistemas de tensión del disparador, sistema de percusión y mecanismos de disparo | E43: UNIDAD | F43: 1 | J43: =ROUND(I43*19%,2) -> 0 | K43: =ROUND(I43+J43,2) -> 0
A44: 13 | D44: Cambio de pasadores. | E44: UNIDAD | F44: 1 | J44: =ROUND(I44*19%,2) -> 0 | K44: =ROUND(I44+J44,2) -> 0
... A49: 18 | D49: Reparación del punto y alza de Mira | E49: UNIDAD | F49: 1 | J49: =ROUND(I49*19%,2) -> 0 | K49: =ROUND(I49+J49,2) -> 0
C50: VALOR TOTAL CAMBIO DE REPUESTOS de acuerdo al tipo de Pistola 9MM | K50: =ROUND(SUM(K36:K49),2) -> 0
A52: TOTAL PISTOLAS CALIBRE 9MM | K52: =ROUND(K14+K30+K50,2) -> 0
B57: NOTAS:
...

Sheet ANEXO 4 - SUBAMETRALLADORAS 
B2: FORMATO OFERTA ECONOMICA 2026
D3: “MANTENIMIENTO CORRECTIVO CON SUMINISTRO DE REPUESTOS PARA ARMAS DE FUEGO TIPO PISTOLASCALIBRE 9MM, SUBAMETRALLADORAS CALIBRE 9MM Y FUSILES CALIBRE 5.56 DE DIFERENTES MARCAS Y MODELOS PARA LA FISCALÍA GENERAL DE LA NACIÓN”
B6: MANTENIMIENTO CORRECTIVO CON SUMINISTRO DE REPUESTOS PARA ARMAS DE FUEGO TIPO SUB AMETRALLADORAS CALIBRE 9 MM, DE DIFERENTES MARCAS Y MODELOS PARA LA FISCALIA GENERAL DE LA NACION. (SEGÚN ESPECIFICACIONES TÉCNICAS - FICHA TECNICA No. 2 (SUBAMETRALLADORAS CALIBRE 9MM)
J9: PRECIO FINAL SELECCIONADO
B11: ITEM | C11: REQUISITOS GENERALES | D11: REQUISITOS ESPECÍFICOS | E11: ACTIVIDAD | F11: UNIDAD DE MEDIDA | G11: CANTIDAD | J11: VALOR UNITARIO | K11: IVA | L11: VALOR UNITARIO INCLUIDO IVA
B13: 1 | C13: Mantenimiento de subametralladora (Arma automática y semiautomática), en todos sus componentes: Externos: Cañón, Receptor o armazón Internos: Mecanismo de alimentación, Mecanismos de cierre, Mecanismos de disparo y persecución, Mecanismo de extracción, Mecanismos de seguridad. | D13:  FASE I.  FASE I. DESPIECE Y DESPLAQUE DE SUB-AMETRALLADORAS CALIBRE 9MM (según especificaciones Ficha Técnica) | E13: Despiece general del arma | F13: UNIDAD | G13: 1 | K13: =ROUND(J13*19%,2) -> 0 | L13: =ROUND(J13+K13,2) -> 0
B14: 2 | E14: Revisión de piezas para constatar fracturas en material.
D15: VALOR TOTAL DESPIECE Y DESPLAQUE DE SUB-AMETRALLADORAS CALIBRE 9MM | L15: =SUM(L13) -> 0
B17: 1 | D17:  FASE II. REVISIÓN DE LOS MECANISMOS Y CAMBIO DE REPUESTOS REQUERIDOS. DE SUBAMETRALLADORAS CALIBRE 9MM (según especificaciones Ficha Técnica) | E17: Desarme y arme general del arma. | F17: UNIDAD | G17: 1 | K17: =ROUND(J17*19%,2) -> 0 | L17: =ROUND(J17+K17,2) -> 0
B18: 2 | E18: Revisión y cambio de sistemas de tensión del disparador, sistema de percusión y mecanismos de disparo.
B19: 3 | E19: Desplaque superficial y desoxidación de los mecanismos internos y externos del arma.
B20: 4 | E20: Limpieza del ánima del cañón.
B21: 5 | E21: Limpieza y lubricación general.
B22: 6 | E22: Aplicar revestimiento pintura cerámica de alta resistencia y adherencia color negro a los mecanismos externos.
B23: 7 | E23: Recubrimiento de pintura cerámica de alta resistencia y adherencia al proveedor del arma y reparación de los labios del proveedor.
B24: 8 | E24: Tratamiento superficial de pavonado a los elementos y mecanismos internos del arma (piezas móviles).
B25: 9 | E25: Cambio de los resortes
B26: 10 | E26: Cambio de los tornillos y arandelas de las cachas
B27: 11 | E27: Cambio de los tornillos de la cubierta de la empuñadura.
B28: 12 | E28: Reparación del tambor del alza de mira (subametralladora MP 5). | K28: =ROUND(J28*19%,2) -> 0 | L28: =ROUND(J28+K28,2) -> 0
B29: 13 | E29: Cambio del punto de mira y del alza de mira (subametralladora MP 5).
B30: 14 | E30: Cambio del arco protector del poste de mira (subametralladora MP 5)
B31: 15 | E31: Cambio del guardamano de polímero por guardamano en aluminio con riel picatinny y empuñadura vertical en aluminio. (subametralladora MP 5)
B32: 16 | E32: Cambio de los anillos en teflón de la varilla guía y resorte recuperador (subametralladora MP5).
B33: 17 | E33: Reparación de las palancas de cargue y polímero (subametralladora MP5).
B34: 18 | E34: Reparación de proveedores subametralladora MP5
D35: VALOR TOTAL REVISIÓN DE LOS MECANISMOS Y CAMBIO DE REPUESTOS REQUERIDOS. DE SUBAMETRALLADORAS CALIBRE 9MM | L35: =ROUND(SUM(L17:L34),2) -> 0
B37: 1 | D37: Suministro y cambio de los repuestos de acuerdo al tipo de SubAmetralladora (según especificaciones Ficha Técnica) | E37: Resorte del fiador. | F37: UNIDAD | G37: 1 | K37: =ROUND(J37*19%,2) -> 0 | L37: =ROUND(J37+K37,2) -> 0
B38: 2 | E38: Resorte recuperador. | F38: UNIDAD | G38: 1 | K38: =ROUND(J38*19%,2) -> 0 | L38: =ROUND(J38+K38,2) -> 0
B39: 3 | E39: Resorte del disparador. | F39: UNIDAD | G39: 1 | K39: =ROUND(J39*19%,2) -> 0 | L39: =ROUND(J39+K39,2) -> 0
B40: 4 | E40: Resorte del percutor. | F40: UNIDAD | G40: 1 | K40: =ROUND(J40*19%,2) -> 0 | L40: =ROUND(J40+K40,2) -> 0
B41: 5 | E41: Resorte del extractor. | F41: UNIDAD | G41: 1 | K41: =ROUND(J41*19%,2) -> 0 | L41: =ROUND(J41+K41,2) -> 0
B42: 6 | E42: Resorte de la culata plegable. | F42: UNIDAD | G42: 1 | K42: =ROUND(J42*19%,2) -> 0 | L42: =ROUND(J42+K42,2) -> 0
B43: 7 | E43: Resorte del Culatín de la culata plegable. | F43: UNIDAD | G43: 1 | K43: =ROUND(J43*19%,2) -> 0 | L43: =ROUND(J43+K43,2) -> 0
B44: 8 | E44: Resorte del retén del cargador. | F44: UNIDAD | G44: 1 | K44: =ROUND(J44*19%,2) -> 0 | L44: =ROUND(J44+K44,2) -> 0
B45: 9 | E45: Resorte de la empuñadura de seguridad automática. | F45: UNIDAD | G45: 1 | K45: =ROUND(J45*19%,2) -> 0 | L45: =ROUND(J45+K45,2) -> 0
B46: 10 | E46: Resorte de seguridad del disparador. | F46: UNIDAD | G46: 1 | K46: =ROUND(J46*19%,2) -> 0 | L46: =ROUND(J46+K46,2) -> 0
B47: 11 | E47: Resorte de trinquete de la tuerca delantera | F47: UNIDAD | G47: 1 | K47: =ROUND(J47*19%,2) -> 0 | L47: =ROUND(J47+K47,2) -> 0
B48: 12 | E48: Resorte plano del cerrojo. | F48: UNIDAD | G48: 1 | K48: =ROUND(J48*19%,2) -> 0 | L48: =ROUND(J48+K48,2) -> 0
B49: 13 | E49: Resorte de la base de la mira. | F49: UNIDAD | G49: 1 | K49: =ROUND(J49*19%,2) -> 0 | L49: =ROUND(J49+K49,2) -> 0
...

Sheet ANEXO 4- FUSILES  
A1: FORMATO OFERTA ECONOMICA 2026
D2: “MANTENIMIENTO CORRECTIVO CON SUMINISTRO DE REPUESTOS PARA ARMAS DE FUEGO TIPO PISTOLASCALIBRE 9MM, SUBAMETRALLADORAS CALIBRE 9MM Y FUSILES CALIBRE 5.56 DE DIFERENTES MARCAS Y MODELOS PARA LA FISCALÍA GENERAL DE LA NACIÓN”
A6: MANTENIMIENTO CORRECTIVO CON SUMINISTRO DE REPUESTOS PARA PARA ARMAS DE FUEGO TIPO FUSILES CALIBRE 5.56 DE DIFERENTES MARCAS Y MODELOS PARA LA FISCALIA GENERAL DE LA NACION SEGÚN ESPECIFICACIONES TÉCNICAS -FICHA TECNICA No. 3 (FUSILES CALIBRE 5.56)
I8: PRECIO FINAL SELECCIONADO
A9: ITEM | B9: REQUISITOS GENERALES | C9: REQUISITOS ESPECÍFICOS | D9: ACTIVIDAD | E9: UNIDAD DE MEDIDA | F9: CANTIDAD
I10: VALOR UNITARIO | J10: IVA | K10: VALOR UNITARIO INCLUIDO IVA
A12: 1 | B12: Mantenimiento de Fusil (Arma automática y armas automáticas), en todos sus componentes: Externos: Cañón, Receptor o armazón Internos: Mecanismo de alimentación, Mecanismos de cierre, Mecanismos de disparo y persecución, Mecanismo de extracción, Mecanismos de seguridad. | C12:  FASE I. DESPIECE Y DESPLAQUE DE FUSILES 5.56 (Según especificaciones de la Ficha Técnica) | D12: Despiece general del arma | E12: UNIDAD | F12: 1 | J12: =ROUND(I12*19%,2) -> 0 | K12: =ROUND(I12+J12,2) -> 0
A13: 2 | D13: Revisión de piezas para constatar fracturas y fisuras en material
C14: VALOR TOTAL DESPIECE Y DESPLAQUE DE FUSILES 5.56 | K14: =ROUND(SUM(K12),2) -> 0
A16: 1 | C16:  FASE II. REVISIÓN DE LOS MECANISMOS Y CAMBIO DE REPUESTOS REQUERIDOS DE FUSILES 5.56 (Según especificaciones de la Ficha Técnica) | D16: Desarme y arme general del arma | E16: UNIDAD | F16: 1 | J16: =ROUND(I16*19%,2) -> 0 | K16: =ROUND(I16+J16,2) -> 0
A17: 2 | D17: Cambio de sistemas de tensión del disparador, sistema de percusión y mecanismos de disparo.
A18: 3 | D18: Limpieza del ánima del cañón y tubo de gases
A19: 4 | D19: Limpieza y lubricación general.
A20: 5 | D20: Desplaque superficial y desoxidación de los mecanismos internos y externos del arma.
A21: 6 | D21: Recubrimiento de pintura cerámica de alta resistencia y adherencia color Negro a los elementos externos del arma.
A22: 7 | D22: Recubrimiento de pintura cerámica de alta resistencia y adherencia color negro al proveedor del arma.
A23: 8 | D23: Tratamiento superficial de pavonado a los elementos y mecanismos internos del arma (piezas móviles).
A24: 9 | D24: Cambio de pasadores en mal estado.
A25: 10 | D25: Cambio de muelles (resortes).
A26: 11 | D26: Reparación del punto y alza de Mira o cambio si presenta deformación
C27: VALOR TOTAL REVISIÓN DE LOS MECANISMOS Y CAMBIO DE REPUESTOS REQUERIDOS DE FUSILES 5.56 | K27: =ROUND(SUM(K16:K26),2) -> 0
A29: 1 | C29: CAMBIO DE REPUESTOS de acuerdo al tipo de Fusil (Según especificaciones de la Ficha Técnica) | D29: Resorte recuperador. | E29: UNIDAD | F29: 1 | J29: =ROUND(I29*19%,2) -> 0 | K29: =ROUND(I29+J29,2) -> 0
A30: 2 | D30: Resorte del pestillo del seguro del bloqueador | E30: UNIDAD | F30: 1 | J30: =ROUND(I30*19%,2) -> 0 | K30: =ROUND(I30+J30,2) -> 0
A31: 3 | D31: Resorte del des conector. | E31: UNIDAD | F31: 1 | J31: =ROUND(I31*19%,2) -> 0 | K31: =ROUND(I31+J31,2) -> 0
A32: 4 | D32: Resorte del disparador. | E32: UNIDAD | F32: 1 | J32: =ROUND(I32*19%,2) -> 0 | K32: =ROUND(I32+J32,2) -> 0
A33: 5 | D33: Resorte de la empuñadura. | E33: UNIDAD | F33: 1 | J33: =ROUND(I33*19%,2) -> 0 | K33: =ROUND(I33+J33,2) -> 0
A34: 6 | D34: Resorte del perno reten. | E34: UNIDAD | F34: 1 | J34: =ROUND(I34*19%,2) -> 0 | K34: =ROUND(I34+J34,2) -> 0
A35: 7 | D35: Resorte del seguro de la tapa. | E35: UNIDAD | F35: 1 | J35: =ROUND(I35*19%,2) -> 0 | K35: =ROUND(I35+J35,2) -> 0
A36: 8 | D36: Resorte del pestillo poste de mira | E36: UNIDAD | F36: 1 | J36: =ROUND(I36*19%,2) -> 0 | K36: =ROUND(I36+J36,2) -> 0
A37: 9 | D37: Resorte de guardapolvo. | E37: UNIDAD | F37: 1 | J37: =ROUND(I37*19%,2) -> 0 | K37: =ROUND(I37+J37,2) -> 0
A38: 10 | D38: Resorte perilla lateral. | E38: UNIDAD | F38: 1 | J38: =ROUND(I38*19%,2) -> 0 | K38: =ROUND(I38+J38,2) -> 0
A39: 11 | D39: Muelle plano. | E39: UNIDAD | F39: 1 | J39: =ROUND(I39*19%,2) -> 0 | K39: =ROUND(I39+J39,2) -> 0
A40: 12 | D40: Resorte alojamiento de la mira. | E40: UNIDAD | F40: 1 | J40: =ROUND(I40*19%,2) -> 0 | K40: =ROUND(I40+J40,2) -> 0
A41: 13 | D41: Resorte perilla de elevación. | E41: UNIDAD | F41: 1 | J41: =ROUND(I41*19%,2) -> 0 | K41: =ROUND(I41+J41,2) -> 0
... A53: 25 | D53: Cambio de muelles (resortes). | E53: UNIDAD | F53: 1 | J53: =ROUND(I53*19%,2) -> 0 | K53: =ROUND(I53+J53,2) -> 0
C54: VALOR TOTAL CAMBIO DE REPUESTOS de acuerdo al tipo de Fusil | K54: =ROUND(SUM(K29:K53),2) -> 0
A56: TOTAL FUSILES CALIBRE 5.56 | K56: =ROUND(K14+K27+K54,2) -> 0
B61: NOTAS:
B63: IMPORTANTE: El proponente en la estructuración de su oferta económica deberá presentar máximo DOS (2) decimales, con el fin de no afectar el cálculo de variables como IVA, AYS, AIU, entre otros. En el caso que se presenten más de DOS (2) decimales, se recomienda utilizar el método de redondeo estándar, esto es, si el tercer decimal es menor que CINCO (5), el segundo decimal se mantiene; si el tercer decimal es igual o mayor que CINCO (5), el segundo decimal se incrementa en uno.
B64: Nota:
...

Sheet ANEXO 2 HISTORICOS
A1: ANEXO 2
F2: ANÁLISIS DE COSTOS HISTÓRICOS
F4: “PRESTAR EL SERVICIO DE MANTENIMIENTO CORRECTIVO CON SUMINISTRO DE REPUESTOS PARA ARMAS DE FUEGO TIPO PISTOLAS CALIBRE 9 MM, SUBAMETRALLADORAS CALIBRE 9 MM Y FUSILES CALIBRE 5.56 DE DIFERENTES MARCAS Y MODELOS PARA LA FISCALÍA GENERAL DE LA NACIÓN.”
A6: ÍTEM | B6: NECESIDAD | C6: UNIDAD DE MEDIDA | F6: CANTIDAD | K6: agosto 2024 FFGN-NC-IPSE-0020-2024 | L6: enero 2026 | N6: ANÁLISIS PROYECCIÓN COSTOS HISTÓRICOS (IPC / Índices - Serie de empalme)
H7: VALOR UNITARIO SIN IVA | K7: 1.4367 | L7: 1.5407 | N7: VALOR UNITARIO (excluido de IVA) | O7: IVA (excluido) | P7: VALOR UNITARIO (excluido de IVA) | Q7: VALOR TOTAL (excluido de IVA)
D8: PISTOLAS 9MM
A9: 1 | B9: Mantenimiento de Pistolas (Arma semiautomáticas), en todos sus componentes: Externos: Receptor o armazón Internos: Mecanismo de alimentación, Mecanismos de cierre, Mecanismos de disparo y percusión, Mecanismo de extracción, Mecanismos de seguridad. | C9:   FASE I. DESPIECE Y DESPLAQUE DE PISTOLAS 9MM (Según especificaciones de la Ficha Técnica) | D9: Despiece general del arma | E9: UNIDAD | F9: 1 | H9: 72000 | K9: =(L$7/K$7)*H9 -> 77211.944 | N9: =ROUND(K9,0) -> 77212 | O9: 0 | P9: =ROUND(N9+O9,0) -> 77212 | Q9: =ROUND(P9*F9,0) -> 77212
A10: 2 | D10: Revisión de piezas para constatar fisuras, fracturas o desgastes en el material | O10: 1 | P10: =ROUND(N10+O10,0) -> 1 | Q10: =ROUND(P10*F10,0) -> 0 | S10: https://www.dane.gov.co/index.php/estadisticas-por-tema/precios-y-costos/indice-de-precios-al-consumidor-ipc
C11: VALOR TOTAL DESPIECE Y DESPLAQUE DE PISTOLAS 9MM
A13: 1 | C13:  FASE II. REVISIÓN DE LOS MECANISMOS,CAMBIO DE REPUESTOS REQUERIDOS DE PISTOLAS 9MM (Según especificaciones de la Ficha Técnica) | D13: Desarme y arme general del arma | E13: UNIDAD | F13: 1 | H13: 643000 | K13: =(L$7/K$7)*H13 -> 689545.56 | N13: =ROUND(K13,2) -> 689545.56 | O13: 0 | P13: =ROUND(N13+O13,0) -> 689546 | Q13: =ROUND(P13*F13,0) -> 689546
A14: 2 | D14: Cambio de sistemas de tensión del disparador, sistema de percusión y mecanismos de disparo.
A15: 3 | D15: Desplaque superficial y desoxidación de los mecanismos internos y externos del arma
A16: 4 | D16: Limpieza del ánima del cañón.
A17: 5 | D17: Limpieza y lubricación general.
A18: 6 | D18: Recubrimiento de pintura cerámica de alta resistencia y adherencia color negro a los elementos externos.
A19: 7 | D19: Recubrimiento de pintura cerámica de alta resistencia y adherencia color negro al proveedor del arma.
A20: 8 | D20: Tratamiento superficial de pavonado a los elementos y mecanismos internos del arma (piezas móviles).
A21: 9 | D21: Cambio de pasadores
A22: 10 | D22: Cambio de los resortes
A23: 11 | D23: Cambio de los tornillos y arandelas de las cachas pistolas CZ.
A24: 12 | D24: Cambio de las cachas pistolas CZ. | E24: UNIDAD | F24: 1 | H24: 70516 | K24: =(L$7/K$7)*H24 -> 75620.52 | N24: =ROUND(K24,2) -> 75620.52
A25: 13 | D25: Cambio Varilla guía de polímero por varilla guía metálica para las pistolas CZ. | O25: 1 | P25: =ROUND(N24+O25,0) -> 75622 | Q25: =ROUND(P25*F25,0) -> 0
A26: 14 | D26: Reparación del punto y alza de Mira
C27: VALOR TOTAL REVISIÓN DE LOS MECANISMOS,CAMBIO DE REPUESTOS REQUERIDOS DE PISTOLAS 9MM
A29: 1 | C29: Cambio de repuestos de acuerdo al tipo de Pistola 9MM: (Según especificaciones de la Ficha Técnica) | D29: Resorte del fiador | E29: UNIDAD | F29: 1 | H29: 4915 | K29: =(L$7/K$7)*H29 -> 5270.7876 | N29: =ROUND(K29,2) -> 5270.79
A30: 2 | D30: Resorte recuperador. | E30: UNIDAD | F30: 1 | H30: 43806 | K30: =(L$7/K$7)*H30 -> 46977.034 | N30: =ROUND(K30,2) -> 46977.03
A31: 3 | D31: Resorte del disparador. | E31: UNIDAD | F31: 1 | H31: 5022 | K31: =(L$7/K$7)*H31 -> 5385.5331 | N31: =ROUND(K31,2) -> 5385.53
A32: 4 | D32: Resorte del percutor. | E32: UNIDAD | F32: 1 | H32: 4274 | K32: =(L$7/K$7)*H32 -> 4583.3868 | N32: =ROUND(K32,2) -> 4583.39
A33: 5 | D33: Resorte de los pestillos del seguro de la corredera | E33: UNIDAD | F33: 1 | H33: 3633 | K33: =(L$7/K$7)*H33 -> 3895.986 | N33: =ROUND(K33,2) -> 3895.99
A34: 6 | D34: Resorte de la barra del martillo. | E34: UNIDAD | F34: 1 | H34: 3633 | K34: =(L$7/K$7)*H34 -> 3895.986 | N34: =ROUND(K34,2) -> 3895.99
A35: 7 | D35: Resorte del retén de la corredera. | E35: UNIDAD | F35: 1 | H35: 3633 | K35: =(L$7/K$7)*H35 -> 3895.986 | N35: =ROUND(K35,2) -> 3895.99
A36: 8 | D36: Resorte del seguro bloqueador del percutor. | E36: UNIDAD | F36: 1 | H36: 2992 | K36: =(L$7/K$7)*H36 -> 3208.5852 | N36: =ROUND(K36,2) -> 3208.59
A37: 9 | D37: Resorte barra del disparador (extensor). | E37: UNIDAD | F37: 1 | H37: 3740 | K37: =(L$7/K$7)*H37 -> 4010.7315 | N37: =ROUND(K37,2) -> 4010.73
A38: 10 | D38: Resorte palanca de desarme. | E38: UNIDAD | F38: 1 | H38: 2564 | K38: =(L$7/K$7)*H38 -> 2749.6031 | N38: =ROUND(K38,2) -> 2749.6
A39: 11 | D39: Resorte de uña extractora | E39: UNIDAD | F39: 1 | H39: 2564 | K39: =(L$7/K$7)*H39 -> 2749.6031 | N39: =ROUND(K39,2) -> 2749.6
A40: 12 | D40: Cambio sistemas de tensión del disparador, sistema de percusión y mecanismos de disparo | E40: UNIDAD | F40: 1 | H40: 48080 | K40: =(L$7/K$7)*H40 -> 51560.42 | N40: =ROUND(K40,2) -> 51560.42
A41: 13 | D41: Cambio de pasadores. | E41: UNIDAD | F41: 1 | H41: 59832 | K41: =(L$7/K$7)*H41 -> 64163.125 | N41: =ROUND(K41,2) -> 64163.13
... A46: 18 | D46: Reparación del punto y alza de Mira | E46: UNIDAD | F46: 1 | H46: 63145 | K46: =(L$7/K$7)*H46 -> 67715.947 | N46: =ROUND(K46,2) -> 67715.95
C47: VALOR TOTAL CAMBIO DE REPUESTOS de acuerdo al tipo de Pistola 9MM
D50: SUB-AMETRALLADORAS CALIBRE 9MM
...

Sheet ANEXO 3 hist vs cotizaaciones
B2: ANEXO 2: ESTUDIO DE MERCADO DEFINITIVO
G3: “PRESTAR EL SERVICIO DE MANTENIMIENTO CORRECTIVO CON SUMINISTRO DE REPUESTOS PARA ARMAS DE FUEGO TIPO PISTOLAS CALIBRE 9 MM, SUBAMETRALLADORAS CALIBRE 9 MM Y FUSILES CALIBRE 5.56 DE DIFERENTES MARCAS Y MODELOS PARA LA FISCALÍA GENERAL DE LA NACIÓN.”
I4: VALOR COTIZACIONES | N4: ANÁLISIS PROYECCIÓN COSTOS HISTÓRICOS (IPC / Índices - Serie de empalme) | S4: PRESUPUESTO TOTAL ASIGNADO AL PROCESO
B5: ÍTEM | C5: DESCRIPCIÓN DEL BIEN O SERVICIO | D5: UNIDAD DE MEDIDA | G5: CANTIDAD | I5: VALOR UNITARIO (excluido de IVA) | J5: IVA (excluido) | K5: VALOR UNITARIO (CON IVA) | L5: VALOR TOTAL (CON IVA) | N5: VALOR UNITARIO (excluido de IVA) | O5: IVA (excluido) | P5: VALOR UNITARIO (CON IVA) | Q5: VALOR TOTAL (CON IVA) | S5: VALOR UNITARIO (excluido de IVA) | T5: IVA (excluido) | U5: VALOR UNITARIO (CON IVA) | V5: VALOR TOTAL (CON IVA)
C6: PISTOLAS 9MM
B7: 1 | C7: Mantenimiento de Pistolas (Arma semiautomáticas), en todos sus componentes: Externos: Receptor o armazón Internos: Mecanismo de alimentación, Mecanismos de cierre, Mecanismos de disparo y percusión, Mecanismo de extracción, Mecanismos de seguridad. | D7:   FASE I. DESPIECE Y DESPLAQUE DE PISTOLAS 9MM (Según especificaciones de la Ficha Técnica) | E7: Despiece general del arma | F7: UNIDAD | G7: 1 | I7: ='ANEXO 1'!AC8 -> 75000 | J7: =ROUND(I7*19%,2) -> 14250 | K7: =ROUND(I7+J7,2) -> 89250 | L7: =ROUND(K7*G7,2) -> 89250 | N7: ='ANEXO 2 HISTORICOS'!N9 -> 77212 | O7: =ROUND(N7*19%,2) -> 14670.28 | P7: =ROUND(N7+O7,2) -> 91882.28 | Q7: =ROUND(P7*G7,2) -> 91882.28 | S7: =ROUND(AVERAGE(I7),2) -> 75000 | T7: =ROUND(S7*19%,2) -> 14250 | U7: =ROUND(S7+T7,2) -> 89250 | V7: =ROUND(U7*G7,2) -> 89250
B8: 2 | E8: Revisión de piezas para constatar fisuras, fracturas o desgastes en el material | N8: ='[1]ANEXO 2'!L10 -> 0
D9: VALOR TOTAL DESPIECE Y DESPLAQUE DE PISTOLAS 9MM
B11: 1 | D11:  FASE II. REVISIÓN DE LOS MECANISMOS,CAMBIO DE REPUESTOS REQUERIDOS DE PISTOLAS 9MM (Según especificaciones de la Ficha Técnica) | E11: Desarme y arme general del arma | F11: UNIDAD | G11: 1 | I11: ='ANEXO 1'!AC12 -> 730000 | J11: =ROUND(I11*19%,2) -> 138700 | K11: =ROUND(I11+J11,2) -> 868700 | L11: =ROUND(K11*G11,2) -> 868700 | N11: ='ANEXO 2 HISTORICOS'!N13 -> 689545.56 | O11: =ROUND(N11*19%,2) -> 131013.66 | P11: =ROUND(N11+O11,2) -> 820559.22 | Q11: =ROUND(P11*G11,2) -> 820559.22 | S11: =ROUND(AVERAGE(I11,N11),2) -> 709772.78 | T11: =ROUND(S11*19%,2) -> 134856.83 | U11: =ROUND(S11+T11,2) -> 844629.61 | V11: =ROUND(U11*G11,2) -> 844629.61
B12: 2 | E12: Cambio de sistemas de tensión del disparador, sistema de percusión y mecanismos de disparo.
B13: 3 | E13: Desplaque superficial y desoxidación de los mecanismos internos y externos del arma
B14: 4 | E14: Limpieza del ánima del cañón.
B15: 5 | E15: Limpieza y lubricación general.
B16: 6 | E16: Recubrimiento de pintura cerámica de alta resistencia y adherencia color negro a los elementos externos.
B17: 7 | E17: Recubrimiento de pintura cerámica de alta resistencia y adherencia color negro al proveedor del arma.
B18: 8 | E18: Tratamiento superficial de pavonado a los elementos y mecanismos internos del arma (piezas móviles).
B19: 9 | E19: Cambio de pasadores
B20: 10 | E20: Cambio de los resortes
B21: 11 | E21: Cambio de los tornillos y arandelas de las cachas pistolas CZ.
B22: 12 | E22: Cambio de las cachas pistolas CZ. | F22: UNIDAD | G22: 1 | I22: ='ANEXO 1'!AC23 -> 130000 | J22: =ROUND(I22*19%,2) -> 24700 | K22: =ROUND(I22+J22,2) -> 154700 | L22: =ROUND(K22*G22,2) -> 154700 | N22: ='ANEXO 2 HISTORICOS'!N24 -> 75620.52 | O22: =ROUND(N22*19%,2) -> 14367.9 | P22: =ROUND(N22+O22,2) -> 89988.42 | Q22: =ROUND(P22*G22,2) -> 89988.42 | S22: =ROUND(AVERAGE(I22,N22),2) -> 102810.26 | T22: =ROUND(S22*19%,2) -> 19533.95 | U22: =ROUND(S22+T22,2) -> 122344.21 | V22: =ROUND(U22*G22,2) -> 122344.21
B23: 13 | E23: Cambio Varilla guía de polímero por varilla guía metálica para las pistolas CZ.
B24: 14 | E24: Reparación del punto y alza de Mira
D25: VALOR TOTAL REVISIÓN DE LOS MECANISMOS,CAMBIO DE REPUESTOS REQUERIDOS DE PISTOLAS 9MM
B27: 1 | D27: Cambio de repuestos de acuerdo al tipo de Pistola 9MM: (Según especificaciones de la Ficha Técnica) | E27: Resorte del fiador | F27: UNIDAD | G27: 1 | I27: ='ANEXO 1'!AC28 -> 7750 | J27: =ROUND(I27*19%,2) -> 1472.5 | K27: =ROUND(I27+J27,2) -> 9222.5 | L27: =ROUND(K27*G27,2) -> 9222.5 | N27: ='ANEXO 2 HISTORICOS'!N29 -> 5270.79 | O27: =ROUND(N27*19%,2) -> 1001.45 | P27: =ROUND(N27+O27,2) -> 6272.24 | Q27: =ROUND(P27*G27,2) -> 6272.24 | S27: =ROUND(AVERAGE(I27,N27),2) -> 6510.4 | T27: =ROUND(S27*19%,2) -> 1236.98 | U27: =ROUND(S27+T27,2) -> 7747.38 | V27: =ROUND(U27*G27,2) -> 7747.38
B28: 2 | E28: Resorte recuperador. | F28: UNIDAD | G28: 1 | I28: ='ANEXO 1'!AC29 -> 54100 | J28: =ROUND(I28*19%,2) -> 10279 | K28: =ROUND(I28+J28,2) -> 64379 | L28: =ROUND(K28*G28,2) -> 64379 | N28: ='ANEXO 2 HISTORICOS'!N30 -> 46977.03 | O28: =ROUND(N28*19%,2) -> 8925.64 | P28: =ROUND(N28+O28,2) -> 55902.67 | Q28: =ROUND(P28*G28,2) -> 55902.67 | S28: =ROUND(AVERAGE(I28,N28),2) -> 50538.52 | T28: =ROUND(S28*19%,2) -> 9602.32 | U28: =ROUND(S28+T28,2) -> 60140.84 | V28: =ROUND(U28*G28,2) -> 60140.84
B29: 3 | E29: Resorte del disparador. | F29: UNIDAD | G29: 1 | I29: ='ANEXO 1'!AC30 -> 7750 | J29: =ROUND(I29*19%,2) -> 1472.5 | K29: =ROUND(I29+J29,2) -> 9222.5 | L29: =ROUND(K29*G29,2) -> 9222.5 | N29: ='ANEXO 2 HISTORICOS'!N31 -> 5385.53 | O29: =ROUND(N29*19%,2) -> 1023.25 | P29: =ROUND(N29+O29,2) -> 6408.78 | Q29: =ROUND(P29*G29,2) -> 6408.78 | S29: =ROUND(AVERAGE(I29,N29),2) -> 6567.77 | T29: =ROUND(S29*19%,2) -> 1247.88 | U29: =ROUND(S29+T29,2) -> 7815.65 | V29: =ROUND(U29*G29,2) -> 7815.65
B30: 4 | E30: Resorte del percutor. | F30: UNIDAD | G30: 1 | I30: ='ANEXO 1'!AC31 -> 7500 | J30: =ROUND(I30*19%,2) -> 1425 | K30: =ROUND(I30+J30,2) -> 8925 | L30: =ROUND(K30*G30,2) -> 8925 | N30: ='ANEXO 2 HISTORICOS'!N32 -> 4583.39 | O30: =ROUND(N30*19%,2) -> 870.84 | P30: =ROUND(N30+O30,2) -> 5454.23 | Q30: =ROUND(P30*G30,2) -> 5454.23 | S30: =ROUND(AVERAGE(I30,N30),2) -> 6041.7 | T30: =ROUND(S30*19%,2) -> 1147.92 | U30: =ROUND(S30+T30,2) -> 7189.62 | V30: =ROUND(U30*G30,2) -> 7189.62
B31: 5 | E31: Resorte de los pestillos del seguro de la corredera | F31: UNIDAD | G31: 1 | I31: ='ANEXO 1'!AC32 -> 7000 | J31: =ROUND(I31*19%,2) -> 1330 | K31: =ROUND(I31+J31,2) -> 8330 | L31: =ROUND(K31*G31,2) -> 8330 | N31: ='ANEXO 2 HISTORICOS'!N33 -> 3895.99 | O31: =ROUND(N31*19%,2) -> 740.24 | P31: =ROUND(N31+O31,2) -> 4636.23 | Q31: =ROUND(P31*G31,2) -> 4636.23 | S31: =ROUND(AVERAGE(I31,N31),2) -> 5448 | T31: =ROUND(S31*19%,2) -> 1035.12 | U31: =ROUND(S31+T31,2) -> 6483.12 | V31: =ROUND(U31*G31,2) -> 6483.12
B32: 6 | E32: Resorte de la barra del martillo. | F32: UNIDAD | G32: 1 | I32: ='ANEXO 1'!AC33 -> 9500 | J32: =ROUND(I32*19%,2) -> 1805 | K32: =ROUND(I32+J32,2) -> 11305 | L32: =ROUND(K32*G32,2) -> 11305 | N32: ='ANEXO 2 HISTORICOS'!N34 -> 3895.99 | O32: =ROUND(N32*19%,2) -> 740.24 | P32: =ROUND(N32+O32,2) -> 4636.23 | Q32: =ROUND(P32*G32,2) -> 4636.23 | S32: =ROUND(AVERAGE(I32,N32),2) -> 6698 | T32: =ROUND(S32*19%,2) -> 1272.62 | U32: =ROUND(S32+T32,2) -> 7970.62 | V32: =ROUND(U32*G32,2) -> 7970.62
B33: 7 | E33: Resorte del retén de la corredera. | F33: UNIDAD | G33: 1 | I33: ='ANEXO 1'!AC34 -> 7000 | J33: =ROUND(I33*19%,2) -> 1330 | K33: =ROUND(I33+J33,2) -> 8330 | L33: =ROUND(K33*G33,2) -> 8330 | N33: ='ANEXO 2 HISTORICOS'!N35 -> 3895.99 | O33: =ROUND(N33*19%,2) -> 740.24 | P33: =ROUND(N33+O33,2) -> 4636.23 | Q33: =ROUND(P33*G33,2) -> 4636.23 | S33: =ROUND(AVERAGE(I33,N33),2) -> 5448 | T33: =ROUND(S33*19%,2) -> 1035.12 | U33: =ROUND(S33+T33,2) -> 6483.12 | V33: =ROUND(U33*G33,2) -> 6483.12
B34: 8 | E34: Resorte del seguro bloqueador del percutor. | F34: UNIDAD | G34: 1 | I34: ='ANEXO 1'!AC35 -> 6600 | J34: =ROUND(I34*19%,2) -> 1254 | K34: =ROUND(I34+J34,2) -> 7854 | L34: =ROUND(K34*G34,2) -> 7854 | N34: ='ANEXO 2 HISTORICOS'!N36 -> 3208.59 | O34: =ROUND(N34*19%,2) -> 609.63 | P34: =ROUND(N34+O34,2) -> 3818.22 | Q34: =ROUND(P34*G34,2) -> 3818.22 | S34: =ROUND(AVERAGE(I34,N34),2) -> 4904.3 | T34: =ROUND(S34*19%,2) -> 931.82 | U34: =ROUND(S34+T34,2) -> 5836.12 | V34: =ROUND(U34*G34,2) -> 5836.12
B35: 9 | E35: Resorte barra del disparador (extensor). | F35: UNIDAD | G35: 1 | I35: ='ANEXO 1'!AC36 -> 7050 | J35: =ROUND(I35*19%,2) -> 1339.5 | K35: =ROUND(I35+J35,2) -> 8389.5 | L35: =ROUND(K35*G35,2) -> 8389.5 | N35: ='ANEXO 2 HISTORICOS'!N37 -> 4010.73 | O35: =ROUND(N35*19%,2) -> 762.04 | P35: =ROUND(N35+O35,2) -> 4772.77 | Q35: =ROUND(P35*G35,2) -> 4772.77 | S35: =ROUND(AVERAGE(I35,N35),2) -> 5530.37 | T35: =ROUND(S35*19%,2) -> 1050.77 | U35: =ROUND(S35+T35,2) -> 6581.14 | V35: =ROUND(U35*G35,2) -> 6581.14
B36: 10 | E36: Resorte palanca de desarme. | F36: UNIDAD | G36: 1 | I36: ='ANEXO 1'!AC37 -> 6400 | J36: =ROUND(I36*19%,2) -> 1216 | K36: =ROUND(I36+J36,2) -> 7616 | L36: =ROUND(K36*G36,2) -> 7616 | N36: ='ANEXO 2 HISTORICOS'!N38 -> 2749.6 | O36: =ROUND(N36*19%,2) -> 522.42 | P36: =ROUND(N36+O36,2) -> 3272.02 | Q36: =ROUND(P36*G36,2) -> 3272.02 | S36: =ROUND(AVERAGE(I36,N36),2) -> 4574.8 | T36: =ROUND(S36*19%,2) -> 869.21 | U36: =ROUND(S36+T36,2) -> 5444.01 | V36: =ROUND(U36*G36,2) -> 5444.01
B37: 11 | E37: Resorte de uña extractora | F37: UNIDAD | G37: 1 | I37: ='ANEXO 1'!AC38 -> 6400 | J37: =ROUND(I37*19%,2) -> 1216 | K37: =ROUND(I37+J37,2) -> 7616 | L37: =ROUND(K37*G37,2) -> 7616 | N37: ='ANEXO 2 HISTORICOS'!N39 -> 2749.6 | O37: =ROUND(N37*19%,2) -> 522.42 | P37: =ROUND(N37+O37,2) -> 3272.02 | Q37: =ROUND(P37*G37,2) -> 3272.02 | S37: =ROUND(AVERAGE(I37,N37),2) -> 4574.8 | T37: =ROUND(S37*19%,2) -> 869.21 | U37: =ROUND(S37+T37,2) -> 5444.01 | V37: =ROUND(U37*G37,2) -> 5444.01
B38: 12 | E38: Cambio sistemas de tensión del disparador, sistema de percusión y mecanismos de disparo | F38: UNIDAD | G38: 1 | I38: ='ANEXO 1'!AC39 -> 66400 | J38: =ROUND(I38*19%,2) -> 12616 | K38: =ROUND(I38+J38,2) -> 79016 | L38: =ROUND(K38*G38,2) -> 79016 | N38: ='ANEXO 2 HISTORICOS'!N40 -> 51560.42 | O38: =ROUND(N38*19%,2) -> 9796.48 | P38: =ROUND(N38+O38,2) -> 61356.9 | Q38: =ROUND(P38*G38,2) -> 61356.9 | S38: =ROUND(AVERAGE(I38,N38),2) -> 58980.21 | T38: =ROUND(S38*19%,2) -> 11206.24 | U38: =ROUND(S38+T38,2) -> 70186.45 | V38: =ROUND(U38*G38,2) -> 70186.45
B39: 13 | E39: Cambio de pasadores. | F39: UNIDAD | G39: 1 | I39: ='ANEXO 1'!AC40 -> 70500 | J39: =ROUND(I39*19%,2) -> 13395 | K39: =ROUND(I39+J39,2) -> 83895 | L39: =ROUND(K39*G39,2) -> 83895 | N39: ='ANEXO 2 HISTORICOS'!N41 -> 64163.13 | O39: =ROUND(N39*19%,2) -> 12190.99 | P39: =ROUND(N39+O39,2) -> 76354.12 | Q39: =ROUND(P39*G39,2) -> 76354.12 | S39: =ROUND(AVERAGE(I39,N39),2) -> 67331.57 | T39: =ROUND(S39*19%,2) -> 12793 | U39: =ROUND(S39+T39,2) -> 80124.57 | V39: =ROUND(U39*G39,2) -> 80124.57
... B44: 18 | E44: Reparación del punto y alza de Mira | F44: UNIDAD | G44: 1 | I44: ='ANEXO 1'!AC45 -> 76550 | J44: =ROUND(I44*19%,2) -> 14544.5 | K44: =ROUND(I44+J44,2) -> 91094.5 | L44: =ROUND(K44*G44,2) -> 91094.5 | N44: ='ANEXO 2 HISTORICOS'!N46 -> 67715.95 | O44: =ROUND(N44*19%,2) -> 12866.03 | P44: =ROUND(N44+O44,2) -> 80581.98 | Q44: =ROUND(P44*G44,2) -> 80581.98 | S44: =ROUND(AVERAGE(I44,N44),2) -> 72132.98 | T44: =ROUND(S44*19%,2) -> 13705.27 | U44: =ROUND(S44+T44,2) -> 85838.25 | V44: =ROUND(U44*G44,2) -> 85838.25
D45: VALOR TOTAL CAMBIO DE REPUESTOS de acuerdo al tipo de Pistola 9MM
B48: SUB-AMETRALLADORAS CALIBRE 9MM
B49: ITEM | C49: REQUISITOS GENERALES | E49: ACTIVIDAD | F49: UNIDAD DE MEDIDA | G49: CANTIDAD
...

Sheet ANEXO 4- PISTOLAS  DEF 
A1: FORMATO OFERTA ECONOMICA 2026
C2: "MANTENIMIENTO CORRECTIVO CON SUMINISTRO DE REPUESTOS PARA ARMAS DE FUEGO TIPO PISTOLASCALIBRE 9MM, SUBAMETRALLADORAS CALIBRE 9MM Y FUSILES CALIBRE 5.56 DE DIFERENTES MARCAS Y MODELOS PARA LA FISCALÍA GENERAL DE LA NACIÓN”
A6: MANTENIMIENTO CORRECTIVO CON SUMINISTRO DE REPUESTOS PARA ARMAS DE FUEGO TIPO PISTOLAS, CALIBRE 9 MM, DE DIFERENTES MARCAS Y MODELOS PARA LA FISCALIA GENERAL DE LA NACION. (SEGÚN ESPECIFICACIONES TÉCNICAS - FICHA TECNICA No. 1 (PISTOLAS CALIBRE 9MM )
I8: PRECIO FINAL SELECCIONADO
A10: ITEM | B10: REQUISITOS GENERALES | C10: REQUISITOS ESPECÍFICOS | D10: ACTIVIDAD | E10: UNIDAD DE MEDIDA | F10: CANTIDAD | I10: VALOR UNITARIO | J10: IVA | K10: VALOR UNITARIO INCLUIDO IVA
A12: 1 | B12: Mantenimiento de Pistolas (Arma semiautomáticas), en todos sus componentes: Externos: Receptor o armazón Internos: Mecanismo de alimentación, Mecanismos de cierre, Mecanismos de disparo y percusión, Mecanismo de extracción, Mecanismos de seguridad. | C12:   FASE I. DESPIECE Y DESPLAQUE DE PISTOLAS 9MM (Según especificaciones de la Ficha Técnica) | D12: Despiece general del arma | E12: UNIDAD | F12: 1 | I12: ='ANEXO 3 hist vs cotizaaciones'!S7 -> 75000 | J12: =ROUND(I12*19%,2) -> 14250 | K12: =ROUND(I12+J12,2) -> 89250
A13: 2 | D13: Revisión de piezas para constatar fisuras, fracturas o desgastes en el material
C14: VALOR TOTAL DESPIECE Y DESPLAQUE DE PISTOLAS 9MM | K14: =ROUND(SUM(K12),2) -> 89250
A16: 1 | C16:  FASE II. REVISIÓN DE LOS MECANISMOS,CAMBIO DE REPUESTOS REQUERIDOS DE PISTOLAS 9MM (Según especificaciones de la Ficha Técnica) | D16: Desarme y arme general del arma | E16: UNIDAD | F16: 1 | I16: ='ANEXO 3 hist vs cotizaaciones'!S11 -> 709772.78 | J16: =ROUND(I16*19%,2) -> 134856.83 | K16: =ROUND(I16+J16,2) -> 844629.61
A17: 2 | D17: Cambio de sistemas de tensión del disparador, sistema de percusión y mecanismos de disparo.
A18: 3 | D18: Desplaque superficial y desoxidación de los mecanismos internos y externos del arma
A19: 4 | D19: Limpieza del ánima del cañón.
A20: 5 | D20: Limpieza y lubricación general.
A21: 6 | D21: Recubrimiento de pintura cerámica de alta resistencia y adherencia color negro a los elementos externos.
A22: 7 | D22: Recubrimiento de pintura cerámica de alta resistencia y adherencia color negro al proveedor del arma.
A23: 8 | D23: Tratamiento superficial de pavonado a los elementos y mecanismos internos del arma (piezas móviles).
A24: 9 | D24: Cambio de pasadores
A25: 10 | D25: Cambio de los resortes
A26: 11 | D26: Cambio de los tornillos y arandelas de las cachas pistolas CZ.
A27: 12 | D27: Cambio de las cachas pistolas CZ. | E27: UNIDAD | F27: 1 | I27: ='ANEXO 3 hist vs cotizaaciones'!S22 -> 102810.26 | J27: =ROUND(I27*19%,2) -> 19533.95 | K27: =ROUND(I27+J27,2) -> 122344.21
A28: 13 | D28: Cambio Varilla guía de polímero por varilla guía metálica para las pistolas CZ.
A29: 14 | D29: Reparación del punto y alza de Mira
C30: VALOR TOTAL REVISIÓN DE LOS MECANISMOS,CAMBIO DE REPUESTOS REQUERIDOS DE PISTOLAS 9MM | K30: =ROUND(SUM(K16:K29),2) -> 966973.82
A32: 1 | C32: Cambio de repuestos de acuerdo al tipo de Pistola 9MM: (Según especificaciones de la Ficha Técnica) | D32: Resorte del fiador | E32: UNIDAD | F32: 1 | I32: ='ANEXO 3 hist vs cotizaaciones'!S27 -> 6510.4 | J32: =ROUND(I32*19%,2) -> 1236.98 | K32: =ROUND(I32+J32,2) -> 7747.38
A33: 2 | D33: Resorte recuperador. | E33: UNIDAD | F33: 1 | I33: ='ANEXO 3 hist vs cotizaaciones'!S28 -> 50538.52 | J33: =ROUND(I33*19%,2) -> 9602.32 | K33: =ROUND(I33+J33,2) -> 60140.84
A34: 3 | D34: Resorte del disparador. | E34: UNIDAD | F34: 1 | I34: ='ANEXO 3 hist vs cotizaaciones'!S29 -> 6567.77 | J34: =ROUND(I34*19%,2) -> 1247.88 | K34: =ROUND(I34+J34,2) -> 7815.65
A35: 4 | D35: Resorte del percutor. | E35: UNIDAD | F35: 1 | I35: ='ANEXO 3 hist vs cotizaaciones'!S30 -> 6041.7 | J35: =ROUND(I35*19%,2) -> 1147.92 | K35: =ROUND(I35+J35,2) -> 7189.62
A36: 5 | D36: Resorte de los pestillos del seguro de la corredera | E36: UNIDAD | F36: 1 | I36: ='ANEXO 3 hist vs cotizaaciones'!S31 -> 5448 | J36: =ROUND(I36*19%,2) -> 1035.12 | K36: =ROUND(I36+J36,2) -> 6483.12
A37: 6 | D37: Resorte de la barra del martillo. | E37: UNIDAD | F37: 1 | I37: ='ANEXO 3 hist vs cotizaaciones'!S32 -> 6698 | J37: =ROUND(I37*19%,2) -> 1272.62 | K37: =ROUND(I37+J37,2) -> 7970.62
A38: 7 | D38: Resorte del retén de la corredera. | E38: UNIDAD | F38: 1 | I38: ='ANEXO 3 hist vs cotizaaciones'!S33 -> 5448 | J38: =ROUND(I38*19%,2) -> 1035.12 | K38: =ROUND(I38+J38,2) -> 6483.12
A39: 8 | D39: Resorte del seguro bloqueador del percutor. | E39: UNIDAD | F39: 1 | I39: ='ANEXO 3 hist vs cotizaaciones'!S34 -> 4904.3 | J39: =ROUND(I39*19%,2) -> 931.82 | K39: =ROUND(I39+J39,2) -> 5836.12
A40: 9 | D40: Resorte barra del disparador (extensor). | E40: UNIDAD | F40: 1 | I40: ='ANEXO 3 hist vs cotizaaciones'!S35 -> 5530.37 | J40: =ROUND(I40*19%,2) -> 1050.77 | K40: =ROUND(I40+J40,2) -> 6581.14
A41: 10 | D41: Resorte palanca de desarme. | E41: UNIDAD | F41: 1 | I41: ='ANEXO 3 hist vs cotizaaciones'!S36 -> 4574.8 | J41: =ROUND(I41*19%,2) -> 869.21 | K41: =ROUND(I41+J41,2) -> 5444.01
A42: 11 | D42: Resorte de uña extractora | E42: UNIDAD | F42: 1 | I42: ='ANEXO 3 hist vs cotizaaciones'!S37 -> 4574.8 | J42: =ROUND(I42*19%,2) -> 869.21 | K42: =ROUND(I42+J42,2) -> 5444.01
A43: 12 | D43: Cambio sistemas de tensión del disparador, sistema de percusión y mecanismos de disparo | E43: UNIDAD | F43: 1 | I43: ='ANEXO 3 hist vs cotizaaciones'!S38 -> 58980.21 | J43: =ROUND(I43*19%,2) -> 11206.24 | K43: =ROUND(I43+J43,2) -> 70186.45
A44: 13 | D44: Cambio de pasadores. | E44: UNIDAD | F44: 1 | I44: ='ANEXO 3 hist vs cotizaaciones'!S39 -> 67331.57 | J44: =ROUND(I44*19%,2) -> 12793 | K44: =ROUND(I44+J44,2) -> 80124.57
... A49: 18 | D49: Reparación del punto y alza de Mira | E49: UNIDAD | F49: 1 | I49: ='ANEXO 3 hist vs cotizaaciones'!S44 -> 72132.98 | J49: =ROUND(I49*19%,2) -> 13705.27 | K49: =ROUND(I49+J49,2) -> 85838.25
C50: VALOR TOTAL CAMBIO DE REPUESTOS de acuerdo al tipo de Pistola 9MM | K50: =ROUND(SUM(K32:K49),2) -> 583503.53
A52: TOTAL PISTOLAS CALIBRE 9MM | K52: =ROUND(K14+K30+K50,2) -> 1639727.4

Sheet ANEXO 4 - SUBAMETRALLADORAS DEF
B2: FORMATO OFERTA ECONOMICA 2026
D3: “MANTENIMIENTO CORRECTIVO CON SUMINISTRO DE REPUESTOS PARA ARMAS DE FUEGO TIPO PISTOLASCALIBRE 9MM, SUBAMETRALLADORAS CALIBRE 9MM Y FUSILES CALIBRE 5.56 DE DIFERENTES MARCAS Y MODELOS PARA LA FISCALÍA GENERAL DE LA NACIÓN”
B6: MANTENIMIENTO CORRECTIVO CON SUMINISTRO DE REPUESTOS PARA ARMAS DE FUEGO TIPO SUB AMETRALLADORAS CALIBRE 9 MM, DE DIFERENTES MARCAS Y MODELOS PARA LA FISCALIA GENERAL DE LA NACION. (SEGÚN ESPECIFICACIONES TÉCNICAS - FICHA TECNICA No. 2 (SUBAMETRALLADORAS CALIBRE 9MM)
J9: PRECIO FINAL SELECCIONADO
B11: ITEM | C11: REQUISITOS GENERALES | D11: REQUISITOS ESPECÍFICOS | E11: ACTIVIDAD | F11: UNIDAD DE MEDIDA | G11: CANTIDAD | J11: VALOR UNITARIO | K11: IVA | L11: VALOR UNITARIO INCLUIDO IVA
B13: 1 | C13: Mantenimiento de subametralladora (Arma automática y semiautomática), en todos sus componentes: Externos: Cañón, Receptor o armazón Internos: Mecanismo de alimentación, Mecanismos de cierre, Mecanismos de disparo y persecución, Mecanismo de extracción, Mecanismos de seguridad. | D13:  FASE I.  FASE I. DESPIECE Y DESPLAQUE DE SUB-AMETRALLADORAS CALIBRE 9MM (según especificaciones Ficha Técnica) | E13: Despiece general del arma | F13: UNIDAD | G13: 1 | J13: ='ANEXO 3 hist vs cotizaaciones'!S51 -> 76250 | K13: =ROUND(J13*19%,2) -> 14487.5 | L13: =ROUND(J13+K13,2) -> 90737.5
B14: 2 | E14: Revisión de piezas para constatar fracturas en material.
D15: VALOR TOTAL DESPIECE Y DESPLAQUE DE SUB-AMETRALLADORAS CALIBRE 9MM | L15: =SUM(L13) -> 90737.5
B17: 1 | D17:  FASE II. REVISIÓN DE LOS MECANISMOS Y CAMBIO DE REPUESTOS REQUERIDOS. DE SUBAMETRALLADORAS CALIBRE 9MM (según especificaciones Ficha Técnica) | E17: Desarme y arme general del arma. | F17: UNIDAD | G17: 1 | J17: ='ANEXO 3 hist vs cotizaaciones'!S55 -> 903727.63 | K17: =ROUND(J17*19%,2) -> 171708.25 | L17: =ROUND(J17+K17,2) -> 1075435.9
B18: 2 | E18: Revisión y cambio de sistemas de tensión del disparador, sistema de percusión y mecanismos de disparo.
B19: 3 | E19: Desplaque superficial y desoxidación de los mecanismos internos y externos del arma.
B20: 4 | E20: Limpieza del ánima del cañón.
B21: 5 | E21: Limpieza y lubricación general.
B22: 6 | E22: Aplicar revestimiento pintura cerámica de alta resistencia y adherencia color negro a los mecanismos externos.
B23: 7 | E23: Recubrimiento de pintura cerámica de alta resistencia y adherencia al proveedor del arma y reparación de los labios del proveedor.
B24: 8 | E24: Tratamiento superficial de pavonado a los elementos y mecanismos internos del arma (piezas móviles).
B25: 9 | E25: Cambio de los resortes
B26: 10 | E26: Cambio de los tornillos y arandelas de las cachas
B27: 11 | E27: Cambio de los tornillos de la cubierta de la empuñadura.
B28: 12 | E28: Reparación del tambor del alza de mira (subametralladora MP 5). | J28: ='ANEXO 3 hist vs cotizaaciones'!S66 -> 728808.02 | K28: =ROUND(J28*19%,2) -> 138473.52 | L28: =ROUND(J28+K28,2) -> 867281.54
B29: 13 | E29: Cambio del punto de mira y del alza de mira (subametralladora MP 5).
B30: 14 | E30: Cambio del arco protector del poste de mira (subametralladora MP 5)
B31: 15 | E31: Cambio del guardamano de polímero por guardamano en aluminio con riel picatinny y empuñadura vertical en aluminio. (subametralladora MP 5)
B32: 16 | E32: Cambio de los anillos en teflón de la varilla guía y resorte recuperador (subametralladora MP5).
B33: 17 | E33: Reparación de las palancas de cargue y polímero (subametralladora MP5).
B34: 18 | E34: Reparación de proveedores subametralladora MP5
D35: VALOR TOTAL REVISIÓN DE LOS MECANISMOS Y CAMBIO DE REPUESTOS REQUERIDOS. DE SUBAMETRALLADORAS CALIBRE 9MM | L35: =ROUND(SUM(L17:L34),2) -> 1942717.4
B37: 1 | D37: Suministro y cambio de los repuestos de acuerdo al tipo de SubAmetralladora (según especificaciones Ficha Técnica) | E37: Resorte del fiador. | F37: UNIDAD | G37: 1 | J37: ='ANEXO 3 hist vs cotizaaciones'!S75 -> 7630.17 | K37: =ROUND(J37*19%,2) -> 1449.73 | L37: =ROUND(J37+K37,2) -> 9079.9
B38: 2 | E38: Resorte recuperador. | F38: UNIDAD | G38: 1 | J38: ='ANEXO 3 hist vs cotizaaciones'!S76 -> 22750 | K38: =ROUND(J38*19%,2) -> 4322.5 | L38: =ROUND(J38+K38,2) -> 27072.5
B39: 3 | E39: Resorte del disparador. | F39: UNIDAD | G39: 1 | J39: ='ANEXO 3 hist vs cotizaaciones'!S77 -> 9250 | K39: =ROUND(J39*19%,2) -> 1757.5 | L39: =ROUND(J39+K39,2) -> 11007.5
B40: 4 | E40: Resorte del percutor. | F40: UNIDAD | G40: 1 | J40: ='ANEXO 3 hist vs cotizaaciones'!S78 -> 6510.4 | K40: =ROUND(J40*19%,2) -> 1236.98 | L40: =ROUND(J40+K40,2) -> 7747.38
B41: 5 | E41: Resorte del extractor. | F41: UNIDAD | G41: 1 | J41: ='ANEXO 3 hist vs cotizaaciones'!S79 -> 11000 | K41: =ROUND(J41*19%,2) -> 2090 | L41: =ROUND(J41+K41,2) -> 13090
B42: 6 | E42: Resorte de la culata plegable. | F42: UNIDAD | G42: 1 | J42: ='ANEXO 3 hist vs cotizaaciones'!S80 -> 7415.42 | K42: =ROUND(J42*19%,2) -> 1408.93 | L42: =ROUND(J42+K42,2) -> 8824.35
B43: 7 | E43: Resorte del Culatín de la culata plegable. | F43: UNIDAD | G43: 1 | J43: ='ANEXO 3 hist vs cotizaaciones'!S81 -> 13000 | K43: =ROUND(J43*19%,2) -> 2470 | L43: =ROUND(J43+K43,2) -> 15470
B44: 8 | E44: Resorte del retén del cargador. | F44: UNIDAD | G44: 1 | J44: ='ANEXO 3 hist vs cotizaaciones'!S82 -> 13000 | K44: =ROUND(J44*19%,2) -> 2470 | L44: =ROUND(J44+K44,2) -> 15470
B45: 9 | E45: Resorte de la empuñadura de seguridad automática. | F45: UNIDAD | G45: 1 | J45: ='ANEXO 3 hist vs cotizaaciones'!S83 -> 14500 | K45: =ROUND(J45*19%,2) -> 2755 | L45: =ROUND(J45+K45,2) -> 17255
B46: 10 | E46: Resorte de seguridad del disparador. | F46: UNIDAD | G46: 1 | J46: ='ANEXO 3 hist vs cotizaaciones'!S84 -> 11450 | K46: =ROUND(J46*19%,2) -> 2175.5 | L46: =ROUND(J46+K46,2) -> 13625.5
B47: 11 | E47: Resorte de trinquete de la tuerca delantera | F47: UNIDAD | G47: 1 | J47: ='ANEXO 3 hist vs cotizaaciones'!S85 -> 9650 | K47: =ROUND(J47*19%,2) -> 1833.5 | L47: =ROUND(J47+K47,2) -> 11483.5
B48: 12 | E48: Resorte plano del cerrojo. | F48: UNIDAD | G48: 1 | J48: ='ANEXO 3 hist vs cotizaaciones'!S86 -> 8198.87 | K48: =ROUND(J48*19%,2) -> 1557.79 | L48: =ROUND(J48+K48,2) -> 9756.66
B49: 13 | E49: Resorte de la base de la mira. | F49: UNIDAD | G49: 1 | J49: ='ANEXO 3 hist vs cotizaaciones'!S87 -> 5530.37 | K49: =ROUND(J49*19%,2) -> 1050.77 | L49: =ROUND(J49+K49,2) -> 6581.14
...

Sheet ANEXO 4- FUSILES   DEF
A1: FORMATO OFERTA ECONOMICA 2026
D2: “MANTENIMIENTO CORRECTIVO CON SUMINISTRO DE REPUESTOS PARA ARMAS DE FUEGO TIPO PISTOLASCALIBRE 9MM, SUBAMETRALLADORAS CALIBRE 9MM Y FUSILES CALIBRE 5.56 DE DIFERENTES MARCAS Y MODELOS PARA LA FISCALÍA GENERAL DE LA NACIÓN”
A6: MANTENIMIENTO CORRECTIVO CON SUMINISTRO DE REPUESTOS PARA PARA ARMAS DE FUEGO TIPO FUSILES CALIBRE 5.56 DE DIFERENTES MARCAS Y MODELOS PARA LA FISCALIA GENERAL DE LA NACION SEGÚN ESPECIFICACIONES TÉCNICAS -FICHA TECNICA No. 3 (FUSILES CALIBRE 5.56)
I8: PRECIO FINAL SELECCIONADO
A9: ITEM | B9: REQUISITOS GENERALES | C9: REQUISITOS ESPECÍFICOS | D9: ACTIVIDAD | E9: UNIDAD DE MEDIDA | F9: CANTIDAD
I10: VALOR UNITARIO | J10: IVA | K10: VALOR UNITARIO INCLUIDO IVA
