Workbook
Name _Hlk194485353: Hoja1!$A$18

Sheet CONSOLIDADO
A2: PRESUPUESTO INTERVENCIÓN ASIQUIMBO
B3: Participantes | D3: 160
A4: Descripción | B4: Unidad de medida | C4: Cantidad | D4: Valor Unitario DPS | E4: Total DPS | F4: Valor Unitario Contrapartida | G4: Total Contrapartida | H4: TOTAL CONVENIO
A5: 1. BOLSA TALENTO HUMANO | E5: =SUM(E6:E6) -> 194800000 | H5: =SUM(H6:H6) -> 194800000
A6: 1.1 Bolsa Talento Humano | B6: Global | C6: =+'PPTO DPS'!C7 -> 1 | D6: ='ANEXO PPTO PS'!G16 -> 194800000 | E6: =+D6*C6 -> 194800000 | H6: =+G6+E6 -> 194800000
A7: 2. TRANSFERENCIA METODOLOGICA | E7: =E8 -> 2596250 | H7: =SUM(H8) -> 2596250
A8: 2.1 Transferencia metodológica | B8: Global | C8: 1 | D8: ='ANEXO PPTO PS'!G26 -> 2596250 | E8: =D8 -> 2596250 | H8: =+E8+G8 -> 2596250
A9: 3. BOLSA ENCUENTROS Y VISITAS | E9: =SUM(E10:E12) -> 112840000 | H9: =SUM(H10:H12) -> 112840000
A10: 3.1 Bolsa transporte para participantes encuentros y visitas | B10: Global | C10: 1 | D10: ='ANEXO PPTO PS'!O13 -> 77440000 | E10: =+C10*D10 -> 77440000 | H10: =+G10+E10 -> 77440000
A11: 3.2 Bolsa alimentación para participantes encuentros y visitas (refrigerios y almuerzos) | B11: Global | C11: 1 | D11: ='ANEXO PPTO PS'!P22 -> 33960000 | E11: =+C11*D11 -> 33960000 | H11: =+G11+E11 -> 33960000
A12: 3.3 Bolsa materiales para talleres (Libreta de apuntes y esfero) | B12: Unidad | C12: 160 | D12: ='ANEXO PPTO PS'!E69 -> 9000 | E12: =+C12*D12 -> 1440000 | H12: =+G12+E12 -> 1440000
A13: 4. BOLSA GASTOS DE VIAJE Y DESPLAZAMIENTO | E13: =SUM(E14:E14) -> 4800000 | H13: =SUM(H14:H14) -> 4800000
A14: 4.1 Bolsa de transporte para Equipo Técnico | B14: Global | C14: =+'PPTO DPS'!C25 -> 1 | D14: ='ANEXO PPTO PS'!G48 -> 4800000 | E14: =+D14*C14 -> 4800000 | H14: =+G14+E14 -> 4800000
A15: 5. GESTION DOCUMENTAL | E15: =SUM(E16) -> 5600000 | H15: =SUM(H16) -> 5600000
A16: 5.1 Impresiones de formatos, Carpetas y cajas para conservación de archivo, Envíos de correspondencia, traslado final de archivo y papelería varios | B16: Unidad | C16: 160 | D16: ='ANEXO PPTO PS'!E55 -> 35000 | E16: =+D16*C16 -> 5600000 | H16: =+G16+E16 -> 5600000
A17: 6. KIT DEL GESTOR, ASISTENCIA TECNICA Y TALLERISTA | E17: =SUM(E18) -> 900000 | H17: =SUM(H18) -> 900000
A18: 6.1 Kit del Gestor, Asistencia Técnica y Tallerista (Chaleco y Gorra) | B18: Unidad | C18: 10 | D18: ='ANEXO PPTO PS'!M29 -> 90000 | E18: =+D18*C18 -> 900000 | H18: =+E18+G18 -> 900000
A19: 7. CAPITALIZACIÓN INVERSIÓN DIRECTA | E19: =SUM(E20:E21) -> 1036920000 | H19: =SUM(H20:H21) -> 1036920000
A20: 7.1 Capitalización de unidades productivas | B20: Unidad | C20: 160 | D20: =ROUND((1423500*4.5),0) -> 6405750 | E20: =D20*C20 -> 1024920000 | H20: =+E20+G20 -> 1024920000
A21: 7.2 Transporte capitalización | B21: Unidad | C21: 160 | D21: 75000 | E21: =D21*C21 -> 12000000 | H21: =+E21+G21 -> 12000000
A22: 8. BOLSA EVENTO DE CIERRE | E22: =SUM(E23) -> 30780000 | H22: =SUM(H23) -> 30780000
A23: 8.1 Bolsa evento de cierre para participantes (transporte ida y vueltas y refrigerios) | B23: Global | C23: 1 | D23: ='ANEXO PPTO PS'!O36 -> 30780000 | E23: =+D23*C23 -> 30780000 | H23: =+E23+G23 -> 30780000
A24: SUBTOTAL DE LA INTERVENCION | E24: =E5+E7+E9+E13+E15+E17+E19+E22 -> 1389236250 | H24: =H5+H7+H9+H13+H15+H17+H19+H22 -> 1389236250
A25: 9. GASTOS ADMINISTRATIVOS | E25: =SUM(E26:E26) -> 69461813 | H25: =+G25+E25 -> 69461813
A26: 9.1 Gastos Administrativos (Sobre El subtotal de los aportes de PS) | B26: Global | C26: =+'PPTO DPS'!C34 -> 0.05 | D26: =ROUND((E24*C26),0) -> 69461813 | E26: =ROUND(+D26,0) -> 69461813 | H26: =+G26+E26 -> 69461813
A27: TOTAL PROSPERIDAD SOCIAL | E27: =+E24+E25 -> 1458698063 | H27: =+H24+H25 -> 1458698063
A28: 10. CONTRAPARTIDA | G28: =G29+G31+G33+G35 -> 53000000 | H28: =H29+H31+H33+H35 -> 53000000
A29: 10.1 Talento Humano | G29: =SUM(G30:G30) -> 21000000 | H29: =SUM(H30:H30) -> 21000000
A30: Profesional Jurídico | C30: 1 | F30: 21000000 | G30: =F30*C30 -> 21000000 | H30: =+G30+E30 -> 21000000
A31: 10.2 Salones de Reuniones | G31: =SUM(G32:G32) -> 6000000 | H31: =SUM(H32:H32) -> 6000000
A32: Uso de sedes comunitarias, oficinas y espacios de reunión para actividades organizativas y formativas | C32: 1 | F32: 6000000 | G32: =F32*C32 -> 6000000 | H32: =+G32+E32 -> 6000000
A33: 10.3 Comunicaciones y Logística Operativa | G33: =SUM(G34:G34) -> 5000000 | H33: =SUM(H34:H34) -> 5000000
A34: Llamadas, datos, internet, diseños de piezas informativas, megafonía comunitaria, y difusión territorial para convocatorias. | C34: 1 | F34: 5000000 | G34: =F34*C34 -> 5000000 | H34: =+G34+E34 -> 5000000
A35: 10.4 Otros gastos de administración de la Asociación | G35: =G36 -> 21000000 | H35: =H36 -> 21000000
A36: Otros gastos de administración de la Asociación | C36: 1 | F36: 21000000 | G36: =C36*F36 -> 21000000 | H36: =G36 -> 21000000
A37: TOTAL CONVENIO | E37: =E27 -> 1458698063 | G37: =G28 -> 53000000 | H37: =+E37+G37 -> 1511698063
D40: valor por persona | E40: =E37/160 -> 9116862.9
D41: valor inversión | E41: =E19 -> 1036920000
D42: valor operación | E42: =+E37-E41 -> 421778063
D45: Porcentaje | E45: Desembolsos
...

Sheet PPTO DPS
A2: PRESUPUESTO INTERVENCIÓN NASA KIWE
A3: Participantes | B3: 1100
A5: Descripción | B5: Unidad de medida | C5: Cantidad | D5: Unidad de tiempo | E5: Cantidad de tiempo | F5: Valor Unitario | G5: Total DPS
A6: 1. Talento Humano | G6: =SUM(G7:G13) -> 351000000
A7: 1.1 Coordinador General de proyecto | B7: Persona | C7: 1 | D7: Meses | E7: 5 | F7: 5000000 | G7: =ROUND(C7*E7*F7,0) -> 25000000
A8: 1.2 Profesional Administrativo y Financiero | B8: Persona | C8: 1 | D8: Meses | E8: 5 | F8: 3500000 | G8: =ROUND(C8*E8*F8,0) -> 17500000
A9: 1.3 Profesional conexión a mercados | B9: Persona | C9: 1 | D9: Meses | E9: 5 | F9: 3500000 | G9: =ROUND(C9*E9*F9,0) -> 17500000
A10: 1.4 Profesional - Tallerista | B10: Persona | C10: 3 | D10: Meses | E10: 2 | F10: 3500000 | G10: =ROUND(C10*E10*F10,0) -> 21000000
A11: 1.5 Profesional de asistencia tecnica | B11: Persona | C11: 3 | D11: Meses | E11: 5 | F11: 3500000 | G11: =ROUND(C11*E11*F11,0) -> 52500000
A12: 1.6 Gestor de Proyecto Productivo | B12: Persona | C12: 12 | D12: Meses | E12: 5 | F12: 3500000 | G12: =ROUND(C12*E12*F12,0) -> 210000000
A13: 1.7 Apoyo gestión documental | B13: Persona | C13: 1 | D13: Meses | E13: 3 | F13: 2500000 | G13: =ROUND(C13*E13*F13,0) -> 7500000
A14: 2. TRANSFERENCIA METODOLOGICA | G14: =G15 -> #REF!
A15: 2.1 Transferencia metodológica | B15: Global | C15: 1 | F15: =#REF! -> #REF! | G15: =F15 -> #REF!
A16: 3. Encuentros | G16: =SUM(G17:G19) -> #REF!
A17: 3.1 Bolsa de materiales para el desarrollo de talleres | B17: Global | C17: 1 | D17: N/A | E17: N/A | F17: =1100*7000 -> 7700000 | G17: =ROUND(C17*F17,0) -> 7700000 | J17: =1100*6000 -> 6600000
A18: 3.2 Bolsa de alimentación para los encuentros (Refrigerio - almuerzo) | B18: Global | C18: 1 | D18: N/A | E18: N/A | F18: =SUM(#REF!) -> #REF! | G18: =ROUND(C18*F18,0) -> #REF!
A19: 3.3 Bolsa de transporte para participantes en los encuentros (ida y vuelta) | B19: Global | C19: 1 | D19: N/A | E19: N/A | F19: =SUM(#REF!) -> #REF! | G19: ='PPTO DPS'!F19 -> #REF!
A20: 4. Evento de cierre | G20: =SUM(G21:G23) -> 10600000
A21: 4.1 Alquiler de salón, video bean y sillas evento final | B21: Unidad | C21: 1 | D21: N/A | E21: N/A | F21: 4000000 | G21: =+F21*C21 -> 4000000
A22: 4.2 Transporte de participantes evento final (ida y vuelta) | B22: Unidad | C22: 100 | D22: N/A | E22: N/A | F22: 50000 | G22: =+F22*C22 -> 5000000
A23: 4.3 Almuerzos evento final (olla comunitaria) | B23: Unidad | C23: 100 | D23: N/A | E23: N/A | F23: 16000 | G23: =+F23*C23 -> 1600000
A24: 5. Gastos de viajes y desplazamientos | G24: =SUM(G25:G25) -> #REF!
A25: 5.1 Bolsa para gastos de viaje y transportes (Gestores y Talleristas) | B25: Global | C25: 1 | D25: N/A | E25: N/A | F25: =SUM(#REF!) -> #REF! | G25: =+F25*C25 -> #REF!
A26: 6. Gestión documental | G26: =SUM(G27:G27) -> 8250000
A27: 6.1 Impresiones de formatos, Carpetas y cajas para conservación de archivo, Envíos de correspondencia, traslado final de archivo y papeleria varios | B27: Unidad | C27: 1 | D27: N/A | E27: N/A | F27: =1100*7500 -> 8250000 | G27: =+C27*F27 -> 8250000
A28: 7. Kit de Gestor | G28: =SUM(G29:G29) -> 1080000
A29: 7.1 Kit del Gestor - Chaleco -cachucha | B29: Unidad | C29: 12 | D29: N/A | E29: N/A | F29: 90000 | G29: =ROUND(C29*F29,0) -> 1080000
A30: 8. Inversión Directa | B30: Global | G30: =SUM(G31:G31) -> 2365000000
A31: 8.1 Capitalización de unidades productivas | B31: Unidad | C31: 1100 | D31: N/A | E31: 1 | F31: 2150000 | G31: =+F31*C31 -> 2365000000
A32: SUBTOTAL DE LA INTERVENCION | G32: =+G30+G16+G6+G24+G26+G28+G20+G14 -> #REF!
A33: Gastos de Administración | G33: =+G34 -> #REF!
A34: Gastos de Administración (Sobre El subtotal de los aportes de PS) | B34: Global | C34: 0.05 | D34: N/A | E34: 1 | F34: =+ROUND(G32*C34,0) -> #REF! | G34: =ROUND(+F34,0) -> #REF!
B35: TOTAL PROSPERIDAD SOCIAL | G35: =+G32+G33 -> #REF!

Sheet ANEXO PPTO PS
J2: Nota: ** De acuerdo con lo indicado por Asoquimo, la intervención se realizará en 160 unidades productivas que, en conjunto, suman 324 personas. Cada unidad productiva está conformada por 2, máximo 3 personas. En consecuencia, en el primer y segundo encuentro se atenderán las 324 personas; y para las visitas 1 y 2, así como para el tercer encuentro, asistirá únicamente un representante por unidad productiva (160 asistentes).
B7: TALENTO HUMANO | J7: Bolsa de Transporte Para Participantes Encuentros y Visitas
B8: Descripción | C8: Unidad de medida | D8: Cantidad | E8: Meses | F8: Valor Unitario DPS | G8: Total DPS | J8: Descripción | K8: Unidad de medida | L8: N° Unidades Productivas | M8: N° Personas por Unidad Productiva ** | N8: Valor Unitario | O8: Valor Total
B9: 1.1 Coordinador General de proyecto | C9: Persona | D9: 1 | E9: 4 | F9: 5000000 | G9: =F9*E9*D9 -> 20000000 | J9: Transporte Ida y Vueltas 1 encuentro | K9: Persona | L9: 160 | M9: 324 | N9: 80000 | O9: =+N9*M9 -> 25920000
B10: 1.2 Profesional Financiero | C10: Persona | D10: 1 | E10: 4 | F10: 4000000 | G10: =F10*E10*D10 -> 16000000 | J10: Transporte Ida y Vueltas 2 encuentro | K10: Persona | L10: 160 | M10: 324 | N10: 80000 | O10: =+N10*M10 -> 25920000
B11: 1.3 Apoyo de gestión documental | C11: Persona | D11: 2 | E11: 4 | F11: 2800000 | G11: =F11*E11*D11 -> 22400000 | J11: Transporte Ida y Vueltas Visita 1 y 2 | K11: Persona | L11: 160 | M11: 160 | N11: 80000 | O11: =+N11*M11 -> 12800000
B12: 1.4 Gestor de Proyecto Productivo | C12: Persona | D12: 4 | E12: 4 | F12: 4200000 | G12: =F12*E12*D12 -> 67200000 | J12: Transporte Ida y Vueltas 3 encuentro | K12: Persona | L12: 160 | M12: 160 | N12: 80000 | O12: =+N12*M12 -> 12800000
B13: 1.5 Asistencia técnica | C13: Persona | D13: 3 | E13: 4 | F13: 4800000 | G13: =F13*E13*D13 -> 57600000 | J13: TOTAL | N13: =SUM(N9:N12) -> 320000 | O13: =SUM(O9:O12) -> 77440000
B14: 1.6 Tallerista | C14: Persona | D14: 3 | E14: 1 | F14: 3200000 | G14: =F14*E14*D14 -> 9600000
B15: 1.7 Apoyo logístico encuentros y capitalización | C15: Persona | D15: 1 | E15: 1 | F15: 2000000 | G15: =F15*E15*D15 -> 2000000
B16: TOTAL | F16: =SUM(F9:F15) -> 26000000 | G16: =SUM(G9:G15) -> 194800000 | J16: Bolsa de Alimentación Para Participantes Encuentros y Visitas (Refrigerio - almuerzo)
J17: Descripción | K17: Unidad de medida | L17: N° Unidades Productivas | M17: N° Personas por Unidad Productiva** | N17: Valor refrigerios | O17: Valor almuerzos | P17: Valor Total
J18: Primer Encuentro | K18: Unidad | L18: 160 | M18: 324 | N18: 15000 | O18: 30000 | P18: =+(N18+O18)*M18 -> 14580000
B19: TRANSFERENCIA METODOLOGICA | J19: Segundo Encuentro | K19: Unidad | L19: 160 | M19: 324 | N19: 15000 | O19: 30000 | P19: =+(N19+O19)*M19 -> 14580000
B20: Transferencia metodológica | C20: Cantidad | D20: Vlr unitario antes de IVA | E20: IVA (si aplica) 19% | F20: Valor Unitario | G20: valor total | J20: Visitas 1 y 2 | K20: Unidad | L20: 160 | M20: 160 | N20: 15000 | O20: 0 | P20: =N20*M20 -> 2400000
B21: Refrigerio (Snack pasaboca 100 gr hacen referencia, a productos de panadería o derivados de cereales como el maíz, el arroz, trigo, como por ejemplo pan de yuca, pan de queso, ponqué, palitos de queso, cucas, arepas, empanadas, etc.; bebida jugo Tetrapak 200 ml, fruta natural temporada, Empaque bolsa papel servilleta) | C21: 25 | D21: 12605 | E21: =ROUND(D21*19%,0) -> 2395 | F21: =D21+E21 -> 15000 | G21: =+F21*C21 -> 375000 | J21: Tercer Encuentro | K21: Unidad | L21: 160 | M21: 160 | N21: 15000 | O21: 0 | P21: =N21*M21 -> 2400000
B22: Almuerzo (Carnes. * 150 gr, Cereales, tubérculos, raíces, plátanos y derivados. **150 gr, Verdura 100 gr, Jugo de fruta natural 200 ml y Fruta entera de temporada 180 gr) | C22: 25 | D22: 25210 | E22: =ROUND(D22*19%,0) -> 4790 | F22: =D22+E22 -> 30000 | G22: =+F22*C22 -> 750000 | J22: TOTAL | N22: =SUM(N18:N21) -> 60000 | O22: =SUM(O18:O21) -> 60000 | P22: =SUM(P18:P21) -> 33960000
B23: Estación de café para 25 personas (disponible para toda la jornada). | C23: 2 | D23: 504202 | E23: =ROUND(D23*19%,0) -> 95798 | F23: =D23+E23 -> 600000 | G23: =+F23*C23 -> 1200000
B24: libreta tamaño media carta | C24: 25 | D24: 7563 | E24: =ROUND(D24*19%,0) -> 1437 | F24: =D24+E24 -> 9000 | G24: =+F24*C24 -> 225000
B25: Esfero | C25: 25 | D25: 1555 | E25: =ROUND(D25*19%,0) -> 295 | F25: =D25+E25 -> 1850 | G25: =+F25*C25 -> 46250 | J25: KIT DEL GESTOR, ASISTENCIA TECNICA Y TALLERISTA
B26: TOTAL | G26: =SUM(G21:G25) -> 2596250 | J26: Unidad de medida | K26: Unidad de medida | L26: Cantidad | M26: Valor Unitario | N26: Valor Total
B27: * Las Carnes hacen referencia a la carne de res, pollo, pescado o cerdo. No se podrá brindar huevos, embutidos (salchichas, jamón, mortadela), enlatados, ni carne proveniente de animales que estén catalogadas como fauna protegida o se encuentre en peligro de extinción. | J27: Chaleco | K27: Persona | L27: 10 | M27: 70000 | N27: =+L27*M27 -> 700000
B28: ** Se deberá suministrar dos porciones de alimentos diferentes del grupo de cereales, tubérculos, raíces, plátanos y derivados; por ejemplo, un cereal como arroz y un tubérculo como papa. | J28: Gorra | K28: Persona | L28: 10 | M28: 20000 | N28: =+L28*M28 -> 200000
J29: TOTAL | M29: 90000 | N29: =SUM(N27:N28) -> 900000
B31: Detalle participación equipo técnico encuentros y/o visitas
B32: Descripción | C32: Talleristas | D32: Asistencia técnica | E32: Gestores | J32: Bolsa Evento de Cierre para Participantes
B33: Primer Encuentro | E33: 1 | J33: Descripción | K33: Unidad de medida | L33: N° Unidades Productivas | M33: N° Personas por Unidad Productiva** | N33: Valor Unitario | O33: Valor Total
B34: Segundo Encuentro | C34: 1 | E34: 1 | J34: Transporte evento de cierre | K34: Unidad | L34: 160 | M34: 324 | N34: 80000 | O34: =N34*M34 -> 25920000
B35: Visitas 1 | C35: 1 | E35: 1 | J35: Refrigerio evento de cierre | K35: Unidad | L35: 160 | M35: 324 | N35: 15000 | O35: =N35*M35 -> 4860000
B36: Visitas 2 | C36: 1 | E36: 1 | J36: TOTAL | N36: =SUM(N34:N35) -> 95000 | O36: =SUM(O34:O35) -> 30780000
B37: Tercer Encuentro | C37: 1 | D37: 1 | E37: 1
B38: Visitas Mensuales | D38: 6
B39: Evento de cierre | D39: 1 | E39: 1
B40: TOTAL | C40: =SUM(C33:C39) -> 4 | D40: =SUM(D33:D39) -> 8 | E40: =SUM(E33:E39) -> 6
B43: Bolsa para gastos de transportes (Equipo Técnico)
B44: Descripción | C44: Unidad de medida | D44: Cantidad de visitas/actividades | E44: Personas | F44: Valor Unitario | G44: Valor Total
B45: Profesional - Tallerista | C45: Unidad | D45: =C40 -> 4 | E45: 3 | F45: 80000 | G45: =D45*E45*F45 -> 960000
B46: Asistencia técnica | C46: Unidad | D46: =D40 -> 8 | E46: 3 | F46: 80000 | G46: =D46*E46*F46 -> 1920000
B47: Gestor de Proyecto Productivo | C47: Unidad | D47: =E40 -> 6 | E47: 4 | F47: 80000 | G47: =D47*E47*F47 -> 1920000
B48: TOTAL | F48: =SUM(F45:F47) -> 240000 | G48: =SUM(G45:G47) -> 4800000
...

Sheet Hoja1
A1: ALISTAMIENTO | B1: =+#REF!+#REF!+#REF! -> #REF!
A2: FORMACION | B2: =+#REF!+#REF!+#REF!+#REF! -> #REF!
A3: CAPITALIZACION | B3: =+CONSOLIDADO!H19 -> 1036920000
A4: CIERRE | B4: =+#REF!+#REF! -> #REF!
A5: GESTION DOCUMENTAL | B5: =CONSOLIDADO!H16 -> 5600000
A6: TALENTO HUMANO | B6: =CONSOLIDADO!H5 -> 194800000
A7: KIT DEL GESTOR | B7: =+CONSOLIDADO!H17 -> 900000
A8: GASTOS ADMINISTRATIVOS | B8: =+CONSOLIDADO!H25 -> 69461813
B9: =SUM(B1:B8) -> #REF!
B10: 6195425775
B11: =+B9-B10 -> #REF!
A18: CONTRATACIÓN DE TALENTO HUMANO | B18: CANTIDAD
A19: Coordinador General del Proyecto | B19: 1
A20: Profesional Financiero | B20: 1
A21: Profesional de conexión a mercados | B21: 8
A22: Profesional – Tallerista | B22: 11
A23: Profesional de Asistencia Técnica | B23: 11
A24: Gestor de Proyecto Productivo | B24: 22
A25: Apoyo gestión documental | B25: 1
