Workbook

Sheet APAB_Información
B3: HERRAMIENTA DE ANÁLISIS PARA EL MANEJO DE OFERTAS ARTIFICIALMENTE BAJAS EN PROCESOS DE CONTRATACIÓN
B5: Notas 1) La siguiente herramienta se configura cómo un mecanismo que coadyuve a las Entidades Estatales a realizar el ejercicio de revisión y análisis de las ofertas recibidas en los procesos de contratación, de conformidad con los lineamientos definidos en la "Guía para el manejo de ofertas artificialmente bajas en Procesos de Contratación", ANCP - CCE. 2) Es importante indicar que la herramienta se constituye como un insumo para realizar el ejercicio de análisis, sin embargo, es obligatorio reiterar que la Entidad se encuentra facultada y deberá realizar los análisis adicionales que considere necesarios de acuerdo con las particularidades del proceso de selección o determinar la metodología que considere con base en la que validarán los precios artificialmente bajos. Esto, en virtud del principio de autonomía de la voluntad que les otorga el ordenamiento jurídico. 3) Para su uso, deberán diligenciar las celdas de color azul. 4) La hoja "APAB_Resultados" se retroalimenta de manera automática con el diligenciamiento de la hoja "APAB_Informacion" 5) Si la Entidad tiene un mayor número de ofertas habilitadas en el proceso, se recomienda incluir filas adicionales en la hoja "APAB_Información" y ajustar las fórmulas en la hoja "APAB_Resultados".
B12: Presupuesto del proceso o sumatoria de precios unitarios (costo estimado del contrato): | G12: 103856964
B15: ¿El proceso de selección se adelanta bajo la modalidad de Subasta Inversa? | G15: NO
B17: OFERTAS RECIBIDAS
B19: No. | C19: Proponente | F19: Valor Total de la Oferta o Sumatoria de precios unitarios
B20: 1 | C20: OOPC INGENIERIA SAS | F20: 59544987
B21: 2 | C21: CYG INTEGRAL SOLUTION | F21: 59535700
B22: 3 | C22: GPS ELECTRONICS LTDA | F22: 50803480
B23: 4 | C23: DIGITAL CENTER | F23: 90168842
B24: 5 | C24: INMOTICA SAS | F24: 92335270
B25: 6 | C25: SIAV GESTION SAS | F25: 66468420
B26: 7 | C26: QUANTIUM INGENIERIA SAS | F26: 75816447
B27: 8 | C27: IDULTEC SOLUCIONES INTEGRALES SAS | F27: 101441554
B28: 9 | C28: IGL INGENIERIA SAS | F28: 66535008
B29: 10 | C29: CIVILTEL SOLUCIONES SAS | F29: 66642889
B30: 11 | C30: IGSAM SAS | F30: 70945660
B31: 12 | C31: CRR SOLUCIONES I NTEGRALES SAS | F31: 70576943
... B41: 22 | C41: MYM ENERGY SOLUTIONS | F41: 64590000

Sheet APAB_Resultados
B3: INFORMACIÓN SOPORTE PARA EL ANÁLISIS
B5: ¿El proceso de selección se adelanta bajo la modalidad de Subasta Inversa? | H5: NO
B7: Cantidad de Ofertas Habilitadas | H7: 22
B9: Método de comparación a utilizar | H9: =IF(OR($H$7=0,$H$7=""),"",IF(AND(H5="NO",H7<5),"Absoluta",IF(AND(H5="SI",H7<5),"Absoluta",IF(AND(H5="SI",H7>=5),"Absoluta",IF(AND(H5="NO",H7>=5),"Relativa"))))) -> Relativa
B11: VARIABLES A UTILIZAR
B13: Mediana | H13: =IF($H$9="","",IFERROR(IF($H$9="Absoluta","No aplica",ROUND(MEDIAN(APAB_Información!F20:H48),0)),"")) -> 73381054
B14: Desviación estandar | H14: =IF($H$9="","",IFERROR(IF($H$9="Absoluta","No aplica",ROUND(_xlfn.STDEV.P(APAB_Información!F20:H48),0)),"")) -> 15085301
B15: Valor mínimo aceptable | H15: =IFERROR(IF($H$9="Absoluta","No aplica",ROUND(H13-H14,0)),"") -> 58295753
B17: Presupuesto del proceso o sumatoria de precios unitarios (costo estimado del contrato): | H17: =IF(APAB_Información!$G$12="","",APAB_Información!$G$12) -> 103856964
B20: OFERTAS RECIBIDAS
B22: No. | C22: Proponente | E22: Valor Total de la Oferta o Sumatoria de precios unitarios | H22: =+"% Diferencia de la oferta con respecto al "&IF($H$9="Absoluta","Costo Estimado del contrato","Valor mínimo aceptable") -> % Diferencia de la oferta con respecto al Valor mínimo aceptable
B23: =IF(APAB_Información!B20="","",APAB_Información!B20) -> 1 | C23: =IF(APAB_Información!C20="","",APAB_Información!C20) -> OOPC INGENIERIA SAS | E23: =IF(APAB_Información!F20="","",APAB_Información!F20) -> 59544987 | H23: =IFERROR(IF($H$9="Absoluta",E23/$H$17-1,E23/$H$15-1),"") -> 0.021429245
B24: =IF(APAB_Información!B21="","",APAB_Información!B21) -> 2 | C24: =IF(APAB_Información!C21="","",APAB_Información!C21) -> CYG INTEGRAL SOLUTION | E24: =IF(APAB_Información!F21="","",APAB_Información!F21) -> 59535700 | H24: =IFERROR(IF($H$9="Absoluta",E24/$H$17-1,E24/$H$15-1),"") -> 0.021269937
B25: =IF(APAB_Información!B22="","",APAB_Información!B22) -> 3 | C25: =IF(APAB_Información!C22="","",APAB_Información!C22) -> GPS ELECTRONICS LTDA | E25: =IF(APAB_Información!F22="","",APAB_Información!F22) -> 50803480 | H25: =IFERROR(IF($H$9="Absoluta",E25/$H$17-1,E25/$H$15-1),"") -> -0.12852176
B26: =IF(APAB_Información!B23="","",APAB_Información!B23) -> 4 | C26: =IF(APAB_Información!C23="","",APAB_Información!C23) -> DIGITAL CENTER | E26: =IF(APAB_Información!F23="","",APAB_Información!F23) -> 90168842 | H26: =IFERROR(IF($H$9="Absoluta",E26/$H$17-1,E26/$H$15-1),"") -> 0.54674805
B27: =IF(APAB_Información!B24="","",APAB_Información!B24) -> 5 | C27: =IF(APAB_Información!C24="","",APAB_Información!C24) -> INMOTICA SAS | E27: =IF(APAB_Información!F24="","",APAB_Información!F24) -> 92335270 | H27: =IFERROR(IF($H$9="Absoluta",E27/$H$17-1,E27/$H$15-1),"") -> 0.58391075
B28: =IF(APAB_Información!B25="","",APAB_Información!B25) -> 6 | C28: =IF(APAB_Información!C25="","",APAB_Información!C25) -> SIAV GESTION SAS | E28: =IF(APAB_Información!F25="","",APAB_Información!F25) -> 66468420 | H28: =IFERROR(IF($H$9="Absoluta",E28/$H$17-1,E28/$H$15-1),"") -> 0.14019318
B29: =IF(APAB_Información!B26="","",APAB_Información!B26) -> 7 | C29: =IF(APAB_Información!C26="","",APAB_Información!C26) -> QUANTIUM INGENIERIA SAS | E29: =IF(APAB_Información!F26="","",APAB_Información!F26) -> 75816447 | H29: =IFERROR(IF($H$9="Absoluta",E29/$H$17-1,E29/$H$15-1),"") -> 0.30054838
B30: =IF(APAB_Información!B27="","",APAB_Información!B27) -> 8 | C30: =IF(APAB_Información!C27="","",APAB_Información!C27) -> IDULTEC SOLUCIONES INTEGRALES SAS | E30: =IF(APAB_Información!F27="","",APAB_Información!F27) -> 101441554 | H30: =IFERROR(IF($H$9="Absoluta",E30/$H$17-1,E30/$H$15-1),"") -> 0.74011911
B31: =IF(APAB_Información!B28="","",APAB_Información!B28) -> 9 | C31: =IF(APAB_Información!C28="","",APAB_Información!C28) -> IGL INGENIERIA SAS | E31: =IF(APAB_Información!F28="","",APAB_Información!F28) -> 66535008 | H31: =IFERROR(IF($H$9="Absoluta",E31/$H$17-1,E31/$H$15-1),"") -> 0.14133542
B32: =IF(APAB_Información!B29="","",APAB_Información!B29) -> 10 | C32: =IF(APAB_Información!C29="","",APAB_Información!C29) -> CIVILTEL SOLUCIONES SAS | E32: =IF(APAB_Información!F29="","",APAB_Información!F29) -> 66642889 | H32: =IFERROR(IF($H$9="Absoluta",E32/$H$17-1,E32/$H$15-1),"") -> 0.14318601
B33: =IF(APAB_Información!B30="","",APAB_Información!B30) -> 11 | C33: =IF(APAB_Información!C30="","",APAB_Información!C30) -> IGSAM SAS | E33: =IF(APAB_Información!F30="","",APAB_Información!F30) -> 70945660 | H33: =IFERROR(IF($H$9="Absoluta",E33/$H$17-1,E33/$H$15-1),"") -> 0.21699534
B34: =IF(APAB_Información!B31="","",APAB_Información!B31) -> 12 | C34: =IF(APAB_Información!C31="","",APAB_Información!C31) -> CRR SOLUCIONES I NTEGRALES SAS | E34: =IF(APAB_Información!F31="","",APAB_Información!F31) -> 70576943 | H34: =IFERROR(IF($H$9="Absoluta",E34/$H$17-1,E34/$H$15-1),"") -> 0.21067041
... B45: =IF(APAB_Información!B42="","",APAB_Información!B42) | C45: =IF(APAB_Información!C42="","",APAB_Información!C42) | E45: =IF(APAB_Información!F42="","",APAB_Información!F42) | H45: =IFERROR(IF($H$9="Absoluta",E45/$H$17-1,E45/$H$15-1),"")
