Workbook
Name BASPC29: #REF!
Name CENTRAL_ADMINISTRATIVA_Y_CONTABLE_ESPECIALIZADA_TELEMÁTICA: #REF!
Name Rubros: #REF!

Sheet DISTRIBUCION PRESUPUESTAL
B2: TIPO DE GASTO | C2: CTA | D2: SUB | E2: OBJG | F2: ORD | G2: SUB - ORD | H2: FUENTE | I2: REC | J2: C/S | K2: DESCRIPCIÓN | L2: VALOR
B3: A | C3: 02 | D3: 02 | E3: 01 | F3: 004 | G3: 003 | H3: NACIÓN | I3: 16 | J3: CSF | K3: MAQUINA PARA USO GENERAL | L3: =+'PRESUPUESTO POR UNIDAD'!#REF! -> #REF!
B4: A | C4: 02 | D4: 02 | E4: 02 | F4: 008 | G4: 007 | H4: NACIÓN | I4: 10 | J4: SSF | K4: SERVICIOS DE MANTENIMIENTO Y REPARACIÓN DE OTRA MAQUINARIA Y OTRO E QUIPO | L4: =+'PRESUPUESTO POR UNIDAD'!#REF! -> #REF!
B5: TOTAL PRESUPUESTO ASIGNADO VIGENCIA 2024 | L5: =SUM(L3:L4) -> #REF!

Sheet ANALISIS DE COTIZACIONES
B4: ANÁLISIS DE COTIZACIONES
E5: PRECIOS HISTÓRICOS | F5: =+#REF! -> #REF! | G5: =+#REF! -> #REF! | H5: =+#REF! -> #REF! | I5: =+#REF! -> #REF! | J5: MENOR VALOR | K5: PROMEDIO | L5: MEDIA GEOMETRICA | M5: MEDIA ARMONICA | N5: DESVIACIÓN ESTANDAR | O5: COEFICIENTE DE VARIACIÓN | P5: PRECIO DE REFERENCIA | Q5: METRICA UTILIZADA
B6: ÍTEM | C6: DESCRIPCIÓN DEL BIEN Y/O SERVICIO | D6: UNIDAD MEDIDA | F6: VALOR UNITARIO IVA INCLUIDO (si aplica) | G6: VALOR UNITARIO IVA INCLUIDO (si aplica) | H6: VALOR UNITARIO IVA INCLUIDO (si aplica)
B7: 1 | C7: OVEROL IMPERMEABLE DE 2 PIEZAS: Tipo industrial calibre 18. Tallas de acuerdo a la necesidad de la unidad (S/M/L/XL) | D7: UNIDAD | F7: 89250 | G7: 119000 | H7: 146399.75 | I7: 213150 | J7: =ROUND(MIN(E7,F7,G7,H7),0) -> 89250 | K7: =ROUND(AVERAGE(E7,F7,G7,H7),0) -> 118217 | L7: =ROUND(GEOMEAN(E7,F7,G7,H7),0) -> 115851 | M7: =ROUND(HARMEAN(E7,F7,G7,H7),0) -> 113471 | N7: =ROUND(_xlfn.STDEV.P(E7,F7,G7,H7),0) -> 23338 | O7: =N7/K7 -> 0.19741662 | P7: =ROUND(IF(O7<=0.4,J7,IF(AND(O7>0.4,O7<=0.8),M7,IF(AND(O7>0.8,O7<=1.1),L7,K7))),0) -> 89250 | Q7: =IF(P7=J7,"MENOR VALOR",IF(P7=K7,"PROMEDIO",IF(P7=L7,"MEDIA GEOMETRICA",IF(P7=M7,"MEDIA ARMONICA")))) -> MENOR VALOR
B8: 2 | C8: OVEROL TIPO PILOTO (overol completo modelo piloto (12 cremalleras) en ristok milimetrado color verde militar, con cierre frontal doble carro nylon. 100% algodón cuello ajustado con cierre de contacto. dos bolsillos (centrados) en pecho con dimensiones de 14 centímetros de ancho por 22 centímetros de alto con cierres diagonales y cremallera en nylon. bolsillo portalápices en pecho izquierdo de 3.81 centímetros de ancho y 12.7 centímetros de largo. mangas con puños rectos ajustados con cierre en cremallera de 13.78 centímetros de largo. piernas rectas con cierre cremallera en nylon de 15.32 centímetros de largo. dos bolsillos de parche en la parte trasera de 14 centímetros de ancho por 22 centímetros de alto con cierres en cremallera nylon, espalda con fuelle y cintura elasticada. refuerzos acolchados (guata 500 x 2) en codos y rodillas de tipo rectangular de 20.32 centímetros, un bolsillo interior lateral a cada lado. dos bolsillos laterales en muslos de 14 centímetros de ancho por 22 centímetros de alto con cierres en cremallera nylon. tallas s – m – l – xl,) | D8: UNIDAD | F8: 142800 | G8: 214200 | H8: 211123.85 | I8: 281200 | J8: =ROUND(MIN(E8,F8,G8,H8),0) -> 142800 | K8: =ROUND(AVERAGE(E8,F8,G8,H8),0) -> 189375 | L8: =ROUND(GEOMEAN(E8,F8,G8,H8),0) -> 186221 | M8: =ROUND(HARMEAN(E8,F8,G8,H8),0) -> 182839 | N8: =ROUND(_xlfn.STDEV.P(E8,F8,G8,H8),0) -> 32957 | O8: =N8/K8 -> 0.17403036 | P8: =ROUND(IF(O8<=0.4,J8,IF(AND(O8>0.4,O8<=0.8),M8,IF(AND(O8>0.8,O8<=1.1),L8,K8))),0) -> 142800 | Q8: =IF(P8=J8,"MENOR VALOR",IF(P8=K8,"PROMEDIO",IF(P8=L8,"MEDIA GEOMETRICA",IF(P8=M8,"MEDIA ARMONICA")))) -> MENOR VALOR
B9: 3 | C9: TRAJE ENTERIZO CON CAPOTA O CAPUCHA, CON BOTAS ADHERIDAS AL TRAJE (VULCANIZADAS) Overol tipo fontanero fabricado bajo norma NTC 4615 en tela vinílica compacta con soporte textil en poliéster. Elaborado por proceso de electro sellado de alta frecuencia. Con bota integrada en PVC y con puntera. Color de bota Amarillo. Talla de acuerdo a la necesidad de la unidad (S/M/L/XL) | D9: UNIDAD | F9: 297500 | G9: 226100 | H9: 539368 | I9: 434000 | J9: =ROUND(MIN(E9,F9,G9,H9),0) -> 226100 | K9: =ROUND(AVERAGE(E9,F9,G9,H9),0) -> 354323 | L9: =ROUND(GEOMEAN(E9,F9,G9,H9),0) -> 331048 | M9: =ROUND(HARMEAN(E9,F9,G9,H9),0) -> 311262 | N9: =ROUND(_xlfn.STDEV.P(E9,F9,G9,H9),0) -> 134054 | O9: =N9/K9 -> 0.37833841 | P9: =ROUND(IF(O9<=0.4,J9,IF(AND(O9>0.4,O9<=0.8),M9,IF(AND(O9>0.8,O9<=1.1),L9,K9))),0) -> 226100 | Q9: =IF(P9=J9,"MENOR VALOR",IF(P9=K9,"PROMEDIO",IF(P9=L9,"MEDIA GEOMETRICA",IF(P9=M9,"MEDIA ARMONICA")))) -> MENOR VALOR
B10: 4 | C10: DELANTAL PARA SUSTANCIAS QUÍMICAS: sujeción de cuatro puntos, 2 cuello y 2 cintura. en poliéster recubierto pvc calibre 25 (0,58mm) sistema electro sellado. 82cm largo x 115cm ancho. materiales bajo norma astm, ntc3583, iso 9001. x und. tallas de acuerdo a la necesidad de la unidad (S/M/L/XL) | D10: UNIDAD | F10: 59500 | G10: 71400 | H10: 87179.4 | I10: 165600 | J10: =ROUND(MIN(E10,F10,G10,H10),0) -> 59500 | K10: =ROUND(AVERAGE(E10,F10,G10,H10),0) -> 72693 | L10: =ROUND(GEOMEAN(E10,F10,G10,H10),0) -> 71814 | M10: =ROUND(HARMEAN(E10,F10,G10,H10),0) -> 70951 | N10: =ROUND(_xlfn.STDEV.P(E10,F10,G10,H10),0) -> 11337 | O10: =N10/K10 -> 0.15595724 | P10: =ROUND(IF(O10<=0.4,J10,IF(AND(O10>0.4,O10<=0.8),M10,IF(AND(O10>0.8,O10<=1.1),L10,K10))),0) -> 59500 | Q10: =IF(P10=J10,"MENOR VALOR",IF(P10=K10,"PROMEDIO",IF(P10=L10,"MEDIA GEOMETRICA",IF(P10=M10,"MEDIA ARMONICA")))) -> MENOR VALOR
B11: 5 | C11: DELANTAL IMPERMEABLE RESISTENCIA QUIMICA: Delantal impermeable de PVC , material vinílico con soporte textil, electrosellado que hace de la prenda impermeable, tiras de sujeción en el cuello y la cintura. Protege la zona pectoral y ventral de salpicaduras y sprays de productos químicos. Protección contra productos químicos líquidos en forma de pulverización. Ideal para manipulación de químicos y limpiezas industriales. Muy alta resistencia mecánica y alta durabilidad. tallas de acuerdo a la necesidad de la unidad. | D11: UNIDAD | F11: 41650 | G11: 95200 | H11: 198795.45 | I11: 154800 | J11: =ROUND(MIN(E11,F11,G11,H11),0) -> 41650 | K11: =ROUND(AVERAGE(E11,F11,G11,H11),0) -> 111882 | L11: =ROUND(GEOMEAN(E11,F11,G11,H11),0) -> 92375 | M11: =ROUND(HARMEAN(E11,F11,G11,H11),0) -> 75865 | N11: =ROUND(_xlfn.STDEV.P(E11,F11,G11,H11),0) -> 65230 | O11: =N11/K11 -> 0.58302497 | P11: =ROUND(IF(O11<=0.4,J11,IF(AND(O11>0.4,O11<=0.8),M11,IF(AND(O11>0.8,O11<=1.1),L11,K11))),0) -> 75865 | Q11: =IF(P11=J11,"MENOR VALOR",IF(P11=K11,"PROMEDIO",IF(P11=L11,"MEDIA GEOMETRICA",IF(P11=M11,"MEDIA ARMONICA")))) -> MEDIA ARMONICA
B12: 6 | C12: GUANTES QUÍMICOS DE NITRILO resistentes a quimicos que proporcionan proteccion de las manos cuando es necesario entrar en contacto con solventes combustibles y grasas Con un recubrimiento externo en nitrilo verde que proporciona la barrera contra la penetracion de sustancias quimicas Los guates son texturizados en la punta de los dedos y en la palma para brindar mayor agarre en seco y en humedo y son lisos en las demas areas para evitar la acumulacion de sustancias que puedan degradarlos en el tiempo Estos elementos de proteccion de manos estan libres de costuras para mayor destreza y comodidad y no tienen latex ni siliconas en su composicion Minimo 18 de longitud Espesor maximo 22 milesimas Tallas sujetas a las necesidades de la Unidad | D12: PAR | F12: 41650 | G12: 23800 | H12: 149481.85 | I12: 121550 | J12: =ROUND(MIN(E12,F12,G12,H12),0) -> 23800 | K12: =ROUND(AVERAGE(E12,F12,G12,H12),0) -> 71644 | L12: =ROUND(GEOMEAN(E12,F12,G12,H12),0) -> 52917 | M12: =ROUND(HARMEAN(E12,F12,G12,H12),0) -> 41256 | N12: =ROUND(_xlfn.STDEV.P(E12,F12,G12,H12),0) -> 55520 | O12: =N12/K12 -> 0.77494277 | P12: =ROUND(IF(O12<=0.4,J12,IF(AND(O12>0.4,O12<=0.8),M12,IF(AND(O12>0.8,O12<=1.1),L12,K12))),0) -> 41256 | Q12: =IF(P12=J12,"MENOR VALOR",IF(P12=K12,"PROMEDIO",IF(P12=L12,"MEDIA GEOMETRICA",IF(P12=M12,"MEDIA ARMONICA")))) -> MEDIA ARMONICA | R12: =+P12*20% -> 8251.2 | S12: =+P12-R12 -> 33004.8
B13: 7 | C13: Guante de nitrilo Largo: El guante está fabricado con una capa de 15 mils (milésimas de pulgada) de nitrilo y tiene una longitud de 13”. Los guantes deben de utilizarse para manipular los productos químicos ALTAQ evitando el contacto directo con la mano, así prevenimos cualquier alergia, irritación o quemadura. El interior del guante tiene un revestimiento de algodón que brinda mayor comodidad y facilita la postu ra y remoción del mismo. La punta de los dedos son texturizadas con un patrón en forma de rombos para darle más agarre tanto en húmedo como en seco. El resto del guante es liso, para evitar acumulación de químicos que puedan con el tiempo degradar el guante. Norma EN 420:2003 CAJA X 100 UNIDADES | D13: CAJA | F13: 23800 | G13: 41650 | H13: 81455.5 | I13: 111350 | J13: =ROUND(MIN(E13,F13,G13,H13),0) -> 23800 | K13: =ROUND(AVERAGE(E13,F13,G13,H13),0) -> 48969 | L13: =ROUND(GEOMEAN(E13,F13,G13,H13),0) -> 43222 | M13: =ROUND(HARMEAN(E13,F13,G13,H13),0) -> 38313 | N13: =ROUND(_xlfn.STDEV.P(E13,F13,G13,H13),0) -> 24100 | O13: =N13/K13 -> 0.49214809 | P13: =ROUND(IF(O13<=0.4,J13,IF(AND(O13>0.4,O13<=0.8),M13,IF(AND(O13>0.8,O13<=1.1),L13,K13))),0) -> 38313 | Q13: =IF(P13=J13,"MENOR VALOR",IF(P13=K13,"PROMEDIO",IF(P13=L13,"MEDIA GEOMETRICA",IF(P13=M13,"MEDIA ARMONICA")))) -> MEDIA ARMONICA
B14: 8 | C14: BOTAS DE SEGURIDAD: Bota de seguridad: Caña alta de 8" , fabricado en cuero con puntera reforzada. NTC 2396 Botas seguridad. Tallas de acuerdo a la necesidad de la unidad | D14: PAR | F14: 142800 | G14: 214200 | H14: 297202.5 | I14: 228000 | J14: =ROUND(MIN(E14,F14,G14,H14),0) -> 142800 | K14: =ROUND(AVERAGE(E14,F14,G14,H14),0) -> 218068 | L14: =ROUND(GEOMEAN(E14,F14,G14,H14),0) -> 208705 | M14: =ROUND(HARMEAN(E14,F14,G14,H14),0) -> 199521 | N14: =ROUND(_xlfn.STDEV.P(E14,F14,G14,H14),0) -> 63094 | O14: =N14/K14 -> 0.28933177 | P14: =ROUND(IF(O14<=0.4,J14,IF(AND(O14>0.4,O14<=0.8),M14,IF(AND(O14>0.8,O14<=1.1),L14,K14))),0) -> 142800 | Q14: =IF(P14=J14,"MENOR VALOR",IF(P14=K14,"PROMEDIO",IF(P14=L14,"MEDIA GEOMETRICA",IF(P14=M14,"MEDIA ARMONICA")))) -> MENOR VALOR
B15: 9 | C15: GUANTE DE CAUCHO NEGRO INDUSTRIAL Fabricado en PVC calibre 35, NTC 444 - 445 - 446 tallas 7- 8-9 | D15: CAJA | F15: 17850 | G15: 119000 | H15: 22015 | I15: 17640 | J15: =ROUND(MIN(E15,F15,G15,H15),0) -> 17850 | K15: =ROUND(AVERAGE(E15,F15,G15,H15),0) -> 52955 | L15: =ROUND(GEOMEAN(E15,F15,G15,H15),0) -> 36028 | M15: =ROUND(HARMEAN(E15,F15,G15,H15),0) -> 27310 | N15: =ROUND(_xlfn.STDEV.P(E15,F15,G15,H15),0) -> 46732 | O15: =N15/K15 -> 0.88248513 | P15: =ROUND(IF(O15<=0.4,J15,IF(AND(O15>0.4,O15<=0.8),M15,IF(AND(O15>0.8,O15<=1.1),L15,K15))),0) -> 36028 | Q15: =IF(P15=J15,"MENOR VALOR",IF(P15=K15,"PROMEDIO",IF(P15=L15,"MEDIA GEOMETRICA",IF(P15=M15,"MEDIA ARMONICA")))) -> MEDIA GEOMETRICA
B16: 1 | C16: MANGAS EN CARNAZA: Cuero vacuno de calibre 2.4 MM, según NTC E-79 y cosidos con hilo 100% algodón según lo indicado en la NTC-1981, las costuras deben ser uniformes, no debe presentar pliegues ni fruncidos. | D16: UNIDAD | E16: =+#REF! -> #REF! | F16: 41650 | G16: 29750 | H16: 65494.625 | I16: 30500 | J16: =ROUND(MIN(E16,F16,G16,H16),0) -> #REF! | K16: =ROUND(AVERAGE(E16,F16,G16,H16),0) -> #REF! | L16: =ROUND(GEOMEAN(E16,F16,G16,H16),0) -> #REF! | M16: =ROUND(HARMEAN(E16,F16,G16,H16),0) -> #REF! | N16: =ROUND(_xlfn.STDEV.P(E16,F16,G16,H16),0) -> #REF! | O16: =N16/K16 -> #REF! | P16: =ROUND(IF(O16<=0.4,J16,IF(AND(O16>0.4,O16<=0.8),M16,IF(AND(O16>0.8,O16<=1.1),L16,K16))),0) -> #REF! | Q16: =IF(P16=J16,"MENOR VALOR",IF(P16=K16,"PROMEDIO",IF(P16=L16,"MEDIA GEOMETRICA",IF(P16=M16,"MEDIA ARMONICA")))) -> #REF!
B17: 2 | C17: OVEROL ENTERIZO: tela drill 100% algodón, manga larga, cremallera completa. x und. tallas de acuerdo a la necesidad de la unidad (s/m/l/xl) | D17: UNIDAD | F17: 178500 | G17: 95200 | H17: 159168.45 | I17: 184150 | J17: =ROUND(MIN(E17,F17,G17,H17),0) -> 95200 | K17: =ROUND(AVERAGE(E17,F17,G17,H17),0) -> 144289 | L17: =ROUND(GEOMEAN(E17,F17,G17,H17),0) -> 139330 | M17: =ROUND(HARMEAN(E17,F17,G17,H17),0) -> 133994 | N17: =ROUND(_xlfn.STDEV.P(E17,F17,G17,H17),0) -> 35597 | O17: =N17/K17 -> 0.24670626 | P17: =ROUND(IF(O17<=0.4,J17,IF(AND(O17>0.4,O17<=0.8),M17,IF(AND(O17>0.8,O17<=1.1),L17,K17))),0) -> 95200 | Q17: =IF(P17=J17,"MENOR VALOR",IF(P17=K17,"PROMEDIO",IF(P17=L17,"MEDIA GEOMETRICA",IF(P17=M17,"MEDIA ARMONICA")))) -> MENOR VALOR
B18: 3 | C18: OVEROL IMPERMEABLE DE 2 PIEZAS: Tipo industrial calibre 18. Tallas de acuerdo a la necesidad de la unidad (S/M/L/XL) | D18: UNIDAD | F18: 89250 | G18: 119000 | H18: 146399.75 | I18: 201550 | J18: =ROUND(MIN(E18,F18,G18,H18),0) -> 89250 | K18: =ROUND(AVERAGE(E18,F18,G18,H18),0) -> 118217 | L18: =ROUND(GEOMEAN(E18,F18,G18,H18),0) -> 115851 | M18: =ROUND(HARMEAN(E18,F18,G18,H18),0) -> 113471 | N18: =ROUND(_xlfn.STDEV.P(E18,F18,G18,H18),0) -> 23338 | O18: =N18/K18 -> 0.19741662 | P18: =ROUND(IF(O18<=0.4,J18,IF(AND(O18>0.4,O18<=0.8),M18,IF(AND(O18>0.8,O18<=1.1),L18,K18))),0) -> 89250 | Q18: =IF(P18=J18,"MENOR VALOR",IF(P18=K18,"PROMEDIO",IF(P18=L18,"MEDIA GEOMETRICA",IF(P18=M18,"MEDIA ARMONICA")))) -> MENOR VALOR
B19: 4 | C19: OVEROL TIPO PILOTO (overol completo modelo piloto (12 cremalleras) en ristok milimetrado color verde militar, con cierre frontal doble carro nylon. 100% algodón cuello ajustado con cierre de contacto. dos bolsillos (centrados) en pecho con dimensiones de 14 centímetros de ancho por 22 centímetros de alto con cierres diagonales y cremallera en nylon. bolsillo portalápices en pecho izquierdo de 3.81 centímetros de ancho y 12.7 centímetros de largo. mangas con puños rectos ajustados con cierre en cremallera de 13.78 centímetros de largo. piernas rectas con cierre cremallera en nylon de 15.32 centímetros de largo. dos bolsillos de parche en la parte trasera de 14 centímetros de ancho por 22 centímetros de alto con cierres en cremallera nylon, espalda con fuelle y cintura elasticada. refuerzos acolchados (guata 500 x 2) en codos y rodillas de tipo rectangular de 20.32 centímetros, un bolsillo interior lateral a cada lado. dos bolsillos laterales en muslos de 14 centímetros de ancho por 22 centímetros de alto con cierres en cremallera nylon. tallas s – m – l – xl,) | D19: UNIDAD | F19: 142800 | G19: 226100 | H19: 211123.85 | I19: 264100 | J19: =ROUND(MIN(E19,F19,G19,H19),0) -> 142800 | K19: =ROUND(AVERAGE(E19,F19,G19,H19),0) -> 193341 | L19: =ROUND(GEOMEAN(E19,F19,G19,H19),0) -> 189607 | M19: =ROUND(HARMEAN(E19,F19,G19,H19),0) -> 185619 | N19: =ROUND(_xlfn.STDEV.P(E19,F19,G19,H19),0) -> 36257 | O19: =N19/K19 -> 0.18752877 | P19: =ROUND(IF(O19<=0.4,J19,IF(AND(O19>0.4,O19<=0.8),M19,IF(AND(O19>0.8,O19<=1.1),L19,K19))),0) -> 142800 | Q19: =IF(P19=J19,"MENOR VALOR",IF(P19=K19,"PROMEDIO",IF(P19=L19,"MEDIA GEOMETRICA",IF(P19=M19,"MEDIA ARMONICA")))) -> MENOR VALOR
B20: 5 | C20: TRAJE ENTERIZO CON CAPOTA O CAPUCHA, CON BOTAS ADHERIDAS AL TRAJE (VULCANIZADAS) Overol tipo fontanero fabricado bajo norma NTC 4615 en tela vinílica compacta con soporte textil en poliéster. Elaborado por proceso de electro sellado de alta frecuencia. Con bota integrada en PVC y con puntera. Color de bota Amarillo. Talla de acuerdo a la necesidad de la unidad (S/M/L/XL) | D20: UNIDAD | F20: 297500 | G20: 226100 | H20: 539368 | I20: 296100 | J20: =ROUND(MIN(E20,F20,G20,H20),0) -> 226100 | K20: =ROUND(AVERAGE(E20,F20,G20,H20),0) -> 354323 | L20: =ROUND(GEOMEAN(E20,F20,G20,H20),0) -> 331048 | M20: =ROUND(HARMEAN(E20,F20,G20,H20),0) -> 311262 | N20: =ROUND(_xlfn.STDEV.P(E20,F20,G20,H20),0) -> 134054 | O20: =N20/K20 -> 0.37833841 | P20: =ROUND(IF(O20<=0.4,J20,IF(AND(O20>0.4,O20<=0.8),M20,IF(AND(O20>0.8,O20<=1.1),L20,K20))),0) -> 226100 | Q20: =IF(P20=J20,"MENOR VALOR",IF(P20=K20,"PROMEDIO",IF(P20=L20,"MEDIA GEOMETRICA",IF(P20=M20,"MEDIA ARMONICA")))) -> MENOR VALOR
B21: 6 | C21: DELANTAL PARA SUSTANCIAS QUÍMICAS: sujeción de cuatro puntos, 2 cuello y 2 cintura. en poliéster recubierto pvc calibre 25 (0,58mm) sistema electro sellado. 82cm largo x 115cm ancho. materiales bajo norma astm, ntc3583, iso 9001. x und. tallas de acuerdo a la necesidad de la unidad (S/M/L/XL) | D21: UNIDAD | F21: 41650 | G21: 71400 | H21: 87179.4 | I21: 146400 | J21: =ROUND(MIN(E21,F21,G21,H21),0) -> 41650 | K21: =ROUND(AVERAGE(E21,F21,G21,H21),0) -> 66743 | L21: =ROUND(GEOMEAN(E21,F21,G21,H21),0) -> 63764 | M21: =ROUND(HARMEAN(E21,F21,G21,H21),0) -> 60623 | N21: =ROUND(_xlfn.STDEV.P(E21,F21,G21,H21),0) -> 18877 | O21: =N21/K21 -> 0.28283116 | P21: =ROUND(IF(O21<=0.4,J21,IF(AND(O21>0.4,O21<=0.8),M21,IF(AND(O21>0.8,O21<=1.1),L21,K21))),0) -> 41650 | Q21: =IF(P21=J21,"MENOR VALOR",IF(P21=K21,"PROMEDIO",IF(P21=L21,"MEDIA GEOMETRICA",IF(P21=M21,"MEDIA ARMONICA")))) -> MENOR VALOR
B22: 7 | C22: DELANTAL IMPERMEABLE RESISTENCIA QUIMICA: Delantal impermeable de PVC , material vinílico con soporte textil, electrosellado que hace de la prenda impermeable, tiras de sujeción en el cuello y la cintura. Protege la zona pectoral y ventral de salpicaduras y sprays de productos químicos. Protección contra productos químicos líquidos en forma de pulverización. Ideal para manipulación de químicos y limpiezas industriales. Muy alta resistencia mecánica y alta durabilidad. t | D22: UNIDAD | F22: 41650 | G22: 95200 | H22: 198795.45 | I22: 153600 | J22: =ROUND(MIN(E22,F22,G22,H22),0) -> 41650 | K22: =ROUND(AVERAGE(E22,F22,G22,H22),0) -> 111882 | L22: =ROUND(GEOMEAN(E22,F22,G22,H22),0) -> 92375 | M22: =ROUND(HARMEAN(E22,F22,G22,H22),0) -> 75865 | N22: =ROUND(_xlfn.STDEV.P(E22,F22,G22,H22),0) -> 65230 | O22: =N22/K22 -> 0.58302497 | P22: =ROUND(IF(O22<=0.4,J22,IF(AND(O22>0.4,O22<=0.8),M22,IF(AND(O22>0.8,O22<=1.1),L22,K22))),0) -> 75865 | Q22: =IF(P22=J22,"MENOR VALOR",IF(P22=K22,"PROMEDIO",IF(P22=L22,"MEDIA GEOMETRICA",IF(P22=M22,"MEDIA ARMONICA")))) -> MEDIA ARMONICA
B23: 8 | C23: GUANTES QUÍMICOS DE NITRILO resistentes a quimicos que proporcionan proteccion de las manos cuando es necesario entrar en contacto con solventes combustibles y grasas Con un recubrimiento externo en nitrilo verde que proporciona la barrera contra la penetracion de sustancias quimicas Los guates son texturizados en la punta de los dedos y en la palma para brindar mayor agarre en seco y en humedo y son lisos en las demas areas para evitar la acumulacion de sustancias que puedan degradarlos en el tiempo Estos elementos de proteccion de manos estan libres de costuras para mayor destreza y comodidad y no tienen latex ni siliconas en su composicion Minimo 18 de longitud Espesor maximo 22 milesimas Tallas sujetas a las necesidades de la Unidad | D23: PAR | F23: 41650 | G23: 23800 | H23: 149481.85 | I23: 113900 | J23: =ROUND(MIN(E23,F23,G23,H23),0) -> 23800 | K23: =ROUND(AVERAGE(E23,F23,G23,H23),0) -> 71644 | L23: =ROUND(GEOMEAN(E23,F23,G23,H23),0) -> 52917 | M23: =ROUND(HARMEAN(E23,F23,G23,H23),0) -> 41256 | N23: =ROUND(_xlfn.STDEV.P(E23,F23,G23,H23),0) -> 55520 | O23: =N23/K23 -> 0.77494277 | P23: =ROUND(IF(O23<=0.4,J23,IF(AND(O23>0.4,O23<=0.8),M23,IF(AND(O23>0.8,O23<=1.1),L23,K23))),0) -> 41256 | Q23: =IF(P23=J23,"MENOR VALOR",IF(P23=K23,"PROMEDIO",IF(P23=L23,"MEDIA GEOMETRICA",IF(P23=M23,"MEDIA ARMONICA")))) -> MEDIA ARMONICA
B24: 9 | C24: BOTAS DE CAUCHO (NEGRO): Bota fabricada a mano en 100% caucho vulcanizado, impermeable. Proceso: Armado por pieza, vulcanizados en autoclave Forro: 100% algodón, super absorbente Plantilla: en espuma de caucho, forrada 100% algodón Suela: antideslizantes, resistentes a la abrasión Refuerzos: en capellada y contrafuerte Caña: reforzada Impermeabilidad: 100% Uso: industrial de construcción y uso general con suela antideslizante. Talla de acuerdo a la necesidad de la unidad | D24: PAR | F24: 101150 | G24: 113050 | H24: 131869.85 | I24: 81600 | J24: =ROUND(MIN(E24,F24,G24,H24),0) -> 101150 | K24: =ROUND(AVERAGE(E24,F24,G24,H24),0) -> 115357 | L24: =ROUND(GEOMEAN(E24,F24,G24,H24),0) -> 114673 | M24: =ROUND(HARMEAN(E24,F24,G24,H24),0) -> 114003 | N24: =ROUND(_xlfn.STDEV.P(E24,F24,G24,H24),0) -> 12647 | O24: =N24/K24 -> 0.10963357 | P24: =ROUND(IF(O24<=0.4,J24,IF(AND(O24>0.4,O24<=0.8),M24,IF(AND(O24>0.8,O24<=1.1),L24,K24))),0) -> 101150 | Q24: =IF(P24=J24,"MENOR VALOR",IF(P24=K24,"PROMEDIO",IF(P24=L24,"MEDIA GEOMETRICA",IF(P24=M24,"MEDIA ARMONICA")))) -> MENOR VALOR
B25: 10 | C25: BOTAS DE SEGURIDAD: Bota de seguridad: Caña alta de 8" , fabricado en cuero con puntera reforzada. NTC 2396 Botas seguridad. Tallas de acuerdo a la necesidad de la unidad | D25: PAR | F25: 142800 | G25: 214200 | H25: 297202.5 | I25: 247000 | J25: =ROUND(MIN(E25,F25,G25,H25),0) -> 142800 | K25: =ROUND(AVERAGE(E25,F25,G25,H25),0) -> 218068 | L25: =ROUND(GEOMEAN(E25,F25,G25,H25),0) -> 208705 | M25: =ROUND(HARMEAN(E25,F25,G25,H25),0) -> 199521 | N25: =ROUND(_xlfn.STDEV.P(E25,F25,G25,H25),0) -> 63094 | O25: =N25/K25 -> 0.28933177 | P25: =ROUND(IF(O25<=0.4,J25,IF(AND(O25>0.4,O25<=0.8),M25,IF(AND(O25>0.8,O25<=1.1),L25,K25))),0) -> 142800 | Q25: =IF(P25=J25,"MENOR VALOR",IF(P25=K25,"PROMEDIO",IF(P25=L25,"MEDIA GEOMETRICA",IF(P25=M25,"MEDIA ARMONICA")))) -> MENOR VALOR
B26: 11 | C26: GUANTES elaborados en carnaza y cuero vaqueta de calibre 2.4 mm cosidos con hilo 100 algodon refuerzo en palma y dedos amplios de facil manejo puño corto de 7 cm Color Gris | D26: PAR | F26: 17850 | G26: 23800 | H26: 24216.5 | I26: 32000 | J26: =ROUND(MIN(E26,F26,G26,H26),0) -> 17850 | K26: =ROUND(AVERAGE(E26,F26,G26,H26),0) -> 21956 | L26: =ROUND(GEOMEAN(E26,F26,G26,H26),0) -> 21749 | M26: =ROUND(HARMEAN(E26,F26,G26,H26),0) -> 21531 | N26: =ROUND(_xlfn.STDEV.P(E26,F26,G26,H26),0) -> 2908 | O26: =N26/K26 -> 0.13244671 | P26: =ROUND(IF(O26<=0.4,J26,IF(AND(O26>0.4,O26<=0.8),M26,IF(AND(O26>0.8,O26<=1.1),L26,K26))),0) -> 17850 | Q26: =IF(P26=J26,"MENOR VALOR",IF(P26=K26,"PROMEDIO",IF(P26=L26,"MEDIA GEOMETRICA",IF(P26=M26,"MEDIA ARMONICA")))) -> MENOR VALOR
B27: 12 | C27: GUANTES DE LATEX: seguridad biológica, evita el contagio de enfermedades, caucho natural, ambidiestros, borde enrollado, desechables con talco, guantes anatómicos 12 x 21.5 cm. caja x 100 und. | D27: CAJA | F27: 23800 | G27: 41650 | H27: 43809.85 | I27: 81600 | J27: =ROUND(MIN(E27,F27,G27,H27),0) -> 23800 | K27: =ROUND(AVERAGE(E27,F27,G27,H27),0) -> 36420 | L27: =ROUND(GEOMEAN(E27,F27,G27,H27),0) -> 35150 | M27: =ROUND(HARMEAN(E27,F27,G27,H27),0) -> 33764 | N27: =ROUND(_xlfn.STDEV.P(E27,F27,G27,H27),0) -> 8967 | O27: =N27/K27 -> 0.24621087 | P27: =ROUND(IF(O27<=0.4,J27,IF(AND(O27>0.4,O27<=0.8),M27,IF(AND(O27>0.8,O27<=1.1),L27,K27))),0) -> 23800 | Q27: =IF(P27=J27,"MENOR VALOR",IF(P27=K27,"PROMEDIO",IF(P27=L27,"MEDIA GEOMETRICA",IF(P27=M27,"MEDIA ARMONICA")))) -> MENOR VALOR
B28: 13 | C28: GUANTE DE CAUCHO NEGRO INDUSTRIAL Fabricado en PVC calibre 35, NTC 444 - 445 - 446 tallas 7- 8-9 | D28: CAJA | F28: 17850 | G28: 107100 | H28: 22015 | I28: 110250 | J28: =ROUND(MIN(E28,F28,G28,H28),0) -> 17850 | K28: =ROUND(AVERAGE(E28,F28,G28,H28),0) -> 48988 | L28: =ROUND(GEOMEAN(E28,F28,G28,H28),0) -> 34784 | M28: =ROUND(HARMEAN(E28,F28,G28,H28),0) -> 27080 | N28: =ROUND(_xlfn.STDEV.P(E28,F28,G28,H28),0) -> 41126 | O28: =N28/K28 -> 0.83951172 | P28: =ROUND(IF(O28<=0.4,J28,IF(AND(O28>0.4,O28<=0.8),M28,IF(AND(O28>0.8,O28<=1.1),L28,K28))),0) -> 34784 | Q28: =IF(P28=J28,"MENOR VALOR",IF(P28=K28,"PROMEDIO",IF(P28=L28,"MEDIA GEOMETRICA",IF(P28=M28,"MEDIA ARMONICA")))) -> MEDIA GEOMETRICA
... B30: 15 | C30: OVEROL DE 2 PIEZAS: Tela drill verde oliva en tejido diagonal 3x1 vulcano. La mezcla de hilo en trama y urdimbre. color verde oliva para botones, cremalleras, hilos y velcros. La camisa Debe llevar parche que cubra todo el ancho de la parte del codo, con sistema de cierre botones. Debe llevar 2 cintas reflectoras color gris plata compuesta de lentes expuestos de gran ángulo reflectivo, adheridos en las mangas en la parte delantera debe llevar porta presillas confeccionadas en forma rectangular terminada en punta con ojal, ubicada en los hombros. El pantalón simétrico, bota recta, con pretina con 7 pasadores para ajuste en la cintura, la cual tiene como sistema de cierre un botón. El pantalón lleva cinta reflectora en forma simétrica ubicadas a la altura de la rodilla. Tallas de acuerdo a la necesidad de la unidad. | D30: UNIDAD | F30: 238000 | G30: 178500 | H30: 245687.4 | I30: 86400 | J30: =ROUND(MIN(E30,F30,G30,H30),0) -> 178500 | K30: =ROUND(AVERAGE(E30,F30,G30,H30),0) -> 220729 | L30: =ROUND(GEOMEAN(E30,F30,G30,H30),0) -> 218541 | M30: =ROUND(HARMEAN(E30,F30,G30,H30),0) -> 216230 | N30: =ROUND(_xlfn.STDEV.P(E30,F30,G30,H30),0) -> 30025 | O30: =N30/K30 -> 0.13602653 | P30: =ROUND(IF(O30<=0.4,J30,IF(AND(O30>0.4,O30<=0.8),M30,IF(AND(O30>0.8,O30<=1.1),L30,K30))),0) -> 178500 | Q30: =IF(P30=J30,"MENOR VALOR",IF(P30=K30,"PROMEDIO",IF(P30=L30,"MEDIA GEOMETRICA",IF(P30=M30,"MEDIA ARMONICA")))) -> MENOR VALOR
F31: =SUM(F7:F30) -> 2314550 | G31: =SUM(G7:G30) -> 2790550 | H31: =SUM(H7:H30) -> 4257151.6 | I31: =SUM(I7:I30) -> 3902740
B33: ITEM | C33: DESCRIPCIÓN DEL BIEN Y/O SERVICIO | D33: UNIDAD MEDIDA
B34: 1 | C34: MANGAS EN CARNAZA: Cuero vacuno de calibre 2.4 MM, según NTC E-79 y cosidos con hilo 100% algodón según lo indicado en la NTC-1981, las costuras deben ser uniformes, no debe presentar pliegues ni fruncidos. | D34: UNIDAD | E34: 24173 | F34: 41650 | G34: 29750 | H34: 65494.625 | I34: 30500
B35: 2 | C35: OVEROL ENTERIZO: tela drill 100% algodón, manga larga, cremallera completa. x und. tallas de acuerdo a la necesidad de la unidad (s/m/l/xl) | D35: UNIDAD | F35: 178500 | G35: 95200 | H35: 159168.45 | I35: 184150
B36: 3 | C36: OVEROL IMPERMEABLE DE 2 PIEZAS: Tipo industrial calibre 18. Tallas de acuerdo a la necesidad de la unidad (S/M/L/XL) | D36: UNIDAD | F36: 89250 | G36: 119000 | H36: 146399.75 | I36: 201550
B37: 4 | C37: OVEROL TIPO PILOTO (overol completo modelo piloto (12 cremalleras) en ristok milimetrado color verde militar, con cierre frontal doble carro nylon. 100% algodón cuello ajustado con cierre de contacto. dos bolsillos (centrados) en pecho con dimensiones de 14 centímetros de ancho por 22 centímetros de alto con cierres diagonales y cremallera en nylon. bolsillo portalápices en pecho izquierdo de 3.81 centímetros de ancho y 12.7 centímetros de largo. mangas con puños rectos ajustados con cierre en cremallera de 13.78 centímetros de largo. piernas rectas con cierre cremallera en nylon de 15.32 centímetros de largo. dos bolsillos de parche en la parte trasera de 14 centímetros de ancho por 22 centímetros de alto con cierres en cremallera nylon, espalda con fuelle y cintura elasticada. refuerzos acolchados (guata 500 x 2) en codos y rodillas de tipo rectangular de 20.32 centímetros, un bolsillo interior lateral a cada lado. dos bolsillos laterales en muslos de 14 centímetros de ancho por 22 centímetros de alto con cierres en cremallera nylon. tallas s – m – l – xl,) | D37: UNIDAD | F37: 142800 | G37: 214200 | H37: 211123.85 | I37: 281200
B38: 5 | C38: TRAJE ENTERIZO CON CAPOTA O CAPUCHA, CON BOTAS ADHERIDAS AL TRAJE (VULCANIZADAS) Overol tipo fontanero fabricado bajo norma NTC 4615 en tela vinílica compacta con soporte textil en poliéster. Elaborado por proceso de electro sellado de alta frecuencia. Con bota integrada en PVC y con puntera. Color de bota Amarillo. Talla de acuerdo a la necesidad de la unidad (S/M/L/XL) | D38: UNIDAD | F38: 297500 | G38: 226100 | H38: 539368 | I38: 296100
B39: 6 | C39: DELANTAL PARA SUSTANCIAS QUÍMICAS: sujeción de cuatro puntos, 2 cuello y 2 cintura. en poliéster recubierto pvc calibre 25 (0,58mm) sistema electro sellado. 82cm largo x 115cm ancho. materiales bajo norma astm, ntc3583, iso 9001. x und. tallas de acuerdo a la necesidad de la unidad (S/M/L/XL) | D39: UNIDAD | F39: 41650 | G39: 71400 | H39: 87179.4 | I39: 146400
B40: 7 | C40: DELANTAL IMPERMEABLE RESISTENCIA QUIMICA: Delantal impermeable de PVC , material vinílico con soporte textil, electrosellado que hace de la prenda impermeable, tiras de sujeción en el cuello y la cintura. Protege la zona pectoral y ventral de salpicaduras y sprays de productos químicos. Protección contra productos químicos líquidos en forma de pulverización. Ideal para manipulación de químicos y limpiezas industriales. Muy alta resistencia mecánica y alta durabilidad. tallas de acuerdo a la necesidad de la unidad. | D40: UNIDAD | F40: 41650 | G40: 95200 | H40: 198795 | I40: 153600
B41: 8 | C41: GUANTES QUÍMICOS DE NITRILO resistentes a quimicos que proporcionan proteccion de las manos cuando es necesario entrar en contacto con solventes combustibles y grasas Con un recubrimiento externo en nitrilo verde que proporciona la barrera contra la penetracion de sustancias quimicas Los guates son texturizados en la punta de los dedos y en la palma para brindar mayor agarre en seco y en humedo y son lisos en las demas areas para evitar la acumulacion de sustancias que puedan degradarlos en el tiempo Estos elementos de proteccion de manos estan libres de costuras para mayor destreza y comodidad y no tienen latex ni siliconas en su composicion Minimo 18 de longitud Espesor maximo 22 milesimas Tallas sujetas a las necesidades de la Unidad | D41: PAR | F41: 41650 | G41: 23800 | H41: 149482 | I41: 113900
B42: 9 | C42: Guante de nitrilo Largo: El guante está fabricado con una capa de 15 mils (milésimas de pulgada) de nitrilo y tiene una longitud de 13”. Los guantes deben de utilizarse para manipular los productos químicos ALTAQ evitando el contacto directo con la mano, así prevenimos cualquier alergia, irritación o quemadura. El interior del guante tiene un revestimiento de algodón que brinda mayor comodidad y facilita la postu ra y remoción del mismo. La punta de los dedos son texturizadas con un patrón en forma de rombos para darle más agarre tanto en húmedo como en seco. El resto del guante es liso, para evitar acumulación de químicos que puedan con el tiempo degradar el guante. Norma EN 420:2003 CAJA X 100 UNIDADES | D42: CAJA | F42: 23800 | G42: 41650 | H42: 81455.5 | I42: 111350
B43: 10 | C43: BOTAS DE CAUCHO (NEGRO): Bota fabricada a mano en 100% caucho vulcanizado, impermeable. Proceso: Armado por pieza, vulcanizados en autoclave Forro: 100% algodón, super absorbente Plantilla: en espuma de caucho, forrada 100% algodón Suela: antideslizantes, resistentes a la abrasión Refuerzos: en capellada y contrafuerte Caña: reforzada Impermeabilidad: 100% Uso: industrial de construcción y uso general con suela antideslizante. Talla de acuerdo a la necesidad de la unidad | D43: PAR | F43: 101150 | G43: 113050 | H43: 131869.85 | I43: 81600
B44: 11 | C44: BOTAS DE SEGURIDAD: Bota de seguridad: Caña alta de 8" , fabricado en cuero con puntera reforzada. NTC 2396 Botas seguridad. Tallas de acuerdo a la necesidad de la unidad | D44: PAR | F44: 142800 | G44: 214200 | H44: 297202.5 | I44: 228000
B45: 12 | C45: GUANTES elaborados en carnaza y cuero vaqueta de calibre 2.4 mm cosidos con hilo 100 algodon refuerzo en palma y dedos amplios de facil manejo puño corto de 7 cm Color Gris | D45: PAR | F45: 17850 | G45: 23800 | H45: 24216.5 | I45: 32000
...

Sheet analisis 2
B4: ANÁLISIS DE COTIZACIONES
E5: PRECIOS HISTÓRICOS ACEPTACIÓN DE OFERTA N.º 024-CENACBUC-2025 | F5: PRECIOS HISTÓRICOS ACEPTACIÓN DE OFERTA No. 027-CENACBUCARAMANGA-2024 | G5: =+#REF! -> #REF! | H5: =+#REF! -> #REF! | I5: =+#REF! -> #REF! | J5: =+#REF! -> #REF! | K5: MENOR VALOR | L5: PROMEDIO | M5: MEDIA GEOMETRICA | N5: MEDIA ARMONICA | O5: DESVIACIÓN ESTANDAR | P5: COEFICIENTE DE VARIACIÓN | Q5: PRECIO DE REFERENCIA | R5: METRICA UTILIZADA
B6: ÍTEM | C6: DESCRIPCIÓN DEL BIEN Y/O SERVICIO | D6: UNIDAD MEDIDA | E6: VALOR UNITARIO IVA INCLUIDO (si aplica) | F6: VALOR UNITARIO IVA INCLUIDO (si aplica) | G6: VALOR UNITARIO IVA INCLUIDO (si aplica) | H6: VALOR UNITARIO IVA INCLUIDO (si aplica) | I6: VALOR UNITARIO IVA INCLUIDO (si aplica) | J6: VALOR UNITARIO IVA INCLUIDO (si aplica) | S6: revisar
B7: 1 | C7: MANGAS EN CARNAZA: Cuero vacuno de calibre 2.4 MM, según NTC E-79 y cosidos con hilo 100% algodón según lo indicado en la NTC-1981, las costuras deben ser uniformes, no debe presentar pliegues ni fruncidos. | D7: UNIDAD | E7: =+#REF! -> #REF! | F7: =+#REF! -> #REF! | G7: 41600 | H7: 29750 | I7: 65494.625 | J7: 30500 | K7: =ROUND(MIN(E7,F7,G7,H7,I7,J7),0) -> #REF! | L7: =ROUND(AVERAGE(E7,F7,G7,H7,I7,J7),0) -> #REF! | M7: =ROUND(GEOMEAN(E7,F7,G7,H7,I7,J7),0) -> #REF! | N7: =ROUND(HARMEAN(E7,F7,G7,H7,I7,J7),0) -> #REF! | O7: =ROUND(_xlfn.STDEV.P(E7,F7,G7,H7,I7,J7),0) -> #REF! | P7: =O7/L7 -> #REF! | Q7: =ROUND(IF(P7<=0.5,K7,IF(AND(P7>0.5,P7<=1),N7,IF(AND(P7>1,P7<=1.5),M7,L7))),0) -> #REF! | R7: =IF(Q7=K7,"MENOR VALOR",IF(Q7=L7,"PROMEDIO",IF(Q7=M7,"MEDIA GEOMETRICA",IF(Q7=N7,"MEDIA ARMONICA")))) -> #REF! | S7: =+MEDIAN(E7:J7) -> #REF!
B8: 2 | C8: OVEROL ENTERIZO: tela drill 100% algodón, manga larga, cremallera completa. x und. tallas de acuerdo a la necesidad de la unidad (s/m/l/xl) | D8: UNIDAD | E8: =+#REF! -> #REF! | F8: =+#REF! -> #REF! | G8: 178500 | H8: 95200 | I8: 159168.45 | J8: 184150 | K8: =ROUND(MIN(E8,F8,G8,H8,I8,J8),0) -> #REF! | L8: =ROUND(AVERAGE(E8,F8,G8,H8,I8,J8),0) -> #REF! | M8: =ROUND(GEOMEAN(E8,F8,G8,H8,I8,J8),0) -> #REF! | N8: =ROUND(HARMEAN(E8,F8,G8,H8,I8,J8),0) -> #REF! | O8: =ROUND(_xlfn.STDEV.P(E8,F8,G8,H8,I8,J8),0) -> #REF! | P8: =O8/L8 -> #REF! | Q8: =ROUND(IF(P8<=0.5,K8,IF(AND(P8>0.5,P8<=1),N8,IF(AND(P8>1,P8<=1.5),M8,L8))),0) -> #REF! | R8: =IF(Q8=K8,"MENOR VALOR",IF(Q8=L8,"PROMEDIO",IF(Q8=M8,"MEDIA GEOMETRICA",IF(Q8=N8,"MEDIA ARMONICA")))) -> #REF! | S8: =+MEDIAN(E8:J8) -> #REF!
B9: 3 | C9: OVEROL IMPERMEABLE DE 2 PIEZAS: Tipo industrial calibre 18. Tallas de acuerdo a la necesidad de la unidad (S/M/L/XL) | D9: UNIDAD | E9: =+#REF! -> #REF! | F9: =+#REF! -> #REF! | G9: 89250 | H9: 119000 | I9: 146399.75 | J9: 213150 | K9: =ROUND(MIN(E9,F9,G9,H9,I9,J9),0) -> #REF! | L9: =ROUND(AVERAGE(E9,F9,G9,H9,I9,J9),0) -> #REF! | M9: =ROUND(GEOMEAN(E9,F9,G9,H9,I9,J9),0) -> #REF! | N9: =ROUND(HARMEAN(E9,F9,G9,H9,I9,J9),0) -> #REF! | O9: =ROUND(_xlfn.STDEV.P(E9,F9,G9,H9,I9,J9),0) -> #REF! | P9: =O9/L9 -> #REF! | Q9: =ROUND(IF(P9<=0.5,K9,IF(AND(P9>0.5,P9<=1),N9,IF(AND(P9>1,P9<=1.5),M9,L9))),0) -> #REF! | R9: =IF(Q9=K9,"MENOR VALOR",IF(Q9=L9,"PROMEDIO",IF(Q9=M9,"MEDIA GEOMETRICA",IF(Q9=N9,"MEDIA ARMONICA")))) -> #REF! | S9: =+MEDIAN(E9:J9) -> #REF!
B10: 4 | C10: OVEROL TIPO PILOTO (overol completo modelo piloto (12 cremalleras) en ristok milimetrado color verde militar, con cierre frontal doble carro nylon. 100% algodón cuello ajustado con cierre de contacto. dos bolsillos (centrados) en pecho con dimensiones de 14 centímetros de ancho por 22 centímetros de alto con cierres diagonales y cremallera en nylon. bolsillo portalápices en pecho izquierdo de 3.81 centímetros de ancho y 12.7 centímetros de largo. mangas con puños rectos ajustados con cierre en cremallera de 13.78 centímetros de largo. piernas rectas con cierre cremallera en nylon de 15.32 centímetros de largo. dos bolsillos de parche en la parte trasera de 14 centímetros de ancho por 22 centímetros de alto con cierres en cremallera nylon, espalda con fuelle y cintura elasticada. refuerzos acolchados (guata 500 x 2) en codos y rodillas de tipo rectangular de 20.32 centímetros, un bolsillo interior lateral a cada lado. dos bolsillos laterales en muslos de 14 centímetros de ancho por 22 centímetros de alto con cierres en cremallera nylon. tallas s – m – l – xl,) | D10: UNIDAD | E10: =+#REF! -> #REF! | F10: =+#REF! -> #REF! | G10: 142800 | H10: 214200 | I10: 211123.85 | J10: 281200 | K10: =ROUND(MIN(E10,F10,G10,H10,I10,J10),0) -> #REF! | L10: =ROUND(AVERAGE(E10,F10,G10,H10,I10,J10),0) -> #REF! | M10: =ROUND(GEOMEAN(E10,F10,G10,H10,I10,J10),0) -> #REF! | N10: =ROUND(HARMEAN(E10,F10,G10,H10,I10,J10),0) -> #REF! | O10: =ROUND(_xlfn.STDEV.P(E10,F10,G10,H10,I10,J10),0) -> #REF! | P10: =O10/L10 -> #REF! | Q10: =ROUND(IF(P10<=0.5,K10,IF(AND(P10>0.5,P10<=1),N10,IF(AND(P10>1,P10<=1.5),M10,L10))),0) -> #REF! | R10: =IF(Q10=K10,"MENOR VALOR",IF(Q10=L10,"PROMEDIO",IF(Q10=M10,"MEDIA GEOMETRICA",IF(Q10=N10,"MEDIA ARMONICA")))) -> #REF! | S10: =+MEDIAN(E10:J10) -> #REF!
B11: 5 | C11: TRAJE ENTERIZO CON CAPOTA O CAPUCHA, CON BOTAS ADHERIDAS AL TRAJE (VULCANIZADAS) Overol tipo fontanero fabricado bajo norma NTC 4615 en tela vinílica compacta con soporte textil en poliéster. Elaborado por proceso de electro sellado de alta frecuencia. Con bota integrada en PVC y con puntera. Color de bota Amarillo. Talla de acuerdo a la necesidad de la unidad (S/M/L/XL) | D11: UNIDAD | E11: =+#REF! -> #REF! | F11: =+#REF! -> #REF! | G11: 297500 | H11: 226100 | I11: 539368 | J11: 350000 | K11: =ROUND(MIN(E11,F11,G11,H11,I11,J11),0) -> #REF! | L11: =ROUND(AVERAGE(E11,F11,G11,H11,I11,J11),0) -> #REF! | M11: =ROUND(GEOMEAN(E11,F11,G11,H11,I11,J11),0) -> #REF! | N11: =ROUND(HARMEAN(E11,F11,G11,H11,I11,J11),0) -> #REF! | O11: =ROUND(_xlfn.STDEV.P(E11,F11,G11,H11,I11,J11),0) -> #REF! | P11: =O11/L11 -> #REF! | Q11: =ROUND(IF(P11<=0.5,K11,IF(AND(P11>0.5,P11<=1),N11,IF(AND(P11>1,P11<=1.5),M11,L11))),0) -> #REF! | R11: =IF(Q11=K11,"MENOR VALOR",IF(Q11=L11,"PROMEDIO",IF(Q11=M11,"MEDIA GEOMETRICA",IF(Q11=N11,"MEDIA ARMONICA")))) -> #REF! | S11: =+MEDIAN(E11:J11) -> #REF!
B12: 6 | C12: DELANTAL PARA SUSTANCIAS QUÍMICAS: sujeción de cuatro puntos, 2 cuello y 2 cintura. en poliéster recubierto pvc calibre 25 (0,58mm) sistema electro sellado. 82cm largo x 115cm ancho. materiales bajo norma astm, ntc3583, iso 9001. x und. tallas de acuerdo a la necesidad de la unidad (S/M/L/XL) | D12: UNIDAD | E12: =+#REF! -> #REF! | F12: =+#REF! -> #REF! | G12: 41650 | H12: 71400 | I12: 87179.4 | J12: 165600 | K12: =ROUND(MIN(E12,F12,G12,H12,I12,J12),0) -> #REF! | L12: =ROUND(AVERAGE(E12,F12,G12,H12,I12,J12),0) -> #REF! | M12: =ROUND(GEOMEAN(E12,F12,G12,H12,I12,J12),0) -> #REF! | N12: =ROUND(HARMEAN(E12,F12,G12,H12,I12,J12),0) -> #REF! | O12: =ROUND(_xlfn.STDEV.P(E12,F12,G12,H12,I12,J12),0) -> #REF! | P12: =O12/L12 -> #REF! | Q12: =ROUND(IF(P12<=0.5,K12,IF(AND(P12>0.5,P12<=1),N12,IF(AND(P12>1,P12<=1.5),M12,L12))),0) -> #REF! | R12: =IF(Q12=K12,"MENOR VALOR",IF(Q12=L12,"PROMEDIO",IF(Q12=M12,"MEDIA GEOMETRICA",IF(Q12=N12,"MEDIA ARMONICA")))) -> #REF! | S12: =+MEDIAN(E12:J12) -> #REF! | T12: =+Q12-S12 -> #REF!
B13: 7 | C13: DELANTAL IMPERMEABLE RESISTENCIA QUIMICA: Delantal impermeable de PVC , material vinílico con soporte textil, electrosellado que hace de la prenda impermeable, tiras de sujeción en el cuello y la cintura. Protege la zona pectoral y ventral de salpicaduras y sprays de productos químicos. Protección contra productos químicos líquidos en forma de pulverización. Ideal para manipulación de químicos y limpiezas industriales. Muy alta resistencia mecánica y alta durabilidad. tallas de acuerdo a la necesidad de la unidad. | D13: UNIDAD | E13: =+#REF! -> #REF! | F13: =+#REF! -> #REF! | G13: 41650 | H13: 95200 | I13: 198795 | J13: 154800 | K13: =ROUND(MIN(E13,F13,G13,H13,I13,J13),0) -> #REF! | L13: =ROUND(AVERAGE(E13,F13,G13,H13,I13,J13),0) -> #REF! | M13: =ROUND(GEOMEAN(E13,F13,G13,H13,I13,J13),0) -> #REF! | N13: =ROUND(HARMEAN(E13,F13,G13,H13,I13,J13),0) -> #REF! | O13: =ROUND(_xlfn.STDEV.P(E13,F13,G13,H13,I13,J13),0) -> #REF! | P13: =O13/L13 -> #REF! | Q13: =ROUND(IF(P13<=0.5,K13,IF(AND(P13>0.5,P13<=1),N13,IF(AND(P13>1,P13<=1.5),M13,L13))),0) -> #REF! | R13: =IF(Q13=K13,"MENOR VALOR",IF(Q13=L13,"PROMEDIO",IF(Q13=M13,"MEDIA GEOMETRICA",IF(Q13=N13,"MEDIA ARMONICA")))) -> #REF! | S13: =+MEDIAN(E13:J13) -> #REF!
B14: 8 | C14: GUANTES QUÍMICOS DE NITRILO resistentes a quimicos que proporcionan proteccion de las manos cuando es necesario entrar en contacto con solventes combustibles y grasas Con un recubrimiento externo en nitrilo verde que proporciona la barrera contra la penetracion de sustancias quimicas Los guates son texturizados en la punta de los dedos y en la palma para brindar mayor agarre en seco y en humedo y son lisos en las demas areas para evitar la acumulacion de sustancias que puedan degradarlos en el tiempo Estos elementos de proteccion de manos estan libres de costuras para mayor destreza y comodidad y no tienen latex ni siliconas en su composicion Minimo 18 de longitud Espesor maximo 22 milesimas Tallas sujetas a las necesidades de la Unidad | D14: PAR | E14: =+#REF! -> #REF! | F14: =+#REF! -> #REF! | G14: 41650 | H14: 23800 | I14: 149482 | J14: 113900 | K14: =ROUND(MIN(E14,F14,G14,H14,I14,J14),0) -> #REF! | L14: =ROUND(AVERAGE(E14,F14,G14,H14,I14,J14),0) -> #REF! | M14: =ROUND(GEOMEAN(E14,F14,G14,H14,I14,J14),0) -> #REF! | N14: =ROUND(HARMEAN(E14,F14,G14,H14,I14,J14),0) -> #REF! | O14: =ROUND(_xlfn.STDEV.P(E14,F14,G14,H14,I14,J14),0) -> #REF! | P14: =O14/L14 -> #REF! | Q14: =ROUND(IF(P14<=0.5,K14,IF(AND(P14>0.5,P14<=1),N14,IF(AND(P14>1,P14<=1.5),M14,L14))),0) -> #REF! | R14: =IF(Q14=K14,"MENOR VALOR",IF(Q14=L14,"PROMEDIO",IF(Q14=M14,"MEDIA GEOMETRICA",IF(Q14=N14,"MEDIA ARMONICA")))) -> #REF! | S14: =+MEDIAN(E14:J14) -> #REF!
B15: 9 | C15: Guante de nitrilo Largo: El guante está fabricado con una capa de 15 mils (milésimas de pulgada) de nitrilo y tiene una longitud de 13”. Los guantes deben de utilizarse para manipular los productos químicos ALTAQ evitando el contacto directo con la mano, así prevenimos cualquier alergia, irritación o quemadura. El interior del guante tiene un revestimiento de algodón que brinda mayor comodidad y facilita la postu ra y remoción del mismo. La punta de los dedos son texturizadas con un patrón en forma de rombos para darle más agarre tanto en húmedo como en seco. El resto del guante es liso, para evitar acumulación de químicos que puedan con el tiempo degradar el guante. Norma EN 420:2003 CAJA X 100 UNIDADES | D15: CAJA | E15: =+#REF! -> #REF! | F15: =+#REF! -> #REF! | G15: 23800 | H15: 41650 | I15: 81455.5 | J15: 111350 | K15: =ROUND(MIN(E15,F15,G15,H15,I15,J15),0) -> #REF! | L15: =ROUND(AVERAGE(E15,F15,G15,H15,I15,J15),0) -> #REF! | M15: =ROUND(GEOMEAN(E15,F15,G15,H15,I15,J15),0) -> #REF! | N15: =ROUND(HARMEAN(E15,F15,G15,H15,I15,J15),0) -> #REF! | O15: =ROUND(_xlfn.STDEV.P(E15,F15,G15,H15,I15,J15),0) -> #REF! | P15: =O15/L15 -> #REF! | Q15: =ROUND(IF(P15<=0.5,K15,IF(AND(P15>0.5,P15<=1),N15,IF(AND(P15>1,P15<=1.5),M15,L15))),0) -> #REF! | R15: =IF(Q15=K15,"MENOR VALOR",IF(Q15=L15,"PROMEDIO",IF(Q15=M15,"MEDIA GEOMETRICA",IF(Q15=N15,"MEDIA ARMONICA")))) -> #REF! | S15: =+MEDIAN(E15:J15) -> #REF!
B16: 10 | C16: BOTAS DE CAUCHO (NEGRO): Bota fabricada a mano en 100% caucho vulcanizado, impermeable. Proceso: Armado por pieza, vulcanizados en autoclave Forro: 100% algodón, super absorbente Plantilla: en espuma de caucho, forrada 100% algodón Suela: antideslizantes, resistentes a la abrasión Refuerzos: en capellada y contrafuerte Caña: reforzada Impermeabilidad: 100% Uso: industrial de construcción y uso general con suela antideslizante. Talla de acuerdo a la necesidad de la unidad | D16: PAR | E16: =+#REF! -> #REF! | F16: =+#REF! -> #REF! | G16: 101150 | H16: 113050 | I16: 131869.85 | J16: 81600 | K16: =ROUND(MIN(E16,F16,G16,H16,I16,J16),0) -> #REF! | L16: =ROUND(AVERAGE(E16,F16,G16,H16,I16,J16),0) -> #REF! | M16: =ROUND(GEOMEAN(E16,F16,G16,H16,I16,J16),0) -> #REF! | N16: =ROUND(HARMEAN(E16,F16,G16,H16,I16,J16),0) -> #REF! | O16: =ROUND(_xlfn.STDEV.P(E16,F16,G16,H16,I16,J16),0) -> #REF! | P16: =O16/L16 -> #REF! | Q16: =ROUND(IF(P16<=0.5,K16,IF(AND(P16>0.5,P16<=1),N16,IF(AND(P16>1,P16<=1.5),M16,L16))),0) -> #REF! | R16: =IF(Q16=K16,"MENOR VALOR",IF(Q16=L16,"PROMEDIO",IF(Q16=M16,"MEDIA GEOMETRICA",IF(Q16=N16,"MEDIA ARMONICA")))) -> #REF! | S16: =+MEDIAN(E16:J16) -> #REF!
B17: 11 | C17: BOTAS DE SEGURIDAD: Bota de seguridad: Caña alta de 8" , fabricado en cuero con puntera reforzada. NTC 2396 Botas seguridad. Tallas de acuerdo a la necesidad de la unidad | D17: PAR | E17: =+#REF! -> #REF! | F17: =+#REF! -> #REF! | G17: 142800 | H17: 214200 | I17: 297202.5 | J17: 247000 | K17: =ROUND(MIN(E17,F17,G17,H17,I17,J17),0) -> #REF! | L17: =ROUND(AVERAGE(E17,F17,G17,H17,I17,J17),0) -> #REF! | M17: =ROUND(GEOMEAN(E17,F17,G17,H17,I17,J17),0) -> #REF! | N17: =ROUND(HARMEAN(E17,F17,G17,H17,I17,J17),0) -> #REF! | O17: =ROUND(_xlfn.STDEV.P(E17,F17,G17,H17,I17,J17),0) -> #REF! | P17: =O17/L17 -> #REF! | Q17: =ROUND(IF(P17<=0.5,K17,IF(AND(P17>0.5,P17<=1),N17,IF(AND(P17>1,P17<=1.5),M17,L17))),0) -> #REF! | R17: =IF(Q17=K17,"MENOR VALOR",IF(Q17=L17,"PROMEDIO",IF(Q17=M17,"MEDIA GEOMETRICA",IF(Q17=N17,"MEDIA ARMONICA")))) -> #REF!
B18: 12 | C18: GUANTES elaborados en carnaza y cuero vaqueta de calibre 2.4 mm cosidos con hilo 100 algodon refuerzo en palma y dedos amplios de facil manejo puño corto de 7 cm Color Gris | D18: PAR | E18: =+#REF! -> #REF! | F18: =+#REF! -> #REF! | G18: 17850 | H18: 23800 | I18: 24216.5 | J18: 32000 | K18: =ROUND(MIN(E18,F18,G18,H18,I18,J18),0) -> #REF! | L18: =ROUND(AVERAGE(E18,F18,G18,H18,I18,J18),0) -> #REF! | M18: =ROUND(GEOMEAN(E18,F18,G18,H18,I18,J18),0) -> #REF! | N18: =ROUND(HARMEAN(E18,F18,G18,H18,I18,J18),0) -> #REF! | O18: =ROUND(_xlfn.STDEV.P(E18,F18,G18,H18,I18,J18),0) -> #REF! | P18: =O18/L18 -> #REF! | Q18: =ROUND(IF(P18<=0.5,K18,IF(AND(P18>0.5,P18<=1),N18,IF(AND(P18>1,P18<=1.5),M18,L18))),0) -> #REF! | R18: =IF(Q18=K18,"MENOR VALOR",IF(Q18=L18,"PROMEDIO",IF(Q18=M18,"MEDIA GEOMETRICA",IF(Q18=N18,"MEDIA ARMONICA")))) -> #REF!
B19: 13 | C19: GUANTES DE LATEX: seguridad biológica, evita el contagio de enfermedades, caucho natural, ambidiestros, borde enrollado, desechables con talco, guantes anatómicos 12 x 21.5 cm. caja x 100 und. | D19: CAJA | E19: =+#REF! -> #REF! | F19: =+#REF! -> #REF! | G19: 23800 | H19: 41650 | I19: 43809.85 | J19: 81600 | K19: =ROUND(MIN(E19,F19,G19,H19,I19,J19),0) -> #REF! | L19: =ROUND(AVERAGE(E19,F19,G19,H19,I19,J19),0) -> #REF! | M19: =ROUND(GEOMEAN(E19,F19,G19,H19,I19,J19),0) -> #REF! | N19: =ROUND(HARMEAN(E19,F19,G19,H19,I19,J19),0) -> #REF! | O19: =ROUND(_xlfn.STDEV.P(E19,F19,G19,H19,I19,J19),0) -> #REF! | P19: =O19/L19 -> #REF! | Q19: =ROUND(IF(P19<=0.5,K19,IF(AND(P19>0.5,P19<=1),N19,IF(AND(P19>1,P19<=1.5),M19,L19))),0) -> #REF! | R19: =IF(Q19=K19,"MENOR VALOR",IF(Q19=L19,"PROMEDIO",IF(Q19=M19,"MEDIA GEOMETRICA",IF(Q19=N19,"MEDIA ARMONICA")))) -> #REF!
B20: 14 | C20: GUANTE DE CAUCHO NEGRO INDUSTRIAL Fabricado en PVC calibre 35, NTC 444 - 445 - 446 tallas 7- 8-9 | D20: PAR | E20: =+#REF! -> #REF! | F20: =+#REF! -> #REF! | G20: 17850 | H20: 14280 | I20: 22015 | J20: 17640 | K20: =ROUND(MIN(E20,F20,G20,H20,I20,J20),0) -> #REF! | L20: =ROUND(AVERAGE(E20,F20,G20,H20,I20,J20),0) -> #REF! | M20: =ROUND(GEOMEAN(E20,F20,G20,H20,I20,J20),0) -> #REF! | N20: =ROUND(HARMEAN(E20,F20,G20,H20,I20,J20),0) -> #REF! | O20: =ROUND(_xlfn.STDEV.P(E20,F20,G20,H20,I20,J20),0) -> #REF! | P20: =O20/L20 -> #REF! | Q20: =ROUND(IF(P20<=0.5,K20,IF(AND(P20>0.5,P20<=1),N20,IF(AND(P20>1,P20<=1.5),M20,L20))),0) -> #REF! | R20: =IF(Q20=K20,"MENOR VALOR",IF(Q20=L20,"PROMEDIO",IF(Q20=M20,"MEDIA GEOMETRICA",IF(Q20=N20,"MEDIA ARMONICA")))) -> #REF!
B21: 15 | C21: DELANTAL DE SOLDADOR: Espesor con refuerzo 2,30 cm, dimensiones totales 60 x 120 cm, material cuero vacuno | D21: UNIDAD | E21: =+#REF! -> #REF! | F21: =+#REF! -> #REF! | G21: 41650 | H21: 101150 | I21: 202317.85 | J21: 146300 | K21: =ROUND(MIN(E21,F21,G21,H21,I21,J21),0) -> #REF! | L21: =ROUND(AVERAGE(E21,F21,G21,H21,I21,J21),0) -> #REF! | M21: =ROUND(GEOMEAN(E21,F21,G21,H21,I21,J21),0) -> #REF! | N21: =ROUND(HARMEAN(E21,F21,G21,H21,I21,J21),0) -> #REF! | O21: =ROUND(_xlfn.STDEV.P(E21,F21,G21,H21,I21,J21),0) -> #REF! | P21: =O21/L21 -> #REF! | Q21: =ROUND(IF(P21<=0.5,K21,IF(AND(P21>0.5,P21<=1),N21,IF(AND(P21>1,P21<=1.5),M21,L21))),0) -> #REF! | R21: =IF(Q21=K21,"MENOR VALOR",IF(Q21=L21,"PROMEDIO",IF(Q21=M21,"MEDIA GEOMETRICA",IF(Q21=N21,"MEDIA ARMONICA")))) -> #REF!
B22: 16 | C22: OVEROL DE 2 PIEZAS: Tela drill verde oliva en tejido diagonal 3x1 vulcano. La mezcla de hilo en trama y urdimbre. color verde oliva para botones, cremalleras, hilos y velcros. La camisa Debe llevar parche que cubra todo el ancho de la parte del codo, con sistema de cierre botones. Debe llevar 2 cintas reflectoras color gris plata compuesta de lentes expuestos de gran ángulo reflectivo, adheridos en las mangas en la parte delantera debe llevar porta presillas confeccionadas en forma rectangular terminada en punta con ojal, ubicada en los hombros. El pantalón simétrico, bota recta, con pretina con 7 pasadores para ajuste en la cintura, la cual tiene como sistema de cierre un botón. El pantalón lleva cinta reflectora en forma simétrica ubicadas a la altura de la rodilla. Tallas de acuerdo a la necesidad de la unidad. | D22: UNIDAD | E22: =+#REF! -> #REF! | G22: 238000 | H22: 178500 | I22: 245687.4 | J22: 86400 | K22: =ROUND(MIN(E22,F22,G22,H22,I22,J22),0) -> #REF! | L22: =ROUND(AVERAGE(E22,F22,G22,H22,I22,J22),0) -> #REF! | M22: =ROUND(GEOMEAN(E22,F22,G22,H22,I22,J22),0) -> #REF! | N22: =ROUND(HARMEAN(E22,F22,G22,H22,I22,J22),0) -> #REF! | O22: =ROUND(_xlfn.STDEV.P(E22,F22,G22,H22,I22,J22),0) -> #REF! | P22: =O22/L22 -> #REF! | Q22: =ROUND(IF(P22<=0.5,K22,IF(AND(P22>0.5,P22<=1),N22,IF(AND(P22>1,P22<=1.5),M22,L22))),0) -> #REF! | R22: =IF(Q22=K22,"MENOR VALOR",IF(Q22=L22,"PROMEDIO",IF(Q22=M22,"MEDIA GEOMETRICA",IF(Q22=N22,"MEDIA ARMONICA")))) -> #REF!

Sheet cantidad original
B2: MANTENIMIENTO PLANTAS DE TRATAMIENTO DE AGUA POTABLE (PTAP)
B3: CLASIFICADOR POR OBJETO DEL GASTO | D3: NOMBRE CUENTA
B4: A-02-02-02-005-004-02 | D4: SERVICIOS GENERALES DE CONSTRUCCIÓN DE OBRAS DE INGENIERÍA CIVIL
B5: ITEM | C5: DESCRIPCIÓN DEL BIEN Y/O SERVICIO | D5: UNIDAD MEDIDA | E5: NECESIDAD | F5: BASRO 48 | G5: BIREY | H5: BAACA 5 | I5: BAADA 2 | J5: BILUD | K5: TOTAL | L5: COSTO DIRECTO | M5: =+#REF! -> #REF! | N5: =+#REF! -> #REF! | O5: =+#REF! -> #REF! | P5: =+#REF! -> #REF! | Q5: PRECIO REFERENCIA | R5: BASRO 48 | S5: BIREY | T5: BAACA 5 | U5: BAADA 2 | V5: BILUD | W5: TOTAL
B6: 1 | C6: ADECUACIÓN DE SALIDAS DE LODOS Y SUCCIÓN BOMBA DE FILTRACIÓN, NIPLES ROSCADOS 2"X20 Ø 2" HG. | D6: SERVICIO | E6: 1 | G6: 1 | K6: =SUM(F6:J6) -> 1 | L6: =+#REF! -> #REF! | M6: 70255 | N6: 13172 | O6: 17564 | P6: 3337 | Q6: =SUM(L6:P6) -> #REF! | R6: =F6*Q6 -> #REF! | S6: =+G6*Q6 -> #REF! | T6: =+H6*Q6 -> #REF! | U6: =+I6*Q6 -> #REF! | V6: =+J6*Q6 -> #REF! | W6: =SUM(R6:V6) -> #REF!
B7: 2 | C7: CAMBIO DE LECHO FILTRANTE, 2 TON DE ARENA SILICE MALLA 16-30 2 TON DE ANTRACITA. | D7: SERVICIO | E7: 4 | F7: 3 | G7: 1 | K7: =SUM(F7:J7) -> 4 | L7: =+#REF! -> #REF! | M7: 351238 | N7: 65857 | O7: 87808 | P7: 16684 | Q7: =SUM(L7:P7) -> #REF! | R7: =F7*Q7 -> #REF! | S7: =+G7*Q7 -> #REF! | T7: =+H7*Q7 -> #REF! | U7: =+I7*Q7 -> #REF! | V7: =+J7*Q7 -> #REF! | W7: =SUM(R7:V7) -> #REF!
B8: 3 | C8: EXTRACCIÓN LODOS POZO EYECTOR Y/O TANQUE SÉPTICO Y/O TANQUE DE SEDIMENTACIÓN EXISTENTE - MEDIANTE EQUIPO DE BOMBEO, INCLUYE DISPOSICIÓN FINAL CONTROLADA DE LOS LODOS EN SITIO AUTORIZADO POR LA AUTORIDAD AMBIENTAL COMPETENTE. INCLUYE MANEJO DE LODOS EN ACTIVIDADES DE COMPOSTAJE PARA REUTILIZACIÓN DE LOS MISMOS O SIMILAR. | D8: M3 | E8: 15 | G8: 15 | K8: =SUM(F8:J8) -> 15 | L8: =+#REF! -> #REF! | M8: 44030 | N8: 8257 | O8: 11007 | P8: 2091 | Q8: =SUM(L8:P8) -> #REF! | R8: =F8*Q8 -> #REF! | S8: =+G8*Q8 -> #REF! | T8: =+H8*Q8 -> #REF! | U8: =+I8*Q8 -> #REF! | V8: =+J8*Q8 -> #REF! | W8: =SUM(R8:V8) -> #REF!
B9: 4 | C9: MANTENIMIENTO A TANQUE DESARENADOR CAPACIDAD 7,5 M3 CONSISTENTE EN EXTRACCIÓN DE SEDIMENTOS, LAVADO A PRESIÓN, CORRECCIÓN DE GRIETAS IMPERMEABILIZACIÓN. | D9: SERVICIO | E9: 1 | G9: 1 | K9: =SUM(F9:J9) -> 1 | L9: =+#REF! -> #REF! | M9: 74318 | N9: 13934 | O9: 18579 | P9: 3530 | Q9: =SUM(L9:P9) -> #REF! | R9: =F9*Q9 -> #REF! | S9: =+G9*Q9 -> #REF! | T9: =+H9*Q9 -> #REF! | U9: =+I9*Q9 -> #REF! | V9: =+J9*Q9 -> #REF! | W9: =SUM(R9:V9) -> #REF!
B10: 5 | C10: MANTENIMIENTO A TORRE DE AIREACIÓN DE 05 BANDEJAS: LIMPIEZA GENERAL, APLICACIÓN DE PINTURA EPÓXICA APROPIADA PARA CONTACTO CON AGUA POTABLE. | D10: M2 | E10: 15 | G10: 15 | K10: =SUM(F10:J10) -> 15 | L10: =+#REF! -> #REF! | M10: 10802 | N10: 2025 | O10: 2701 | P10: 513 | Q10: =SUM(L10:P10) -> #REF! | R10: =F10*Q10 -> #REF! | S10: =+G10*Q10 -> #REF! | T10: =+H10*Q10 -> #REF! | U10: =+I10*Q10 -> #REF! | V10: =+J10*Q10 -> #REF! | W10: =SUM(R10:V10) -> #REF!
B11: 6 | C11: MANTENIMIENTO DE FILTRO DE FIBRA DE VIDRIO DE 36" CAPACIDAD 1,5 M3: RETIRO DE MATERIAL FILTRANTE, LAVADO A PRESIÓN, CAMBIO 10 M DE 1 PULGADA DE TUBERÍA INTERNA EN MAL ESTADO, TOBERAS. | D11: SERVICIO | E11: 1 | G11: 1 | K11: =SUM(F11:J11) -> 1 | L11: =+#REF! -> #REF! | M11: 137577 | N11: 25796 | O11: 34394 | P11: 6535 | Q11: =SUM(L11:P11) -> #REF! | R11: =F11*Q11 -> #REF! | S11: =+G11*Q11 -> #REF! | T11: =+H11*Q11 -> #REF! | U11: =+I11*Q11 -> #REF! | V11: =+J11*Q11 -> #REF! | W11: =SUM(R11:V11) -> #REF!
B12: 7 | C12: MANTENIMIENTO MEDIO FILTRANTE ADSORBENTE (INCLUYE EXTENDIDO Y NIVELACIÓN DE LA SUPERFICIE, LAVADO CON AGUA DESTILADA) INCLUYE EL SUMINISTRO E INSTALACIÓN DE CARBÓN COQUE TAMAÑOS ENTRE 1" A 2" (DENSIDAD > 1.50 G/CM3) | D12: M2 | E12: 5 | G12: 5 | K12: =SUM(F12:J12) -> 5 | L12: =+#REF! -> #REF! | M12: 42607 | N12: 7989 | O12: 10652 | P12: 2023 | Q12: =SUM(L12:P12) -> #REF! | R12: =F12*Q12 -> #REF! | S12: =+G12*Q12 -> #REF! | T12: =+H12*Q12 -> #REF! | U12: =+I12*Q12 -> #REF! | V12: =+J12*Q12 -> #REF! | W12: =SUM(R12:V12) -> #REF!
B13: 8 | C13: MANTENIMIENTO MEDIO FILTRANTE ADSORBENTE (INCLUYE EXTENDIDO Y NIVELACIÓN DE LA SUPERFICIE, LAVADO CON AGUA DESTILADA) INCLUYE SUMINISTRO E INSTALACIÓN DE CARBÓN VEGETAL TAMAÑOS ENTRE 1" A 2" (DENSIDAD > 0.50 G/CM3) | D13: M2 | E13: 5 | G13: 5 | K13: =SUM(F13:J13) -> 5 | L13: =+#REF! -> #REF! | M13: 40249 | N13: 7547 | O13: 10062 | P13: 1912 | Q13: =SUM(L13:P13) -> #REF! | R13: =F13*Q13 -> #REF! | S13: =+G13*Q13 -> #REF! | T13: =+H13*Q13 -> #REF! | U13: =+I13*Q13 -> #REF! | V13: =+J13*Q13 -> #REF! | W13: =SUM(R13:V13) -> #REF!
B14: 9 | C14: MANTENIMIENTO PREVENTIVO A ELECTROBOMBA AUTOCEBANTE DE 2 HP CONSISTENTE EN CAMBIO DE RODAMIENTOS, BALINERAS, SELLOS, CHEQUES, EMPAQUES Y PINTURA DE CORAZA. | D14: SERVICIO | E14: 3 | F14: 2 | G14: 1 | K14: =SUM(F14:J14) -> 3 | L14: =+#REF! -> #REF! | M14: 122007 | N14: 22876 | O14: 30502 | P14: 5794 | Q14: =SUM(L14:P14) -> #REF! | R14: =F14*Q14 -> #REF! | S14: =+G14*Q14 -> #REF! | T14: =+H14*Q14 -> #REF! | U14: =+I14*Q14 -> #REF! | V14: =+J14*Q14 -> #REF! | W14: =SUM(R14:V14) -> #REF!
B15: 10 | C15: MANTENIMIENTO TANQUE DE AGUA TRATADA 100 M3: LAVADO A PRESIÓN, CORRECCIÓN DE GRIETAS E IMPERMEABILIZACIÓN. | D15: SERVICIO | E15: 1 | G15: 1 | K15: =SUM(F15:J15) -> 1 | L15: =+#REF! -> #REF! | M15: 187639 | N15: 35182 | O15: 46910 | P15: 8913 | Q15: =SUM(L15:P15) -> #REF! | R15: =F15*Q15 -> #REF! | S15: =+G15*Q15 -> #REF! | T15: =+H15*Q15 -> #REF! | U15: =+I15*Q15 -> #REF! | V15: =+J15*Q15 -> #REF! | W15: =SUM(R15:V15) -> #REF!
B16: 11 | C16: RECUBRIMIENTO EPÓXICO FLEXIBLE DE ALTO DESEMPEÑO SE COMPONE DE DOS COMPONENTES ALTA RESISTENCIA QUÍMICA. (INCLUYE 2 MANOS DE RECUBRIMIENTO, FILOS Y DILATACIONES). | D16: M2 | E16: 30 | F16: 15 | G16: 15 | K16: =SUM(F16:J16) -> 30 | L16: =+#REF! -> #REF! | M16: 16115 | N16: 3021 | O16: 4029 | P16: 766 | Q16: =SUM(L16:P16) -> #REF! | R16: =F16*Q16 -> #REF! | S16: =+G16*Q16 -> #REF! | T16: =+H16*Q16 -> #REF! | U16: =+I16*Q16 -> #REF! | V16: =+J16*Q16 -> #REF! | W16: =SUM(R16:V16) -> #REF!
B17: 12 | C17: SUMINISTRO E INSTALACION DE FILTRO DE MEMBRANA HUECA DE DIAMETRO: DIÁMETRO INTERNO 15,5 CM, DIÁMETRO EXTERNO 18,5 CM, DIÁMETRO DE COLLAR 1.5 CM, LARGO 90 CM, ANCHO 15,5 CM. | D17: SERVICIO | E17: 3 | F17: 2 | G17: 1 | K17: =SUM(F17:J17) -> 3 | L17: =+#REF! -> #REF! | M17: 173716 | N17: 32572 | O17: 43429 | P17: 8252 | Q17: =SUM(L17:P17) -> #REF! | R17: =F17*Q17 -> #REF! | S17: =+G17*Q17 -> #REF! | T17: =+H17*Q17 -> #REF! | U17: =+I17*Q17 -> #REF! | V17: =+J17*Q17 -> #REF! | W17: =SUM(R17:V17) -> #REF!
B18: 13 | C18: SUMINISTRO E INSTALACION DE BOMBA DOSIFICADORA DE QUIMICOS (INCLUYE ACCESORIOS) | D18: SERVICIO | E18: 2 | F18: 1 | G18: 1 | K18: =SUM(F18:J18) -> 2 | L18: =+#REF! -> #REF! | M18: 195652 | N18: 36685 | O18: 48913 | P18: 9293 | Q18: =SUM(L18:P18) -> #REF! | R18: =F18*Q18 -> #REF! | S18: =+G18*Q18 -> #REF! | T18: =+H18*Q18 -> #REF! | U18: =+I18*Q18 -> #REF! | V18: =+J18*Q18 -> #REF! | W18: =SUM(R18:V18) -> #REF!
B19: 14 | C19: SUMINISTRO E INSTALACION DEL TABLERO DE CONTROL DEL POZO PROFUNDO (INCLUYE ACCESORIOS) | D19: SERVICIO | E19: 1 | G19: 1 | K19: =SUM(F19:J19) -> 1 | L19: =+#REF! -> #REF! | M19: 141694 | N19: 26568 | O19: 35423 | P19: 6730 | Q19: =SUM(L19:P19) -> #REF! | R19: =F19*Q19 -> #REF! | S19: =+G19*Q19 -> #REF! | T19: =+H19*Q19 -> #REF! | U19: =+I19*Q19 -> #REF! | V19: =+J19*Q19 -> #REF! | W19: =SUM(R19:V19) -> #REF!
B20: 15 | C20: SUMINISTRO E INSTALACION LUMINARIA INTERNA (3 LAMPARAS REFLECTORES LED Y 04 REFLECTORES EXTERNOS LED) INCLUYE ACCESORIOS Y CABLEADO | D20: SERVICIO | E20: 5 | F20: 4 | G20: 1 | K20: =SUM(F20:J20) -> 5 | L20: =+#REF! -> #REF! | M20: 89861 | N20: 16849 | O20: 22465 | P20: 4268 | Q20: =SUM(L20:P20) -> #REF! | R20: =F20*Q20 -> #REF! | S20: =+G20*Q20 -> #REF! | T20: =+H20*Q20 -> #REF! | U20: =+I20*Q20 -> #REF! | V20: =+J20*Q20 -> #REF! | W20: =SUM(R20:V20) -> #REF!
B21: 16 | C21: PINTURA DE TANQUE CEDIMENTADOR CON PINTURA EPOXICA GRIS, Y EL RESTO DE LA PLANTA ( 02 FILTROS GRUESOS, 02 FILTROS FINOS Y 02 MTS DE TUBERIA DE 2" CON PINTURA A BASE DE ACEITE COLOR AZUL) INCLUYE , MATERIAL PARA LA RESPECTIVA PINTADA Y MANO DE OBRA | D21: SERVICIO | E21: 2 | F21: 1 | G21: 1 | K21: =SUM(F21:J21) -> 2 | L21: =+#REF! -> #REF! | M21: 128000 | N21: 24000 | O21: 32000 | P21: 6080 | Q21: =SUM(L21:P21) -> #REF! | R21: =F21*Q21 -> #REF! | S21: =+G21*Q21 -> #REF! | T21: =+H21*Q21 -> #REF! | U21: =+I21*Q21 -> #REF! | V21: =+J21*Q21 -> #REF! | W21: =SUM(R21:V21) -> #REF!
F22: =SUM(F6:F21) -> 28 | G22: =SUM(G6:G21) -> 66 | H22: =SUM(H6:H21) -> 0 | I22: =SUM(I6:I21) -> 0 | J22: =SUM(J6:J21) -> 0 | K22: =SUM(K6:K21) -> 94 | L22: =SUM(L6:L21) -> #REF! | M22: =SUM(M6:M21) -> 1825760 | ... W22: =SUM(W6:W21) -> #REF!
B24: MANTENIMIENTO PLANTAS DE TRATAMIENTO DE AGUA RESIDUAL (PTAR)
B25: CLASIFICADOR POR OBJETO DEL GASTO | D25: NOMBRE CUENTA
B26: A-02-02-02-005-004-02 | D26: SERVICIOS GENERALES DE CONSTRUCCIÓN DE OBRAS DE INGENIERÍA CIVIL
B27: ITEM | C27: DESCRIPCIÓN DEL BIEN Y/O SERVICIO | D27: UNIDAD MEDIDA | E27: NECESIDAD | F27: BASRO 48 | G27: BIREY | H27: BAACA 5 | I27: BAADA 2 | J27: BILUD | K27: TOTAL | L27: COSTO DIRECTO | M27: =+#REF! -> #REF! | N27: =+#REF! -> #REF! | O27: =+#REF! -> #REF! | P27: =+#REF! -> #REF! | Q27: PRECIO REFERENCIA | R27: BASRO 48 | S27: BIREY | T27: BAACA 5 | U27: BAADA 2 | V27: BILUD | W27: TOTAL
B28: 1 | C28: ADECUACIÓN DE SALIDAS DE LODOS Y SUCCIÓN BOMBA DE FILTRACIÓN, NIPLES ROSCADOS 2"X20 Ø 2" HG. | D28: SERVICIO | E28: 2 | G28: 1 | J28: 1 | K28: =SUM(F28:J28) -> 2 | L28: =+#REF! -> #REF! | M28: 70255 | N28: 13172 | O28: 17564 | P28: 3337 | Q28: =SUM(L28:P28) -> #REF! | R28: =F28*Q28 -> #REF! | S28: =+G28*Q28 -> #REF! | T28: =+H28*Q28 -> #REF! | U28: =+I28*Q28 -> #REF! | V28: =+J28*Q28 -> #REF! | W28: =SUM(R28:V28) -> #REF!
B29: 2 | C29: CAMBIO DE DIFUSORES DE BURBUJA FINA DE 12" QUE ESTÁN EN MAL ESTADO, POR NUEVOS DIFUSORES. QUE INCLUYE CAMBIO DE TUBERÍA DE 10 METROS DE 2 PULGADAS. | D29: SERVICIO | E29: 1 | G29: 1 | K29: =SUM(F29:J29) -> 1 | L29: =+#REF! -> #REF! | M29: 58688 | N29: 11004 | O29: 14672 | P29: 2788 | Q29: =SUM(L29:P29) -> #REF! | R29: =F29*Q29 -> #REF! | S29: =+G29*Q29 -> #REF! | T29: =+H29*Q29 -> #REF! | U29: =+I29*Q29 -> #REF! | V29: =+J29*Q29 -> #REF! | W29: =SUM(R29:V29) -> #REF!
B30: 3 | C30: CAMBIO DE FILTRO DE AIRE DEL MOTOR SOPLADOR. | D30: SERVICIO | E30: 3 | G30: 1 | H30: 2 | K30: =SUM(F30:J30) -> 3 | L30: =+#REF! -> #REF! | M30: 52846 | N30: 9909 | O30: 13211 | P30: 2510 | Q30: =SUM(L30:P30) -> #REF! | R30: =F30*Q30 -> #REF! | S30: =+G30*Q30 -> #REF! | T30: =+H30*Q30 -> #REF! | U30: =+I30*Q30 -> #REF! | V30: =+J30*Q30 -> #REF! | W30: =SUM(R30:V30) -> #REF!
