Workbook
Name inf: #REF!
Name mat: '[1]ESTUDIO DE MERCADO - MATERIALES'!$B$8:$D$626

Sheet SAN ANTONIO 
A1: CONDICIONES CONTRACTUALES | L1: ACTA DE MODIFICACIÓN No.1
L2: MAYORES CANTIDADES | M2: MENORES CANTIDADES | N2: CANTIDADES ACTUALES | O2: VALOR TOTAL
A4: ITEM | B4: DESCRIPCION | H4: UNIDAD | I4: CANTIDAD | J4: VR UNITARIO | K4: VR PARCIAL | L4: CANTIDAD | M4: CANTIDAD | N4: CANTIDAD | O4: VALOR
A5: MURO DE CONTENCIÓN | K5: =SUM(K6:K10) -> 33654247
A6: 1 | B6: =MEMORIAS!B5 -> EXCAVACIÓN MANUAL de material heterogéneo, bajo cualquier grado de humedad. Incluye: roca descompuesta, bolas de roca de volumen inferior a 0.35 m³., el cargue, transporte interno y externo, botada de material proveniente de las excavaciones en el botadero destinado por el municipio o los sitios donde indique la interventoría y su medida será en el sitio. No incluye entibado. | H6: m3 | I6: =MEMORIAS!L5 -> 19.98 | J6: ='APU''S'!H39 -> 41057 | K6: =I6*J6 -> 820318.86 | L6: 0 | M6: =+I6-(15*(5/2)*(0.5/2)) -> 10.605 | N6: =I6-M6 -> 9.375 | O6: =J6*N6 -> 384909.38
A7: 2 | B7: =MEMORIAS!B10 -> LLENOS CON MATERIAL DE PRÉSTAMO, compactados mecánicamente hasta obtener una densidad del 98% de la máxima obtenida en el ensayo del Próctor modificado. Incluye el suministro, transporte, colocación de la arenilla, la compactación de la misma y transporte interno. Y su medida será en sitio ya compactado. | H7: m3 | I7: =MEMORIAS!K10 -> 8.1 | J7: ='APU''S'!H81 -> 104055 | K7: =I7*J7 -> 842845.5 | L7: =40.17000001-I7 -> 32.07 | M7: 0 | N7: =I7+L7 -> 40.17 | O7: =J7*N7 -> 4179889.4
A8: 3 | B8: =MEMORIAS!B16 -> Construcción de MURO DE CONTENCIÓN en concreto de 21 Mpa con acelerante tipo Sikaset L o equivalente, espesor segun diseño. Incluye suministro, transporte y colocación del concreto para el vastago y la fundación, formaleta para acabado a la vista en la parte frontal, de tal forma que garantice una superficie pareja y homogénea, vibrado, protección, curado y todos los demás elementos necesarios para su correcto armado y vaciado. El acero de refuerzo se pagará en su respectivo item según diseño. | H8: m3 | I8: =MEMORIAS!P16 -> 21.88 | J8: ='APU''S'!H131 -> 924500 | K8: =I8*J8 -> 20228060 | L8: 0 | M8: =I8 -> 21.88 | N8: =I8-M8 -> 0 | O8: =J8*N8 -> 0
A9: 4 | B9: =MEMORIAS!B20 -> Suministro, transporte e instalación de ACERO DE REFUERZO FIGURADO Fy= 420 MPa-60000 PSI, corrugado. Incluye transporte con descarga, transporte interno, alambre de amarre, certificados y todos los elementos necesarios para su correcta instalación, según diseño y recomendaciones estructurales. | H9: kg | I9: =MEMORIAS!L20 -> 1170 | J9: ='APU''S'!H174 -> 9628 | K9: =I9*J9 -> 11264760 | L9: 0 | M9: =I9 -> 1170 | N9: =I9-M9 -> 0 | O9: =J9*N9 -> 0
A10: 5 | B10: =MEMORIAS!B25 -> Construcción de Filtro en geotextil NT - 2000, geodrén, piedra para filtro entre 1-3" y todos los elementos necesarios para su correcto funcionamiento, altura según diseño (largo 20 metros, alto con pendiente de 5 a 0 metros) | H10: m2 | I10: =MEMORIAS!L25 -> 11.25 | J10: ='APU''S'!H217 -> 44290 | K10: =I10*J10 -> 498262.5 | L10: =(3*15)-I10 -> 33.75 | M10: 0 | N10: =I10+L10 -> 45 | O10: =J10*N10 -> 1993050
A11: LOSAS DE CONCRETO HIDRAULICO | K11: =SUM(K12:K14) -> 11129932 | O11: =J11*N11 -> 0
A12: 6 | B12: Demolición placa en concreto existente con rotomartillo incluye cortes con pulidora o cortadora de piso, derecho a botadero y todo lo necesario para su correcta ejecución. | H12: m2 | I12: =MEMORIAS!L30 -> 60 | J12: ='APU''S'!H260 -> 34837 | K12: =I12*J12 -> 2090220 | L12: 0 | M12: 0 | N12: =I12+L12 -> 60 | O12: =J12*N12 -> 2090220
A13: 7 | B13: Suministro y colocación de concreto Hidraulico para losas de pavimento; Fc 3000 psi minimo. incluye formaleta. vibrado. texturizado. curado y demas actividades para su correcta colocacion | H13: m3 | I13: =MEMORIAS!L35 -> 9 | J13: ='APU''S'!H310 -> 924500 | K13: =I13*J13 -> 8320500 | L13: 0 | M13: =I13 -> 9 | N13: =I13-M13 -> 0 | O13: =J13*N13 -> 0
A14: 8 | B14: Suministro, transporte e instalación de ACERO DE REFUERZO FIGURADO Fy= 420 MPa-60000 PSI, corrugado. Incluye transporte con descarga, transporte interno, alambre de amarre, certificados y todos los elementos necesarios para su correcta instalación, según diseño y recomendaciones estructurales. | H14: kg | I14: =MEMORIAS!L39 -> 74.7 | J14: ='APU''S'!H352 -> 9628 | K14: =ROUND(I14*J14,0) -> 719212 | L14: 0 | M14: =I14 -> 74.7 | N14: =I14-M14 -> 0 | O14: =J14*N14 -> 0
A15: OE-1 | B15: Construcción de elementos estructurales en concreto de 21 Mpa para muro de contención y losas de pavimento. | H15: m3 | I15: 0 | J15: ='APUS OE'!H43 -> 788046 | K15: =I15*J15 -> 0 | L15: 13.799136 | M15: 0 | N15: =I16+L15 -> 13.799136 | O15: =J15*N15 -> 10874354
A16: OE-2 | B16: Muro de contención en bloque relleno en concreto de 21 Mpa en todas las celdas, el acero y elementos estructurales se pagan en su respectivo item. | H16: m2 | I16: 0 | J16: ='APUS OE'!H89 -> 376423 | K16: =I16*J16 -> 0 | L16: =3*15 -> 45 | M16: 0 | N16: =I17+L16 -> 45 | O16: =J16*N16 -> 16939035
A17: OE-3 | B17: Concreto ciclópeo (producción): Mezclado en sitio o planta móvil, transporte interno, colocación, vibrado y curado del concreto ciclópeo. | H17: m3 | I17: 0 | J17: ='APUS OE'!H178 -> 434371 | K17: =I17*J17 -> 0 | L17: =0.6 -> 0.6 | M17: 0 | N17: =I18+L17 -> 0.6 | O17: =J17*N17 -> 260622.6
A18: OE-4 | B18: Revoque liso con acabado lavado realizado con mortero sobre cara exterior de muro de contención. | H18: m2 | I18: 0 | J18: ='APUS OE'!H225 -> 38851 | K18: =I18*J18 -> 0 | L18: =15*3 -> 45 | M18: 0 | N18: =I19+L18 -> 45 | O18: =J18*N18 -> 1748295
A19: OE-5 | B19: Suministro, figuración e instalación de acero de refuerzo 60.000 psi, para elementos estructulaes de muro de contención y losas de hormigon, incluye todos los elementos necesarios para su instalación. | H19: kg | I19: 0 | J19: ='APUS OE'!H132 -> 7481 | K19: =I19*J19 -> 0 | L19: 898.4 | M19: 0 | N19: =I20+L19 -> 898.4 | O19: =J19*N19 -> 6720930.4
H20: SUBTOTAL COSTO DIRECTO | K20: =ROUNDDOWN((K5+K11),0) -> 44784178 | O20: =ROUNDUP(SUM(O6:O19),0) -> 45191306
G21: Administracion | J21: =11% -> 0.11 | K21: =J21*K20 -> 4926259.6 | N21: =ADMINISTRACIÓN!F34 -> 0.1 | O21: =ADMINISTRACIÓN!G36 -> 4519131
I22: VALOR TOTAL PROYECTO | K22: =ROUNDDOWN(K20+K21,0) -> 49710437 | O22: =O20+O21 -> 49710437
I23: Aporte MUNICIPIO | K23: 49000000 | O23: 49000000
I24: APORTE JAC (especie) | K24: =K22-K23 -> 710437 | O24: 710437
E34: Logitudes | H34: ACERO 1/2
E35: 2.1 | H35: =(15+15+15)*4 -> 180
B36: 6 col | C36: 30*30 | E36: 1.9 | H36: =6*4*3.5 -> 84 | I36: ACERO 3/8
B37: viga | C37: 35*35 | E37: 2.1 | G37: =(0.5-0.07-0.07)*4 -> 1.44 | H37: =(15/0.15) -> 100 | I37: =G37*H37 -> 144
E38: 2.7 | G38: =(0.3-0.04-0.04)*4 -> 0.88 | H38: =(3/0.15) -> 20 | I38: =H38*6 -> 120
E39: 2.8 | G39: =(0.3-0.04-0.04)*4 -> 0.88 | H39: =15/0.15 -> 100 | I39: =G39*H39*2 -> 176
E40: 2.7 | H40: =H35+H36 -> 264 | I40: 0.994 | J40: =H40*I40 -> 262.416
E41: =SUM(E35:E40) -> 14.3 | H41: =I37+I38+I39 -> 440 | I41: 0.56 | J41: =H41*I41 -> 246.4
E42: 14.5 | J42: =J40+J41 -> 508.816

Sheet Hoja1

Sheet ADMINISTRACIÓN
B2: CARGO /OFICIO | C2: CANTIDAD | D2: SUELDO O TARIFA MENSUAL | E2: DEDICACION MENSUAL | F2: DURACION TOTAL | G2: VALOR PARCIAL
B3: COSTOS DE PERSONAL
B4: PERSONAL PROFECIONAL O TECNICO
B5: ING CIVIL DIRECTOR DE OBRA | G5: =+C5*D5*E5*F5 -> 0
B6: OFICIAL DE PRIMERA | G6: =+D6*C6*F6 -> 0
B7: TECNICO EN CONSTRUCIONES DE OBRA | G7: =+C7*D7*E7*F7 -> 0
B8: SUB TORAL COSTO DE PERSONAL
B9: FACTOR PRESTACIONAL (FP= 1,47). (A) | G9: 1.65
B11: TOTAL COSTO DE PERSONAL CON FACTOR PRESTACIONAL | G11: =+G9*(G5+G7+G6) -> 0
B13: GASTOS DE OFICINA
B15: TOTAL GASTOA DE OFICNA, TRANSPORTE, PAPELERÍA (B) | D15: 200000 | F15: 2 | G15: =D15*F15 -> 400000
B17: VALOR BASICO = A+B = C | F17: 1 | G17: =+G15+G11+G16 -> 400000
B19: GASTOS DIRECTOS NO REEMBOLSABLES (sobre el valor total del proyecto)
B20: ESTAMPILLA PRO CULTURA (0,5%) | G20: 0
B21: ESTAMPILLA PARA BIENESTA DEL ADULTO MAYOR (4%) | G21: 0
B22: ESTAMPILLA PRO DEPORTES (2,5)%) | G22: 0
B23: ESTAMPILLA PRO HOSPITALES PUBLICOS (1%) | G23: 0
B24: CONTRIBUCION ESPECIAL DE SEGURIDAD (5%) | G24: =5%*G37 -> 2485521.9
B25: 50% DEL IMPUESTO DEL 4/1000 | G25: 0
B26: 50% DEL IMPUESTO DE INDUSTRIA Y COMERCIO (1%) | G26: 0
B27: POLIZAS | G27: =H61 -> 1436953.9
B29: TOTAL GASTOS DIRECTOS NO REEMBOLSABLES (D) | G29: =+SUM(G20:G27) -> 3922475.7
B30: SUBTOTAL DE COSTOS DE ADMNISTRACION | G30: =+G29+G17 -> 4322475.7
B31: SUBTOTAL COSTOS DIRECTOS DE OBRA | G31: ='SAN ANTONIO '!O20 -> 45191306
B33: VALOR COSTO DIRECTO | G33: ='SAN ANTONIO '!O20 -> 45191306
B34: TOTAL PORCENTAJE ADMINITRACION (%) | F34: =ROUNDUP(G30/G33,2) -> 0.1 | G34: =ROUNDUP(+G33*F34,0) -> 4519131
B35: TOTAL UTILIDAD (%) | F35: 0 | G35: =+G33*F35 -> 0
B36: TOTAL A U (%) | F36: =+F34+F35 -> 0.1 | G36: =+G34+G35 -> 4519131
B37: VALOR TOTAL DEL PROYECTO (AU INCLUIDO) | G37: =G33+G36 -> 49710437
B44: CÁLCULO DE PÓLIZAS OBRA
B46: VALOR DEL CONTRATO ( $ ) | C46: =G37 -> 49710437
B47: PLAZO ESTIMADO GARANTÍAS | C47: 2 | D47: =+IFERROR(C47*30,"") -> 60
B48: ANTICIPO | C48: 0 | D48: =+IFERROR(C48*C46,"") -> 0
B50: TIPO DE GARANTÍA | C50: VALOR ASEGURADO | F50: COBERTURA ( DÍAS ) | G50: TASA ANUAL | H50: PRIMA
C51: % | D51: BASE | E51: VALOR
B52: CUMPLIMIENTO | C52: 0.2 | D52: =$C$46 -> 49710437 | E52: =+IFERROR(C52*D52,"") -> 9942087.4 | F52: =+IFERROR($C$4+180,"") -> 180 | G52: 0.007 | H52: =+IFERROR(G52*E52*F52/360,"") -> 34797.306
B53: BUEN MANEJO Y CORRECTA INVERSIÓN DEL ANTICIPO | C53: 0 | D53: =$C$46 -> 49710437 | E53: =+IFERROR(C53*D53,"") -> 0 | F53: =+IFERROR($C$4+180,"") -> 180 | G53: 0.007 | H53: =+IFERROR(G53*E53*F53/360,"") -> 0
B54: SALARIOS Y PRESTACIONES SOCIALES | C54: 0.1 | D54: =$C$46 -> 49710437 | E54: =+IFERROR(C54*D54,"") -> 4971043.7 | F54: =+IFERROR($C$4+1080,"") -> 1080 | G54: 0.007 | H54: =+IFERROR(G54*E54*F54/360,"") -> 104391.92
B55: CALIDAD DEL SERVICIO | C55: 0.2 | D55: =$C$46 -> 49710437 | E55: =+IFERROR(C55*D55,"") -> 9942087.4 | F55: =+IF($B$3="","",1800) -> 1800 | G55: 0.007 | H55: =+IFERROR(G55*E55*F55/360,"") -> 347973.06
B56: DECRETO 1082 SMMLV RESPONSABILIDAD CIVIL | C56: SMMLV | D56: MONTO ASEGURABLE | F56: PLAZO MESES | G56: TASA ANUAL | H56: PRIMA
...

Sheet MEMORIAS
A4: ITEM | B4: DESCRIPCION | H4: ANCHO m | I4: LARGO m | J4: UNIDADES | K4: AREA m2 | L4: vol m3
A5: 1 | B5: EXCAVACIÓN MANUAL de material heterogéneo, bajo cualquier grado de humedad. Incluye: roca descompuesta, bolas de roca de volumen inferior a 0.35 m³., el cargue, transporte interno y externo, botada de material proveniente de las excavaciones en el botadero destinado por el municipio o los sitios donde indique la interventoría y su medida será en el sitio. No incluye entibado. | L5: =(3.3*9*0.4)+ (0.3*3*9) -> 19.98 | P5: 9 metros de muro
A9: ITEM | B9: DESCRIPCION | H9: ANCHO m | I9: LARGO m | J9: ESPESOR m | K9: VOL m3
A10: 2 | B10: LLENOS CON MATERIAL DE PRÉSTAMO, compactados mecánicamente hasta obtener una densidad del 98% de la máxima obtenida en el ensayo del Próctor modificado. Incluye el suministro, transporte, colocación de la arenilla, la compactación de la misma y transporte interno. Y su medida será en sitio ya compactado. | H10: 3 | I10: 9 | J10: 0.3 | K10: =H10*I10*J10 -> 8.1
A15: ITEM | B15: DESCRIPCION | H15: ANCHO m | I15: LARGO m | J15: ESPESOR m | K15: VOL m3 zapata | L15: ANCHO m | M15: LARGO m | N15: ESPESOR m | O15: VOL m3 vastago
A16: 3 | B16: Construcción de MURO DE CONTENCIÓN en concreto de 21 Mpa con acelerante tipo Sikaset L o equivalente, espesor segun diseño. Incluye suministro, transporte y colocación del concreto para el vastago y la fundación, formaleta para acabado a la vista en la parte frontal, de tal forma que garantice una superficie pareja y homogénea, vibrado, protección, curado y todos los demás elementos necesarios para su correcto armado y vaciado. El acero de refuerzo se pagará en su respectivo item según diseño. | H16: 3.3 | I16: 9 | J16: 0.4 | K16: =H16*J16*I16 -> 11.88 | L16: =(5/2) -> 2.5 | M16: 10 | N16: 0.4 | O16: =L16*M16*N16 -> 10 | P16: =K16+O16 -> 21.88
A19: ITEM | B19: DESCRIPCION | H19: ANCHO m | I19: LARGO m | J19: AREA m2 | K19: kg/ml | L19: TOTAL kg
A20: 4 | B20: Suministro, transporte e instalación de ACERO DE REFUERZO FIGURADO Fy= 420 MPa-60000 PSI, corrugado. Incluye transporte con descarga, transporte interno, alambre de amarre, certificados y todos los elementos necesarios para su correcta instalación, según diseño y recomendaciones estructurales. | K20: 234 | L20: =(K20/2)*10 -> 1170
A24: ITEM | B24: DESCRIPCION | H24: ANCHO m | I24: LARGO m | J24: AREA m2 | K24: cantidad | L24: total m2
A25: 5 | B25: Construcción de Filtro en geotextil NT - 2000, geodrén, piedra para filtro entre 1-3" y todos los elementos necesarios para su correcto funcionamiento, altura según diseño (largo 20 metros, alto con pendiente de 5 a 0 metros) | H25: 2.5 | I25: 9 | J25: =H25*I25/2 -> 11.25 | K25: 1 | L25: =J25*K25 -> 11.25
A29: ITEM | B29: DESCRIPCION | H29: ANCHO m | I29: LARGO m | J29: AREA m2 | K29: cantidad | L29: total m2
A30: 6 | B30: Demolición placa en concreto existente con rotomartillo incluye cortes con pulidora o cortadora de piso, derecho a botadero y todo lo necesario para su correcta ejecució | H30: 2 | I30: 3 | J30: =H30*I30 -> 6 | K30: 10 | L30: =J30*K30 -> 60 | O30: 10 placas
A34: ITEM | B34: DESCRIPCION | H34: ANCHO m | I34: LARGO m | J34: espesor m | K34: cantidad | L34: total m3
A35: 7 | B35: Suministro y colocación de concreto Hidraulico para losas de pavimento; Fc 30000 psi minimo. incluye formaleta. vibrado. texturizado. curado y demas actividades para su correcta colocacion | H35: 2 | I35: 3 | J35: 0.15 | K35: 10 | L35: =H35*I35*J35*K35 -> 9
A38: ITEM | B38: DESCRIPCION | H38: ANCHO m | I38: LARGO m | J38: peso barra | K38: cantidad | L38: total m2
A39: 8 | B39: ='SAN ANTONIO '!$B$14:$G$14 -> Suministro, transporte e instalación de ACERO DE REFUERZO FIGURADO Fy= 420 MPa-60000 PSI, corrugado. Incluye transporte con descarga, transporte interno, alambre de amarre, certificados y todos los elementos necesarios para su correcta instalación, según diseño y recomendaciones estructurales. | I39: 0.5 | J39: 0.996 | K39: =(3*10)/0.2 -> 150 | L39: =J39*K39*I39 -> 74.7

Sheet APU'S
D1: ANÁLISIS DE PRECIOS UNITARIOS
A4: ITEM: 1 | B4: EXCAVACIÓN MANUAL de material heterogéneo, bajo cualquier grado de humedad. Incluye: roca descompuesta, bolas de roca de volumen inferior a 0.35 m³., el cargue, transporte interno y externo, botada de material proveniente de las excavaciones en el botadero destinado por el municipio o los sitios donde indique la interventoría y su medida será en el sitio. No incluye entibado. | G4: UNIDAD : m3
A8: I. EQUIPO
A9: Descripción | D9: Tipo | E9: Tarifa/Hora | F9: Rendimiento | G9: Valor-Unit.
A10: herramienta menor 10% M.o | D10: Gl | E10: 30000 | F10: 20 | G10: =E10/F10 -> 1500
G15: Sub-Total | H15: =ROUNDUP(SUM(G10:G12),0) -> 1500
A16: II. MATERIALES EN OBRA
A17: Descripción | D17: Unidad | E17: Precio-Unit. | F17: Cantidad | G17: Valor-Unit.
G21: Sub-Total | H21: =SUM(G18:G20) -> 0
A22: III. TRANSPORTES
A23: Material | C23: Vol. Peso ó Cant. | D23: Distancia | E23: M3-Km | F23: Tarifa | G23: Valor-Unit.
G28: Sub-Total | H28: =G24 -> 0
A29: IV. MANO DE OBRA
A30: Trabajador | C30: Jornal | D30: Prestaciones | E30: Jornal Total | F30: Rendimiento | G30: Valor-Unit.
A31: 1 oficial y 2 ayudantes | C31: =100%*E31/D31 -> 217344.63 | D31: 1.82 | E31: 395567.22 | F31: 0.1 | G31: =E31*F31 -> 39556.722
G37: Sub-Total | H37: =ROUNDUP(SUM(G31:G32),0) -> 39557
E39: Total Costo Directo | H39: =ROUND(SUM(H15+H21+H28+H37),0) -> 41057
D43: ANÁLISIS DE PRECIOS UNITARIOS
A46: ITEM: 2 | B46: LLENOS CON MATERIAL DE PRÉSTAMO, compactados mecánicamente hasta obtener una densidad del 98% de la máxima obtenida en el ensayo del Próctor modificado. Incluye el suministro, transporte, colocación de la arenilla, la compactación de la misma y transporte interno. Y su medida será en sitio ya compactado. | G46: UNIDAD : m3
A50: I. EQUIPO
A51: Descripción | D51: Tipo | E51: Tarifa/Hora | F51: Rendimiento | G51: Valor-Unit.
A52: herramienta menor 10% M.o | D52: Gl | G52: =0.1*H79 -> 1186.8
G57: Sub-Total | H57: =ROUNDUP(SUM(G52:G54),0) -> 1187
A58: II. MATERIALES EN OBRA
A59: Descripción | D59: Unidad | E59: Precio-Unit. | F59: Cantidad | G59: Valor-Unit.
A60: Material seleccionado para lleno | D60: m3 | E60: 70000 | F60: 1.3 | G60: =E60*F60 -> 91000
G63: Sub-Total | H63: =SUM(G60:G62) -> 91000
A64: III. TRANSPORTES
A65: Material | C65: Vol. Peso ó Cant. | D65: Distancia | E65: M3-Km | F65: Tarifa | G65: Valor-Unit.
G70: Sub-Total | H70: 0
A71: IV. MANO DE OBRA
A72: Trabajador | C72: Jornal | D72: Prestaciones | E72: Jornal Total | F72: Rendimiento | G72: Valor-Unit.
A73: 1 oficial y 2 ayudantes | C73: =100%*E73/D73 -> 217344.63 | D73: 1.82 | E73: 395567.22 | F73: 0.03 | G73: =E73*F73 -> 11867.017
G79: Sub-Total | H79: =ROUNDUP(SUM(G73:G74),0) -> 11868
E81: Total Costo Directo | H81: =ROUND(SUM(H57+H63+H70+H79),0) -> 104055
D86: ANÁLISIS DE PRECIOS UNITARIOS
A89: ITEM: 3 | B89: Construcción de MURO DE CONTENCIÓN en concreto de 21 Mpa con acelerante tipo Sikaset L o equivalente, espesor segun diseño. Incluye suministro, transporte y colocación del concreto para el vastago y la fundación, formaleta para acabado a la vista en la parte frontal, de tal forma que garantice una superficie pareja y homogénea, vibrado, protección, curado y todos los demás elementos necesarios para su correcto armado y vaciado. El acero de refuerzo se pagará en su respectivo item según diseño. | G89: UNIDAD : m3
A93: I. EQUIPO
A94: Descripción | D94: Tipo | E94: Tarifa/Hora | F94: Rendimiento | G94: Valor-Unit.
A95: herramienta menor 10% M.o | D95: Gl | E95: 20000 | F95: 0.2 | G95: =E95*F95 -> 4000
...

Sheet APUS OE
D1: ANÁLISIS DE PRECIOS UNITARIOS
A4: ITEM: OE-1 | B4: Construcción de elementos estructurales en concreto de 21 Mpa para muro de contención y losas de pavimento. | G4: UNIDAD : m3
A8: I. EQUIPO
A9: Descripción | D9: Tipo | E9: Tarifa/Hora | F9: Rendimiento | G9: Valor-Unit.
A10: herramienta menor | E10: =H41 -> 142500 | F10: 20 | G10: =E10/F10 -> 7125
A11: vibrador de concreto | D11: día | E11: 75000 | F11: 5 | G11: =E11/F11 -> 15000
A12: formaleta en tabla comun | D12: día | E12: 55000 | F12: 4 | G12: =E12/F12 -> 13750
G14: Sub-Total | H14: =ROUNDUP(SUM(G10:G12),0) -> 35875
A15: II. MATERIALES EN OBRA
A16: Descripción | D16: Unidad | E16: Precio-Unit. | F16: Cantidad | G16: Valor-Unit.
A17: Concreto 3000 psi | D17: m3 | E17: 580000 | F17: 1.05 | G17: =E17*F17 -> 609000
A18: puntilla | D18: lb | E18: 9900 | F18: 0.04 | G18: =E18*F18 -> 396
G25: Sub-Total | H25: =SUM(G17:G24) -> 609396
A26: III. TRANSPORTES
A27: Material | C27: Vol. Peso ó Cant. | D27: Distancia | E27: M3-Km | F27: Tarifa | G27: Valor-Unit.
A28: Transporte interno matrial | C28: 0.1 | D28: m3 | E28: 11 | F28: 250 | G28: =C28*E28*F28 -> 275
G32: Sub-Total | H32: =G28 -> 275
A33: IV. MANO DE OBRA
A34: Trabajador | C34: Jornal | D34: Prestaciones | E34: Jornal Total | F34: Rendimiento | G34: Valor-Unit.
A35: 1 oficial y 7 ayudantes | C35: =100%*E35/D35 -> 521978.02 | D35: 1.82 | E35: 950000 | F35: 0.15 | G35: =E35*F35 -> 142500
G41: Sub-Total | H41: =ROUNDUP(SUM(G35:G36),0) -> 142500
E43: Total Costo Directo | H43: =ROUND(SUM(H14+H25+H32+H41),0) -> 788046
D47: ANÁLISIS DE PRECIOS UNITARIOS
A50: ITEM: OE-2 | B50: Muro de contención en bloque relleno en concreto de 21 Mpa en todas las celdas, el acero y elementos estructurales se pagan en su respectivo item. | G50: UNIDAD : m2
A54: I. EQUIPO
A55: Descripción | D55: Tipo | E55: Tarifa/Hora | F55: Rendimiento | G55: Valor-Unit.
A56: herramienta menor | E56: =H87 -> 142500 | F56: 20 | G56: =E56/F56 -> 7125
A57: vibrador de concreto | D57: día | E57: 75000 | F57: 5 | G57: =E57/F57 -> 15000
A58: formaleta en tabla comun | D58: día | E58: 55000 | F58: 4 | G58: =E58/F58 -> 13750
G60: Sub-Total | H60: =ROUNDUP(SUM(G56:G58),0) -> 35875
A61: II. MATERIALES EN OBRA
A62: Descripción | D62: Unidad | E62: Precio-Unit. | F62: Cantidad | G62: Valor-Unit.
A63: Bloque de concreto, liso estándar, color gris, 40x20x20 cm, resistencia normalizada R10 (10 N/mm²), | D63: und | E63: 4500 | F63: 11.5 | G63: =E63*F63 -> 51750
A64: mortero de pega 1:3 | D64: m3 | E64: 410000 | F64: 0.03 | G64: =E64*F64 -> 12300
A65: Concreto 3000 psi | D65: m3 | E65: =E17 -> 580000 | F65: =0.0435*5*1*1.05 -> 0.228375 | G65: =E65*F65 -> 132457.5
J66: =0.2*0.2 -> 0.04
G71: Sub-Total | H71: =SUM(G63:G70) -> 196507.5
A72: III. TRANSPORTES
A73: Material | C73: Vol. Peso ó Cant. | D73: Distancia | E73: M3-Km | F73: Tarifa | G73: Valor-Unit.
A74: Transporte interno matrial | C74: 0.1 | D74: m3 | E74: 11 | F74: 1400 | G74: =C74*E74*F74 -> 1540
...
