Workbook
Name _Key1: #REF!
Name _Sort: #REF!
Name CONCRETO: #REF!

Sheet Resumen
A1: No. | B1: Proponente | C1: CALIFICACIÓN | D1: PRESENTACIÓN DE UN PLAN DE CALIDAD (3) | E1: Criterios ambientales y sociales (20) | F1: Promoción a la industria nacional (20) | G1: Acreditación personal en condición de discapacidad (1) | H1: Emprendimientos y empresas de mujeres (0.25) | I1: Acreditación MIPYMES (0.25) | J1: Total
A2: 1 | B2: CONSORCIO CALDENSE EP | C2: HÁBIL | D2: 10 | E2: 20 | F2: 20 | G2: 1 | H2: 0.25 | I2: 0.25 | J2: =+SUM(D2:I2) -> 51.5
A3: 2 | B3: CONSORCIO LOS VOLCANES | C3: HÁBIL | D3: 10 | E3: 20 | F3: 20 | G3: 1 | H3: 0.25 | I3: 0.25 | J3: =+SUM(D3:I3) -> 51.5
A4: 3 | B4: CONSORCIO HERMANDAD | C4: NO HÁBIL | D4: 10 | E4: 20 | F4: 20 | G4: 0 | H4: 0.25 | I4: 0.25 | J4: =+SUM(D4:I4) -> 50.5
A5: 4 | B5: CONSORCIO VIAL 012- AJMR | C5: HÁBIL | D5: 10 | E5: 20 | F5: 20 | G5: 1 | H5: 0.25 | I5: 0.25 | J5: =+SUM(D5:I5) -> 51.5
A6: 5 | B6: CONSORCIO HERMANAMIENTO AZUL | C6: HÁBIL | D6: 10 | E6: 20 | F6: 20 | G6: 1 | H6: 0.25 | I6: 0.25 | J6: =+SUM(D6:I6) -> 51.5
A7: 6 | B7: CONSORCIO MEJORAMIENTOS DEL HERMANAMIENTO | C7: HÁBIL | D7: 10 | E7: 20 | F7: 20 | G7: 1 | H7: 0.25 | I7: 0.25 | J7: =+SUM(D7:I7) -> 51.5
A8: 7 | B8: CONSORCIO VIAS DE CALDAS | C8: HÁBIL | D8: 10 | E8: 20 | F8: 20 | G8: 1 | H8: 0.25 | I8: 0.25 | J8: =+SUM(D8:I8) -> 51.5
A9: 8 | B9: CONSORCIO MEJORAMIENTO VIAL | C9: HÁBIL | D9: 10 | E9: 20 | F9: 20 | G9: 1 | H9: 0.25 | I9: 0.25 | J9: =+SUM(D9:I9) -> 51.5
A10: 10 | B10: CONSORCIO VIAS DE CALDAS 2026 | C10: HÁBIL | D10: 10 | E10: 20 | F10: 20 | G10: 1 | H10: 0.25 | I10: 0.25 | J10: =+SUM(D10:I10) -> 51.5
A11: 11 | B11: CONSORCIO VIAL 2026 | C11: HÁBIL | D11: 10 | E11: 20 | F11: 20 | G11: 1 | H11: 0.25 | I11: 0.25 | J11: =+SUM(D11:I11) -> 51.5
A12: 12 | B12: CONSORCIO SOLUCION VIAL CALDAS 2 | C12: HÁBIL | D12: 10 | E12: 20 | F12: 20 | G12: 1 | H12: 0.25 | I12: 0.25 | J12: =+SUM(D12:I12) -> 51.5
A13: 13 | B13: CONSORCIO HERMANAMIENTO 2026 | C13: HÁBIL | D13: 10 | E13: 20 | F13: 20 | G13: 1 | H13: 0.25 | I13: 0.25 | J13: =+SUM(D13:I13) -> 51.5
... A35: 37 | B35: CONSORCIO TERRAK | C35: HÁBIL | D35: 10 | E35: 20 | F35: 20 | G35: 1 | H35: 0.25 | I35: 0.25 | J35: =+SUM(D35:I35) -> 51.5

Sheet Formulario
A1: Ref. Artículo | B1: Código UNSPSC | C1: Descripción | D1: Cantidad | E1: Unidad | F1: Precio unitario estimado | G1: Precio total estimado
A2: 1 | B2: 72141000 | C2: EXCAVACIÓN SIN CLASIFICAR DE LA EXPLANACIÓN Y CANALES | D2: 1346 | E2: m3 | F2: 33904 | G2: =+D2*F2 -> 45634784
A3: 2 | B3: 72141000 | C3: EXCAVACIÓN EN ROCA DE LA EXPLANACIÓN Y CANALES | D3: 252.12 | E3: m3 | F3: 86714.21 | G3: =+D3*F3 -> 21862387
A4: 3 | B4: 72141000 | C4: TERRAPLENES | D4: 2562.33 | E4: m3 | F4: 24999.06 | G4: =+D4*F4 -> 64055841
A5: 4 | B5: 72141000 | C5: REMOCION DE CERCAS DE ALAMBRE DE PÚAS | D5: 266.05 | E5: m | F5: 2898.79 | G5: =+D5*F5 -> 771223.08
A6: 5 | B6: 72141000 | C6: ADECUACIÓN DE ZONAS DE DEPÓSITO Y DISPOSICIÓN FINAL DE MATERIAL SOBRANTE. INCLUYE DESCAPOTE, CONFORMACIÓN Y COMPACTACIÓN | D6: 8751.4 | E6: m3 | F6: 9164.05 | G6: =+D6*F6 -> 80198267
A7: 6 | B7: 72141000 | C7: REMOCIÓN DE DERRUMBES | D7: 1057.98 | E7: m3 | F7: 36011.53 | G7: =+D7*F7 -> 38099479
A8: 7 | B8: 72141000 | C8: SUBBASE GRANULAR CLASE C | D8: 651.65 | E8: m3 | F8: 294749.25 | G8: =+D8*F8 -> 1.9207335e+08
A9: 8 | B9: 72141000 | C9: RIEGO DE IMPRIMACIÓN CON EMULSIÓN ASFÁLTICA CRL-57 | D9: 17454.8 | E9: m2 | F9: 6041.2 | G9: =+D9*F9 -> 1.0544794e+08
A10: 9 | B10: 72141000 | C10: MEZCLA DENSA EN CALIENTE TIPO MDC‐19 | D10: 1177.38 | E10: m3 | F10: 1873078 | G10: =+D10*F10 -> 2.2053246e+09
A11: 10 | B11: 72141000 | C11: BASE ESTABILIZADA CON UNA MEZCLA ASFÁLTICA NATURAL TIPO BEMAN-25 | D11: 1728.03 | E11: m3 | F11: 397284.82 | G11: =+D11*F11 -> 6.8652009e+08
A12: 11 | B12: 72141000 | C12: CONFORMACIÓN DE LA CALZADA EXISTENTE SIN ADICIÓN DE MATERIAL | D12: 4344.66 | E12: m2 | F12: 1609.65 | G12: =+D12*F12 -> 6993382
A13: 12 | B13: 72141000 | C13: MEJORAMIENTO DE LA SUBRASANTE INVOLUCRANDO SUELO EXISTENTE | D13: 13110.14 | E13: m2 | F13: 27932.43 | G13: =+D13*F13 -> 3.6619807e+08
... A60: 59 | B60: 72141000 | C60: (INMODIFICABLE) VALOR PGIO (PAGA Y PMT) | D60: 1 | E60: un | F60: 1.2252304e+08 | G60: =+D60*F60 -> 1.2252304e+08
G61: =SUM(G2:G60) -> 8.19803e+09
G62: 0.27
G63: 0.05
G64: =+G62+G63 -> 0.32

Sheet Informe
C1: 1 | D1: 2 | E1: 3 | F1: 4 | G1: 5 | H1: 6 | I1: 7 | J1: 8 | K1: 9 | L1: 10 | M1: 11 | N1: 12 | O1: 13 | P1: 14 | Q1: 15 | R1: 16 | S1: 17 | T1: 18 | U1: 19 | V1: 20 | W1: 21 | X1: 22 | Y1: 23 | Z1: 24 | AA1: 25 | AB1: 26 | AC1: 27 | AD1: 28 | AE1: 29 | AF1: 30 | AG1: 31 | AH1: 32 | AI1: 33 | AJ1: 34 | AK1: 35 | AL1: 36 | AM1: 37 | AN1: 38 | AO1: 39 | AP1: 40 | AQ1: 41 | AR1: 42 | AS1: 43 | AT1: 44 | AU1: 45 | AV1: 46 | AW1: 47 | AX1: 48 | AY1: 49 | AZ1: 50 | BA1: 51 | BB1: 52 | BC1: 53 | BD1: 54 | BE1: 55 | BF1: 56 | BG1: 57 | BH1: 58 | BI1: 59 | BJ1: 60 | BK1: 61 | BL1: 62 | BM1: 63 | BN1: 64 | BO1: 65 | BP1: 66 | BQ1: 67 | BR1: 68 | BS1: 69 | BT1: 70 | BU1: 71 | BV1: 72 | BW1: 73 | BX1: 74 | BY1: 75 | BZ1: 76 | CA1: 77 | CB1: 78 | CC1: 79 | CD1: 80 | CE1: 81 | CF1: 82 | CG1: 83 | CH1: 84 | CI1: 85 | CJ1: 86 | CK1: 87 | CL1: 88 | CM1: 89 | CN1: 90 | CO1: 91 | CP1: 92 | CQ1: 93 | CR1: 94 | CS1: 95 | CT1: 96 | CU1: 97 | CV1: 98 | CW1: 99 | CX1: 100 | CY1: 101 | CZ1: 102 | DA1: 103 | DB1: 104 | DC1: 105 | DD1: 106 | DE1: 107 | DF1: 108 | DG1: 109 | DH1: 110 | DI1: 111 | DJ1: 112 | DK1: 113 | DL1: 114 | DM1: 115 | DN1: 116 | DO1: 117 | DP1: 118 | DQ1: 119 | DR1: 120 | DS1: 121 | DT1: 122 | DU1: 123 | DV1: 124 | DW1: 125 | DX1: 126 | DY1: 127 | DZ1: 128 | EA1: 129 | EB1: 130 | EC1: 131 | ED1: 132 | EE1: 133 | EF1: 134 | EG1: 135 | EH1: 136 | EI1: 137 | EJ1: 138 | EK1: 139 | EL1: 140 | EM1: 141 | EN1: 142 | EO1: 143 | EP1: 144 | EQ1: 145 | ER1: 146 | ES1: 147 | ET1: 148
C2: 1 | G2: 2 | K2: 3 | O2: 4 | S2: 5 | W2: 6 | AA2: 7 | AE2: 8 | AI2: 9 | AM2: 10 | AQ2: 11 | AU2: 12 | AY2: 13 | BC2: 14 | BG2: 15 | BK2: 16 | BO2: 17 | BS2: 18 | BW2: 19 | CA2: 20 | CE2: 21 | CI2: 22 | CM2: 23 | CQ2: 24 | CU2: 25 | CY2: 26 | DC2: 27 | DG2: 28 | DK2: 29 | DO2: 30 | DS2: 31 | DW2: 32 | EA2: 33 | EE2: 34 | EI2: 35 | EM2: 36 | EQ2: 37
C3: =VLOOKUP(C2,Resumen!$A:$I,2,FALSE) -> CONSORCIO CALDENSE EP | G3: =VLOOKUP(G2,Resumen!$A:$I,2,FALSE) -> CONSORCIO LOS VOLCANES | K3: =VLOOKUP(K2,Resumen!$A:$I,2,FALSE) -> CONSORCIO HERMANDAD | O3: =VLOOKUP(O2,Resumen!$A:$I,2,FALSE) -> CONSORCIO VIAL 012- AJMR | S3: =VLOOKUP(S2,Resumen!$A:$I,2,FALSE) -> CONSORCIO HERMANAMIENTO AZUL | W3: =VLOOKUP(W2,Resumen!$A:$I,2,FALSE) -> CONSORCIO MEJORAMIENTOS DEL HERMANAMIENTO | AA3: =VLOOKUP(AA2,Resumen!$A:$I,2,FALSE) -> CONSORCIO VIAS DE CALDAS | AE3: =VLOOKUP(AE2,Resumen!$A:$I,2,FALSE) -> CONSORCIO MEJORAMIENTO VIAL | AI3: =VLOOKUP(AI2,Resumen!$A:$I,2,FALSE) -> #N/A | AM3: =VLOOKUP(AM2,Resumen!$A:$I,2,FALSE) -> CONSORCIO VIAS DE CALDAS 2026 | AQ3: =VLOOKUP(AQ2,Resumen!$A:$I,2,FALSE) -> CONSORCIO VIAL 2026 | AU3: =VLOOKUP(AU2,Resumen!$A:$I,2,FALSE) -> CONSORCIO SOLUCION VIAL CALDAS 2 | AY3: =VLOOKUP(AY2,Resumen!$A:$I,2,FALSE) -> CONSORCIO HERMANAMIENTO 2026 | BC3: =VLOOKUP(BC2,Resumen!$A:$I,2,FALSE) -> CONSORCIO BCT CALDAS 2026 | BG3: =VLOOKUP(BG2,Resumen!$A:$I,2,FALSE) -> CONSORCIO FG HERMANAMIENTO | BK3: =VLOOKUP(BK2,Resumen!$A:$I,2,FALSE) -> CONSORCIO SOLUCION VIAL SAMANÁ | BO3: =VLOOKUP(BO2,Resumen!$A:$I,2,FALSE) -> CONSORCIO VIAL CALDAS | BS3: =VLOOKUP(BS2,Resumen!$A:$I,2,FALSE) -> CONSORCIO DE PAVIMENTACIONES SIMAB | BW3: =VLOOKUP(BW2,Resumen!$A:$I,2,FALSE) -> CONSORCIO YVY VIALES | CA3: =VLOOKUP(CA2,Resumen!$A:$I,2,FALSE) -> CONSORCIO INTEGRACION CALDAS - ANTIOQUIA | CE3: =VLOOKUP(CE2,Resumen!$A:$I,2,FALSE) -> CONSORCIO CONECTIVIDAD CALDAS 2026 | CI3: =VLOOKUP(CI2,Resumen!$A:$I,2,FALSE) -> CONSORCIO CONEXION VIAL SAMANA 2026 | CM3: =VLOOKUP(CM2,Resumen!$A:$I,2,FALSE) -> CONSORCIO PLAN VIAL SAMANA 2026 | CQ3: =VLOOKUP(CQ2,Resumen!$A:$I,2,FALSE) -> CONSORCIO RED VIAL OCCIDENTE 2026 | CU3: =VLOOKUP(CU2,Resumen!$A:$I,2,FALSE) -> CONSORCIO CALDAS WTK | CY3: =VLOOKUP(CY2,Resumen!$A:$I,2,FALSE) -> #N/A | DC3: =VLOOKUP(DC2,Resumen!$A:$I,2,FALSE) -> CONSORCIO PROSPERIDAD 2026 | DG3: =VLOOKUP(DG2,Resumen!$A:$I,2,FALSE) -> CONSORCIO MEJORAMIENTO VIAS 026 | DK3: =VLOOKUP(DK2,Resumen!$A:$I,2,FALSE) -> CONSORCIO VIAS DE CALDAS FDC 2026 | DO3: =VLOOKUP(DO2,Resumen!$A:$I,2,FALSE) -> CONSORCIO ET SINCOL | DS3: =VLOOKUP(DS2,Resumen!$A:$I,2,FALSE) -> CONSORCIO INFRAESTRUCTURA VIAL SAMANA 2026 | DW3: =VLOOKUP(DW2,Resumen!$A:$I,2,FALSE) -> CONSORCIO CALDAS 2026 | EA3: =VLOOKUP(EA2,Resumen!$A:$I,2,FALSE) -> CONSORCIO VIAL RIOSUCIO - SAMANÁ | EE3: =VLOOKUP(EE2,Resumen!$A:$I,2,FALSE) -> CONSORCIO MEJORAMIENTO DE CALDAS | EI3: =VLOOKUP(EI2,Resumen!$A:$I,2,FALSE) -> CONSORCIO SAN CHARBEL SAMANÁ | EM3: =VLOOKUP(EM2,Resumen!$A:$I,2,FALSE) -> #N/A | EQ3: =VLOOKUP(EQ2,Resumen!$A:$I,2,FALSE) -> CONSORCIO TERRAK
A4: No. | B4: DESCRIPCIÓN | C4: Cant | D4: Un | E4: Precio Unitario | F4: Valor Total | G4: Cant | H4: un | I4: Precio Unitario | J4: Valor Total | K4: Cant | L4: Un | M4: Precio Unitario | N4: Valor Total | O4: Cant | P4: Un | Q4: Precio Unitario | R4: Valor Total | S4: Cant | T4: Un | U4: Precio Unitario | V4: Valor Total | W4: Cant | X4: Un | Y4: Precio Unitario | Z4: Valor Total | AA4: Cant | AB4: Un | AC4: Precio Unitario | AD4: Valor Total | AE4: Cant | AF4: Un | AG4: Precio Unitario | AH4: Valor Total | AI4: Cant | AJ4: Un | AK4: Precio Unitario | AL4: Valor Total | AM4: Cant | AN4: Un | AO4: Precio Unitario | AP4: Valor Total | AQ4: Cant | AR4: Un | AS4: Precio Unitario | AT4: Valor Total | AU4: Cant | AV4: Un | AW4: Precio Unitario | AX4: Valor Total | AY4: Cant | AZ4: Un | BA4: Precio Unitario | BB4: Valor Total | BC4: Cant | BD4: Un | BE4: Precio Unitario | BF4: Valor Total | BG4: Cant | BH4: Un | BI4: Precio Unitario | BJ4: Valor Total | BK4: Cant | BL4: Un | BM4: Precio Unitario | BN4: Valor Total | BO4: Cant | BP4: Un | BQ4: Precio Unitario | BR4: Valor Total | BS4: Cant | BT4: Un | BU4: Precio Unitario | BV4: Valor Total | BW4: Cant | BX4: Un | BY4: Precio Unitario | BZ4: Valor Total | CA4: Cant | CB4: Un | CC4: Precio Unitario | CD4: Valor Total | CE4: Cant | CF4: Un | CG4: Precio Unitario | CH4: Valor Total | CI4: Cant | CJ4: Un | CK4: Precio Unitario | CL4: Valor Total | CM4: Cant | CN4: Un | CO4: Precio Unitario | CP4: Valor Total | CQ4: Cant | CR4: Un | CS4: Precio Unitario | CT4: Valor Total | CU4: Cant | CV4: Un | CW4: Precio Unitario | CX4: Valor Total | CY4: Cant | CZ4: Un | DA4: Precio Unitario | DB4: Valor Total | DC4: Cant | DD4: Un | DE4: Precio Unitario | DF4: Valor Total | DG4: Cant | DH4: Un | DI4: Precio Unitario | DJ4: Valor Total | DK4: Cant | DL4: Un | DM4: Precio Unitario | DN4: Valor Total | DO4: Cant | DP4: Un | DQ4: Precio Unitario | DR4: Valor Total | DS4: Cant | DT4: Un | DU4: Precio Unitario | DV4: Valor Total | DW4: Cant | DX4: Un | DY4: Precio Unitario | DZ4: Valor Total | EA4: Cant | EB4: Un | EC4: Precio Unitario | ED4: Valor Total | EE4: Cant | EF4: Un | EG4: Precio Unitario | EH4: Valor Total | EI4: Cant | EJ4: Un | EK4: Precio Unitario | EL4: Valor Total | EM4: Cant | EN4: Un | EO4: Precio Unitario | EP4: Valor Total | EQ4: Cant | ER4: Un | ES4: Precio Unitario | ET4: Valor Total
A5: 1 | B5: EXCAVACIÓN SIN CLASIFICAR DE LA EXPLANACIÓN Y CANALES | C5: 1346 | D5: m3 | F5: =C5*E5 -> 0 | G5: 1346 | H5: m3 | J5: =G5*I5 -> 0 | K5: 1346 | L5: m3 | N5: =K5*M5 -> 0 | O5: 1346 | P5: m3 | R5: =O5*Q5 -> 0 | S5: 1346 | T5: m3 | V5: =S5*U5 -> 0 | W5: 1346 | X5: m3 | Z5: =W5*Y5 -> 0 | AA5: 1346 | AB5: m3 | AD5: =AA5*AC5 -> 0 | AE5: 1346 | AF5: m3 | AH5: =AE5*AG5 -> 0 | AI5: 1346 | AJ5: m3 | AL5: =AI5*AK5 -> 0 | AM5: 1346 | AN5: m3 | AP5: =AM5*AO5 -> 0 | AQ5: 1346 | AR5: m3 | AT5: =AQ5*AS5 -> 0 | AU5: 1346 | AV5: m3 | AX5: =AU5*AW5 -> 0 | AY5: 1346 | AZ5: m3 | BB5: =AY5*BA5 -> 0 | BC5: 1346 | BD5: m3 | BF5: =BC5*BE5 -> 0 | BG5: 1346 | BH5: m3 | BJ5: =BG5*BI5 -> 0 | BK5: 1346 | BL5: m3 | BN5: =BK5*BM5 -> 0 | BO5: 1346 | BP5: m3 | BR5: =BO5*BQ5 -> 0 | BS5: 1346 | BT5: m3 | BV5: =BS5*BU5 -> 0 | BW5: 1346 | BX5: m3 | BZ5: =BW5*BY5 -> 0 | CA5: 1346 | CB5: m3 | CD5: =CA5*CC5 -> 0 | CE5: 1346 | CF5: m3 | CH5: =CE5*CG5 -> 0 | CI5: 1346 | CJ5: m3 | CL5: =CI5*CK5 -> 0 | CM5: 1346 | CN5: m3 | CP5: =CM5*CO5 -> 0 | CQ5: 1346 | CR5: m3 | CT5: =CQ5*CS5 -> 0 | CU5: 1346 | CV5: m3 | CX5: =CU5*CW5 -> 0 | CY5: 1346 | CZ5: m3 | DB5: =CY5*DA5 -> 0 | DC5: 1346 | DD5: m3 | DF5: =DC5*DE5 -> 0 | DG5: 1346 | DH5: m3 | DJ5: =DG5*DI5 -> 0 | DK5: 1346 | DL5: m3 | DN5: =DK5*DM5 -> 0 | DO5: 1346 | DP5: m3 | DR5: =DO5*DQ5 -> 0 | DS5: 1346 | DT5: m3 | DV5: =DS5*DU5 -> 0 | DW5: 1346 | DX5: m3 | DZ5: =DW5*DY5 -> 0 | EA5: 1346 | EB5: m3 | ED5: =EA5*EC5 -> 0 | EE5: 1346 | EF5: m3 | EH5: =EE5*EG5 -> 0 | EI5: 1346 | EJ5: m3 | EL5: =EI5*EK5 -> 0 | EM5: 1346 | EN5: m3 | EP5: =EM5*EO5 -> 0 | EQ5: 1346 | ER5: m3 | ET5: =EQ5*ES5 -> 0
A6: 2 | B6: EXCAVACIÓN EN ROCA DE LA EXPLANACIÓN Y CANALES | C6: 252.12 | D6: m3 | F6: =C6*E6 -> 0 | G6: 252.12 | H6: m3 | J6: =G6*I6 -> 0 | K6: 252.12 | L6: m3 | N6: =K6*M6 -> 0 | O6: 252.12 | P6: m3 | R6: =O6*Q6 -> 0 | S6: 252.12 | T6: m3 | V6: =S6*U6 -> 0 | W6: 252.12 | X6: m3 | Z6: =W6*Y6 -> 0 | AA6: 252.12 | AB6: m3 | AD6: =AA6*AC6 -> 0 | AE6: 252.12 | AF6: m3 | AH6: =AE6*AG6 -> 0 | AI6: 252.12 | AJ6: m3 | AL6: =AI6*AK6 -> 0 | AM6: 252.12 | AN6: m3 | AP6: =AM6*AO6 -> 0 | AQ6: 252.12 | AR6: m3 | AT6: =AQ6*AS6 -> 0 | AU6: 252.12 | AV6: m3 | AX6: =AU6*AW6 -> 0 | AY6: 252.12 | AZ6: m3 | BB6: =AY6*BA6 -> 0 | BC6: 252.12 | BD6: m3 | BF6: =BC6*BE6 -> 0 | BG6: 252.12 | BH6: m3 | BJ6: =BG6*BI6 -> 0 | BK6: 252.12 | BL6: m3 | BN6: =BK6*BM6 -> 0 | BO6: 252.12 | BP6: m3 | BR6: =BO6*BQ6 -> 0 | BS6: 252.12 | BT6: m3 | BV6: =BS6*BU6 -> 0 | BW6: 252.12 | BX6: m3 | BZ6: =BW6*BY6 -> 0 | CA6: 252.12 | CB6: m3 | CD6: =CA6*CC6 -> 0 | CE6: 252.12 | CF6: m3 | CH6: =CE6*CG6 -> 0 | CI6: 252.12 | CJ6: m3 | CL6: =CI6*CK6 -> 0 | CM6: 252.12 | CN6: m3 | CP6: =CM6*CO6 -> 0 | CQ6: 252.12 | CR6: m3 | CT6: =CQ6*CS6 -> 0 | CU6: 252.12 | CV6: m3 | CX6: =CU6*CW6 -> 0 | CY6: 252.12 | CZ6: m3 | DB6: =CY6*DA6 -> 0 | DC6: 252.12 | DD6: m3 | DF6: =DC6*DE6 -> 0 | DG6: 252.12 | DH6: m3 | DJ6: =DG6*DI6 -> 0 | DK6: 252.12 | DL6: m3 | DN6: =DK6*DM6 -> 0 | DO6: 252.12 | DP6: m3 | DR6: =DO6*DQ6 -> 0 | DS6: 252.12 | DT6: m3 | DV6: =DS6*DU6 -> 0 | DW6: 252.12 | DX6: m3 | DZ6: =DW6*DY6 -> 0 | EA6: 252.12 | EB6: m3 | ED6: =EA6*EC6 -> 0 | EE6: 252.12 | EF6: m3 | EH6: =EE6*EG6 -> 0 | EI6: 252.12 | EJ6: m3 | EL6: =EI6*EK6 -> 0 | EM6: 252.12 | EN6: m3 | EP6: =EM6*EO6 -> 0 | EQ6: 252.12 | ER6: m3 | ET6: =EQ6*ES6 -> 0
A7: 3 | B7: TERRAPLENES | C7: 2562.33 | D7: m3 | F7: =C7*E7 -> 0 | G7: 2562.33 | H7: m3 | J7: =G7*I7 -> 0 | K7: 2562.33 | L7: m3 | N7: =K7*M7 -> 0 | O7: 2562.33 | P7: m3 | R7: =O7*Q7 -> 0 | S7: 2562.33 | T7: m3 | V7: =S7*U7 -> 0 | W7: 2562.33 | X7: m3 | Z7: =W7*Y7 -> 0 | AA7: 2562.33 | AB7: m3 | AD7: =AA7*AC7 -> 0 | AE7: 2562.33 | AF7: m3 | AH7: =AE7*AG7 -> 0 | AI7: 2562.33 | AJ7: m3 | AL7: =AI7*AK7 -> 0 | AM7: 2562.33 | AN7: m3 | AP7: =AM7*AO7 -> 0 | AQ7: 2562.33 | AR7: m3 | AT7: =AQ7*AS7 -> 0 | AU7: 2562.33 | AV7: m3 | AX7: =AU7*AW7 -> 0 | AY7: 2562.33 | AZ7: m3 | BB7: =AY7*BA7 -> 0 | BC7: 2562.33 | BD7: m3 | BF7: =BC7*BE7 -> 0 | BG7: 2562.33 | BH7: m3 | BJ7: =BG7*BI7 -> 0 | BK7: 2562.33 | BL7: m3 | BN7: =BK7*BM7 -> 0 | BO7: 2562.33 | BP7: m3 | BR7: =BO7*BQ7 -> 0 | BS7: 2562.33 | BT7: m3 | BV7: =BS7*BU7 -> 0 | BW7: 2562.33 | BX7: m3 | BZ7: =BW7*BY7 -> 0 | CA7: 2562.33 | CB7: m3 | CD7: =CA7*CC7 -> 0 | CE7: 2562.33 | CF7: m3 | CH7: =CE7*CG7 -> 0 | CI7: 2562.33 | CJ7: m3 | CL7: =CI7*CK7 -> 0 | CM7: 2562.33 | CN7: m3 | CP7: =CM7*CO7 -> 0 | CQ7: 2562.33 | CR7: m3 | CT7: =CQ7*CS7 -> 0 | CU7: 2562.33 | CV7: m3 | CX7: =CU7*CW7 -> 0 | CY7: 2562.33 | CZ7: m3 | DB7: =CY7*DA7 -> 0 | DC7: 2562.33 | DD7: m3 | DF7: =DC7*DE7 -> 0 | DG7: 2562.33 | DH7: m3 | DJ7: =DG7*DI7 -> 0 | DK7: 2562.33 | DL7: m3 | DN7: =DK7*DM7 -> 0 | DO7: 2562.33 | DP7: m3 | DR7: =DO7*DQ7 -> 0 | DS7: 2562.33 | DT7: m3 | DV7: =DS7*DU7 -> 0 | DW7: 2562.33 | DX7: m3 | DZ7: =DW7*DY7 -> 0 | EA7: 2562.33 | EB7: m3 | ED7: =EA7*EC7 -> 0 | EE7: 2562.33 | EF7: m3 | EH7: =EE7*EG7 -> 0 | EI7: 2562.33 | EJ7: m3 | EL7: =EI7*EK7 -> 0 | EM7: 2562.33 | EN7: m3 | EP7: =EM7*EO7 -> 0 | EQ7: 2562.33 | ER7: m3 | ET7: =EQ7*ES7 -> 0
A8: 4 | B8: REMOCION DE CERCAS DE ALAMBRE DE PÚAS | C8: 266.05 | D8: m | F8: =C8*E8 -> 0 | G8: 266.05 | H8: m | J8: =G8*I8 -> 0 | K8: 266.05 | L8: m | N8: =K8*M8 -> 0 | O8: 266.05 | P8: m | R8: =O8*Q8 -> 0 | S8: 266.05 | T8: m | V8: =S8*U8 -> 0 | W8: 266.05 | X8: m | Z8: =W8*Y8 -> 0 | AA8: 266.05 | AB8: m | AD8: =AA8*AC8 -> 0 | AE8: 266.05 | AF8: m | AH8: =AE8*AG8 -> 0 | AI8: 266.05 | AJ8: m | AL8: =AI8*AK8 -> 0 | AM8: 266.05 | AN8: m | AP8: =AM8*AO8 -> 0 | AQ8: 266.05 | AR8: m | AT8: =AQ8*AS8 -> 0 | AU8: 266.05 | AV8: m | AX8: =AU8*AW8 -> 0 | AY8: 266.05 | AZ8: m | BB8: =AY8*BA8 -> 0 | BC8: 266.05 | BD8: m | BF8: =BC8*BE8 -> 0 | BG8: 266.05 | BH8: m | BJ8: =BG8*BI8 -> 0 | BK8: 266.05 | BL8: m | BN8: =BK8*BM8 -> 0 | BO8: 266.05 | BP8: m | BR8: =BO8*BQ8 -> 0 | BS8: 266.05 | BT8: m | BV8: =BS8*BU8 -> 0 | BW8: 266.05 | BX8: m | BZ8: =BW8*BY8 -> 0 | CA8: 266.05 | CB8: m | CD8: =CA8*CC8 -> 0 | CE8: 266.05 | CF8: m | CH8: =CE8*CG8 -> 0 | CI8: 266.05 | CJ8: m | CL8: =CI8*CK8 -> 0 | CM8: 266.05 | CN8: m | CP8: =CM8*CO8 -> 0 | CQ8: 266.05 | CR8: m | CT8: =CQ8*CS8 -> 0 | CU8: 266.05 | CV8: m | CX8: =CU8*CW8 -> 0 | CY8: 266.05 | CZ8: m | DB8: =CY8*DA8 -> 0 | DC8: 266.05 | DD8: m | DF8: =DC8*DE8 -> 0 | DG8: 266.05 | DH8: m | DJ8: =DG8*DI8 -> 0 | DK8: 266.05 | DL8: m | DN8: =DK8*DM8 -> 0 | DO8: 266.05 | DP8: m | DR8: =DO8*DQ8 -> 0 | DS8: 266.05 | DT8: m | DV8: =DS8*DU8 -> 0 | DW8: 266.05 | DX8: m | DZ8: =DW8*DY8 -> 0 | EA8: 266.05 | EB8: m | ED8: =EA8*EC8 -> 0 | EE8: 266.05 | EF8: m | EH8: =EE8*EG8 -> 0 | EI8: 266.05 | EJ8: m | EL8: =EI8*EK8 -> 0 | EM8: 266.05 | EN8: m | EP8: =EM8*EO8 -> 0 | EQ8: 266.05 | ER8: m | ET8: =EQ8*ES8 -> 0
A9: 5 | B9: ADECUACIÓN DE ZONAS DE DEPÓSITO Y DISPOSICIÓN FINAL DE MATERIAL SOBRANTE. INCLUYE DESCAPOTE, CONFORMACIÓN Y COMPACTACIÓN | C9: 8751.4 | D9: m3 | F9: =C9*E9 -> 0 | G9: 8751.4 | H9: m3 | J9: =G9*I9 -> 0 | K9: 8751.4 | L9: m3 | N9: =K9*M9 -> 0 | O9: 8751.4 | P9: m3 | R9: =O9*Q9 -> 0 | S9: 8751.4 | T9: m3 | V9: =S9*U9 -> 0 | W9: 8751.4 | X9: m3 | Z9: =W9*Y9 -> 0 | AA9: 8751.4 | AB9: m3 | AD9: =AA9*AC9 -> 0 | AE9: 8751.4 | AF9: m3 | AH9: =AE9*AG9 -> 0 | AI9: 8751.4 | AJ9: m3 | AL9: =AI9*AK9 -> 0 | AM9: 8751.4 | AN9: m3 | AP9: =AM9*AO9 -> 0 | AQ9: 8751.4 | AR9: m3 | AT9: =AQ9*AS9 -> 0 | AU9: 8751.4 | AV9: m3 | AX9: =AU9*AW9 -> 0 | AY9: 8751.4 | AZ9: m3 | BB9: =AY9*BA9 -> 0 | BC9: 8751.4 | BD9: m3 | BF9: =BC9*BE9 -> 0 | BG9: 8751.4 | BH9: m3 | BJ9: =BG9*BI9 -> 0 | BK9: 8751.4 | BL9: m3 | BN9: =BK9*BM9 -> 0 | BO9: 8751.4 | BP9: m3 | BR9: =BO9*BQ9 -> 0 | BS9: 8751.4 | BT9: m3 | BV9: =BS9*BU9 -> 0 | BW9: 8751.4 | BX9: m3 | BZ9: =BW9*BY9 -> 0 | CA9: 8751.4 | CB9: m3 | CD9: =CA9*CC9 -> 0 | CE9: 8751.4 | CF9: m3 | CH9: =CE9*CG9 -> 0 | CI9: 8751.4 | CJ9: m3 | CL9: =CI9*CK9 -> 0 | CM9: 8751.4 | CN9: m3 | CP9: =CM9*CO9 -> 0 | CQ9: 8751.4 | CR9: m3 | CT9: =CQ9*CS9 -> 0 | CU9: 8751.4 | CV9: m3 | CX9: =CU9*CW9 -> 0 | CY9: 8751.4 | CZ9: m3 | DB9: =CY9*DA9 -> 0 | DC9: 8751.4 | DD9: m3 | DF9: =DC9*DE9 -> 0 | DG9: 8751.4 | DH9: m3 | DJ9: =DG9*DI9 -> 0 | DK9: 8751.4 | DL9: m3 | DN9: =DK9*DM9 -> 0 | DO9: 8751.4 | DP9: m3 | DR9: =DO9*DQ9 -> 0 | DS9: 8751.4 | DT9: m3 | DV9: =DS9*DU9 -> 0 | DW9: 8751.4 | DX9: m3 | DZ9: =DW9*DY9 -> 0 | EA9: 8751.4 | EB9: m3 | ED9: =EA9*EC9 -> 0 | EE9: 8751.4 | EF9: m3 | EH9: =EE9*EG9 -> 0 | EI9: 8751.4 | EJ9: m3 | EL9: =EI9*EK9 -> 0 | EM9: 8751.4 | EN9: m3 | EP9: =EM9*EO9 -> 0 | EQ9: 8751.4 | ER9: m3 | ET9: =EQ9*ES9 -> 0
A10: 6 | B10: REMOCIÓN DE DERRUMBES | C10: 1057.98 | D10: m3 | F10: =C10*E10 -> 0 | G10: 1057.98 | H10: m3 | J10: =G10*I10 -> 0 | K10: 1057.98 | L10: m3 | N10: =K10*M10 -> 0 | O10: 1057.98 | P10: m3 | R10: =O10*Q10 -> 0 | S10: 1057.98 | T10: m3 | V10: =S10*U10 -> 0 | W10: 1057.98 | X10: m3 | Z10: =W10*Y10 -> 0 | AA10: 1057.98 | AB10: m3 | AD10: =AA10*AC10 -> 0 | AE10: 1057.98 | AF10: m3 | AH10: =AE10*AG10 -> 0 | AI10: 1057.98 | AJ10: m3 | AL10: =AI10*AK10 -> 0 | AM10: 1057.98 | AN10: m3 | AP10: =AM10*AO10 -> 0 | AQ10: 1057.98 | AR10: m3 | AT10: =AQ10*AS10 -> 0 | AU10: 1057.98 | AV10: m3 | AX10: =AU10*AW10 -> 0 | AY10: 1057.98 | AZ10: m3 | BB10: =AY10*BA10 -> 0 | BC10: 1057.98 | BD10: m3 | BF10: =BC10*BE10 -> 0 | BG10: 1057.98 | BH10: m3 | BJ10: =BG10*BI10 -> 0 | BK10: 1057.98 | BL10: m3 | BN10: =BK10*BM10 -> 0 | BO10: 1057.98 | BP10: m3 | BR10: =BO10*BQ10 -> 0 | BS10: 1057.98 | BT10: m3 | BV10: =BS10*BU10 -> 0 | BW10: 1057.98 | BX10: m3 | BZ10: =BW10*BY10 -> 0 | CA10: 1057.98 | CB10: m3 | CD10: =CA10*CC10 -> 0 | CE10: 1057.98 | CF10: m3 | CH10: =CE10*CG10 -> 0 | CI10: 1057.98 | CJ10: m3 | CL10: =CI10*CK10 -> 0 | CM10: 1057.98 | CN10: m3 | CP10: =CM10*CO10 -> 0 | CQ10: 1057.98 | CR10: m3 | CT10: =CQ10*CS10 -> 0 | CU10: 1057.98 | CV10: m3 | CX10: =CU10*CW10 -> 0 | CY10: 1057.98 | CZ10: m3 | DB10: =CY10*DA10 -> 0 | DC10: 1057.98 | DD10: m3 | DF10: =DC10*DE10 -> 0 | DG10: 1057.98 | DH10: m3 | DJ10: =DG10*DI10 -> 0 | DK10: 1057.98 | DL10: m3 | DN10: =DK10*DM10 -> 0 | DO10: 1057.98 | DP10: m3 | DR10: =DO10*DQ10 -> 0 | DS10: 1057.98 | DT10: m3 | DV10: =DS10*DU10 -> 0 | DW10: 1057.98 | DX10: m3 | DZ10: =DW10*DY10 -> 0 | EA10: 1057.98 | EB10: m3 | ED10: =EA10*EC10 -> 0 | EE10: 1057.98 | EF10: m3 | EH10: =EE10*EG10 -> 0 | EI10: 1057.98 | EJ10: m3 | EL10: =EI10*EK10 -> 0 | EM10: 1057.98 | EN10: m3 | EP10: =EM10*EO10 -> 0 | EQ10: 1057.98 | ER10: m3 | ET10: =EQ10*ES10 -> 0
A11: 7 | B11: SUBBASE GRANULAR CLASE C | C11: 651.65 | D11: m3 | F11: =C11*E11 -> 0 | G11: 651.65 | H11: m3 | J11: =G11*I11 -> 0 | K11: 651.65 | L11: m3 | N11: =K11*M11 -> 0 | O11: 651.65 | P11: m3 | R11: =O11*Q11 -> 0 | S11: 651.65 | T11: m3 | V11: =S11*U11 -> 0 | W11: 651.65 | X11: m3 | Z11: =W11*Y11 -> 0 | AA11: 651.65 | AB11: m3 | AD11: =AA11*AC11 -> 0 | AE11: 651.65 | AF11: m3 | AH11: =AE11*AG11 -> 0 | AI11: 651.65 | AJ11: m3 | AL11: =AI11*AK11 -> 0 | AM11: 651.65 | AN11: m3 | AP11: =AM11*AO11 -> 0 | AQ11: 651.65 | AR11: m3 | AT11: =AQ11*AS11 -> 0 | AU11: 651.65 | AV11: m3 | AX11: =AU11*AW11 -> 0 | AY11: 651.65 | AZ11: m3 | BB11: =AY11*BA11 -> 0 | BC11: 651.65 | BD11: m3 | BF11: =BC11*BE11 -> 0 | BG11: 651.65 | BH11: m3 | BJ11: =BG11*BI11 -> 0 | BK11: 651.65 | BL11: m3 | BN11: =BK11*BM11 -> 0 | BO11: 651.65 | BP11: m3 | BR11: =BO11*BQ11 -> 0 | BS11: 651.65 | BT11: m3 | BV11: =BS11*BU11 -> 0 | BW11: 651.65 | BX11: m3 | BZ11: =BW11*BY11 -> 0 | CA11: 651.65 | CB11: m3 | CD11: =CA11*CC11 -> 0 | CE11: 651.65 | CF11: m3 | CH11: =CE11*CG11 -> 0 | CI11: 651.65 | CJ11: m3 | CL11: =CI11*CK11 -> 0 | CM11: 651.65 | CN11: m3 | CP11: =CM11*CO11 -> 0 | CQ11: 651.65 | CR11: m3 | CT11: =CQ11*CS11 -> 0 | CU11: 651.65 | CV11: m3 | CX11: =CU11*CW11 -> 0 | CY11: 651.65 | CZ11: m3 | DB11: =CY11*DA11 -> 0 | DC11: 651.65 | DD11: m3 | DF11: =DC11*DE11 -> 0 | DG11: 651.65 | DH11: m3 | DJ11: =DG11*DI11 -> 0 | DK11: 651.65 | DL11: m3 | DN11: =DK11*DM11 -> 0 | DO11: 651.65 | DP11: m3 | DR11: =DO11*DQ11 -> 0 | DS11: 651.65 | DT11: m3 | DV11: =DS11*DU11 -> 0 | DW11: 651.65 | DX11: m3 | DZ11: =DW11*DY11 -> 0 | EA11: 651.65 | EB11: m3 | ED11: =EA11*EC11 -> 0 | EE11: 651.65 | EF11: m3 | EH11: =EE11*EG11 -> 0 | EI11: 651.65 | EJ11: m3 | EL11: =EI11*EK11 -> 0 | EM11: 651.65 | EN11: m3 | EP11: =EM11*EO11 -> 0 | EQ11: 651.65 | ER11: m3 | ET11: =EQ11*ES11 -> 0
A12: 8 | B12: RIEGO DE IMPRIMACIÓN CON EMULSIÓN ASFÁLTICA CRL-57 | C12: 17454.8 | D12: m2 | F12: =C12*E12 -> 0 | G12: 17454.8 | H12: m2 | J12: =G12*I12 -> 0 | K12: 17454.8 | L12: m2 | N12: =K12*M12 -> 0 | O12: 17454.8 | P12: m2 | R12: =O12*Q12 -> 0 | S12: 17454.8 | T12: m2 | V12: =S12*U12 -> 0 | W12: 17454.8 | X12: m2 | Z12: =W12*Y12 -> 0 | AA12: 17454.8 | AB12: m2 | AD12: =AA12*AC12 -> 0 | AE12: 17454.8 | AF12: m2 | AH12: =AE12*AG12 -> 0 | AI12: 17454.8 | AJ12: m2 | AL12: =AI12*AK12 -> 0 | AM12: 17454.8 | AN12: m2 | AP12: =AM12*AO12 -> 0 | AQ12: 17454.8 | AR12: m2 | AT12: =AQ12*AS12 -> 0 | AU12: 17454.8 | AV12: m2 | AX12: =AU12*AW12 -> 0 | AY12: 17454.8 | AZ12: m2 | BB12: =AY12*BA12 -> 0 | BC12: 17454.8 | BD12: m2 | BF12: =BC12*BE12 -> 0 | BG12: 17454.8 | BH12: m2 | BJ12: =BG12*BI12 -> 0 | BK12: 17454.8 | BL12: m2 | BN12: =BK12*BM12 -> 0 | BO12: 17454.8 | BP12: m2 | BR12: =BO12*BQ12 -> 0 | BS12: 17454.8 | BT12: m2 | BV12: =BS12*BU12 -> 0 | BW12: 17454.8 | BX12: m2 | BZ12: =BW12*BY12 -> 0 | CA12: 17454.8 | CB12: m2 | CD12: =CA12*CC12 -> 0 | CE12: 17454.8 | CF12: m2 | CH12: =CE12*CG12 -> 0 | CI12: 17454.8 | CJ12: m2 | CL12: =CI12*CK12 -> 0 | CM12: 17454.8 | CN12: m2 | CP12: =CM12*CO12 -> 0 | CQ12: 17454.8 | CR12: m2 | CT12: =CQ12*CS12 -> 0 | CU12: 17454.8 | CV12: m2 | CX12: =CU12*CW12 -> 0 | CY12: 17454.8 | CZ12: m2 | DB12: =CY12*DA12 -> 0 | DC12: 17454.8 | DD12: m2 | DF12: =DC12*DE12 -> 0 | DG12: 17454.8 | DH12: m2 | DJ12: =DG12*DI12 -> 0 | DK12: 17454.8 | DL12: m2 | DN12: =DK12*DM12 -> 0 | DO12: 17454.8 | DP12: m2 | DR12: =DO12*DQ12 -> 0 | DS12: 17454.8 | DT12: m2 | DV12: =DS12*DU12 -> 0 | DW12: 17454.8 | DX12: m2 | DZ12: =DW12*DY12 -> 0 | EA12: 17454.8 | EB12: m2 | ED12: =EA12*EC12 -> 0 | EE12: 17454.8 | EF12: m2 | EH12: =EE12*EG12 -> 0 | EI12: 17454.8 | EJ12: m2 | EL12: =EI12*EK12 -> 0 | EM12: 17454.8 | EN12: m2 | EP12: =EM12*EO12 -> 0 | EQ12: 17454.8 | ER12: m2 | ET12: =EQ12*ES12 -> 0
A13: 9 | B13: MEZCLA DENSA EN CALIENTE TIPO MDC‐19 | C13: 1177.38 | D13: m3 | F13: =C13*E13 -> 0 | G13: 1177.38 | H13: m3 | J13: =G13*I13 -> 0 | K13: 1177.38 | L13: m3 | N13: =K13*M13 -> 0 | O13: 1177.38 | P13: m3 | R13: =O13*Q13 -> 0 | S13: 1177.38 | T13: m3 | V13: =S13*U13 -> 0 | W13: 1177.38 | X13: m3 | Z13: =W13*Y13 -> 0 | AA13: 1177.38 | AB13: m3 | AD13: =AA13*AC13 -> 0 | AE13: 1177.38 | AF13: m3 | AH13: =AE13*AG13 -> 0 | AI13: 1177.38 | AJ13: m3 | AL13: =AI13*AK13 -> 0 | AM13: 1177.38 | AN13: m3 | AP13: =AM13*AO13 -> 0 | AQ13: 1177.38 | AR13: m3 | AT13: =AQ13*AS13 -> 0 | AU13: 1177.38 | AV13: m3 | AX13: =AU13*AW13 -> 0 | AY13: 1177.38 | AZ13: m3 | BB13: =AY13*BA13 -> 0 | BC13: 1177.38 | BD13: m3 | BF13: =BC13*BE13 -> 0 | BG13: 1177.38 | BH13: m3 | BJ13: =BG13*BI13 -> 0 | BK13: 1177.38 | BL13: m3 | BN13: =BK13*BM13 -> 0 | BO13: 1177.38 | BP13: m3 | BR13: =BO13*BQ13 -> 0 | BS13: 1177.38 | BT13: m3 | BV13: =BS13*BU13 -> 0 | BW13: 1177.38 | BX13: m3 | BZ13: =BW13*BY13 -> 0 | CA13: 1177.38 | CB13: m3 | CD13: =CA13*CC13 -> 0 | CE13: 1177.38 | CF13: m3 | CH13: =CE13*CG13 -> 0 | CI13: 1177.38 | CJ13: m3 | CL13: =CI13*CK13 -> 0 | CM13: 1177.38 | CN13: m3 | CP13: =CM13*CO13 -> 0 | CQ13: 1177.38 | CR13: m3 | CT13: =CQ13*CS13 -> 0 | CU13: 1177.38 | CV13: m3 | CX13: =CU13*CW13 -> 0 | CY13: 1177.38 | CZ13: m3 | DB13: =CY13*DA13 -> 0 | DC13: 1177.38 | DD13: m3 | DF13: =DC13*DE13 -> 0 | DG13: 1177.38 | DH13: m3 | DJ13: =DG13*DI13 -> 0 | DK13: 1177.38 | DL13: m3 | DN13: =DK13*DM13 -> 0 | DO13: 1177.38 | DP13: m3 | DR13: =DO13*DQ13 -> 0 | DS13: 1177.38 | DT13: m3 | DV13: =DS13*DU13 -> 0 | DW13: 1177.38 | DX13: m3 | DZ13: =DW13*DY13 -> 0 | EA13: 1177.38 | EB13: m3 | ED13: =EA13*EC13 -> 0 | EE13: 1177.38 | EF13: m3 | EH13: =EE13*EG13 -> 0 | EI13: 1177.38 | EJ13: m3 | EL13: =EI13*EK13 -> 0 | EM13: 1177.38 | EN13: m3 | EP13: =EM13*EO13 -> 0 | EQ13: 1177.38 | ER13: m3 | ET13: =EQ13*ES13 -> 0
A14: 10 | B14: BASE ESTABILIZADA CON UNA MEZCLA ASFÁLTICA NATURAL TIPO BEMAN-25 | C14: 1728.03 | D14: m3 | F14: =C14*E14 -> 0 | G14: 1728.03 | H14: m3 | J14: =G14*I14 -> 0 | K14: 1728.03 | L14: m3 | N14: =K14*M14 -> 0 | O14: 1728.03 | P14: m3 | R14: =O14*Q14 -> 0 | S14: 1728.03 | T14: m3 | V14: =S14*U14 -> 0 | W14: 1728.03 | X14: m3 | Z14: =W14*Y14 -> 0 | AA14: 1728.03 | AB14: m3 | AD14: =AA14*AC14 -> 0 | AE14: 1728.03 | AF14: m3 | AH14: =AE14*AG14 -> 0 | AI14: 1728.03 | AJ14: m3 | AL14: =AI14*AK14 -> 0 | AM14: 1728.03 | AN14: m3 | AP14: =AM14*AO14 -> 0 | AQ14: 1728.03 | AR14: m3 | AT14: =AQ14*AS14 -> 0 | AU14: 1728.03 | AV14: m3 | AX14: =AU14*AW14 -> 0 | AY14: 1728.03 | AZ14: m3 | BB14: =AY14*BA14 -> 0 | BC14: 1728.03 | BD14: m3 | BF14: =BC14*BE14 -> 0 | BG14: 1728.03 | BH14: m3 | BJ14: =BG14*BI14 -> 0 | BK14: 1728.03 | BL14: m3 | BN14: =BK14*BM14 -> 0 | BO14: 1728.03 | BP14: m3 | BR14: =BO14*BQ14 -> 0 | BS14: 1728.03 | BT14: m3 | BV14: =BS14*BU14 -> 0 | BW14: 1728.03 | BX14: m3 | BZ14: =BW14*BY14 -> 0 | CA14: 1728.03 | CB14: m3 | CD14: =CA14*CC14 -> 0 | CE14: 1728.03 | CF14: m3 | CH14: =CE14*CG14 -> 0 | CI14: 1728.03 | CJ14: m3 | CL14: =CI14*CK14 -> 0 | CM14: 1728.03 | CN14: m3 | CP14: =CM14*CO14 -> 0 | CQ14: 1728.03 | CR14: m3 | CT14: =CQ14*CS14 -> 0 | CU14: 1728.03 | CV14: m3 | CX14: =CU14*CW14 -> 0 | CY14: 1728.03 | CZ14: m3 | DB14: =CY14*DA14 -> 0 | DC14: 1728.03 | DD14: m3 | DF14: =DC14*DE14 -> 0 | DG14: 1728.03 | DH14: m3 | DJ14: =DG14*DI14 -> 0 | DK14: 1728.03 | DL14: m3 | DN14: =DK14*DM14 -> 0 | DO14: 1728.03 | DP14: m3 | DR14: =DO14*DQ14 -> 0 | DS14: 1728.03 | DT14: m3 | DV14: =DS14*DU14 -> 0 | DW14: 1728.03 | DX14: m3 | DZ14: =DW14*DY14 -> 0 | EA14: 1728.03 | EB14: m3 | ED14: =EA14*EC14 -> 0 | EE14: 1728.03 | EF14: m3 | EH14: =EE14*EG14 -> 0 | EI14: 1728.03 | EJ14: m3 | EL14: =EI14*EK14 -> 0 | EM14: 1728.03 | EN14: m3 | EP14: =EM14*EO14 -> 0 | EQ14: 1728.03 | ER14: m3 | ET14: =EQ14*ES14 -> 0
A15: 11 | B15: CONFORMACIÓN DE LA CALZADA EXISTENTE SIN ADICIÓN DE MATERIAL | C15: 4344.66 | D15: m2 | F15: =C15*E15 -> 0 | G15: 4344.66 | H15: m2 | J15: =G15*I15 -> 0 | K15: 4344.66 | L15: m2 | N15: =K15*M15 -> 0 | O15: 4344.66 | P15: m2 | R15: =O15*Q15 -> 0 | S15: 4344.66 | T15: m2 | V15: =S15*U15 -> 0 | W15: 4344.66 | X15: m2 | Z15: =W15*Y15 -> 0 | AA15: 4344.66 | AB15: m2 | AD15: =AA15*AC15 -> 0 | AE15: 4344.66 | AF15: m2 | AH15: =AE15*AG15 -> 0 | AI15: 4344.66 | AJ15: m2 | AL15: =AI15*AK15 -> 0 | AM15: 4344.66 | AN15: m2 | AP15: =AM15*AO15 -> 0 | AQ15: 4344.66 | AR15: m2 | AT15: =AQ15*AS15 -> 0 | AU15: 4344.66 | AV15: m2 | AX15: =AU15*AW15 -> 0 | AY15: 4344.66 | AZ15: m2 | BB15: =AY15*BA15 -> 0 | BC15: 4344.66 | BD15: m2 | BF15: =BC15*BE15 -> 0 | BG15: 4344.66 | BH15: m2 | BJ15: =BG15*BI15 -> 0 | BK15: 4344.66 | BL15: m2 | BN15: =BK15*BM15 -> 0 | BO15: 4344.66 | BP15: m2 | BR15: =BO15*BQ15 -> 0 | BS15: 4344.66 | BT15: m2 | BV15: =BS15*BU15 -> 0 | BW15: 4344.66 | BX15: m2 | BZ15: =BW15*BY15 -> 0 | CA15: 4344.66 | CB15: m2 | CD15: =CA15*CC15 -> 0 | CE15: 4344.66 | CF15: m2 | CH15: =CE15*CG15 -> 0 | CI15: 4344.66 | CJ15: m2 | CL15: =CI15*CK15 -> 0 | CM15: 4344.66 | CN15: m2 | CP15: =CM15*CO15 -> 0 | CQ15: 4344.66 | CR15: m2 | CT15: =CQ15*CS15 -> 0 | CU15: 4344.66 | CV15: m2 | CX15: =CU15*CW15 -> 0 | CY15: 4344.66 | CZ15: m2 | DB15: =CY15*DA15 -> 0 | DC15: 4344.66 | DD15: m2 | DF15: =DC15*DE15 -> 0 | DG15: 4344.66 | DH15: m2 | DJ15: =DG15*DI15 -> 0 | DK15: 4344.66 | DL15: m2 | DN15: =DK15*DM15 -> 0 | DO15: 4344.66 | DP15: m2 | DR15: =DO15*DQ15 -> 0 | DS15: 4344.66 | DT15: m2 | DV15: =DS15*DU15 -> 0 | DW15: 4344.66 | DX15: m2 | DZ15: =DW15*DY15 -> 0 | EA15: 4344.66 | EB15: m2 | ED15: =EA15*EC15 -> 0 | EE15: 4344.66 | EF15: m2 | EH15: =EE15*EG15 -> 0 | EI15: 4344.66 | EJ15: m2 | EL15: =EI15*EK15 -> 0 | EM15: 4344.66 | EN15: m2 | EP15: =EM15*EO15 -> 0 | EQ15: 4344.66 | ER15: m2 | ET15: =EQ15*ES15 -> 0
A16: 12 | B16: MEJORAMIENTO DE LA SUBRASANTE INVOLUCRANDO SUELO EXISTENTE | C16: 13110.14 | D16: m2 | F16: =C16*E16 -> 0 | G16: 13110.14 | H16: m2 | J16: =G16*I16 -> 0 | K16: 13110.14 | L16: m2 | N16: =K16*M16 -> 0 | O16: 13110.14 | P16: m2 | R16: =O16*Q16 -> 0 | S16: 13110.14 | T16: m2 | V16: =S16*U16 -> 0 | W16: 13110.14 | X16: m2 | Z16: =W16*Y16 -> 0 | AA16: 13110.14 | AB16: m2 | AD16: =AA16*AC16 -> 0 | AE16: 13110.14 | AF16: m2 | AH16: =AE16*AG16 -> 0 | AI16: 13110.14 | AJ16: m2 | AL16: =AI16*AK16 -> 0 | AM16: 13110.14 | AN16: m2 | AP16: =AM16*AO16 -> 0 | AQ16: 13110.14 | AR16: m2 | AT16: =AQ16*AS16 -> 0 | AU16: 13110.14 | AV16: m2 | AX16: =AU16*AW16 -> 0 | AY16: 13110.14 | AZ16: m2 | BB16: =AY16*BA16 -> 0 | BC16: 13110.14 | BD16: m2 | BF16: =BC16*BE16 -> 0 | BG16: 13110.14 | BH16: m2 | BJ16: =BG16*BI16 -> 0 | BK16: 13110.14 | BL16: m2 | BN16: =BK16*BM16 -> 0 | BO16: 13110.14 | BP16: m2 | BR16: =BO16*BQ16 -> 0 | BS16: 13110.14 | BT16: m2 | BV16: =BS16*BU16 -> 0 | BW16: 13110.14 | BX16: m2 | BZ16: =BW16*BY16 -> 0 | CA16: 13110.14 | CB16: m2 | CD16: =CA16*CC16 -> 0 | CE16: 13110.14 | CF16: m2 | CH16: =CE16*CG16 -> 0 | CI16: 13110.14 | CJ16: m2 | CL16: =CI16*CK16 -> 0 | CM16: 13110.14 | CN16: m2 | CP16: =CM16*CO16 -> 0 | CQ16: 13110.14 | CR16: m2 | CT16: =CQ16*CS16 -> 0 | CU16: 13110.14 | CV16: m2 | CX16: =CU16*CW16 -> 0 | CY16: 13110.14 | CZ16: m2 | DB16: =CY16*DA16 -> 0 | DC16: 13110.14 | DD16: m2 | DF16: =DC16*DE16 -> 0 | DG16: 13110.14 | DH16: m2 | DJ16: =DG16*DI16 -> 0 | DK16: 13110.14 | DL16: m2 | DN16: =DK16*DM16 -> 0 | DO16: 13110.14 | DP16: m2 | DR16: =DO16*DQ16 -> 0 | DS16: 13110.14 | DT16: m2 | DV16: =DS16*DU16 -> 0 | DW16: 13110.14 | DX16: m2 | DZ16: =DW16*DY16 -> 0 | EA16: 13110.14 | EB16: m2 | ED16: =EA16*EC16 -> 0 | EE16: 13110.14 | EF16: m2 | EH16: =EE16*EG16 -> 0 | EI16: 13110.14 | EJ16: m2 | EL16: =EI16*EK16 -> 0 | EM16: 13110.14 | EN16: m2 | EP16: =EM16*EO16 -> 0 | EQ16: 13110.14 | ER16: m2 | ET16: =EQ16*ES16 -> 0
... A63: 59 | B63: (INMODIFICABLE) VALOR PGIO (PAGA Y PMT) | C63: 1 | D63: un | F63: =C63*E63 -> 0 | G63: 1 | H63: un | J63: =G63*I63 -> 0 | K63: 1 | L63: un | N63: =K63*M63 -> 0 | O63: 1 | P63: un | R63: =O63*Q63 -> 0 | S63: 1 | T63: un | V63: =S63*U63 -> 0 | W63: 1 | X63: un | Z63: =W63*Y63 -> 0 | AA63: 1 | AB63: un | AD63: =AA63*AC63 -> 0 | AE63: 1 | AF63: un | AH63: =AE63*AG63 -> 0 | AI63: 1 | AJ63: un | AL63: =AI63*AK63 -> 0 | AM63: 1 | AN63: un | AP63: =AM63*AO63 -> 0 | AQ63: 1 | AR63: un | AT63: =AQ63*AS63 -> 0 | AU63: 1 | AV63: un | AX63: =AU63*AW63 -> 0 | AY63: 1 | AZ63: un | BB63: =AY63*BA63 -> 0 | BC63: 1 | BD63: un | BF63: =BC63*BE63 -> 0 | BG63: 1 | BH63: un | BJ63: =BG63*BI63 -> 0 | BK63: 1 | BL63: un | BN63: =BK63*BM63 -> 0 | BO63: 1 | BP63: un | BR63: =BO63*BQ63 -> 0 | BS63: 1 | BT63: un | BV63: =BS63*BU63 -> 0 | BW63: 1 | BX63: un | BZ63: =BW63*BY63 -> 0 | CA63: 1 | CB63: un | CD63: =CA63*CC63 -> 0 | CE63: 1 | CF63: un | CH63: =CE63*CG63 -> 0 | CI63: 1 | CJ63: un | CL63: =CI63*CK63 -> 0 | CM63: 1 | CN63: un | CP63: =CM63*CO63 -> 0 | CQ63: 1 | CR63: un | CT63: =CQ63*CS63 -> 0 | CU63: 1 | CV63: un | CX63: =CU63*CW63 -> 0 | CY63: 1 | CZ63: un | DB63: =CY63*DA63 -> 0 | DC63: 1 | DD63: un | DF63: =DC63*DE63 -> 0 | DG63: 1 | DH63: un | DJ63: =DG63*DI63 -> 0 | DK63: 1 | DL63: un | DN63: =DK63*DM63 -> 0 | DO63: 1 | DP63: un | DR63: =DO63*DQ63 -> 0 | DS63: 1 | DT63: un | DV63: =DS63*DU63 -> 0 | DW63: 1 | DX63: un | DZ63: =DW63*DY63 -> 0 | EA63: 1 | EB63: un | ED63: =EA63*EC63 -> 0 | EE63: 1 | EF63: un | EH63: =EE63*EG63 -> 0 | EI63: 1 | EJ63: un | EL63: =EI63*EK63 -> 0 | EM63: 1 | EN63: un | EP63: =EM63*EO63 -> 0 | EQ63: 1 | ER63: un | ET63: =EQ63*ES63 -> 0
C64: =SUM(F5:F63) -> 0 | G64: =SUM(J5:J63) -> 0 | K64: =SUM(N5:N63) -> 0 | O64: =SUM(R5:R63) -> 0 | S64: =SUM(V5:V63) -> 0 | W64: =SUM(Z5:Z63) -> 0 | AA64: =SUM(AD5:AD63) -> 0 | AE64: =SUM(AH5:AH63) -> 0 | AI64: =SUM(AL5:AL63) -> 0 | AM64: =SUM(AP5:AP63) -> 0 | AQ64: =SUM(AT5:AT63) -> 0 | AU64: =SUM(AX5:AX63) -> 0 | AY64: =SUM(BB5:BB63) -> 0 | BC64: =SUM(BF5:BF63) -> 0 | BG64: =SUM(BJ5:BJ63) -> 0 | BK64: =SUM(BN5:BN63) -> 0 | BO64: =SUM(BR5:BR63) -> 0 | BS64: =SUM(BV5:BV63) -> 0 | BW64: =SUM(BZ5:BZ63) -> 0 | CA64: =SUM(CD5:CD63) -> 0 | CE64: =SUM(CH5:CH63) -> 0 | CI64: =SUM(CL5:CL63) -> 0 | CM64: =SUM(CP5:CP63) -> 0 | CQ64: =SUM(CT5:CT63) -> 0 | CU64: =SUM(CX5:CX63) -> 0 | CY64: =SUM(DB5:DB63) -> 0 | DC64: =SUM(DF5:DF63) -> 0 | DG64: =SUM(DJ5:DJ63) -> 0 | DK64: =SUM(DN5:DN63) -> 0 | DO64: =SUM(DR5:DR63) -> 0 | DS64: =SUM(DV5:DV63) -> 0 | DW64: =SUM(DZ5:DZ63) -> 0 | EA64: =SUM(ED5:ED63) -> 0 | EE64: =SUM(EH5:EH63) -> 0 | EI64: =SUM(EL5:EL63) -> 0 | EM64: =SUM(EP5:EP63) -> 0 | EQ64: =SUM(ET5:ET63) -> 0
B65: ADMINISTRACIÓN
B66: UTILIDAD
J67: =SUM(J65:J66) -> 0 | N67: =SUM(N65:N66) -> 0 | R67: =SUM(R65:R66) -> 0 | V67: =SUM(V65:V66) -> 0 | Z67: =SUM(Z65:Z66) -> 0 | AD67: =SUM(AD65:AD66) -> 0 | AH67: =SUM(AH65:AH66) -> 0 | AL67: =SUM(AL65:AL66) -> 0 | AP67: =SUM(AP65:AP66) -> 0 | AT67: =SUM(AT65:AT66) -> 0 | AX67: =SUM(AX65:AX66) -> 0 | BB67: =SUM(BB65:BB66) -> 0 | BF67: =SUM(BF65:BF66) -> 0 | BJ67: =SUM(BJ65:BJ66) -> 0 | BN67: =SUM(BN65:BN66) -> 0 | BR67: =SUM(BR65:BR66) -> 0 | BV67: =SUM(BV65:BV66) -> 0 | BZ67: =SUM(BZ65:BZ66) -> 0 | CD67: =SUM(CD65:CD66) -> 0 | CH67: =SUM(CH65:CH66) -> 0 | CL67: =SUM(CL65:CL66) -> 0 | CP67: =SUM(CP65:CP66) -> 0 | CT67: =SUM(CT65:CT66) -> 0 | CX67: =SUM(CX65:CX66) -> 0 | DB67: =SUM(DB65:DB66) -> 0 | DF67: =SUM(DF65:DF66) -> 0 | DJ67: =SUM(DJ65:DJ66) -> 0 | DN67: =SUM(DN65:DN66) -> 0 | DR67: =SUM(DR65:DR66) -> 0 | DV67: =SUM(DV65:DV66) -> 0 | DZ67: =SUM(DZ65:DZ66) -> 0 | ED67: =SUM(ED65:ED66) -> 0 | EH67: =SUM(EH65:EH66) -> 0 | EL67: =SUM(EL65:EL66) -> 0 | EP67: =SUM(EP65:EP66) -> 0 | ET67: =SUM(ET65:ET66) -> 0

Sheet Control
C1: 3 | D1: =+C1+4 -> 7 | E1: =+D1+4 -> 11 | F1: =+E1+4 -> 15 | G1: =+F1+4 -> 19 | H1: =+G1+4 -> 23 | I1: =+H1+4 -> 27 | J1: =+I1+4 -> 31 | K1: =+J1+4 -> 35 | ... AM1: =+AL1+4 -> 147
C2: 1 | D2: 2 | E2: 3 | F2: 4 | G2: 5 | H2: 6 | I2: 7 | J2: 8 | K2: 9 | L2: 10 | M2: 11 | N2: 12 | O2: 13 | P2: 14 | Q2: 15 | R2: 16 | S2: 17 | T2: 18 | U2: 19 | V2: 20 | W2: 21 | X2: 22 | Y2: 23 | Z2: 24 | AA2: 25 | AB2: 26 | AC2: 27 | AD2: 28 | AE2: 29 | AF2: 30 | AG2: 31 | AH2: 32 | AI2: 33 | AJ2: 34 | AK2: 35 | AL2: 36 | AM2: 37
C3: =VLOOKUP(C2,Resumen!$A:$I,2,FALSE) -> CONSORCIO CALDENSE EP | D3: =VLOOKUP(D2,Resumen!$A:$I,2,FALSE) -> CONSORCIO LOS VOLCANES | E3: =VLOOKUP(E2,Resumen!$A:$I,2,FALSE) -> CONSORCIO HERMANDAD | F3: =VLOOKUP(F2,Resumen!$A:$I,2,FALSE) -> CONSORCIO VIAL 012- AJMR | G3: =VLOOKUP(G2,Resumen!$A:$I,2,FALSE) -> CONSORCIO HERMANAMIENTO AZUL | H3: =VLOOKUP(H2,Resumen!$A:$I,2,FALSE) -> CONSORCIO MEJORAMIENTOS DEL HERMANAMIENTO | I3: =VLOOKUP(I2,Resumen!$A:$I,2,FALSE) -> CONSORCIO VIAS DE CALDAS | J3: =VLOOKUP(J2,Resumen!$A:$I,2,FALSE) -> CONSORCIO MEJORAMIENTO VIAL | ... AM3: =VLOOKUP(AM2,Resumen!$A:$I,2,FALSE) -> CONSORCIO TERRAK
A4: No. | B4: DESCRIPCIÓN | C4: Precio Unitario | D4: Precio Unitario | E4: Precio Unitario | F4: Precio Unitario | G4: Precio Unitario | H4: Precio Unitario | I4: Precio Unitario | J4: Precio Unitario | K4: Precio Unitario | L4: Precio Unitario | M4: Precio Unitario | N4: Precio Unitario | O4: Precio Unitario | P4: Precio Unitario | Q4: Precio Unitario | R4: Precio Unitario | S4: Precio Unitario | T4: Precio Unitario | U4: Precio Unitario | V4: Precio Unitario | W4: Precio Unitario | X4: Precio Unitario | Y4: Precio Unitario | Z4: Precio Unitario | AA4: Precio Unitario | AB4: Precio Unitario | AC4: Precio Unitario | AD4: Precio Unitario | AE4: Precio Unitario | AF4: Precio Unitario | AG4: Precio Unitario | AH4: Precio Unitario | AI4: Precio Unitario | AJ4: Precio Unitario | AK4: Precio Unitario | AL4: Precio Unitario | AM4: Precio Unitario
A5: 1 | B5: EXCAVACIÓN SIN CLASIFICAR DE LA EXPLANACIÓN Y CANALES | C5: =IF(OR(HLOOKUP(C$1,Informe!$A:$ET,ROW($A5),FALSE)=0,VLOOKUP($A5,Formulario!$A:$F,6,FALSE)<HLOOKUP(C$1,Informe!$A:$ET,ROW($A5),FALSE))=FALSE,"ADMISIBLE","NO ADMISIBLE") -> NO ADMISIBLE | D5: =IF(OR(HLOOKUP(D$1,Informe!$A:$ET,ROW($A5),FALSE)=0,VLOOKUP($A5,Formulario!$A:$F,6,FALSE)<HLOOKUP(D$1,Informe!$A:$ET,ROW($A5),FALSE))=FALSE,"ADMISIBLE","NO ADMISIBLE") -> NO ADMISIBLE | E5: =IF(OR(HLOOKUP(E$1,Informe!$A:$ET,ROW($A5),FALSE)=0,VLOOKUP($A5,Formulario!$A:$F,6,FALSE)<HLOOKUP(E$1,Informe!$A:$ET,ROW($A5),FALSE))=FALSE,"ADMISIBLE","NO ADMISIBLE") -> NO ADMISIBLE | F5: =IF(OR(HLOOKUP(F$1,Informe!$A:$ET,ROW($A5),FALSE)=0,VLOOKUP($A5,Formulario!$A:$F,6,FALSE)<HLOOKUP(F$1,Informe!$A:$ET,ROW($A5),FALSE))=FALSE,"ADMISIBLE","NO ADMISIBLE") -> NO ADMISIBLE | G5: =IF(OR(HLOOKUP(G$1,Informe!$A:$ET,ROW($A5),FALSE)=0,VLOOKUP($A5,Formulario!$A:$F,6,FALSE)<HLOOKUP(G$1,Informe!$A:$ET,ROW($A5),FALSE))=FALSE,"ADMISIBLE","NO ADMISIBLE") -> NO ADMISIBLE | H5: =IF(OR(HLOOKUP(H$1,Informe!$A:$ET,ROW($A5),FALSE)=0,VLOOKUP($A5,Formulario!$A:$F,6,FALSE)<HLOOKUP(H$1,Informe!$A:$ET,ROW($A5),FALSE))=FALSE,"ADMISIBLE","NO ADMISIBLE") -> NO ADMISIBLE | I5: =IF(OR(HLOOKUP(I$1,Informe!$A:$ET,ROW($A5),FALSE)=0,VLOOKUP($A5,Formulario!$A:$F,6,FALSE)<HLOOKUP(I$1,Informe!$A:$ET,ROW($A5),FALSE))=FALSE,"ADMISIBLE","NO ADMISIBLE") -> NO ADMISIBLE | J5: =IF(OR(HLOOKUP(J$1,Informe!$A:$ET,ROW($A5),FALSE)=0,VLOOKUP($A5,Formulario!$A:$F,6,FALSE)<HLOOKUP(J$1,Informe!$A:$ET,ROW($A5),FALSE))=FALSE,"ADMISIBLE","NO ADMISIBLE") -> NO ADMISIBLE | ... AM5: =IF(OR(HLOOKUP(AM$1,Informe!$A:$ET,ROW($A5),FALSE)=0,VLOOKUP($A5,Formulario!$A:$F,6,FALSE)<HLOOKUP(AM$1,Informe!$A:$ET,ROW($A5),FALSE))=FALSE,"ADMISIBLE","NO ADMISIBLE") -> NO ADMISIBLE
A6: 2 | B6: EXCAVACIÓN EN ROCA DE LA EXPLANACIÓN Y CANALES | C6: =IF(OR(HLOOKUP(C$1,Informe!$A:$ET,ROW($A6),FALSE)=0,VLOOKUP($A6,Formulario!$A:$F,6,FALSE)<HLOOKUP(C$1,Informe!$A:$ET,ROW($A6),FALSE))=FALSE,"ADMISIBLE","NO ADMISIBLE") -> NO ADMISIBLE | D6: =IF(OR(HLOOKUP(D$1,Informe!$A:$ET,ROW($A6),FALSE)=0,VLOOKUP($A6,Formulario!$A:$F,6,FALSE)<HLOOKUP(D$1,Informe!$A:$ET,ROW($A6),FALSE))=FALSE,"ADMISIBLE","NO ADMISIBLE") -> NO ADMISIBLE | E6: =IF(OR(HLOOKUP(E$1,Informe!$A:$ET,ROW($A6),FALSE)=0,VLOOKUP($A6,Formulario!$A:$F,6,FALSE)<HLOOKUP(E$1,Informe!$A:$ET,ROW($A6),FALSE))=FALSE,"ADMISIBLE","NO ADMISIBLE") -> NO ADMISIBLE | F6: =IF(OR(HLOOKUP(F$1,Informe!$A:$ET,ROW($A6),FALSE)=0,VLOOKUP($A6,Formulario!$A:$F,6,FALSE)<HLOOKUP(F$1,Informe!$A:$ET,ROW($A6),FALSE))=FALSE,"ADMISIBLE","NO ADMISIBLE") -> NO ADMISIBLE | G6: =IF(OR(HLOOKUP(G$1,Informe!$A:$ET,ROW($A6),FALSE)=0,VLOOKUP($A6,Formulario!$A:$F,6,FALSE)<HLOOKUP(G$1,Informe!$A:$ET,ROW($A6),FALSE))=FALSE,"ADMISIBLE","NO ADMISIBLE") -> NO ADMISIBLE | H6: =IF(OR(HLOOKUP(H$1,Informe!$A:$ET,ROW($A6),FALSE)=0,VLOOKUP($A6,Formulario!$A:$F,6,FALSE)<HLOOKUP(H$1,Informe!$A:$ET,ROW($A6),FALSE))=FALSE,"ADMISIBLE","NO ADMISIBLE") -> NO ADMISIBLE | I6: =IF(OR(HLOOKUP(I$1,Informe!$A:$ET,ROW($A6),FALSE)=0,VLOOKUP($A6,Formulario!$A:$F,6,FALSE)<HLOOKUP(I$1,Informe!$A:$ET,ROW($A6),FALSE))=FALSE,"ADMISIBLE","NO ADMISIBLE") -> NO ADMISIBLE | J6: =IF(OR(HLOOKUP(J$1,Informe!$A:$ET,ROW($A6),FALSE)=0,VLOOKUP($A6,Formulario!$A:$F,6,FALSE)<HLOOKUP(J$1,Informe!$A:$ET,ROW($A6),FALSE))=FALSE,"ADMISIBLE","NO ADMISIBLE") -> NO ADMISIBLE | ... AM6: =IF(OR(HLOOKUP(AM$1,Informe!$A:$ET,ROW($A6),FALSE)=0,VLOOKUP($A6,Formulario!$A:$F,6,FALSE)<HLOOKUP(AM$1,Informe!$A:$ET,ROW($A6),FALSE))=FALSE,"ADMISIBLE","NO ADMISIBLE") -> NO ADMISIBLE
A7: 3 | B7: TERRAPLENES | C7: =IF(OR(HLOOKUP(C$1,Informe!$A:$ET,ROW($A7),FALSE)=0,VLOOKUP($A7,Formulario!$A:$F,6,FALSE)<HLOOKUP(C$1,Informe!$A:$ET,ROW($A7),FALSE))=FALSE,"ADMISIBLE","NO ADMISIBLE") -> NO ADMISIBLE | D7: =IF(OR(HLOOKUP(D$1,Informe!$A:$ET,ROW($A7),FALSE)=0,VLOOKUP($A7,Formulario!$A:$F,6,FALSE)<HLOOKUP(D$1,Informe!$A:$ET,ROW($A7),FALSE))=FALSE,"ADMISIBLE","NO ADMISIBLE") -> NO ADMISIBLE | E7: =IF(OR(HLOOKUP(E$1,Informe!$A:$ET,ROW($A7),FALSE)=0,VLOOKUP($A7,Formulario!$A:$F,6,FALSE)<HLOOKUP(E$1,Informe!$A:$ET,ROW($A7),FALSE))=FALSE,"ADMISIBLE","NO ADMISIBLE") -> NO ADMISIBLE | F7: =IF(OR(HLOOKUP(F$1,Informe!$A:$ET,ROW($A7),FALSE)=0,VLOOKUP($A7,Formulario!$A:$F,6,FALSE)<HLOOKUP(F$1,Informe!$A:$ET,ROW($A7),FALSE))=FALSE,"ADMISIBLE","NO ADMISIBLE") -> NO ADMISIBLE | G7: =IF(OR(HLOOKUP(G$1,Informe!$A:$ET,ROW($A7),FALSE)=0,VLOOKUP($A7,Formulario!$A:$F,6,FALSE)<HLOOKUP(G$1,Informe!$A:$ET,ROW($A7),FALSE))=FALSE,"ADMISIBLE","NO ADMISIBLE") -> NO ADMISIBLE | H7: =IF(OR(HLOOKUP(H$1,Informe!$A:$ET,ROW($A7),FALSE)=0,VLOOKUP($A7,Formulario!$A:$F,6,FALSE)<HLOOKUP(H$1,Informe!$A:$ET,ROW($A7),FALSE))=FALSE,"ADMISIBLE","NO ADMISIBLE") -> NO ADMISIBLE | I7: =IF(OR(HLOOKUP(I$1,Informe!$A:$ET,ROW($A7),FALSE)=0,VLOOKUP($A7,Formulario!$A:$F,6,FALSE)<HLOOKUP(I$1,Informe!$A:$ET,ROW($A7),FALSE))=FALSE,"ADMISIBLE","NO ADMISIBLE") -> NO ADMISIBLE | J7: =IF(OR(HLOOKUP(J$1,Informe!$A:$ET,ROW($A7),FALSE)=0,VLOOKUP($A7,Formulario!$A:$F,6,FALSE)<HLOOKUP(J$1,Informe!$A:$ET,ROW($A7),FALSE))=FALSE,"ADMISIBLE","NO ADMISIBLE") -> NO ADMISIBLE | ... AM7: =IF(OR(HLOOKUP(AM$1,Informe!$A:$ET,ROW($A7),FALSE)=0,VLOOKUP($A7,Formulario!$A:$F,6,FALSE)<HLOOKUP(AM$1,Informe!$A:$ET,ROW($A7),FALSE))=FALSE,"ADMISIBLE","NO ADMISIBLE") -> NO ADMISIBLE
A8: 4 | B8: REMOCION DE CERCAS DE ALAMBRE DE PÚAS | C8: =IF(OR(HLOOKUP(C$1,Informe!$A:$ET,ROW($A8),FALSE)=0,VLOOKUP($A8,Formulario!$A:$F,6,FALSE)<HLOOKUP(C$1,Informe!$A:$ET,ROW($A8),FALSE))=FALSE,"ADMISIBLE","NO ADMISIBLE") -> NO ADMISIBLE | D8: =IF(OR(HLOOKUP(D$1,Informe!$A:$ET,ROW($A8),FALSE)=0,VLOOKUP($A8,Formulario!$A:$F,6,FALSE)<HLOOKUP(D$1,Informe!$A:$ET,ROW($A8),FALSE))=FALSE,"ADMISIBLE","NO ADMISIBLE") -> NO ADMISIBLE | E8: =IF(OR(HLOOKUP(E$1,Informe!$A:$ET,ROW($A8),FALSE)=0,VLOOKUP($A8,Formulario!$A:$F,6,FALSE)<HLOOKUP(E$1,Informe!$A:$ET,ROW($A8),FALSE))=FALSE,"ADMISIBLE","NO ADMISIBLE") -> NO ADMISIBLE | F8: =IF(OR(HLOOKUP(F$1,Informe!$A:$ET,ROW($A8),FALSE)=0,VLOOKUP($A8,Formulario!$A:$F,6,FALSE)<HLOOKUP(F$1,Informe!$A:$ET,ROW($A8),FALSE))=FALSE,"ADMISIBLE","NO ADMISIBLE") -> NO ADMISIBLE | G8: =IF(OR(HLOOKUP(G$1,Informe!$A:$ET,ROW($A8),FALSE)=0,VLOOKUP($A8,Formulario!$A:$F,6,FALSE)<HLOOKUP(G$1,Informe!$A:$ET,ROW($A8),FALSE))=FALSE,"ADMISIBLE","NO ADMISIBLE") -> NO ADMISIBLE | H8: =IF(OR(HLOOKUP(H$1,Informe!$A:$ET,ROW($A8),FALSE)=0,VLOOKUP($A8,Formulario!$A:$F,6,FALSE)<HLOOKUP(H$1,Informe!$A:$ET,ROW($A8),FALSE))=FALSE,"ADMISIBLE","NO ADMISIBLE") -> NO ADMISIBLE | I8: =IF(OR(HLOOKUP(I$1,Informe!$A:$ET,ROW($A8),FALSE)=0,VLOOKUP($A8,Formulario!$A:$F,6,FALSE)<HLOOKUP(I$1,Informe!$A:$ET,ROW($A8),FALSE))=FALSE,"ADMISIBLE","NO ADMISIBLE") -> NO ADMISIBLE | J8: =IF(OR(HLOOKUP(J$1,Informe!$A:$ET,ROW($A8),FALSE)=0,VLOOKUP($A8,Formulario!$A:$F,6,FALSE)<HLOOKUP(J$1,Informe!$A:$ET,ROW($A8),FALSE))=FALSE,"ADMISIBLE","NO ADMISIBLE") -> NO ADMISIBLE | ... AM8: =IF(OR(HLOOKUP(AM$1,Informe!$A:$ET,ROW($A8),FALSE)=0,VLOOKUP($A8,Formulario!$A:$F,6,FALSE)<HLOOKUP(AM$1,Informe!$A:$ET,ROW($A8),FALSE))=FALSE,"ADMISIBLE","NO ADMISIBLE") -> NO ADMISIBLE
A9: 5 | B9: ADECUACIÓN DE ZONAS DE DEPÓSITO Y DISPOSICIÓN FINAL DE MATERIAL SOBRANTE. INCLUYE DESCAPOTE, CONFORMACIÓN Y COMPACTACIÓN | C9: =IF(OR(HLOOKUP(C$1,Informe!$A:$ET,ROW($A9),FALSE)=0,VLOOKUP($A9,Formulario!$A:$F,6,FALSE)<HLOOKUP(C$1,Informe!$A:$ET,ROW($A9),FALSE))=FALSE,"ADMISIBLE","NO ADMISIBLE") -> NO ADMISIBLE | D9: =IF(OR(HLOOKUP(D$1,Informe!$A:$ET,ROW($A9),FALSE)=0,VLOOKUP($A9,Formulario!$A:$F,6,FALSE)<HLOOKUP(D$1,Informe!$A:$ET,ROW($A9),FALSE))=FALSE,"ADMISIBLE","NO ADMISIBLE") -> NO ADMISIBLE | E9: =IF(OR(HLOOKUP(E$1,Informe!$A:$ET,ROW($A9),FALSE)=0,VLOOKUP($A9,Formulario!$A:$F,6,FALSE)<HLOOKUP(E$1,Informe!$A:$ET,ROW($A9),FALSE))=FALSE,"ADMISIBLE","NO ADMISIBLE") -> NO ADMISIBLE | F9: =IF(OR(HLOOKUP(F$1,Informe!$A:$ET,ROW($A9),FALSE)=0,VLOOKUP($A9,Formulario!$A:$F,6,FALSE)<HLOOKUP(F$1,Informe!$A:$ET,ROW($A9),FALSE))=FALSE,"ADMISIBLE","NO ADMISIBLE") -> NO ADMISIBLE | G9: =IF(OR(HLOOKUP(G$1,Informe!$A:$ET,ROW($A9),FALSE)=0,VLOOKUP($A9,Formulario!$A:$F,6,FALSE)<HLOOKUP(G$1,Informe!$A:$ET,ROW($A9),FALSE))=FALSE,"ADMISIBLE","NO ADMISIBLE") -> NO ADMISIBLE | H9: =IF(OR(HLOOKUP(H$1,Informe!$A:$ET,ROW($A9),FALSE)=0,VLOOKUP($A9,Formulario!$A:$F,6,FALSE)<HLOOKUP(H$1,Informe!$A:$ET,ROW($A9),FALSE))=FALSE,"ADMISIBLE","NO ADMISIBLE") -> NO ADMISIBLE | I9: =IF(OR(HLOOKUP(I$1,Informe!$A:$ET,ROW($A9),FALSE)=0,VLOOKUP($A9,Formulario!$A:$F,6,FALSE)<HLOOKUP(I$1,Informe!$A:$ET,ROW($A9),FALSE))=FALSE,"ADMISIBLE","NO ADMISIBLE") -> NO ADMISIBLE | J9: =IF(OR(HLOOKUP(J$1,Informe!$A:$ET,ROW($A9),FALSE)=0,VLOOKUP($A9,Formulario!$A:$F,6,FALSE)<HLOOKUP(J$1,Informe!$A:$ET,ROW($A9),FALSE))=FALSE,"ADMISIBLE","NO ADMISIBLE") -> NO ADMISIBLE | ... AM9: =IF(OR(HLOOKUP(AM$1,Informe!$A:$ET,ROW($A9),FALSE)=0,VLOOKUP($A9,Formulario!$A:$F,6,FALSE)<HLOOKUP(AM$1,Informe!$A:$ET,ROW($A9),FALSE))=FALSE,"ADMISIBLE","NO ADMISIBLE") -> NO ADMISIBLE
A10: 6 | B10: REMOCIÓN DE DERRUMBES | C10: =IF(OR(HLOOKUP(C$1,Informe!$A:$ET,ROW($A10),FALSE)=0,VLOOKUP($A10,Formulario!$A:$F,6,FALSE)<HLOOKUP(C$1,Informe!$A:$ET,ROW($A10),FALSE))=FALSE,"ADMISIBLE","NO ADMISIBLE") -> NO ADMISIBLE | D10: =IF(OR(HLOOKUP(D$1,Informe!$A:$ET,ROW($A10),FALSE)=0,VLOOKUP($A10,Formulario!$A:$F,6,FALSE)<HLOOKUP(D$1,Informe!$A:$ET,ROW($A10),FALSE))=FALSE,"ADMISIBLE","NO ADMISIBLE") -> NO ADMISIBLE | E10: =IF(OR(HLOOKUP(E$1,Informe!$A:$ET,ROW($A10),FALSE)=0,VLOOKUP($A10,Formulario!$A:$F,6,FALSE)<HLOOKUP(E$1,Informe!$A:$ET,ROW($A10),FALSE))=FALSE,"ADMISIBLE","NO ADMISIBLE") -> NO ADMISIBLE | F10: =IF(OR(HLOOKUP(F$1,Informe!$A:$ET,ROW($A10),FALSE)=0,VLOOKUP($A10,Formulario!$A:$F,6,FALSE)<HLOOKUP(F$1,Informe!$A:$ET,ROW($A10),FALSE))=FALSE,"ADMISIBLE","NO ADMISIBLE") -> NO ADMISIBLE | G10: =IF(OR(HLOOKUP(G$1,Informe!$A:$ET,ROW($A10),FALSE)=0,VLOOKUP($A10,Formulario!$A:$F,6,FALSE)<HLOOKUP(G$1,Informe!$A:$ET,ROW($A10),FALSE))=FALSE,"ADMISIBLE","NO ADMISIBLE") -> NO ADMISIBLE | H10: =IF(OR(HLOOKUP(H$1,Informe!$A:$ET,ROW($A10),FALSE)=0,VLOOKUP($A10,Formulario!$A:$F,6,FALSE)<HLOOKUP(H$1,Informe!$A:$ET,ROW($A10),FALSE))=FALSE,"ADMISIBLE","NO ADMISIBLE") -> NO ADMISIBLE | I10: =IF(OR(HLOOKUP(I$1,Informe!$A:$ET,ROW($A10),FALSE)=0,VLOOKUP($A10,Formulario!$A:$F,6,FALSE)<HLOOKUP(I$1,Informe!$A:$ET,ROW($A10),FALSE))=FALSE,"ADMISIBLE","NO ADMISIBLE") -> NO ADMISIBLE | J10: =IF(OR(HLOOKUP(J$1,Informe!$A:$ET,ROW($A10),FALSE)=0,VLOOKUP($A10,Formulario!$A:$F,6,FALSE)<HLOOKUP(J$1,Informe!$A:$ET,ROW($A10),FALSE))=FALSE,"ADMISIBLE","NO ADMISIBLE") -> NO ADMISIBLE | ... AM10: =IF(OR(HLOOKUP(AM$1,Informe!$A:$ET,ROW($A10),FALSE)=0,VLOOKUP($A10,Formulario!$A:$F,6,FALSE)<HLOOKUP(AM$1,Informe!$A:$ET,ROW($A10),FALSE))=FALSE,"ADMISIBLE","NO ADMISIBLE") -> NO ADMISIBLE
A11: 7 | B11: SUBBASE GRANULAR CLASE C | C11: =IF(OR(HLOOKUP(C$1,Informe!$A:$ET,ROW($A11),FALSE)=0,VLOOKUP($A11,Formulario!$A:$F,6,FALSE)<HLOOKUP(C$1,Informe!$A:$ET,ROW($A11),FALSE))=FALSE,"ADMISIBLE","NO ADMISIBLE") -> NO ADMISIBLE | D11: =IF(OR(HLOOKUP(D$1,Informe!$A:$ET,ROW($A11),FALSE)=0,VLOOKUP($A11,Formulario!$A:$F,6,FALSE)<HLOOKUP(D$1,Informe!$A:$ET,ROW($A11),FALSE))=FALSE,"ADMISIBLE","NO ADMISIBLE") -> NO ADMISIBLE | E11: =IF(OR(HLOOKUP(E$1,Informe!$A:$ET,ROW($A11),FALSE)=0,VLOOKUP($A11,Formulario!$A:$F,6,FALSE)<HLOOKUP(E$1,Informe!$A:$ET,ROW($A11),FALSE))=FALSE,"ADMISIBLE","NO ADMISIBLE") -> NO ADMISIBLE | F11: =IF(OR(HLOOKUP(F$1,Informe!$A:$ET,ROW($A11),FALSE)=0,VLOOKUP($A11,Formulario!$A:$F,6,FALSE)<HLOOKUP(F$1,Informe!$A:$ET,ROW($A11),FALSE))=FALSE,"ADMISIBLE","NO ADMISIBLE") -> NO ADMISIBLE | G11: =IF(OR(HLOOKUP(G$1,Informe!$A:$ET,ROW($A11),FALSE)=0,VLOOKUP($A11,Formulario!$A:$F,6,FALSE)<HLOOKUP(G$1,Informe!$A:$ET,ROW($A11),FALSE))=FALSE,"ADMISIBLE","NO ADMISIBLE") -> NO ADMISIBLE | H11: =IF(OR(HLOOKUP(H$1,Informe!$A:$ET,ROW($A11),FALSE)=0,VLOOKUP($A11,Formulario!$A:$F,6,FALSE)<HLOOKUP(H$1,Informe!$A:$ET,ROW($A11),FALSE))=FALSE,"ADMISIBLE","NO ADMISIBLE") -> NO ADMISIBLE | I11: =IF(OR(HLOOKUP(I$1,Informe!$A:$ET,ROW($A11),FALSE)=0,VLOOKUP($A11,Formulario!$A:$F,6,FALSE)<HLOOKUP(I$1,Informe!$A:$ET,ROW($A11),FALSE))=FALSE,"ADMISIBLE","NO ADMISIBLE") -> NO ADMISIBLE | J11: =IF(OR(HLOOKUP(J$1,Informe!$A:$ET,ROW($A11),FALSE)=0,VLOOKUP($A11,Formulario!$A:$F,6,FALSE)<HLOOKUP(J$1,Informe!$A:$ET,ROW($A11),FALSE))=FALSE,"ADMISIBLE","NO ADMISIBLE") -> NO ADMISIBLE | ... AM11: =IF(OR(HLOOKUP(AM$1,Informe!$A:$ET,ROW($A11),FALSE)=0,VLOOKUP($A11,Formulario!$A:$F,6,FALSE)<HLOOKUP(AM$1,Informe!$A:$ET,ROW($A11),FALSE))=FALSE,"ADMISIBLE","NO ADMISIBLE") -> NO ADMISIBLE
A12: 8 | B12: RIEGO DE IMPRIMACIÓN CON EMULSIÓN ASFÁLTICA CRL-57 | C12: =IF(OR(HLOOKUP(C$1,Informe!$A:$ET,ROW($A12),FALSE)=0,VLOOKUP($A12,Formulario!$A:$F,6,FALSE)<HLOOKUP(C$1,Informe!$A:$ET,ROW($A12),FALSE))=FALSE,"ADMISIBLE","NO ADMISIBLE") -> NO ADMISIBLE | D12: =IF(OR(HLOOKUP(D$1,Informe!$A:$ET,ROW($A12),FALSE)=0,VLOOKUP($A12,Formulario!$A:$F,6,FALSE)<HLOOKUP(D$1,Informe!$A:$ET,ROW($A12),FALSE))=FALSE,"ADMISIBLE","NO ADMISIBLE") -> NO ADMISIBLE | E12: =IF(OR(HLOOKUP(E$1,Informe!$A:$ET,ROW($A12),FALSE)=0,VLOOKUP($A12,Formulario!$A:$F,6,FALSE)<HLOOKUP(E$1,Informe!$A:$ET,ROW($A12),FALSE))=FALSE,"ADMISIBLE","NO ADMISIBLE") -> NO ADMISIBLE | F12: =IF(OR(HLOOKUP(F$1,Informe!$A:$ET,ROW($A12),FALSE)=0,VLOOKUP($A12,Formulario!$A:$F,6,FALSE)<HLOOKUP(F$1,Informe!$A:$ET,ROW($A12),FALSE))=FALSE,"ADMISIBLE","NO ADMISIBLE") -> NO ADMISIBLE | G12: =IF(OR(HLOOKUP(G$1,Informe!$A:$ET,ROW($A12),FALSE)=0,VLOOKUP($A12,Formulario!$A:$F,6,FALSE)<HLOOKUP(G$1,Informe!$A:$ET,ROW($A12),FALSE))=FALSE,"ADMISIBLE","NO ADMISIBLE") -> NO ADMISIBLE | H12: =IF(OR(HLOOKUP(H$1,Informe!$A:$ET,ROW($A12),FALSE)=0,VLOOKUP($A12,Formulario!$A:$F,6,FALSE)<HLOOKUP(H$1,Informe!$A:$ET,ROW($A12),FALSE))=FALSE,"ADMISIBLE","NO ADMISIBLE") -> NO ADMISIBLE | I12: =IF(OR(HLOOKUP(I$1,Informe!$A:$ET,ROW($A12),FALSE)=0,VLOOKUP($A12,Formulario!$A:$F,6,FALSE)<HLOOKUP(I$1,Informe!$A:$ET,ROW($A12),FALSE))=FALSE,"ADMISIBLE","NO ADMISIBLE") -> NO ADMISIBLE | J12: =IF(OR(HLOOKUP(J$1,Informe!$A:$ET,ROW($A12),FALSE)=0,VLOOKUP($A12,Formulario!$A:$F,6,FALSE)<HLOOKUP(J$1,Informe!$A:$ET,ROW($A12),FALSE))=FALSE,"ADMISIBLE","NO ADMISIBLE") -> NO ADMISIBLE | ... AM12: =IF(OR(HLOOKUP(AM$1,Informe!$A:$ET,ROW($A12),FALSE)=0,VLOOKUP($A12,Formulario!$A:$F,6,FALSE)<HLOOKUP(AM$1,Informe!$A:$ET,ROW($A12),FALSE))=FALSE,"ADMISIBLE","NO ADMISIBLE") -> NO ADMISIBLE
A13: 9 | B13: MEZCLA DENSA EN CALIENTE TIPO MDC‐19 | C13: =IF(OR(HLOOKUP(C$1,Informe!$A:$ET,ROW($A13),FALSE)=0,VLOOKUP($A13,Formulario!$A:$F,6,FALSE)<HLOOKUP(C$1,Informe!$A:$ET,ROW($A13),FALSE))=FALSE,"ADMISIBLE","NO ADMISIBLE") -> NO ADMISIBLE | D13: =IF(OR(HLOOKUP(D$1,Informe!$A:$ET,ROW($A13),FALSE)=0,VLOOKUP($A13,Formulario!$A:$F,6,FALSE)<HLOOKUP(D$1,Informe!$A:$ET,ROW($A13),FALSE))=FALSE,"ADMISIBLE","NO ADMISIBLE") -> NO ADMISIBLE | E13: =IF(OR(HLOOKUP(E$1,Informe!$A:$ET,ROW($A13),FALSE)=0,VLOOKUP($A13,Formulario!$A:$F,6,FALSE)<HLOOKUP(E$1,Informe!$A:$ET,ROW($A13),FALSE))=FALSE,"ADMISIBLE","NO ADMISIBLE") -> NO ADMISIBLE | F13: =IF(OR(HLOOKUP(F$1,Informe!$A:$ET,ROW($A13),FALSE)=0,VLOOKUP($A13,Formulario!$A:$F,6,FALSE)<HLOOKUP(F$1,Informe!$A:$ET,ROW($A13),FALSE))=FALSE,"ADMISIBLE","NO ADMISIBLE") -> NO ADMISIBLE | G13: =IF(OR(HLOOKUP(G$1,Informe!$A:$ET,ROW($A13),FALSE)=0,VLOOKUP($A13,Formulario!$A:$F,6,FALSE)<HLOOKUP(G$1,Informe!$A:$ET,ROW($A13),FALSE))=FALSE,"ADMISIBLE","NO ADMISIBLE") -> NO ADMISIBLE | H13: =IF(OR(HLOOKUP(H$1,Informe!$A:$ET,ROW($A13),FALSE)=0,VLOOKUP($A13,Formulario!$A:$F,6,FALSE)<HLOOKUP(H$1,Informe!$A:$ET,ROW($A13),FALSE))=FALSE,"ADMISIBLE","NO ADMISIBLE") -> NO ADMISIBLE | I13: =IF(OR(HLOOKUP(I$1,Informe!$A:$ET,ROW($A13),FALSE)=0,VLOOKUP($A13,Formulario!$A:$F,6,FALSE)<HLOOKUP(I$1,Informe!$A:$ET,ROW($A13),FALSE))=FALSE,"ADMISIBLE","NO ADMISIBLE") -> NO ADMISIBLE | J13: =IF(OR(HLOOKUP(J$1,Informe!$A:$ET,ROW($A13),FALSE)=0,VLOOKUP($A13,Formulario!$A:$F,6,FALSE)<HLOOKUP(J$1,Informe!$A:$ET,ROW($A13),FALSE))=FALSE,"ADMISIBLE","NO ADMISIBLE") -> NO ADMISIBLE | ... AM13: =IF(OR(HLOOKUP(AM$1,Informe!$A:$ET,ROW($A13),FALSE)=0,VLOOKUP($A13,Formulario!$A:$F,6,FALSE)<HLOOKUP(AM$1,Informe!$A:$ET,ROW($A13),FALSE))=FALSE,"ADMISIBLE","NO ADMISIBLE") -> NO ADMISIBLE
A14: 10 | B14: BASE ESTABILIZADA CON UNA MEZCLA ASFÁLTICA NATURAL TIPO BEMAN-25 | C14: =IF(OR(HLOOKUP(C$1,Informe!$A:$ET,ROW($A14),FALSE)=0,VLOOKUP($A14,Formulario!$A:$F,6,FALSE)<HLOOKUP(C$1,Informe!$A:$ET,ROW($A14),FALSE))=FALSE,"ADMISIBLE","NO ADMISIBLE") -> NO ADMISIBLE | D14: =IF(OR(HLOOKUP(D$1,Informe!$A:$ET,ROW($A14),FALSE)=0,VLOOKUP($A14,Formulario!$A:$F,6,FALSE)<HLOOKUP(D$1,Informe!$A:$ET,ROW($A14),FALSE))=FALSE,"ADMISIBLE","NO ADMISIBLE") -> NO ADMISIBLE | E14: =IF(OR(HLOOKUP(E$1,Informe!$A:$ET,ROW($A14),FALSE)=0,VLOOKUP($A14,Formulario!$A:$F,6,FALSE)<HLOOKUP(E$1,Informe!$A:$ET,ROW($A14),FALSE))=FALSE,"ADMISIBLE","NO ADMISIBLE") -> NO ADMISIBLE | F14: =IF(OR(HLOOKUP(F$1,Informe!$A:$ET,ROW($A14),FALSE)=0,VLOOKUP($A14,Formulario!$A:$F,6,FALSE)<HLOOKUP(F$1,Informe!$A:$ET,ROW($A14),FALSE))=FALSE,"ADMISIBLE","NO ADMISIBLE") -> NO ADMISIBLE | G14: =IF(OR(HLOOKUP(G$1,Informe!$A:$ET,ROW($A14),FALSE)=0,VLOOKUP($A14,Formulario!$A:$F,6,FALSE)<HLOOKUP(G$1,Informe!$A:$ET,ROW($A14),FALSE))=FALSE,"ADMISIBLE","NO ADMISIBLE") -> NO ADMISIBLE | H14: =IF(OR(HLOOKUP(H$1,Informe!$A:$ET,ROW($A14),FALSE)=0,VLOOKUP($A14,Formulario!$A:$F,6,FALSE)<HLOOKUP(H$1,Informe!$A:$ET,ROW($A14),FALSE))=FALSE,"ADMISIBLE","NO ADMISIBLE") -> NO ADMISIBLE | I14: =IF(OR(HLOOKUP(I$1,Informe!$A:$ET,ROW($A14),FALSE)=0,VLOOKUP($A14,Formulario!$A:$F,6,FALSE)<HLOOKUP(I$1,Informe!$A:$ET,ROW($A14),FALSE))=FALSE,"ADMISIBLE","NO ADMISIBLE") -> NO ADMISIBLE | J14: =IF(OR(HLOOKUP(J$1,Informe!$A:$ET,ROW($A14),FALSE)=0,VLOOKUP($A14,Formulario!$A:$F,6,FALSE)<HLOOKUP(J$1,Informe!$A:$ET,ROW($A14),FALSE))=FALSE,"ADMISIBLE","NO ADMISIBLE") -> NO ADMISIBLE | ... AM14: =IF(OR(HLOOKUP(AM$1,Informe!$A:$ET,ROW($A14),FALSE)=0,VLOOKUP($A14,Formulario!$A:$F,6,FALSE)<HLOOKUP(AM$1,Informe!$A:$ET,ROW($A14),FALSE))=FALSE,"ADMISIBLE","NO ADMISIBLE") -> NO ADMISIBLE
A15: 11 | B15: CONFORMACIÓN DE LA CALZADA EXISTENTE SIN ADICIÓN DE MATERIAL | C15: =IF(OR(HLOOKUP(C$1,Informe!$A:$ET,ROW($A15),FALSE)=0,VLOOKUP($A15,Formulario!$A:$F,6,FALSE)<HLOOKUP(C$1,Informe!$A:$ET,ROW($A15),FALSE))=FALSE,"ADMISIBLE","NO ADMISIBLE") -> NO ADMISIBLE | D15: =IF(OR(HLOOKUP(D$1,Informe!$A:$ET,ROW($A15),FALSE)=0,VLOOKUP($A15,Formulario!$A:$F,6,FALSE)<HLOOKUP(D$1,Informe!$A:$ET,ROW($A15),FALSE))=FALSE,"ADMISIBLE","NO ADMISIBLE") -> NO ADMISIBLE | E15: =IF(OR(HLOOKUP(E$1,Informe!$A:$ET,ROW($A15),FALSE)=0,VLOOKUP($A15,Formulario!$A:$F,6,FALSE)<HLOOKUP(E$1,Informe!$A:$ET,ROW($A15),FALSE))=FALSE,"ADMISIBLE","NO ADMISIBLE") -> NO ADMISIBLE | F15: =IF(OR(HLOOKUP(F$1,Informe!$A:$ET,ROW($A15),FALSE)=0,VLOOKUP($A15,Formulario!$A:$F,6,FALSE)<HLOOKUP(F$1,Informe!$A:$ET,ROW($A15),FALSE))=FALSE,"ADMISIBLE","NO ADMISIBLE") -> NO ADMISIBLE | G15: =IF(OR(HLOOKUP(G$1,Informe!$A:$ET,ROW($A15),FALSE)=0,VLOOKUP($A15,Formulario!$A:$F,6,FALSE)<HLOOKUP(G$1,Informe!$A:$ET,ROW($A15),FALSE))=FALSE,"ADMISIBLE","NO ADMISIBLE") -> NO ADMISIBLE | H15: =IF(OR(HLOOKUP(H$1,Informe!$A:$ET,ROW($A15),FALSE)=0,VLOOKUP($A15,Formulario!$A:$F,6,FALSE)<HLOOKUP(H$1,Informe!$A:$ET,ROW($A15),FALSE))=FALSE,"ADMISIBLE","NO ADMISIBLE") -> NO ADMISIBLE | I15: =IF(OR(HLOOKUP(I$1,Informe!$A:$ET,ROW($A15),FALSE)=0,VLOOKUP($A15,Formulario!$A:$F,6,FALSE)<HLOOKUP(I$1,Informe!$A:$ET,ROW($A15),FALSE))=FALSE,"ADMISIBLE","NO ADMISIBLE") -> NO ADMISIBLE | J15: =IF(OR(HLOOKUP(J$1,Informe!$A:$ET,ROW($A15),FALSE)=0,VLOOKUP($A15,Formulario!$A:$F,6,FALSE)<HLOOKUP(J$1,Informe!$A:$ET,ROW($A15),FALSE))=FALSE,"ADMISIBLE","NO ADMISIBLE") -> NO ADMISIBLE | ... AM15: =IF(OR(HLOOKUP(AM$1,Informe!$A:$ET,ROW($A15),FALSE)=0,VLOOKUP($A15,Formulario!$A:$F,6,FALSE)<HLOOKUP(AM$1,Informe!$A:$ET,ROW($A15),FALSE))=FALSE,"ADMISIBLE","NO ADMISIBLE") -> NO ADMISIBLE
