Workbook

Sheet Tablas
B1: CLASE:
B2: 1. | D2: General | E2: Es un riesgo de todos los procesos de contratación, por lo cual está presente en toda su actividad contractual.
B3: 2. | D3: Especifico | E3: Es un riesgo propio del proceso de contratación objeto de análisis.
J4: .
B5: FUENTE:
B6: 1. | D6: Interno | E6: Es un riesgo asociado a la operación, capacidad o situación particular de la Entidad Estatal (reputacional, tecnológico)
B7: 2. | D7: Externo | E7: Es un riesgo del sector del objeto del objeto del proceso contractual o asociado a asuntos no referidos a la Entidad Estatal (desastres económicos, existencia de monopolios, circunstancias electorales)
B9: ETAPA:
B10: 1. | D10: Planeación | E10: Está comprendida entre la elaboración del Plan Anual Adquisiones y la fecha en la cual se decide continuar o no con el proceso de contratación.
B12: 2. | D12: Selección | E12: Está comprendida entre el acto de apertura y la adjudicación o declaración de desierto del proceso de contratación. Son frecuentes los siguientes:
D13: i.) | E13: Falta de capacidad de la entidad para promover y adelantar la selección del contratista, incluyendo el riesgo de seleccionar aquellos que no cumplan los requisitos o se encuentren incursos en inhabilidades o incompatibilidades.
D14: ii.) | E14: Riesgo de colusión.
D15: iii.) | E15: riesgo de ofertas artificialmente bajas.
B17: 3. | D17: Contratación | E17: Celebración del contrato, publicación y cumplimiento de los requisitos de perfeccionamiento. Los riesgos frecuentes son:
D18: i.) | E18: Riesgo de que no se firme el contrato.
D19: ii.) | E19: Riesgo de que no se presenten las garantías exigidas o que su presentación sea tardía.
D20: iii.) | E20: Riesgos asociados al incumplimiento de la publicación oel registro presupuestal del contrato.
D21: iv.) | E21: Riesgos asociados a los reclamos de terceros sobre la selección del oferente que retrasen el perfeccionamiento del contrato.
B23: 4. | D23: Ejecución | E23: Inicia una vez cumplido los requisitos de perfeccionamiento y termina con el vencimiento del plazo del contrato o la liquidación del mismo; puede extenderse cuando hay lugar a garantías de calidad, estabilidad y/o mantenimiento.
B25: TIPO: | D25: Clasificiar los riesgos así:
B26: 1. | D26: Económicos | E26: Son los derivados del comportamiento del mercado (fluctuación de precios de los insumos, desabastecimiento y especulación de los mismos,…)
B28: 2. | D28: Sociales o Políticos | E28: Derivados de los cambios de las políticas gubernamentales y cambios en las condiciones sociales que tengan impacto en la ejecución del contrato.
B30: 3. | D30: Operacionales | E30: Asociados a la operatividad del contrato (suficiencia de presupuesto y plazos) ó los derivados de procesos-procedimientos-parámetros-sistemas de información y tecnológicos-equipos humanos o técnicos inadecuados o insuficientes.
B32: 4. | D32: Financieros | E32: Son el riesgo de consecución de financiación o recursos para cumplir con el contrato, y el riesgo de las condiciones financieras establecidas para la obtención de los recursos (plazos, tasas, garantías, refinanciaciones,…)
B34: 5. | D34: Regulatorios | E34: Derivados de cambios regulatorios o reglamentarios que afecten la ecuación económica del contrato.
B36: 6. | D36: De la Naturaleza | E36: Son los eventos naturales previsibles en los cuales no hay intervención humana que puedan tener impacto en la ejecución del contrato (temblores, inundaciones, lluvias, sequías,…)
B38: 7. | D38: Ambientales | E38: Son los derivados de las obligaciones legales o reglamentarias de carácter ambiental, así como de las licencias, planes de manejo o de permiso y autorizaciones ambientales (incluye tasas retributivas y compensatorias, obligaciones de mitigación, tareas de monitoreo y control, ...)
B40: 8. | D40: Tecnológicos | E40: Son los derivados de fallas en los sistemas de comunicación de voz y de datos, suspensión de servicios públicos, nuevos desarrollos tecnológicos o estandaresque deben ser tenidos en cuenta para la ejecución del contrato, obsolescencia tecnológica.
B54: TABLAS 2 - 3 - 4 : V A L O R A C I O N D E L R I E S G O
B55: IMPACTO DEL RIESGO | D55: CALIFICACION CUALITATIVA | F55: Obstruye la ejecución del contrato de manera intrascendente. | G55: Dificulta la ejecución del contrato de manera baja. Aplicando medidas mínimas se puede lograr el objeto contractual. | H55: Afecta la ejecución del contrato sin alterar el beneficio para las partes. | I55: Obstruye la ejecución del contrato sustancialmente, pero aún asi permite la consecución del objeto contractual. | J55: Perturba la ejecución del contrato de manera grave, imposibilitando la consecución del objeto contractual.
D56: CALIFICACION MONETARIA | F56: Los sobrecostos no representan más del uno por ciento (1%) del valor del contrato. | G56: Los sobrecostos no representan más del cinco por ciento (5%) del valor del contrato. | H56: Genera un impacto sobre el valor del contrato entre el cinco por ciento (5%) y el quince (15%). | I56: Incrementa el valor del contrato entre el quince por ciento (15%) y el treinta (30%). | J56: Impacto sobre el valor del contrato en más del treinta (30%).
D57: CATEGORIA | E57: VALORACION | F57: 1 | G57: 2 | H57: 3 | I57: 4 | J57: 5
F58: Insignificante | G58: Menor | H58: Moderado | I58: Mayor | J58: Catastrófico
F59: 1 | G59: 2 | H59: 3 | I59: 4 | J59: 5
B60: PROBABILIDAD DEL RIESGO | C60: 1 | D60: Raro | E60: 1 | F60: =+E60+F59 -> 2 | G60: =+E60+G59 -> 3 | H60: =+E60+H59 -> 4 | I60: =+E60+I59 -> 5 | J60: =+E60+J59 -> 6 | K60: RARO (puede ocurrir excepcionalmente)
C61: 2 | D61: Improbable | E61: 2 | F61: =+E61+F59 -> 3 | G61: =+E61+G59 -> 4 | H61: =+E61+H59 -> 5 | I61: =+E61+I59 -> 6 | J61: =+E61+J59 -> 7 | K61: IMPROBABLE (puede ocurrir ocasionalemente)
C62: 3 | D62: Posible | E62: 3 | F62: =+E62+F59 -> 4 | G62: =+E62+G59 -> 5 | H62: =+E62+H59 -> 6 | I62: =+E62+I59 -> 7 | J62: =+E62+J59 -> 8 | K62: POSIBLE (puede ocurrir en cualquier momento futuro)
C63: 4 | D63: Probable | E63: 4 | F63: =+E63+F59 -> 5 | G63: =+E63+G59 -> 6 | H63: =+E63+H59 -> 7 | I63: =+E63+I59 -> 8 | J63: =+E63+J59 -> 9 | K63: PROBABLE (probablemente va a ocurrir)
C64: 5 | D64: Casi Cierto | E64: 5 | F64: =+E64+F59 -> 6 | G64: =+E64+G59 -> 7 | H64: =+E64+H59 -> 8 | I64: =+E64+I59 -> 9 | J64: =+E64+J59 -> 10 | K64: CASI CIERTO (ocurre en la mayoría de circunstancias)
F66: TABLA 5. CATEGORÍA DEL RIESGO
...

Sheet SANEAM
B1: ANEXO No. 2 MATRIZ DE RIESGOS -
B2: Nº | C2: Clase | D2: Fuente | E2: Etapa | F2: Tipo | G2: Descripción (Que puede pasar y, como puede ocurrir) | H2: Consecuencia de la ocurrencia del evento | I2: Probabilidad | K2: Impacto | M2: Valoración del Riesgo | N2: Categoría | O2: A quien se le asigna? | P2: Tratamiento controles a ser implementados | Q2: Impacto después del tratamiento | W2: Afecta la ejecución del Contrato | X2: Persona responsable por implementar el tratamiento | Y2: Fecha estimada en que se inicia el tratamiento | Z2: Fecha estimada en que se completa el tratamiento | AA2: Monitoreo y Revisión
Q3: Probabilidad | S3: Impacto | U3: Valoración del Riesgo | V3: Categoría | AA3: Como se realiza el monitoreo | AB3: Periodicidad
B4: 1 | C4: =+Tablas!D2 -> General | D4: =+Tablas!D6 -> Interno | E4: =+Tablas!D12 -> Selección | F4: =+Tablas!D30 -> Operacionales | G4: Selección inadecuada de contratistas | H4: Mala calidad de los bienes y servicios contratados o incumplimiento de las obligaciones contractuales | I4: 2 | J4: =VLOOKUP(I4,Tablas!$C$60:$E466,2,2) -> Improbable | K4: 3 | L4: =HLOOKUP(K4,Tablas!$F$57:$J$59,2,2) -> Moderado | M4: =+I4+K4 -> 5 | N4: =VLOOKUP(M4,Tablas!$F$68:$H$76,3,3) -> Medio | O4: Contratante | P4: Verificación de los requisitos habilitantes (tanto jurídicos como técnicos) | Q4: 1 | R4: =VLOOKUP(Q4,Tablas!$C$60:$E466,2,2) -> Raro | S4: 2 | T4: =HLOOKUP(S4,Tablas!$F$57:$J$59,2,2) -> Menor | U4: =+Q4+S4 -> 3 | V4: =VLOOKUP(U4,Tablas!$F$68:$H$76,3,3) -> Bajo | W4: No | X4: Gestión Contractual - Comité Evaluador | Y4: DICIEMBRE | Z4: DICIEMBRE | AA4: Verificación de soportes | AB4: Cuando se requiera
B5: 2 | C5: =+Tablas!D3 -> Especifico | D5: =+Tablas!D7 -> Externo | E5: =+Tablas!D12 -> Selección | F5: =+Tablas!D26 -> Económicos | G5: Ofertas artificialmente bajas | H5: Atraso en el cumplimiento de actividades administrativas | I5: 3 | J5: =VLOOKUP(I5,Tablas!$C$60:$E467,2,2) -> Posible | K5: 3 | L5: =HLOOKUP(K5,Tablas!$F$57:$J$59,2,2) -> Moderado | M5: =+I5+K5 -> 6 | N5: =VLOOKUP(M5,Tablas!$F$68:$H$76,3,3) -> Alto | O5: Contratante | P5: Verificación de los requisitos técnicos y económicos | Q5: 2 | R5: =VLOOKUP(Q5,Tablas!$C$60:$E467,2,2) -> Improbable | S5: 2 | T5: =HLOOKUP(S5,Tablas!$F$57:$J$59,2,2) -> Menor | U5: =+Q5+S5 -> 4 | V5: =VLOOKUP(U5,Tablas!$F$68:$H$76,3,3) -> Bajo | W5: No | X5: Comité Evaluador | Y5: DICIEMBRE | Z5: DICIEMBRE | AA5: Verificación de soportes | AB5: Cuando se requiera
B6: 3 | C6: =+Tablas!D2 -> General | D6: =+Tablas!D7 -> Externo | E6: =+Tablas!D17 -> Contratación | F6: =+Tablas!D30 -> Operacionales | G6: No suscripción del contrato por parte del contratista | H6: Atraso en el cumplimiento de actividades administrativas | I6: 3 | J6: =VLOOKUP(I6,Tablas!$C$60:$E465,2,2) -> Posible | K6: 3 | L6: =HLOOKUP(K6,Tablas!$F$57:$J$59,2,2) -> Moderado | M6: =+I6+K6 -> 6 | N6: =VLOOKUP(M6,Tablas!$F$68:$H$76,3,3) -> Alto | O6: Contratista | P6: Aplicación de multas y sanciones | Q6: 2 | R6: =VLOOKUP(Q6,Tablas!$C$60:$E465,2,2) -> Improbable | S6: 2 | T6: =HLOOKUP(S6,Tablas!$F$57:$J$59,2,2) -> Menor | U6: =+Q6+S6 -> 4 | V6: =VLOOKUP(U6,Tablas!$F$68:$H$76,3,3) -> Bajo | W6: No | X6: Grupo Administrativo y Financiero Gestión Contractual - Comité Evaluador | Y6: DICIEMBRE | Z6: DICIEMBRE | AA6: Aplicación del debido proceso | AB6: Cuando se requiera
B7: 4 | C7: =+Tablas!D2 -> General | D7: =+Tablas!D7 -> Externo | E7: =+Tablas!D23 -> Ejecución | F7: =+Tablas!D26 -> Económicos | G7: Fluctuaciones en los precios de los materiales e insumos | H7: Retrasos en la ejecución, en el plazo de las actividades y obligaciones contractuales | I7: 2 | J7: =VLOOKUP(I7,Tablas!$C$60:$E466,2,2) -> Improbable | K7: 3 | L7: =HLOOKUP(K7,Tablas!$F$57:$J$59,2,2) -> Moderado | M7: =+I7+K7 -> 5 | N7: =VLOOKUP(M7,Tablas!$F$68:$H$76,3,3) -> Medio | O7: Contratista | P7: Disponer los equipos y materiales suficientes y necesarios | Q7: 1 | R7: =VLOOKUP(Q7,Tablas!$C$60:$E466,2,2) -> Raro | S7: 2 | T7: =HLOOKUP(S7,Tablas!$F$57:$J$59,2,2) -> Menor | U7: =+Q7+S7 -> 3 | V7: =VLOOKUP(U7,Tablas!$F$68:$H$76,3,3) -> Bajo | W7: No | X7: Grupo Administrativo y Financiero Supervisor del contrato | Y7: NOVIEMBRE | Z7: NOVIEMBRE | AA7: Consultar precios del mercado; evaluar el estado y suficiencia de bienes, materiales e insumos | AB7: Bimensual
B8: 5 | C8: =+Tablas!D2 -> General | D8: =+Tablas!D7 -> Externo | E8: =+Tablas!D23 -> Ejecución | F8: =+Tablas!D28 -> Sociales o Políticos | G8: Problemas de orden público (paros, huelgas, actos terroristas y hechos similares) | H8: Sobrecostos por retrasos en la programación y/o ejecución en el contrato | I8: 3 | J8: =VLOOKUP(I8,Tablas!$C$60:$E469,2,2) -> Posible | K8: 3 | L8: =HLOOKUP(K8,Tablas!$F$57:$J$59,2,2) -> Moderado | M8: =+I8+K8 -> 6 | N8: =VLOOKUP(M8,Tablas!$F$68:$H$76,3,3) -> Alto | O8: Contratista / Contratante | P8: Convocar reuniones para acordar el tratamiento del riesgo. | Q8: 2 | R8: =VLOOKUP(Q8,Tablas!$C$60:$E469,2,2) -> Improbable | S8: 2 | T8: =HLOOKUP(S8,Tablas!$F$57:$J$59,2,2) -> Menor | U8: =+Q8+S8 -> 4 | V8: =VLOOKUP(U8,Tablas!$F$68:$H$76,3,3) -> Bajo | W8: No | X8: Supervisor del Contrato - Subdirección | Y8: NOVIEMBRE | Z8: NOVIEMBRE | AA8: Realizar reuniones entre la entidad y contratista | AB8: Cuando se requiera
B9: 6 | C9: =+Tablas!D3 -> Especifico | D9: =+Tablas!D7 -> Externo | E9: =+Tablas!D23 -> Ejecución | F9: =+Tablas!D30 -> Operacionales | G9: Incumplimiento de las obligaciones del contratista | H9: Inadecuada ejecución del objeto contractual - Retrasos en la entrega de los bienes y servicios contratados | I9: 3 | J9: =VLOOKUP(I9,Tablas!$C$60:$E467,2,2) -> Posible | K9: 4 | L9: =HLOOKUP(K9,Tablas!$F$57:$J$59,2,2) -> Mayor | M9: =+I9+K9 -> 7 | N9: =VLOOKUP(M9,Tablas!$F$68:$H$76,3,3) -> Alto | O9: Contratista | P9: Exigencia de pólizas de seguros de cumplimiento | Q9: 2 | R9: =VLOOKUP(Q9,Tablas!$C$60:$E467,2,2) -> Improbable | S9: 2 | T9: =HLOOKUP(S9,Tablas!$F$57:$J$59,2,2) -> Menor | U9: =+Q9+S9 -> 4 | V9: =VLOOKUP(U9,Tablas!$F$68:$H$76,3,3) -> Bajo | W9: Si | X9: Supervisor del Contrato - Gestión Contractual - Subdirección | Y9: DICIEMBRE | Z9: DICIEMBRE | AA9: Verificar las vigencias de los amparos de las pólizas exigidas | AB9: Mensual
B10: 8 | C10: =+Tablas!D2 -> General | D10: =+Tablas!D7 -> Externo | E10: =+Tablas!D23 -> Ejecución | F10: =+Tablas!D30 -> Operacionales | G10: Mala calidad de los bienes y servicios contratados | H10: Necesidad insatisfecha de la entidad y/o sanciones para el municipio | I10: 2 | J10: =VLOOKUP(I10,Tablas!$C$60:$E461,2,2) -> Improbable | K10: 2 | L10: =HLOOKUP(K10,Tablas!$F$57:$J$59,2,2) -> Menor | M10: =+J41+K10 -> 2 | N10: =VLOOKUP(M10,Tablas!$F$68:$H$76,3,3) -> Bajo | O10: Contratista | P10: Verificación de certificados de calidad de los bienes y servicios | Q10: 1 | R10: =VLOOKUP(Q10,Tablas!$C$60:$E464,2,2) -> Raro | S10: 1 | T10: =HLOOKUP(S10,Tablas!$F$57:$J$59,2,2) -> Insignificante | U10: =+Q10+S10 -> 2 | V10: =VLOOKUP(U10,Tablas!$F$68:$H$76,3,3) -> Bajo | W10: Si | X10: Supervisor del Contrato - Subdirección | Y10: DICIEMBRE | Z10: DICIEMBRE | AA10: Realizar actividades de Supervisión | AB10: Mensual
B11: 10 | C11: =+Tablas!D2 -> General | D11: =+Tablas!D6 -> Interno | E11: =+Tablas!D23 -> Ejecución | F11: =+Tablas!D30 -> Operacionales | G11: No pago en los términos pactados | H11: Suspensión en la ejecución y de las obligaciones contractuales | I11: 1 | J11: =VLOOKUP(I11,Tablas!$C$60:$E470,2,2) -> Raro | K11: 4 | L11: =HLOOKUP(K11,Tablas!$F$57:$J$59,2,2) -> Mayor | M11: =+I11+K11 -> 5 | N11: =VLOOKUP(M11,Tablas!$F$68:$H$76,3,3) -> Medio | O11: Contratante | P11: Realizar las respectivas reservas presupuestales, supervisar el cumplimiento de las obligaciones | Q11: 1 | R11: =VLOOKUP(Q11,Tablas!$C$60:$E470,2,2) -> Raro | S11: 2 | T11: =HLOOKUP(S11,Tablas!$F$57:$J$59,2,2) -> Menor | U11: =+Q11+S11 -> 3 | V11: =VLOOKUP(U11,Tablas!$F$68:$H$76,3,3) -> Bajo | W11: No | X11: Grupo Administrativo y Financiero, Supervisor Tesorero | Y11: DICIEMBRE | Z11: DICIEMBRE | AA11: Verificar el estado de cuentas bancarias, verficar documentación constractual | AB11: Bimensual
B12: 11 | C12: =+Tablas!D2 -> General | D12: =+Tablas!D6 -> Interno | E12: =+Tablas!D23 -> Ejecución | F12: =+Tablas!D34 -> Regulatorios | G12: Cambio del régimen tributario o cambiario, creación de nuevos impuestos o aumento de tarifas, que afecte las condiciones pactadas | H12: Retrasos en la ejecución y en el plazo de las actividades y obligaciones contractuales | I12: 2 | J12: =VLOOKUP(I12,Tablas!$C$60:$E465,2,2) -> Improbable | K12: 3 | L12: =HLOOKUP(K12,Tablas!$F$57:$J$59,2,2) -> Moderado | M12: =+I12+K12 -> 5 | N12: =VLOOKUP(M12,Tablas!$F$68:$H$76,3,3) -> Medio | O12: Contratista / Contratante | P12: Actualización, socialización y aplicación de la nueva normatividad | Q12: 1 | R12: =VLOOKUP(Q12,Tablas!$C$60:$E465,2,2) -> Raro | S12: 2 | T12: =HLOOKUP(S12,Tablas!$F$57:$J$59,2,2) -> Menor | U12: =+Q12+S12 -> 3 | V12: =VLOOKUP(U12,Tablas!$F$68:$H$76,3,3) -> Bajo | W12: No | X12: Grupo Administrativo y Financiero - Tesorero | Y12: DICIEMBRE | Z12: DICIEMBRE | AA12: Consultar nuevas disposiciones legales con los dintintos organismos | AB12: Bimensual
